{"text_format":"3","workbook":"xlsx","n_sheets":5,"sheets":["1 - Opstart Importark","2 - IMPORTARK","Blokke - AMV","Objekt key oversigt","Parametre"],"not_rendered":{"defined_names":126},"read":"whole","date_system":"1900"}

{"sheet":"1 - Opstart Importark","index":0,"n_rows":14,"n_cols":2,"rows_kept":14}
[]
[null,"AMV - Importark"]
[null,"AMV - Importark til ProjectWise af anlægsdokumentation - Version 2.01"]
[null,{"$f":"IF(B6=\"\",\"Husk projektnummer\",\"\")","v":"Husk projektnummer"}]
[null,"Projektnummer"]
[]
[]
[null,"Projektnavn"]
[]
[]
[]
[null,"Blok vælges i grønt felt"]
[]
[null,"Blok"]

{"sheet":"2 - IMPORTARK","index":1,"n_rows":1012,"n_cols":43,"rows_kept":1012,"merged":[[2,4,2,7],[2,17,2,36],[3,17,3,19],[7,17,7,18],[7,19,7,21]]}
[1,2,3,4,5,6,7,8,9,10,11,12,13,14,15,16,17,18,19,20,21,22,23,24,25,26,27,28,29,30,31,32,33,34,35,36,37,38,39,40,40,40,40]
[]
[null,null,"HOFOR",null,"Overordnet information",{"$nulls":4},"KKS","-","DCC","-","Løbenr.","-","Bladnummer.",null,"Meta data",{"$nulls":20},"Skjules"]
[null,null,"AMV - dokumentkode ",{"$nulls":6},"KKS standard + aggregatkode",null,"VGB-S-832-00-2016-04-DE-EN",null,"Bruges til at gøre koden unik",{"$nulls":3},"Søgbare oplysninger til senere fremfindelse af dokumenter"]
[]
[null,null,"Geotag - KKS - DCC - Løbenr.",null,"Importeres","Forside","Filnavn","Bemærkninger til import",{"$nulls":9},"Projekt nr.","Projekt navn","KKS beskr.","Aggregat beskr.","DCC beskr.","Tegnet af ","Tegnet dato","Kontrol af ","Kontrol dato","Godkendt af ","Godkendt dato","Sagsansvarlig","Leverandør","Mål-\nforhold","Farve","A-format","Bemærkning","Fremmed nr. - Eksternt","Gl. dok. nr. 1 HOFOR","Gl. dok. nr. 2 HOFOR",null,"Beskrivelse","el/sro","Objekt filter"]
[]
[{"$nulls":4},"Skal udfyldes",null,null,"Valgfri",null,"Bør udfyldes",null,"Skal udfyldes",null,"Skal udfyldes",null,"Valgfri",null,"Info fra faneblad 1",null,"Bør udfyldes, når der er en KKS-koden ",null,null,"Skal udfyldes",{"$nulls":10},"Valgfri"]
[null,null,"Eksempel på korrekt \nudfyldning af Importark:",null,"Vælg med ja/nej, hvilke dokumenter som skal importeres","Vælg med ja/nej, hvilke PDF-dokumenter som skal have forside","skal udfyldes med filnavnet til dokumentimport \nHusk .filtype","Supplerende information til dokumentimport",null,"KKS1 + KKS2 + KKS3\n+ evt. Strengnr. & Aggregatkode",null,"EMA020",null,"0001",null,"00011",null,"Projekt nr. \nuden fasenr.","Projektnavn","Uddybende KKS - tekst ","Uddybende Aggregat - tekst ","Uddybende DCC - tekst ","Initialer","dato","Initialer","dato","Initialer","dato","Initialer","navn","Intet mål-\nforhold: NA","Hvilket farverum er \ndokumentet i?","Hvilket A-format er dokumentet i?","Ekstra uddybende info om dokumentet","Eksternt nr. \npå dokument","Internt nr. \npå dokument","Internt nr. \npå dokument"]
[]
[null,null,"AMV04LAA10BB001-MQC050_0001",null,"Ja","Ja","Eftersyn.pdf",null,null,"LAA10BB001",null,"MQC050",null,"0001",null,"00011",null,"i2445-02-01","Testprojekt","Eftersyn","Trykbærende udstyr, \nDANAK, FORCE Certification","Godkendelsesrapport","JLAS","2023-06-12","KUSU","2023-06-15","HYTR","2023-06-25","KFRX","ABB","1:50 / NA","Farve","A3","Inspektionsrapport for trykbeholder","ABB3453","DE0177","DE0176/55",null,null,"check af E"]
[{"$nulls":11},"[DCC]",null,"[Lobenr]",null,"[Bladantal]",null,"[Projektnummer]","[Projektnavn]",{"$nulls":3},"[Tegnet af]","[Tegnet dato]","[Kontrolleret af]","[Kontrol dato]","[Godkendt af]","[Godkendt dato]","[Sagsansvarlig]","[Leverandør oplysninger]","[Målforhold]","[PDF_color]","[PDF_pagesize]","[Bemærkning]","[Fremmed nr.]","[Gl_dokumentnavn_1]","[Gl_dokumentnavn_2]","[Do_not_PDF]"]
[1,null,{"$f":"IF('1 - Opstart Importark'!$B$6=\"\",\"\",CONCATENATE('Blokke - AMV'!$B$2,LEFT('1 - Opstart Importark'!$B$15,2),J13,IF(L13=\"\",\"\",\"-\"),L13,IF(N13=\"\",\"\",\"_\"),N13,IF(P13=\"\",\"\",(CONCATENATE(\"_\",P13)))))","v":""},null," "," ",{"$nulls":11},{"$f":"IF(LEN('1 - Opstart Importark'!$B$6)>0,'1 - Opstart Importark'!$B$6,\"\")","v":""},{"$f":"IF(LEN('1 - Opstart Importark'!$B$9)>0,'1 - Opstart Importark'!$B$9,\"\")","v":""},{"$nulls":19},{"$f":"IFERROR(FIND(\".\",G13),)","v":0},{"$f":"IF(L13=\"\",\"\",IF(LEFT(L13,1)=\"E\",0,1))","v":""},{"$f":"CONCATENATE(\"objektnogle_\",LEFT(L13,1))","v":"objektnogle_"}]
[2,null,{"$f":"IF('1 - Opstart Importark'!$B$6=\"\",\"\",CONCATENATE('Blokke - AMV'!$B$2,LEFT('1 - Opstart Importark'!$B$15,2),J14,IF(L14=\"\",\"\",\"-\"),L14,IF(N14=\"\",\"\",\"_\"),N14,IF(P14=\"\",\"\",(CONCATENATE(\"_\",P14)))))","v":""},null," ",{"$nulls":12},{"$f":"IF(LEN('1 - Opstart Importark'!$B$6)>0,'1 - Opstart Importark'!$B$6,\"\")","v":""},{"$f":"IF(LEN('1 - Opstart Importark'!$B$9)>0,'1 - Opstart Importark'!$B$9,\"\")","v":""},{"$nulls":19},0,"","objektnogle_"]
[3,null,{"$f":"IF('1 - Opstart Importark'!$B$6=\"\",\"\",CONCATENATE('Blokke - AMV'!$B$2,LEFT('1 - Opstart Importark'!$B$15,2),J15,IF(L15=\"\",\"\",\"-\"),L15,IF(N15=\"\",\"\",\"_\"),N15,IF(P15=\"\",\"\",(CONCATENATE(\"_\",P15)))))","v":""},null," ",{"$nulls":12},{"$f":"IF(LEN('1 - Opstart Importark'!$B$6)>0,'1 - Opstart Importark'!$B$6,\"\")","v":""},{"$f":"IF(LEN('1 - Opstart Importark'!$B$9)>0,'1 - Opstart Importark'!$B$9,\"\")","v":""},{"$nulls":19},0,"","objektnogle_"]
[4,null,{"$f":"IF('1 - Opstart Importark'!$B$6=\"\",\"\",CONCATENATE('Blokke - AMV'!$B$2,LEFT('1 - Opstart Importark'!$B$15,2),J16,IF(L16=\"\",\"\",\"-\"),L16,IF(N16=\"\",\"\",\"_\"),N16,IF(P16=\"\",\"\",(CONCATENATE(\"_\",P16)))))","v":""},null," ",{"$nulls":12},{"$f":"IF(LEN('1 - Opstart Importark'!$B$6)>0,'1 - Opstart Importark'!$B$6,\"\")","v":""},{"$f":"IF(LEN('1 - Opstart Importark'!$B$9)>0,'1 - Opstart Importark'!$B$9,\"\")","v":""},{"$nulls":19},0,"","objektnogle_"]
[5,null,{"$f":"IF('1 - Opstart Importark'!$B$6=\"\",\"\",CONCATENATE('Blokke - AMV'!$B$2,LEFT('1 - Opstart Importark'!$B$15,2),J17,IF(L17=\"\",\"\",\"-\"),L17,IF(N17=\"\",\"\",\"_\"),N17,IF(P17=\"\",\"\",(CONCATENATE(\"_\",P17)))))","v":""},null," ",{"$nulls":12},{"$f":"IF(LEN('1 - Opstart Importark'!$B$6)>0,'1 - Opstart Importark'!$B$6,\"\")","v":""},{"$f":"IF(LEN('1 - Opstart Importark'!$B$9)>0,'1 - Opstart Importark'!$B$9,\"\")","v":""},{"$nulls":19},0,"","objektnogle_"]
[6,null,{"$f":"IF('1 - Opstart Importark'!$B$6=\"\",\"\",CONCATENATE('Blokke - AMV'!$B$2,LEFT('1 - Opstart Importark'!$B$15,2),J18,IF(L18=\"\",\"\",\"-\"),L18,IF(N18=\"\",\"\",\"_\"),N18,IF(P18=\"\",\"\",(CONCATENATE(\"_\",P18)))))","v":""},null," ",{"$nulls":12},{"$f":"IF(LEN('1 - Opstart Importark'!$B$6)>0,'1 - Opstart Importark'!$B$6,\"\")","v":""},{"$f":"IF(LEN('1 - Opstart Importark'!$B$9)>0,'1 - Opstart Importark'!$B$9,\"\")","v":""},{"$nulls":19},0,"","objektnogle_"]
[7,null,{"$f":"IF('1 - Opstart Importark'!$B$6=\"\",\"\",CONCATENATE('Blokke - AMV'!$B$2,LEFT('1 - Opstart Importark'!$B$15,2),J19,IF(L19=\"\",\"\",\"-\"),L19,IF(N19=\"\",\"\",\"_\"),N19,IF(P19=\"\",\"\",(CONCATENATE(\"_\",P19)))))","v":""},null," "," ",{"$nulls":11},{"$f":"IF(LEN('1 - Opstart Importark'!$B$6)>0,'1 - Opstart Importark'!$B$6,\"\")","v":""},{"$f":"IF(LEN('1 - Opstart Importark'!$B$9)>0,'1 - Opstart Importark'!$B$9,\"\")","v":""},{"$nulls":19},0,"","objektnogle_"]
[8,null,{"$f":"IF('1 - Opstart Importark'!$B$6=\"\",\"\",CONCATENATE('Blokke - AMV'!$B$2,LEFT('1 - Opstart Importark'!$B$15,2),J20,IF(L20=\"\",\"\",\"-\"),L20,IF(N20=\"\",\"\",\"_\"),N20,IF(P20=\"\",\"\",(CONCATENATE(\"_\",P20)))))","v":""},null," ",{"$nulls":12},{"$f":"IF(LEN('1 - Opstart Importark'!$B$6)>0,'1 - Opstart Importark'!$B$6,\"\")","v":""},{"$f":"IF(LEN('1 - Opstart Importark'!$B$9)>0,'1 - Opstart Importark'!$B$9,\"\")","v":""},{"$nulls":19},0,"","objektnogle_"]
[9,null,{"$f":"IF('1 - Opstart Importark'!$B$6=\"\",\"\",CONCATENATE('Blokke - AMV'!$B$2,LEFT('1 - Opstart Importark'!$B$15,2),J21,IF(L21=\"\",\"\",\"-\"),L21,IF(N21=\"\",\"\",\"_\"),N21,IF(P21=\"\",\"\",(CONCATENATE(\"_\",P21)))))","v":""},null," ",{"$nulls":12},{"$f":"IF(LEN('1 - Opstart Importark'!$B$6)>0,'1 - Opstart Importark'!$B$6,\"\")","v":""},{"$f":"IF(LEN('1 - Opstart Importark'!$B$9)>0,'1 - Opstart Importark'!$B$9,\"\")","v":""},{"$nulls":19},0,"","objektnogle_"]
[10,null,{"$f":"IF('1 - Opstart Importark'!$B$6=\"\",\"\",CONCATENATE('Blokke - AMV'!$B$2,LEFT('1 - Opstart Importark'!$B$15,2),J22,IF(L22=\"\",\"\",\"-\"),L22,IF(N22=\"\",\"\",\"_\"),N22,IF(P22=\"\",\"\",(CONCATENATE(\"_\",P22)))))","v":""},null," ",{"$nulls":12},{"$f":"IF(LEN('1 - Opstart Importark'!$B$6)>0,'1 - Opstart Importark'!$B$6,\"\")","v":""},{"$f":"IF(LEN('1 - Opstart Importark'!$B$9)>0,'1 - Opstart Importark'!$B$9,\"\")","v":""},{"$nulls":19},0,"","objektnogle_"]
[11,null,{"$f":"IF('1 - Opstart Importark'!$B$6=\"\",\"\",CONCATENATE('Blokke - AMV'!$B$2,LEFT('1 - Opstart Importark'!$B$15,2),J23,IF(L23=\"\",\"\",\"-\"),L23,IF(N23=\"\",\"\",\"_\"),N23,IF(P23=\"\",\"\",(CONCATENATE(\"_\",P23)))))","v":""},null," ",{"$nulls":12},{"$f":"IF(LEN('1 - Opstart Importark'!$B$6)>0,'1 - Opstart Importark'!$B$6,\"\")","v":""},{"$f":"IF(LEN('1 - Opstart Importark'!$B$9)>0,'1 - Opstart Importark'!$B$9,\"\")","v":""},{"$nulls":19},0,"","objektnogle_"]
[12,null,{"$f":"IF('1 - Opstart Importark'!$B$6=\"\",\"\",CONCATENATE('Blokke - AMV'!$B$2,LEFT('1 - Opstart Importark'!$B$15,2),J24,IF(L24=\"\",\"\",\"-\"),L24,IF(N24=\"\",\"\",\"_\"),N24,IF(P24=\"\",\"\",(CONCATENATE(\"_\",P24)))))","v":""},null," ",{"$nulls":12},{"$f":"IF(LEN('1 - Opstart Importark'!$B$6)>0,'1 - Opstart Importark'!$B$6,\"\")","v":""},{"$f":"IF(LEN('1 - Opstart Importark'!$B$9)>0,'1 - Opstart Importark'!$B$9,\"\")","v":""},{"$nulls":19},0,"","objektnogle_"]
[13,null,{"$f":"IF('1 - Opstart Importark'!$B$6=\"\",\"\",CONCATENATE('Blokke - AMV'!$B$2,LEFT('1 - Opstart Importark'!$B$15,2),J25,IF(L25=\"\",\"\",\"-\"),L25,IF(N25=\"\",\"\",\"_\"),N25,IF(P25=\"\",\"\",(CONCATENATE(\"_\",P25)))))","v":""},null," ",{"$nulls":12},{"$f":"IF(LEN('1 - Opstart Importark'!$B$6)>0,'1 - Opstart Importark'!$B$6,\"\")","v":""},{"$f":"IF(LEN('1 - Opstart Importark'!$B$9)>0,'1 - Opstart Importark'!$B$9,\"\")","v":""},{"$nulls":19},0,"","objektnogle_"]
[14,null,{"$f":"IF('1 - Opstart Importark'!$B$6=\"\",\"\",CONCATENATE('Blokke - AMV'!$B$2,LEFT('1 - Opstart Importark'!$B$15,2),J26,IF(L26=\"\",\"\",\"-\"),L26,IF(N26=\"\",\"\",\"_\"),N26,IF(P26=\"\",\"\",(CONCATENATE(\"_\",P26)))))","v":""},null," ",{"$nulls":12},{"$f":"IF(LEN('1 - Opstart Importark'!$B$6)>0,'1 - Opstart Importark'!$B$6,\"\")","v":""},{"$f":"IF(LEN('1 - Opstart Importark'!$B$9)>0,'1 - Opstart Importark'!$B$9,\"\")","v":""},{"$nulls":19},0,"","objektnogle_"]
[15,null,{"$f":"IF('1 - Opstart Importark'!$B$6=\"\",\"\",CONCATENATE('Blokke - AMV'!$B$2,LEFT('1 - Opstart Importark'!$B$15,2),J27,IF(L27=\"\",\"\",\"-\"),L27,IF(N27=\"\",\"\",\"_\"),N27,IF(P27=\"\",\"\",(CONCATENATE(\"_\",P27)))))","v":""},null," ",{"$nulls":12},{"$f":"IF(LEN('1 - Opstart Importark'!$B$6)>0,'1 - Opstart Importark'!$B$6,\"\")","v":""},{"$f":"IF(LEN('1 - Opstart Importark'!$B$9)>0,'1 - Opstart Importark'!$B$9,\"\")","v":""},{"$nulls":19},0,"","objektnogle_"]
[16,null,{"$f":"IF('1 - Opstart Importark'!$B$6=\"\",\"\",CONCATENATE('Blokke - AMV'!$B$2,LEFT('1 - Opstart Importark'!$B$15,2),J28,IF(L28=\"\",\"\",\"-\"),L28,IF(N28=\"\",\"\",\"_\"),N28,IF(P28=\"\",\"\",(CONCATENATE(\"_\",P28)))))","v":""},null," ",{"$nulls":12},{"$f":"IF(LEN('1 - Opstart Importark'!$B$6)>0,'1 - Opstart Importark'!$B$6,\"\")","v":""},{"$f":"IF(LEN('1 - Opstart Importark'!$B$9)>0,'1 - Opstart Importark'!$B$9,\"\")","v":""},{"$nulls":19},0,"","objektnogle_"]
[17,null,{"$f":"IF('1 - Opstart Importark'!$B$6=\"\",\"\",CONCATENATE('Blokke - AMV'!$B$2,LEFT('1 - Opstart Importark'!$B$15,2),J29,IF(L29=\"\",\"\",\"-\"),L29,IF(N29=\"\",\"\",\"_\"),N29,IF(P29=\"\",\"\",(CONCATENATE(\"_\",P29)))))","v":""},null," ",{"$nulls":12},{"$f":"IF(LEN('1 - Opstart Importark'!$B$6)>0,'1 - Opstart Importark'!$B$6,\"\")","v":""},{"$f":"IF(LEN('1 - Opstart Importark'!$B$9)>0,'1 - Opstart Importark'!$B$9,\"\")","v":""},{"$nulls":19},0,"","objektnogle_"]
[18,null,{"$f":"IF('1 - Opstart Importark'!$B$6=\"\",\"\",CONCATENATE('Blokke - AMV'!$B$2,LEFT('1 - Opstart Importark'!$B$15,2),J30,IF(L30=\"\",\"\",\"-\"),L30,IF(N30=\"\",\"\",\"_\"),N30,IF(P30=\"\",\"\",(CONCATENATE(\"_\",P30)))))","v":""},null," ",{"$nulls":12},{"$f":"IF(LEN('1 - Opstart Importark'!$B$6)>0,'1 - Opstart Importark'!$B$6,\"\")","v":""},{"$f":"IF(LEN('1 - Opstart Importark'!$B$9)>0,'1 - Opstart Importark'!$B$9,\"\")","v":""},{"$nulls":19},0,"","objektnogle_"]
[19,null,{"$f":"IF('1 - Opstart Importark'!$B$6=\"\",\"\",CONCATENATE('Blokke - AMV'!$B$2,LEFT('1 - Opstart Importark'!$B$15,2),J31,IF(L31=\"\",\"\",\"-\"),L31,IF(N31=\"\",\"\",\"_\"),N31,IF(P31=\"\",\"\",(CONCATENATE(\"_\",P31)))))","v":""},null," ",{"$nulls":12},{"$f":"IF(LEN('1 - Opstart Importark'!$B$6)>0,'1 - Opstart Importark'!$B$6,\"\")","v":""},{"$f":"IF(LEN('1 - Opstart Importark'!$B$9)>0,'1 - Opstart Importark'!$B$9,\"\")","v":""},{"$nulls":19},0,"","objektnogle_"]
[20,null,{"$f":"IF('1 - Opstart Importark'!$B$6=\"\",\"\",CONCATENATE('Blokke - AMV'!$B$2,LEFT('1 - Opstart Importark'!$B$15,2),J32,IF(L32=\"\",\"\",\"-\"),L32,IF(N32=\"\",\"\",\"_\"),N32,IF(P32=\"\",\"\",(CONCATENATE(\"_\",P32)))))","v":""},null," ",{"$nulls":12},{"$f":"IF(LEN('1 - Opstart Importark'!$B$6)>0,'1 - Opstart Importark'!$B$6,\"\")","v":""},{"$f":"IF(LEN('1 - Opstart Importark'!$B$9)>0,'1 - Opstart Importark'!$B$9,\"\")","v":""},{"$nulls":19},0,"","objektnogle_"]
[21,null,{"$f":"IF('1 - Opstart Importark'!$B$6=\"\",\"\",CONCATENATE('Blokke - AMV'!$B$2,LEFT('1 - Opstart Importark'!$B$15,2),J33,IF(L33=\"\",\"\",\"-\"),L33,IF(N33=\"\",\"\",\"_\"),N33,IF(P33=\"\",\"\",(CONCATENATE(\"_\",P33)))))","v":""},null," ",{"$nulls":12},{"$f":"IF(LEN('1 - Opstart Importark'!$B$6)>0,'1 - Opstart Importark'!$B$6,\"\")","v":""},{"$f":"IF(LEN('1 - Opstart Importark'!$B$9)>0,'1 - Opstart Importark'!$B$9,\"\")","v":""},{"$nulls":19},0,"","objektnogle_"]
[22,null,{"$f":"IF('1 - Opstart Importark'!$B$6=\"\",\"\",CONCATENATE('Blokke - AMV'!$B$2,LEFT('1 - Opstart Importark'!$B$15,2),J34,IF(L34=\"\",\"\",\"-\"),L34,IF(N34=\"\",\"\",\"_\"),N34,IF(P34=\"\",\"\",(CONCATENATE(\"_\",P34)))))","v":""},null," ",{"$nulls":12},{"$f":"IF(LEN('1 - Opstart Importark'!$B$6)>0,'1 - Opstart Importark'!$B$6,\"\")","v":""},{"$f":"IF(LEN('1 - Opstart Importark'!$B$9)>0,'1 - Opstart Importark'!$B$9,\"\")","v":""},{"$nulls":19},0,"","objektnogle_"]
[23,null,{"$f":"IF('1 - Opstart Importark'!$B$6=\"\",\"\",CONCATENATE('Blokke - AMV'!$B$2,LEFT('1 - Opstart Importark'!$B$15,2),J35,IF(L35=\"\",\"\",\"-\"),L35,IF(N35=\"\",\"\",\"_\"),N35,IF(P35=\"\",\"\",(CONCATENATE(\"_\",P35)))))","v":""},null," ",{"$nulls":12},{"$f":"IF(LEN('1 - Opstart Importark'!$B$6)>0,'1 - Opstart Importark'!$B$6,\"\")","v":""},{"$f":"IF(LEN('1 - Opstart Importark'!$B$9)>0,'1 - Opstart Importark'!$B$9,\"\")","v":""},{"$nulls":19},0,"","objektnogle_"]
[24,null,{"$f":"IF('1 - Opstart Importark'!$B$6=\"\",\"\",CONCATENATE('Blokke - AMV'!$B$2,LEFT('1 - Opstart Importark'!$B$15,2),J36,IF(L36=\"\",\"\",\"-\"),L36,IF(N36=\"\",\"\",\"_\"),N36,IF(P36=\"\",\"\",(CONCATENATE(\"_\",P36)))))","v":""},null," ",{"$nulls":12},{"$f":"IF(LEN('1 - Opstart Importark'!$B$6)>0,'1 - Opstart Importark'!$B$6,\"\")","v":""},{"$f":"IF(LEN('1 - Opstart Importark'!$B$9)>0,'1 - Opstart Importark'!$B$9,\"\")","v":""},{"$nulls":19},0,"","objektnogle_"]
[25,null,{"$f":"IF('1 - Opstart Importark'!$B$6=\"\",\"\",CONCATENATE('Blokke - AMV'!$B$2,LEFT('1 - Opstart Importark'!$B$15,2),J37,IF(L37=\"\",\"\",\"-\"),L37,IF(N37=\"\",\"\",\"_\"),N37,IF(P37=\"\",\"\",(CONCATENATE(\"_\",P37)))))","v":""},null," ",{"$nulls":12},{"$f":"IF(LEN('1 - Opstart Importark'!$B$6)>0,'1 - Opstart Importark'!$B$6,\"\")","v":""},{"$f":"IF(LEN('1 - Opstart Importark'!$B$9)>0,'1 - Opstart Importark'!$B$9,\"\")","v":""},{"$nulls":19},0,"","objektnogle_"]
[26,null,{"$f":"IF('1 - Opstart Importark'!$B$6=\"\",\"\",CONCATENATE('Blokke - AMV'!$B$2,LEFT('1 - Opstart Importark'!$B$15,2),J38,IF(L38=\"\",\"\",\"-\"),L38,IF(N38=\"\",\"\",\"_\"),N38,IF(P38=\"\",\"\",(CONCATENATE(\"_\",P38)))))","v":""},null," ",{"$nulls":12},{"$f":"IF(LEN('1 - Opstart Importark'!$B$6)>0,'1 - Opstart Importark'!$B$6,\"\")","v":""},{"$f":"IF(LEN('1 - Opstart Importark'!$B$9)>0,'1 - Opstart Importark'!$B$9,\"\")","v":""},{"$nulls":19},0,"","objektnogle_"]
[27,null,{"$f":"IF('1 - Opstart Importark'!$B$6=\"\",\"\",CONCATENATE('Blokke - AMV'!$B$2,LEFT('1 - Opstart Importark'!$B$15,2),J39,IF(L39=\"\",\"\",\"-\"),L39,IF(N39=\"\",\"\",\"_\"),N39,IF(P39=\"\",\"\",(CONCATENATE(\"_\",P39)))))","v":""},null," ",{"$nulls":12},{"$f":"IF(LEN('1 - Opstart Importark'!$B$6)>0,'1 - Opstart Importark'!$B$6,\"\")","v":""},{"$f":"IF(LEN('1 - Opstart Importark'!$B$9)>0,'1 - Opstart Importark'!$B$9,\"\")","v":""},{"$nulls":19},0,"","objektnogle_"]
[28,null,{"$f":"IF('1 - Opstart Importark'!$B$6=\"\",\"\",CONCATENATE('Blokke - AMV'!$B$2,LEFT('1 - Opstart Importark'!$B$15,2),J40,IF(L40=\"\",\"\",\"-\"),L40,IF(N40=\"\",\"\",\"_\"),N40,IF(P40=\"\",\"\",(CONCATENATE(\"_\",P40)))))","v":""},null," ",{"$nulls":12},{"$f":"IF(LEN('1 - Opstart Importark'!$B$6)>0,'1 - Opstart Importark'!$B$6,\"\")","v":""},{"$f":"IF(LEN('1 - Opstart Importark'!$B$9)>0,'1 - Opstart Importark'!$B$9,\"\")","v":""},{"$nulls":19},0,"","objektnogle_"]
[29,null,{"$f":"IF('1 - Opstart Importark'!$B$6=\"\",\"\",CONCATENATE('Blokke - AMV'!$B$2,LEFT('1 - Opstart Importark'!$B$15,2),J41,IF(L41=\"\",\"\",\"-\"),L41,IF(N41=\"\",\"\",\"_\"),N41,IF(P41=\"\",\"\",(CONCATENATE(\"_\",P41)))))","v":""},null," ",{"$nulls":12},{"$f":"IF(LEN('1 - Opstart Importark'!$B$6)>0,'1 - Opstart Importark'!$B$6,\"\")","v":""},{"$f":"IF(LEN('1 - Opstart Importark'!$B$9)>0,'1 - Opstart Importark'!$B$9,\"\")","v":""},{"$nulls":19},0,"","objektnogle_"]
[30,null,{"$f":"IF('1 - Opstart Importark'!$B$6=\"\",\"\",CONCATENATE('Blokke - AMV'!$B$2,LEFT('1 - Opstart Importark'!$B$15,2),J42,IF(L42=\"\",\"\",\"-\"),L42,IF(N42=\"\",\"\",\"_\"),N42,IF(P42=\"\",\"\",(CONCATENATE(\"_\",P42)))))","v":""},null," ",{"$nulls":12},{"$f":"IF(LEN('1 - Opstart Importark'!$B$6)>0,'1 - Opstart Importark'!$B$6,\"\")","v":""},{"$f":"IF(LEN('1 - Opstart Importark'!$B$9)>0,'1 - Opstart Importark'!$B$9,\"\")","v":""},{"$nulls":19},0,"","objektnogle_"]
[31,null,{"$f":"IF('1 - Opstart Importark'!$B$6=\"\",\"\",CONCATENATE('Blokke - AMV'!$B$2,LEFT('1 - Opstart Importark'!$B$15,2),J43,IF(L43=\"\",\"\",\"-\"),L43,IF(N43=\"\",\"\",\"_\"),N43,IF(P43=\"\",\"\",(CONCATENATE(\"_\",P43)))))","v":""},null," ",{"$nulls":12},{"$f":"IF(LEN('1 - Opstart Importark'!$B$6)>0,'1 - Opstart Importark'!$B$6,\"\")","v":""},{"$f":"IF(LEN('1 - Opstart Importark'!$B$9)>0,'1 - Opstart Importark'!$B$9,\"\")","v":""},{"$nulls":19},0,"","objektnogle_"]
[32,null,{"$f":"IF('1 - Opstart Importark'!$B$6=\"\",\"\",CONCATENATE('Blokke - AMV'!$B$2,LEFT('1 - Opstart Importark'!$B$15,2),J44,IF(L44=\"\",\"\",\"-\"),L44,IF(N44=\"\",\"\",\"_\"),N44,IF(P44=\"\",\"\",(CONCATENATE(\"_\",P44)))))","v":""},null," ",{"$nulls":12},{"$f":"IF(LEN('1 - Opstart Importark'!$B$6)>0,'1 - Opstart Importark'!$B$6,\"\")","v":""},{"$f":"IF(LEN('1 - Opstart Importark'!$B$9)>0,'1 - Opstart Importark'!$B$9,\"\")","v":""},{"$nulls":19},0,"","objektnogle_"]
[33,null,{"$f":"IF('1 - Opstart Importark'!$B$6=\"\",\"\",CONCATENATE('Blokke - AMV'!$B$2,LEFT('1 - Opstart Importark'!$B$15,2),J45,IF(L45=\"\",\"\",\"-\"),L45,IF(N45=\"\",\"\",\"_\"),N45,IF(P45=\"\",\"\",(CONCATENATE(\"_\",P45)))))","v":""},null," ",{"$nulls":12},{"$f":"IF(LEN('1 - Opstart Importark'!$B$6)>0,'1 - Opstart Importark'!$B$6,\"\")","v":""},{"$f":"IF(LEN('1 - Opstart Importark'!$B$9)>0,'1 - Opstart Importark'!$B$9,\"\")","v":""},{"$nulls":19},0,"","objektnogle_"]
[34,null,{"$f":"IF('1 - Opstart Importark'!$B$6=\"\",\"\",CONCATENATE('Blokke - AMV'!$B$2,LEFT('1 - Opstart Importark'!$B$15,2),J46,IF(L46=\"\",\"\",\"-\"),L46,IF(N46=\"\",\"\",\"_\"),N46,IF(P46=\"\",\"\",(CONCATENATE(\"_\",P46)))))","v":""},null," ",{"$nulls":12},{"$f":"IF(LEN('1 - Opstart Importark'!$B$6)>0,'1 - Opstart Importark'!$B$6,\"\")","v":""},{"$f":"IF(LEN('1 - Opstart Importark'!$B$9)>0,'1 - Opstart Importark'!$B$9,\"\")","v":""},{"$nulls":19},0,"","objektnogle_"]
[35,null,{"$f":"IF('1 - Opstart Importark'!$B$6=\"\",\"\",CONCATENATE('Blokke - AMV'!$B$2,LEFT('1 - Opstart Importark'!$B$15,2),J47,IF(L47=\"\",\"\",\"-\"),L47,IF(N47=\"\",\"\",\"_\"),N47,IF(P47=\"\",\"\",(CONCATENATE(\"_\",P47)))))","v":""},null," ",{"$nulls":12},{"$f":"IF(LEN('1 - Opstart Importark'!$B$6)>0,'1 - Opstart Importark'!$B$6,\"\")","v":""},{"$f":"IF(LEN('1 - Opstart Importark'!$B$9)>0,'1 - Opstart Importark'!$B$9,\"\")","v":""},{"$nulls":19},0,"","objektnogle_"]
[36,null,{"$f":"IF('1 - Opstart Importark'!$B$6=\"\",\"\",CONCATENATE('Blokke - AMV'!$B$2,LEFT('1 - Opstart Importark'!$B$15,2),J48,IF(L48=\"\",\"\",\"-\"),L48,IF(N48=\"\",\"\",\"_\"),N48,IF(P48=\"\",\"\",(CONCATENATE(\"_\",P48)))))","v":""},null," ",{"$nulls":12},{"$f":"IF(LEN('1 - Opstart Importark'!$B$6)>0,'1 - Opstart Importark'!$B$6,\"\")","v":""},{"$f":"IF(LEN('1 - Opstart Importark'!$B$9)>0,'1 - Opstart Importark'!$B$9,\"\")","v":""},{"$nulls":19},0,"","objektnogle_"]
[37,null,{"$f":"IF('1 - Opstart Importark'!$B$6=\"\",\"\",CONCATENATE('Blokke - AMV'!$B$2,LEFT('1 - Opstart Importark'!$B$15,2),J49,IF(L49=\"\",\"\",\"-\"),L49,IF(N49=\"\",\"\",\"_\"),N49,IF(P49=\"\",\"\",(CONCATENATE(\"_\",P49)))))","v":""},null," ",{"$nulls":12},{"$f":"IF(LEN('1 - Opstart Importark'!$B$6)>0,'1 - Opstart Importark'!$B$6,\"\")","v":""},{"$f":"IF(LEN('1 - Opstart Importark'!$B$9)>0,'1 - Opstart Importark'!$B$9,\"\")","v":""},{"$nulls":19},0,"","objektnogle_"]
[38,null,{"$f":"IF('1 - Opstart Importark'!$B$6=\"\",\"\",CONCATENATE('Blokke - AMV'!$B$2,LEFT('1 - Opstart Importark'!$B$15,2),J50,IF(L50=\"\",\"\",\"-\"),L50,IF(N50=\"\",\"\",\"_\"),N50,IF(P50=\"\",\"\",(CONCATENATE(\"_\",P50)))))","v":""},null," ",{"$nulls":12},{"$f":"IF(LEN('1 - Opstart Importark'!$B$6)>0,'1 - Opstart Importark'!$B$6,\"\")","v":""},{"$f":"IF(LEN('1 - Opstart Importark'!$B$9)>0,'1 - Opstart Importark'!$B$9,\"\")","v":""},{"$nulls":19},0,"","objektnogle_"]
[39,null,{"$f":"IF('1 - Opstart Importark'!$B$6=\"\",\"\",CONCATENATE('Blokke - AMV'!$B$2,LEFT('1 - Opstart Importark'!$B$15,2),J51,IF(L51=\"\",\"\",\"-\"),L51,IF(N51=\"\",\"\",\"_\"),N51,IF(P51=\"\",\"\",(CONCATENATE(\"_\",P51)))))","v":""},null," ",{"$nulls":12},{"$f":"IF(LEN('1 - Opstart Importark'!$B$6)>0,'1 - Opstart Importark'!$B$6,\"\")","v":""},{"$f":"IF(LEN('1 - Opstart Importark'!$B$9)>0,'1 - Opstart Importark'!$B$9,\"\")","v":""},{"$nulls":19},0,"","objektnogle_"]
[40,null,{"$f":"IF('1 - Opstart Importark'!$B$6=\"\",\"\",CONCATENATE('Blokke - AMV'!$B$2,LEFT('1 - Opstart Importark'!$B$15,2),J52,IF(L52=\"\",\"\",\"-\"),L52,IF(N52=\"\",\"\",\"_\"),N52,IF(P52=\"\",\"\",(CONCATENATE(\"_\",P52)))))","v":""},null," ",{"$nulls":12},{"$f":"IF(LEN('1 - Opstart Importark'!$B$6)>0,'1 - Opstart Importark'!$B$6,\"\")","v":""},{"$f":"IF(LEN('1 - Opstart Importark'!$B$9)>0,'1 - Opstart Importark'!$B$9,\"\")","v":""},{"$nulls":19},0,"","objektnogle_"]
[41,null,{"$f":"IF('1 - Opstart Importark'!$B$6=\"\",\"\",CONCATENATE('Blokke - AMV'!$B$2,LEFT('1 - Opstart Importark'!$B$15,2),J53,IF(L53=\"\",\"\",\"-\"),L53,IF(N53=\"\",\"\",\"_\"),N53,IF(P53=\"\",\"\",(CONCATENATE(\"_\",P53)))))","v":""},null," ",{"$nulls":12},{"$f":"IF(LEN('1 - Opstart Importark'!$B$6)>0,'1 - Opstart Importark'!$B$6,\"\")","v":""},{"$f":"IF(LEN('1 - Opstart Importark'!$B$9)>0,'1 - Opstart Importark'!$B$9,\"\")","v":""},{"$nulls":19},0,"","objektnogle_"]
[42,null,{"$f":"IF('1 - Opstart Importark'!$B$6=\"\",\"\",CONCATENATE('Blokke - AMV'!$B$2,LEFT('1 - Opstart Importark'!$B$15,2),J54,IF(L54=\"\",\"\",\"-\"),L54,IF(N54=\"\",\"\",\"_\"),N54,IF(P54=\"\",\"\",(CONCATENATE(\"_\",P54)))))","v":""},null," ",{"$nulls":12},{"$f":"IF(LEN('1 - Opstart Importark'!$B$6)>0,'1 - Opstart Importark'!$B$6,\"\")","v":""},{"$f":"IF(LEN('1 - Opstart Importark'!$B$9)>0,'1 - Opstart Importark'!$B$9,\"\")","v":""},{"$nulls":19},0,"","objektnogle_"]
[43,null,{"$f":"IF('1 - Opstart Importark'!$B$6=\"\",\"\",CONCATENATE('Blokke - AMV'!$B$2,LEFT('1 - Opstart Importark'!$B$15,2),J55,IF(L55=\"\",\"\",\"-\"),L55,IF(N55=\"\",\"\",\"_\"),N55,IF(P55=\"\",\"\",(CONCATENATE(\"_\",P55)))))","v":""},null," ",{"$nulls":12},{"$f":"IF(LEN('1 - Opstart Importark'!$B$6)>0,'1 - Opstart Importark'!$B$6,\"\")","v":""},{"$f":"IF(LEN('1 - Opstart Importark'!$B$9)>0,'1 - Opstart Importark'!$B$9,\"\")","v":""},{"$nulls":19},0,"","objektnogle_"]
[44,null,{"$f":"IF('1 - Opstart Importark'!$B$6=\"\",\"\",CONCATENATE('Blokke - AMV'!$B$2,LEFT('1 - Opstart Importark'!$B$15,2),J56,IF(L56=\"\",\"\",\"-\"),L56,IF(N56=\"\",\"\",\"_\"),N56,IF(P56=\"\",\"\",(CONCATENATE(\"_\",P56)))))","v":""},null," ",{"$nulls":12},{"$f":"IF(LEN('1 - Opstart Importark'!$B$6)>0,'1 - Opstart Importark'!$B$6,\"\")","v":""},{"$f":"IF(LEN('1 - Opstart Importark'!$B$9)>0,'1 - Opstart Importark'!$B$9,\"\")","v":""},{"$nulls":19},0,"","objektnogle_"]
[45,null,{"$f":"IF('1 - Opstart Importark'!$B$6=\"\",\"\",CONCATENATE('Blokke - AMV'!$B$2,LEFT('1 - Opstart Importark'!$B$15,2),J57,IF(L57=\"\",\"\",\"-\"),L57,IF(N57=\"\",\"\",\"_\"),N57,IF(P57=\"\",\"\",(CONCATENATE(\"_\",P57)))))","v":""},null," ",{"$nulls":12},{"$f":"IF(LEN('1 - Opstart Importark'!$B$6)>0,'1 - Opstart Importark'!$B$6,\"\")","v":""},{"$f":"IF(LEN('1 - Opstart Importark'!$B$9)>0,'1 - Opstart Importark'!$B$9,\"\")","v":""},{"$nulls":19},0,"","objektnogle_"]
[46,null,{"$f":"IF('1 - Opstart Importark'!$B$6=\"\",\"\",CONCATENATE('Blokke - AMV'!$B$2,LEFT('1 - Opstart Importark'!$B$15,2),J58,IF(L58=\"\",\"\",\"-\"),L58,IF(N58=\"\",\"\",\"_\"),N58,IF(P58=\"\",\"\",(CONCATENATE(\"_\",P58)))))","v":""},null," ",{"$nulls":12},{"$f":"IF(LEN('1 - Opstart Importark'!$B$6)>0,'1 - Opstart Importark'!$B$6,\"\")","v":""},{"$f":"IF(LEN('1 - Opstart Importark'!$B$9)>0,'1 - Opstart Importark'!$B$9,\"\")","v":""},{"$nulls":19},0,"","objektnogle_"]
[47,null,{"$f":"IF('1 - Opstart Importark'!$B$6=\"\",\"\",CONCATENATE('Blokke - AMV'!$B$2,LEFT('1 - Opstart Importark'!$B$15,2),J59,IF(L59=\"\",\"\",\"-\"),L59,IF(N59=\"\",\"\",\"_\"),N59,IF(P59=\"\",\"\",(CONCATENATE(\"_\",P59)))))","v":""},null," ",{"$nulls":12},{"$f":"IF(LEN('1 - Opstart Importark'!$B$6)>0,'1 - Opstart Importark'!$B$6,\"\")","v":""},{"$f":"IF(LEN('1 - Opstart Importark'!$B$9)>0,'1 - Opstart Importark'!$B$9,\"\")","v":""},{"$nulls":19},0,"","objektnogle_"]
[48,null,{"$f":"IF('1 - Opstart Importark'!$B$6=\"\",\"\",CONCATENATE('Blokke - AMV'!$B$2,LEFT('1 - Opstart Importark'!$B$15,2),J60,IF(L60=\"\",\"\",\"-\"),L60,IF(N60=\"\",\"\",\"_\"),N60,IF(P60=\"\",\"\",(CONCATENATE(\"_\",P60)))))","v":""},null," ",{"$nulls":12},{"$f":"IF(LEN('1 - Opstart Importark'!$B$6)>0,'1 - Opstart Importark'!$B$6,\"\")","v":""},{"$f":"IF(LEN('1 - Opstart Importark'!$B$9)>0,'1 - Opstart Importark'!$B$9,\"\")","v":""},{"$nulls":19},0,"","objektnogle_"]
[49,null,{"$f":"IF('1 - Opstart Importark'!$B$6=\"\",\"\",CONCATENATE('Blokke - AMV'!$B$2,LEFT('1 - Opstart Importark'!$B$15,2),J61,IF(L61=\"\",\"\",\"-\"),L61,IF(N61=\"\",\"\",\"_\"),N61,IF(P61=\"\",\"\",(CONCATENATE(\"_\",P61)))))","v":""},null," ",{"$nulls":12},{"$f":"IF(LEN('1 - Opstart Importark'!$B$6)>0,'1 - Opstart Importark'!$B$6,\"\")","v":""},{"$f":"IF(LEN('1 - Opstart Importark'!$B$9)>0,'1 - Opstart Importark'!$B$9,\"\")","v":""},{"$nulls":19},0,"","objektnogle_"]
[50,null,{"$f":"IF('1 - Opstart Importark'!$B$6=\"\",\"\",CONCATENATE('Blokke - AMV'!$B$2,LEFT('1 - Opstart Importark'!$B$15,2),J62,IF(L62=\"\",\"\",\"-\"),L62,IF(N62=\"\",\"\",\"_\"),N62,IF(P62=\"\",\"\",(CONCATENATE(\"_\",P62)))))","v":""},null," ",{"$nulls":12},{"$f":"IF(LEN('1 - Opstart Importark'!$B$6)>0,'1 - Opstart Importark'!$B$6,\"\")","v":""},{"$f":"IF(LEN('1 - Opstart Importark'!$B$9)>0,'1 - Opstart Importark'!$B$9,\"\")","v":""},{"$nulls":19},0,"","objektnogle_"]
[51,null,{"$f":"IF('1 - Opstart Importark'!$B$6=\"\",\"\",CONCATENATE('Blokke - AMV'!$B$2,LEFT('1 - Opstart Importark'!$B$15,2),J63,IF(L63=\"\",\"\",\"-\"),L63,IF(N63=\"\",\"\",\"_\"),N63,IF(P63=\"\",\"\",(CONCATENATE(\"_\",P63)))))","v":""},null," ",{"$nulls":12},{"$f":"IF(LEN('1 - Opstart Importark'!$B$6)>0,'1 - Opstart Importark'!$B$6,\"\")","v":""},{"$f":"IF(LEN('1 - Opstart Importark'!$B$9)>0,'1 - Opstart Importark'!$B$9,\"\")","v":""},{"$nulls":19},0,"","objektnogle_"]
[52,null,{"$f":"IF('1 - Opstart Importark'!$B$6=\"\",\"\",CONCATENATE('Blokke - AMV'!$B$2,LEFT('1 - Opstart Importark'!$B$15,2),J64,IF(L64=\"\",\"\",\"-\"),L64,IF(N64=\"\",\"\",\"_\"),N64,IF(P64=\"\",\"\",(CONCATENATE(\"_\",P64)))))","v":""},null," ",{"$nulls":12},{"$f":"IF(LEN('1 - Opstart Importark'!$B$6)>0,'1 - Opstart Importark'!$B$6,\"\")","v":""},{"$f":"IF(LEN('1 - Opstart Importark'!$B$9)>0,'1 - Opstart Importark'!$B$9,\"\")","v":""},{"$nulls":19},0,"","objektnogle_"]
[53,null,{"$f":"IF('1 - Opstart Importark'!$B$6=\"\",\"\",CONCATENATE('Blokke - AMV'!$B$2,LEFT('1 - Opstart Importark'!$B$15,2),J65,IF(L65=\"\",\"\",\"-\"),L65,IF(N65=\"\",\"\",\"_\"),N65,IF(P65=\"\",\"\",(CONCATENATE(\"_\",P65)))))","v":""},null," ",{"$nulls":12},{"$f":"IF(LEN('1 - Opstart Importark'!$B$6)>0,'1 - Opstart Importark'!$B$6,\"\")","v":""},{"$f":"IF(LEN('1 - Opstart Importark'!$B$9)>0,'1 - Opstart Importark'!$B$9,\"\")","v":""},{"$nulls":19},0,"","objektnogle_"]
[54,null,{"$f":"IF('1 - Opstart Importark'!$B$6=\"\",\"\",CONCATENATE('Blokke - AMV'!$B$2,LEFT('1 - Opstart Importark'!$B$15,2),J66,IF(L66=\"\",\"\",\"-\"),L66,IF(N66=\"\",\"\",\"_\"),N66,IF(P66=\"\",\"\",(CONCATENATE(\"_\",P66)))))","v":""},null," ",{"$nulls":12},{"$f":"IF(LEN('1 - Opstart Importark'!$B$6)>0,'1 - Opstart Importark'!$B$6,\"\")","v":""},{"$f":"IF(LEN('1 - Opstart Importark'!$B$9)>0,'1 - Opstart Importark'!$B$9,\"\")","v":""},{"$nulls":19},0,"","objektnogle_"]
[55,null,{"$f":"IF('1 - Opstart Importark'!$B$6=\"\",\"\",CONCATENATE('Blokke - AMV'!$B$2,LEFT('1 - Opstart Importark'!$B$15,2),J67,IF(L67=\"\",\"\",\"-\"),L67,IF(N67=\"\",\"\",\"_\"),N67,IF(P67=\"\",\"\",(CONCATENATE(\"_\",P67)))))","v":""},null," ",{"$nulls":12},{"$f":"IF(LEN('1 - Opstart Importark'!$B$6)>0,'1 - Opstart Importark'!$B$6,\"\")","v":""},{"$f":"IF(LEN('1 - Opstart Importark'!$B$9)>0,'1 - Opstart Importark'!$B$9,\"\")","v":""},{"$nulls":19},0,"","objektnogle_"]
[56,null,{"$f":"IF('1 - Opstart Importark'!$B$6=\"\",\"\",CONCATENATE('Blokke - AMV'!$B$2,LEFT('1 - Opstart Importark'!$B$15,2),J68,IF(L68=\"\",\"\",\"-\"),L68,IF(N68=\"\",\"\",\"_\"),N68,IF(P68=\"\",\"\",(CONCATENATE(\"_\",P68)))))","v":""},null," ",{"$nulls":12},{"$f":"IF(LEN('1 - Opstart Importark'!$B$6)>0,'1 - Opstart Importark'!$B$6,\"\")","v":""},{"$f":"IF(LEN('1 - Opstart Importark'!$B$9)>0,'1 - Opstart Importark'!$B$9,\"\")","v":""},{"$nulls":19},0,"","objektnogle_"]
[57,null,{"$f":"IF('1 - Opstart Importark'!$B$6=\"\",\"\",CONCATENATE('Blokke - AMV'!$B$2,LEFT('1 - Opstart Importark'!$B$15,2),J69,IF(L69=\"\",\"\",\"-\"),L69,IF(N69=\"\",\"\",\"_\"),N69,IF(P69=\"\",\"\",(CONCATENATE(\"_\",P69)))))","v":""},null," ",{"$nulls":12},{"$f":"IF(LEN('1 - Opstart Importark'!$B$6)>0,'1 - Opstart Importark'!$B$6,\"\")","v":""},{"$f":"IF(LEN('1 - Opstart Importark'!$B$9)>0,'1 - Opstart Importark'!$B$9,\"\")","v":""},{"$nulls":19},0,"","objektnogle_"]
[58,null,{"$f":"IF('1 - Opstart Importark'!$B$6=\"\",\"\",CONCATENATE('Blokke - AMV'!$B$2,LEFT('1 - Opstart Importark'!$B$15,2),J70,IF(L70=\"\",\"\",\"-\"),L70,IF(N70=\"\",\"\",\"_\"),N70,IF(P70=\"\",\"\",(CONCATENATE(\"_\",P70)))))","v":""},null," ",{"$nulls":12},{"$f":"IF(LEN('1 - Opstart Importark'!$B$6)>0,'1 - Opstart Importark'!$B$6,\"\")","v":""},{"$f":"IF(LEN('1 - Opstart Importark'!$B$9)>0,'1 - Opstart Importark'!$B$9,\"\")","v":""},{"$nulls":19},0,"","objektnogle_"]
[59,null,{"$f":"IF('1 - Opstart Importark'!$B$6=\"\",\"\",CONCATENATE('Blokke - AMV'!$B$2,LEFT('1 - Opstart Importark'!$B$15,2),J71,IF(L71=\"\",\"\",\"-\"),L71,IF(N71=\"\",\"\",\"_\"),N71,IF(P71=\"\",\"\",(CONCATENATE(\"_\",P71)))))","v":""},null," ",{"$nulls":12},{"$f":"IF(LEN('1 - Opstart Importark'!$B$6)>0,'1 - Opstart Importark'!$B$6,\"\")","v":""},{"$f":"IF(LEN('1 - Opstart Importark'!$B$9)>0,'1 - Opstart Importark'!$B$9,\"\")","v":""},{"$nulls":19},0,"","objektnogle_"]
[60,null,{"$f":"IF('1 - Opstart Importark'!$B$6=\"\",\"\",CONCATENATE('Blokke - AMV'!$B$2,LEFT('1 - Opstart Importark'!$B$15,2),J72,IF(L72=\"\",\"\",\"-\"),L72,IF(N72=\"\",\"\",\"_\"),N72,IF(P72=\"\",\"\",(CONCATENATE(\"_\",P72)))))","v":""},null," ",{"$nulls":12},{"$f":"IF(LEN('1 - Opstart Importark'!$B$6)>0,'1 - Opstart Importark'!$B$6,\"\")","v":""},{"$f":"IF(LEN('1 - Opstart Importark'!$B$9)>0,'1 - Opstart Importark'!$B$9,\"\")","v":""},{"$nulls":19},0,"","objektnogle_"]
[61,null,{"$f":"IF('1 - Opstart Importark'!$B$6=\"\",\"\",CONCATENATE('Blokke - AMV'!$B$2,LEFT('1 - Opstart Importark'!$B$15,2),J73,IF(L73=\"\",\"\",\"-\"),L73,IF(N73=\"\",\"\",\"_\"),N73,IF(P73=\"\",\"\",(CONCATENATE(\"_\",P73)))))","v":""},null," ",{"$nulls":12},{"$f":"IF(LEN('1 - Opstart Importark'!$B$6)>0,'1 - Opstart Importark'!$B$6,\"\")","v":""},{"$f":"IF(LEN('1 - Opstart Importark'!$B$9)>0,'1 - Opstart Importark'!$B$9,\"\")","v":""},{"$nulls":19},0,"","objektnogle_"]
[62,null,{"$f":"IF('1 - Opstart Importark'!$B$6=\"\",\"\",CONCATENATE('Blokke - AMV'!$B$2,LEFT('1 - Opstart Importark'!$B$15,2),J74,IF(L74=\"\",\"\",\"-\"),L74,IF(N74=\"\",\"\",\"_\"),N74,IF(P74=\"\",\"\",(CONCATENATE(\"_\",P74)))))","v":""},null," ",{"$nulls":12},{"$f":"IF(LEN('1 - Opstart Importark'!$B$6)>0,'1 - Opstart Importark'!$B$6,\"\")","v":""},{"$f":"IF(LEN('1 - Opstart Importark'!$B$9)>0,'1 - Opstart Importark'!$B$9,\"\")","v":""},{"$nulls":19},0,"","objektnogle_"]
[63,null,{"$f":"IF('1 - Opstart Importark'!$B$6=\"\",\"\",CONCATENATE('Blokke - AMV'!$B$2,LEFT('1 - Opstart Importark'!$B$15,2),J75,IF(L75=\"\",\"\",\"-\"),L75,IF(N75=\"\",\"\",\"_\"),N75,IF(P75=\"\",\"\",(CONCATENATE(\"_\",P75)))))","v":""},null," ",{"$nulls":12},{"$f":"IF(LEN('1 - Opstart Importark'!$B$6)>0,'1 - Opstart Importark'!$B$6,\"\")","v":""},{"$f":"IF(LEN('1 - Opstart Importark'!$B$9)>0,'1 - Opstart Importark'!$B$9,\"\")","v":""},{"$nulls":19},0,"","objektnogle_"]
[64,null,{"$f":"IF('1 - Opstart Importark'!$B$6=\"\",\"\",CONCATENATE('Blokke - AMV'!$B$2,LEFT('1 - Opstart Importark'!$B$15,2),J76,IF(L76=\"\",\"\",\"-\"),L76,IF(N76=\"\",\"\",\"_\"),N76,IF(P76=\"\",\"\",(CONCATENATE(\"_\",P76)))))","v":""},null," ",{"$nulls":12},{"$f":"IF(LEN('1 - Opstart Importark'!$B$6)>0,'1 - Opstart Importark'!$B$6,\"\")","v":""},{"$f":"IF(LEN('1 - Opstart Importark'!$B$9)>0,'1 - Opstart Importark'!$B$9,\"\")","v":""},{"$nulls":19},0,"","objektnogle_"]
[65,null,{"$f":"IF('1 - Opstart Importark'!$B$6=\"\",\"\",CONCATENATE('Blokke - AMV'!$B$2,LEFT('1 - Opstart Importark'!$B$15,2),J77,IF(L77=\"\",\"\",\"-\"),L77,IF(N77=\"\",\"\",\"_\"),N77,IF(P77=\"\",\"\",(CONCATENATE(\"_\",P77)))))","v":""},null," ",{"$nulls":12},{"$f":"IF(LEN('1 - Opstart Importark'!$B$6)>0,'1 - Opstart Importark'!$B$6,\"\")","v":""},{"$f":"IF(LEN('1 - Opstart Importark'!$B$9)>0,'1 - Opstart Importark'!$B$9,\"\")","v":""},{"$nulls":19},{"$f":"IFERROR(FIND(\".\",G77),)","v":0},{"$f":"IF(L77=\"\",\"\",IF(LEFT(L77,1)=\"E\",0,1))","v":""},{"$f":"CONCATENATE(\"objektnogle_\",LEFT(L77,1))","v":"objektnogle_"}]
[66,null,{"$f":"IF('1 - Opstart Importark'!$B$6=\"\",\"\",CONCATENATE('Blokke - AMV'!$B$2,LEFT('1 - Opstart Importark'!$B$15,2),J78,IF(L78=\"\",\"\",\"-\"),L78,IF(N78=\"\",\"\",\"_\"),N78,IF(P78=\"\",\"\",(CONCATENATE(\"_\",P78)))))","v":""},null," ",{"$nulls":12},{"$f":"IF(LEN('1 - Opstart Importark'!$B$6)>0,'1 - Opstart Importark'!$B$6,\"\")","v":""},{"$f":"IF(LEN('1 - Opstart Importark'!$B$9)>0,'1 - Opstart Importark'!$B$9,\"\")","v":""},{"$nulls":19},0,"","objektnogle_"]
[67,null,{"$f":"IF('1 - Opstart Importark'!$B$6=\"\",\"\",CONCATENATE('Blokke - AMV'!$B$2,LEFT('1 - Opstart Importark'!$B$15,2),J79,IF(L79=\"\",\"\",\"-\"),L79,IF(N79=\"\",\"\",\"_\"),N79,IF(P79=\"\",\"\",(CONCATENATE(\"_\",P79)))))","v":""},null," ",{"$nulls":12},{"$f":"IF(LEN('1 - Opstart Importark'!$B$6)>0,'1 - Opstart Importark'!$B$6,\"\")","v":""},{"$f":"IF(LEN('1 - Opstart Importark'!$B$9)>0,'1 - Opstart Importark'!$B$9,\"\")","v":""},{"$nulls":19},0,"","objektnogle_"]
[68,null,{"$f":"IF('1 - Opstart Importark'!$B$6=\"\",\"\",CONCATENATE('Blokke - AMV'!$B$2,LEFT('1 - Opstart Importark'!$B$15,2),J80,IF(L80=\"\",\"\",\"-\"),L80,IF(N80=\"\",\"\",\"_\"),N80,IF(P80=\"\",\"\",(CONCATENATE(\"_\",P80)))))","v":""},null," ",{"$nulls":12},{"$f":"IF(LEN('1 - Opstart Importark'!$B$6)>0,'1 - Opstart Importark'!$B$6,\"\")","v":""},{"$f":"IF(LEN('1 - Opstart Importark'!$B$9)>0,'1 - Opstart Importark'!$B$9,\"\")","v":""},{"$nulls":19},0,"","objektnogle_"]
[69,null,{"$f":"IF('1 - Opstart Importark'!$B$6=\"\",\"\",CONCATENATE('Blokke - AMV'!$B$2,LEFT('1 - Opstart Importark'!$B$15,2),J81,IF(L81=\"\",\"\",\"-\"),L81,IF(N81=\"\",\"\",\"_\"),N81,IF(P81=\"\",\"\",(CONCATENATE(\"_\",P81)))))","v":""},null," ",{"$nulls":12},{"$f":"IF(LEN('1 - Opstart Importark'!$B$6)>0,'1 - Opstart Importark'!$B$6,\"\")","v":""},{"$f":"IF(LEN('1 - Opstart Importark'!$B$9)>0,'1 - Opstart Importark'!$B$9,\"\")","v":""},{"$nulls":19},0,"","objektnogle_"]
[70,null,{"$f":"IF('1 - Opstart Importark'!$B$6=\"\",\"\",CONCATENATE('Blokke - AMV'!$B$2,LEFT('1 - Opstart Importark'!$B$15,2),J82,IF(L82=\"\",\"\",\"-\"),L82,IF(N82=\"\",\"\",\"_\"),N82,IF(P82=\"\",\"\",(CONCATENATE(\"_\",P82)))))","v":""},null," ",{"$nulls":12},{"$f":"IF(LEN('1 - Opstart Importark'!$B$6)>0,'1 - Opstart Importark'!$B$6,\"\")","v":""},{"$f":"IF(LEN('1 - Opstart Importark'!$B$9)>0,'1 - Opstart Importark'!$B$9,\"\")","v":""},{"$nulls":19},0,"","objektnogle_"]
[71,null,{"$f":"IF('1 - Opstart Importark'!$B$6=\"\",\"\",CONCATENATE('Blokke - AMV'!$B$2,LEFT('1 - Opstart Importark'!$B$15,2),J83,IF(L83=\"\",\"\",\"-\"),L83,IF(N83=\"\",\"\",\"_\"),N83,IF(P83=\"\",\"\",(CONCATENATE(\"_\",P83)))))","v":""},null," ",{"$nulls":12},{"$f":"IF(LEN('1 - Opstart Importark'!$B$6)>0,'1 - Opstart Importark'!$B$6,\"\")","v":""},{"$f":"IF(LEN('1 - Opstart Importark'!$B$9)>0,'1 - Opstart Importark'!$B$9,\"\")","v":""},{"$nulls":19},0,"","objektnogle_"]
[72,null,{"$f":"IF('1 - Opstart Importark'!$B$6=\"\",\"\",CONCATENATE('Blokke - AMV'!$B$2,LEFT('1 - Opstart Importark'!$B$15,2),J84,IF(L84=\"\",\"\",\"-\"),L84,IF(N84=\"\",\"\",\"_\"),N84,IF(P84=\"\",\"\",(CONCATENATE(\"_\",P84)))))","v":""},null," ",{"$nulls":12},{"$f":"IF(LEN('1 - Opstart Importark'!$B$6)>0,'1 - Opstart Importark'!$B$6,\"\")","v":""},{"$f":"IF(LEN('1 - Opstart Importark'!$B$9)>0,'1 - Opstart Importark'!$B$9,\"\")","v":""},{"$nulls":19},0,"","objektnogle_"]
[73,null,{"$f":"IF('1 - Opstart Importark'!$B$6=\"\",\"\",CONCATENATE('Blokke - AMV'!$B$2,LEFT('1 - Opstart Importark'!$B$15,2),J85,IF(L85=\"\",\"\",\"-\"),L85,IF(N85=\"\",\"\",\"_\"),N85,IF(P85=\"\",\"\",(CONCATENATE(\"_\",P85)))))","v":""},null," ",{"$nulls":12},{"$f":"IF(LEN('1 - Opstart Importark'!$B$6)>0,'1 - Opstart Importark'!$B$6,\"\")","v":""},{"$f":"IF(LEN('1 - Opstart Importark'!$B$9)>0,'1 - Opstart Importark'!$B$9,\"\")","v":""},{"$nulls":19},0,"","objektnogle_"]
[74,null,{"$f":"IF('1 - Opstart Importark'!$B$6=\"\",\"\",CONCATENATE('Blokke - AMV'!$B$2,LEFT('1 - Opstart Importark'!$B$15,2),J86,IF(L86=\"\",\"\",\"-\"),L86,IF(N86=\"\",\"\",\"_\"),N86,IF(P86=\"\",\"\",(CONCATENATE(\"_\",P86)))))","v":""},null," ",{"$nulls":12},{"$f":"IF(LEN('1 - Opstart Importark'!$B$6)>0,'1 - Opstart Importark'!$B$6,\"\")","v":""},{"$f":"IF(LEN('1 - Opstart Importark'!$B$9)>0,'1 - Opstart Importark'!$B$9,\"\")","v":""},{"$nulls":19},0,"","objektnogle_"]
[75,null,{"$f":"IF('1 - Opstart Importark'!$B$6=\"\",\"\",CONCATENATE('Blokke - AMV'!$B$2,LEFT('1 - Opstart Importark'!$B$15,2),J87,IF(L87=\"\",\"\",\"-\"),L87,IF(N87=\"\",\"\",\"_\"),N87,IF(P87=\"\",\"\",(CONCATENATE(\"_\",P87)))))","v":""},null," ",{"$nulls":12},{"$f":"IF(LEN('1 - Opstart Importark'!$B$6)>0,'1 - Opstart Importark'!$B$6,\"\")","v":""},{"$f":"IF(LEN('1 - Opstart Importark'!$B$9)>0,'1 - Opstart Importark'!$B$9,\"\")","v":""},{"$nulls":19},0,"","objektnogle_"]
[76,null,{"$f":"IF('1 - Opstart Importark'!$B$6=\"\",\"\",CONCATENATE('Blokke - AMV'!$B$2,LEFT('1 - Opstart Importark'!$B$15,2),J88,IF(L88=\"\",\"\",\"-\"),L88,IF(N88=\"\",\"\",\"_\"),N88,IF(P88=\"\",\"\",(CONCATENATE(\"_\",P88)))))","v":""},null," ",{"$nulls":12},{"$f":"IF(LEN('1 - Opstart Importark'!$B$6)>0,'1 - Opstart Importark'!$B$6,\"\")","v":""},{"$f":"IF(LEN('1 - Opstart Importark'!$B$9)>0,'1 - Opstart Importark'!$B$9,\"\")","v":""},{"$nulls":19},0,"","objektnogle_"]
[77,null,{"$f":"IF('1 - Opstart Importark'!$B$6=\"\",\"\",CONCATENATE('Blokke - AMV'!$B$2,LEFT('1 - Opstart Importark'!$B$15,2),J89,IF(L89=\"\",\"\",\"-\"),L89,IF(N89=\"\",\"\",\"_\"),N89,IF(P89=\"\",\"\",(CONCATENATE(\"_\",P89)))))","v":""},null," ",{"$nulls":12},{"$f":"IF(LEN('1 - Opstart Importark'!$B$6)>0,'1 - Opstart Importark'!$B$6,\"\")","v":""},{"$f":"IF(LEN('1 - Opstart Importark'!$B$9)>0,'1 - Opstart Importark'!$B$9,\"\")","v":""},{"$nulls":19},0,"","objektnogle_"]
[78,null,{"$f":"IF('1 - Opstart Importark'!$B$6=\"\",\"\",CONCATENATE('Blokke - AMV'!$B$2,LEFT('1 - Opstart Importark'!$B$15,2),J90,IF(L90=\"\",\"\",\"-\"),L90,IF(N90=\"\",\"\",\"_\"),N90,IF(P90=\"\",\"\",(CONCATENATE(\"_\",P90)))))","v":""},null," ",{"$nulls":12},{"$f":"IF(LEN('1 - Opstart Importark'!$B$6)>0,'1 - Opstart Importark'!$B$6,\"\")","v":""},{"$f":"IF(LEN('1 - Opstart Importark'!$B$9)>0,'1 - Opstart Importark'!$B$9,\"\")","v":""},{"$nulls":19},0,"","objektnogle_"]
[79,null,{"$f":"IF('1 - Opstart Importark'!$B$6=\"\",\"\",CONCATENATE('Blokke - AMV'!$B$2,LEFT('1 - Opstart Importark'!$B$15,2),J91,IF(L91=\"\",\"\",\"-\"),L91,IF(N91=\"\",\"\",\"_\"),N91,IF(P91=\"\",\"\",(CONCATENATE(\"_\",P91)))))","v":""},null," ",{"$nulls":12},{"$f":"IF(LEN('1 - Opstart Importark'!$B$6)>0,'1 - Opstart Importark'!$B$6,\"\")","v":""},{"$f":"IF(LEN('1 - Opstart Importark'!$B$9)>0,'1 - Opstart Importark'!$B$9,\"\")","v":""},{"$nulls":19},0,"","objektnogle_"]
[80,null,{"$f":"IF('1 - Opstart Importark'!$B$6=\"\",\"\",CONCATENATE('Blokke - AMV'!$B$2,LEFT('1 - Opstart Importark'!$B$15,2),J92,IF(L92=\"\",\"\",\"-\"),L92,IF(N92=\"\",\"\",\"_\"),N92,IF(P92=\"\",\"\",(CONCATENATE(\"_\",P92)))))","v":""},null," ",{"$nulls":12},{"$f":"IF(LEN('1 - Opstart Importark'!$B$6)>0,'1 - Opstart Importark'!$B$6,\"\")","v":""},{"$f":"IF(LEN('1 - Opstart Importark'!$B$9)>0,'1 - Opstart Importark'!$B$9,\"\")","v":""},{"$nulls":19},0,"","objektnogle_"]
[81,null,{"$f":"IF('1 - Opstart Importark'!$B$6=\"\",\"\",CONCATENATE('Blokke - AMV'!$B$2,LEFT('1 - Opstart Importark'!$B$15,2),J93,IF(L93=\"\",\"\",\"-\"),L93,IF(N93=\"\",\"\",\"_\"),N93,IF(P93=\"\",\"\",(CONCATENATE(\"_\",P93)))))","v":""},null," ",{"$nulls":12},{"$f":"IF(LEN('1 - Opstart Importark'!$B$6)>0,'1 - Opstart Importark'!$B$6,\"\")","v":""},{"$f":"IF(LEN('1 - Opstart Importark'!$B$9)>0,'1 - Opstart Importark'!$B$9,\"\")","v":""},{"$nulls":19},0,"","objektnogle_"]
[82,null,{"$f":"IF('1 - Opstart Importark'!$B$6=\"\",\"\",CONCATENATE('Blokke - AMV'!$B$2,LEFT('1 - Opstart Importark'!$B$15,2),J94,IF(L94=\"\",\"\",\"-\"),L94,IF(N94=\"\",\"\",\"_\"),N94,IF(P94=\"\",\"\",(CONCATENATE(\"_\",P94)))))","v":""},null," ",{"$nulls":12},{"$f":"IF(LEN('1 - Opstart Importark'!$B$6)>0,'1 - Opstart Importark'!$B$6,\"\")","v":""},{"$f":"IF(LEN('1 - Opstart Importark'!$B$9)>0,'1 - Opstart Importark'!$B$9,\"\")","v":""},{"$nulls":19},0,"","objektnogle_"]
[83,null,{"$f":"IF('1 - Opstart Importark'!$B$6=\"\",\"\",CONCATENATE('Blokke - AMV'!$B$2,LEFT('1 - Opstart Importark'!$B$15,2),J95,IF(L95=\"\",\"\",\"-\"),L95,IF(N95=\"\",\"\",\"_\"),N95,IF(P95=\"\",\"\",(CONCATENATE(\"_\",P95)))))","v":""},null," ",{"$nulls":12},{"$f":"IF(LEN('1 - Opstart Importark'!$B$6)>0,'1 - Opstart Importark'!$B$6,\"\")","v":""},{"$f":"IF(LEN('1 - Opstart Importark'!$B$9)>0,'1 - Opstart Importark'!$B$9,\"\")","v":""},{"$nulls":19},0,"","objektnogle_"]
[84,null,{"$f":"IF('1 - Opstart Importark'!$B$6=\"\",\"\",CONCATENATE('Blokke - AMV'!$B$2,LEFT('1 - Opstart Importark'!$B$15,2),J96,IF(L96=\"\",\"\",\"-\"),L96,IF(N96=\"\",\"\",\"_\"),N96,IF(P96=\"\",\"\",(CONCATENATE(\"_\",P96)))))","v":""},null," ",{"$nulls":12},{"$f":"IF(LEN('1 - Opstart Importark'!$B$6)>0,'1 - Opstart Importark'!$B$6,\"\")","v":""},{"$f":"IF(LEN('1 - Opstart Importark'!$B$9)>0,'1 - Opstart Importark'!$B$9,\"\")","v":""},{"$nulls":19},0,"","objektnogle_"]
[85,null,{"$f":"IF('1 - Opstart Importark'!$B$6=\"\",\"\",CONCATENATE('Blokke - AMV'!$B$2,LEFT('1 - Opstart Importark'!$B$15,2),J97,IF(L97=\"\",\"\",\"-\"),L97,IF(N97=\"\",\"\",\"_\"),N97,IF(P97=\"\",\"\",(CONCATENATE(\"_\",P97)))))","v":""},null," ",{"$nulls":12},{"$f":"IF(LEN('1 - Opstart Importark'!$B$6)>0,'1 - Opstart Importark'!$B$6,\"\")","v":""},{"$f":"IF(LEN('1 - Opstart Importark'!$B$9)>0,'1 - Opstart Importark'!$B$9,\"\")","v":""},{"$nulls":19},0,"","objektnogle_"]
[86,null,{"$f":"IF('1 - Opstart Importark'!$B$6=\"\",\"\",CONCATENATE('Blokke - AMV'!$B$2,LEFT('1 - Opstart Importark'!$B$15,2),J98,IF(L98=\"\",\"\",\"-\"),L98,IF(N98=\"\",\"\",\"_\"),N98,IF(P98=\"\",\"\",(CONCATENATE(\"_\",P98)))))","v":""},null," ",{"$nulls":12},{"$f":"IF(LEN('1 - Opstart Importark'!$B$6)>0,'1 - Opstart Importark'!$B$6,\"\")","v":""},{"$f":"IF(LEN('1 - Opstart Importark'!$B$9)>0,'1 - Opstart Importark'!$B$9,\"\")","v":""},{"$nulls":19},0,"","objektnogle_"]
[87,null,{"$f":"IF('1 - Opstart Importark'!$B$6=\"\",\"\",CONCATENATE('Blokke - AMV'!$B$2,LEFT('1 - Opstart Importark'!$B$15,2),J99,IF(L99=\"\",\"\",\"-\"),L99,IF(N99=\"\",\"\",\"_\"),N99,IF(P99=\"\",\"\",(CONCATENATE(\"_\",P99)))))","v":""},null," ",{"$nulls":12},{"$f":"IF(LEN('1 - Opstart Importark'!$B$6)>0,'1 - Opstart Importark'!$B$6,\"\")","v":""},{"$f":"IF(LEN('1 - Opstart Importark'!$B$9)>0,'1 - Opstart Importark'!$B$9,\"\")","v":""},{"$nulls":19},0,"","objektnogle_"]
[88,null,{"$f":"IF('1 - Opstart Importark'!$B$6=\"\",\"\",CONCATENATE('Blokke - AMV'!$B$2,LEFT('1 - Opstart Importark'!$B$15,2),J100,IF(L100=\"\",\"\",\"-\"),L100,IF(N100=\"\",\"\",\"_\"),N100,IF(P100=\"\",\"\",(CONCATENATE(\"_\",P100)))))","v":""},null," ",{"$nulls":12},{"$f":"IF(LEN('1 - Opstart Importark'!$B$6)>0,'1 - Opstart Importark'!$B$6,\"\")","v":""},{"$f":"IF(LEN('1 - Opstart Importark'!$B$9)>0,'1 - Opstart Importark'!$B$9,\"\")","v":""},{"$nulls":19},0,"","objektnogle_"]
[89,null,{"$f":"IF('1 - Opstart Importark'!$B$6=\"\",\"\",CONCATENATE('Blokke - AMV'!$B$2,LEFT('1 - Opstart Importark'!$B$15,2),J101,IF(L101=\"\",\"\",\"-\"),L101,IF(N101=\"\",\"\",\"_\"),N101,IF(P101=\"\",\"\",(CONCATENATE(\"_\",P101)))))","v":""},null," ",{"$nulls":12},{"$f":"IF(LEN('1 - Opstart Importark'!$B$6)>0,'1 - Opstart Importark'!$B$6,\"\")","v":""},{"$f":"IF(LEN('1 - Opstart Importark'!$B$9)>0,'1 - Opstart Importark'!$B$9,\"\")","v":""},{"$nulls":19},0,"","objektnogle_"]
[90,null,{"$f":"IF('1 - Opstart Importark'!$B$6=\"\",\"\",CONCATENATE('Blokke - AMV'!$B$2,LEFT('1 - Opstart Importark'!$B$15,2),J102,IF(L102=\"\",\"\",\"-\"),L102,IF(N102=\"\",\"\",\"_\"),N102,IF(P102=\"\",\"\",(CONCATENATE(\"_\",P102)))))","v":""},null," ",{"$nulls":12},{"$f":"IF(LEN('1 - Opstart Importark'!$B$6)>0,'1 - Opstart Importark'!$B$6,\"\")","v":""},{"$f":"IF(LEN('1 - Opstart Importark'!$B$9)>0,'1 - Opstart Importark'!$B$9,\"\")","v":""},{"$nulls":19},0,"","objektnogle_"]
[91,null,{"$f":"IF('1 - Opstart Importark'!$B$6=\"\",\"\",CONCATENATE('Blokke - AMV'!$B$2,LEFT('1 - Opstart Importark'!$B$15,2),J103,IF(L103=\"\",\"\",\"-\"),L103,IF(N103=\"\",\"\",\"_\"),N103,IF(P103=\"\",\"\",(CONCATENATE(\"_\",P103)))))","v":""},null," ",{"$nulls":12},{"$f":"IF(LEN('1 - Opstart Importark'!$B$6)>0,'1 - Opstart Importark'!$B$6,\"\")","v":""},{"$f":"IF(LEN('1 - Opstart Importark'!$B$9)>0,'1 - Opstart Importark'!$B$9,\"\")","v":""},{"$nulls":19},0,"","objektnogle_"]
[92,null,{"$f":"IF('1 - Opstart Importark'!$B$6=\"\",\"\",CONCATENATE('Blokke - AMV'!$B$2,LEFT('1 - Opstart Importark'!$B$15,2),J104,IF(L104=\"\",\"\",\"-\"),L104,IF(N104=\"\",\"\",\"_\"),N104,IF(P104=\"\",\"\",(CONCATENATE(\"_\",P104)))))","v":""},null," ",{"$nulls":12},{"$f":"IF(LEN('1 - Opstart Importark'!$B$6)>0,'1 - Opstart Importark'!$B$6,\"\")","v":""},{"$f":"IF(LEN('1 - Opstart Importark'!$B$9)>0,'1 - Opstart Importark'!$B$9,\"\")","v":""},{"$nulls":19},0,"","objektnogle_"]
[93,null,{"$f":"IF('1 - Opstart Importark'!$B$6=\"\",\"\",CONCATENATE('Blokke - AMV'!$B$2,LEFT('1 - Opstart Importark'!$B$15,2),J105,IF(L105=\"\",\"\",\"-\"),L105,IF(N105=\"\",\"\",\"_\"),N105,IF(P105=\"\",\"\",(CONCATENATE(\"_\",P105)))))","v":""},null," ",{"$nulls":12},{"$f":"IF(LEN('1 - Opstart Importark'!$B$6)>0,'1 - Opstart Importark'!$B$6,\"\")","v":""},{"$f":"IF(LEN('1 - Opstart Importark'!$B$9)>0,'1 - Opstart Importark'!$B$9,\"\")","v":""},{"$nulls":19},0,"","objektnogle_"]
[94,null,{"$f":"IF('1 - Opstart Importark'!$B$6=\"\",\"\",CONCATENATE('Blokke - AMV'!$B$2,LEFT('1 - Opstart Importark'!$B$15,2),J106,IF(L106=\"\",\"\",\"-\"),L106,IF(N106=\"\",\"\",\"_\"),N106,IF(P106=\"\",\"\",(CONCATENATE(\"_\",P106)))))","v":""},null," ",{"$nulls":12},{"$f":"IF(LEN('1 - Opstart Importark'!$B$6)>0,'1 - Opstart Importark'!$B$6,\"\")","v":""},{"$f":"IF(LEN('1 - Opstart Importark'!$B$9)>0,'1 - Opstart Importark'!$B$9,\"\")","v":""},{"$nulls":19},0,"","objektnogle_"]
[95,null,{"$f":"IF('1 - Opstart Importark'!$B$6=\"\",\"\",CONCATENATE('Blokke - AMV'!$B$2,LEFT('1 - Opstart Importark'!$B$15,2),J107,IF(L107=\"\",\"\",\"-\"),L107,IF(N107=\"\",\"\",\"_\"),N107,IF(P107=\"\",\"\",(CONCATENATE(\"_\",P107)))))","v":""},null," ",{"$nulls":12},{"$f":"IF(LEN('1 - Opstart Importark'!$B$6)>0,'1 - Opstart Importark'!$B$6,\"\")","v":""},{"$f":"IF(LEN('1 - Opstart Importark'!$B$9)>0,'1 - Opstart Importark'!$B$9,\"\")","v":""},{"$nulls":19},0,"","objektnogle_"]
[96,null,{"$f":"IF('1 - Opstart Importark'!$B$6=\"\",\"\",CONCATENATE('Blokke - AMV'!$B$2,LEFT('1 - Opstart Importark'!$B$15,2),J108,IF(L108=\"\",\"\",\"-\"),L108,IF(N108=\"\",\"\",\"_\"),N108,IF(P108=\"\",\"\",(CONCATENATE(\"_\",P108)))))","v":""},null," ",{"$nulls":12},{"$f":"IF(LEN('1 - Opstart Importark'!$B$6)>0,'1 - Opstart Importark'!$B$6,\"\")","v":""},{"$f":"IF(LEN('1 - Opstart Importark'!$B$9)>0,'1 - Opstart Importark'!$B$9,\"\")","v":""},{"$nulls":19},0,"","objektnogle_"]
[97,null,{"$f":"IF('1 - Opstart Importark'!$B$6=\"\",\"\",CONCATENATE('Blokke - AMV'!$B$2,LEFT('1 - Opstart Importark'!$B$15,2),J109,IF(L109=\"\",\"\",\"-\"),L109,IF(N109=\"\",\"\",\"_\"),N109,IF(P109=\"\",\"\",(CONCATENATE(\"_\",P109)))))","v":""},null," ",{"$nulls":12},{"$f":"IF(LEN('1 - Opstart Importark'!$B$6)>0,'1 - Opstart Importark'!$B$6,\"\")","v":""},{"$f":"IF(LEN('1 - Opstart Importark'!$B$9)>0,'1 - Opstart Importark'!$B$9,\"\")","v":""},{"$nulls":19},0,"","objektnogle_"]
[98,null,{"$f":"IF('1 - Opstart Importark'!$B$6=\"\",\"\",CONCATENATE('Blokke - AMV'!$B$2,LEFT('1 - Opstart Importark'!$B$15,2),J110,IF(L110=\"\",\"\",\"-\"),L110,IF(N110=\"\",\"\",\"_\"),N110,IF(P110=\"\",\"\",(CONCATENATE(\"_\",P110)))))","v":""},null," ",{"$nulls":12},{"$f":"IF(LEN('1 - Opstart Importark'!$B$6)>0,'1 - Opstart Importark'!$B$6,\"\")","v":""},{"$f":"IF(LEN('1 - Opstart Importark'!$B$9)>0,'1 - Opstart Importark'!$B$9,\"\")","v":""},{"$nulls":19},0,"","objektnogle_"]
[99,null,{"$f":"IF('1 - Opstart Importark'!$B$6=\"\",\"\",CONCATENATE('Blokke - AMV'!$B$2,LEFT('1 - Opstart Importark'!$B$15,2),J111,IF(L111=\"\",\"\",\"-\"),L111,IF(N111=\"\",\"\",\"_\"),N111,IF(P111=\"\",\"\",(CONCATENATE(\"_\",P111)))))","v":""},null," ",{"$nulls":12},{"$f":"IF(LEN('1 - Opstart Importark'!$B$6)>0,'1 - Opstart Importark'!$B$6,\"\")","v":""},{"$f":"IF(LEN('1 - Opstart Importark'!$B$9)>0,'1 - Opstart Importark'!$B$9,\"\")","v":""},{"$nulls":19},0,"","objektnogle_"]
[100,null,{"$f":"IF('1 - Opstart Importark'!$B$6=\"\",\"\",CONCATENATE('Blokke - AMV'!$B$2,LEFT('1 - Opstart Importark'!$B$15,2),J112,IF(L112=\"\",\"\",\"-\"),L112,IF(N112=\"\",\"\",\"_\"),N112,IF(P112=\"\",\"\",(CONCATENATE(\"_\",P112)))))","v":""},null," ",{"$nulls":12},{"$f":"IF(LEN('1 - Opstart Importark'!$B$6)>0,'1 - Opstart Importark'!$B$6,\"\")","v":""},{"$f":"IF(LEN('1 - Opstart Importark'!$B$9)>0,'1 - Opstart Importark'!$B$9,\"\")","v":""},{"$nulls":19},0,"","objektnogle_"]
[101,null,{"$f":"IF('1 - Opstart Importark'!$B$6=\"\",\"\",CONCATENATE('Blokke - AMV'!$B$2,LEFT('1 - Opstart Importark'!$B$15,2),J113,IF(L113=\"\",\"\",\"-\"),L113,IF(N113=\"\",\"\",\"_\"),N113,IF(P113=\"\",\"\",(CONCATENATE(\"_\",P113)))))","v":""},null," ",{"$nulls":12},{"$f":"IF(LEN('1 - Opstart Importark'!$B$6)>0,'1 - Opstart Importark'!$B$6,\"\")","v":""},{"$f":"IF(LEN('1 - Opstart Importark'!$B$9)>0,'1 - Opstart Importark'!$B$9,\"\")","v":""},{"$nulls":19},0,"","objektnogle_"]
[102,null,{"$f":"IF('1 - Opstart Importark'!$B$6=\"\",\"\",CONCATENATE('Blokke - AMV'!$B$2,LEFT('1 - Opstart Importark'!$B$15,2),J114,IF(L114=\"\",\"\",\"-\"),L114,IF(N114=\"\",\"\",\"_\"),N114,IF(P114=\"\",\"\",(CONCATENATE(\"_\",P114)))))","v":""},null," ",{"$nulls":12},{"$f":"IF(LEN('1 - Opstart Importark'!$B$6)>0,'1 - Opstart Importark'!$B$6,\"\")","v":""},{"$f":"IF(LEN('1 - Opstart Importark'!$B$9)>0,'1 - Opstart Importark'!$B$9,\"\")","v":""},{"$nulls":19},0,"","objektnogle_"]
[103,null,{"$f":"IF('1 - Opstart Importark'!$B$6=\"\",\"\",CONCATENATE('Blokke - AMV'!$B$2,LEFT('1 - Opstart Importark'!$B$15,2),J115,IF(L115=\"\",\"\",\"-\"),L115,IF(N115=\"\",\"\",\"_\"),N115,IF(P115=\"\",\"\",(CONCATENATE(\"_\",P115)))))","v":""},null," ",{"$nulls":12},{"$f":"IF(LEN('1 - Opstart Importark'!$B$6)>0,'1 - Opstart Importark'!$B$6,\"\")","v":""},{"$f":"IF(LEN('1 - Opstart Importark'!$B$9)>0,'1 - Opstart Importark'!$B$9,\"\")","v":""},{"$nulls":19},0,"","objektnogle_"]
[104,null,{"$f":"IF('1 - Opstart Importark'!$B$6=\"\",\"\",CONCATENATE('Blokke - AMV'!$B$2,LEFT('1 - Opstart Importark'!$B$15,2),J116,IF(L116=\"\",\"\",\"-\"),L116,IF(N116=\"\",\"\",\"_\"),N116,IF(P116=\"\",\"\",(CONCATENATE(\"_\",P116)))))","v":""},null," ",{"$nulls":12},{"$f":"IF(LEN('1 - Opstart Importark'!$B$6)>0,'1 - Opstart Importark'!$B$6,\"\")","v":""},{"$f":"IF(LEN('1 - Opstart Importark'!$B$9)>0,'1 - Opstart Importark'!$B$9,\"\")","v":""},{"$nulls":19},0,"","objektnogle_"]
[105,null,{"$f":"IF('1 - Opstart Importark'!$B$6=\"\",\"\",CONCATENATE('Blokke - AMV'!$B$2,LEFT('1 - Opstart Importark'!$B$15,2),J117,IF(L117=\"\",\"\",\"-\"),L117,IF(N117=\"\",\"\",\"_\"),N117,IF(P117=\"\",\"\",(CONCATENATE(\"_\",P117)))))","v":""},null," ",{"$nulls":12},{"$f":"IF(LEN('1 - Opstart Importark'!$B$6)>0,'1 - Opstart Importark'!$B$6,\"\")","v":""},{"$f":"IF(LEN('1 - Opstart Importark'!$B$9)>0,'1 - Opstart Importark'!$B$9,\"\")","v":""},{"$nulls":19},0,"","objektnogle_"]
[106,null,{"$f":"IF('1 - Opstart Importark'!$B$6=\"\",\"\",CONCATENATE('Blokke - AMV'!$B$2,LEFT('1 - Opstart Importark'!$B$15,2),J118,IF(L118=\"\",\"\",\"-\"),L118,IF(N118=\"\",\"\",\"_\"),N118,IF(P118=\"\",\"\",(CONCATENATE(\"_\",P118)))))","v":""},null," ",{"$nulls":12},{"$f":"IF(LEN('1 - Opstart Importark'!$B$6)>0,'1 - Opstart Importark'!$B$6,\"\")","v":""},{"$f":"IF(LEN('1 - Opstart Importark'!$B$9)>0,'1 - Opstart Importark'!$B$9,\"\")","v":""},{"$nulls":19},0,"","objektnogle_"]
[107,null,{"$f":"IF('1 - Opstart Importark'!$B$6=\"\",\"\",CONCATENATE('Blokke - AMV'!$B$2,LEFT('1 - Opstart Importark'!$B$15,2),J119,IF(L119=\"\",\"\",\"-\"),L119,IF(N119=\"\",\"\",\"_\"),N119,IF(P119=\"\",\"\",(CONCATENATE(\"_\",P119)))))","v":""},null," ",{"$nulls":12},{"$f":"IF(LEN('1 - Opstart Importark'!$B$6)>0,'1 - Opstart Importark'!$B$6,\"\")","v":""},{"$f":"IF(LEN('1 - Opstart Importark'!$B$9)>0,'1 - Opstart Importark'!$B$9,\"\")","v":""},{"$nulls":19},0,"","objektnogle_"]
[108,null,{"$f":"IF('1 - Opstart Importark'!$B$6=\"\",\"\",CONCATENATE('Blokke - AMV'!$B$2,LEFT('1 - Opstart Importark'!$B$15,2),J120,IF(L120=\"\",\"\",\"-\"),L120,IF(N120=\"\",\"\",\"_\"),N120,IF(P120=\"\",\"\",(CONCATENATE(\"_\",P120)))))","v":""},null," ",{"$nulls":12},{"$f":"IF(LEN('1 - Opstart Importark'!$B$6)>0,'1 - Opstart Importark'!$B$6,\"\")","v":""},{"$f":"IF(LEN('1 - Opstart Importark'!$B$9)>0,'1 - Opstart Importark'!$B$9,\"\")","v":""},{"$nulls":19},0,"","objektnogle_"]
[109,null,{"$f":"IF('1 - Opstart Importark'!$B$6=\"\",\"\",CONCATENATE('Blokke - AMV'!$B$2,LEFT('1 - Opstart Importark'!$B$15,2),J121,IF(L121=\"\",\"\",\"-\"),L121,IF(N121=\"\",\"\",\"_\"),N121,IF(P121=\"\",\"\",(CONCATENATE(\"_\",P121)))))","v":""},null," ",{"$nulls":12},{"$f":"IF(LEN('1 - Opstart Importark'!$B$6)>0,'1 - Opstart Importark'!$B$6,\"\")","v":""},{"$f":"IF(LEN('1 - Opstart Importark'!$B$9)>0,'1 - Opstart Importark'!$B$9,\"\")","v":""},{"$nulls":19},0,"","objektnogle_"]
[110,null,{"$f":"IF('1 - Opstart Importark'!$B$6=\"\",\"\",CONCATENATE('Blokke - AMV'!$B$2,LEFT('1 - Opstart Importark'!$B$15,2),J122,IF(L122=\"\",\"\",\"-\"),L122,IF(N122=\"\",\"\",\"_\"),N122,IF(P122=\"\",\"\",(CONCATENATE(\"_\",P122)))))","v":""},null," ",{"$nulls":12},{"$f":"IF(LEN('1 - Opstart Importark'!$B$6)>0,'1 - Opstart Importark'!$B$6,\"\")","v":""},{"$f":"IF(LEN('1 - Opstart Importark'!$B$9)>0,'1 - Opstart Importark'!$B$9,\"\")","v":""},{"$nulls":19},0,"","objektnogle_"]
[111,null,{"$f":"IF('1 - Opstart Importark'!$B$6=\"\",\"\",CONCATENATE('Blokke - AMV'!$B$2,LEFT('1 - Opstart Importark'!$B$15,2),J123,IF(L123=\"\",\"\",\"-\"),L123,IF(N123=\"\",\"\",\"_\"),N123,IF(P123=\"\",\"\",(CONCATENATE(\"_\",P123)))))","v":""},null," ",{"$nulls":12},{"$f":"IF(LEN('1 - Opstart Importark'!$B$6)>0,'1 - Opstart Importark'!$B$6,\"\")","v":""},{"$f":"IF(LEN('1 - Opstart Importark'!$B$9)>0,'1 - Opstart Importark'!$B$9,\"\")","v":""},{"$nulls":19},0,"","objektnogle_"]
[112,null,{"$f":"IF('1 - Opstart Importark'!$B$6=\"\",\"\",CONCATENATE('Blokke - AMV'!$B$2,LEFT('1 - Opstart Importark'!$B$15,2),J124,IF(L124=\"\",\"\",\"-\"),L124,IF(N124=\"\",\"\",\"_\"),N124,IF(P124=\"\",\"\",(CONCATENATE(\"_\",P124)))))","v":""},null," ",{"$nulls":12},{"$f":"IF(LEN('1 - Opstart Importark'!$B$6)>0,'1 - Opstart Importark'!$B$6,\"\")","v":""},{"$f":"IF(LEN('1 - Opstart Importark'!$B$9)>0,'1 - Opstart Importark'!$B$9,\"\")","v":""},{"$nulls":19},0,"","objektnogle_"]
[113,null,{"$f":"IF('1 - Opstart Importark'!$B$6=\"\",\"\",CONCATENATE('Blokke - AMV'!$B$2,LEFT('1 - Opstart Importark'!$B$15,2),J125,IF(L125=\"\",\"\",\"-\"),L125,IF(N125=\"\",\"\",\"_\"),N125,IF(P125=\"\",\"\",(CONCATENATE(\"_\",P125)))))","v":""},null," ",{"$nulls":12},{"$f":"IF(LEN('1 - Opstart Importark'!$B$6)>0,'1 - Opstart Importark'!$B$6,\"\")","v":""},{"$f":"IF(LEN('1 - Opstart Importark'!$B$9)>0,'1 - Opstart Importark'!$B$9,\"\")","v":""},{"$nulls":19},0,"","objektnogle_"]
[114,null,{"$f":"IF('1 - Opstart Importark'!$B$6=\"\",\"\",CONCATENATE('Blokke - AMV'!$B$2,LEFT('1 - Opstart Importark'!$B$15,2),J126,IF(L126=\"\",\"\",\"-\"),L126,IF(N126=\"\",\"\",\"_\"),N126,IF(P126=\"\",\"\",(CONCATENATE(\"_\",P126)))))","v":""},null," ",{"$nulls":12},{"$f":"IF(LEN('1 - Opstart Importark'!$B$6)>0,'1 - Opstart Importark'!$B$6,\"\")","v":""},{"$f":"IF(LEN('1 - Opstart Importark'!$B$9)>0,'1 - Opstart Importark'!$B$9,\"\")","v":""},{"$nulls":19},0,"","objektnogle_"]
[115,null,{"$f":"IF('1 - Opstart Importark'!$B$6=\"\",\"\",CONCATENATE('Blokke - AMV'!$B$2,LEFT('1 - Opstart Importark'!$B$15,2),J127,IF(L127=\"\",\"\",\"-\"),L127,IF(N127=\"\",\"\",\"_\"),N127,IF(P127=\"\",\"\",(CONCATENATE(\"_\",P127)))))","v":""},null," ",{"$nulls":12},{"$f":"IF(LEN('1 - Opstart Importark'!$B$6)>0,'1 - Opstart Importark'!$B$6,\"\")","v":""},{"$f":"IF(LEN('1 - Opstart Importark'!$B$9)>0,'1 - Opstart Importark'!$B$9,\"\")","v":""},{"$nulls":19},0,"","objektnogle_"]
[116,null,{"$f":"IF('1 - Opstart Importark'!$B$6=\"\",\"\",CONCATENATE('Blokke - AMV'!$B$2,LEFT('1 - Opstart Importark'!$B$15,2),J128,IF(L128=\"\",\"\",\"-\"),L128,IF(N128=\"\",\"\",\"_\"),N128,IF(P128=\"\",\"\",(CONCATENATE(\"_\",P128)))))","v":""},null," ",{"$nulls":12},{"$f":"IF(LEN('1 - Opstart Importark'!$B$6)>0,'1 - Opstart Importark'!$B$6,\"\")","v":""},{"$f":"IF(LEN('1 - Opstart Importark'!$B$9)>0,'1 - Opstart Importark'!$B$9,\"\")","v":""},{"$nulls":19},0,"","objektnogle_"]
[117,null,{"$f":"IF('1 - Opstart Importark'!$B$6=\"\",\"\",CONCATENATE('Blokke - AMV'!$B$2,LEFT('1 - Opstart Importark'!$B$15,2),J129,IF(L129=\"\",\"\",\"-\"),L129,IF(N129=\"\",\"\",\"_\"),N129,IF(P129=\"\",\"\",(CONCATENATE(\"_\",P129)))))","v":""},null," ",{"$nulls":12},{"$f":"IF(LEN('1 - Opstart Importark'!$B$6)>0,'1 - Opstart Importark'!$B$6,\"\")","v":""},{"$f":"IF(LEN('1 - Opstart Importark'!$B$9)>0,'1 - Opstart Importark'!$B$9,\"\")","v":""},{"$nulls":19},0,"","objektnogle_"]
[118,null,{"$f":"IF('1 - Opstart Importark'!$B$6=\"\",\"\",CONCATENATE('Blokke - AMV'!$B$2,LEFT('1 - Opstart Importark'!$B$15,2),J130,IF(L130=\"\",\"\",\"-\"),L130,IF(N130=\"\",\"\",\"_\"),N130,IF(P130=\"\",\"\",(CONCATENATE(\"_\",P130)))))","v":""},null," ",{"$nulls":12},{"$f":"IF(LEN('1 - Opstart Importark'!$B$6)>0,'1 - Opstart Importark'!$B$6,\"\")","v":""},{"$f":"IF(LEN('1 - Opstart Importark'!$B$9)>0,'1 - Opstart Importark'!$B$9,\"\")","v":""},{"$nulls":19},0,"","objektnogle_"]
[119,null,{"$f":"IF('1 - Opstart Importark'!$B$6=\"\",\"\",CONCATENATE('Blokke - AMV'!$B$2,LEFT('1 - Opstart Importark'!$B$15,2),J131,IF(L131=\"\",\"\",\"-\"),L131,IF(N131=\"\",\"\",\"_\"),N131,IF(P131=\"\",\"\",(CONCATENATE(\"_\",P131)))))","v":""},null," ",{"$nulls":12},{"$f":"IF(LEN('1 - Opstart Importark'!$B$6)>0,'1 - Opstart Importark'!$B$6,\"\")","v":""},{"$f":"IF(LEN('1 - Opstart Importark'!$B$9)>0,'1 - Opstart Importark'!$B$9,\"\")","v":""},{"$nulls":19},0,"","objektnogle_"]
[120,null,{"$f":"IF('1 - Opstart Importark'!$B$6=\"\",\"\",CONCATENATE('Blokke - AMV'!$B$2,LEFT('1 - Opstart Importark'!$B$15,2),J132,IF(L132=\"\",\"\",\"-\"),L132,IF(N132=\"\",\"\",\"_\"),N132,IF(P132=\"\",\"\",(CONCATENATE(\"_\",P132)))))","v":""},null," ",{"$nulls":12},{"$f":"IF(LEN('1 - Opstart Importark'!$B$6)>0,'1 - Opstart Importark'!$B$6,\"\")","v":""},{"$f":"IF(LEN('1 - Opstart Importark'!$B$9)>0,'1 - Opstart Importark'!$B$9,\"\")","v":""},{"$nulls":19},0,"","objektnogle_"]
[121,null,{"$f":"IF('1 - Opstart Importark'!$B$6=\"\",\"\",CONCATENATE('Blokke - AMV'!$B$2,LEFT('1 - Opstart Importark'!$B$15,2),J133,IF(L133=\"\",\"\",\"-\"),L133,IF(N133=\"\",\"\",\"_\"),N133,IF(P133=\"\",\"\",(CONCATENATE(\"_\",P133)))))","v":""},null," ",{"$nulls":12},{"$f":"IF(LEN('1 - Opstart Importark'!$B$6)>0,'1 - Opstart Importark'!$B$6,\"\")","v":""},{"$f":"IF(LEN('1 - Opstart Importark'!$B$9)>0,'1 - Opstart Importark'!$B$9,\"\")","v":""},{"$nulls":19},0,"","objektnogle_"]
[122,null,{"$f":"IF('1 - Opstart Importark'!$B$6=\"\",\"\",CONCATENATE('Blokke - AMV'!$B$2,LEFT('1 - Opstart Importark'!$B$15,2),J134,IF(L134=\"\",\"\",\"-\"),L134,IF(N134=\"\",\"\",\"_\"),N134,IF(P134=\"\",\"\",(CONCATENATE(\"_\",P134)))))","v":""},null," ",{"$nulls":12},{"$f":"IF(LEN('1 - Opstart Importark'!$B$6)>0,'1 - Opstart Importark'!$B$6,\"\")","v":""},{"$f":"IF(LEN('1 - Opstart Importark'!$B$9)>0,'1 - Opstart Importark'!$B$9,\"\")","v":""},{"$nulls":19},0,"","objektnogle_"]
[123,null,{"$f":"IF('1 - Opstart Importark'!$B$6=\"\",\"\",CONCATENATE('Blokke - AMV'!$B$2,LEFT('1 - Opstart Importark'!$B$15,2),J135,IF(L135=\"\",\"\",\"-\"),L135,IF(N135=\"\",\"\",\"_\"),N135,IF(P135=\"\",\"\",(CONCATENATE(\"_\",P135)))))","v":""},null," ",{"$nulls":12},{"$f":"IF(LEN('1 - Opstart Importark'!$B$6)>0,'1 - Opstart Importark'!$B$6,\"\")","v":""},{"$f":"IF(LEN('1 - Opstart Importark'!$B$9)>0,'1 - Opstart Importark'!$B$9,\"\")","v":""},{"$nulls":19},0,"","objektnogle_"]
[124,null,{"$f":"IF('1 - Opstart Importark'!$B$6=\"\",\"\",CONCATENATE('Blokke - AMV'!$B$2,LEFT('1 - Opstart Importark'!$B$15,2),J136,IF(L136=\"\",\"\",\"-\"),L136,IF(N136=\"\",\"\",\"_\"),N136,IF(P136=\"\",\"\",(CONCATENATE(\"_\",P136)))))","v":""},null," ",{"$nulls":12},{"$f":"IF(LEN('1 - Opstart Importark'!$B$6)>0,'1 - Opstart Importark'!$B$6,\"\")","v":""},{"$f":"IF(LEN('1 - Opstart Importark'!$B$9)>0,'1 - Opstart Importark'!$B$9,\"\")","v":""},{"$nulls":19},0,"","objektnogle_"]
[125,null,{"$f":"IF('1 - Opstart Importark'!$B$6=\"\",\"\",CONCATENATE('Blokke - AMV'!$B$2,LEFT('1 - Opstart Importark'!$B$15,2),J137,IF(L137=\"\",\"\",\"-\"),L137,IF(N137=\"\",\"\",\"_\"),N137,IF(P137=\"\",\"\",(CONCATENATE(\"_\",P137)))))","v":""},null," ",{"$nulls":12},{"$f":"IF(LEN('1 - Opstart Importark'!$B$6)>0,'1 - Opstart Importark'!$B$6,\"\")","v":""},{"$f":"IF(LEN('1 - Opstart Importark'!$B$9)>0,'1 - Opstart Importark'!$B$9,\"\")","v":""},{"$nulls":19},0,"","objektnogle_"]
[126,null,{"$f":"IF('1 - Opstart Importark'!$B$6=\"\",\"\",CONCATENATE('Blokke - AMV'!$B$2,LEFT('1 - Opstart Importark'!$B$15,2),J138,IF(L138=\"\",\"\",\"-\"),L138,IF(N138=\"\",\"\",\"_\"),N138,IF(P138=\"\",\"\",(CONCATENATE(\"_\",P138)))))","v":""},null," ",{"$nulls":12},{"$f":"IF(LEN('1 - Opstart Importark'!$B$6)>0,'1 - Opstart Importark'!$B$6,\"\")","v":""},{"$f":"IF(LEN('1 - Opstart Importark'!$B$9)>0,'1 - Opstart Importark'!$B$9,\"\")","v":""},{"$nulls":19},0,"","objektnogle_"]
[127,null,{"$f":"IF('1 - Opstart Importark'!$B$6=\"\",\"\",CONCATENATE('Blokke - AMV'!$B$2,LEFT('1 - Opstart Importark'!$B$15,2),J139,IF(L139=\"\",\"\",\"-\"),L139,IF(N139=\"\",\"\",\"_\"),N139,IF(P139=\"\",\"\",(CONCATENATE(\"_\",P139)))))","v":""},null," ",{"$nulls":12},{"$f":"IF(LEN('1 - Opstart Importark'!$B$6)>0,'1 - Opstart Importark'!$B$6,\"\")","v":""},{"$f":"IF(LEN('1 - Opstart Importark'!$B$9)>0,'1 - Opstart Importark'!$B$9,\"\")","v":""},{"$nulls":19},0,"","objektnogle_"]
[128,null,{"$f":"IF('1 - Opstart Importark'!$B$6=\"\",\"\",CONCATENATE('Blokke - AMV'!$B$2,LEFT('1 - Opstart Importark'!$B$15,2),J140,IF(L140=\"\",\"\",\"-\"),L140,IF(N140=\"\",\"\",\"_\"),N140,IF(P140=\"\",\"\",(CONCATENATE(\"_\",P140)))))","v":""},null," ",{"$nulls":12},{"$f":"IF(LEN('1 - Opstart Importark'!$B$6)>0,'1 - Opstart Importark'!$B$6,\"\")","v":""},{"$f":"IF(LEN('1 - Opstart Importark'!$B$9)>0,'1 - Opstart Importark'!$B$9,\"\")","v":""},{"$nulls":19},0,"","objektnogle_"]
[129,null,{"$f":"IF('1 - Opstart Importark'!$B$6=\"\",\"\",CONCATENATE('Blokke - AMV'!$B$2,LEFT('1 - Opstart Importark'!$B$15,2),J141,IF(L141=\"\",\"\",\"-\"),L141,IF(N141=\"\",\"\",\"_\"),N141,IF(P141=\"\",\"\",(CONCATENATE(\"_\",P141)))))","v":""},null," ",{"$nulls":12},{"$f":"IF(LEN('1 - Opstart Importark'!$B$6)>0,'1 - Opstart Importark'!$B$6,\"\")","v":""},{"$f":"IF(LEN('1 - Opstart Importark'!$B$9)>0,'1 - Opstart Importark'!$B$9,\"\")","v":""},{"$nulls":19},{"$f":"IFERROR(FIND(\".\",G141),)","v":0},{"$f":"IF(L141=\"\",\"\",IF(LEFT(L141,1)=\"E\",0,1))","v":""},{"$f":"CONCATENATE(\"objektnogle_\",LEFT(L141,1))","v":"objektnogle_"}]
[130,null,{"$f":"IF('1 - Opstart Importark'!$B$6=\"\",\"\",CONCATENATE('Blokke - AMV'!$B$2,LEFT('1 - Opstart Importark'!$B$15,2),J142,IF(L142=\"\",\"\",\"-\"),L142,IF(N142=\"\",\"\",\"_\"),N142,IF(P142=\"\",\"\",(CONCATENATE(\"_\",P142)))))","v":""},null," ",{"$nulls":12},{"$f":"IF(LEN('1 - Opstart Importark'!$B$6)>0,'1 - Opstart Importark'!$B$6,\"\")","v":""},{"$f":"IF(LEN('1 - Opstart Importark'!$B$9)>0,'1 - Opstart Importark'!$B$9,\"\")","v":""},{"$nulls":19},0,"","objektnogle_"]
[131,null,{"$f":"IF('1 - Opstart Importark'!$B$6=\"\",\"\",CONCATENATE('Blokke - AMV'!$B$2,LEFT('1 - Opstart Importark'!$B$15,2),J143,IF(L143=\"\",\"\",\"-\"),L143,IF(N143=\"\",\"\",\"_\"),N143,IF(P143=\"\",\"\",(CONCATENATE(\"_\",P143)))))","v":""},null," ",{"$nulls":12},{"$f":"IF(LEN('1 - Opstart Importark'!$B$6)>0,'1 - Opstart Importark'!$B$6,\"\")","v":""},{"$f":"IF(LEN('1 - Opstart Importark'!$B$9)>0,'1 - Opstart Importark'!$B$9,\"\")","v":""},{"$nulls":19},0,"","objektnogle_"]
[132,null,{"$f":"IF('1 - Opstart Importark'!$B$6=\"\",\"\",CONCATENATE('Blokke - AMV'!$B$2,LEFT('1 - Opstart Importark'!$B$15,2),J144,IF(L144=\"\",\"\",\"-\"),L144,IF(N144=\"\",\"\",\"_\"),N144,IF(P144=\"\",\"\",(CONCATENATE(\"_\",P144)))))","v":""},null," ",{"$nulls":12},{"$f":"IF(LEN('1 - Opstart Importark'!$B$6)>0,'1 - Opstart Importark'!$B$6,\"\")","v":""},{"$f":"IF(LEN('1 - Opstart Importark'!$B$9)>0,'1 - Opstart Importark'!$B$9,\"\")","v":""},{"$nulls":19},0,"","objektnogle_"]
[133,null,{"$f":"IF('1 - Opstart Importark'!$B$6=\"\",\"\",CONCATENATE('Blokke - AMV'!$B$2,LEFT('1 - Opstart Importark'!$B$15,2),J145,IF(L145=\"\",\"\",\"-\"),L145,IF(N145=\"\",\"\",\"_\"),N145,IF(P145=\"\",\"\",(CONCATENATE(\"_\",P145)))))","v":""},null," ",{"$nulls":12},{"$f":"IF(LEN('1 - Opstart Importark'!$B$6)>0,'1 - Opstart Importark'!$B$6,\"\")","v":""},{"$f":"IF(LEN('1 - Opstart Importark'!$B$9)>0,'1 - Opstart Importark'!$B$9,\"\")","v":""},{"$nulls":19},0,"","objektnogle_"]
[134,null,{"$f":"IF('1 - Opstart Importark'!$B$6=\"\",\"\",CONCATENATE('Blokke - AMV'!$B$2,LEFT('1 - Opstart Importark'!$B$15,2),J146,IF(L146=\"\",\"\",\"-\"),L146,IF(N146=\"\",\"\",\"_\"),N146,IF(P146=\"\",\"\",(CONCATENATE(\"_\",P146)))))","v":""},null," ",{"$nulls":12},{"$f":"IF(LEN('1 - Opstart Importark'!$B$6)>0,'1 - Opstart Importark'!$B$6,\"\")","v":""},{"$f":"IF(LEN('1 - Opstart Importark'!$B$9)>0,'1 - Opstart Importark'!$B$9,\"\")","v":""},{"$nulls":19},0,"","objektnogle_"]
[135,null,{"$f":"IF('1 - Opstart Importark'!$B$6=\"\",\"\",CONCATENATE('Blokke - AMV'!$B$2,LEFT('1 - Opstart Importark'!$B$15,2),J147,IF(L147=\"\",\"\",\"-\"),L147,IF(N147=\"\",\"\",\"_\"),N147,IF(P147=\"\",\"\",(CONCATENATE(\"_\",P147)))))","v":""},null," ",{"$nulls":12},{"$f":"IF(LEN('1 - Opstart Importark'!$B$6)>0,'1 - Opstart Importark'!$B$6,\"\")","v":""},{"$f":"IF(LEN('1 - Opstart Importark'!$B$9)>0,'1 - Opstart Importark'!$B$9,\"\")","v":""},{"$nulls":19},0,"","objektnogle_"]
[136,null,{"$f":"IF('1 - Opstart Importark'!$B$6=\"\",\"\",CONCATENATE('Blokke - AMV'!$B$2,LEFT('1 - Opstart Importark'!$B$15,2),J148,IF(L148=\"\",\"\",\"-\"),L148,IF(N148=\"\",\"\",\"_\"),N148,IF(P148=\"\",\"\",(CONCATENATE(\"_\",P148)))))","v":""},null," ",{"$nulls":12},{"$f":"IF(LEN('1 - Opstart Importark'!$B$6)>0,'1 - Opstart Importark'!$B$6,\"\")","v":""},{"$f":"IF(LEN('1 - Opstart Importark'!$B$9)>0,'1 - Opstart Importark'!$B$9,\"\")","v":""},{"$nulls":19},0,"","objektnogle_"]
[137,null,{"$f":"IF('1 - Opstart Importark'!$B$6=\"\",\"\",CONCATENATE('Blokke - AMV'!$B$2,LEFT('1 - Opstart Importark'!$B$15,2),J149,IF(L149=\"\",\"\",\"-\"),L149,IF(N149=\"\",\"\",\"_\"),N149,IF(P149=\"\",\"\",(CONCATENATE(\"_\",P149)))))","v":""},null," ",{"$nulls":12},{"$f":"IF(LEN('1 - Opstart Importark'!$B$6)>0,'1 - Opstart Importark'!$B$6,\"\")","v":""},{"$f":"IF(LEN('1 - Opstart Importark'!$B$9)>0,'1 - Opstart Importark'!$B$9,\"\")","v":""},{"$nulls":19},0,"","objektnogle_"]
[138,null,{"$f":"IF('1 - Opstart Importark'!$B$6=\"\",\"\",CONCATENATE('Blokke - AMV'!$B$2,LEFT('1 - Opstart Importark'!$B$15,2),J150,IF(L150=\"\",\"\",\"-\"),L150,IF(N150=\"\",\"\",\"_\"),N150,IF(P150=\"\",\"\",(CONCATENATE(\"_\",P150)))))","v":""},null," ",{"$nulls":12},{"$f":"IF(LEN('1 - Opstart Importark'!$B$6)>0,'1 - Opstart Importark'!$B$6,\"\")","v":""},{"$f":"IF(LEN('1 - Opstart Importark'!$B$9)>0,'1 - Opstart Importark'!$B$9,\"\")","v":""},{"$nulls":19},0,"","objektnogle_"]
[139,null,{"$f":"IF('1 - Opstart Importark'!$B$6=\"\",\"\",CONCATENATE('Blokke - AMV'!$B$2,LEFT('1 - Opstart Importark'!$B$15,2),J151,IF(L151=\"\",\"\",\"-\"),L151,IF(N151=\"\",\"\",\"_\"),N151,IF(P151=\"\",\"\",(CONCATENATE(\"_\",P151)))))","v":""},null," ",{"$nulls":12},{"$f":"IF(LEN('1 - Opstart Importark'!$B$6)>0,'1 - Opstart Importark'!$B$6,\"\")","v":""},{"$f":"IF(LEN('1 - Opstart Importark'!$B$9)>0,'1 - Opstart Importark'!$B$9,\"\")","v":""},{"$nulls":19},0,"","objektnogle_"]
[140,null,{"$f":"IF('1 - Opstart Importark'!$B$6=\"\",\"\",CONCATENATE('Blokke - AMV'!$B$2,LEFT('1 - Opstart Importark'!$B$15,2),J152,IF(L152=\"\",\"\",\"-\"),L152,IF(N152=\"\",\"\",\"_\"),N152,IF(P152=\"\",\"\",(CONCATENATE(\"_\",P152)))))","v":""},null," ",{"$nulls":12},{"$f":"IF(LEN('1 - Opstart Importark'!$B$6)>0,'1 - Opstart Importark'!$B$6,\"\")","v":""},{"$f":"IF(LEN('1 - Opstart Importark'!$B$9)>0,'1 - Opstart Importark'!$B$9,\"\")","v":""},{"$nulls":19},0,"","objektnogle_"]
[141,null,{"$f":"IF('1 - Opstart Importark'!$B$6=\"\",\"\",CONCATENATE('Blokke - AMV'!$B$2,LEFT('1 - Opstart Importark'!$B$15,2),J153,IF(L153=\"\",\"\",\"-\"),L153,IF(N153=\"\",\"\",\"_\"),N153,IF(P153=\"\",\"\",(CONCATENATE(\"_\",P153)))))","v":""},null," ",{"$nulls":12},{"$f":"IF(LEN('1 - Opstart Importark'!$B$6)>0,'1 - Opstart Importark'!$B$6,\"\")","v":""},{"$f":"IF(LEN('1 - Opstart Importark'!$B$9)>0,'1 - Opstart Importark'!$B$9,\"\")","v":""},{"$nulls":19},0,"","objektnogle_"]
[142,null,{"$f":"IF('1 - Opstart Importark'!$B$6=\"\",\"\",CONCATENATE('Blokke - AMV'!$B$2,LEFT('1 - Opstart Importark'!$B$15,2),J154,IF(L154=\"\",\"\",\"-\"),L154,IF(N154=\"\",\"\",\"_\"),N154,IF(P154=\"\",\"\",(CONCATENATE(\"_\",P154)))))","v":""},null," ",{"$nulls":12},{"$f":"IF(LEN('1 - Opstart Importark'!$B$6)>0,'1 - Opstart Importark'!$B$6,\"\")","v":""},{"$f":"IF(LEN('1 - Opstart Importark'!$B$9)>0,'1 - Opstart Importark'!$B$9,\"\")","v":""},{"$nulls":19},0,"","objektnogle_"]
[143,null,{"$f":"IF('1 - Opstart Importark'!$B$6=\"\",\"\",CONCATENATE('Blokke - AMV'!$B$2,LEFT('1 - Opstart Importark'!$B$15,2),J155,IF(L155=\"\",\"\",\"-\"),L155,IF(N155=\"\",\"\",\"_\"),N155,IF(P155=\"\",\"\",(CONCATENATE(\"_\",P155)))))","v":""},null," ",{"$nulls":12},{"$f":"IF(LEN('1 - Opstart Importark'!$B$6)>0,'1 - Opstart Importark'!$B$6,\"\")","v":""},{"$f":"IF(LEN('1 - Opstart Importark'!$B$9)>0,'1 - Opstart Importark'!$B$9,\"\")","v":""},{"$nulls":19},0,"","objektnogle_"]
[144,null,{"$f":"IF('1 - Opstart Importark'!$B$6=\"\",\"\",CONCATENATE('Blokke - AMV'!$B$2,LEFT('1 - Opstart Importark'!$B$15,2),J156,IF(L156=\"\",\"\",\"-\"),L156,IF(N156=\"\",\"\",\"_\"),N156,IF(P156=\"\",\"\",(CONCATENATE(\"_\",P156)))))","v":""},null," ",{"$nulls":12},{"$f":"IF(LEN('1 - Opstart Importark'!$B$6)>0,'1 - Opstart Importark'!$B$6,\"\")","v":""},{"$f":"IF(LEN('1 - Opstart Importark'!$B$9)>0,'1 - Opstart Importark'!$B$9,\"\")","v":""},{"$nulls":19},0,"","objektnogle_"]
[145,null,{"$f":"IF('1 - Opstart Importark'!$B$6=\"\",\"\",CONCATENATE('Blokke - AMV'!$B$2,LEFT('1 - Opstart Importark'!$B$15,2),J157,IF(L157=\"\",\"\",\"-\"),L157,IF(N157=\"\",\"\",\"_\"),N157,IF(P157=\"\",\"\",(CONCATENATE(\"_\",P157)))))","v":""},null," ",{"$nulls":12},{"$f":"IF(LEN('1 - Opstart Importark'!$B$6)>0,'1 - Opstart Importark'!$B$6,\"\")","v":""},{"$f":"IF(LEN('1 - Opstart Importark'!$B$9)>0,'1 - Opstart Importark'!$B$9,\"\")","v":""},{"$nulls":19},0,"","objektnogle_"]
[146,null,{"$f":"IF('1 - Opstart Importark'!$B$6=\"\",\"\",CONCATENATE('Blokke - AMV'!$B$2,LEFT('1 - Opstart Importark'!$B$15,2),J158,IF(L158=\"\",\"\",\"-\"),L158,IF(N158=\"\",\"\",\"_\"),N158,IF(P158=\"\",\"\",(CONCATENATE(\"_\",P158)))))","v":""},null," ",{"$nulls":12},{"$f":"IF(LEN('1 - Opstart Importark'!$B$6)>0,'1 - Opstart Importark'!$B$6,\"\")","v":""},{"$f":"IF(LEN('1 - Opstart Importark'!$B$9)>0,'1 - Opstart Importark'!$B$9,\"\")","v":""},{"$nulls":19},0,"","objektnogle_"]
[147,null,{"$f":"IF('1 - Opstart Importark'!$B$6=\"\",\"\",CONCATENATE('Blokke - AMV'!$B$2,LEFT('1 - Opstart Importark'!$B$15,2),J159,IF(L159=\"\",\"\",\"-\"),L159,IF(N159=\"\",\"\",\"_\"),N159,IF(P159=\"\",\"\",(CONCATENATE(\"_\",P159)))))","v":""},null," ",{"$nulls":12},{"$f":"IF(LEN('1 - Opstart Importark'!$B$6)>0,'1 - Opstart Importark'!$B$6,\"\")","v":""},{"$f":"IF(LEN('1 - Opstart Importark'!$B$9)>0,'1 - Opstart Importark'!$B$9,\"\")","v":""},{"$nulls":19},0,"","objektnogle_"]
[148,null,{"$f":"IF('1 - Opstart Importark'!$B$6=\"\",\"\",CONCATENATE('Blokke - AMV'!$B$2,LEFT('1 - Opstart Importark'!$B$15,2),J160,IF(L160=\"\",\"\",\"-\"),L160,IF(N160=\"\",\"\",\"_\"),N160,IF(P160=\"\",\"\",(CONCATENATE(\"_\",P160)))))","v":""},null," ",{"$nulls":12},{"$f":"IF(LEN('1 - Opstart Importark'!$B$6)>0,'1 - Opstart Importark'!$B$6,\"\")","v":""},{"$f":"IF(LEN('1 - Opstart Importark'!$B$9)>0,'1 - Opstart Importark'!$B$9,\"\")","v":""},{"$nulls":19},0,"","objektnogle_"]
[149,null,{"$f":"IF('1 - Opstart Importark'!$B$6=\"\",\"\",CONCATENATE('Blokke - AMV'!$B$2,LEFT('1 - Opstart Importark'!$B$15,2),J161,IF(L161=\"\",\"\",\"-\"),L161,IF(N161=\"\",\"\",\"_\"),N161,IF(P161=\"\",\"\",(CONCATENATE(\"_\",P161)))))","v":""},null," ",{"$nulls":12},{"$f":"IF(LEN('1 - Opstart Importark'!$B$6)>0,'1 - Opstart Importark'!$B$6,\"\")","v":""},{"$f":"IF(LEN('1 - Opstart Importark'!$B$9)>0,'1 - Opstart Importark'!$B$9,\"\")","v":""},{"$nulls":19},0,"","objektnogle_"]
[150,null,{"$f":"IF('1 - Opstart Importark'!$B$6=\"\",\"\",CONCATENATE('Blokke - AMV'!$B$2,LEFT('1 - Opstart Importark'!$B$15,2),J162,IF(L162=\"\",\"\",\"-\"),L162,IF(N162=\"\",\"\",\"_\"),N162,IF(P162=\"\",\"\",(CONCATENATE(\"_\",P162)))))","v":""},null," ",{"$nulls":12},{"$f":"IF(LEN('1 - Opstart Importark'!$B$6)>0,'1 - Opstart Importark'!$B$6,\"\")","v":""},{"$f":"IF(LEN('1 - Opstart Importark'!$B$9)>0,'1 - Opstart Importark'!$B$9,\"\")","v":""},{"$nulls":19},0,"","objektnogle_"]
[151,null,{"$f":"IF('1 - Opstart Importark'!$B$6=\"\",\"\",CONCATENATE('Blokke - AMV'!$B$2,LEFT('1 - Opstart Importark'!$B$15,2),J163,IF(L163=\"\",\"\",\"-\"),L163,IF(N163=\"\",\"\",\"_\"),N163,IF(P163=\"\",\"\",(CONCATENATE(\"_\",P163)))))","v":""},null," ",{"$nulls":12},{"$f":"IF(LEN('1 - Opstart Importark'!$B$6)>0,'1 - Opstart Importark'!$B$6,\"\")","v":""},{"$f":"IF(LEN('1 - Opstart Importark'!$B$9)>0,'1 - Opstart Importark'!$B$9,\"\")","v":""},{"$nulls":19},0,"","objektnogle_"]
[152,null,{"$f":"IF('1 - Opstart Importark'!$B$6=\"\",\"\",CONCATENATE('Blokke - AMV'!$B$2,LEFT('1 - Opstart Importark'!$B$15,2),J164,IF(L164=\"\",\"\",\"-\"),L164,IF(N164=\"\",\"\",\"_\"),N164,IF(P164=\"\",\"\",(CONCATENATE(\"_\",P164)))))","v":""},null," ",{"$nulls":12},{"$f":"IF(LEN('1 - Opstart Importark'!$B$6)>0,'1 - Opstart Importark'!$B$6,\"\")","v":""},{"$f":"IF(LEN('1 - Opstart Importark'!$B$9)>0,'1 - Opstart Importark'!$B$9,\"\")","v":""},{"$nulls":19},0,"","objektnogle_"]
[153,null,{"$f":"IF('1 - Opstart Importark'!$B$6=\"\",\"\",CONCATENATE('Blokke - AMV'!$B$2,LEFT('1 - Opstart Importark'!$B$15,2),J165,IF(L165=\"\",\"\",\"-\"),L165,IF(N165=\"\",\"\",\"_\"),N165,IF(P165=\"\",\"\",(CONCATENATE(\"_\",P165)))))","v":""},null," ",{"$nulls":12},{"$f":"IF(LEN('1 - Opstart Importark'!$B$6)>0,'1 - Opstart Importark'!$B$6,\"\")","v":""},{"$f":"IF(LEN('1 - Opstart Importark'!$B$9)>0,'1 - Opstart Importark'!$B$9,\"\")","v":""},{"$nulls":19},0,"","objektnogle_"]
[154,null,{"$f":"IF('1 - Opstart Importark'!$B$6=\"\",\"\",CONCATENATE('Blokke - AMV'!$B$2,LEFT('1 - Opstart Importark'!$B$15,2),J166,IF(L166=\"\",\"\",\"-\"),L166,IF(N166=\"\",\"\",\"_\"),N166,IF(P166=\"\",\"\",(CONCATENATE(\"_\",P166)))))","v":""},null," ",{"$nulls":12},{"$f":"IF(LEN('1 - Opstart Importark'!$B$6)>0,'1 - Opstart Importark'!$B$6,\"\")","v":""},{"$f":"IF(LEN('1 - Opstart Importark'!$B$9)>0,'1 - Opstart Importark'!$B$9,\"\")","v":""},{"$nulls":19},0,"","objektnogle_"]
[155,null,{"$f":"IF('1 - Opstart Importark'!$B$6=\"\",\"\",CONCATENATE('Blokke - AMV'!$B$2,LEFT('1 - Opstart Importark'!$B$15,2),J167,IF(L167=\"\",\"\",\"-\"),L167,IF(N167=\"\",\"\",\"_\"),N167,IF(P167=\"\",\"\",(CONCATENATE(\"_\",P167)))))","v":""},null," ",{"$nulls":12},{"$f":"IF(LEN('1 - Opstart Importark'!$B$6)>0,'1 - Opstart Importark'!$B$6,\"\")","v":""},{"$f":"IF(LEN('1 - Opstart Importark'!$B$9)>0,'1 - Opstart Importark'!$B$9,\"\")","v":""},{"$nulls":19},0,"","objektnogle_"]
[156,null,{"$f":"IF('1 - Opstart Importark'!$B$6=\"\",\"\",CONCATENATE('Blokke - AMV'!$B$2,LEFT('1 - Opstart Importark'!$B$15,2),J168,IF(L168=\"\",\"\",\"-\"),L168,IF(N168=\"\",\"\",\"_\"),N168,IF(P168=\"\",\"\",(CONCATENATE(\"_\",P168)))))","v":""},null," ",{"$nulls":12},{"$f":"IF(LEN('1 - Opstart Importark'!$B$6)>0,'1 - Opstart Importark'!$B$6,\"\")","v":""},{"$f":"IF(LEN('1 - Opstart Importark'!$B$9)>0,'1 - Opstart Importark'!$B$9,\"\")","v":""},{"$nulls":19},0,"","objektnogle_"]
[157,null,{"$f":"IF('1 - Opstart Importark'!$B$6=\"\",\"\",CONCATENATE('Blokke - AMV'!$B$2,LEFT('1 - Opstart Importark'!$B$15,2),J169,IF(L169=\"\",\"\",\"-\"),L169,IF(N169=\"\",\"\",\"_\"),N169,IF(P169=\"\",\"\",(CONCATENATE(\"_\",P169)))))","v":""},null," ",{"$nulls":12},{"$f":"IF(LEN('1 - Opstart Importark'!$B$6)>0,'1 - Opstart Importark'!$B$6,\"\")","v":""},{"$f":"IF(LEN('1 - Opstart Importark'!$B$9)>0,'1 - Opstart Importark'!$B$9,\"\")","v":""},{"$nulls":19},0,"","objektnogle_"]
[158,null,{"$f":"IF('1 - Opstart Importark'!$B$6=\"\",\"\",CONCATENATE('Blokke - AMV'!$B$2,LEFT('1 - Opstart Importark'!$B$15,2),J170,IF(L170=\"\",\"\",\"-\"),L170,IF(N170=\"\",\"\",\"_\"),N170,IF(P170=\"\",\"\",(CONCATENATE(\"_\",P170)))))","v":""},null," ",{"$nulls":12},{"$f":"IF(LEN('1 - Opstart Importark'!$B$6)>0,'1 - Opstart Importark'!$B$6,\"\")","v":""},{"$f":"IF(LEN('1 - Opstart Importark'!$B$9)>0,'1 - Opstart Importark'!$B$9,\"\")","v":""},{"$nulls":19},0,"","objektnogle_"]
[159,null,{"$f":"IF('1 - Opstart Importark'!$B$6=\"\",\"\",CONCATENATE('Blokke - AMV'!$B$2,LEFT('1 - Opstart Importark'!$B$15,2),J171,IF(L171=\"\",\"\",\"-\"),L171,IF(N171=\"\",\"\",\"_\"),N171,IF(P171=\"\",\"\",(CONCATENATE(\"_\",P171)))))","v":""},null," ",{"$nulls":12},{"$f":"IF(LEN('1 - Opstart Importark'!$B$6)>0,'1 - Opstart Importark'!$B$6,\"\")","v":""},{"$f":"IF(LEN('1 - Opstart Importark'!$B$9)>0,'1 - Opstart Importark'!$B$9,\"\")","v":""},{"$nulls":19},0,"","objektnogle_"]
[160,null,{"$f":"IF('1 - Opstart Importark'!$B$6=\"\",\"\",CONCATENATE('Blokke - AMV'!$B$2,LEFT('1 - Opstart Importark'!$B$15,2),J172,IF(L172=\"\",\"\",\"-\"),L172,IF(N172=\"\",\"\",\"_\"),N172,IF(P172=\"\",\"\",(CONCATENATE(\"_\",P172)))))","v":""},null," ",{"$nulls":12},{"$f":"IF(LEN('1 - Opstart Importark'!$B$6)>0,'1 - Opstart Importark'!$B$6,\"\")","v":""},{"$f":"IF(LEN('1 - Opstart Importark'!$B$9)>0,'1 - Opstart Importark'!$B$9,\"\")","v":""},{"$nulls":19},0,"","objektnogle_"]
[161,null,{"$f":"IF('1 - Opstart Importark'!$B$6=\"\",\"\",CONCATENATE('Blokke - AMV'!$B$2,LEFT('1 - Opstart Importark'!$B$15,2),J173,IF(L173=\"\",\"\",\"-\"),L173,IF(N173=\"\",\"\",\"_\"),N173,IF(P173=\"\",\"\",(CONCATENATE(\"_\",P173)))))","v":""},null," ",{"$nulls":12},{"$f":"IF(LEN('1 - Opstart Importark'!$B$6)>0,'1 - Opstart Importark'!$B$6,\"\")","v":""},{"$f":"IF(LEN('1 - Opstart Importark'!$B$9)>0,'1 - Opstart Importark'!$B$9,\"\")","v":""},{"$nulls":19},0,"","objektnogle_"]
[162,null,{"$f":"IF('1 - Opstart Importark'!$B$6=\"\",\"\",CONCATENATE('Blokke - AMV'!$B$2,LEFT('1 - Opstart Importark'!$B$15,2),J174,IF(L174=\"\",\"\",\"-\"),L174,IF(N174=\"\",\"\",\"_\"),N174,IF(P174=\"\",\"\",(CONCATENATE(\"_\",P174)))))","v":""},null," ",{"$nulls":12},{"$f":"IF(LEN('1 - Opstart Importark'!$B$6)>0,'1 - Opstart Importark'!$B$6,\"\")","v":""},{"$f":"IF(LEN('1 - Opstart Importark'!$B$9)>0,'1 - Opstart Importark'!$B$9,\"\")","v":""},{"$nulls":19},0,"","objektnogle_"]
[163,null,{"$f":"IF('1 - Opstart Importark'!$B$6=\"\",\"\",CONCATENATE('Blokke - AMV'!$B$2,LEFT('1 - Opstart Importark'!$B$15,2),J175,IF(L175=\"\",\"\",\"-\"),L175,IF(N175=\"\",\"\",\"_\"),N175,IF(P175=\"\",\"\",(CONCATENATE(\"_\",P175)))))","v":""},null," ",{"$nulls":12},{"$f":"IF(LEN('1 - Opstart Importark'!$B$6)>0,'1 - Opstart Importark'!$B$6,\"\")","v":""},{"$f":"IF(LEN('1 - Opstart Importark'!$B$9)>0,'1 - Opstart Importark'!$B$9,\"\")","v":""},{"$nulls":19},0,"","objektnogle_"]
[164,null,{"$f":"IF('1 - Opstart Importark'!$B$6=\"\",\"\",CONCATENATE('Blokke - AMV'!$B$2,LEFT('1 - Opstart Importark'!$B$15,2),J176,IF(L176=\"\",\"\",\"-\"),L176,IF(N176=\"\",\"\",\"_\"),N176,IF(P176=\"\",\"\",(CONCATENATE(\"_\",P176)))))","v":""},null," ",{"$nulls":12},{"$f":"IF(LEN('1 - Opstart Importark'!$B$6)>0,'1 - Opstart Importark'!$B$6,\"\")","v":""},{"$f":"IF(LEN('1 - Opstart Importark'!$B$9)>0,'1 - Opstart Importark'!$B$9,\"\")","v":""},{"$nulls":19},0,"","objektnogle_"]
[165,null,{"$f":"IF('1 - Opstart Importark'!$B$6=\"\",\"\",CONCATENATE('Blokke - AMV'!$B$2,LEFT('1 - Opstart Importark'!$B$15,2),J177,IF(L177=\"\",\"\",\"-\"),L177,IF(N177=\"\",\"\",\"_\"),N177,IF(P177=\"\",\"\",(CONCATENATE(\"_\",P177)))))","v":""},null," ",{"$nulls":12},{"$f":"IF(LEN('1 - Opstart Importark'!$B$6)>0,'1 - Opstart Importark'!$B$6,\"\")","v":""},{"$f":"IF(LEN('1 - Opstart Importark'!$B$9)>0,'1 - Opstart Importark'!$B$9,\"\")","v":""},{"$nulls":19},0,"","objektnogle_"]
[166,null,{"$f":"IF('1 - Opstart Importark'!$B$6=\"\",\"\",CONCATENATE('Blokke - AMV'!$B$2,LEFT('1 - Opstart Importark'!$B$15,2),J178,IF(L178=\"\",\"\",\"-\"),L178,IF(N178=\"\",\"\",\"_\"),N178,IF(P178=\"\",\"\",(CONCATENATE(\"_\",P178)))))","v":""},null," ",{"$nulls":12},{"$f":"IF(LEN('1 - Opstart Importark'!$B$6)>0,'1 - Opstart Importark'!$B$6,\"\")","v":""},{"$f":"IF(LEN('1 - Opstart Importark'!$B$9)>0,'1 - Opstart Importark'!$B$9,\"\")","v":""},{"$nulls":19},0,"","objektnogle_"]
[167,null,{"$f":"IF('1 - Opstart Importark'!$B$6=\"\",\"\",CONCATENATE('Blokke - AMV'!$B$2,LEFT('1 - Opstart Importark'!$B$15,2),J179,IF(L179=\"\",\"\",\"-\"),L179,IF(N179=\"\",\"\",\"_\"),N179,IF(P179=\"\",\"\",(CONCATENATE(\"_\",P179)))))","v":""},null," ",{"$nulls":12},{"$f":"IF(LEN('1 - Opstart Importark'!$B$6)>0,'1 - Opstart Importark'!$B$6,\"\")","v":""},{"$f":"IF(LEN('1 - Opstart Importark'!$B$9)>0,'1 - Opstart Importark'!$B$9,\"\")","v":""},{"$nulls":19},0,"","objektnogle_"]
[168,null,{"$f":"IF('1 - Opstart Importark'!$B$6=\"\",\"\",CONCATENATE('Blokke - AMV'!$B$2,LEFT('1 - Opstart Importark'!$B$15,2),J180,IF(L180=\"\",\"\",\"-\"),L180,IF(N180=\"\",\"\",\"_\"),N180,IF(P180=\"\",\"\",(CONCATENATE(\"_\",P180)))))","v":""},null," ",{"$nulls":12},{"$f":"IF(LEN('1 - Opstart Importark'!$B$6)>0,'1 - Opstart Importark'!$B$6,\"\")","v":""},{"$f":"IF(LEN('1 - Opstart Importark'!$B$9)>0,'1 - Opstart Importark'!$B$9,\"\")","v":""},{"$nulls":19},0,"","objektnogle_"]
[169,null,{"$f":"IF('1 - Opstart Importark'!$B$6=\"\",\"\",CONCATENATE('Blokke - AMV'!$B$2,LEFT('1 - Opstart Importark'!$B$15,2),J181,IF(L181=\"\",\"\",\"-\"),L181,IF(N181=\"\",\"\",\"_\"),N181,IF(P181=\"\",\"\",(CONCATENATE(\"_\",P181)))))","v":""},null," ",{"$nulls":12},{"$f":"IF(LEN('1 - Opstart Importark'!$B$6)>0,'1 - Opstart Importark'!$B$6,\"\")","v":""},{"$f":"IF(LEN('1 - Opstart Importark'!$B$9)>0,'1 - Opstart Importark'!$B$9,\"\")","v":""},{"$nulls":19},0,"","objektnogle_"]
[170,null,{"$f":"IF('1 - Opstart Importark'!$B$6=\"\",\"\",CONCATENATE('Blokke - AMV'!$B$2,LEFT('1 - Opstart Importark'!$B$15,2),J182,IF(L182=\"\",\"\",\"-\"),L182,IF(N182=\"\",\"\",\"_\"),N182,IF(P182=\"\",\"\",(CONCATENATE(\"_\",P182)))))","v":""},null," ",{"$nulls":12},{"$f":"IF(LEN('1 - Opstart Importark'!$B$6)>0,'1 - Opstart Importark'!$B$6,\"\")","v":""},{"$f":"IF(LEN('1 - Opstart Importark'!$B$9)>0,'1 - Opstart Importark'!$B$9,\"\")","v":""},{"$nulls":19},0,"","objektnogle_"]
[171,null,{"$f":"IF('1 - Opstart Importark'!$B$6=\"\",\"\",CONCATENATE('Blokke - AMV'!$B$2,LEFT('1 - Opstart Importark'!$B$15,2),J183,IF(L183=\"\",\"\",\"-\"),L183,IF(N183=\"\",\"\",\"_\"),N183,IF(P183=\"\",\"\",(CONCATENATE(\"_\",P183)))))","v":""},null," ",{"$nulls":12},{"$f":"IF(LEN('1 - Opstart Importark'!$B$6)>0,'1 - Opstart Importark'!$B$6,\"\")","v":""},{"$f":"IF(LEN('1 - Opstart Importark'!$B$9)>0,'1 - Opstart Importark'!$B$9,\"\")","v":""},{"$nulls":19},0,"","objektnogle_"]
[172,null,{"$f":"IF('1 - Opstart Importark'!$B$6=\"\",\"\",CONCATENATE('Blokke - AMV'!$B$2,LEFT('1 - Opstart Importark'!$B$15,2),J184,IF(L184=\"\",\"\",\"-\"),L184,IF(N184=\"\",\"\",\"_\"),N184,IF(P184=\"\",\"\",(CONCATENATE(\"_\",P184)))))","v":""},null," ",{"$nulls":12},{"$f":"IF(LEN('1 - Opstart Importark'!$B$6)>0,'1 - Opstart Importark'!$B$6,\"\")","v":""},{"$f":"IF(LEN('1 - Opstart Importark'!$B$9)>0,'1 - Opstart Importark'!$B$9,\"\")","v":""},{"$nulls":19},0,"","objektnogle_"]
[173,null,{"$f":"IF('1 - Opstart Importark'!$B$6=\"\",\"\",CONCATENATE('Blokke - AMV'!$B$2,LEFT('1 - Opstart Importark'!$B$15,2),J185,IF(L185=\"\",\"\",\"-\"),L185,IF(N185=\"\",\"\",\"_\"),N185,IF(P185=\"\",\"\",(CONCATENATE(\"_\",P185)))))","v":""},null," ",{"$nulls":12},{"$f":"IF(LEN('1 - Opstart Importark'!$B$6)>0,'1 - Opstart Importark'!$B$6,\"\")","v":""},{"$f":"IF(LEN('1 - Opstart Importark'!$B$9)>0,'1 - Opstart Importark'!$B$9,\"\")","v":""},{"$nulls":19},0,"","objektnogle_"]
[174,null,{"$f":"IF('1 - Opstart Importark'!$B$6=\"\",\"\",CONCATENATE('Blokke - AMV'!$B$2,LEFT('1 - Opstart Importark'!$B$15,2),J186,IF(L186=\"\",\"\",\"-\"),L186,IF(N186=\"\",\"\",\"_\"),N186,IF(P186=\"\",\"\",(CONCATENATE(\"_\",P186)))))","v":""},null," ",{"$nulls":12},{"$f":"IF(LEN('1 - Opstart Importark'!$B$6)>0,'1 - Opstart Importark'!$B$6,\"\")","v":""},{"$f":"IF(LEN('1 - Opstart Importark'!$B$9)>0,'1 - Opstart Importark'!$B$9,\"\")","v":""},{"$nulls":19},0,"","objektnogle_"]
[175,null,{"$f":"IF('1 - Opstart Importark'!$B$6=\"\",\"\",CONCATENATE('Blokke - AMV'!$B$2,LEFT('1 - Opstart Importark'!$B$15,2),J187,IF(L187=\"\",\"\",\"-\"),L187,IF(N187=\"\",\"\",\"_\"),N187,IF(P187=\"\",\"\",(CONCATENATE(\"_\",P187)))))","v":""},null," ",{"$nulls":12},{"$f":"IF(LEN('1 - Opstart Importark'!$B$6)>0,'1 - Opstart Importark'!$B$6,\"\")","v":""},{"$f":"IF(LEN('1 - Opstart Importark'!$B$9)>0,'1 - Opstart Importark'!$B$9,\"\")","v":""},{"$nulls":19},0,"","objektnogle_"]
[176,null,{"$f":"IF('1 - Opstart Importark'!$B$6=\"\",\"\",CONCATENATE('Blokke - AMV'!$B$2,LEFT('1 - Opstart Importark'!$B$15,2),J188,IF(L188=\"\",\"\",\"-\"),L188,IF(N188=\"\",\"\",\"_\"),N188,IF(P188=\"\",\"\",(CONCATENATE(\"_\",P188)))))","v":""},null," ",{"$nulls":12},{"$f":"IF(LEN('1 - Opstart Importark'!$B$6)>0,'1 - Opstart Importark'!$B$6,\"\")","v":""},{"$f":"IF(LEN('1 - Opstart Importark'!$B$9)>0,'1 - Opstart Importark'!$B$9,\"\")","v":""},{"$nulls":19},0,"","objektnogle_"]
[177,null,{"$f":"IF('1 - Opstart Importark'!$B$6=\"\",\"\",CONCATENATE('Blokke - AMV'!$B$2,LEFT('1 - Opstart Importark'!$B$15,2),J189,IF(L189=\"\",\"\",\"-\"),L189,IF(N189=\"\",\"\",\"_\"),N189,IF(P189=\"\",\"\",(CONCATENATE(\"_\",P189)))))","v":""},null," ",{"$nulls":12},{"$f":"IF(LEN('1 - Opstart Importark'!$B$6)>0,'1 - Opstart Importark'!$B$6,\"\")","v":""},{"$f":"IF(LEN('1 - Opstart Importark'!$B$9)>0,'1 - Opstart Importark'!$B$9,\"\")","v":""},{"$nulls":19},0,"","objektnogle_"]
[178,null,{"$f":"IF('1 - Opstart Importark'!$B$6=\"\",\"\",CONCATENATE('Blokke - AMV'!$B$2,LEFT('1 - Opstart Importark'!$B$15,2),J190,IF(L190=\"\",\"\",\"-\"),L190,IF(N190=\"\",\"\",\"_\"),N190,IF(P190=\"\",\"\",(CONCATENATE(\"_\",P190)))))","v":""},null," ",{"$nulls":12},{"$f":"IF(LEN('1 - Opstart Importark'!$B$6)>0,'1 - Opstart Importark'!$B$6,\"\")","v":""},{"$f":"IF(LEN('1 - Opstart Importark'!$B$9)>0,'1 - Opstart Importark'!$B$9,\"\")","v":""},{"$nulls":19},0,"","objektnogle_"]
[179,null,{"$f":"IF('1 - Opstart Importark'!$B$6=\"\",\"\",CONCATENATE('Blokke - AMV'!$B$2,LEFT('1 - Opstart Importark'!$B$15,2),J191,IF(L191=\"\",\"\",\"-\"),L191,IF(N191=\"\",\"\",\"_\"),N191,IF(P191=\"\",\"\",(CONCATENATE(\"_\",P191)))))","v":""},null," ",{"$nulls":12},{"$f":"IF(LEN('1 - Opstart Importark'!$B$6)>0,'1 - Opstart Importark'!$B$6,\"\")","v":""},{"$f":"IF(LEN('1 - Opstart Importark'!$B$9)>0,'1 - Opstart Importark'!$B$9,\"\")","v":""},{"$nulls":19},0,"","objektnogle_"]
[180,null,{"$f":"IF('1 - Opstart Importark'!$B$6=\"\",\"\",CONCATENATE('Blokke - AMV'!$B$2,LEFT('1 - Opstart Importark'!$B$15,2),J192,IF(L192=\"\",\"\",\"-\"),L192,IF(N192=\"\",\"\",\"_\"),N192,IF(P192=\"\",\"\",(CONCATENATE(\"_\",P192)))))","v":""},null," ",{"$nulls":12},{"$f":"IF(LEN('1 - Opstart Importark'!$B$6)>0,'1 - Opstart Importark'!$B$6,\"\")","v":""},{"$f":"IF(LEN('1 - Opstart Importark'!$B$9)>0,'1 - Opstart Importark'!$B$9,\"\")","v":""},{"$nulls":19},0,"","objektnogle_"]
[181,null,{"$f":"IF('1 - Opstart Importark'!$B$6=\"\",\"\",CONCATENATE('Blokke - AMV'!$B$2,LEFT('1 - Opstart Importark'!$B$15,2),J193,IF(L193=\"\",\"\",\"-\"),L193,IF(N193=\"\",\"\",\"_\"),N193,IF(P193=\"\",\"\",(CONCATENATE(\"_\",P193)))))","v":""},null," ",{"$nulls":12},{"$f":"IF(LEN('1 - Opstart Importark'!$B$6)>0,'1 - Opstart Importark'!$B$6,\"\")","v":""},{"$f":"IF(LEN('1 - Opstart Importark'!$B$9)>0,'1 - Opstart Importark'!$B$9,\"\")","v":""},{"$nulls":19},0,"","objektnogle_"]
[182,null,{"$f":"IF('1 - Opstart Importark'!$B$6=\"\",\"\",CONCATENATE('Blokke - AMV'!$B$2,LEFT('1 - Opstart Importark'!$B$15,2),J194,IF(L194=\"\",\"\",\"-\"),L194,IF(N194=\"\",\"\",\"_\"),N194,IF(P194=\"\",\"\",(CONCATENATE(\"_\",P194)))))","v":""},null," ",{"$nulls":12},{"$f":"IF(LEN('1 - Opstart Importark'!$B$6)>0,'1 - Opstart Importark'!$B$6,\"\")","v":""},{"$f":"IF(LEN('1 - Opstart Importark'!$B$9)>0,'1 - Opstart Importark'!$B$9,\"\")","v":""},{"$nulls":19},0,"","objektnogle_"]
[183,null,{"$f":"IF('1 - Opstart Importark'!$B$6=\"\",\"\",CONCATENATE('Blokke - AMV'!$B$2,LEFT('1 - Opstart Importark'!$B$15,2),J195,IF(L195=\"\",\"\",\"-\"),L195,IF(N195=\"\",\"\",\"_\"),N195,IF(P195=\"\",\"\",(CONCATENATE(\"_\",P195)))))","v":""},null," ",{"$nulls":12},{"$f":"IF(LEN('1 - Opstart Importark'!$B$6)>0,'1 - Opstart Importark'!$B$6,\"\")","v":""},{"$f":"IF(LEN('1 - Opstart Importark'!$B$9)>0,'1 - Opstart Importark'!$B$9,\"\")","v":""},{"$nulls":19},0,"","objektnogle_"]
[184,null,{"$f":"IF('1 - Opstart Importark'!$B$6=\"\",\"\",CONCATENATE('Blokke - AMV'!$B$2,LEFT('1 - Opstart Importark'!$B$15,2),J196,IF(L196=\"\",\"\",\"-\"),L196,IF(N196=\"\",\"\",\"_\"),N196,IF(P196=\"\",\"\",(CONCATENATE(\"_\",P196)))))","v":""},null," ",{"$nulls":12},{"$f":"IF(LEN('1 - Opstart Importark'!$B$6)>0,'1 - Opstart Importark'!$B$6,\"\")","v":""},{"$f":"IF(LEN('1 - Opstart Importark'!$B$9)>0,'1 - Opstart Importark'!$B$9,\"\")","v":""},{"$nulls":19},0,"","objektnogle_"]
[185,null,{"$f":"IF('1 - Opstart Importark'!$B$6=\"\",\"\",CONCATENATE('Blokke - AMV'!$B$2,LEFT('1 - Opstart Importark'!$B$15,2),J197,IF(L197=\"\",\"\",\"-\"),L197,IF(N197=\"\",\"\",\"_\"),N197,IF(P197=\"\",\"\",(CONCATENATE(\"_\",P197)))))","v":""},null," ",{"$nulls":12},{"$f":"IF(LEN('1 - Opstart Importark'!$B$6)>0,'1 - Opstart Importark'!$B$6,\"\")","v":""},{"$f":"IF(LEN('1 - Opstart Importark'!$B$9)>0,'1 - Opstart Importark'!$B$9,\"\")","v":""},{"$nulls":19},0,"","objektnogle_"]
[186,null,{"$f":"IF('1 - Opstart Importark'!$B$6=\"\",\"\",CONCATENATE('Blokke - AMV'!$B$2,LEFT('1 - Opstart Importark'!$B$15,2),J198,IF(L198=\"\",\"\",\"-\"),L198,IF(N198=\"\",\"\",\"_\"),N198,IF(P198=\"\",\"\",(CONCATENATE(\"_\",P198)))))","v":""},null," ",{"$nulls":12},{"$f":"IF(LEN('1 - Opstart Importark'!$B$6)>0,'1 - Opstart Importark'!$B$6,\"\")","v":""},{"$f":"IF(LEN('1 - Opstart Importark'!$B$9)>0,'1 - Opstart Importark'!$B$9,\"\")","v":""},{"$nulls":19},0,"","objektnogle_"]
[187,null,{"$f":"IF('1 - Opstart Importark'!$B$6=\"\",\"\",CONCATENATE('Blokke - AMV'!$B$2,LEFT('1 - Opstart Importark'!$B$15,2),J199,IF(L199=\"\",\"\",\"-\"),L199,IF(N199=\"\",\"\",\"_\"),N199,IF(P199=\"\",\"\",(CONCATENATE(\"_\",P199)))))","v":""},null," ",{"$nulls":12},{"$f":"IF(LEN('1 - Opstart Importark'!$B$6)>0,'1 - Opstart Importark'!$B$6,\"\")","v":""},{"$f":"IF(LEN('1 - Opstart Importark'!$B$9)>0,'1 - Opstart Importark'!$B$9,\"\")","v":""},{"$nulls":19},0,"","objektnogle_"]
[188,null,{"$f":"IF('1 - Opstart Importark'!$B$6=\"\",\"\",CONCATENATE('Blokke - AMV'!$B$2,LEFT('1 - Opstart Importark'!$B$15,2),J200,IF(L200=\"\",\"\",\"-\"),L200,IF(N200=\"\",\"\",\"_\"),N200,IF(P200=\"\",\"\",(CONCATENATE(\"_\",P200)))))","v":""},null," ",{"$nulls":12},{"$f":"IF(LEN('1 - Opstart Importark'!$B$6)>0,'1 - Opstart Importark'!$B$6,\"\")","v":""},{"$f":"IF(LEN('1 - Opstart Importark'!$B$9)>0,'1 - Opstart Importark'!$B$9,\"\")","v":""},{"$nulls":19},0,"","objektnogle_"]
[189,null,{"$f":"IF('1 - Opstart Importark'!$B$6=\"\",\"\",CONCATENATE('Blokke - AMV'!$B$2,LEFT('1 - Opstart Importark'!$B$15,2),J201,IF(L201=\"\",\"\",\"-\"),L201,IF(N201=\"\",\"\",\"_\"),N201,IF(P201=\"\",\"\",(CONCATENATE(\"_\",P201)))))","v":""},null," ",{"$nulls":12},{"$f":"IF(LEN('1 - Opstart Importark'!$B$6)>0,'1 - Opstart Importark'!$B$6,\"\")","v":""},{"$f":"IF(LEN('1 - Opstart Importark'!$B$9)>0,'1 - Opstart Importark'!$B$9,\"\")","v":""},{"$nulls":19},0,"","objektnogle_"]
[190,null,{"$f":"IF('1 - Opstart Importark'!$B$6=\"\",\"\",CONCATENATE('Blokke - AMV'!$B$2,LEFT('1 - Opstart Importark'!$B$15,2),J202,IF(L202=\"\",\"\",\"-\"),L202,IF(N202=\"\",\"\",\"_\"),N202,IF(P202=\"\",\"\",(CONCATENATE(\"_\",P202)))))","v":""},null," ",{"$nulls":12},{"$f":"IF(LEN('1 - Opstart Importark'!$B$6)>0,'1 - Opstart Importark'!$B$6,\"\")","v":""},{"$f":"IF(LEN('1 - Opstart Importark'!$B$9)>0,'1 - Opstart Importark'!$B$9,\"\")","v":""},{"$nulls":19},0,"","objektnogle_"]
[191,null,{"$f":"IF('1 - Opstart Importark'!$B$6=\"\",\"\",CONCATENATE('Blokke - AMV'!$B$2,LEFT('1 - Opstart Importark'!$B$15,2),J203,IF(L203=\"\",\"\",\"-\"),L203,IF(N203=\"\",\"\",\"_\"),N203,IF(P203=\"\",\"\",(CONCATENATE(\"_\",P203)))))","v":""},null," ",{"$nulls":12},{"$f":"IF(LEN('1 - Opstart Importark'!$B$6)>0,'1 - Opstart Importark'!$B$6,\"\")","v":""},{"$f":"IF(LEN('1 - Opstart Importark'!$B$9)>0,'1 - Opstart Importark'!$B$9,\"\")","v":""},{"$nulls":19},0,"","objektnogle_"]
[192,null,{"$f":"IF('1 - Opstart Importark'!$B$6=\"\",\"\",CONCATENATE('Blokke - AMV'!$B$2,LEFT('1 - Opstart Importark'!$B$15,2),J204,IF(L204=\"\",\"\",\"-\"),L204,IF(N204=\"\",\"\",\"_\"),N204,IF(P204=\"\",\"\",(CONCATENATE(\"_\",P204)))))","v":""},null," ",{"$nulls":12},{"$f":"IF(LEN('1 - Opstart Importark'!$B$6)>0,'1 - Opstart Importark'!$B$6,\"\")","v":""},{"$f":"IF(LEN('1 - Opstart Importark'!$B$9)>0,'1 - Opstart Importark'!$B$9,\"\")","v":""},{"$nulls":19},0,"","objektnogle_"]
[193,null,{"$f":"IF('1 - Opstart Importark'!$B$6=\"\",\"\",CONCATENATE('Blokke - AMV'!$B$2,LEFT('1 - Opstart Importark'!$B$15,2),J205,IF(L205=\"\",\"\",\"-\"),L205,IF(N205=\"\",\"\",\"_\"),N205,IF(P205=\"\",\"\",(CONCATENATE(\"_\",P205)))))","v":""},null," ",{"$nulls":12},{"$f":"IF(LEN('1 - Opstart Importark'!$B$6)>0,'1 - Opstart Importark'!$B$6,\"\")","v":""},{"$f":"IF(LEN('1 - Opstart Importark'!$B$9)>0,'1 - Opstart Importark'!$B$9,\"\")","v":""},{"$nulls":19},{"$f":"IFERROR(FIND(\".\",G205),)","v":0},{"$f":"IF(L205=\"\",\"\",IF(LEFT(L205,1)=\"E\",0,1))","v":""},{"$f":"CONCATENATE(\"objektnogle_\",LEFT(L205,1))","v":"objektnogle_"}]
[194,null,{"$f":"IF('1 - Opstart Importark'!$B$6=\"\",\"\",CONCATENATE('Blokke - AMV'!$B$2,LEFT('1 - Opstart Importark'!$B$15,2),J206,IF(L206=\"\",\"\",\"-\"),L206,IF(N206=\"\",\"\",\"_\"),N206,IF(P206=\"\",\"\",(CONCATENATE(\"_\",P206)))))","v":""},null," ",{"$nulls":12},{"$f":"IF(LEN('1 - Opstart Importark'!$B$6)>0,'1 - Opstart Importark'!$B$6,\"\")","v":""},{"$f":"IF(LEN('1 - Opstart Importark'!$B$9)>0,'1 - Opstart Importark'!$B$9,\"\")","v":""},{"$nulls":19},0,"","objektnogle_"]
[195,null,{"$f":"IF('1 - Opstart Importark'!$B$6=\"\",\"\",CONCATENATE('Blokke - AMV'!$B$2,LEFT('1 - Opstart Importark'!$B$15,2),J207,IF(L207=\"\",\"\",\"-\"),L207,IF(N207=\"\",\"\",\"_\"),N207,IF(P207=\"\",\"\",(CONCATENATE(\"_\",P207)))))","v":""},null," ",{"$nulls":12},{"$f":"IF(LEN('1 - Opstart Importark'!$B$6)>0,'1 - Opstart Importark'!$B$6,\"\")","v":""},{"$f":"IF(LEN('1 - Opstart Importark'!$B$9)>0,'1 - Opstart Importark'!$B$9,\"\")","v":""},{"$nulls":19},0,"","objektnogle_"]
[196,null,{"$f":"IF('1 - Opstart Importark'!$B$6=\"\",\"\",CONCATENATE('Blokke - AMV'!$B$2,LEFT('1 - Opstart Importark'!$B$15,2),J208,IF(L208=\"\",\"\",\"-\"),L208,IF(N208=\"\",\"\",\"_\"),N208,IF(P208=\"\",\"\",(CONCATENATE(\"_\",P208)))))","v":""},null," ",{"$nulls":12},{"$f":"IF(LEN('1 - Opstart Importark'!$B$6)>0,'1 - Opstart Importark'!$B$6,\"\")","v":""},{"$f":"IF(LEN('1 - Opstart Importark'!$B$9)>0,'1 - Opstart Importark'!$B$9,\"\")","v":""},{"$nulls":19},0,"","objektnogle_"]
[197,null,{"$f":"IF('1 - Opstart Importark'!$B$6=\"\",\"\",CONCATENATE('Blokke - AMV'!$B$2,LEFT('1 - Opstart Importark'!$B$15,2),J209,IF(L209=\"\",\"\",\"-\"),L209,IF(N209=\"\",\"\",\"_\"),N209,IF(P209=\"\",\"\",(CONCATENATE(\"_\",P209)))))","v":""},null," ",{"$nulls":12},{"$f":"IF(LEN('1 - Opstart Importark'!$B$6)>0,'1 - Opstart Importark'!$B$6,\"\")","v":""},{"$f":"IF(LEN('1 - Opstart Importark'!$B$9)>0,'1 - Opstart Importark'!$B$9,\"\")","v":""},{"$nulls":19},0,"","objektnogle_"]
[198,null,{"$f":"IF('1 - Opstart Importark'!$B$6=\"\",\"\",CONCATENATE('Blokke - AMV'!$B$2,LEFT('1 - Opstart Importark'!$B$15,2),J210,IF(L210=\"\",\"\",\"-\"),L210,IF(N210=\"\",\"\",\"_\"),N210,IF(P210=\"\",\"\",(CONCATENATE(\"_\",P210)))))","v":""},null," ",{"$nulls":12},{"$f":"IF(LEN('1 - Opstart Importark'!$B$6)>0,'1 - Opstart Importark'!$B$6,\"\")","v":""},{"$f":"IF(LEN('1 - Opstart Importark'!$B$9)>0,'1 - Opstart Importark'!$B$9,\"\")","v":""},{"$nulls":19},0,"","objektnogle_"]
[199,null,{"$f":"IF('1 - Opstart Importark'!$B$6=\"\",\"\",CONCATENATE('Blokke - AMV'!$B$2,LEFT('1 - Opstart Importark'!$B$15,2),J211,IF(L211=\"\",\"\",\"-\"),L211,IF(N211=\"\",\"\",\"_\"),N211,IF(P211=\"\",\"\",(CONCATENATE(\"_\",P211)))))","v":""},null," ",{"$nulls":12},{"$f":"IF(LEN('1 - Opstart Importark'!$B$6)>0,'1 - Opstart Importark'!$B$6,\"\")","v":""},{"$f":"IF(LEN('1 - Opstart Importark'!$B$9)>0,'1 - Opstart Importark'!$B$9,\"\")","v":""},{"$nulls":19},0,"","objektnogle_"]
[200,null,{"$f":"IF('1 - Opstart Importark'!$B$6=\"\",\"\",CONCATENATE('Blokke - AMV'!$B$2,LEFT('1 - Opstart Importark'!$B$15,2),J212,IF(L212=\"\",\"\",\"-\"),L212,IF(N212=\"\",\"\",\"_\"),N212,IF(P212=\"\",\"\",(CONCATENATE(\"_\",P212)))))","v":""},null," ",{"$nulls":12},{"$f":"IF(LEN('1 - Opstart Importark'!$B$6)>0,'1 - Opstart Importark'!$B$6,\"\")","v":""},{"$f":"IF(LEN('1 - Opstart Importark'!$B$9)>0,'1 - Opstart Importark'!$B$9,\"\")","v":""},{"$nulls":19},0,"","objektnogle_"]
[201,null,{"$f":"IF('1 - Opstart Importark'!$B$6=\"\",\"\",CONCATENATE('Blokke - AMV'!$B$2,LEFT('1 - Opstart Importark'!$B$15,2),J213,IF(L213=\"\",\"\",\"-\"),L213,IF(N213=\"\",\"\",\"_\"),N213,IF(P213=\"\",\"\",(CONCATENATE(\"_\",P213)))))","v":""},null," ",{"$nulls":12},{"$f":"IF(LEN('1 - Opstart Importark'!$B$6)>0,'1 - Opstart Importark'!$B$6,\"\")","v":""},{"$f":"IF(LEN('1 - Opstart Importark'!$B$9)>0,'1 - Opstart Importark'!$B$9,\"\")","v":""},{"$nulls":19},0,"","objektnogle_"]
[202,null,{"$f":"IF('1 - Opstart Importark'!$B$6=\"\",\"\",CONCATENATE('Blokke - AMV'!$B$2,LEFT('1 - Opstart Importark'!$B$15,2),J214,IF(L214=\"\",\"\",\"-\"),L214,IF(N214=\"\",\"\",\"_\"),N214,IF(P214=\"\",\"\",(CONCATENATE(\"_\",P214)))))","v":""},null," ",{"$nulls":12},{"$f":"IF(LEN('1 - Opstart Importark'!$B$6)>0,'1 - Opstart Importark'!$B$6,\"\")","v":""},{"$f":"IF(LEN('1 - Opstart Importark'!$B$9)>0,'1 - Opstart Importark'!$B$9,\"\")","v":""},{"$nulls":19},0,"","objektnogle_"]
[203,null,{"$f":"IF('1 - Opstart Importark'!$B$6=\"\",\"\",CONCATENATE('Blokke - AMV'!$B$2,LEFT('1 - Opstart Importark'!$B$15,2),J215,IF(L215=\"\",\"\",\"-\"),L215,IF(N215=\"\",\"\",\"_\"),N215,IF(P215=\"\",\"\",(CONCATENATE(\"_\",P215)))))","v":""},null," ",{"$nulls":12},{"$f":"IF(LEN('1 - Opstart Importark'!$B$6)>0,'1 - Opstart Importark'!$B$6,\"\")","v":""},{"$f":"IF(LEN('1 - Opstart Importark'!$B$9)>0,'1 - Opstart Importark'!$B$9,\"\")","v":""},{"$nulls":19},0,"","objektnogle_"]
[204,null,{"$f":"IF('1 - Opstart Importark'!$B$6=\"\",\"\",CONCATENATE('Blokke - AMV'!$B$2,LEFT('1 - Opstart Importark'!$B$15,2),J216,IF(L216=\"\",\"\",\"-\"),L216,IF(N216=\"\",\"\",\"_\"),N216,IF(P216=\"\",\"\",(CONCATENATE(\"_\",P216)))))","v":""},null," ",{"$nulls":12},{"$f":"IF(LEN('1 - Opstart Importark'!$B$6)>0,'1 - Opstart Importark'!$B$6,\"\")","v":""},{"$f":"IF(LEN('1 - Opstart Importark'!$B$9)>0,'1 - Opstart Importark'!$B$9,\"\")","v":""},{"$nulls":19},0,"","objektnogle_"]
[205,null,{"$f":"IF('1 - Opstart Importark'!$B$6=\"\",\"\",CONCATENATE('Blokke - AMV'!$B$2,LEFT('1 - Opstart Importark'!$B$15,2),J217,IF(L217=\"\",\"\",\"-\"),L217,IF(N217=\"\",\"\",\"_\"),N217,IF(P217=\"\",\"\",(CONCATENATE(\"_\",P217)))))","v":""},null," ",{"$nulls":12},{"$f":"IF(LEN('1 - Opstart Importark'!$B$6)>0,'1 - Opstart Importark'!$B$6,\"\")","v":""},{"$f":"IF(LEN('1 - Opstart Importark'!$B$9)>0,'1 - Opstart Importark'!$B$9,\"\")","v":""},{"$nulls":19},0,"","objektnogle_"]
[206,null,{"$f":"IF('1 - Opstart Importark'!$B$6=\"\",\"\",CONCATENATE('Blokke - AMV'!$B$2,LEFT('1 - Opstart Importark'!$B$15,2),J218,IF(L218=\"\",\"\",\"-\"),L218,IF(N218=\"\",\"\",\"_\"),N218,IF(P218=\"\",\"\",(CONCATENATE(\"_\",P218)))))","v":""},null," ",{"$nulls":12},{"$f":"IF(LEN('1 - Opstart Importark'!$B$6)>0,'1 - Opstart Importark'!$B$6,\"\")","v":""},{"$f":"IF(LEN('1 - Opstart Importark'!$B$9)>0,'1 - Opstart Importark'!$B$9,\"\")","v":""},{"$nulls":19},0,"","objektnogle_"]
[207,null,{"$f":"IF('1 - Opstart Importark'!$B$6=\"\",\"\",CONCATENATE('Blokke - AMV'!$B$2,LEFT('1 - Opstart Importark'!$B$15,2),J219,IF(L219=\"\",\"\",\"-\"),L219,IF(N219=\"\",\"\",\"_\"),N219,IF(P219=\"\",\"\",(CONCATENATE(\"_\",P219)))))","v":""},null," ",{"$nulls":12},{"$f":"IF(LEN('1 - Opstart Importark'!$B$6)>0,'1 - Opstart Importark'!$B$6,\"\")","v":""},{"$f":"IF(LEN('1 - Opstart Importark'!$B$9)>0,'1 - Opstart Importark'!$B$9,\"\")","v":""},{"$nulls":19},0,"","objektnogle_"]
[208,null,{"$f":"IF('1 - Opstart Importark'!$B$6=\"\",\"\",CONCATENATE('Blokke - AMV'!$B$2,LEFT('1 - Opstart Importark'!$B$15,2),J220,IF(L220=\"\",\"\",\"-\"),L220,IF(N220=\"\",\"\",\"_\"),N220,IF(P220=\"\",\"\",(CONCATENATE(\"_\",P220)))))","v":""},null," ",{"$nulls":12},{"$f":"IF(LEN('1 - Opstart Importark'!$B$6)>0,'1 - Opstart Importark'!$B$6,\"\")","v":""},{"$f":"IF(LEN('1 - Opstart Importark'!$B$9)>0,'1 - Opstart Importark'!$B$9,\"\")","v":""},{"$nulls":19},0,"","objektnogle_"]
[209,null,{"$f":"IF('1 - Opstart Importark'!$B$6=\"\",\"\",CONCATENATE('Blokke - AMV'!$B$2,LEFT('1 - Opstart Importark'!$B$15,2),J221,IF(L221=\"\",\"\",\"-\"),L221,IF(N221=\"\",\"\",\"_\"),N221,IF(P221=\"\",\"\",(CONCATENATE(\"_\",P221)))))","v":""},null," ",{"$nulls":12},{"$f":"IF(LEN('1 - Opstart Importark'!$B$6)>0,'1 - Opstart Importark'!$B$6,\"\")","v":""},{"$f":"IF(LEN('1 - Opstart Importark'!$B$9)>0,'1 - Opstart Importark'!$B$9,\"\")","v":""},{"$nulls":19},0,"","objektnogle_"]
[210,null,{"$f":"IF('1 - Opstart Importark'!$B$6=\"\",\"\",CONCATENATE('Blokke - AMV'!$B$2,LEFT('1 - Opstart Importark'!$B$15,2),J222,IF(L222=\"\",\"\",\"-\"),L222,IF(N222=\"\",\"\",\"_\"),N222,IF(P222=\"\",\"\",(CONCATENATE(\"_\",P222)))))","v":""},null," ",{"$nulls":12},{"$f":"IF(LEN('1 - Opstart Importark'!$B$6)>0,'1 - Opstart Importark'!$B$6,\"\")","v":""},{"$f":"IF(LEN('1 - Opstart Importark'!$B$9)>0,'1 - Opstart Importark'!$B$9,\"\")","v":""},{"$nulls":19},0,"","objektnogle_"]
[211,null,{"$f":"IF('1 - Opstart Importark'!$B$6=\"\",\"\",CONCATENATE('Blokke - AMV'!$B$2,LEFT('1 - Opstart Importark'!$B$15,2),J223,IF(L223=\"\",\"\",\"-\"),L223,IF(N223=\"\",\"\",\"_\"),N223,IF(P223=\"\",\"\",(CONCATENATE(\"_\",P223)))))","v":""},null," ",{"$nulls":12},{"$f":"IF(LEN('1 - Opstart Importark'!$B$6)>0,'1 - Opstart Importark'!$B$6,\"\")","v":""},{"$f":"IF(LEN('1 - Opstart Importark'!$B$9)>0,'1 - Opstart Importark'!$B$9,\"\")","v":""},{"$nulls":19},0,"","objektnogle_"]
[212,null,{"$f":"IF('1 - Opstart Importark'!$B$6=\"\",\"\",CONCATENATE('Blokke - AMV'!$B$2,LEFT('1 - Opstart Importark'!$B$15,2),J224,IF(L224=\"\",\"\",\"-\"),L224,IF(N224=\"\",\"\",\"_\"),N224,IF(P224=\"\",\"\",(CONCATENATE(\"_\",P224)))))","v":""},null," ",{"$nulls":12},{"$f":"IF(LEN('1 - Opstart Importark'!$B$6)>0,'1 - Opstart Importark'!$B$6,\"\")","v":""},{"$f":"IF(LEN('1 - Opstart Importark'!$B$9)>0,'1 - Opstart Importark'!$B$9,\"\")","v":""},{"$nulls":19},0,"","objektnogle_"]
[213,null,{"$f":"IF('1 - Opstart Importark'!$B$6=\"\",\"\",CONCATENATE('Blokke - AMV'!$B$2,LEFT('1 - Opstart Importark'!$B$15,2),J225,IF(L225=\"\",\"\",\"-\"),L225,IF(N225=\"\",\"\",\"_\"),N225,IF(P225=\"\",\"\",(CONCATENATE(\"_\",P225)))))","v":""},null," ",{"$nulls":12},{"$f":"IF(LEN('1 - Opstart Importark'!$B$6)>0,'1 - Opstart Importark'!$B$6,\"\")","v":""},{"$f":"IF(LEN('1 - Opstart Importark'!$B$9)>0,'1 - Opstart Importark'!$B$9,\"\")","v":""},{"$nulls":19},0,"","objektnogle_"]
[214,null,{"$f":"IF('1 - Opstart Importark'!$B$6=\"\",\"\",CONCATENATE('Blokke - AMV'!$B$2,LEFT('1 - Opstart Importark'!$B$15,2),J226,IF(L226=\"\",\"\",\"-\"),L226,IF(N226=\"\",\"\",\"_\"),N226,IF(P226=\"\",\"\",(CONCATENATE(\"_\",P226)))))","v":""},null," ",{"$nulls":12},{"$f":"IF(LEN('1 - Opstart Importark'!$B$6)>0,'1 - Opstart Importark'!$B$6,\"\")","v":""},{"$f":"IF(LEN('1 - Opstart Importark'!$B$9)>0,'1 - Opstart Importark'!$B$9,\"\")","v":""},{"$nulls":19},0,"","objektnogle_"]
[215,null,{"$f":"IF('1 - Opstart Importark'!$B$6=\"\",\"\",CONCATENATE('Blokke - AMV'!$B$2,LEFT('1 - Opstart Importark'!$B$15,2),J227,IF(L227=\"\",\"\",\"-\"),L227,IF(N227=\"\",\"\",\"_\"),N227,IF(P227=\"\",\"\",(CONCATENATE(\"_\",P227)))))","v":""},null," ",{"$nulls":12},{"$f":"IF(LEN('1 - Opstart Importark'!$B$6)>0,'1 - Opstart Importark'!$B$6,\"\")","v":""},{"$f":"IF(LEN('1 - Opstart Importark'!$B$9)>0,'1 - Opstart Importark'!$B$9,\"\")","v":""},{"$nulls":19},0,"","objektnogle_"]
[216,null,{"$f":"IF('1 - Opstart Importark'!$B$6=\"\",\"\",CONCATENATE('Blokke - AMV'!$B$2,LEFT('1 - Opstart Importark'!$B$15,2),J228,IF(L228=\"\",\"\",\"-\"),L228,IF(N228=\"\",\"\",\"_\"),N228,IF(P228=\"\",\"\",(CONCATENATE(\"_\",P228)))))","v":""},null," ",{"$nulls":12},{"$f":"IF(LEN('1 - Opstart Importark'!$B$6)>0,'1 - Opstart Importark'!$B$6,\"\")","v":""},{"$f":"IF(LEN('1 - Opstart Importark'!$B$9)>0,'1 - Opstart Importark'!$B$9,\"\")","v":""},{"$nulls":19},0,"","objektnogle_"]
[217,null,{"$f":"IF('1 - Opstart Importark'!$B$6=\"\",\"\",CONCATENATE('Blokke - AMV'!$B$2,LEFT('1 - Opstart Importark'!$B$15,2),J229,IF(L229=\"\",\"\",\"-\"),L229,IF(N229=\"\",\"\",\"_\"),N229,IF(P229=\"\",\"\",(CONCATENATE(\"_\",P229)))))","v":""},null," ",{"$nulls":12},{"$f":"IF(LEN('1 - Opstart Importark'!$B$6)>0,'1 - Opstart Importark'!$B$6,\"\")","v":""},{"$f":"IF(LEN('1 - Opstart Importark'!$B$9)>0,'1 - Opstart Importark'!$B$9,\"\")","v":""},{"$nulls":19},0,"","objektnogle_"]
[218,null,{"$f":"IF('1 - Opstart Importark'!$B$6=\"\",\"\",CONCATENATE('Blokke - AMV'!$B$2,LEFT('1 - Opstart Importark'!$B$15,2),J230,IF(L230=\"\",\"\",\"-\"),L230,IF(N230=\"\",\"\",\"_\"),N230,IF(P230=\"\",\"\",(CONCATENATE(\"_\",P230)))))","v":""},null," ",{"$nulls":12},{"$f":"IF(LEN('1 - Opstart Importark'!$B$6)>0,'1 - Opstart Importark'!$B$6,\"\")","v":""},{"$f":"IF(LEN('1 - Opstart Importark'!$B$9)>0,'1 - Opstart Importark'!$B$9,\"\")","v":""},{"$nulls":19},0,"","objektnogle_"]
[219,null,{"$f":"IF('1 - Opstart Importark'!$B$6=\"\",\"\",CONCATENATE('Blokke - AMV'!$B$2,LEFT('1 - Opstart Importark'!$B$15,2),J231,IF(L231=\"\",\"\",\"-\"),L231,IF(N231=\"\",\"\",\"_\"),N231,IF(P231=\"\",\"\",(CONCATENATE(\"_\",P231)))))","v":""},null," ",{"$nulls":12},{"$f":"IF(LEN('1 - Opstart Importark'!$B$6)>0,'1 - Opstart Importark'!$B$6,\"\")","v":""},{"$f":"IF(LEN('1 - Opstart Importark'!$B$9)>0,'1 - Opstart Importark'!$B$9,\"\")","v":""},{"$nulls":19},0,"","objektnogle_"]
[220,null,{"$f":"IF('1 - Opstart Importark'!$B$6=\"\",\"\",CONCATENATE('Blokke - AMV'!$B$2,LEFT('1 - Opstart Importark'!$B$15,2),J232,IF(L232=\"\",\"\",\"-\"),L232,IF(N232=\"\",\"\",\"_\"),N232,IF(P232=\"\",\"\",(CONCATENATE(\"_\",P232)))))","v":""},null," ",{"$nulls":12},{"$f":"IF(LEN('1 - Opstart Importark'!$B$6)>0,'1 - Opstart Importark'!$B$6,\"\")","v":""},{"$f":"IF(LEN('1 - Opstart Importark'!$B$9)>0,'1 - Opstart Importark'!$B$9,\"\")","v":""},{"$nulls":19},0,"","objektnogle_"]
[221,null,{"$f":"IF('1 - Opstart Importark'!$B$6=\"\",\"\",CONCATENATE('Blokke - AMV'!$B$2,LEFT('1 - Opstart Importark'!$B$15,2),J233,IF(L233=\"\",\"\",\"-\"),L233,IF(N233=\"\",\"\",\"_\"),N233,IF(P233=\"\",\"\",(CONCATENATE(\"_\",P233)))))","v":""},null," ",{"$nulls":12},{"$f":"IF(LEN('1 - Opstart Importark'!$B$6)>0,'1 - Opstart Importark'!$B$6,\"\")","v":""},{"$f":"IF(LEN('1 - Opstart Importark'!$B$9)>0,'1 - Opstart Importark'!$B$9,\"\")","v":""},{"$nulls":19},0,"","objektnogle_"]
[222,null,{"$f":"IF('1 - Opstart Importark'!$B$6=\"\",\"\",CONCATENATE('Blokke - AMV'!$B$2,LEFT('1 - Opstart Importark'!$B$15,2),J234,IF(L234=\"\",\"\",\"-\"),L234,IF(N234=\"\",\"\",\"_\"),N234,IF(P234=\"\",\"\",(CONCATENATE(\"_\",P234)))))","v":""},null," ",{"$nulls":12},{"$f":"IF(LEN('1 - Opstart Importark'!$B$6)>0,'1 - Opstart Importark'!$B$6,\"\")","v":""},{"$f":"IF(LEN('1 - Opstart Importark'!$B$9)>0,'1 - Opstart Importark'!$B$9,\"\")","v":""},{"$nulls":19},0,"","objektnogle_"]
[223,null,{"$f":"IF('1 - Opstart Importark'!$B$6=\"\",\"\",CONCATENATE('Blokke - AMV'!$B$2,LEFT('1 - Opstart Importark'!$B$15,2),J235,IF(L235=\"\",\"\",\"-\"),L235,IF(N235=\"\",\"\",\"_\"),N235,IF(P235=\"\",\"\",(CONCATENATE(\"_\",P235)))))","v":""},null," ",{"$nulls":12},{"$f":"IF(LEN('1 - Opstart Importark'!$B$6)>0,'1 - Opstart Importark'!$B$6,\"\")","v":""},{"$f":"IF(LEN('1 - Opstart Importark'!$B$9)>0,'1 - Opstart Importark'!$B$9,\"\")","v":""},{"$nulls":19},0,"","objektnogle_"]
[224,null,{"$f":"IF('1 - Opstart Importark'!$B$6=\"\",\"\",CONCATENATE('Blokke - AMV'!$B$2,LEFT('1 - Opstart Importark'!$B$15,2),J236,IF(L236=\"\",\"\",\"-\"),L236,IF(N236=\"\",\"\",\"_\"),N236,IF(P236=\"\",\"\",(CONCATENATE(\"_\",P236)))))","v":""},null," ",{"$nulls":12},{"$f":"IF(LEN('1 - Opstart Importark'!$B$6)>0,'1 - Opstart Importark'!$B$6,\"\")","v":""},{"$f":"IF(LEN('1 - Opstart Importark'!$B$9)>0,'1 - Opstart Importark'!$B$9,\"\")","v":""},{"$nulls":19},0,"","objektnogle_"]
[225,null,{"$f":"IF('1 - Opstart Importark'!$B$6=\"\",\"\",CONCATENATE('Blokke - AMV'!$B$2,LEFT('1 - Opstart Importark'!$B$15,2),J237,IF(L237=\"\",\"\",\"-\"),L237,IF(N237=\"\",\"\",\"_\"),N237,IF(P237=\"\",\"\",(CONCATENATE(\"_\",P237)))))","v":""},null," ",{"$nulls":12},{"$f":"IF(LEN('1 - Opstart Importark'!$B$6)>0,'1 - Opstart Importark'!$B$6,\"\")","v":""},{"$f":"IF(LEN('1 - Opstart Importark'!$B$9)>0,'1 - Opstart Importark'!$B$9,\"\")","v":""},{"$nulls":19},0,"","objektnogle_"]
[226,null,{"$f":"IF('1 - Opstart Importark'!$B$6=\"\",\"\",CONCATENATE('Blokke - AMV'!$B$2,LEFT('1 - Opstart Importark'!$B$15,2),J238,IF(L238=\"\",\"\",\"-\"),L238,IF(N238=\"\",\"\",\"_\"),N238,IF(P238=\"\",\"\",(CONCATENATE(\"_\",P238)))))","v":""},null," ",{"$nulls":12},{"$f":"IF(LEN('1 - Opstart Importark'!$B$6)>0,'1 - Opstart Importark'!$B$6,\"\")","v":""},{"$f":"IF(LEN('1 - Opstart Importark'!$B$9)>0,'1 - Opstart Importark'!$B$9,\"\")","v":""},{"$nulls":19},0,"","objektnogle_"]
[227,null,{"$f":"IF('1 - Opstart Importark'!$B$6=\"\",\"\",CONCATENATE('Blokke - AMV'!$B$2,LEFT('1 - Opstart Importark'!$B$15,2),J239,IF(L239=\"\",\"\",\"-\"),L239,IF(N239=\"\",\"\",\"_\"),N239,IF(P239=\"\",\"\",(CONCATENATE(\"_\",P239)))))","v":""},null," ",{"$nulls":12},{"$f":"IF(LEN('1 - Opstart Importark'!$B$6)>0,'1 - Opstart Importark'!$B$6,\"\")","v":""},{"$f":"IF(LEN('1 - Opstart Importark'!$B$9)>0,'1 - Opstart Importark'!$B$9,\"\")","v":""},{"$nulls":19},0,"","objektnogle_"]
[228,null,{"$f":"IF('1 - Opstart Importark'!$B$6=\"\",\"\",CONCATENATE('Blokke - AMV'!$B$2,LEFT('1 - Opstart Importark'!$B$15,2),J240,IF(L240=\"\",\"\",\"-\"),L240,IF(N240=\"\",\"\",\"_\"),N240,IF(P240=\"\",\"\",(CONCATENATE(\"_\",P240)))))","v":""},null," ",{"$nulls":12},{"$f":"IF(LEN('1 - Opstart Importark'!$B$6)>0,'1 - Opstart Importark'!$B$6,\"\")","v":""},{"$f":"IF(LEN('1 - Opstart Importark'!$B$9)>0,'1 - Opstart Importark'!$B$9,\"\")","v":""},{"$nulls":19},0,"","objektnogle_"]
[229,null,{"$f":"IF('1 - Opstart Importark'!$B$6=\"\",\"\",CONCATENATE('Blokke - AMV'!$B$2,LEFT('1 - Opstart Importark'!$B$15,2),J241,IF(L241=\"\",\"\",\"-\"),L241,IF(N241=\"\",\"\",\"_\"),N241,IF(P241=\"\",\"\",(CONCATENATE(\"_\",P241)))))","v":""},null," ",{"$nulls":12},{"$f":"IF(LEN('1 - Opstart Importark'!$B$6)>0,'1 - Opstart Importark'!$B$6,\"\")","v":""},{"$f":"IF(LEN('1 - Opstart Importark'!$B$9)>0,'1 - Opstart Importark'!$B$9,\"\")","v":""},{"$nulls":19},0,"","objektnogle_"]
[230,null,{"$f":"IF('1 - Opstart Importark'!$B$6=\"\",\"\",CONCATENATE('Blokke - AMV'!$B$2,LEFT('1 - Opstart Importark'!$B$15,2),J242,IF(L242=\"\",\"\",\"-\"),L242,IF(N242=\"\",\"\",\"_\"),N242,IF(P242=\"\",\"\",(CONCATENATE(\"_\",P242)))))","v":""},null," ",{"$nulls":12},{"$f":"IF(LEN('1 - Opstart Importark'!$B$6)>0,'1 - Opstart Importark'!$B$6,\"\")","v":""},{"$f":"IF(LEN('1 - Opstart Importark'!$B$9)>0,'1 - Opstart Importark'!$B$9,\"\")","v":""},{"$nulls":19},0,"","objektnogle_"]
[231,null,{"$f":"IF('1 - Opstart Importark'!$B$6=\"\",\"\",CONCATENATE('Blokke - AMV'!$B$2,LEFT('1 - Opstart Importark'!$B$15,2),J243,IF(L243=\"\",\"\",\"-\"),L243,IF(N243=\"\",\"\",\"_\"),N243,IF(P243=\"\",\"\",(CONCATENATE(\"_\",P243)))))","v":""},null," ",{"$nulls":12},{"$f":"IF(LEN('1 - Opstart Importark'!$B$6)>0,'1 - Opstart Importark'!$B$6,\"\")","v":""},{"$f":"IF(LEN('1 - Opstart Importark'!$B$9)>0,'1 - Opstart Importark'!$B$9,\"\")","v":""},{"$nulls":19},0,"","objektnogle_"]
[232,null,{"$f":"IF('1 - Opstart Importark'!$B$6=\"\",\"\",CONCATENATE('Blokke - AMV'!$B$2,LEFT('1 - Opstart Importark'!$B$15,2),J244,IF(L244=\"\",\"\",\"-\"),L244,IF(N244=\"\",\"\",\"_\"),N244,IF(P244=\"\",\"\",(CONCATENATE(\"_\",P244)))))","v":""},null," ",{"$nulls":12},{"$f":"IF(LEN('1 - Opstart Importark'!$B$6)>0,'1 - Opstart Importark'!$B$6,\"\")","v":""},{"$f":"IF(LEN('1 - Opstart Importark'!$B$9)>0,'1 - Opstart Importark'!$B$9,\"\")","v":""},{"$nulls":19},0,"","objektnogle_"]
[233,null,{"$f":"IF('1 - Opstart Importark'!$B$6=\"\",\"\",CONCATENATE('Blokke - AMV'!$B$2,LEFT('1 - Opstart Importark'!$B$15,2),J245,IF(L245=\"\",\"\",\"-\"),L245,IF(N245=\"\",\"\",\"_\"),N245,IF(P245=\"\",\"\",(CONCATENATE(\"_\",P245)))))","v":""},null," ",{"$nulls":12},{"$f":"IF(LEN('1 - Opstart Importark'!$B$6)>0,'1 - Opstart Importark'!$B$6,\"\")","v":""},{"$f":"IF(LEN('1 - Opstart Importark'!$B$9)>0,'1 - Opstart Importark'!$B$9,\"\")","v":""},{"$nulls":19},0,"","objektnogle_"]
[234,null,{"$f":"IF('1 - Opstart Importark'!$B$6=\"\",\"\",CONCATENATE('Blokke - AMV'!$B$2,LEFT('1 - Opstart Importark'!$B$15,2),J246,IF(L246=\"\",\"\",\"-\"),L246,IF(N246=\"\",\"\",\"_\"),N246,IF(P246=\"\",\"\",(CONCATENATE(\"_\",P246)))))","v":""},null," ",{"$nulls":12},{"$f":"IF(LEN('1 - Opstart Importark'!$B$6)>0,'1 - Opstart Importark'!$B$6,\"\")","v":""},{"$f":"IF(LEN('1 - Opstart Importark'!$B$9)>0,'1 - Opstart Importark'!$B$9,\"\")","v":""},{"$nulls":19},0,"","objektnogle_"]
[235,null,{"$f":"IF('1 - Opstart Importark'!$B$6=\"\",\"\",CONCATENATE('Blokke - AMV'!$B$2,LEFT('1 - Opstart Importark'!$B$15,2),J247,IF(L247=\"\",\"\",\"-\"),L247,IF(N247=\"\",\"\",\"_\"),N247,IF(P247=\"\",\"\",(CONCATENATE(\"_\",P247)))))","v":""},null," ",{"$nulls":12},{"$f":"IF(LEN('1 - Opstart Importark'!$B$6)>0,'1 - Opstart Importark'!$B$6,\"\")","v":""},{"$f":"IF(LEN('1 - Opstart Importark'!$B$9)>0,'1 - Opstart Importark'!$B$9,\"\")","v":""},{"$nulls":19},0,"","objektnogle_"]
[236,null,{"$f":"IF('1 - Opstart Importark'!$B$6=\"\",\"\",CONCATENATE('Blokke - AMV'!$B$2,LEFT('1 - Opstart Importark'!$B$15,2),J248,IF(L248=\"\",\"\",\"-\"),L248,IF(N248=\"\",\"\",\"_\"),N248,IF(P248=\"\",\"\",(CONCATENATE(\"_\",P248)))))","v":""},null," ",{"$nulls":12},{"$f":"IF(LEN('1 - Opstart Importark'!$B$6)>0,'1 - Opstart Importark'!$B$6,\"\")","v":""},{"$f":"IF(LEN('1 - Opstart Importark'!$B$9)>0,'1 - Opstart Importark'!$B$9,\"\")","v":""},{"$nulls":19},0,"","objektnogle_"]
[237,null,{"$f":"IF('1 - Opstart Importark'!$B$6=\"\",\"\",CONCATENATE('Blokke - AMV'!$B$2,LEFT('1 - Opstart Importark'!$B$15,2),J249,IF(L249=\"\",\"\",\"-\"),L249,IF(N249=\"\",\"\",\"_\"),N249,IF(P249=\"\",\"\",(CONCATENATE(\"_\",P249)))))","v":""},null," ",{"$nulls":12},{"$f":"IF(LEN('1 - Opstart Importark'!$B$6)>0,'1 - Opstart Importark'!$B$6,\"\")","v":""},{"$f":"IF(LEN('1 - Opstart Importark'!$B$9)>0,'1 - Opstart Importark'!$B$9,\"\")","v":""},{"$nulls":19},0,"","objektnogle_"]
[238,null,{"$f":"IF('1 - Opstart Importark'!$B$6=\"\",\"\",CONCATENATE('Blokke - AMV'!$B$2,LEFT('1 - Opstart Importark'!$B$15,2),J250,IF(L250=\"\",\"\",\"-\"),L250,IF(N250=\"\",\"\",\"_\"),N250,IF(P250=\"\",\"\",(CONCATENATE(\"_\",P250)))))","v":""},null," ",{"$nulls":12},{"$f":"IF(LEN('1 - Opstart Importark'!$B$6)>0,'1 - Opstart Importark'!$B$6,\"\")","v":""},{"$f":"IF(LEN('1 - Opstart Importark'!$B$9)>0,'1 - Opstart Importark'!$B$9,\"\")","v":""},{"$nulls":19},0,"","objektnogle_"]
[239,null,{"$f":"IF('1 - Opstart Importark'!$B$6=\"\",\"\",CONCATENATE('Blokke - AMV'!$B$2,LEFT('1 - Opstart Importark'!$B$15,2),J251,IF(L251=\"\",\"\",\"-\"),L251,IF(N251=\"\",\"\",\"_\"),N251,IF(P251=\"\",\"\",(CONCATENATE(\"_\",P251)))))","v":""},null," ",{"$nulls":12},{"$f":"IF(LEN('1 - Opstart Importark'!$B$6)>0,'1 - Opstart Importark'!$B$6,\"\")","v":""},{"$f":"IF(LEN('1 - Opstart Importark'!$B$9)>0,'1 - Opstart Importark'!$B$9,\"\")","v":""},{"$nulls":19},0,"","objektnogle_"]
[240,null,{"$f":"IF('1 - Opstart Importark'!$B$6=\"\",\"\",CONCATENATE('Blokke - AMV'!$B$2,LEFT('1 - Opstart Importark'!$B$15,2),J252,IF(L252=\"\",\"\",\"-\"),L252,IF(N252=\"\",\"\",\"_\"),N252,IF(P252=\"\",\"\",(CONCATENATE(\"_\",P252)))))","v":""},null," ",{"$nulls":12},{"$f":"IF(LEN('1 - Opstart Importark'!$B$6)>0,'1 - Opstart Importark'!$B$6,\"\")","v":""},{"$f":"IF(LEN('1 - Opstart Importark'!$B$9)>0,'1 - Opstart Importark'!$B$9,\"\")","v":""},{"$nulls":19},0,"","objektnogle_"]
[241,null,{"$f":"IF('1 - Opstart Importark'!$B$6=\"\",\"\",CONCATENATE('Blokke - AMV'!$B$2,LEFT('1 - Opstart Importark'!$B$15,2),J253,IF(L253=\"\",\"\",\"-\"),L253,IF(N253=\"\",\"\",\"_\"),N253,IF(P253=\"\",\"\",(CONCATENATE(\"_\",P253)))))","v":""},null," ",{"$nulls":12},{"$f":"IF(LEN('1 - Opstart Importark'!$B$6)>0,'1 - Opstart Importark'!$B$6,\"\")","v":""},{"$f":"IF(LEN('1 - Opstart Importark'!$B$9)>0,'1 - Opstart Importark'!$B$9,\"\")","v":""},{"$nulls":19},0,"","objektnogle_"]
[242,null,{"$f":"IF('1 - Opstart Importark'!$B$6=\"\",\"\",CONCATENATE('Blokke - AMV'!$B$2,LEFT('1 - Opstart Importark'!$B$15,2),J254,IF(L254=\"\",\"\",\"-\"),L254,IF(N254=\"\",\"\",\"_\"),N254,IF(P254=\"\",\"\",(CONCATENATE(\"_\",P254)))))","v":""},null," ",{"$nulls":12},{"$f":"IF(LEN('1 - Opstart Importark'!$B$6)>0,'1 - Opstart Importark'!$B$6,\"\")","v":""},{"$f":"IF(LEN('1 - Opstart Importark'!$B$9)>0,'1 - Opstart Importark'!$B$9,\"\")","v":""},{"$nulls":19},0,"","objektnogle_"]
[243,null,{"$f":"IF('1 - Opstart Importark'!$B$6=\"\",\"\",CONCATENATE('Blokke - AMV'!$B$2,LEFT('1 - Opstart Importark'!$B$15,2),J255,IF(L255=\"\",\"\",\"-\"),L255,IF(N255=\"\",\"\",\"_\"),N255,IF(P255=\"\",\"\",(CONCATENATE(\"_\",P255)))))","v":""},null," ",{"$nulls":12},{"$f":"IF(LEN('1 - Opstart Importark'!$B$6)>0,'1 - Opstart Importark'!$B$6,\"\")","v":""},{"$f":"IF(LEN('1 - Opstart Importark'!$B$9)>0,'1 - Opstart Importark'!$B$9,\"\")","v":""},{"$nulls":19},0,"","objektnogle_"]
[244,null,{"$f":"IF('1 - Opstart Importark'!$B$6=\"\",\"\",CONCATENATE('Blokke - AMV'!$B$2,LEFT('1 - Opstart Importark'!$B$15,2),J256,IF(L256=\"\",\"\",\"-\"),L256,IF(N256=\"\",\"\",\"_\"),N256,IF(P256=\"\",\"\",(CONCATENATE(\"_\",P256)))))","v":""},null," ",{"$nulls":12},{"$f":"IF(LEN('1 - Opstart Importark'!$B$6)>0,'1 - Opstart Importark'!$B$6,\"\")","v":""},{"$f":"IF(LEN('1 - Opstart Importark'!$B$9)>0,'1 - Opstart Importark'!$B$9,\"\")","v":""},{"$nulls":19},0,"","objektnogle_"]
[245,null,{"$f":"IF('1 - Opstart Importark'!$B$6=\"\",\"\",CONCATENATE('Blokke - AMV'!$B$2,LEFT('1 - Opstart Importark'!$B$15,2),J257,IF(L257=\"\",\"\",\"-\"),L257,IF(N257=\"\",\"\",\"_\"),N257,IF(P257=\"\",\"\",(CONCATENATE(\"_\",P257)))))","v":""},null," ",{"$nulls":12},{"$f":"IF(LEN('1 - Opstart Importark'!$B$6)>0,'1 - Opstart Importark'!$B$6,\"\")","v":""},{"$f":"IF(LEN('1 - Opstart Importark'!$B$9)>0,'1 - Opstart Importark'!$B$9,\"\")","v":""},{"$nulls":19},0,"","objektnogle_"]
[246,null,{"$f":"IF('1 - Opstart Importark'!$B$6=\"\",\"\",CONCATENATE('Blokke - AMV'!$B$2,LEFT('1 - Opstart Importark'!$B$15,2),J258,IF(L258=\"\",\"\",\"-\"),L258,IF(N258=\"\",\"\",\"_\"),N258,IF(P258=\"\",\"\",(CONCATENATE(\"_\",P258)))))","v":""},null," ",{"$nulls":12},{"$f":"IF(LEN('1 - Opstart Importark'!$B$6)>0,'1 - Opstart Importark'!$B$6,\"\")","v":""},{"$f":"IF(LEN('1 - Opstart Importark'!$B$9)>0,'1 - Opstart Importark'!$B$9,\"\")","v":""},{"$nulls":19},0,"","objektnogle_"]
[247,null,{"$f":"IF('1 - Opstart Importark'!$B$6=\"\",\"\",CONCATENATE('Blokke - AMV'!$B$2,LEFT('1 - Opstart Importark'!$B$15,2),J259,IF(L259=\"\",\"\",\"-\"),L259,IF(N259=\"\",\"\",\"_\"),N259,IF(P259=\"\",\"\",(CONCATENATE(\"_\",P259)))))","v":""},null," ",{"$nulls":12},{"$f":"IF(LEN('1 - Opstart Importark'!$B$6)>0,'1 - Opstart Importark'!$B$6,\"\")","v":""},{"$f":"IF(LEN('1 - Opstart Importark'!$B$9)>0,'1 - Opstart Importark'!$B$9,\"\")","v":""},{"$nulls":19},0,"","objektnogle_"]
[248,null,{"$f":"IF('1 - Opstart Importark'!$B$6=\"\",\"\",CONCATENATE('Blokke - AMV'!$B$2,LEFT('1 - Opstart Importark'!$B$15,2),J260,IF(L260=\"\",\"\",\"-\"),L260,IF(N260=\"\",\"\",\"_\"),N260,IF(P260=\"\",\"\",(CONCATENATE(\"_\",P260)))))","v":""},null," ",{"$nulls":12},{"$f":"IF(LEN('1 - Opstart Importark'!$B$6)>0,'1 - Opstart Importark'!$B$6,\"\")","v":""},{"$f":"IF(LEN('1 - Opstart Importark'!$B$9)>0,'1 - Opstart Importark'!$B$9,\"\")","v":""},{"$nulls":19},0,"","objektnogle_"]
[249,null,{"$f":"IF('1 - Opstart Importark'!$B$6=\"\",\"\",CONCATENATE('Blokke - AMV'!$B$2,LEFT('1 - Opstart Importark'!$B$15,2),J261,IF(L261=\"\",\"\",\"-\"),L261,IF(N261=\"\",\"\",\"_\"),N261,IF(P261=\"\",\"\",(CONCATENATE(\"_\",P261)))))","v":""},null," ",{"$nulls":12},{"$f":"IF(LEN('1 - Opstart Importark'!$B$6)>0,'1 - Opstart Importark'!$B$6,\"\")","v":""},{"$f":"IF(LEN('1 - Opstart Importark'!$B$9)>0,'1 - Opstart Importark'!$B$9,\"\")","v":""},{"$nulls":19},0,"","objektnogle_"]
[250,null,{"$f":"IF('1 - Opstart Importark'!$B$6=\"\",\"\",CONCATENATE('Blokke - AMV'!$B$2,LEFT('1 - Opstart Importark'!$B$15,2),J262,IF(L262=\"\",\"\",\"-\"),L262,IF(N262=\"\",\"\",\"_\"),N262,IF(P262=\"\",\"\",(CONCATENATE(\"_\",P262)))))","v":""},null," ",{"$nulls":12},{"$f":"IF(LEN('1 - Opstart Importark'!$B$6)>0,'1 - Opstart Importark'!$B$6,\"\")","v":""},{"$f":"IF(LEN('1 - Opstart Importark'!$B$9)>0,'1 - Opstart Importark'!$B$9,\"\")","v":""},{"$nulls":19},0,"","objektnogle_"]
[251,null,{"$f":"IF('1 - Opstart Importark'!$B$6=\"\",\"\",CONCATENATE('Blokke - AMV'!$B$2,LEFT('1 - Opstart Importark'!$B$15,2),J263,IF(L263=\"\",\"\",\"-\"),L263,IF(N263=\"\",\"\",\"_\"),N263,IF(P263=\"\",\"\",(CONCATENATE(\"_\",P263)))))","v":""},null," ",{"$nulls":12},{"$f":"IF(LEN('1 - Opstart Importark'!$B$6)>0,'1 - Opstart Importark'!$B$6,\"\")","v":""},{"$f":"IF(LEN('1 - Opstart Importark'!$B$9)>0,'1 - Opstart Importark'!$B$9,\"\")","v":""},{"$nulls":19},0,"","objektnogle_"]
[252,null,{"$f":"IF('1 - Opstart Importark'!$B$6=\"\",\"\",CONCATENATE('Blokke - AMV'!$B$2,LEFT('1 - Opstart Importark'!$B$15,2),J264,IF(L264=\"\",\"\",\"-\"),L264,IF(N264=\"\",\"\",\"_\"),N264,IF(P264=\"\",\"\",(CONCATENATE(\"_\",P264)))))","v":""},null," ",{"$nulls":12},{"$f":"IF(LEN('1 - Opstart Importark'!$B$6)>0,'1 - Opstart Importark'!$B$6,\"\")","v":""},{"$f":"IF(LEN('1 - Opstart Importark'!$B$9)>0,'1 - Opstart Importark'!$B$9,\"\")","v":""},{"$nulls":19},0,"","objektnogle_"]
[253,null,{"$f":"IF('1 - Opstart Importark'!$B$6=\"\",\"\",CONCATENATE('Blokke - AMV'!$B$2,LEFT('1 - Opstart Importark'!$B$15,2),J265,IF(L265=\"\",\"\",\"-\"),L265,IF(N265=\"\",\"\",\"_\"),N265,IF(P265=\"\",\"\",(CONCATENATE(\"_\",P265)))))","v":""},null," ",{"$nulls":12},{"$f":"IF(LEN('1 - Opstart Importark'!$B$6)>0,'1 - Opstart Importark'!$B$6,\"\")","v":""},{"$f":"IF(LEN('1 - Opstart Importark'!$B$9)>0,'1 - Opstart Importark'!$B$9,\"\")","v":""},{"$nulls":19},0,"","objektnogle_"]
[254,null,{"$f":"IF('1 - Opstart Importark'!$B$6=\"\",\"\",CONCATENATE('Blokke - AMV'!$B$2,LEFT('1 - Opstart Importark'!$B$15,2),J266,IF(L266=\"\",\"\",\"-\"),L266,IF(N266=\"\",\"\",\"_\"),N266,IF(P266=\"\",\"\",(CONCATENATE(\"_\",P266)))))","v":""},null," ",{"$nulls":12},{"$f":"IF(LEN('1 - Opstart Importark'!$B$6)>0,'1 - Opstart Importark'!$B$6,\"\")","v":""},{"$f":"IF(LEN('1 - Opstart Importark'!$B$9)>0,'1 - Opstart Importark'!$B$9,\"\")","v":""},{"$nulls":19},0,"","objektnogle_"]
[255,null,{"$f":"IF('1 - Opstart Importark'!$B$6=\"\",\"\",CONCATENATE('Blokke - AMV'!$B$2,LEFT('1 - Opstart Importark'!$B$15,2),J267,IF(L267=\"\",\"\",\"-\"),L267,IF(N267=\"\",\"\",\"_\"),N267,IF(P267=\"\",\"\",(CONCATENATE(\"_\",P267)))))","v":""},null," ",{"$nulls":12},{"$f":"IF(LEN('1 - Opstart Importark'!$B$6)>0,'1 - Opstart Importark'!$B$6,\"\")","v":""},{"$f":"IF(LEN('1 - Opstart Importark'!$B$9)>0,'1 - Opstart Importark'!$B$9,\"\")","v":""},{"$nulls":19},0,"","objektnogle_"]
[256,null,{"$f":"IF('1 - Opstart Importark'!$B$6=\"\",\"\",CONCATENATE('Blokke - AMV'!$B$2,LEFT('1 - Opstart Importark'!$B$15,2),J268,IF(L268=\"\",\"\",\"-\"),L268,IF(N268=\"\",\"\",\"_\"),N268,IF(P268=\"\",\"\",(CONCATENATE(\"_\",P268)))))","v":""},null," ",{"$nulls":12},{"$f":"IF(LEN('1 - Opstart Importark'!$B$6)>0,'1 - Opstart Importark'!$B$6,\"\")","v":""},{"$f":"IF(LEN('1 - Opstart Importark'!$B$9)>0,'1 - Opstart Importark'!$B$9,\"\")","v":""},{"$nulls":19},0,"","objektnogle_"]
[257,null,{"$f":"IF('1 - Opstart Importark'!$B$6=\"\",\"\",CONCATENATE('Blokke - AMV'!$B$2,LEFT('1 - Opstart Importark'!$B$15,2),J269,IF(L269=\"\",\"\",\"-\"),L269,IF(N269=\"\",\"\",\"_\"),N269,IF(P269=\"\",\"\",(CONCATENATE(\"_\",P269)))))","v":""},null," ",{"$nulls":12},{"$f":"IF(LEN('1 - Opstart Importark'!$B$6)>0,'1 - Opstart Importark'!$B$6,\"\")","v":""},{"$f":"IF(LEN('1 - Opstart Importark'!$B$9)>0,'1 - Opstart Importark'!$B$9,\"\")","v":""},{"$nulls":19},{"$f":"IFERROR(FIND(\".\",G269),)","v":0},{"$f":"IF(L269=\"\",\"\",IF(LEFT(L269,1)=\"E\",0,1))","v":""},{"$f":"CONCATENATE(\"objektnogle_\",LEFT(L269,1))","v":"objektnogle_"}]
[258,null,{"$f":"IF('1 - Opstart Importark'!$B$6=\"\",\"\",CONCATENATE('Blokke - AMV'!$B$2,LEFT('1 - Opstart Importark'!$B$15,2),J270,IF(L270=\"\",\"\",\"-\"),L270,IF(N270=\"\",\"\",\"_\"),N270,IF(P270=\"\",\"\",(CONCATENATE(\"_\",P270)))))","v":""},null," ",{"$nulls":12},{"$f":"IF(LEN('1 - Opstart Importark'!$B$6)>0,'1 - Opstart Importark'!$B$6,\"\")","v":""},{"$f":"IF(LEN('1 - Opstart Importark'!$B$9)>0,'1 - Opstart Importark'!$B$9,\"\")","v":""},{"$nulls":19},0,"","objektnogle_"]
[259,null,{"$f":"IF('1 - Opstart Importark'!$B$6=\"\",\"\",CONCATENATE('Blokke - AMV'!$B$2,LEFT('1 - Opstart Importark'!$B$15,2),J271,IF(L271=\"\",\"\",\"-\"),L271,IF(N271=\"\",\"\",\"_\"),N271,IF(P271=\"\",\"\",(CONCATENATE(\"_\",P271)))))","v":""},null," ",{"$nulls":12},{"$f":"IF(LEN('1 - Opstart Importark'!$B$6)>0,'1 - Opstart Importark'!$B$6,\"\")","v":""},{"$f":"IF(LEN('1 - Opstart Importark'!$B$9)>0,'1 - Opstart Importark'!$B$9,\"\")","v":""},{"$nulls":19},0,"","objektnogle_"]
[260,null,{"$f":"IF('1 - Opstart Importark'!$B$6=\"\",\"\",CONCATENATE('Blokke - AMV'!$B$2,LEFT('1 - Opstart Importark'!$B$15,2),J272,IF(L272=\"\",\"\",\"-\"),L272,IF(N272=\"\",\"\",\"_\"),N272,IF(P272=\"\",\"\",(CONCATENATE(\"_\",P272)))))","v":""},null," ",{"$nulls":12},{"$f":"IF(LEN('1 - Opstart Importark'!$B$6)>0,'1 - Opstart Importark'!$B$6,\"\")","v":""},{"$f":"IF(LEN('1 - Opstart Importark'!$B$9)>0,'1 - Opstart Importark'!$B$9,\"\")","v":""},{"$nulls":19},0,"","objektnogle_"]
[261,null,{"$f":"IF('1 - Opstart Importark'!$B$6=\"\",\"\",CONCATENATE('Blokke - AMV'!$B$2,LEFT('1 - Opstart Importark'!$B$15,2),J273,IF(L273=\"\",\"\",\"-\"),L273,IF(N273=\"\",\"\",\"_\"),N273,IF(P273=\"\",\"\",(CONCATENATE(\"_\",P273)))))","v":""},null," ",{"$nulls":12},{"$f":"IF(LEN('1 - Opstart Importark'!$B$6)>0,'1 - Opstart Importark'!$B$6,\"\")","v":""},{"$f":"IF(LEN('1 - Opstart Importark'!$B$9)>0,'1 - Opstart Importark'!$B$9,\"\")","v":""},{"$nulls":19},0,"","objektnogle_"]
[262,null,{"$f":"IF('1 - Opstart Importark'!$B$6=\"\",\"\",CONCATENATE('Blokke - AMV'!$B$2,LEFT('1 - Opstart Importark'!$B$15,2),J274,IF(L274=\"\",\"\",\"-\"),L274,IF(N274=\"\",\"\",\"_\"),N274,IF(P274=\"\",\"\",(CONCATENATE(\"_\",P274)))))","v":""},null," ",{"$nulls":12},{"$f":"IF(LEN('1 - Opstart Importark'!$B$6)>0,'1 - Opstart Importark'!$B$6,\"\")","v":""},{"$f":"IF(LEN('1 - Opstart Importark'!$B$9)>0,'1 - Opstart Importark'!$B$9,\"\")","v":""},{"$nulls":19},0,"","objektnogle_"]
[263,null,{"$f":"IF('1 - Opstart Importark'!$B$6=\"\",\"\",CONCATENATE('Blokke - AMV'!$B$2,LEFT('1 - Opstart Importark'!$B$15,2),J275,IF(L275=\"\",\"\",\"-\"),L275,IF(N275=\"\",\"\",\"_\"),N275,IF(P275=\"\",\"\",(CONCATENATE(\"_\",P275)))))","v":""},null," ",{"$nulls":12},{"$f":"IF(LEN('1 - Opstart Importark'!$B$6)>0,'1 - Opstart Importark'!$B$6,\"\")","v":""},{"$f":"IF(LEN('1 - Opstart Importark'!$B$9)>0,'1 - Opstart Importark'!$B$9,\"\")","v":""},{"$nulls":19},0,"","objektnogle_"]
[264,null,{"$f":"IF('1 - Opstart Importark'!$B$6=\"\",\"\",CONCATENATE('Blokke - AMV'!$B$2,LEFT('1 - Opstart Importark'!$B$15,2),J276,IF(L276=\"\",\"\",\"-\"),L276,IF(N276=\"\",\"\",\"_\"),N276,IF(P276=\"\",\"\",(CONCATENATE(\"_\",P276)))))","v":""},null," ",{"$nulls":12},{"$f":"IF(LEN('1 - Opstart Importark'!$B$6)>0,'1 - Opstart Importark'!$B$6,\"\")","v":""},{"$f":"IF(LEN('1 - Opstart Importark'!$B$9)>0,'1 - Opstart Importark'!$B$9,\"\")","v":""},{"$nulls":19},0,"","objektnogle_"]
[265,null,{"$f":"IF('1 - Opstart Importark'!$B$6=\"\",\"\",CONCATENATE('Blokke - AMV'!$B$2,LEFT('1 - Opstart Importark'!$B$15,2),J277,IF(L277=\"\",\"\",\"-\"),L277,IF(N277=\"\",\"\",\"_\"),N277,IF(P277=\"\",\"\",(CONCATENATE(\"_\",P277)))))","v":""},null," ",{"$nulls":12},{"$f":"IF(LEN('1 - Opstart Importark'!$B$6)>0,'1 - Opstart Importark'!$B$6,\"\")","v":""},{"$f":"IF(LEN('1 - Opstart Importark'!$B$9)>0,'1 - Opstart Importark'!$B$9,\"\")","v":""},{"$nulls":19},0,"","objektnogle_"]
[266,null,{"$f":"IF('1 - Opstart Importark'!$B$6=\"\",\"\",CONCATENATE('Blokke - AMV'!$B$2,LEFT('1 - Opstart Importark'!$B$15,2),J278,IF(L278=\"\",\"\",\"-\"),L278,IF(N278=\"\",\"\",\"_\"),N278,IF(P278=\"\",\"\",(CONCATENATE(\"_\",P278)))))","v":""},null," ",{"$nulls":12},{"$f":"IF(LEN('1 - Opstart Importark'!$B$6)>0,'1 - Opstart Importark'!$B$6,\"\")","v":""},{"$f":"IF(LEN('1 - Opstart Importark'!$B$9)>0,'1 - Opstart Importark'!$B$9,\"\")","v":""},{"$nulls":19},0,"","objektnogle_"]
[267,null,{"$f":"IF('1 - Opstart Importark'!$B$6=\"\",\"\",CONCATENATE('Blokke - AMV'!$B$2,LEFT('1 - Opstart Importark'!$B$15,2),J279,IF(L279=\"\",\"\",\"-\"),L279,IF(N279=\"\",\"\",\"_\"),N279,IF(P279=\"\",\"\",(CONCATENATE(\"_\",P279)))))","v":""},null," ",{"$nulls":12},{"$f":"IF(LEN('1 - Opstart Importark'!$B$6)>0,'1 - Opstart Importark'!$B$6,\"\")","v":""},{"$f":"IF(LEN('1 - Opstart Importark'!$B$9)>0,'1 - Opstart Importark'!$B$9,\"\")","v":""},{"$nulls":19},0,"","objektnogle_"]
[268,null,{"$f":"IF('1 - Opstart Importark'!$B$6=\"\",\"\",CONCATENATE('Blokke - AMV'!$B$2,LEFT('1 - Opstart Importark'!$B$15,2),J280,IF(L280=\"\",\"\",\"-\"),L280,IF(N280=\"\",\"\",\"_\"),N280,IF(P280=\"\",\"\",(CONCATENATE(\"_\",P280)))))","v":""},null," ",{"$nulls":12},{"$f":"IF(LEN('1 - Opstart Importark'!$B$6)>0,'1 - Opstart Importark'!$B$6,\"\")","v":""},{"$f":"IF(LEN('1 - Opstart Importark'!$B$9)>0,'1 - Opstart Importark'!$B$9,\"\")","v":""},{"$nulls":19},0,"","objektnogle_"]
[269,null,{"$f":"IF('1 - Opstart Importark'!$B$6=\"\",\"\",CONCATENATE('Blokke - AMV'!$B$2,LEFT('1 - Opstart Importark'!$B$15,2),J281,IF(L281=\"\",\"\",\"-\"),L281,IF(N281=\"\",\"\",\"_\"),N281,IF(P281=\"\",\"\",(CONCATENATE(\"_\",P281)))))","v":""},null," ",{"$nulls":12},{"$f":"IF(LEN('1 - Opstart Importark'!$B$6)>0,'1 - Opstart Importark'!$B$6,\"\")","v":""},{"$f":"IF(LEN('1 - Opstart Importark'!$B$9)>0,'1 - Opstart Importark'!$B$9,\"\")","v":""},{"$nulls":19},0,"","objektnogle_"]
[270,null,{"$f":"IF('1 - Opstart Importark'!$B$6=\"\",\"\",CONCATENATE('Blokke - AMV'!$B$2,LEFT('1 - Opstart Importark'!$B$15,2),J282,IF(L282=\"\",\"\",\"-\"),L282,IF(N282=\"\",\"\",\"_\"),N282,IF(P282=\"\",\"\",(CONCATENATE(\"_\",P282)))))","v":""},null," ",{"$nulls":12},{"$f":"IF(LEN('1 - Opstart Importark'!$B$6)>0,'1 - Opstart Importark'!$B$6,\"\")","v":""},{"$f":"IF(LEN('1 - Opstart Importark'!$B$9)>0,'1 - Opstart Importark'!$B$9,\"\")","v":""},{"$nulls":19},0,"","objektnogle_"]
[271,null,{"$f":"IF('1 - Opstart Importark'!$B$6=\"\",\"\",CONCATENATE('Blokke - AMV'!$B$2,LEFT('1 - Opstart Importark'!$B$15,2),J283,IF(L283=\"\",\"\",\"-\"),L283,IF(N283=\"\",\"\",\"_\"),N283,IF(P283=\"\",\"\",(CONCATENATE(\"_\",P283)))))","v":""},null," ",{"$nulls":12},{"$f":"IF(LEN('1 - Opstart Importark'!$B$6)>0,'1 - Opstart Importark'!$B$6,\"\")","v":""},{"$f":"IF(LEN('1 - Opstart Importark'!$B$9)>0,'1 - Opstart Importark'!$B$9,\"\")","v":""},{"$nulls":19},0,"","objektnogle_"]
[272,null,{"$f":"IF('1 - Opstart Importark'!$B$6=\"\",\"\",CONCATENATE('Blokke - AMV'!$B$2,LEFT('1 - Opstart Importark'!$B$15,2),J284,IF(L284=\"\",\"\",\"-\"),L284,IF(N284=\"\",\"\",\"_\"),N284,IF(P284=\"\",\"\",(CONCATENATE(\"_\",P284)))))","v":""},null," ",{"$nulls":12},{"$f":"IF(LEN('1 - Opstart Importark'!$B$6)>0,'1 - Opstart Importark'!$B$6,\"\")","v":""},{"$f":"IF(LEN('1 - Opstart Importark'!$B$9)>0,'1 - Opstart Importark'!$B$9,\"\")","v":""},{"$nulls":19},0,"","objektnogle_"]
[273,null,{"$f":"IF('1 - Opstart Importark'!$B$6=\"\",\"\",CONCATENATE('Blokke - AMV'!$B$2,LEFT('1 - Opstart Importark'!$B$15,2),J285,IF(L285=\"\",\"\",\"-\"),L285,IF(N285=\"\",\"\",\"_\"),N285,IF(P285=\"\",\"\",(CONCATENATE(\"_\",P285)))))","v":""},null," ",{"$nulls":12},{"$f":"IF(LEN('1 - Opstart Importark'!$B$6)>0,'1 - Opstart Importark'!$B$6,\"\")","v":""},{"$f":"IF(LEN('1 - Opstart Importark'!$B$9)>0,'1 - Opstart Importark'!$B$9,\"\")","v":""},{"$nulls":19},0,"","objektnogle_"]
[274,null,{"$f":"IF('1 - Opstart Importark'!$B$6=\"\",\"\",CONCATENATE('Blokke - AMV'!$B$2,LEFT('1 - Opstart Importark'!$B$15,2),J286,IF(L286=\"\",\"\",\"-\"),L286,IF(N286=\"\",\"\",\"_\"),N286,IF(P286=\"\",\"\",(CONCATENATE(\"_\",P286)))))","v":""},null," ",{"$nulls":12},{"$f":"IF(LEN('1 - Opstart Importark'!$B$6)>0,'1 - Opstart Importark'!$B$6,\"\")","v":""},{"$f":"IF(LEN('1 - Opstart Importark'!$B$9)>0,'1 - Opstart Importark'!$B$9,\"\")","v":""},{"$nulls":19},0,"","objektnogle_"]
[275,null,{"$f":"IF('1 - Opstart Importark'!$B$6=\"\",\"\",CONCATENATE('Blokke - AMV'!$B$2,LEFT('1 - Opstart Importark'!$B$15,2),J287,IF(L287=\"\",\"\",\"-\"),L287,IF(N287=\"\",\"\",\"_\"),N287,IF(P287=\"\",\"\",(CONCATENATE(\"_\",P287)))))","v":""},null," ",{"$nulls":12},{"$f":"IF(LEN('1 - Opstart Importark'!$B$6)>0,'1 - Opstart Importark'!$B$6,\"\")","v":""},{"$f":"IF(LEN('1 - Opstart Importark'!$B$9)>0,'1 - Opstart Importark'!$B$9,\"\")","v":""},{"$nulls":19},0,"","objektnogle_"]
[276,null,{"$f":"IF('1 - Opstart Importark'!$B$6=\"\",\"\",CONCATENATE('Blokke - AMV'!$B$2,LEFT('1 - Opstart Importark'!$B$15,2),J288,IF(L288=\"\",\"\",\"-\"),L288,IF(N288=\"\",\"\",\"_\"),N288,IF(P288=\"\",\"\",(CONCATENATE(\"_\",P288)))))","v":""},null," ",{"$nulls":12},{"$f":"IF(LEN('1 - Opstart Importark'!$B$6)>0,'1 - Opstart Importark'!$B$6,\"\")","v":""},{"$f":"IF(LEN('1 - Opstart Importark'!$B$9)>0,'1 - Opstart Importark'!$B$9,\"\")","v":""},{"$nulls":19},0,"","objektnogle_"]
[277,null,{"$f":"IF('1 - Opstart Importark'!$B$6=\"\",\"\",CONCATENATE('Blokke - AMV'!$B$2,LEFT('1 - Opstart Importark'!$B$15,2),J289,IF(L289=\"\",\"\",\"-\"),L289,IF(N289=\"\",\"\",\"_\"),N289,IF(P289=\"\",\"\",(CONCATENATE(\"_\",P289)))))","v":""},null," ",{"$nulls":12},{"$f":"IF(LEN('1 - Opstart Importark'!$B$6)>0,'1 - Opstart Importark'!$B$6,\"\")","v":""},{"$f":"IF(LEN('1 - Opstart Importark'!$B$9)>0,'1 - Opstart Importark'!$B$9,\"\")","v":""},{"$nulls":19},0,"","objektnogle_"]
[278,null,{"$f":"IF('1 - Opstart Importark'!$B$6=\"\",\"\",CONCATENATE('Blokke - AMV'!$B$2,LEFT('1 - Opstart Importark'!$B$15,2),J290,IF(L290=\"\",\"\",\"-\"),L290,IF(N290=\"\",\"\",\"_\"),N290,IF(P290=\"\",\"\",(CONCATENATE(\"_\",P290)))))","v":""},null," ",{"$nulls":12},{"$f":"IF(LEN('1 - Opstart Importark'!$B$6)>0,'1 - Opstart Importark'!$B$6,\"\")","v":""},{"$f":"IF(LEN('1 - Opstart Importark'!$B$9)>0,'1 - Opstart Importark'!$B$9,\"\")","v":""},{"$nulls":19},0,"","objektnogle_"]
[279,null,{"$f":"IF('1 - Opstart Importark'!$B$6=\"\",\"\",CONCATENATE('Blokke - AMV'!$B$2,LEFT('1 - Opstart Importark'!$B$15,2),J291,IF(L291=\"\",\"\",\"-\"),L291,IF(N291=\"\",\"\",\"_\"),N291,IF(P291=\"\",\"\",(CONCATENATE(\"_\",P291)))))","v":""},null," ",{"$nulls":12},{"$f":"IF(LEN('1 - Opstart Importark'!$B$6)>0,'1 - Opstart Importark'!$B$6,\"\")","v":""},{"$f":"IF(LEN('1 - Opstart Importark'!$B$9)>0,'1 - Opstart Importark'!$B$9,\"\")","v":""},{"$nulls":19},0,"","objektnogle_"]
[280,null,{"$f":"IF('1 - Opstart Importark'!$B$6=\"\",\"\",CONCATENATE('Blokke - AMV'!$B$2,LEFT('1 - Opstart Importark'!$B$15,2),J292,IF(L292=\"\",\"\",\"-\"),L292,IF(N292=\"\",\"\",\"_\"),N292,IF(P292=\"\",\"\",(CONCATENATE(\"_\",P292)))))","v":""},null," ",{"$nulls":12},{"$f":"IF(LEN('1 - Opstart Importark'!$B$6)>0,'1 - Opstart Importark'!$B$6,\"\")","v":""},{"$f":"IF(LEN('1 - Opstart Importark'!$B$9)>0,'1 - Opstart Importark'!$B$9,\"\")","v":""},{"$nulls":19},0,"","objektnogle_"]
[281,null,{"$f":"IF('1 - Opstart Importark'!$B$6=\"\",\"\",CONCATENATE('Blokke - AMV'!$B$2,LEFT('1 - Opstart Importark'!$B$15,2),J293,IF(L293=\"\",\"\",\"-\"),L293,IF(N293=\"\",\"\",\"_\"),N293,IF(P293=\"\",\"\",(CONCATENATE(\"_\",P293)))))","v":""},null," ",{"$nulls":12},{"$f":"IF(LEN('1 - Opstart Importark'!$B$6)>0,'1 - Opstart Importark'!$B$6,\"\")","v":""},{"$f":"IF(LEN('1 - Opstart Importark'!$B$9)>0,'1 - Opstart Importark'!$B$9,\"\")","v":""},{"$nulls":19},0,"","objektnogle_"]
[282,null,{"$f":"IF('1 - Opstart Importark'!$B$6=\"\",\"\",CONCATENATE('Blokke - AMV'!$B$2,LEFT('1 - Opstart Importark'!$B$15,2),J294,IF(L294=\"\",\"\",\"-\"),L294,IF(N294=\"\",\"\",\"_\"),N294,IF(P294=\"\",\"\",(CONCATENATE(\"_\",P294)))))","v":""},null," ",{"$nulls":12},{"$f":"IF(LEN('1 - Opstart Importark'!$B$6)>0,'1 - Opstart Importark'!$B$6,\"\")","v":""},{"$f":"IF(LEN('1 - Opstart Importark'!$B$9)>0,'1 - Opstart Importark'!$B$9,\"\")","v":""},{"$nulls":19},0,"","objektnogle_"]
[283,null,{"$f":"IF('1 - Opstart Importark'!$B$6=\"\",\"\",CONCATENATE('Blokke - AMV'!$B$2,LEFT('1 - Opstart Importark'!$B$15,2),J295,IF(L295=\"\",\"\",\"-\"),L295,IF(N295=\"\",\"\",\"_\"),N295,IF(P295=\"\",\"\",(CONCATENATE(\"_\",P295)))))","v":""},null," ",{"$nulls":12},{"$f":"IF(LEN('1 - Opstart Importark'!$B$6)>0,'1 - Opstart Importark'!$B$6,\"\")","v":""},{"$f":"IF(LEN('1 - Opstart Importark'!$B$9)>0,'1 - Opstart Importark'!$B$9,\"\")","v":""},{"$nulls":19},0,"","objektnogle_"]
[284,null,{"$f":"IF('1 - Opstart Importark'!$B$6=\"\",\"\",CONCATENATE('Blokke - AMV'!$B$2,LEFT('1 - Opstart Importark'!$B$15,2),J296,IF(L296=\"\",\"\",\"-\"),L296,IF(N296=\"\",\"\",\"_\"),N296,IF(P296=\"\",\"\",(CONCATENATE(\"_\",P296)))))","v":""},null," ",{"$nulls":12},{"$f":"IF(LEN('1 - Opstart Importark'!$B$6)>0,'1 - Opstart Importark'!$B$6,\"\")","v":""},{"$f":"IF(LEN('1 - Opstart Importark'!$B$9)>0,'1 - Opstart Importark'!$B$9,\"\")","v":""},{"$nulls":19},0,"","objektnogle_"]
[285,null,{"$f":"IF('1 - Opstart Importark'!$B$6=\"\",\"\",CONCATENATE('Blokke - AMV'!$B$2,LEFT('1 - Opstart Importark'!$B$15,2),J297,IF(L297=\"\",\"\",\"-\"),L297,IF(N297=\"\",\"\",\"_\"),N297,IF(P297=\"\",\"\",(CONCATENATE(\"_\",P297)))))","v":""},null," ",{"$nulls":12},{"$f":"IF(LEN('1 - Opstart Importark'!$B$6)>0,'1 - Opstart Importark'!$B$6,\"\")","v":""},{"$f":"IF(LEN('1 - Opstart Importark'!$B$9)>0,'1 - Opstart Importark'!$B$9,\"\")","v":""},{"$nulls":19},0,"","objektnogle_"]
[286,null,{"$f":"IF('1 - Opstart Importark'!$B$6=\"\",\"\",CONCATENATE('Blokke - AMV'!$B$2,LEFT('1 - Opstart Importark'!$B$15,2),J298,IF(L298=\"\",\"\",\"-\"),L298,IF(N298=\"\",\"\",\"_\"),N298,IF(P298=\"\",\"\",(CONCATENATE(\"_\",P298)))))","v":""},null," ",{"$nulls":12},{"$f":"IF(LEN('1 - Opstart Importark'!$B$6)>0,'1 - Opstart Importark'!$B$6,\"\")","v":""},{"$f":"IF(LEN('1 - Opstart Importark'!$B$9)>0,'1 - Opstart Importark'!$B$9,\"\")","v":""},{"$nulls":19},0,"","objektnogle_"]
[287,null,{"$f":"IF('1 - Opstart Importark'!$B$6=\"\",\"\",CONCATENATE('Blokke - AMV'!$B$2,LEFT('1 - Opstart Importark'!$B$15,2),J299,IF(L299=\"\",\"\",\"-\"),L299,IF(N299=\"\",\"\",\"_\"),N299,IF(P299=\"\",\"\",(CONCATENATE(\"_\",P299)))))","v":""},null," ",{"$nulls":12},{"$f":"IF(LEN('1 - Opstart Importark'!$B$6)>0,'1 - Opstart Importark'!$B$6,\"\")","v":""},{"$f":"IF(LEN('1 - Opstart Importark'!$B$9)>0,'1 - Opstart Importark'!$B$9,\"\")","v":""},{"$nulls":19},0,"","objektnogle_"]
[288,null,{"$f":"IF('1 - Opstart Importark'!$B$6=\"\",\"\",CONCATENATE('Blokke - AMV'!$B$2,LEFT('1 - Opstart Importark'!$B$15,2),J300,IF(L300=\"\",\"\",\"-\"),L300,IF(N300=\"\",\"\",\"_\"),N300,IF(P300=\"\",\"\",(CONCATENATE(\"_\",P300)))))","v":""},null," ",{"$nulls":12},{"$f":"IF(LEN('1 - Opstart Importark'!$B$6)>0,'1 - Opstart Importark'!$B$6,\"\")","v":""},{"$f":"IF(LEN('1 - Opstart Importark'!$B$9)>0,'1 - Opstart Importark'!$B$9,\"\")","v":""},{"$nulls":19},0,"","objektnogle_"]
[289,null,{"$f":"IF('1 - Opstart Importark'!$B$6=\"\",\"\",CONCATENATE('Blokke - AMV'!$B$2,LEFT('1 - Opstart Importark'!$B$15,2),J301,IF(L301=\"\",\"\",\"-\"),L301,IF(N301=\"\",\"\",\"_\"),N301,IF(P301=\"\",\"\",(CONCATENATE(\"_\",P301)))))","v":""},null," ",{"$nulls":12},{"$f":"IF(LEN('1 - Opstart Importark'!$B$6)>0,'1 - Opstart Importark'!$B$6,\"\")","v":""},{"$f":"IF(LEN('1 - Opstart Importark'!$B$9)>0,'1 - Opstart Importark'!$B$9,\"\")","v":""},{"$nulls":19},0,"","objektnogle_"]
[290,null,{"$f":"IF('1 - Opstart Importark'!$B$6=\"\",\"\",CONCATENATE('Blokke - AMV'!$B$2,LEFT('1 - Opstart Importark'!$B$15,2),J302,IF(L302=\"\",\"\",\"-\"),L302,IF(N302=\"\",\"\",\"_\"),N302,IF(P302=\"\",\"\",(CONCATENATE(\"_\",P302)))))","v":""},null," ",{"$nulls":12},{"$f":"IF(LEN('1 - Opstart Importark'!$B$6)>0,'1 - Opstart Importark'!$B$6,\"\")","v":""},{"$f":"IF(LEN('1 - Opstart Importark'!$B$9)>0,'1 - Opstart Importark'!$B$9,\"\")","v":""},{"$nulls":19},0,"","objektnogle_"]
[291,null,{"$f":"IF('1 - Opstart Importark'!$B$6=\"\",\"\",CONCATENATE('Blokke - AMV'!$B$2,LEFT('1 - Opstart Importark'!$B$15,2),J303,IF(L303=\"\",\"\",\"-\"),L303,IF(N303=\"\",\"\",\"_\"),N303,IF(P303=\"\",\"\",(CONCATENATE(\"_\",P303)))))","v":""},null," ",{"$nulls":12},{"$f":"IF(LEN('1 - Opstart Importark'!$B$6)>0,'1 - Opstart Importark'!$B$6,\"\")","v":""},{"$f":"IF(LEN('1 - Opstart Importark'!$B$9)>0,'1 - Opstart Importark'!$B$9,\"\")","v":""},{"$nulls":19},0,"","objektnogle_"]
[292,null,{"$f":"IF('1 - Opstart Importark'!$B$6=\"\",\"\",CONCATENATE('Blokke - AMV'!$B$2,LEFT('1 - Opstart Importark'!$B$15,2),J304,IF(L304=\"\",\"\",\"-\"),L304,IF(N304=\"\",\"\",\"_\"),N304,IF(P304=\"\",\"\",(CONCATENATE(\"_\",P304)))))","v":""},null," ",{"$nulls":12},{"$f":"IF(LEN('1 - Opstart Importark'!$B$6)>0,'1 - Opstart Importark'!$B$6,\"\")","v":""},{"$f":"IF(LEN('1 - Opstart Importark'!$B$9)>0,'1 - Opstart Importark'!$B$9,\"\")","v":""},{"$nulls":19},0,"","objektnogle_"]
[293,null,{"$f":"IF('1 - Opstart Importark'!$B$6=\"\",\"\",CONCATENATE('Blokke - AMV'!$B$2,LEFT('1 - Opstart Importark'!$B$15,2),J305,IF(L305=\"\",\"\",\"-\"),L305,IF(N305=\"\",\"\",\"_\"),N305,IF(P305=\"\",\"\",(CONCATENATE(\"_\",P305)))))","v":""},null," ",{"$nulls":12},{"$f":"IF(LEN('1 - Opstart Importark'!$B$6)>0,'1 - Opstart Importark'!$B$6,\"\")","v":""},{"$f":"IF(LEN('1 - Opstart Importark'!$B$9)>0,'1 - Opstart Importark'!$B$9,\"\")","v":""},{"$nulls":19},0,"","objektnogle_"]
[294,null,{"$f":"IF('1 - Opstart Importark'!$B$6=\"\",\"\",CONCATENATE('Blokke - AMV'!$B$2,LEFT('1 - Opstart Importark'!$B$15,2),J306,IF(L306=\"\",\"\",\"-\"),L306,IF(N306=\"\",\"\",\"_\"),N306,IF(P306=\"\",\"\",(CONCATENATE(\"_\",P306)))))","v":""},null," ",{"$nulls":12},{"$f":"IF(LEN('1 - Opstart Importark'!$B$6)>0,'1 - Opstart Importark'!$B$6,\"\")","v":""},{"$f":"IF(LEN('1 - Opstart Importark'!$B$9)>0,'1 - Opstart Importark'!$B$9,\"\")","v":""},{"$nulls":19},0,"","objektnogle_"]
[295,null,{"$f":"IF('1 - Opstart Importark'!$B$6=\"\",\"\",CONCATENATE('Blokke - AMV'!$B$2,LEFT('1 - Opstart Importark'!$B$15,2),J307,IF(L307=\"\",\"\",\"-\"),L307,IF(N307=\"\",\"\",\"_\"),N307,IF(P307=\"\",\"\",(CONCATENATE(\"_\",P307)))))","v":""},null," ",{"$nulls":12},{"$f":"IF(LEN('1 - Opstart Importark'!$B$6)>0,'1 - Opstart Importark'!$B$6,\"\")","v":""},{"$f":"IF(LEN('1 - Opstart Importark'!$B$9)>0,'1 - Opstart Importark'!$B$9,\"\")","v":""},{"$nulls":19},0,"","objektnogle_"]
[296,null,{"$f":"IF('1 - Opstart Importark'!$B$6=\"\",\"\",CONCATENATE('Blokke - AMV'!$B$2,LEFT('1 - Opstart Importark'!$B$15,2),J308,IF(L308=\"\",\"\",\"-\"),L308,IF(N308=\"\",\"\",\"_\"),N308,IF(P308=\"\",\"\",(CONCATENATE(\"_\",P308)))))","v":""},null," ",{"$nulls":12},{"$f":"IF(LEN('1 - Opstart Importark'!$B$6)>0,'1 - Opstart Importark'!$B$6,\"\")","v":""},{"$f":"IF(LEN('1 - Opstart Importark'!$B$9)>0,'1 - Opstart Importark'!$B$9,\"\")","v":""},{"$nulls":19},0,"","objektnogle_"]
[297,null,{"$f":"IF('1 - Opstart Importark'!$B$6=\"\",\"\",CONCATENATE('Blokke - AMV'!$B$2,LEFT('1 - Opstart Importark'!$B$15,2),J309,IF(L309=\"\",\"\",\"-\"),L309,IF(N309=\"\",\"\",\"_\"),N309,IF(P309=\"\",\"\",(CONCATENATE(\"_\",P309)))))","v":""},null," ",{"$nulls":12},{"$f":"IF(LEN('1 - Opstart Importark'!$B$6)>0,'1 - Opstart Importark'!$B$6,\"\")","v":""},{"$f":"IF(LEN('1 - Opstart Importark'!$B$9)>0,'1 - Opstart Importark'!$B$9,\"\")","v":""},{"$nulls":19},0,"","objektnogle_"]
[298,null,{"$f":"IF('1 - Opstart Importark'!$B$6=\"\",\"\",CONCATENATE('Blokke - AMV'!$B$2,LEFT('1 - Opstart Importark'!$B$15,2),J310,IF(L310=\"\",\"\",\"-\"),L310,IF(N310=\"\",\"\",\"_\"),N310,IF(P310=\"\",\"\",(CONCATENATE(\"_\",P310)))))","v":""},null," ",{"$nulls":12},{"$f":"IF(LEN('1 - Opstart Importark'!$B$6)>0,'1 - Opstart Importark'!$B$6,\"\")","v":""},{"$f":"IF(LEN('1 - Opstart Importark'!$B$9)>0,'1 - Opstart Importark'!$B$9,\"\")","v":""},{"$nulls":19},0,"","objektnogle_"]
[299,null,{"$f":"IF('1 - Opstart Importark'!$B$6=\"\",\"\",CONCATENATE('Blokke - AMV'!$B$2,LEFT('1 - Opstart Importark'!$B$15,2),J311,IF(L311=\"\",\"\",\"-\"),L311,IF(N311=\"\",\"\",\"_\"),N311,IF(P311=\"\",\"\",(CONCATENATE(\"_\",P311)))))","v":""},null," ",{"$nulls":12},{"$f":"IF(LEN('1 - Opstart Importark'!$B$6)>0,'1 - Opstart Importark'!$B$6,\"\")","v":""},{"$f":"IF(LEN('1 - Opstart Importark'!$B$9)>0,'1 - Opstart Importark'!$B$9,\"\")","v":""},{"$nulls":19},0,"","objektnogle_"]
[300,null,{"$f":"IF('1 - Opstart Importark'!$B$6=\"\",\"\",CONCATENATE('Blokke - AMV'!$B$2,LEFT('1 - Opstart Importark'!$B$15,2),J312,IF(L312=\"\",\"\",\"-\"),L312,IF(N312=\"\",\"\",\"_\"),N312,IF(P312=\"\",\"\",(CONCATENATE(\"_\",P312)))))","v":""},null," ",{"$nulls":12},{"$f":"IF(LEN('1 - Opstart Importark'!$B$6)>0,'1 - Opstart Importark'!$B$6,\"\")","v":""},{"$f":"IF(LEN('1 - Opstart Importark'!$B$9)>0,'1 - Opstart Importark'!$B$9,\"\")","v":""},{"$nulls":19},0,"","objektnogle_"]
[301,null,{"$f":"IF('1 - Opstart Importark'!$B$6=\"\",\"\",CONCATENATE('Blokke - AMV'!$B$2,LEFT('1 - Opstart Importark'!$B$15,2),J313,IF(L313=\"\",\"\",\"-\"),L313,IF(N313=\"\",\"\",\"_\"),N313,IF(P313=\"\",\"\",(CONCATENATE(\"_\",P313)))))","v":""},null," ",{"$nulls":12},{"$f":"IF(LEN('1 - Opstart Importark'!$B$6)>0,'1 - Opstart Importark'!$B$6,\"\")","v":""},{"$f":"IF(LEN('1 - Opstart Importark'!$B$9)>0,'1 - Opstart Importark'!$B$9,\"\")","v":""},{"$nulls":19},0,"","objektnogle_"]
[302,null,{"$f":"IF('1 - Opstart Importark'!$B$6=\"\",\"\",CONCATENATE('Blokke - AMV'!$B$2,LEFT('1 - Opstart Importark'!$B$15,2),J314,IF(L314=\"\",\"\",\"-\"),L314,IF(N314=\"\",\"\",\"_\"),N314,IF(P314=\"\",\"\",(CONCATENATE(\"_\",P314)))))","v":""},null," ",{"$nulls":12},{"$f":"IF(LEN('1 - Opstart Importark'!$B$6)>0,'1 - Opstart Importark'!$B$6,\"\")","v":""},{"$f":"IF(LEN('1 - Opstart Importark'!$B$9)>0,'1 - Opstart Importark'!$B$9,\"\")","v":""},{"$nulls":19},0,"","objektnogle_"]
[303,null,{"$f":"IF('1 - Opstart Importark'!$B$6=\"\",\"\",CONCATENATE('Blokke - AMV'!$B$2,LEFT('1 - Opstart Importark'!$B$15,2),J315,IF(L315=\"\",\"\",\"-\"),L315,IF(N315=\"\",\"\",\"_\"),N315,IF(P315=\"\",\"\",(CONCATENATE(\"_\",P315)))))","v":""},null," ",{"$nulls":12},{"$f":"IF(LEN('1 - Opstart Importark'!$B$6)>0,'1 - Opstart Importark'!$B$6,\"\")","v":""},{"$f":"IF(LEN('1 - Opstart Importark'!$B$9)>0,'1 - Opstart Importark'!$B$9,\"\")","v":""},{"$nulls":19},0,"","objektnogle_"]
[304,null,{"$f":"IF('1 - Opstart Importark'!$B$6=\"\",\"\",CONCATENATE('Blokke - AMV'!$B$2,LEFT('1 - Opstart Importark'!$B$15,2),J316,IF(L316=\"\",\"\",\"-\"),L316,IF(N316=\"\",\"\",\"_\"),N316,IF(P316=\"\",\"\",(CONCATENATE(\"_\",P316)))))","v":""},null," ",{"$nulls":12},{"$f":"IF(LEN('1 - Opstart Importark'!$B$6)>0,'1 - Opstart Importark'!$B$6,\"\")","v":""},{"$f":"IF(LEN('1 - Opstart Importark'!$B$9)>0,'1 - Opstart Importark'!$B$9,\"\")","v":""},{"$nulls":19},0,"","objektnogle_"]
[305,null,{"$f":"IF('1 - Opstart Importark'!$B$6=\"\",\"\",CONCATENATE('Blokke - AMV'!$B$2,LEFT('1 - Opstart Importark'!$B$15,2),J317,IF(L317=\"\",\"\",\"-\"),L317,IF(N317=\"\",\"\",\"_\"),N317,IF(P317=\"\",\"\",(CONCATENATE(\"_\",P317)))))","v":""},null," ",{"$nulls":12},{"$f":"IF(LEN('1 - Opstart Importark'!$B$6)>0,'1 - Opstart Importark'!$B$6,\"\")","v":""},{"$f":"IF(LEN('1 - Opstart Importark'!$B$9)>0,'1 - Opstart Importark'!$B$9,\"\")","v":""},{"$nulls":19},0,"","objektnogle_"]
[306,null,{"$f":"IF('1 - Opstart Importark'!$B$6=\"\",\"\",CONCATENATE('Blokke - AMV'!$B$2,LEFT('1 - Opstart Importark'!$B$15,2),J318,IF(L318=\"\",\"\",\"-\"),L318,IF(N318=\"\",\"\",\"_\"),N318,IF(P318=\"\",\"\",(CONCATENATE(\"_\",P318)))))","v":""},null," ",{"$nulls":12},{"$f":"IF(LEN('1 - Opstart Importark'!$B$6)>0,'1 - Opstart Importark'!$B$6,\"\")","v":""},{"$f":"IF(LEN('1 - Opstart Importark'!$B$9)>0,'1 - Opstart Importark'!$B$9,\"\")","v":""},{"$nulls":19},0,"","objektnogle_"]
[307,null,{"$f":"IF('1 - Opstart Importark'!$B$6=\"\",\"\",CONCATENATE('Blokke - AMV'!$B$2,LEFT('1 - Opstart Importark'!$B$15,2),J319,IF(L319=\"\",\"\",\"-\"),L319,IF(N319=\"\",\"\",\"_\"),N319,IF(P319=\"\",\"\",(CONCATENATE(\"_\",P319)))))","v":""},null," ",{"$nulls":12},{"$f":"IF(LEN('1 - Opstart Importark'!$B$6)>0,'1 - Opstart Importark'!$B$6,\"\")","v":""},{"$f":"IF(LEN('1 - Opstart Importark'!$B$9)>0,'1 - Opstart Importark'!$B$9,\"\")","v":""},{"$nulls":19},0,"","objektnogle_"]
[308,null,{"$f":"IF('1 - Opstart Importark'!$B$6=\"\",\"\",CONCATENATE('Blokke - AMV'!$B$2,LEFT('1 - Opstart Importark'!$B$15,2),J320,IF(L320=\"\",\"\",\"-\"),L320,IF(N320=\"\",\"\",\"_\"),N320,IF(P320=\"\",\"\",(CONCATENATE(\"_\",P320)))))","v":""},null," ",{"$nulls":12},{"$f":"IF(LEN('1 - Opstart Importark'!$B$6)>0,'1 - Opstart Importark'!$B$6,\"\")","v":""},{"$f":"IF(LEN('1 - Opstart Importark'!$B$9)>0,'1 - Opstart Importark'!$B$9,\"\")","v":""},{"$nulls":19},0,"","objektnogle_"]
[309,null,{"$f":"IF('1 - Opstart Importark'!$B$6=\"\",\"\",CONCATENATE('Blokke - AMV'!$B$2,LEFT('1 - Opstart Importark'!$B$15,2),J321,IF(L321=\"\",\"\",\"-\"),L321,IF(N321=\"\",\"\",\"_\"),N321,IF(P321=\"\",\"\",(CONCATENATE(\"_\",P321)))))","v":""},null," ",{"$nulls":12},{"$f":"IF(LEN('1 - Opstart Importark'!$B$6)>0,'1 - Opstart Importark'!$B$6,\"\")","v":""},{"$f":"IF(LEN('1 - Opstart Importark'!$B$9)>0,'1 - Opstart Importark'!$B$9,\"\")","v":""},{"$nulls":19},0,"","objektnogle_"]
[310,null,{"$f":"IF('1 - Opstart Importark'!$B$6=\"\",\"\",CONCATENATE('Blokke - AMV'!$B$2,LEFT('1 - Opstart Importark'!$B$15,2),J322,IF(L322=\"\",\"\",\"-\"),L322,IF(N322=\"\",\"\",\"_\"),N322,IF(P322=\"\",\"\",(CONCATENATE(\"_\",P322)))))","v":""},null," ",{"$nulls":12},{"$f":"IF(LEN('1 - Opstart Importark'!$B$6)>0,'1 - Opstart Importark'!$B$6,\"\")","v":""},{"$f":"IF(LEN('1 - Opstart Importark'!$B$9)>0,'1 - Opstart Importark'!$B$9,\"\")","v":""},{"$nulls":19},0,"","objektnogle_"]
[311,null,{"$f":"IF('1 - Opstart Importark'!$B$6=\"\",\"\",CONCATENATE('Blokke - AMV'!$B$2,LEFT('1 - Opstart Importark'!$B$15,2),J323,IF(L323=\"\",\"\",\"-\"),L323,IF(N323=\"\",\"\",\"_\"),N323,IF(P323=\"\",\"\",(CONCATENATE(\"_\",P323)))))","v":""},null," ",{"$nulls":12},{"$f":"IF(LEN('1 - Opstart Importark'!$B$6)>0,'1 - Opstart Importark'!$B$6,\"\")","v":""},{"$f":"IF(LEN('1 - Opstart Importark'!$B$9)>0,'1 - Opstart Importark'!$B$9,\"\")","v":""},{"$nulls":19},0,"","objektnogle_"]
[312,null,{"$f":"IF('1 - Opstart Importark'!$B$6=\"\",\"\",CONCATENATE('Blokke - AMV'!$B$2,LEFT('1 - Opstart Importark'!$B$15,2),J324,IF(L324=\"\",\"\",\"-\"),L324,IF(N324=\"\",\"\",\"_\"),N324,IF(P324=\"\",\"\",(CONCATENATE(\"_\",P324)))))","v":""},null," ",{"$nulls":12},{"$f":"IF(LEN('1 - Opstart Importark'!$B$6)>0,'1 - Opstart Importark'!$B$6,\"\")","v":""},{"$f":"IF(LEN('1 - Opstart Importark'!$B$9)>0,'1 - Opstart Importark'!$B$9,\"\")","v":""},{"$nulls":19},0,"","objektnogle_"]
[313,null,{"$f":"IF('1 - Opstart Importark'!$B$6=\"\",\"\",CONCATENATE('Blokke - AMV'!$B$2,LEFT('1 - Opstart Importark'!$B$15,2),J325,IF(L325=\"\",\"\",\"-\"),L325,IF(N325=\"\",\"\",\"_\"),N325,IF(P325=\"\",\"\",(CONCATENATE(\"_\",P325)))))","v":""},null," ",{"$nulls":12},{"$f":"IF(LEN('1 - Opstart Importark'!$B$6)>0,'1 - Opstart Importark'!$B$6,\"\")","v":""},{"$f":"IF(LEN('1 - Opstart Importark'!$B$9)>0,'1 - Opstart Importark'!$B$9,\"\")","v":""},{"$nulls":19},0,"","objektnogle_"]
[314,null,{"$f":"IF('1 - Opstart Importark'!$B$6=\"\",\"\",CONCATENATE('Blokke - AMV'!$B$2,LEFT('1 - Opstart Importark'!$B$15,2),J326,IF(L326=\"\",\"\",\"-\"),L326,IF(N326=\"\",\"\",\"_\"),N326,IF(P326=\"\",\"\",(CONCATENATE(\"_\",P326)))))","v":""},null," ",{"$nulls":12},{"$f":"IF(LEN('1 - Opstart Importark'!$B$6)>0,'1 - Opstart Importark'!$B$6,\"\")","v":""},{"$f":"IF(LEN('1 - Opstart Importark'!$B$9)>0,'1 - Opstart Importark'!$B$9,\"\")","v":""},{"$nulls":19},0,"","objektnogle_"]
[315,null,{"$f":"IF('1 - Opstart Importark'!$B$6=\"\",\"\",CONCATENATE('Blokke - AMV'!$B$2,LEFT('1 - Opstart Importark'!$B$15,2),J327,IF(L327=\"\",\"\",\"-\"),L327,IF(N327=\"\",\"\",\"_\"),N327,IF(P327=\"\",\"\",(CONCATENATE(\"_\",P327)))))","v":""},null," ",{"$nulls":12},{"$f":"IF(LEN('1 - Opstart Importark'!$B$6)>0,'1 - Opstart Importark'!$B$6,\"\")","v":""},{"$f":"IF(LEN('1 - Opstart Importark'!$B$9)>0,'1 - Opstart Importark'!$B$9,\"\")","v":""},{"$nulls":19},0,"","objektnogle_"]
[316,null,{"$f":"IF('1 - Opstart Importark'!$B$6=\"\",\"\",CONCATENATE('Blokke - AMV'!$B$2,LEFT('1 - Opstart Importark'!$B$15,2),J328,IF(L328=\"\",\"\",\"-\"),L328,IF(N328=\"\",\"\",\"_\"),N328,IF(P328=\"\",\"\",(CONCATENATE(\"_\",P328)))))","v":""},null," ",{"$nulls":12},{"$f":"IF(LEN('1 - Opstart Importark'!$B$6)>0,'1 - Opstart Importark'!$B$6,\"\")","v":""},{"$f":"IF(LEN('1 - Opstart Importark'!$B$9)>0,'1 - Opstart Importark'!$B$9,\"\")","v":""},{"$nulls":19},0,"","objektnogle_"]
[317,null,{"$f":"IF('1 - Opstart Importark'!$B$6=\"\",\"\",CONCATENATE('Blokke - AMV'!$B$2,LEFT('1 - Opstart Importark'!$B$15,2),J329,IF(L329=\"\",\"\",\"-\"),L329,IF(N329=\"\",\"\",\"_\"),N329,IF(P329=\"\",\"\",(CONCATENATE(\"_\",P329)))))","v":""},null," ",{"$nulls":12},{"$f":"IF(LEN('1 - Opstart Importark'!$B$6)>0,'1 - Opstart Importark'!$B$6,\"\")","v":""},{"$f":"IF(LEN('1 - Opstart Importark'!$B$9)>0,'1 - Opstart Importark'!$B$9,\"\")","v":""},{"$nulls":19},0,"","objektnogle_"]
[318,null,{"$f":"IF('1 - Opstart Importark'!$B$6=\"\",\"\",CONCATENATE('Blokke - AMV'!$B$2,LEFT('1 - Opstart Importark'!$B$15,2),J330,IF(L330=\"\",\"\",\"-\"),L330,IF(N330=\"\",\"\",\"_\"),N330,IF(P330=\"\",\"\",(CONCATENATE(\"_\",P330)))))","v":""},null," ",{"$nulls":12},{"$f":"IF(LEN('1 - Opstart Importark'!$B$6)>0,'1 - Opstart Importark'!$B$6,\"\")","v":""},{"$f":"IF(LEN('1 - Opstart Importark'!$B$9)>0,'1 - Opstart Importark'!$B$9,\"\")","v":""},{"$nulls":19},0,"","objektnogle_"]
[319,null,{"$f":"IF('1 - Opstart Importark'!$B$6=\"\",\"\",CONCATENATE('Blokke - AMV'!$B$2,LEFT('1 - Opstart Importark'!$B$15,2),J331,IF(L331=\"\",\"\",\"-\"),L331,IF(N331=\"\",\"\",\"_\"),N331,IF(P331=\"\",\"\",(CONCATENATE(\"_\",P331)))))","v":""},null," ",{"$nulls":12},{"$f":"IF(LEN('1 - Opstart Importark'!$B$6)>0,'1 - Opstart Importark'!$B$6,\"\")","v":""},{"$f":"IF(LEN('1 - Opstart Importark'!$B$9)>0,'1 - Opstart Importark'!$B$9,\"\")","v":""},{"$nulls":19},0,"","objektnogle_"]
[320,null,{"$f":"IF('1 - Opstart Importark'!$B$6=\"\",\"\",CONCATENATE('Blokke - AMV'!$B$2,LEFT('1 - Opstart Importark'!$B$15,2),J332,IF(L332=\"\",\"\",\"-\"),L332,IF(N332=\"\",\"\",\"_\"),N332,IF(P332=\"\",\"\",(CONCATENATE(\"_\",P332)))))","v":""},null," ",{"$nulls":12},{"$f":"IF(LEN('1 - Opstart Importark'!$B$6)>0,'1 - Opstart Importark'!$B$6,\"\")","v":""},{"$f":"IF(LEN('1 - Opstart Importark'!$B$9)>0,'1 - Opstart Importark'!$B$9,\"\")","v":""},{"$nulls":19},0,"","objektnogle_"]
[321,null,{"$f":"IF('1 - Opstart Importark'!$B$6=\"\",\"\",CONCATENATE('Blokke - AMV'!$B$2,LEFT('1 - Opstart Importark'!$B$15,2),J333,IF(L333=\"\",\"\",\"-\"),L333,IF(N333=\"\",\"\",\"_\"),N333,IF(P333=\"\",\"\",(CONCATENATE(\"_\",P333)))))","v":""},null," ",{"$nulls":12},{"$f":"IF(LEN('1 - Opstart Importark'!$B$6)>0,'1 - Opstart Importark'!$B$6,\"\")","v":""},{"$f":"IF(LEN('1 - Opstart Importark'!$B$9)>0,'1 - Opstart Importark'!$B$9,\"\")","v":""},{"$nulls":19},{"$f":"IFERROR(FIND(\".\",G333),)","v":0},{"$f":"IF(L333=\"\",\"\",IF(LEFT(L333,1)=\"E\",0,1))","v":""},{"$f":"CONCATENATE(\"objektnogle_\",LEFT(L333,1))","v":"objektnogle_"}]
[322,null,{"$f":"IF('1 - Opstart Importark'!$B$6=\"\",\"\",CONCATENATE('Blokke - AMV'!$B$2,LEFT('1 - Opstart Importark'!$B$15,2),J334,IF(L334=\"\",\"\",\"-\"),L334,IF(N334=\"\",\"\",\"_\"),N334,IF(P334=\"\",\"\",(CONCATENATE(\"_\",P334)))))","v":""},null," ",{"$nulls":12},{"$f":"IF(LEN('1 - Opstart Importark'!$B$6)>0,'1 - Opstart Importark'!$B$6,\"\")","v":""},{"$f":"IF(LEN('1 - Opstart Importark'!$B$9)>0,'1 - Opstart Importark'!$B$9,\"\")","v":""},{"$nulls":19},0,"","objektnogle_"]
[323,null,{"$f":"IF('1 - Opstart Importark'!$B$6=\"\",\"\",CONCATENATE('Blokke - AMV'!$B$2,LEFT('1 - Opstart Importark'!$B$15,2),J335,IF(L335=\"\",\"\",\"-\"),L335,IF(N335=\"\",\"\",\"_\"),N335,IF(P335=\"\",\"\",(CONCATENATE(\"_\",P335)))))","v":""},null," ",{"$nulls":12},{"$f":"IF(LEN('1 - Opstart Importark'!$B$6)>0,'1 - Opstart Importark'!$B$6,\"\")","v":""},{"$f":"IF(LEN('1 - Opstart Importark'!$B$9)>0,'1 - Opstart Importark'!$B$9,\"\")","v":""},{"$nulls":19},0,"","objektnogle_"]
[324,null,{"$f":"IF('1 - Opstart Importark'!$B$6=\"\",\"\",CONCATENATE('Blokke - AMV'!$B$2,LEFT('1 - Opstart Importark'!$B$15,2),J336,IF(L336=\"\",\"\",\"-\"),L336,IF(N336=\"\",\"\",\"_\"),N336,IF(P336=\"\",\"\",(CONCATENATE(\"_\",P336)))))","v":""},null," ",{"$nulls":12},{"$f":"IF(LEN('1 - Opstart Importark'!$B$6)>0,'1 - Opstart Importark'!$B$6,\"\")","v":""},{"$f":"IF(LEN('1 - Opstart Importark'!$B$9)>0,'1 - Opstart Importark'!$B$9,\"\")","v":""},{"$nulls":19},0,"","objektnogle_"]
[325,null,{"$f":"IF('1 - Opstart Importark'!$B$6=\"\",\"\",CONCATENATE('Blokke - AMV'!$B$2,LEFT('1 - Opstart Importark'!$B$15,2),J337,IF(L337=\"\",\"\",\"-\"),L337,IF(N337=\"\",\"\",\"_\"),N337,IF(P337=\"\",\"\",(CONCATENATE(\"_\",P337)))))","v":""},null," ",{"$nulls":12},{"$f":"IF(LEN('1 - Opstart Importark'!$B$6)>0,'1 - Opstart Importark'!$B$6,\"\")","v":""},{"$f":"IF(LEN('1 - Opstart Importark'!$B$9)>0,'1 - Opstart Importark'!$B$9,\"\")","v":""},{"$nulls":19},0,"","objektnogle_"]
[326,null,{"$f":"IF('1 - Opstart Importark'!$B$6=\"\",\"\",CONCATENATE('Blokke - AMV'!$B$2,LEFT('1 - Opstart Importark'!$B$15,2),J338,IF(L338=\"\",\"\",\"-\"),L338,IF(N338=\"\",\"\",\"_\"),N338,IF(P338=\"\",\"\",(CONCATENATE(\"_\",P338)))))","v":""},null," ",{"$nulls":12},{"$f":"IF(LEN('1 - Opstart Importark'!$B$6)>0,'1 - Opstart Importark'!$B$6,\"\")","v":""},{"$f":"IF(LEN('1 - Opstart Importark'!$B$9)>0,'1 - Opstart Importark'!$B$9,\"\")","v":""},{"$nulls":19},0,"","objektnogle_"]
[327,null,{"$f":"IF('1 - Opstart Importark'!$B$6=\"\",\"\",CONCATENATE('Blokke - AMV'!$B$2,LEFT('1 - Opstart Importark'!$B$15,2),J339,IF(L339=\"\",\"\",\"-\"),L339,IF(N339=\"\",\"\",\"_\"),N339,IF(P339=\"\",\"\",(CONCATENATE(\"_\",P339)))))","v":""},null," ",{"$nulls":12},{"$f":"IF(LEN('1 - Opstart Importark'!$B$6)>0,'1 - Opstart Importark'!$B$6,\"\")","v":""},{"$f":"IF(LEN('1 - Opstart Importark'!$B$9)>0,'1 - Opstart Importark'!$B$9,\"\")","v":""},{"$nulls":19},0,"","objektnogle_"]
[328,null,{"$f":"IF('1 - Opstart Importark'!$B$6=\"\",\"\",CONCATENATE('Blokke - AMV'!$B$2,LEFT('1 - Opstart Importark'!$B$15,2),J340,IF(L340=\"\",\"\",\"-\"),L340,IF(N340=\"\",\"\",\"_\"),N340,IF(P340=\"\",\"\",(CONCATENATE(\"_\",P340)))))","v":""},null," ",{"$nulls":12},{"$f":"IF(LEN('1 - Opstart Importark'!$B$6)>0,'1 - Opstart Importark'!$B$6,\"\")","v":""},{"$f":"IF(LEN('1 - Opstart Importark'!$B$9)>0,'1 - Opstart Importark'!$B$9,\"\")","v":""},{"$nulls":19},0,"","objektnogle_"]
[329,null,{"$f":"IF('1 - Opstart Importark'!$B$6=\"\",\"\",CONCATENATE('Blokke - AMV'!$B$2,LEFT('1 - Opstart Importark'!$B$15,2),J341,IF(L341=\"\",\"\",\"-\"),L341,IF(N341=\"\",\"\",\"_\"),N341,IF(P341=\"\",\"\",(CONCATENATE(\"_\",P341)))))","v":""},null," ",{"$nulls":12},{"$f":"IF(LEN('1 - Opstart Importark'!$B$6)>0,'1 - Opstart Importark'!$B$6,\"\")","v":""},{"$f":"IF(LEN('1 - Opstart Importark'!$B$9)>0,'1 - Opstart Importark'!$B$9,\"\")","v":""},{"$nulls":19},0,"","objektnogle_"]
[330,null,{"$f":"IF('1 - Opstart Importark'!$B$6=\"\",\"\",CONCATENATE('Blokke - AMV'!$B$2,LEFT('1 - Opstart Importark'!$B$15,2),J342,IF(L342=\"\",\"\",\"-\"),L342,IF(N342=\"\",\"\",\"_\"),N342,IF(P342=\"\",\"\",(CONCATENATE(\"_\",P342)))))","v":""},null," ",{"$nulls":12},{"$f":"IF(LEN('1 - Opstart Importark'!$B$6)>0,'1 - Opstart Importark'!$B$6,\"\")","v":""},{"$f":"IF(LEN('1 - Opstart Importark'!$B$9)>0,'1 - Opstart Importark'!$B$9,\"\")","v":""},{"$nulls":19},0,"","objektnogle_"]
[331,null,{"$f":"IF('1 - Opstart Importark'!$B$6=\"\",\"\",CONCATENATE('Blokke - AMV'!$B$2,LEFT('1 - Opstart Importark'!$B$15,2),J343,IF(L343=\"\",\"\",\"-\"),L343,IF(N343=\"\",\"\",\"_\"),N343,IF(P343=\"\",\"\",(CONCATENATE(\"_\",P343)))))","v":""},null," ",{"$nulls":12},{"$f":"IF(LEN('1 - Opstart Importark'!$B$6)>0,'1 - Opstart Importark'!$B$6,\"\")","v":""},{"$f":"IF(LEN('1 - Opstart Importark'!$B$9)>0,'1 - Opstart Importark'!$B$9,\"\")","v":""},{"$nulls":19},0,"","objektnogle_"]
[332,null,{"$f":"IF('1 - Opstart Importark'!$B$6=\"\",\"\",CONCATENATE('Blokke - AMV'!$B$2,LEFT('1 - Opstart Importark'!$B$15,2),J344,IF(L344=\"\",\"\",\"-\"),L344,IF(N344=\"\",\"\",\"_\"),N344,IF(P344=\"\",\"\",(CONCATENATE(\"_\",P344)))))","v":""},null," ",{"$nulls":12},{"$f":"IF(LEN('1 - Opstart Importark'!$B$6)>0,'1 - Opstart Importark'!$B$6,\"\")","v":""},{"$f":"IF(LEN('1 - Opstart Importark'!$B$9)>0,'1 - Opstart Importark'!$B$9,\"\")","v":""},{"$nulls":19},0,"","objektnogle_"]
[333,null,{"$f":"IF('1 - Opstart Importark'!$B$6=\"\",\"\",CONCATENATE('Blokke - AMV'!$B$2,LEFT('1 - Opstart Importark'!$B$15,2),J345,IF(L345=\"\",\"\",\"-\"),L345,IF(N345=\"\",\"\",\"_\"),N345,IF(P345=\"\",\"\",(CONCATENATE(\"_\",P345)))))","v":""},null," ",{"$nulls":12},{"$f":"IF(LEN('1 - Opstart Importark'!$B$6)>0,'1 - Opstart Importark'!$B$6,\"\")","v":""},{"$f":"IF(LEN('1 - Opstart Importark'!$B$9)>0,'1 - Opstart Importark'!$B$9,\"\")","v":""},{"$nulls":19},0,"","objektnogle_"]
[334,null,{"$f":"IF('1 - Opstart Importark'!$B$6=\"\",\"\",CONCATENATE('Blokke - AMV'!$B$2,LEFT('1 - Opstart Importark'!$B$15,2),J346,IF(L346=\"\",\"\",\"-\"),L346,IF(N346=\"\",\"\",\"_\"),N346,IF(P346=\"\",\"\",(CONCATENATE(\"_\",P346)))))","v":""},null," ",{"$nulls":12},{"$f":"IF(LEN('1 - Opstart Importark'!$B$6)>0,'1 - Opstart Importark'!$B$6,\"\")","v":""},{"$f":"IF(LEN('1 - Opstart Importark'!$B$9)>0,'1 - Opstart Importark'!$B$9,\"\")","v":""},{"$nulls":19},0,"","objektnogle_"]
[335,null,{"$f":"IF('1 - Opstart Importark'!$B$6=\"\",\"\",CONCATENATE('Blokke - AMV'!$B$2,LEFT('1 - Opstart Importark'!$B$15,2),J347,IF(L347=\"\",\"\",\"-\"),L347,IF(N347=\"\",\"\",\"_\"),N347,IF(P347=\"\",\"\",(CONCATENATE(\"_\",P347)))))","v":""},null," ",{"$nulls":12},{"$f":"IF(LEN('1 - Opstart Importark'!$B$6)>0,'1 - Opstart Importark'!$B$6,\"\")","v":""},{"$f":"IF(LEN('1 - Opstart Importark'!$B$9)>0,'1 - Opstart Importark'!$B$9,\"\")","v":""},{"$nulls":19},0,"","objektnogle_"]
[336,null,{"$f":"IF('1 - Opstart Importark'!$B$6=\"\",\"\",CONCATENATE('Blokke - AMV'!$B$2,LEFT('1 - Opstart Importark'!$B$15,2),J348,IF(L348=\"\",\"\",\"-\"),L348,IF(N348=\"\",\"\",\"_\"),N348,IF(P348=\"\",\"\",(CONCATENATE(\"_\",P348)))))","v":""},null," ",{"$nulls":12},{"$f":"IF(LEN('1 - Opstart Importark'!$B$6)>0,'1 - Opstart Importark'!$B$6,\"\")","v":""},{"$f":"IF(LEN('1 - Opstart Importark'!$B$9)>0,'1 - Opstart Importark'!$B$9,\"\")","v":""},{"$nulls":19},0,"","objektnogle_"]
[337,null,{"$f":"IF('1 - Opstart Importark'!$B$6=\"\",\"\",CONCATENATE('Blokke - AMV'!$B$2,LEFT('1 - Opstart Importark'!$B$15,2),J349,IF(L349=\"\",\"\",\"-\"),L349,IF(N349=\"\",\"\",\"_\"),N349,IF(P349=\"\",\"\",(CONCATENATE(\"_\",P349)))))","v":""},null," ",{"$nulls":12},{"$f":"IF(LEN('1 - Opstart Importark'!$B$6)>0,'1 - Opstart Importark'!$B$6,\"\")","v":""},{"$f":"IF(LEN('1 - Opstart Importark'!$B$9)>0,'1 - Opstart Importark'!$B$9,\"\")","v":""},{"$nulls":19},0,"","objektnogle_"]
[338,null,{"$f":"IF('1 - Opstart Importark'!$B$6=\"\",\"\",CONCATENATE('Blokke - AMV'!$B$2,LEFT('1 - Opstart Importark'!$B$15,2),J350,IF(L350=\"\",\"\",\"-\"),L350,IF(N350=\"\",\"\",\"_\"),N350,IF(P350=\"\",\"\",(CONCATENATE(\"_\",P350)))))","v":""},null," ",{"$nulls":12},{"$f":"IF(LEN('1 - Opstart Importark'!$B$6)>0,'1 - Opstart Importark'!$B$6,\"\")","v":""},{"$f":"IF(LEN('1 - Opstart Importark'!$B$9)>0,'1 - Opstart Importark'!$B$9,\"\")","v":""},{"$nulls":19},0,"","objektnogle_"]
[339,null,{"$f":"IF('1 - Opstart Importark'!$B$6=\"\",\"\",CONCATENATE('Blokke - AMV'!$B$2,LEFT('1 - Opstart Importark'!$B$15,2),J351,IF(L351=\"\",\"\",\"-\"),L351,IF(N351=\"\",\"\",\"_\"),N351,IF(P351=\"\",\"\",(CONCATENATE(\"_\",P351)))))","v":""},null," ",{"$nulls":12},{"$f":"IF(LEN('1 - Opstart Importark'!$B$6)>0,'1 - Opstart Importark'!$B$6,\"\")","v":""},{"$f":"IF(LEN('1 - Opstart Importark'!$B$9)>0,'1 - Opstart Importark'!$B$9,\"\")","v":""},{"$nulls":19},0,"","objektnogle_"]
[340,null,{"$f":"IF('1 - Opstart Importark'!$B$6=\"\",\"\",CONCATENATE('Blokke - AMV'!$B$2,LEFT('1 - Opstart Importark'!$B$15,2),J352,IF(L352=\"\",\"\",\"-\"),L352,IF(N352=\"\",\"\",\"_\"),N352,IF(P352=\"\",\"\",(CONCATENATE(\"_\",P352)))))","v":""},null," ",{"$nulls":12},{"$f":"IF(LEN('1 - Opstart Importark'!$B$6)>0,'1 - Opstart Importark'!$B$6,\"\")","v":""},{"$f":"IF(LEN('1 - Opstart Importark'!$B$9)>0,'1 - Opstart Importark'!$B$9,\"\")","v":""},{"$nulls":19},0,"","objektnogle_"]
[341,null,{"$f":"IF('1 - Opstart Importark'!$B$6=\"\",\"\",CONCATENATE('Blokke - AMV'!$B$2,LEFT('1 - Opstart Importark'!$B$15,2),J353,IF(L353=\"\",\"\",\"-\"),L353,IF(N353=\"\",\"\",\"_\"),N353,IF(P353=\"\",\"\",(CONCATENATE(\"_\",P353)))))","v":""},null," ",{"$nulls":12},{"$f":"IF(LEN('1 - Opstart Importark'!$B$6)>0,'1 - Opstart Importark'!$B$6,\"\")","v":""},{"$f":"IF(LEN('1 - Opstart Importark'!$B$9)>0,'1 - Opstart Importark'!$B$9,\"\")","v":""},{"$nulls":19},0,"","objektnogle_"]
[342,null,{"$f":"IF('1 - Opstart Importark'!$B$6=\"\",\"\",CONCATENATE('Blokke - AMV'!$B$2,LEFT('1 - Opstart Importark'!$B$15,2),J354,IF(L354=\"\",\"\",\"-\"),L354,IF(N354=\"\",\"\",\"_\"),N354,IF(P354=\"\",\"\",(CONCATENATE(\"_\",P354)))))","v":""},null," ",{"$nulls":12},{"$f":"IF(LEN('1 - Opstart Importark'!$B$6)>0,'1 - Opstart Importark'!$B$6,\"\")","v":""},{"$f":"IF(LEN('1 - Opstart Importark'!$B$9)>0,'1 - Opstart Importark'!$B$9,\"\")","v":""},{"$nulls":19},0,"","objektnogle_"]
[343,null,{"$f":"IF('1 - Opstart Importark'!$B$6=\"\",\"\",CONCATENATE('Blokke - AMV'!$B$2,LEFT('1 - Opstart Importark'!$B$15,2),J355,IF(L355=\"\",\"\",\"-\"),L355,IF(N355=\"\",\"\",\"_\"),N355,IF(P355=\"\",\"\",(CONCATENATE(\"_\",P355)))))","v":""},null," ",{"$nulls":12},{"$f":"IF(LEN('1 - Opstart Importark'!$B$6)>0,'1 - Opstart Importark'!$B$6,\"\")","v":""},{"$f":"IF(LEN('1 - Opstart Importark'!$B$9)>0,'1 - Opstart Importark'!$B$9,\"\")","v":""},{"$nulls":19},0,"","objektnogle_"]
[344,null,{"$f":"IF('1 - Opstart Importark'!$B$6=\"\",\"\",CONCATENATE('Blokke - AMV'!$B$2,LEFT('1 - Opstart Importark'!$B$15,2),J356,IF(L356=\"\",\"\",\"-\"),L356,IF(N356=\"\",\"\",\"_\"),N356,IF(P356=\"\",\"\",(CONCATENATE(\"_\",P356)))))","v":""},null," ",{"$nulls":12},{"$f":"IF(LEN('1 - Opstart Importark'!$B$6)>0,'1 - Opstart Importark'!$B$6,\"\")","v":""},{"$f":"IF(LEN('1 - Opstart Importark'!$B$9)>0,'1 - Opstart Importark'!$B$9,\"\")","v":""},{"$nulls":19},0,"","objektnogle_"]
[345,null,{"$f":"IF('1 - Opstart Importark'!$B$6=\"\",\"\",CONCATENATE('Blokke - AMV'!$B$2,LEFT('1 - Opstart Importark'!$B$15,2),J357,IF(L357=\"\",\"\",\"-\"),L357,IF(N357=\"\",\"\",\"_\"),N357,IF(P357=\"\",\"\",(CONCATENATE(\"_\",P357)))))","v":""},null," ",{"$nulls":12},{"$f":"IF(LEN('1 - Opstart Importark'!$B$6)>0,'1 - Opstart Importark'!$B$6,\"\")","v":""},{"$f":"IF(LEN('1 - Opstart Importark'!$B$9)>0,'1 - Opstart Importark'!$B$9,\"\")","v":""},{"$nulls":19},0,"","objektnogle_"]
[346,null,{"$f":"IF('1 - Opstart Importark'!$B$6=\"\",\"\",CONCATENATE('Blokke - AMV'!$B$2,LEFT('1 - Opstart Importark'!$B$15,2),J358,IF(L358=\"\",\"\",\"-\"),L358,IF(N358=\"\",\"\",\"_\"),N358,IF(P358=\"\",\"\",(CONCATENATE(\"_\",P358)))))","v":""},null," ",{"$nulls":12},{"$f":"IF(LEN('1 - Opstart Importark'!$B$6)>0,'1 - Opstart Importark'!$B$6,\"\")","v":""},{"$f":"IF(LEN('1 - Opstart Importark'!$B$9)>0,'1 - Opstart Importark'!$B$9,\"\")","v":""},{"$nulls":19},0,"","objektnogle_"]
[347,null,{"$f":"IF('1 - Opstart Importark'!$B$6=\"\",\"\",CONCATENATE('Blokke - AMV'!$B$2,LEFT('1 - Opstart Importark'!$B$15,2),J359,IF(L359=\"\",\"\",\"-\"),L359,IF(N359=\"\",\"\",\"_\"),N359,IF(P359=\"\",\"\",(CONCATENATE(\"_\",P359)))))","v":""},null," ",{"$nulls":12},{"$f":"IF(LEN('1 - Opstart Importark'!$B$6)>0,'1 - Opstart Importark'!$B$6,\"\")","v":""},{"$f":"IF(LEN('1 - Opstart Importark'!$B$9)>0,'1 - Opstart Importark'!$B$9,\"\")","v":""},{"$nulls":19},0,"","objektnogle_"]
[348,null,{"$f":"IF('1 - Opstart Importark'!$B$6=\"\",\"\",CONCATENATE('Blokke - AMV'!$B$2,LEFT('1 - Opstart Importark'!$B$15,2),J360,IF(L360=\"\",\"\",\"-\"),L360,IF(N360=\"\",\"\",\"_\"),N360,IF(P360=\"\",\"\",(CONCATENATE(\"_\",P360)))))","v":""},null," ",{"$nulls":12},{"$f":"IF(LEN('1 - Opstart Importark'!$B$6)>0,'1 - Opstart Importark'!$B$6,\"\")","v":""},{"$f":"IF(LEN('1 - Opstart Importark'!$B$9)>0,'1 - Opstart Importark'!$B$9,\"\")","v":""},{"$nulls":19},0,"","objektnogle_"]
[349,null,{"$f":"IF('1 - Opstart Importark'!$B$6=\"\",\"\",CONCATENATE('Blokke - AMV'!$B$2,LEFT('1 - Opstart Importark'!$B$15,2),J361,IF(L361=\"\",\"\",\"-\"),L361,IF(N361=\"\",\"\",\"_\"),N361,IF(P361=\"\",\"\",(CONCATENATE(\"_\",P361)))))","v":""},null," ",{"$nulls":12},{"$f":"IF(LEN('1 - Opstart Importark'!$B$6)>0,'1 - Opstart Importark'!$B$6,\"\")","v":""},{"$f":"IF(LEN('1 - Opstart Importark'!$B$9)>0,'1 - Opstart Importark'!$B$9,\"\")","v":""},{"$nulls":19},0,"","objektnogle_"]
[350,null,{"$f":"IF('1 - Opstart Importark'!$B$6=\"\",\"\",CONCATENATE('Blokke - AMV'!$B$2,LEFT('1 - Opstart Importark'!$B$15,2),J362,IF(L362=\"\",\"\",\"-\"),L362,IF(N362=\"\",\"\",\"_\"),N362,IF(P362=\"\",\"\",(CONCATENATE(\"_\",P362)))))","v":""},null," ",{"$nulls":12},{"$f":"IF(LEN('1 - Opstart Importark'!$B$6)>0,'1 - Opstart Importark'!$B$6,\"\")","v":""},{"$f":"IF(LEN('1 - Opstart Importark'!$B$9)>0,'1 - Opstart Importark'!$B$9,\"\")","v":""},{"$nulls":19},0,"","objektnogle_"]
[351,null,{"$f":"IF('1 - Opstart Importark'!$B$6=\"\",\"\",CONCATENATE('Blokke - AMV'!$B$2,LEFT('1 - Opstart Importark'!$B$15,2),J363,IF(L363=\"\",\"\",\"-\"),L363,IF(N363=\"\",\"\",\"_\"),N363,IF(P363=\"\",\"\",(CONCATENATE(\"_\",P363)))))","v":""},null," ",{"$nulls":12},{"$f":"IF(LEN('1 - Opstart Importark'!$B$6)>0,'1 - Opstart Importark'!$B$6,\"\")","v":""},{"$f":"IF(LEN('1 - Opstart Importark'!$B$9)>0,'1 - Opstart Importark'!$B$9,\"\")","v":""},{"$nulls":19},0,"","objektnogle_"]
[352,null,{"$f":"IF('1 - Opstart Importark'!$B$6=\"\",\"\",CONCATENATE('Blokke - AMV'!$B$2,LEFT('1 - Opstart Importark'!$B$15,2),J364,IF(L364=\"\",\"\",\"-\"),L364,IF(N364=\"\",\"\",\"_\"),N364,IF(P364=\"\",\"\",(CONCATENATE(\"_\",P364)))))","v":""},null," ",{"$nulls":12},{"$f":"IF(LEN('1 - Opstart Importark'!$B$6)>0,'1 - Opstart Importark'!$B$6,\"\")","v":""},{"$f":"IF(LEN('1 - Opstart Importark'!$B$9)>0,'1 - Opstart Importark'!$B$9,\"\")","v":""},{"$nulls":19},0,"","objektnogle_"]
[353,null,{"$f":"IF('1 - Opstart Importark'!$B$6=\"\",\"\",CONCATENATE('Blokke - AMV'!$B$2,LEFT('1 - Opstart Importark'!$B$15,2),J365,IF(L365=\"\",\"\",\"-\"),L365,IF(N365=\"\",\"\",\"_\"),N365,IF(P365=\"\",\"\",(CONCATENATE(\"_\",P365)))))","v":""},null," ",{"$nulls":12},{"$f":"IF(LEN('1 - Opstart Importark'!$B$6)>0,'1 - Opstart Importark'!$B$6,\"\")","v":""},{"$f":"IF(LEN('1 - Opstart Importark'!$B$9)>0,'1 - Opstart Importark'!$B$9,\"\")","v":""},{"$nulls":19},0,"","objektnogle_"]
[354,null,{"$f":"IF('1 - Opstart Importark'!$B$6=\"\",\"\",CONCATENATE('Blokke - AMV'!$B$2,LEFT('1 - Opstart Importark'!$B$15,2),J366,IF(L366=\"\",\"\",\"-\"),L366,IF(N366=\"\",\"\",\"_\"),N366,IF(P366=\"\",\"\",(CONCATENATE(\"_\",P366)))))","v":""},null," ",{"$nulls":12},{"$f":"IF(LEN('1 - Opstart Importark'!$B$6)>0,'1 - Opstart Importark'!$B$6,\"\")","v":""},{"$f":"IF(LEN('1 - Opstart Importark'!$B$9)>0,'1 - Opstart Importark'!$B$9,\"\")","v":""},{"$nulls":19},0,"","objektnogle_"]
[355,null,{"$f":"IF('1 - Opstart Importark'!$B$6=\"\",\"\",CONCATENATE('Blokke - AMV'!$B$2,LEFT('1 - Opstart Importark'!$B$15,2),J367,IF(L367=\"\",\"\",\"-\"),L367,IF(N367=\"\",\"\",\"_\"),N367,IF(P367=\"\",\"\",(CONCATENATE(\"_\",P367)))))","v":""},null," ",{"$nulls":12},{"$f":"IF(LEN('1 - Opstart Importark'!$B$6)>0,'1 - Opstart Importark'!$B$6,\"\")","v":""},{"$f":"IF(LEN('1 - Opstart Importark'!$B$9)>0,'1 - Opstart Importark'!$B$9,\"\")","v":""},{"$nulls":19},0,"","objektnogle_"]
[356,null,{"$f":"IF('1 - Opstart Importark'!$B$6=\"\",\"\",CONCATENATE('Blokke - AMV'!$B$2,LEFT('1 - Opstart Importark'!$B$15,2),J368,IF(L368=\"\",\"\",\"-\"),L368,IF(N368=\"\",\"\",\"_\"),N368,IF(P368=\"\",\"\",(CONCATENATE(\"_\",P368)))))","v":""},null," ",{"$nulls":12},{"$f":"IF(LEN('1 - Opstart Importark'!$B$6)>0,'1 - Opstart Importark'!$B$6,\"\")","v":""},{"$f":"IF(LEN('1 - Opstart Importark'!$B$9)>0,'1 - Opstart Importark'!$B$9,\"\")","v":""},{"$nulls":19},0,"","objektnogle_"]
[357,null,{"$f":"IF('1 - Opstart Importark'!$B$6=\"\",\"\",CONCATENATE('Blokke - AMV'!$B$2,LEFT('1 - Opstart Importark'!$B$15,2),J369,IF(L369=\"\",\"\",\"-\"),L369,IF(N369=\"\",\"\",\"_\"),N369,IF(P369=\"\",\"\",(CONCATENATE(\"_\",P369)))))","v":""},null," ",{"$nulls":12},{"$f":"IF(LEN('1 - Opstart Importark'!$B$6)>0,'1 - Opstart Importark'!$B$6,\"\")","v":""},{"$f":"IF(LEN('1 - Opstart Importark'!$B$9)>0,'1 - Opstart Importark'!$B$9,\"\")","v":""},{"$nulls":19},0,"","objektnogle_"]
[358,null,{"$f":"IF('1 - Opstart Importark'!$B$6=\"\",\"\",CONCATENATE('Blokke - AMV'!$B$2,LEFT('1 - Opstart Importark'!$B$15,2),J370,IF(L370=\"\",\"\",\"-\"),L370,IF(N370=\"\",\"\",\"_\"),N370,IF(P370=\"\",\"\",(CONCATENATE(\"_\",P370)))))","v":""},null," ",{"$nulls":12},{"$f":"IF(LEN('1 - Opstart Importark'!$B$6)>0,'1 - Opstart Importark'!$B$6,\"\")","v":""},{"$f":"IF(LEN('1 - Opstart Importark'!$B$9)>0,'1 - Opstart Importark'!$B$9,\"\")","v":""},{"$nulls":19},0,"","objektnogle_"]
[359,null,{"$f":"IF('1 - Opstart Importark'!$B$6=\"\",\"\",CONCATENATE('Blokke - AMV'!$B$2,LEFT('1 - Opstart Importark'!$B$15,2),J371,IF(L371=\"\",\"\",\"-\"),L371,IF(N371=\"\",\"\",\"_\"),N371,IF(P371=\"\",\"\",(CONCATENATE(\"_\",P371)))))","v":""},null," ",{"$nulls":12},{"$f":"IF(LEN('1 - Opstart Importark'!$B$6)>0,'1 - Opstart Importark'!$B$6,\"\")","v":""},{"$f":"IF(LEN('1 - Opstart Importark'!$B$9)>0,'1 - Opstart Importark'!$B$9,\"\")","v":""},{"$nulls":19},0,"","objektnogle_"]
[360,null,{"$f":"IF('1 - Opstart Importark'!$B$6=\"\",\"\",CONCATENATE('Blokke - AMV'!$B$2,LEFT('1 - Opstart Importark'!$B$15,2),J372,IF(L372=\"\",\"\",\"-\"),L372,IF(N372=\"\",\"\",\"_\"),N372,IF(P372=\"\",\"\",(CONCATENATE(\"_\",P372)))))","v":""},null," ",{"$nulls":12},{"$f":"IF(LEN('1 - Opstart Importark'!$B$6)>0,'1 - Opstart Importark'!$B$6,\"\")","v":""},{"$f":"IF(LEN('1 - Opstart Importark'!$B$9)>0,'1 - Opstart Importark'!$B$9,\"\")","v":""},{"$nulls":19},0,"","objektnogle_"]
[361,null,{"$f":"IF('1 - Opstart Importark'!$B$6=\"\",\"\",CONCATENATE('Blokke - AMV'!$B$2,LEFT('1 - Opstart Importark'!$B$15,2),J373,IF(L373=\"\",\"\",\"-\"),L373,IF(N373=\"\",\"\",\"_\"),N373,IF(P373=\"\",\"\",(CONCATENATE(\"_\",P373)))))","v":""},null," ",{"$nulls":12},{"$f":"IF(LEN('1 - Opstart Importark'!$B$6)>0,'1 - Opstart Importark'!$B$6,\"\")","v":""},{"$f":"IF(LEN('1 - Opstart Importark'!$B$9)>0,'1 - Opstart Importark'!$B$9,\"\")","v":""},{"$nulls":19},0,"","objektnogle_"]
[362,null,{"$f":"IF('1 - Opstart Importark'!$B$6=\"\",\"\",CONCATENATE('Blokke - AMV'!$B$2,LEFT('1 - Opstart Importark'!$B$15,2),J374,IF(L374=\"\",\"\",\"-\"),L374,IF(N374=\"\",\"\",\"_\"),N374,IF(P374=\"\",\"\",(CONCATENATE(\"_\",P374)))))","v":""},null," ",{"$nulls":12},{"$f":"IF(LEN('1 - Opstart Importark'!$B$6)>0,'1 - Opstart Importark'!$B$6,\"\")","v":""},{"$f":"IF(LEN('1 - Opstart Importark'!$B$9)>0,'1 - Opstart Importark'!$B$9,\"\")","v":""},{"$nulls":19},0,"","objektnogle_"]
[363,null,{"$f":"IF('1 - Opstart Importark'!$B$6=\"\",\"\",CONCATENATE('Blokke - AMV'!$B$2,LEFT('1 - Opstart Importark'!$B$15,2),J375,IF(L375=\"\",\"\",\"-\"),L375,IF(N375=\"\",\"\",\"_\"),N375,IF(P375=\"\",\"\",(CONCATENATE(\"_\",P375)))))","v":""},null," ",{"$nulls":12},{"$f":"IF(LEN('1 - Opstart Importark'!$B$6)>0,'1 - Opstart Importark'!$B$6,\"\")","v":""},{"$f":"IF(LEN('1 - Opstart Importark'!$B$9)>0,'1 - Opstart Importark'!$B$9,\"\")","v":""},{"$nulls":19},0,"","objektnogle_"]
[364,null,{"$f":"IF('1 - Opstart Importark'!$B$6=\"\",\"\",CONCATENATE('Blokke - AMV'!$B$2,LEFT('1 - Opstart Importark'!$B$15,2),J376,IF(L376=\"\",\"\",\"-\"),L376,IF(N376=\"\",\"\",\"_\"),N376,IF(P376=\"\",\"\",(CONCATENATE(\"_\",P376)))))","v":""},null," ",{"$nulls":12},{"$f":"IF(LEN('1 - Opstart Importark'!$B$6)>0,'1 - Opstart Importark'!$B$6,\"\")","v":""},{"$f":"IF(LEN('1 - Opstart Importark'!$B$9)>0,'1 - Opstart Importark'!$B$9,\"\")","v":""},{"$nulls":19},0,"","objektnogle_"]
[365,null,{"$f":"IF('1 - Opstart Importark'!$B$6=\"\",\"\",CONCATENATE('Blokke - AMV'!$B$2,LEFT('1 - Opstart Importark'!$B$15,2),J377,IF(L377=\"\",\"\",\"-\"),L377,IF(N377=\"\",\"\",\"_\"),N377,IF(P377=\"\",\"\",(CONCATENATE(\"_\",P377)))))","v":""},null," ",{"$nulls":12},{"$f":"IF(LEN('1 - Opstart Importark'!$B$6)>0,'1 - Opstart Importark'!$B$6,\"\")","v":""},{"$f":"IF(LEN('1 - Opstart Importark'!$B$9)>0,'1 - Opstart Importark'!$B$9,\"\")","v":""},{"$nulls":19},0,"","objektnogle_"]
[366,null,{"$f":"IF('1 - Opstart Importark'!$B$6=\"\",\"\",CONCATENATE('Blokke - AMV'!$B$2,LEFT('1 - Opstart Importark'!$B$15,2),J378,IF(L378=\"\",\"\",\"-\"),L378,IF(N378=\"\",\"\",\"_\"),N378,IF(P378=\"\",\"\",(CONCATENATE(\"_\",P378)))))","v":""},null," ",{"$nulls":12},{"$f":"IF(LEN('1 - Opstart Importark'!$B$6)>0,'1 - Opstart Importark'!$B$6,\"\")","v":""},{"$f":"IF(LEN('1 - Opstart Importark'!$B$9)>0,'1 - Opstart Importark'!$B$9,\"\")","v":""},{"$nulls":19},0,"","objektnogle_"]
[367,null,{"$f":"IF('1 - Opstart Importark'!$B$6=\"\",\"\",CONCATENATE('Blokke - AMV'!$B$2,LEFT('1 - Opstart Importark'!$B$15,2),J379,IF(L379=\"\",\"\",\"-\"),L379,IF(N379=\"\",\"\",\"_\"),N379,IF(P379=\"\",\"\",(CONCATENATE(\"_\",P379)))))","v":""},null," ",{"$nulls":12},{"$f":"IF(LEN('1 - Opstart Importark'!$B$6)>0,'1 - Opstart Importark'!$B$6,\"\")","v":""},{"$f":"IF(LEN('1 - Opstart Importark'!$B$9)>0,'1 - Opstart Importark'!$B$9,\"\")","v":""},{"$nulls":19},0,"","objektnogle_"]
[368,null,{"$f":"IF('1 - Opstart Importark'!$B$6=\"\",\"\",CONCATENATE('Blokke - AMV'!$B$2,LEFT('1 - Opstart Importark'!$B$15,2),J380,IF(L380=\"\",\"\",\"-\"),L380,IF(N380=\"\",\"\",\"_\"),N380,IF(P380=\"\",\"\",(CONCATENATE(\"_\",P380)))))","v":""},null," ",{"$nulls":12},{"$f":"IF(LEN('1 - Opstart Importark'!$B$6)>0,'1 - Opstart Importark'!$B$6,\"\")","v":""},{"$f":"IF(LEN('1 - Opstart Importark'!$B$9)>0,'1 - Opstart Importark'!$B$9,\"\")","v":""},{"$nulls":19},0,"","objektnogle_"]
[369,null,{"$f":"IF('1 - Opstart Importark'!$B$6=\"\",\"\",CONCATENATE('Blokke - AMV'!$B$2,LEFT('1 - Opstart Importark'!$B$15,2),J381,IF(L381=\"\",\"\",\"-\"),L381,IF(N381=\"\",\"\",\"_\"),N381,IF(P381=\"\",\"\",(CONCATENATE(\"_\",P381)))))","v":""},null," ",{"$nulls":12},{"$f":"IF(LEN('1 - Opstart Importark'!$B$6)>0,'1 - Opstart Importark'!$B$6,\"\")","v":""},{"$f":"IF(LEN('1 - Opstart Importark'!$B$9)>0,'1 - Opstart Importark'!$B$9,\"\")","v":""},{"$nulls":19},0,"","objektnogle_"]
[370,null,{"$f":"IF('1 - Opstart Importark'!$B$6=\"\",\"\",CONCATENATE('Blokke - AMV'!$B$2,LEFT('1 - Opstart Importark'!$B$15,2),J382,IF(L382=\"\",\"\",\"-\"),L382,IF(N382=\"\",\"\",\"_\"),N382,IF(P382=\"\",\"\",(CONCATENATE(\"_\",P382)))))","v":""},null," ",{"$nulls":12},{"$f":"IF(LEN('1 - Opstart Importark'!$B$6)>0,'1 - Opstart Importark'!$B$6,\"\")","v":""},{"$f":"IF(LEN('1 - Opstart Importark'!$B$9)>0,'1 - Opstart Importark'!$B$9,\"\")","v":""},{"$nulls":19},0,"","objektnogle_"]
[371,null,{"$f":"IF('1 - Opstart Importark'!$B$6=\"\",\"\",CONCATENATE('Blokke - AMV'!$B$2,LEFT('1 - Opstart Importark'!$B$15,2),J383,IF(L383=\"\",\"\",\"-\"),L383,IF(N383=\"\",\"\",\"_\"),N383,IF(P383=\"\",\"\",(CONCATENATE(\"_\",P383)))))","v":""},null," ",{"$nulls":12},{"$f":"IF(LEN('1 - Opstart Importark'!$B$6)>0,'1 - Opstart Importark'!$B$6,\"\")","v":""},{"$f":"IF(LEN('1 - Opstart Importark'!$B$9)>0,'1 - Opstart Importark'!$B$9,\"\")","v":""},{"$nulls":19},0,"","objektnogle_"]
[372,null,{"$f":"IF('1 - Opstart Importark'!$B$6=\"\",\"\",CONCATENATE('Blokke - AMV'!$B$2,LEFT('1 - Opstart Importark'!$B$15,2),J384,IF(L384=\"\",\"\",\"-\"),L384,IF(N384=\"\",\"\",\"_\"),N384,IF(P384=\"\",\"\",(CONCATENATE(\"_\",P384)))))","v":""},null," ",{"$nulls":12},{"$f":"IF(LEN('1 - Opstart Importark'!$B$6)>0,'1 - Opstart Importark'!$B$6,\"\")","v":""},{"$f":"IF(LEN('1 - Opstart Importark'!$B$9)>0,'1 - Opstart Importark'!$B$9,\"\")","v":""},{"$nulls":19},0,"","objektnogle_"]
[373,null,{"$f":"IF('1 - Opstart Importark'!$B$6=\"\",\"\",CONCATENATE('Blokke - AMV'!$B$2,LEFT('1 - Opstart Importark'!$B$15,2),J385,IF(L385=\"\",\"\",\"-\"),L385,IF(N385=\"\",\"\",\"_\"),N385,IF(P385=\"\",\"\",(CONCATENATE(\"_\",P385)))))","v":""},null," ",{"$nulls":12},{"$f":"IF(LEN('1 - Opstart Importark'!$B$6)>0,'1 - Opstart Importark'!$B$6,\"\")","v":""},{"$f":"IF(LEN('1 - Opstart Importark'!$B$9)>0,'1 - Opstart Importark'!$B$9,\"\")","v":""},{"$nulls":19},0,"","objektnogle_"]
[374,null,{"$f":"IF('1 - Opstart Importark'!$B$6=\"\",\"\",CONCATENATE('Blokke - AMV'!$B$2,LEFT('1 - Opstart Importark'!$B$15,2),J386,IF(L386=\"\",\"\",\"-\"),L386,IF(N386=\"\",\"\",\"_\"),N386,IF(P386=\"\",\"\",(CONCATENATE(\"_\",P386)))))","v":""},null," ",{"$nulls":12},{"$f":"IF(LEN('1 - Opstart Importark'!$B$6)>0,'1 - Opstart Importark'!$B$6,\"\")","v":""},{"$f":"IF(LEN('1 - Opstart Importark'!$B$9)>0,'1 - Opstart Importark'!$B$9,\"\")","v":""},{"$nulls":19},0,"","objektnogle_"]
[375,null,{"$f":"IF('1 - Opstart Importark'!$B$6=\"\",\"\",CONCATENATE('Blokke - AMV'!$B$2,LEFT('1 - Opstart Importark'!$B$15,2),J387,IF(L387=\"\",\"\",\"-\"),L387,IF(N387=\"\",\"\",\"_\"),N387,IF(P387=\"\",\"\",(CONCATENATE(\"_\",P387)))))","v":""},null," ",{"$nulls":12},{"$f":"IF(LEN('1 - Opstart Importark'!$B$6)>0,'1 - Opstart Importark'!$B$6,\"\")","v":""},{"$f":"IF(LEN('1 - Opstart Importark'!$B$9)>0,'1 - Opstart Importark'!$B$9,\"\")","v":""},{"$nulls":19},0,"","objektnogle_"]
[376,null,{"$f":"IF('1 - Opstart Importark'!$B$6=\"\",\"\",CONCATENATE('Blokke - AMV'!$B$2,LEFT('1 - Opstart Importark'!$B$15,2),J388,IF(L388=\"\",\"\",\"-\"),L388,IF(N388=\"\",\"\",\"_\"),N388,IF(P388=\"\",\"\",(CONCATENATE(\"_\",P388)))))","v":""},null," ",{"$nulls":12},{"$f":"IF(LEN('1 - Opstart Importark'!$B$6)>0,'1 - Opstart Importark'!$B$6,\"\")","v":""},{"$f":"IF(LEN('1 - Opstart Importark'!$B$9)>0,'1 - Opstart Importark'!$B$9,\"\")","v":""},{"$nulls":19},0,"","objektnogle_"]
[377,null,{"$f":"IF('1 - Opstart Importark'!$B$6=\"\",\"\",CONCATENATE('Blokke - AMV'!$B$2,LEFT('1 - Opstart Importark'!$B$15,2),J389,IF(L389=\"\",\"\",\"-\"),L389,IF(N389=\"\",\"\",\"_\"),N389,IF(P389=\"\",\"\",(CONCATENATE(\"_\",P389)))))","v":""},null," ",{"$nulls":12},{"$f":"IF(LEN('1 - Opstart Importark'!$B$6)>0,'1 - Opstart Importark'!$B$6,\"\")","v":""},{"$f":"IF(LEN('1 - Opstart Importark'!$B$9)>0,'1 - Opstart Importark'!$B$9,\"\")","v":""},{"$nulls":19},0,"","objektnogle_"]
[378,null,{"$f":"IF('1 - Opstart Importark'!$B$6=\"\",\"\",CONCATENATE('Blokke - AMV'!$B$2,LEFT('1 - Opstart Importark'!$B$15,2),J390,IF(L390=\"\",\"\",\"-\"),L390,IF(N390=\"\",\"\",\"_\"),N390,IF(P390=\"\",\"\",(CONCATENATE(\"_\",P390)))))","v":""},null," ",{"$nulls":12},{"$f":"IF(LEN('1 - Opstart Importark'!$B$6)>0,'1 - Opstart Importark'!$B$6,\"\")","v":""},{"$f":"IF(LEN('1 - Opstart Importark'!$B$9)>0,'1 - Opstart Importark'!$B$9,\"\")","v":""},{"$nulls":19},0,"","objektnogle_"]
[379,null,{"$f":"IF('1 - Opstart Importark'!$B$6=\"\",\"\",CONCATENATE('Blokke - AMV'!$B$2,LEFT('1 - Opstart Importark'!$B$15,2),J391,IF(L391=\"\",\"\",\"-\"),L391,IF(N391=\"\",\"\",\"_\"),N391,IF(P391=\"\",\"\",(CONCATENATE(\"_\",P391)))))","v":""},null," ",{"$nulls":12},{"$f":"IF(LEN('1 - Opstart Importark'!$B$6)>0,'1 - Opstart Importark'!$B$6,\"\")","v":""},{"$f":"IF(LEN('1 - Opstart Importark'!$B$9)>0,'1 - Opstart Importark'!$B$9,\"\")","v":""},{"$nulls":19},0,"","objektnogle_"]
[380,null,{"$f":"IF('1 - Opstart Importark'!$B$6=\"\",\"\",CONCATENATE('Blokke - AMV'!$B$2,LEFT('1 - Opstart Importark'!$B$15,2),J392,IF(L392=\"\",\"\",\"-\"),L392,IF(N392=\"\",\"\",\"_\"),N392,IF(P392=\"\",\"\",(CONCATENATE(\"_\",P392)))))","v":""},null," ",{"$nulls":12},{"$f":"IF(LEN('1 - Opstart Importark'!$B$6)>0,'1 - Opstart Importark'!$B$6,\"\")","v":""},{"$f":"IF(LEN('1 - Opstart Importark'!$B$9)>0,'1 - Opstart Importark'!$B$9,\"\")","v":""},{"$nulls":19},0,"","objektnogle_"]
[381,null,{"$f":"IF('1 - Opstart Importark'!$B$6=\"\",\"\",CONCATENATE('Blokke - AMV'!$B$2,LEFT('1 - Opstart Importark'!$B$15,2),J393,IF(L393=\"\",\"\",\"-\"),L393,IF(N393=\"\",\"\",\"_\"),N393,IF(P393=\"\",\"\",(CONCATENATE(\"_\",P393)))))","v":""},null," ",{"$nulls":12},{"$f":"IF(LEN('1 - Opstart Importark'!$B$6)>0,'1 - Opstart Importark'!$B$6,\"\")","v":""},{"$f":"IF(LEN('1 - Opstart Importark'!$B$9)>0,'1 - Opstart Importark'!$B$9,\"\")","v":""},{"$nulls":19},0,"","objektnogle_"]
[382,null,{"$f":"IF('1 - Opstart Importark'!$B$6=\"\",\"\",CONCATENATE('Blokke - AMV'!$B$2,LEFT('1 - Opstart Importark'!$B$15,2),J394,IF(L394=\"\",\"\",\"-\"),L394,IF(N394=\"\",\"\",\"_\"),N394,IF(P394=\"\",\"\",(CONCATENATE(\"_\",P394)))))","v":""},null," ",{"$nulls":12},{"$f":"IF(LEN('1 - Opstart Importark'!$B$6)>0,'1 - Opstart Importark'!$B$6,\"\")","v":""},{"$f":"IF(LEN('1 - Opstart Importark'!$B$9)>0,'1 - Opstart Importark'!$B$9,\"\")","v":""},{"$nulls":19},0,"","objektnogle_"]
[383,null,{"$f":"IF('1 - Opstart Importark'!$B$6=\"\",\"\",CONCATENATE('Blokke - AMV'!$B$2,LEFT('1 - Opstart Importark'!$B$15,2),J395,IF(L395=\"\",\"\",\"-\"),L395,IF(N395=\"\",\"\",\"_\"),N395,IF(P395=\"\",\"\",(CONCATENATE(\"_\",P395)))))","v":""},null," ",{"$nulls":12},{"$f":"IF(LEN('1 - Opstart Importark'!$B$6)>0,'1 - Opstart Importark'!$B$6,\"\")","v":""},{"$f":"IF(LEN('1 - Opstart Importark'!$B$9)>0,'1 - Opstart Importark'!$B$9,\"\")","v":""},{"$nulls":19},0,"","objektnogle_"]
[384,null,{"$f":"IF('1 - Opstart Importark'!$B$6=\"\",\"\",CONCATENATE('Blokke - AMV'!$B$2,LEFT('1 - Opstart Importark'!$B$15,2),J396,IF(L396=\"\",\"\",\"-\"),L396,IF(N396=\"\",\"\",\"_\"),N396,IF(P396=\"\",\"\",(CONCATENATE(\"_\",P396)))))","v":""},null," ",{"$nulls":12},{"$f":"IF(LEN('1 - Opstart Importark'!$B$6)>0,'1 - Opstart Importark'!$B$6,\"\")","v":""},{"$f":"IF(LEN('1 - Opstart Importark'!$B$9)>0,'1 - Opstart Importark'!$B$9,\"\")","v":""},{"$nulls":19},0,"","objektnogle_"]
[385,null,{"$f":"IF('1 - Opstart Importark'!$B$6=\"\",\"\",CONCATENATE('Blokke - AMV'!$B$2,LEFT('1 - Opstart Importark'!$B$15,2),J397,IF(L397=\"\",\"\",\"-\"),L397,IF(N397=\"\",\"\",\"_\"),N397,IF(P397=\"\",\"\",(CONCATENATE(\"_\",P397)))))","v":""},null," ",{"$nulls":12},{"$f":"IF(LEN('1 - Opstart Importark'!$B$6)>0,'1 - Opstart Importark'!$B$6,\"\")","v":""},{"$f":"IF(LEN('1 - Opstart Importark'!$B$9)>0,'1 - Opstart Importark'!$B$9,\"\")","v":""},{"$nulls":19},{"$f":"IFERROR(FIND(\".\",G397),)","v":0},{"$f":"IF(L397=\"\",\"\",IF(LEFT(L397,1)=\"E\",0,1))","v":""},{"$f":"CONCATENATE(\"objektnogle_\",LEFT(L397,1))","v":"objektnogle_"}]
[386,null,{"$f":"IF('1 - Opstart Importark'!$B$6=\"\",\"\",CONCATENATE('Blokke - AMV'!$B$2,LEFT('1 - Opstart Importark'!$B$15,2),J398,IF(L398=\"\",\"\",\"-\"),L398,IF(N398=\"\",\"\",\"_\"),N398,IF(P398=\"\",\"\",(CONCATENATE(\"_\",P398)))))","v":""},null," ",{"$nulls":12},{"$f":"IF(LEN('1 - Opstart Importark'!$B$6)>0,'1 - Opstart Importark'!$B$6,\"\")","v":""},{"$f":"IF(LEN('1 - Opstart Importark'!$B$9)>0,'1 - Opstart Importark'!$B$9,\"\")","v":""},{"$nulls":19},0,"","objektnogle_"]
[387,null,{"$f":"IF('1 - Opstart Importark'!$B$6=\"\",\"\",CONCATENATE('Blokke - AMV'!$B$2,LEFT('1 - Opstart Importark'!$B$15,2),J399,IF(L399=\"\",\"\",\"-\"),L399,IF(N399=\"\",\"\",\"_\"),N399,IF(P399=\"\",\"\",(CONCATENATE(\"_\",P399)))))","v":""},null," ",{"$nulls":12},{"$f":"IF(LEN('1 - Opstart Importark'!$B$6)>0,'1 - Opstart Importark'!$B$6,\"\")","v":""},{"$f":"IF(LEN('1 - Opstart Importark'!$B$9)>0,'1 - Opstart Importark'!$B$9,\"\")","v":""},{"$nulls":19},0,"","objektnogle_"]
[388,null,{"$f":"IF('1 - Opstart Importark'!$B$6=\"\",\"\",CONCATENATE('Blokke - AMV'!$B$2,LEFT('1 - Opstart Importark'!$B$15,2),J400,IF(L400=\"\",\"\",\"-\"),L400,IF(N400=\"\",\"\",\"_\"),N400,IF(P400=\"\",\"\",(CONCATENATE(\"_\",P400)))))","v":""},null," ",{"$nulls":12},{"$f":"IF(LEN('1 - Opstart Importark'!$B$6)>0,'1 - Opstart Importark'!$B$6,\"\")","v":""},{"$f":"IF(LEN('1 - Opstart Importark'!$B$9)>0,'1 - Opstart Importark'!$B$9,\"\")","v":""},{"$nulls":19},0,"","objektnogle_"]
[389,null,{"$f":"IF('1 - Opstart Importark'!$B$6=\"\",\"\",CONCATENATE('Blokke - AMV'!$B$2,LEFT('1 - Opstart Importark'!$B$15,2),J401,IF(L401=\"\",\"\",\"-\"),L401,IF(N401=\"\",\"\",\"_\"),N401,IF(P401=\"\",\"\",(CONCATENATE(\"_\",P401)))))","v":""},null," ",{"$nulls":12},{"$f":"IF(LEN('1 - Opstart Importark'!$B$6)>0,'1 - Opstart Importark'!$B$6,\"\")","v":""},{"$f":"IF(LEN('1 - Opstart Importark'!$B$9)>0,'1 - Opstart Importark'!$B$9,\"\")","v":""},{"$nulls":19},0,"","objektnogle_"]
[390,null,{"$f":"IF('1 - Opstart Importark'!$B$6=\"\",\"\",CONCATENATE('Blokke - AMV'!$B$2,LEFT('1 - Opstart Importark'!$B$15,2),J402,IF(L402=\"\",\"\",\"-\"),L402,IF(N402=\"\",\"\",\"_\"),N402,IF(P402=\"\",\"\",(CONCATENATE(\"_\",P402)))))","v":""},null," ",{"$nulls":12},{"$f":"IF(LEN('1 - Opstart Importark'!$B$6)>0,'1 - Opstart Importark'!$B$6,\"\")","v":""},{"$f":"IF(LEN('1 - Opstart Importark'!$B$9)>0,'1 - Opstart Importark'!$B$9,\"\")","v":""},{"$nulls":19},0,"","objektnogle_"]
[391,null,{"$f":"IF('1 - Opstart Importark'!$B$6=\"\",\"\",CONCATENATE('Blokke - AMV'!$B$2,LEFT('1 - Opstart Importark'!$B$15,2),J403,IF(L403=\"\",\"\",\"-\"),L403,IF(N403=\"\",\"\",\"_\"),N403,IF(P403=\"\",\"\",(CONCATENATE(\"_\",P403)))))","v":""},null," ",{"$nulls":12},{"$f":"IF(LEN('1 - Opstart Importark'!$B$6)>0,'1 - Opstart Importark'!$B$6,\"\")","v":""},{"$f":"IF(LEN('1 - Opstart Importark'!$B$9)>0,'1 - Opstart Importark'!$B$9,\"\")","v":""},{"$nulls":19},0,"","objektnogle_"]
[392,null,{"$f":"IF('1 - Opstart Importark'!$B$6=\"\",\"\",CONCATENATE('Blokke - AMV'!$B$2,LEFT('1 - Opstart Importark'!$B$15,2),J404,IF(L404=\"\",\"\",\"-\"),L404,IF(N404=\"\",\"\",\"_\"),N404,IF(P404=\"\",\"\",(CONCATENATE(\"_\",P404)))))","v":""},null," ",{"$nulls":12},{"$f":"IF(LEN('1 - Opstart Importark'!$B$6)>0,'1 - Opstart Importark'!$B$6,\"\")","v":""},{"$f":"IF(LEN('1 - Opstart Importark'!$B$9)>0,'1 - Opstart Importark'!$B$9,\"\")","v":""},{"$nulls":19},0,"","objektnogle_"]
[393,null,{"$f":"IF('1 - Opstart Importark'!$B$6=\"\",\"\",CONCATENATE('Blokke - AMV'!$B$2,LEFT('1 - Opstart Importark'!$B$15,2),J405,IF(L405=\"\",\"\",\"-\"),L405,IF(N405=\"\",\"\",\"_\"),N405,IF(P405=\"\",\"\",(CONCATENATE(\"_\",P405)))))","v":""},null," ",{"$nulls":12},{"$f":"IF(LEN('1 - Opstart Importark'!$B$6)>0,'1 - Opstart Importark'!$B$6,\"\")","v":""},{"$f":"IF(LEN('1 - Opstart Importark'!$B$9)>0,'1 - Opstart Importark'!$B$9,\"\")","v":""},{"$nulls":19},0,"","objektnogle_"]
[394,null,{"$f":"IF('1 - Opstart Importark'!$B$6=\"\",\"\",CONCATENATE('Blokke - AMV'!$B$2,LEFT('1 - Opstart Importark'!$B$15,2),J406,IF(L406=\"\",\"\",\"-\"),L406,IF(N406=\"\",\"\",\"_\"),N406,IF(P406=\"\",\"\",(CONCATENATE(\"_\",P406)))))","v":""},null," ",{"$nulls":12},{"$f":"IF(LEN('1 - Opstart Importark'!$B$6)>0,'1 - Opstart Importark'!$B$6,\"\")","v":""},{"$f":"IF(LEN('1 - Opstart Importark'!$B$9)>0,'1 - Opstart Importark'!$B$9,\"\")","v":""},{"$nulls":19},0,"","objektnogle_"]
[395,null,{"$f":"IF('1 - Opstart Importark'!$B$6=\"\",\"\",CONCATENATE('Blokke - AMV'!$B$2,LEFT('1 - Opstart Importark'!$B$15,2),J407,IF(L407=\"\",\"\",\"-\"),L407,IF(N407=\"\",\"\",\"_\"),N407,IF(P407=\"\",\"\",(CONCATENATE(\"_\",P407)))))","v":""},null," ",{"$nulls":12},{"$f":"IF(LEN('1 - Opstart Importark'!$B$6)>0,'1 - Opstart Importark'!$B$6,\"\")","v":""},{"$f":"IF(LEN('1 - Opstart Importark'!$B$9)>0,'1 - Opstart Importark'!$B$9,\"\")","v":""},{"$nulls":19},0,"","objektnogle_"]
[396,null,{"$f":"IF('1 - Opstart Importark'!$B$6=\"\",\"\",CONCATENATE('Blokke - AMV'!$B$2,LEFT('1 - Opstart Importark'!$B$15,2),J408,IF(L408=\"\",\"\",\"-\"),L408,IF(N408=\"\",\"\",\"_\"),N408,IF(P408=\"\",\"\",(CONCATENATE(\"_\",P408)))))","v":""},null," ",{"$nulls":12},{"$f":"IF(LEN('1 - Opstart Importark'!$B$6)>0,'1 - Opstart Importark'!$B$6,\"\")","v":""},{"$f":"IF(LEN('1 - Opstart Importark'!$B$9)>0,'1 - Opstart Importark'!$B$9,\"\")","v":""},{"$nulls":19},0,"","objektnogle_"]
[397,null,{"$f":"IF('1 - Opstart Importark'!$B$6=\"\",\"\",CONCATENATE('Blokke - AMV'!$B$2,LEFT('1 - Opstart Importark'!$B$15,2),J409,IF(L409=\"\",\"\",\"-\"),L409,IF(N409=\"\",\"\",\"_\"),N409,IF(P409=\"\",\"\",(CONCATENATE(\"_\",P409)))))","v":""},null," ",{"$nulls":12},{"$f":"IF(LEN('1 - Opstart Importark'!$B$6)>0,'1 - Opstart Importark'!$B$6,\"\")","v":""},{"$f":"IF(LEN('1 - Opstart Importark'!$B$9)>0,'1 - Opstart Importark'!$B$9,\"\")","v":""},{"$nulls":19},0,"","objektnogle_"]
[398,null,{"$f":"IF('1 - Opstart Importark'!$B$6=\"\",\"\",CONCATENATE('Blokke - AMV'!$B$2,LEFT('1 - Opstart Importark'!$B$15,2),J410,IF(L410=\"\",\"\",\"-\"),L410,IF(N410=\"\",\"\",\"_\"),N410,IF(P410=\"\",\"\",(CONCATENATE(\"_\",P410)))))","v":""},null," ",{"$nulls":12},{"$f":"IF(LEN('1 - Opstart Importark'!$B$6)>0,'1 - Opstart Importark'!$B$6,\"\")","v":""},{"$f":"IF(LEN('1 - Opstart Importark'!$B$9)>0,'1 - Opstart Importark'!$B$9,\"\")","v":""},{"$nulls":19},0,"","objektnogle_"]
[399,null,{"$f":"IF('1 - Opstart Importark'!$B$6=\"\",\"\",CONCATENATE('Blokke - AMV'!$B$2,LEFT('1 - Opstart Importark'!$B$15,2),J411,IF(L411=\"\",\"\",\"-\"),L411,IF(N411=\"\",\"\",\"_\"),N411,IF(P411=\"\",\"\",(CONCATENATE(\"_\",P411)))))","v":""},null," ",{"$nulls":12},{"$f":"IF(LEN('1 - Opstart Importark'!$B$6)>0,'1 - Opstart Importark'!$B$6,\"\")","v":""},{"$f":"IF(LEN('1 - Opstart Importark'!$B$9)>0,'1 - Opstart Importark'!$B$9,\"\")","v":""},{"$nulls":19},0,"","objektnogle_"]
[400,null,{"$f":"IF('1 - Opstart Importark'!$B$6=\"\",\"\",CONCATENATE('Blokke - AMV'!$B$2,LEFT('1 - Opstart Importark'!$B$15,2),J412,IF(L412=\"\",\"\",\"-\"),L412,IF(N412=\"\",\"\",\"_\"),N412,IF(P412=\"\",\"\",(CONCATENATE(\"_\",P412)))))","v":""},null," ",{"$nulls":12},{"$f":"IF(LEN('1 - Opstart Importark'!$B$6)>0,'1 - Opstart Importark'!$B$6,\"\")","v":""},{"$f":"IF(LEN('1 - Opstart Importark'!$B$9)>0,'1 - Opstart Importark'!$B$9,\"\")","v":""},{"$nulls":19},0,"","objektnogle_"]
[401,null,{"$f":"IF('1 - Opstart Importark'!$B$6=\"\",\"\",CONCATENATE('Blokke - AMV'!$B$2,LEFT('1 - Opstart Importark'!$B$15,2),J413,IF(L413=\"\",\"\",\"-\"),L413,IF(N413=\"\",\"\",\"_\"),N413,IF(P413=\"\",\"\",(CONCATENATE(\"_\",P413)))))","v":""},null," ",{"$nulls":12},{"$f":"IF(LEN('1 - Opstart Importark'!$B$6)>0,'1 - Opstart Importark'!$B$6,\"\")","v":""},{"$f":"IF(LEN('1 - Opstart Importark'!$B$9)>0,'1 - Opstart Importark'!$B$9,\"\")","v":""},{"$nulls":19},0,"","objektnogle_"]
[402,null,{"$f":"IF('1 - Opstart Importark'!$B$6=\"\",\"\",CONCATENATE('Blokke - AMV'!$B$2,LEFT('1 - Opstart Importark'!$B$15,2),J414,IF(L414=\"\",\"\",\"-\"),L414,IF(N414=\"\",\"\",\"_\"),N414,IF(P414=\"\",\"\",(CONCATENATE(\"_\",P414)))))","v":""},null," ",{"$nulls":12},{"$f":"IF(LEN('1 - Opstart Importark'!$B$6)>0,'1 - Opstart Importark'!$B$6,\"\")","v":""},{"$f":"IF(LEN('1 - Opstart Importark'!$B$9)>0,'1 - Opstart Importark'!$B$9,\"\")","v":""},{"$nulls":19},0,"","objektnogle_"]
[403,null,{"$f":"IF('1 - Opstart Importark'!$B$6=\"\",\"\",CONCATENATE('Blokke - AMV'!$B$2,LEFT('1 - Opstart Importark'!$B$15,2),J415,IF(L415=\"\",\"\",\"-\"),L415,IF(N415=\"\",\"\",\"_\"),N415,IF(P415=\"\",\"\",(CONCATENATE(\"_\",P415)))))","v":""},null," ",{"$nulls":12},{"$f":"IF(LEN('1 - Opstart Importark'!$B$6)>0,'1 - Opstart Importark'!$B$6,\"\")","v":""},{"$f":"IF(LEN('1 - Opstart Importark'!$B$9)>0,'1 - Opstart Importark'!$B$9,\"\")","v":""},{"$nulls":19},0,"","objektnogle_"]
[404,null,{"$f":"IF('1 - Opstart Importark'!$B$6=\"\",\"\",CONCATENATE('Blokke - AMV'!$B$2,LEFT('1 - Opstart Importark'!$B$15,2),J416,IF(L416=\"\",\"\",\"-\"),L416,IF(N416=\"\",\"\",\"_\"),N416,IF(P416=\"\",\"\",(CONCATENATE(\"_\",P416)))))","v":""},null," ",{"$nulls":12},{"$f":"IF(LEN('1 - Opstart Importark'!$B$6)>0,'1 - Opstart Importark'!$B$6,\"\")","v":""},{"$f":"IF(LEN('1 - Opstart Importark'!$B$9)>0,'1 - Opstart Importark'!$B$9,\"\")","v":""},{"$nulls":19},0,"","objektnogle_"]
[405,null,{"$f":"IF('1 - Opstart Importark'!$B$6=\"\",\"\",CONCATENATE('Blokke - AMV'!$B$2,LEFT('1 - Opstart Importark'!$B$15,2),J417,IF(L417=\"\",\"\",\"-\"),L417,IF(N417=\"\",\"\",\"_\"),N417,IF(P417=\"\",\"\",(CONCATENATE(\"_\",P417)))))","v":""},null," ",{"$nulls":12},{"$f":"IF(LEN('1 - Opstart Importark'!$B$6)>0,'1 - Opstart Importark'!$B$6,\"\")","v":""},{"$f":"IF(LEN('1 - Opstart Importark'!$B$9)>0,'1 - Opstart Importark'!$B$9,\"\")","v":""},{"$nulls":19},0,"","objektnogle_"]
[406,null,{"$f":"IF('1 - Opstart Importark'!$B$6=\"\",\"\",CONCATENATE('Blokke - AMV'!$B$2,LEFT('1 - Opstart Importark'!$B$15,2),J418,IF(L418=\"\",\"\",\"-\"),L418,IF(N418=\"\",\"\",\"_\"),N418,IF(P418=\"\",\"\",(CONCATENATE(\"_\",P418)))))","v":""},null," ",{"$nulls":12},{"$f":"IF(LEN('1 - Opstart Importark'!$B$6)>0,'1 - Opstart Importark'!$B$6,\"\")","v":""},{"$f":"IF(LEN('1 - Opstart Importark'!$B$9)>0,'1 - Opstart Importark'!$B$9,\"\")","v":""},{"$nulls":19},0,"","objektnogle_"]
[407,null,{"$f":"IF('1 - Opstart Importark'!$B$6=\"\",\"\",CONCATENATE('Blokke - AMV'!$B$2,LEFT('1 - Opstart Importark'!$B$15,2),J419,IF(L419=\"\",\"\",\"-\"),L419,IF(N419=\"\",\"\",\"_\"),N419,IF(P419=\"\",\"\",(CONCATENATE(\"_\",P419)))))","v":""},null," ",{"$nulls":12},{"$f":"IF(LEN('1 - Opstart Importark'!$B$6)>0,'1 - Opstart Importark'!$B$6,\"\")","v":""},{"$f":"IF(LEN('1 - Opstart Importark'!$B$9)>0,'1 - Opstart Importark'!$B$9,\"\")","v":""},{"$nulls":19},0,"","objektnogle_"]
[408,null,{"$f":"IF('1 - Opstart Importark'!$B$6=\"\",\"\",CONCATENATE('Blokke - AMV'!$B$2,LEFT('1 - Opstart Importark'!$B$15,2),J420,IF(L420=\"\",\"\",\"-\"),L420,IF(N420=\"\",\"\",\"_\"),N420,IF(P420=\"\",\"\",(CONCATENATE(\"_\",P420)))))","v":""},null," ",{"$nulls":12},{"$f":"IF(LEN('1 - Opstart Importark'!$B$6)>0,'1 - Opstart Importark'!$B$6,\"\")","v":""},{"$f":"IF(LEN('1 - Opstart Importark'!$B$9)>0,'1 - Opstart Importark'!$B$9,\"\")","v":""},{"$nulls":19},0,"","objektnogle_"]
[409,null,{"$f":"IF('1 - Opstart Importark'!$B$6=\"\",\"\",CONCATENATE('Blokke - AMV'!$B$2,LEFT('1 - Opstart Importark'!$B$15,2),J421,IF(L421=\"\",\"\",\"-\"),L421,IF(N421=\"\",\"\",\"_\"),N421,IF(P421=\"\",\"\",(CONCATENATE(\"_\",P421)))))","v":""},null," ",{"$nulls":12},{"$f":"IF(LEN('1 - Opstart Importark'!$B$6)>0,'1 - Opstart Importark'!$B$6,\"\")","v":""},{"$f":"IF(LEN('1 - Opstart Importark'!$B$9)>0,'1 - Opstart Importark'!$B$9,\"\")","v":""},{"$nulls":19},0,"","objektnogle_"]
[410,null,{"$f":"IF('1 - Opstart Importark'!$B$6=\"\",\"\",CONCATENATE('Blokke - AMV'!$B$2,LEFT('1 - Opstart Importark'!$B$15,2),J422,IF(L422=\"\",\"\",\"-\"),L422,IF(N422=\"\",\"\",\"_\"),N422,IF(P422=\"\",\"\",(CONCATENATE(\"_\",P422)))))","v":""},null," ",{"$nulls":12},{"$f":"IF(LEN('1 - Opstart Importark'!$B$6)>0,'1 - Opstart Importark'!$B$6,\"\")","v":""},{"$f":"IF(LEN('1 - Opstart Importark'!$B$9)>0,'1 - Opstart Importark'!$B$9,\"\")","v":""},{"$nulls":19},0,"","objektnogle_"]
[411,null,{"$f":"IF('1 - Opstart Importark'!$B$6=\"\",\"\",CONCATENATE('Blokke - AMV'!$B$2,LEFT('1 - Opstart Importark'!$B$15,2),J423,IF(L423=\"\",\"\",\"-\"),L423,IF(N423=\"\",\"\",\"_\"),N423,IF(P423=\"\",\"\",(CONCATENATE(\"_\",P423)))))","v":""},null," ",{"$nulls":12},{"$f":"IF(LEN('1 - Opstart Importark'!$B$6)>0,'1 - Opstart Importark'!$B$6,\"\")","v":""},{"$f":"IF(LEN('1 - Opstart Importark'!$B$9)>0,'1 - Opstart Importark'!$B$9,\"\")","v":""},{"$nulls":19},0,"","objektnogle_"]
[412,null,{"$f":"IF('1 - Opstart Importark'!$B$6=\"\",\"\",CONCATENATE('Blokke - AMV'!$B$2,LEFT('1 - Opstart Importark'!$B$15,2),J424,IF(L424=\"\",\"\",\"-\"),L424,IF(N424=\"\",\"\",\"_\"),N424,IF(P424=\"\",\"\",(CONCATENATE(\"_\",P424)))))","v":""},null," ",{"$nulls":12},{"$f":"IF(LEN('1 - Opstart Importark'!$B$6)>0,'1 - Opstart Importark'!$B$6,\"\")","v":""},{"$f":"IF(LEN('1 - Opstart Importark'!$B$9)>0,'1 - Opstart Importark'!$B$9,\"\")","v":""},{"$nulls":19},0,"","objektnogle_"]
[413,null,{"$f":"IF('1 - Opstart Importark'!$B$6=\"\",\"\",CONCATENATE('Blokke - AMV'!$B$2,LEFT('1 - Opstart Importark'!$B$15,2),J425,IF(L425=\"\",\"\",\"-\"),L425,IF(N425=\"\",\"\",\"_\"),N425,IF(P425=\"\",\"\",(CONCATENATE(\"_\",P425)))))","v":""},null," ",{"$nulls":12},{"$f":"IF(LEN('1 - Opstart Importark'!$B$6)>0,'1 - Opstart Importark'!$B$6,\"\")","v":""},{"$f":"IF(LEN('1 - Opstart Importark'!$B$9)>0,'1 - Opstart Importark'!$B$9,\"\")","v":""},{"$nulls":19},0,"","objektnogle_"]
[414,null,{"$f":"IF('1 - Opstart Importark'!$B$6=\"\",\"\",CONCATENATE('Blokke - AMV'!$B$2,LEFT('1 - Opstart Importark'!$B$15,2),J426,IF(L426=\"\",\"\",\"-\"),L426,IF(N426=\"\",\"\",\"_\"),N426,IF(P426=\"\",\"\",(CONCATENATE(\"_\",P426)))))","v":""},{"$nulls":14},{"$f":"IF(LEN('1 - Opstart Importark'!$B$6)>0,'1 - Opstart Importark'!$B$6,\"\")","v":""},{"$f":"IF(LEN('1 - Opstart Importark'!$B$9)>0,'1 - Opstart Importark'!$B$9,\"\")","v":""},{"$nulls":19},0,"","objektnogle_"]
[415,null,{"$f":"IF('1 - Opstart Importark'!$B$6=\"\",\"\",CONCATENATE('Blokke - AMV'!$B$2,LEFT('1 - Opstart Importark'!$B$15,2),J427,IF(L427=\"\",\"\",\"-\"),L427,IF(N427=\"\",\"\",\"_\"),N427,IF(P427=\"\",\"\",(CONCATENATE(\"_\",P427)))))","v":""},{"$nulls":14},{"$f":"IF(LEN('1 - Opstart Importark'!$B$6)>0,'1 - Opstart Importark'!$B$6,\"\")","v":""},{"$f":"IF(LEN('1 - Opstart Importark'!$B$9)>0,'1 - Opstart Importark'!$B$9,\"\")","v":""},{"$nulls":19},0,"","objektnogle_"]
[416,null,{"$f":"IF('1 - Opstart Importark'!$B$6=\"\",\"\",CONCATENATE('Blokke - AMV'!$B$2,LEFT('1 - Opstart Importark'!$B$15,2),J428,IF(L428=\"\",\"\",\"-\"),L428,IF(N428=\"\",\"\",\"_\"),N428,IF(P428=\"\",\"\",(CONCATENATE(\"_\",P428)))))","v":""},{"$nulls":14},{"$f":"IF(LEN('1 - Opstart Importark'!$B$6)>0,'1 - Opstart Importark'!$B$6,\"\")","v":""},{"$f":"IF(LEN('1 - Opstart Importark'!$B$9)>0,'1 - Opstart Importark'!$B$9,\"\")","v":""},{"$nulls":19},0,"","objektnogle_"]
[417,null,{"$f":"IF('1 - Opstart Importark'!$B$6=\"\",\"\",CONCATENATE('Blokke - AMV'!$B$2,LEFT('1 - Opstart Importark'!$B$15,2),J429,IF(L429=\"\",\"\",\"-\"),L429,IF(N429=\"\",\"\",\"_\"),N429,IF(P429=\"\",\"\",(CONCATENATE(\"_\",P429)))))","v":""},{"$nulls":14},{"$f":"IF(LEN('1 - Opstart Importark'!$B$6)>0,'1 - Opstart Importark'!$B$6,\"\")","v":""},{"$f":"IF(LEN('1 - Opstart Importark'!$B$9)>0,'1 - Opstart Importark'!$B$9,\"\")","v":""},{"$nulls":19},0,"","objektnogle_"]
[418,null,{"$f":"IF('1 - Opstart Importark'!$B$6=\"\",\"\",CONCATENATE('Blokke - AMV'!$B$2,LEFT('1 - Opstart Importark'!$B$15,2),J430,IF(L430=\"\",\"\",\"-\"),L430,IF(N430=\"\",\"\",\"_\"),N430,IF(P430=\"\",\"\",(CONCATENATE(\"_\",P430)))))","v":""},{"$nulls":14},{"$f":"IF(LEN('1 - Opstart Importark'!$B$6)>0,'1 - Opstart Importark'!$B$6,\"\")","v":""},{"$f":"IF(LEN('1 - Opstart Importark'!$B$9)>0,'1 - Opstart Importark'!$B$9,\"\")","v":""},{"$nulls":19},0,"","objektnogle_"]
[419,null,{"$f":"IF('1 - Opstart Importark'!$B$6=\"\",\"\",CONCATENATE('Blokke - AMV'!$B$2,LEFT('1 - Opstart Importark'!$B$15,2),J431,IF(L431=\"\",\"\",\"-\"),L431,IF(N431=\"\",\"\",\"_\"),N431,IF(P431=\"\",\"\",(CONCATENATE(\"_\",P431)))))","v":""},{"$nulls":14},{"$f":"IF(LEN('1 - Opstart Importark'!$B$6)>0,'1 - Opstart Importark'!$B$6,\"\")","v":""},{"$f":"IF(LEN('1 - Opstart Importark'!$B$9)>0,'1 - Opstart Importark'!$B$9,\"\")","v":""},{"$nulls":19},0,"","objektnogle_"]
[420,null,{"$f":"IF('1 - Opstart Importark'!$B$6=\"\",\"\",CONCATENATE('Blokke - AMV'!$B$2,LEFT('1 - Opstart Importark'!$B$15,2),J432,IF(L432=\"\",\"\",\"-\"),L432,IF(N432=\"\",\"\",\"_\"),N432,IF(P432=\"\",\"\",(CONCATENATE(\"_\",P432)))))","v":""},{"$nulls":14},{"$f":"IF(LEN('1 - Opstart Importark'!$B$6)>0,'1 - Opstart Importark'!$B$6,\"\")","v":""},{"$f":"IF(LEN('1 - Opstart Importark'!$B$9)>0,'1 - Opstart Importark'!$B$9,\"\")","v":""},{"$nulls":19},0,"","objektnogle_"]
[421,null,{"$f":"IF('1 - Opstart Importark'!$B$6=\"\",\"\",CONCATENATE('Blokke - AMV'!$B$2,LEFT('1 - Opstart Importark'!$B$15,2),J433,IF(L433=\"\",\"\",\"-\"),L433,IF(N433=\"\",\"\",\"_\"),N433,IF(P433=\"\",\"\",(CONCATENATE(\"_\",P433)))))","v":""},{"$nulls":14},{"$f":"IF(LEN('1 - Opstart Importark'!$B$6)>0,'1 - Opstart Importark'!$B$6,\"\")","v":""},{"$f":"IF(LEN('1 - Opstart Importark'!$B$9)>0,'1 - Opstart Importark'!$B$9,\"\")","v":""},{"$nulls":19},0,"","objektnogle_"]
[422,null,{"$f":"IF('1 - Opstart Importark'!$B$6=\"\",\"\",CONCATENATE('Blokke - AMV'!$B$2,LEFT('1 - Opstart Importark'!$B$15,2),J434,IF(L434=\"\",\"\",\"-\"),L434,IF(N434=\"\",\"\",\"_\"),N434,IF(P434=\"\",\"\",(CONCATENATE(\"_\",P434)))))","v":""},{"$nulls":14},{"$f":"IF(LEN('1 - Opstart Importark'!$B$6)>0,'1 - Opstart Importark'!$B$6,\"\")","v":""},{"$f":"IF(LEN('1 - Opstart Importark'!$B$9)>0,'1 - Opstart Importark'!$B$9,\"\")","v":""},{"$nulls":19},0,"","objektnogle_"]
[423,null,{"$f":"IF('1 - Opstart Importark'!$B$6=\"\",\"\",CONCATENATE('Blokke - AMV'!$B$2,LEFT('1 - Opstart Importark'!$B$15,2),J435,IF(L435=\"\",\"\",\"-\"),L435,IF(N435=\"\",\"\",\"_\"),N435,IF(P435=\"\",\"\",(CONCATENATE(\"_\",P435)))))","v":""},{"$nulls":14},{"$f":"IF(LEN('1 - Opstart Importark'!$B$6)>0,'1 - Opstart Importark'!$B$6,\"\")","v":""},{"$f":"IF(LEN('1 - Opstart Importark'!$B$9)>0,'1 - Opstart Importark'!$B$9,\"\")","v":""},{"$nulls":19},0,"","objektnogle_"]
[424,null,{"$f":"IF('1 - Opstart Importark'!$B$6=\"\",\"\",CONCATENATE('Blokke - AMV'!$B$2,LEFT('1 - Opstart Importark'!$B$15,2),J436,IF(L436=\"\",\"\",\"-\"),L436,IF(N436=\"\",\"\",\"_\"),N436,IF(P436=\"\",\"\",(CONCATENATE(\"_\",P436)))))","v":""},{"$nulls":14},{"$f":"IF(LEN('1 - Opstart Importark'!$B$6)>0,'1 - Opstart Importark'!$B$6,\"\")","v":""},{"$f":"IF(LEN('1 - Opstart Importark'!$B$9)>0,'1 - Opstart Importark'!$B$9,\"\")","v":""},{"$nulls":19},0,"","objektnogle_"]
[425,null,{"$f":"IF('1 - Opstart Importark'!$B$6=\"\",\"\",CONCATENATE('Blokke - AMV'!$B$2,LEFT('1 - Opstart Importark'!$B$15,2),J437,IF(L437=\"\",\"\",\"-\"),L437,IF(N437=\"\",\"\",\"_\"),N437,IF(P437=\"\",\"\",(CONCATENATE(\"_\",P437)))))","v":""},{"$nulls":14},{"$f":"IF(LEN('1 - Opstart Importark'!$B$6)>0,'1 - Opstart Importark'!$B$6,\"\")","v":""},{"$f":"IF(LEN('1 - Opstart Importark'!$B$9)>0,'1 - Opstart Importark'!$B$9,\"\")","v":""},{"$nulls":19},0,"","objektnogle_"]
[426,null,{"$f":"IF('1 - Opstart Importark'!$B$6=\"\",\"\",CONCATENATE('Blokke - AMV'!$B$2,LEFT('1 - Opstart Importark'!$B$15,2),J438,IF(L438=\"\",\"\",\"-\"),L438,IF(N438=\"\",\"\",\"_\"),N438,IF(P438=\"\",\"\",(CONCATENATE(\"_\",P438)))))","v":""},{"$nulls":14},{"$f":"IF(LEN('1 - Opstart Importark'!$B$6)>0,'1 - Opstart Importark'!$B$6,\"\")","v":""},{"$f":"IF(LEN('1 - Opstart Importark'!$B$9)>0,'1 - Opstart Importark'!$B$9,\"\")","v":""},{"$nulls":19},0,"","objektnogle_"]
[427,null,{"$f":"IF('1 - Opstart Importark'!$B$6=\"\",\"\",CONCATENATE('Blokke - AMV'!$B$2,LEFT('1 - Opstart Importark'!$B$15,2),J439,IF(L439=\"\",\"\",\"-\"),L439,IF(N439=\"\",\"\",\"_\"),N439,IF(P439=\"\",\"\",(CONCATENATE(\"_\",P439)))))","v":""},{"$nulls":14},{"$f":"IF(LEN('1 - Opstart Importark'!$B$6)>0,'1 - Opstart Importark'!$B$6,\"\")","v":""},{"$f":"IF(LEN('1 - Opstart Importark'!$B$9)>0,'1 - Opstart Importark'!$B$9,\"\")","v":""},{"$nulls":19},0,"","objektnogle_"]
[428,null,{"$f":"IF('1 - Opstart Importark'!$B$6=\"\",\"\",CONCATENATE('Blokke - AMV'!$B$2,LEFT('1 - Opstart Importark'!$B$15,2),J440,IF(L440=\"\",\"\",\"-\"),L440,IF(N440=\"\",\"\",\"_\"),N440,IF(P440=\"\",\"\",(CONCATENATE(\"_\",P440)))))","v":""},{"$nulls":14},{"$f":"IF(LEN('1 - Opstart Importark'!$B$6)>0,'1 - Opstart Importark'!$B$6,\"\")","v":""},{"$f":"IF(LEN('1 - Opstart Importark'!$B$9)>0,'1 - Opstart Importark'!$B$9,\"\")","v":""},{"$nulls":19},0,"","objektnogle_"]
[429,null,{"$f":"IF('1 - Opstart Importark'!$B$6=\"\",\"\",CONCATENATE('Blokke - AMV'!$B$2,LEFT('1 - Opstart Importark'!$B$15,2),J441,IF(L441=\"\",\"\",\"-\"),L441,IF(N441=\"\",\"\",\"_\"),N441,IF(P441=\"\",\"\",(CONCATENATE(\"_\",P441)))))","v":""},{"$nulls":14},{"$f":"IF(LEN('1 - Opstart Importark'!$B$6)>0,'1 - Opstart Importark'!$B$6,\"\")","v":""},{"$f":"IF(LEN('1 - Opstart Importark'!$B$9)>0,'1 - Opstart Importark'!$B$9,\"\")","v":""},{"$nulls":19},0,"","objektnogle_"]
[430,null,{"$f":"IF('1 - Opstart Importark'!$B$6=\"\",\"\",CONCATENATE('Blokke - AMV'!$B$2,LEFT('1 - Opstart Importark'!$B$15,2),J442,IF(L442=\"\",\"\",\"-\"),L442,IF(N442=\"\",\"\",\"_\"),N442,IF(P442=\"\",\"\",(CONCATENATE(\"_\",P442)))))","v":""},{"$nulls":14},{"$f":"IF(LEN('1 - Opstart Importark'!$B$6)>0,'1 - Opstart Importark'!$B$6,\"\")","v":""},{"$f":"IF(LEN('1 - Opstart Importark'!$B$9)>0,'1 - Opstart Importark'!$B$9,\"\")","v":""},{"$nulls":19},0,"","objektnogle_"]
[431,null,{"$f":"IF('1 - Opstart Importark'!$B$6=\"\",\"\",CONCATENATE('Blokke - AMV'!$B$2,LEFT('1 - Opstart Importark'!$B$15,2),J443,IF(L443=\"\",\"\",\"-\"),L443,IF(N443=\"\",\"\",\"_\"),N443,IF(P443=\"\",\"\",(CONCATENATE(\"_\",P443)))))","v":""},{"$nulls":14},{"$f":"IF(LEN('1 - Opstart Importark'!$B$6)>0,'1 - Opstart Importark'!$B$6,\"\")","v":""},{"$f":"IF(LEN('1 - Opstart Importark'!$B$9)>0,'1 - Opstart Importark'!$B$9,\"\")","v":""},{"$nulls":19},0,"","objektnogle_"]
[432,null,{"$f":"IF('1 - Opstart Importark'!$B$6=\"\",\"\",CONCATENATE('Blokke - AMV'!$B$2,LEFT('1 - Opstart Importark'!$B$15,2),J444,IF(L444=\"\",\"\",\"-\"),L444,IF(N444=\"\",\"\",\"_\"),N444,IF(P444=\"\",\"\",(CONCATENATE(\"_\",P444)))))","v":""},{"$nulls":14},{"$f":"IF(LEN('1 - Opstart Importark'!$B$6)>0,'1 - Opstart Importark'!$B$6,\"\")","v":""},{"$f":"IF(LEN('1 - Opstart Importark'!$B$9)>0,'1 - Opstart Importark'!$B$9,\"\")","v":""},{"$nulls":19},0,"","objektnogle_"]
[433,null,{"$f":"IF('1 - Opstart Importark'!$B$6=\"\",\"\",CONCATENATE('Blokke - AMV'!$B$2,LEFT('1 - Opstart Importark'!$B$15,2),J445,IF(L445=\"\",\"\",\"-\"),L445,IF(N445=\"\",\"\",\"_\"),N445,IF(P445=\"\",\"\",(CONCATENATE(\"_\",P445)))))","v":""},{"$nulls":14},{"$f":"IF(LEN('1 - Opstart Importark'!$B$6)>0,'1 - Opstart Importark'!$B$6,\"\")","v":""},{"$f":"IF(LEN('1 - Opstart Importark'!$B$9)>0,'1 - Opstart Importark'!$B$9,\"\")","v":""},{"$nulls":19},0,"","objektnogle_"]
[434,null,{"$f":"IF('1 - Opstart Importark'!$B$6=\"\",\"\",CONCATENATE('Blokke - AMV'!$B$2,LEFT('1 - Opstart Importark'!$B$15,2),J446,IF(L446=\"\",\"\",\"-\"),L446,IF(N446=\"\",\"\",\"_\"),N446,IF(P446=\"\",\"\",(CONCATENATE(\"_\",P446)))))","v":""},{"$nulls":14},{"$f":"IF(LEN('1 - Opstart Importark'!$B$6)>0,'1 - Opstart Importark'!$B$6,\"\")","v":""},{"$f":"IF(LEN('1 - Opstart Importark'!$B$9)>0,'1 - Opstart Importark'!$B$9,\"\")","v":""},{"$nulls":19},0,"","objektnogle_"]
[435,null,{"$f":"IF('1 - Opstart Importark'!$B$6=\"\",\"\",CONCATENATE('Blokke - AMV'!$B$2,LEFT('1 - Opstart Importark'!$B$15,2),J447,IF(L447=\"\",\"\",\"-\"),L447,IF(N447=\"\",\"\",\"_\"),N447,IF(P447=\"\",\"\",(CONCATENATE(\"_\",P447)))))","v":""},{"$nulls":14},{"$f":"IF(LEN('1 - Opstart Importark'!$B$6)>0,'1 - Opstart Importark'!$B$6,\"\")","v":""},{"$f":"IF(LEN('1 - Opstart Importark'!$B$9)>0,'1 - Opstart Importark'!$B$9,\"\")","v":""},{"$nulls":19},0,"","objektnogle_"]
[436,null,{"$f":"IF('1 - Opstart Importark'!$B$6=\"\",\"\",CONCATENATE('Blokke - AMV'!$B$2,LEFT('1 - Opstart Importark'!$B$15,2),J448,IF(L448=\"\",\"\",\"-\"),L448,IF(N448=\"\",\"\",\"_\"),N448,IF(P448=\"\",\"\",(CONCATENATE(\"_\",P448)))))","v":""},{"$nulls":14},{"$f":"IF(LEN('1 - Opstart Importark'!$B$6)>0,'1 - Opstart Importark'!$B$6,\"\")","v":""},{"$f":"IF(LEN('1 - Opstart Importark'!$B$9)>0,'1 - Opstart Importark'!$B$9,\"\")","v":""},{"$nulls":19},0,"","objektnogle_"]
[437,null,{"$f":"IF('1 - Opstart Importark'!$B$6=\"\",\"\",CONCATENATE('Blokke - AMV'!$B$2,LEFT('1 - Opstart Importark'!$B$15,2),J449,IF(L449=\"\",\"\",\"-\"),L449,IF(N449=\"\",\"\",\"_\"),N449,IF(P449=\"\",\"\",(CONCATENATE(\"_\",P449)))))","v":""},{"$nulls":14},{"$f":"IF(LEN('1 - Opstart Importark'!$B$6)>0,'1 - Opstart Importark'!$B$6,\"\")","v":""},{"$f":"IF(LEN('1 - Opstart Importark'!$B$9)>0,'1 - Opstart Importark'!$B$9,\"\")","v":""},{"$nulls":19},0,"","objektnogle_"]
[438,null,{"$f":"IF('1 - Opstart Importark'!$B$6=\"\",\"\",CONCATENATE('Blokke - AMV'!$B$2,LEFT('1 - Opstart Importark'!$B$15,2),J450,IF(L450=\"\",\"\",\"-\"),L450,IF(N450=\"\",\"\",\"_\"),N450,IF(P450=\"\",\"\",(CONCATENATE(\"_\",P450)))))","v":""},{"$nulls":14},{"$f":"IF(LEN('1 - Opstart Importark'!$B$6)>0,'1 - Opstart Importark'!$B$6,\"\")","v":""},{"$f":"IF(LEN('1 - Opstart Importark'!$B$9)>0,'1 - Opstart Importark'!$B$9,\"\")","v":""},{"$nulls":19},0,"","objektnogle_"]
[439,null,{"$f":"IF('1 - Opstart Importark'!$B$6=\"\",\"\",CONCATENATE('Blokke - AMV'!$B$2,LEFT('1 - Opstart Importark'!$B$15,2),J451,IF(L451=\"\",\"\",\"-\"),L451,IF(N451=\"\",\"\",\"_\"),N451,IF(P451=\"\",\"\",(CONCATENATE(\"_\",P451)))))","v":""},{"$nulls":14},{"$f":"IF(LEN('1 - Opstart Importark'!$B$6)>0,'1 - Opstart Importark'!$B$6,\"\")","v":""},{"$f":"IF(LEN('1 - Opstart Importark'!$B$9)>0,'1 - Opstart Importark'!$B$9,\"\")","v":""},{"$nulls":19},0,"","objektnogle_"]
[440,null,{"$f":"IF('1 - Opstart Importark'!$B$6=\"\",\"\",CONCATENATE('Blokke - AMV'!$B$2,LEFT('1 - Opstart Importark'!$B$15,2),J452,IF(L452=\"\",\"\",\"-\"),L452,IF(N452=\"\",\"\",\"_\"),N452,IF(P452=\"\",\"\",(CONCATENATE(\"_\",P452)))))","v":""},{"$nulls":14},{"$f":"IF(LEN('1 - Opstart Importark'!$B$6)>0,'1 - Opstart Importark'!$B$6,\"\")","v":""},{"$f":"IF(LEN('1 - Opstart Importark'!$B$9)>0,'1 - Opstart Importark'!$B$9,\"\")","v":""},{"$nulls":19},0,"","objektnogle_"]
[441,null,{"$f":"IF('1 - Opstart Importark'!$B$6=\"\",\"\",CONCATENATE('Blokke - AMV'!$B$2,LEFT('1 - Opstart Importark'!$B$15,2),J453,IF(L453=\"\",\"\",\"-\"),L453,IF(N453=\"\",\"\",\"_\"),N453,IF(P453=\"\",\"\",(CONCATENATE(\"_\",P453)))))","v":""},{"$nulls":14},{"$f":"IF(LEN('1 - Opstart Importark'!$B$6)>0,'1 - Opstart Importark'!$B$6,\"\")","v":""},{"$f":"IF(LEN('1 - Opstart Importark'!$B$9)>0,'1 - Opstart Importark'!$B$9,\"\")","v":""},{"$nulls":19},0,"","objektnogle_"]
[442,null,{"$f":"IF('1 - Opstart Importark'!$B$6=\"\",\"\",CONCATENATE('Blokke - AMV'!$B$2,LEFT('1 - Opstart Importark'!$B$15,2),J454,IF(L454=\"\",\"\",\"-\"),L454,IF(N454=\"\",\"\",\"_\"),N454,IF(P454=\"\",\"\",(CONCATENATE(\"_\",P454)))))","v":""},{"$nulls":14},{"$f":"IF(LEN('1 - Opstart Importark'!$B$6)>0,'1 - Opstart Importark'!$B$6,\"\")","v":""},{"$f":"IF(LEN('1 - Opstart Importark'!$B$9)>0,'1 - Opstart Importark'!$B$9,\"\")","v":""},{"$nulls":19},0,"","objektnogle_"]
[443,null,{"$f":"IF('1 - Opstart Importark'!$B$6=\"\",\"\",CONCATENATE('Blokke - AMV'!$B$2,LEFT('1 - Opstart Importark'!$B$15,2),J455,IF(L455=\"\",\"\",\"-\"),L455,IF(N455=\"\",\"\",\"_\"),N455,IF(P455=\"\",\"\",(CONCATENATE(\"_\",P455)))))","v":""},{"$nulls":14},{"$f":"IF(LEN('1 - Opstart Importark'!$B$6)>0,'1 - Opstart Importark'!$B$6,\"\")","v":""},{"$f":"IF(LEN('1 - Opstart Importark'!$B$9)>0,'1 - Opstart Importark'!$B$9,\"\")","v":""},{"$nulls":19},0,"","objektnogle_"]
[444,null,{"$f":"IF('1 - Opstart Importark'!$B$6=\"\",\"\",CONCATENATE('Blokke - AMV'!$B$2,LEFT('1 - Opstart Importark'!$B$15,2),J456,IF(L456=\"\",\"\",\"-\"),L456,IF(N456=\"\",\"\",\"_\"),N456,IF(P456=\"\",\"\",(CONCATENATE(\"_\",P456)))))","v":""},{"$nulls":14},{"$f":"IF(LEN('1 - Opstart Importark'!$B$6)>0,'1 - Opstart Importark'!$B$6,\"\")","v":""},{"$f":"IF(LEN('1 - Opstart Importark'!$B$9)>0,'1 - Opstart Importark'!$B$9,\"\")","v":""},{"$nulls":19},0,"","objektnogle_"]
[445,null,{"$f":"IF('1 - Opstart Importark'!$B$6=\"\",\"\",CONCATENATE('Blokke - AMV'!$B$2,LEFT('1 - Opstart Importark'!$B$15,2),J457,IF(L457=\"\",\"\",\"-\"),L457,IF(N457=\"\",\"\",\"_\"),N457,IF(P457=\"\",\"\",(CONCATENATE(\"_\",P457)))))","v":""},{"$nulls":14},{"$f":"IF(LEN('1 - Opstart Importark'!$B$6)>0,'1 - Opstart Importark'!$B$6,\"\")","v":""},{"$f":"IF(LEN('1 - Opstart Importark'!$B$9)>0,'1 - Opstart Importark'!$B$9,\"\")","v":""},{"$nulls":19},0,"","objektnogle_"]
[446,null,{"$f":"IF('1 - Opstart Importark'!$B$6=\"\",\"\",CONCATENATE('Blokke - AMV'!$B$2,LEFT('1 - Opstart Importark'!$B$15,2),J458,IF(L458=\"\",\"\",\"-\"),L458,IF(N458=\"\",\"\",\"_\"),N458,IF(P458=\"\",\"\",(CONCATENATE(\"_\",P458)))))","v":""},{"$nulls":14},{"$f":"IF(LEN('1 - Opstart Importark'!$B$6)>0,'1 - Opstart Importark'!$B$6,\"\")","v":""},{"$f":"IF(LEN('1 - Opstart Importark'!$B$9)>0,'1 - Opstart Importark'!$B$9,\"\")","v":""},{"$nulls":19},0,"","objektnogle_"]
[447,null,{"$f":"IF('1 - Opstart Importark'!$B$6=\"\",\"\",CONCATENATE('Blokke - AMV'!$B$2,LEFT('1 - Opstart Importark'!$B$15,2),J459,IF(L459=\"\",\"\",\"-\"),L459,IF(N459=\"\",\"\",\"_\"),N459,IF(P459=\"\",\"\",(CONCATENATE(\"_\",P459)))))","v":""},{"$nulls":14},{"$f":"IF(LEN('1 - Opstart Importark'!$B$6)>0,'1 - Opstart Importark'!$B$6,\"\")","v":""},{"$f":"IF(LEN('1 - Opstart Importark'!$B$9)>0,'1 - Opstart Importark'!$B$9,\"\")","v":""},{"$nulls":19},0,"","objektnogle_"]
[448,null,{"$f":"IF('1 - Opstart Importark'!$B$6=\"\",\"\",CONCATENATE('Blokke - AMV'!$B$2,LEFT('1 - Opstart Importark'!$B$15,2),J460,IF(L460=\"\",\"\",\"-\"),L460,IF(N460=\"\",\"\",\"_\"),N460,IF(P460=\"\",\"\",(CONCATENATE(\"_\",P460)))))","v":""},{"$nulls":14},{"$f":"IF(LEN('1 - Opstart Importark'!$B$6)>0,'1 - Opstart Importark'!$B$6,\"\")","v":""},{"$f":"IF(LEN('1 - Opstart Importark'!$B$9)>0,'1 - Opstart Importark'!$B$9,\"\")","v":""},{"$nulls":19},0,"","objektnogle_"]
[449,null,{"$f":"IF('1 - Opstart Importark'!$B$6=\"\",\"\",CONCATENATE('Blokke - AMV'!$B$2,LEFT('1 - Opstart Importark'!$B$15,2),J461,IF(L461=\"\",\"\",\"-\"),L461,IF(N461=\"\",\"\",\"_\"),N461,IF(P461=\"\",\"\",(CONCATENATE(\"_\",P461)))))","v":""},{"$nulls":14},{"$f":"IF(LEN('1 - Opstart Importark'!$B$6)>0,'1 - Opstart Importark'!$B$6,\"\")","v":""},{"$f":"IF(LEN('1 - Opstart Importark'!$B$9)>0,'1 - Opstart Importark'!$B$9,\"\")","v":""},{"$nulls":19},{"$f":"IFERROR(FIND(\".\",G461),)","v":0},{"$f":"IF(L461=\"\",\"\",IF(LEFT(L461,1)=\"E\",0,1))","v":""},{"$f":"CONCATENATE(\"objektnogle_\",LEFT(L461,1))","v":"objektnogle_"}]
[450,null,{"$f":"IF('1 - Opstart Importark'!$B$6=\"\",\"\",CONCATENATE('Blokke - AMV'!$B$2,LEFT('1 - Opstart Importark'!$B$15,2),J462,IF(L462=\"\",\"\",\"-\"),L462,IF(N462=\"\",\"\",\"_\"),N462,IF(P462=\"\",\"\",(CONCATENATE(\"_\",P462)))))","v":""},{"$nulls":14},{"$f":"IF(LEN('1 - Opstart Importark'!$B$6)>0,'1 - Opstart Importark'!$B$6,\"\")","v":""},{"$f":"IF(LEN('1 - Opstart Importark'!$B$9)>0,'1 - Opstart Importark'!$B$9,\"\")","v":""},{"$nulls":19},0,"","objektnogle_"]
[451,null,{"$f":"IF('1 - Opstart Importark'!$B$6=\"\",\"\",CONCATENATE('Blokke - AMV'!$B$2,LEFT('1 - Opstart Importark'!$B$15,2),J463,IF(L463=\"\",\"\",\"-\"),L463,IF(N463=\"\",\"\",\"_\"),N463,IF(P463=\"\",\"\",(CONCATENATE(\"_\",P463)))))","v":""},{"$nulls":14},{"$f":"IF(LEN('1 - Opstart Importark'!$B$6)>0,'1 - Opstart Importark'!$B$6,\"\")","v":""},{"$f":"IF(LEN('1 - Opstart Importark'!$B$9)>0,'1 - Opstart Importark'!$B$9,\"\")","v":""},{"$nulls":19},0,"","objektnogle_"]
[452,null,{"$f":"IF('1 - Opstart Importark'!$B$6=\"\",\"\",CONCATENATE('Blokke - AMV'!$B$2,LEFT('1 - Opstart Importark'!$B$15,2),J464,IF(L464=\"\",\"\",\"-\"),L464,IF(N464=\"\",\"\",\"_\"),N464,IF(P464=\"\",\"\",(CONCATENATE(\"_\",P464)))))","v":""},{"$nulls":14},{"$f":"IF(LEN('1 - Opstart Importark'!$B$6)>0,'1 - Opstart Importark'!$B$6,\"\")","v":""},{"$f":"IF(LEN('1 - Opstart Importark'!$B$9)>0,'1 - Opstart Importark'!$B$9,\"\")","v":""},{"$nulls":19},0,"","objektnogle_"]
[453,null,{"$f":"IF('1 - Opstart Importark'!$B$6=\"\",\"\",CONCATENATE('Blokke - AMV'!$B$2,LEFT('1 - Opstart Importark'!$B$15,2),J465,IF(L465=\"\",\"\",\"-\"),L465,IF(N465=\"\",\"\",\"_\"),N465,IF(P465=\"\",\"\",(CONCATENATE(\"_\",P465)))))","v":""},{"$nulls":14},{"$f":"IF(LEN('1 - Opstart Importark'!$B$6)>0,'1 - Opstart Importark'!$B$6,\"\")","v":""},{"$f":"IF(LEN('1 - Opstart Importark'!$B$9)>0,'1 - Opstart Importark'!$B$9,\"\")","v":""},{"$nulls":19},0,"","objektnogle_"]
[454,null,{"$f":"IF('1 - Opstart Importark'!$B$6=\"\",\"\",CONCATENATE('Blokke - AMV'!$B$2,LEFT('1 - Opstart Importark'!$B$15,2),J466,IF(L466=\"\",\"\",\"-\"),L466,IF(N466=\"\",\"\",\"_\"),N466,IF(P466=\"\",\"\",(CONCATENATE(\"_\",P466)))))","v":""},{"$nulls":14},{"$f":"IF(LEN('1 - Opstart Importark'!$B$6)>0,'1 - Opstart Importark'!$B$6,\"\")","v":""},{"$f":"IF(LEN('1 - Opstart Importark'!$B$9)>0,'1 - Opstart Importark'!$B$9,\"\")","v":""},{"$nulls":19},0,"","objektnogle_"]
[455,null,{"$f":"IF('1 - Opstart Importark'!$B$6=\"\",\"\",CONCATENATE('Blokke - AMV'!$B$2,LEFT('1 - Opstart Importark'!$B$15,2),J467,IF(L467=\"\",\"\",\"-\"),L467,IF(N467=\"\",\"\",\"_\"),N467,IF(P467=\"\",\"\",(CONCATENATE(\"_\",P467)))))","v":""},{"$nulls":14},{"$f":"IF(LEN('1 - Opstart Importark'!$B$6)>0,'1 - Opstart Importark'!$B$6,\"\")","v":""},{"$f":"IF(LEN('1 - Opstart Importark'!$B$9)>0,'1 - Opstart Importark'!$B$9,\"\")","v":""},{"$nulls":19},0,"","objektnogle_"]
[456,null,{"$f":"IF('1 - Opstart Importark'!$B$6=\"\",\"\",CONCATENATE('Blokke - AMV'!$B$2,LEFT('1 - Opstart Importark'!$B$15,2),J468,IF(L468=\"\",\"\",\"-\"),L468,IF(N468=\"\",\"\",\"_\"),N468,IF(P468=\"\",\"\",(CONCATENATE(\"_\",P468)))))","v":""},{"$nulls":14},{"$f":"IF(LEN('1 - Opstart Importark'!$B$6)>0,'1 - Opstart Importark'!$B$6,\"\")","v":""},{"$f":"IF(LEN('1 - Opstart Importark'!$B$9)>0,'1 - Opstart Importark'!$B$9,\"\")","v":""},{"$nulls":19},0,"","objektnogle_"]
[457,null,{"$f":"IF('1 - Opstart Importark'!$B$6=\"\",\"\",CONCATENATE('Blokke - AMV'!$B$2,LEFT('1 - Opstart Importark'!$B$15,2),J469,IF(L469=\"\",\"\",\"-\"),L469,IF(N469=\"\",\"\",\"_\"),N469,IF(P469=\"\",\"\",(CONCATENATE(\"_\",P469)))))","v":""},{"$nulls":14},{"$f":"IF(LEN('1 - Opstart Importark'!$B$6)>0,'1 - Opstart Importark'!$B$6,\"\")","v":""},{"$f":"IF(LEN('1 - Opstart Importark'!$B$9)>0,'1 - Opstart Importark'!$B$9,\"\")","v":""},{"$nulls":19},0,"","objektnogle_"]
[458,null,{"$f":"IF('1 - Opstart Importark'!$B$6=\"\",\"\",CONCATENATE('Blokke - AMV'!$B$2,LEFT('1 - Opstart Importark'!$B$15,2),J470,IF(L470=\"\",\"\",\"-\"),L470,IF(N470=\"\",\"\",\"_\"),N470,IF(P470=\"\",\"\",(CONCATENATE(\"_\",P470)))))","v":""},{"$nulls":14},{"$f":"IF(LEN('1 - Opstart Importark'!$B$6)>0,'1 - Opstart Importark'!$B$6,\"\")","v":""},{"$f":"IF(LEN('1 - Opstart Importark'!$B$9)>0,'1 - Opstart Importark'!$B$9,\"\")","v":""},{"$nulls":19},0,"","objektnogle_"]
[459,null,{"$f":"IF('1 - Opstart Importark'!$B$6=\"\",\"\",CONCATENATE('Blokke - AMV'!$B$2,LEFT('1 - Opstart Importark'!$B$15,2),J471,IF(L471=\"\",\"\",\"-\"),L471,IF(N471=\"\",\"\",\"_\"),N471,IF(P471=\"\",\"\",(CONCATENATE(\"_\",P471)))))","v":""},{"$nulls":14},{"$f":"IF(LEN('1 - Opstart Importark'!$B$6)>0,'1 - Opstart Importark'!$B$6,\"\")","v":""},{"$f":"IF(LEN('1 - Opstart Importark'!$B$9)>0,'1 - Opstart Importark'!$B$9,\"\")","v":""},{"$nulls":19},0,"","objektnogle_"]
[460,null,{"$f":"IF('1 - Opstart Importark'!$B$6=\"\",\"\",CONCATENATE('Blokke - AMV'!$B$2,LEFT('1 - Opstart Importark'!$B$15,2),J472,IF(L472=\"\",\"\",\"-\"),L472,IF(N472=\"\",\"\",\"_\"),N472,IF(P472=\"\",\"\",(CONCATENATE(\"_\",P472)))))","v":""},{"$nulls":14},{"$f":"IF(LEN('1 - Opstart Importark'!$B$6)>0,'1 - Opstart Importark'!$B$6,\"\")","v":""},{"$f":"IF(LEN('1 - Opstart Importark'!$B$9)>0,'1 - Opstart Importark'!$B$9,\"\")","v":""},{"$nulls":19},0,"","objektnogle_"]
[461,null,{"$f":"IF('1 - Opstart Importark'!$B$6=\"\",\"\",CONCATENATE('Blokke - AMV'!$B$2,LEFT('1 - Opstart Importark'!$B$15,2),J473,IF(L473=\"\",\"\",\"-\"),L473,IF(N473=\"\",\"\",\"_\"),N473,IF(P473=\"\",\"\",(CONCATENATE(\"_\",P473)))))","v":""},{"$nulls":14},{"$f":"IF(LEN('1 - Opstart Importark'!$B$6)>0,'1 - Opstart Importark'!$B$6,\"\")","v":""},{"$f":"IF(LEN('1 - Opstart Importark'!$B$9)>0,'1 - Opstart Importark'!$B$9,\"\")","v":""},{"$nulls":19},0,"","objektnogle_"]
[462,null,{"$f":"IF('1 - Opstart Importark'!$B$6=\"\",\"\",CONCATENATE('Blokke - AMV'!$B$2,LEFT('1 - Opstart Importark'!$B$15,2),J474,IF(L474=\"\",\"\",\"-\"),L474,IF(N474=\"\",\"\",\"_\"),N474,IF(P474=\"\",\"\",(CONCATENATE(\"_\",P474)))))","v":""},{"$nulls":14},{"$f":"IF(LEN('1 - Opstart Importark'!$B$6)>0,'1 - Opstart Importark'!$B$6,\"\")","v":""},{"$f":"IF(LEN('1 - Opstart Importark'!$B$9)>0,'1 - Opstart Importark'!$B$9,\"\")","v":""},{"$nulls":19},0,"","objektnogle_"]
[463,null,{"$f":"IF('1 - Opstart Importark'!$B$6=\"\",\"\",CONCATENATE('Blokke - AMV'!$B$2,LEFT('1 - Opstart Importark'!$B$15,2),J475,IF(L475=\"\",\"\",\"-\"),L475,IF(N475=\"\",\"\",\"_\"),N475,IF(P475=\"\",\"\",(CONCATENATE(\"_\",P475)))))","v":""},{"$nulls":14},{"$f":"IF(LEN('1 - Opstart Importark'!$B$6)>0,'1 - Opstart Importark'!$B$6,\"\")","v":""},{"$f":"IF(LEN('1 - Opstart Importark'!$B$9)>0,'1 - Opstart Importark'!$B$9,\"\")","v":""},{"$nulls":19},0,"","objektnogle_"]
[464,null,{"$f":"IF('1 - Opstart Importark'!$B$6=\"\",\"\",CONCATENATE('Blokke - AMV'!$B$2,LEFT('1 - Opstart Importark'!$B$15,2),J476,IF(L476=\"\",\"\",\"-\"),L476,IF(N476=\"\",\"\",\"_\"),N476,IF(P476=\"\",\"\",(CONCATENATE(\"_\",P476)))))","v":""},{"$nulls":14},{"$f":"IF(LEN('1 - Opstart Importark'!$B$6)>0,'1 - Opstart Importark'!$B$6,\"\")","v":""},{"$f":"IF(LEN('1 - Opstart Importark'!$B$9)>0,'1 - Opstart Importark'!$B$9,\"\")","v":""},{"$nulls":19},0,"","objektnogle_"]
[465,null,{"$f":"IF('1 - Opstart Importark'!$B$6=\"\",\"\",CONCATENATE('Blokke - AMV'!$B$2,LEFT('1 - Opstart Importark'!$B$15,2),J477,IF(L477=\"\",\"\",\"-\"),L477,IF(N477=\"\",\"\",\"_\"),N477,IF(P477=\"\",\"\",(CONCATENATE(\"_\",P477)))))","v":""},{"$nulls":14},{"$f":"IF(LEN('1 - Opstart Importark'!$B$6)>0,'1 - Opstart Importark'!$B$6,\"\")","v":""},{"$f":"IF(LEN('1 - Opstart Importark'!$B$9)>0,'1 - Opstart Importark'!$B$9,\"\")","v":""},{"$nulls":19},0,"","objektnogle_"]
[466,null,{"$f":"IF('1 - Opstart Importark'!$B$6=\"\",\"\",CONCATENATE('Blokke - AMV'!$B$2,LEFT('1 - Opstart Importark'!$B$15,2),J478,IF(L478=\"\",\"\",\"-\"),L478,IF(N478=\"\",\"\",\"_\"),N478,IF(P478=\"\",\"\",(CONCATENATE(\"_\",P478)))))","v":""},{"$nulls":14},{"$f":"IF(LEN('1 - Opstart Importark'!$B$6)>0,'1 - Opstart Importark'!$B$6,\"\")","v":""},{"$f":"IF(LEN('1 - Opstart Importark'!$B$9)>0,'1 - Opstart Importark'!$B$9,\"\")","v":""},{"$nulls":19},0,"","objektnogle_"]
[467,null,{"$f":"IF('1 - Opstart Importark'!$B$6=\"\",\"\",CONCATENATE('Blokke - AMV'!$B$2,LEFT('1 - Opstart Importark'!$B$15,2),J479,IF(L479=\"\",\"\",\"-\"),L479,IF(N479=\"\",\"\",\"_\"),N479,IF(P479=\"\",\"\",(CONCATENATE(\"_\",P479)))))","v":""},{"$nulls":14},{"$f":"IF(LEN('1 - Opstart Importark'!$B$6)>0,'1 - Opstart Importark'!$B$6,\"\")","v":""},{"$f":"IF(LEN('1 - Opstart Importark'!$B$9)>0,'1 - Opstart Importark'!$B$9,\"\")","v":""},{"$nulls":19},0,"","objektnogle_"]
[468,null,{"$f":"IF('1 - Opstart Importark'!$B$6=\"\",\"\",CONCATENATE('Blokke - AMV'!$B$2,LEFT('1 - Opstart Importark'!$B$15,2),J480,IF(L480=\"\",\"\",\"-\"),L480,IF(N480=\"\",\"\",\"_\"),N480,IF(P480=\"\",\"\",(CONCATENATE(\"_\",P480)))))","v":""},{"$nulls":14},{"$f":"IF(LEN('1 - Opstart Importark'!$B$6)>0,'1 - Opstart Importark'!$B$6,\"\")","v":""},{"$f":"IF(LEN('1 - Opstart Importark'!$B$9)>0,'1 - Opstart Importark'!$B$9,\"\")","v":""},{"$nulls":19},0,"","objektnogle_"]
[469,null,{"$f":"IF('1 - Opstart Importark'!$B$6=\"\",\"\",CONCATENATE('Blokke - AMV'!$B$2,LEFT('1 - Opstart Importark'!$B$15,2),J481,IF(L481=\"\",\"\",\"-\"),L481,IF(N481=\"\",\"\",\"_\"),N481,IF(P481=\"\",\"\",(CONCATENATE(\"_\",P481)))))","v":""},{"$nulls":14},{"$f":"IF(LEN('1 - Opstart Importark'!$B$6)>0,'1 - Opstart Importark'!$B$6,\"\")","v":""},{"$f":"IF(LEN('1 - Opstart Importark'!$B$9)>0,'1 - Opstart Importark'!$B$9,\"\")","v":""},{"$nulls":19},0,"","objektnogle_"]
[470,null,{"$f":"IF('1 - Opstart Importark'!$B$6=\"\",\"\",CONCATENATE('Blokke - AMV'!$B$2,LEFT('1 - Opstart Importark'!$B$15,2),J482,IF(L482=\"\",\"\",\"-\"),L482,IF(N482=\"\",\"\",\"_\"),N482,IF(P482=\"\",\"\",(CONCATENATE(\"_\",P482)))))","v":""},{"$nulls":14},{"$f":"IF(LEN('1 - Opstart Importark'!$B$6)>0,'1 - Opstart Importark'!$B$6,\"\")","v":""},{"$f":"IF(LEN('1 - Opstart Importark'!$B$9)>0,'1 - Opstart Importark'!$B$9,\"\")","v":""},{"$nulls":19},0,"","objektnogle_"]
[471,null,{"$f":"IF('1 - Opstart Importark'!$B$6=\"\",\"\",CONCATENATE('Blokke - AMV'!$B$2,LEFT('1 - Opstart Importark'!$B$15,2),J483,IF(L483=\"\",\"\",\"-\"),L483,IF(N483=\"\",\"\",\"_\"),N483,IF(P483=\"\",\"\",(CONCATENATE(\"_\",P483)))))","v":""},{"$nulls":14},{"$f":"IF(LEN('1 - Opstart Importark'!$B$6)>0,'1 - Opstart Importark'!$B$6,\"\")","v":""},{"$f":"IF(LEN('1 - Opstart Importark'!$B$9)>0,'1 - Opstart Importark'!$B$9,\"\")","v":""},{"$nulls":19},0,"","objektnogle_"]
[472,null,{"$f":"IF('1 - Opstart Importark'!$B$6=\"\",\"\",CONCATENATE('Blokke - AMV'!$B$2,LEFT('1 - Opstart Importark'!$B$15,2),J484,IF(L484=\"\",\"\",\"-\"),L484,IF(N484=\"\",\"\",\"_\"),N484,IF(P484=\"\",\"\",(CONCATENATE(\"_\",P484)))))","v":""},{"$nulls":14},{"$f":"IF(LEN('1 - Opstart Importark'!$B$6)>0,'1 - Opstart Importark'!$B$6,\"\")","v":""},{"$f":"IF(LEN('1 - Opstart Importark'!$B$9)>0,'1 - Opstart Importark'!$B$9,\"\")","v":""},{"$nulls":19},0,"","objektnogle_"]
[473,null,{"$f":"IF('1 - Opstart Importark'!$B$6=\"\",\"\",CONCATENATE('Blokke - AMV'!$B$2,LEFT('1 - Opstart Importark'!$B$15,2),J485,IF(L485=\"\",\"\",\"-\"),L485,IF(N485=\"\",\"\",\"_\"),N485,IF(P485=\"\",\"\",(CONCATENATE(\"_\",P485)))))","v":""},{"$nulls":14},{"$f":"IF(LEN('1 - Opstart Importark'!$B$6)>0,'1 - Opstart Importark'!$B$6,\"\")","v":""},{"$f":"IF(LEN('1 - Opstart Importark'!$B$9)>0,'1 - Opstart Importark'!$B$9,\"\")","v":""},{"$nulls":19},0,"","objektnogle_"]
[474,null,{"$f":"IF('1 - Opstart Importark'!$B$6=\"\",\"\",CONCATENATE('Blokke - AMV'!$B$2,LEFT('1 - Opstart Importark'!$B$15,2),J486,IF(L486=\"\",\"\",\"-\"),L486,IF(N486=\"\",\"\",\"_\"),N486,IF(P486=\"\",\"\",(CONCATENATE(\"_\",P486)))))","v":""},{"$nulls":14},{"$f":"IF(LEN('1 - Opstart Importark'!$B$6)>0,'1 - Opstart Importark'!$B$6,\"\")","v":""},{"$f":"IF(LEN('1 - Opstart Importark'!$B$9)>0,'1 - Opstart Importark'!$B$9,\"\")","v":""},{"$nulls":19},0,"","objektnogle_"]
[475,null,{"$f":"IF('1 - Opstart Importark'!$B$6=\"\",\"\",CONCATENATE('Blokke - AMV'!$B$2,LEFT('1 - Opstart Importark'!$B$15,2),J487,IF(L487=\"\",\"\",\"-\"),L487,IF(N487=\"\",\"\",\"_\"),N487,IF(P487=\"\",\"\",(CONCATENATE(\"_\",P487)))))","v":""},{"$nulls":14},{"$f":"IF(LEN('1 - Opstart Importark'!$B$6)>0,'1 - Opstart Importark'!$B$6,\"\")","v":""},{"$f":"IF(LEN('1 - Opstart Importark'!$B$9)>0,'1 - Opstart Importark'!$B$9,\"\")","v":""},{"$nulls":19},0,"","objektnogle_"]
[476,null,{"$f":"IF('1 - Opstart Importark'!$B$6=\"\",\"\",CONCATENATE('Blokke - AMV'!$B$2,LEFT('1 - Opstart Importark'!$B$15,2),J488,IF(L488=\"\",\"\",\"-\"),L488,IF(N488=\"\",\"\",\"_\"),N488,IF(P488=\"\",\"\",(CONCATENATE(\"_\",P488)))))","v":""},{"$nulls":14},{"$f":"IF(LEN('1 - Opstart Importark'!$B$6)>0,'1 - Opstart Importark'!$B$6,\"\")","v":""},{"$f":"IF(LEN('1 - Opstart Importark'!$B$9)>0,'1 - Opstart Importark'!$B$9,\"\")","v":""},{"$nulls":19},0,"","objektnogle_"]
[477,null,{"$f":"IF('1 - Opstart Importark'!$B$6=\"\",\"\",CONCATENATE('Blokke - AMV'!$B$2,LEFT('1 - Opstart Importark'!$B$15,2),J489,IF(L489=\"\",\"\",\"-\"),L489,IF(N489=\"\",\"\",\"_\"),N489,IF(P489=\"\",\"\",(CONCATENATE(\"_\",P489)))))","v":""},{"$nulls":14},{"$f":"IF(LEN('1 - Opstart Importark'!$B$6)>0,'1 - Opstart Importark'!$B$6,\"\")","v":""},{"$f":"IF(LEN('1 - Opstart Importark'!$B$9)>0,'1 - Opstart Importark'!$B$9,\"\")","v":""},{"$nulls":19},0,"","objektnogle_"]
[478,null,{"$f":"IF('1 - Opstart Importark'!$B$6=\"\",\"\",CONCATENATE('Blokke - AMV'!$B$2,LEFT('1 - Opstart Importark'!$B$15,2),J490,IF(L490=\"\",\"\",\"-\"),L490,IF(N490=\"\",\"\",\"_\"),N490,IF(P490=\"\",\"\",(CONCATENATE(\"_\",P490)))))","v":""},{"$nulls":14},{"$f":"IF(LEN('1 - Opstart Importark'!$B$6)>0,'1 - Opstart Importark'!$B$6,\"\")","v":""},{"$f":"IF(LEN('1 - Opstart Importark'!$B$9)>0,'1 - Opstart Importark'!$B$9,\"\")","v":""},{"$nulls":19},0,"","objektnogle_"]
[479,null,{"$f":"IF('1 - Opstart Importark'!$B$6=\"\",\"\",CONCATENATE('Blokke - AMV'!$B$2,LEFT('1 - Opstart Importark'!$B$15,2),J491,IF(L491=\"\",\"\",\"-\"),L491,IF(N491=\"\",\"\",\"_\"),N491,IF(P491=\"\",\"\",(CONCATENATE(\"_\",P491)))))","v":""},{"$nulls":14},{"$f":"IF(LEN('1 - Opstart Importark'!$B$6)>0,'1 - Opstart Importark'!$B$6,\"\")","v":""},{"$f":"IF(LEN('1 - Opstart Importark'!$B$9)>0,'1 - Opstart Importark'!$B$9,\"\")","v":""},{"$nulls":19},0,"","objektnogle_"]
[480,null,{"$f":"IF('1 - Opstart Importark'!$B$6=\"\",\"\",CONCATENATE('Blokke - AMV'!$B$2,LEFT('1 - Opstart Importark'!$B$15,2),J492,IF(L492=\"\",\"\",\"-\"),L492,IF(N492=\"\",\"\",\"_\"),N492,IF(P492=\"\",\"\",(CONCATENATE(\"_\",P492)))))","v":""},{"$nulls":14},{"$f":"IF(LEN('1 - Opstart Importark'!$B$6)>0,'1 - Opstart Importark'!$B$6,\"\")","v":""},{"$f":"IF(LEN('1 - Opstart Importark'!$B$9)>0,'1 - Opstart Importark'!$B$9,\"\")","v":""},{"$nulls":19},0,"","objektnogle_"]
[481,null,{"$f":"IF('1 - Opstart Importark'!$B$6=\"\",\"\",CONCATENATE('Blokke - AMV'!$B$2,LEFT('1 - Opstart Importark'!$B$15,2),J493,IF(L493=\"\",\"\",\"-\"),L493,IF(N493=\"\",\"\",\"_\"),N493,IF(P493=\"\",\"\",(CONCATENATE(\"_\",P493)))))","v":""},{"$nulls":14},{"$f":"IF(LEN('1 - Opstart Importark'!$B$6)>0,'1 - Opstart Importark'!$B$6,\"\")","v":""},{"$f":"IF(LEN('1 - Opstart Importark'!$B$9)>0,'1 - Opstart Importark'!$B$9,\"\")","v":""},{"$nulls":19},0,"","objektnogle_"]
[482,null,{"$f":"IF('1 - Opstart Importark'!$B$6=\"\",\"\",CONCATENATE('Blokke - AMV'!$B$2,LEFT('1 - Opstart Importark'!$B$15,2),J494,IF(L494=\"\",\"\",\"-\"),L494,IF(N494=\"\",\"\",\"_\"),N494,IF(P494=\"\",\"\",(CONCATENATE(\"_\",P494)))))","v":""},{"$nulls":14},{"$f":"IF(LEN('1 - Opstart Importark'!$B$6)>0,'1 - Opstart Importark'!$B$6,\"\")","v":""},{"$f":"IF(LEN('1 - Opstart Importark'!$B$9)>0,'1 - Opstart Importark'!$B$9,\"\")","v":""},{"$nulls":19},0,"","objektnogle_"]
[483,null,{"$f":"IF('1 - Opstart Importark'!$B$6=\"\",\"\",CONCATENATE('Blokke - AMV'!$B$2,LEFT('1 - Opstart Importark'!$B$15,2),J495,IF(L495=\"\",\"\",\"-\"),L495,IF(N495=\"\",\"\",\"_\"),N495,IF(P495=\"\",\"\",(CONCATENATE(\"_\",P495)))))","v":""},{"$nulls":14},{"$f":"IF(LEN('1 - Opstart Importark'!$B$6)>0,'1 - Opstart Importark'!$B$6,\"\")","v":""},{"$f":"IF(LEN('1 - Opstart Importark'!$B$9)>0,'1 - Opstart Importark'!$B$9,\"\")","v":""},{"$nulls":19},0,"","objektnogle_"]
[484,null,{"$f":"IF('1 - Opstart Importark'!$B$6=\"\",\"\",CONCATENATE('Blokke - AMV'!$B$2,LEFT('1 - Opstart Importark'!$B$15,2),J496,IF(L496=\"\",\"\",\"-\"),L496,IF(N496=\"\",\"\",\"_\"),N496,IF(P496=\"\",\"\",(CONCATENATE(\"_\",P496)))))","v":""},{"$nulls":14},{"$f":"IF(LEN('1 - Opstart Importark'!$B$6)>0,'1 - Opstart Importark'!$B$6,\"\")","v":""},{"$f":"IF(LEN('1 - Opstart Importark'!$B$9)>0,'1 - Opstart Importark'!$B$9,\"\")","v":""},{"$nulls":19},0,"","objektnogle_"]
[485,null,{"$f":"IF('1 - Opstart Importark'!$B$6=\"\",\"\",CONCATENATE('Blokke - AMV'!$B$2,LEFT('1 - Opstart Importark'!$B$15,2),J497,IF(L497=\"\",\"\",\"-\"),L497,IF(N497=\"\",\"\",\"_\"),N497,IF(P497=\"\",\"\",(CONCATENATE(\"_\",P497)))))","v":""},{"$nulls":14},{"$f":"IF(LEN('1 - Opstart Importark'!$B$6)>0,'1 - Opstart Importark'!$B$6,\"\")","v":""},{"$f":"IF(LEN('1 - Opstart Importark'!$B$9)>0,'1 - Opstart Importark'!$B$9,\"\")","v":""},{"$nulls":19},0,"","objektnogle_"]
[486,null,{"$f":"IF('1 - Opstart Importark'!$B$6=\"\",\"\",CONCATENATE('Blokke - AMV'!$B$2,LEFT('1 - Opstart Importark'!$B$15,2),J498,IF(L498=\"\",\"\",\"-\"),L498,IF(N498=\"\",\"\",\"_\"),N498,IF(P498=\"\",\"\",(CONCATENATE(\"_\",P498)))))","v":""},{"$nulls":14},{"$f":"IF(LEN('1 - Opstart Importark'!$B$6)>0,'1 - Opstart Importark'!$B$6,\"\")","v":""},{"$f":"IF(LEN('1 - Opstart Importark'!$B$9)>0,'1 - Opstart Importark'!$B$9,\"\")","v":""},{"$nulls":19},0,"","objektnogle_"]
[487,null,{"$f":"IF('1 - Opstart Importark'!$B$6=\"\",\"\",CONCATENATE('Blokke - AMV'!$B$2,LEFT('1 - Opstart Importark'!$B$15,2),J499,IF(L499=\"\",\"\",\"-\"),L499,IF(N499=\"\",\"\",\"_\"),N499,IF(P499=\"\",\"\",(CONCATENATE(\"_\",P499)))))","v":""},{"$nulls":14},{"$f":"IF(LEN('1 - Opstart Importark'!$B$6)>0,'1 - Opstart Importark'!$B$6,\"\")","v":""},{"$f":"IF(LEN('1 - Opstart Importark'!$B$9)>0,'1 - Opstart Importark'!$B$9,\"\")","v":""},{"$nulls":19},0,"","objektnogle_"]
[488,null,{"$f":"IF('1 - Opstart Importark'!$B$6=\"\",\"\",CONCATENATE('Blokke - AMV'!$B$2,LEFT('1 - Opstart Importark'!$B$15,2),J500,IF(L500=\"\",\"\",\"-\"),L500,IF(N500=\"\",\"\",\"_\"),N500,IF(P500=\"\",\"\",(CONCATENATE(\"_\",P500)))))","v":""},{"$nulls":14},{"$f":"IF(LEN('1 - Opstart Importark'!$B$6)>0,'1 - Opstart Importark'!$B$6,\"\")","v":""},{"$f":"IF(LEN('1 - Opstart Importark'!$B$9)>0,'1 - Opstart Importark'!$B$9,\"\")","v":""},{"$nulls":19},0,"","objektnogle_"]
[489,null,{"$f":"IF('1 - Opstart Importark'!$B$6=\"\",\"\",CONCATENATE('Blokke - AMV'!$B$2,LEFT('1 - Opstart Importark'!$B$15,2),J501,IF(L501=\"\",\"\",\"-\"),L501,IF(N501=\"\",\"\",\"_\"),N501,IF(P501=\"\",\"\",(CONCATENATE(\"_\",P501)))))","v":""},{"$nulls":14},{"$f":"IF(LEN('1 - Opstart Importark'!$B$6)>0,'1 - Opstart Importark'!$B$6,\"\")","v":""},{"$f":"IF(LEN('1 - Opstart Importark'!$B$9)>0,'1 - Opstart Importark'!$B$9,\"\")","v":""},{"$nulls":19},0,"","objektnogle_"]
[490,null,{"$f":"IF('1 - Opstart Importark'!$B$6=\"\",\"\",CONCATENATE('Blokke - AMV'!$B$2,LEFT('1 - Opstart Importark'!$B$15,2),J502,IF(L502=\"\",\"\",\"-\"),L502,IF(N502=\"\",\"\",\"_\"),N502,IF(P502=\"\",\"\",(CONCATENATE(\"_\",P502)))))","v":""},{"$nulls":14},{"$f":"IF(LEN('1 - Opstart Importark'!$B$6)>0,'1 - Opstart Importark'!$B$6,\"\")","v":""},{"$f":"IF(LEN('1 - Opstart Importark'!$B$9)>0,'1 - Opstart Importark'!$B$9,\"\")","v":""},{"$nulls":19},0,"","objektnogle_"]
[491,null,{"$f":"IF('1 - Opstart Importark'!$B$6=\"\",\"\",CONCATENATE('Blokke - AMV'!$B$2,LEFT('1 - Opstart Importark'!$B$15,2),J503,IF(L503=\"\",\"\",\"-\"),L503,IF(N503=\"\",\"\",\"_\"),N503,IF(P503=\"\",\"\",(CONCATENATE(\"_\",P503)))))","v":""},{"$nulls":14},{"$f":"IF(LEN('1 - Opstart Importark'!$B$6)>0,'1 - Opstart Importark'!$B$6,\"\")","v":""},{"$f":"IF(LEN('1 - Opstart Importark'!$B$9)>0,'1 - Opstart Importark'!$B$9,\"\")","v":""},{"$nulls":19},0,"","objektnogle_"]
[492,null,{"$f":"IF('1 - Opstart Importark'!$B$6=\"\",\"\",CONCATENATE('Blokke - AMV'!$B$2,LEFT('1 - Opstart Importark'!$B$15,2),J504,IF(L504=\"\",\"\",\"-\"),L504,IF(N504=\"\",\"\",\"_\"),N504,IF(P504=\"\",\"\",(CONCATENATE(\"_\",P504)))))","v":""},{"$nulls":14},{"$f":"IF(LEN('1 - Opstart Importark'!$B$6)>0,'1 - Opstart Importark'!$B$6,\"\")","v":""},{"$f":"IF(LEN('1 - Opstart Importark'!$B$9)>0,'1 - Opstart Importark'!$B$9,\"\")","v":""},{"$nulls":19},0,"","objektnogle_"]
[493,null,{"$f":"IF('1 - Opstart Importark'!$B$6=\"\",\"\",CONCATENATE('Blokke - AMV'!$B$2,LEFT('1 - Opstart Importark'!$B$15,2),J505,IF(L505=\"\",\"\",\"-\"),L505,IF(N505=\"\",\"\",\"_\"),N505,IF(P505=\"\",\"\",(CONCATENATE(\"_\",P505)))))","v":""},{"$nulls":14},{"$f":"IF(LEN('1 - Opstart Importark'!$B$6)>0,'1 - Opstart Importark'!$B$6,\"\")","v":""},{"$f":"IF(LEN('1 - Opstart Importark'!$B$9)>0,'1 - Opstart Importark'!$B$9,\"\")","v":""},{"$nulls":19},0,"","objektnogle_"]
[494,null,{"$f":"IF('1 - Opstart Importark'!$B$6=\"\",\"\",CONCATENATE('Blokke - AMV'!$B$2,LEFT('1 - Opstart Importark'!$B$15,2),J506,IF(L506=\"\",\"\",\"-\"),L506,IF(N506=\"\",\"\",\"_\"),N506,IF(P506=\"\",\"\",(CONCATENATE(\"_\",P506)))))","v":""},{"$nulls":14},{"$f":"IF(LEN('1 - Opstart Importark'!$B$6)>0,'1 - Opstart Importark'!$B$6,\"\")","v":""},{"$f":"IF(LEN('1 - Opstart Importark'!$B$9)>0,'1 - Opstart Importark'!$B$9,\"\")","v":""},{"$nulls":19},0,"","objektnogle_"]
[495,null,{"$f":"IF('1 - Opstart Importark'!$B$6=\"\",\"\",CONCATENATE('Blokke - AMV'!$B$2,LEFT('1 - Opstart Importark'!$B$15,2),J507,IF(L507=\"\",\"\",\"-\"),L507,IF(N507=\"\",\"\",\"_\"),N507,IF(P507=\"\",\"\",(CONCATENATE(\"_\",P507)))))","v":""},{"$nulls":14},{"$f":"IF(LEN('1 - Opstart Importark'!$B$6)>0,'1 - Opstart Importark'!$B$6,\"\")","v":""},{"$f":"IF(LEN('1 - Opstart Importark'!$B$9)>0,'1 - Opstart Importark'!$B$9,\"\")","v":""},{"$nulls":19},0,"","objektnogle_"]
[496,null,{"$f":"IF('1 - Opstart Importark'!$B$6=\"\",\"\",CONCATENATE('Blokke - AMV'!$B$2,LEFT('1 - Opstart Importark'!$B$15,2),J508,IF(L508=\"\",\"\",\"-\"),L508,IF(N508=\"\",\"\",\"_\"),N508,IF(P508=\"\",\"\",(CONCATENATE(\"_\",P508)))))","v":""},{"$nulls":14},{"$f":"IF(LEN('1 - Opstart Importark'!$B$6)>0,'1 - Opstart Importark'!$B$6,\"\")","v":""},{"$f":"IF(LEN('1 - Opstart Importark'!$B$9)>0,'1 - Opstart Importark'!$B$9,\"\")","v":""},{"$nulls":19},0,"","objektnogle_"]
[497,null,{"$f":"IF('1 - Opstart Importark'!$B$6=\"\",\"\",CONCATENATE('Blokke - AMV'!$B$2,LEFT('1 - Opstart Importark'!$B$15,2),J509,IF(L509=\"\",\"\",\"-\"),L509,IF(N509=\"\",\"\",\"_\"),N509,IF(P509=\"\",\"\",(CONCATENATE(\"_\",P509)))))","v":""},{"$nulls":14},{"$f":"IF(LEN('1 - Opstart Importark'!$B$6)>0,'1 - Opstart Importark'!$B$6,\"\")","v":""},{"$f":"IF(LEN('1 - Opstart Importark'!$B$9)>0,'1 - Opstart Importark'!$B$9,\"\")","v":""},{"$nulls":19},0,"","objektnogle_"]
[498,null,{"$f":"IF('1 - Opstart Importark'!$B$6=\"\",\"\",CONCATENATE('Blokke - AMV'!$B$2,LEFT('1 - Opstart Importark'!$B$15,2),J510,IF(L510=\"\",\"\",\"-\"),L510,IF(N510=\"\",\"\",\"_\"),N510,IF(P510=\"\",\"\",(CONCATENATE(\"_\",P510)))))","v":""},{"$nulls":14},{"$f":"IF(LEN('1 - Opstart Importark'!$B$6)>0,'1 - Opstart Importark'!$B$6,\"\")","v":""},{"$f":"IF(LEN('1 - Opstart Importark'!$B$9)>0,'1 - Opstart Importark'!$B$9,\"\")","v":""},{"$nulls":19},0,"","objektnogle_"]
[499,null,{"$f":"IF('1 - Opstart Importark'!$B$6=\"\",\"\",CONCATENATE('Blokke - AMV'!$B$2,LEFT('1 - Opstart Importark'!$B$15,2),J511,IF(L511=\"\",\"\",\"-\"),L511,IF(N511=\"\",\"\",\"_\"),N511,IF(P511=\"\",\"\",(CONCATENATE(\"_\",P511)))))","v":""},{"$nulls":14},{"$f":"IF(LEN('1 - Opstart Importark'!$B$6)>0,'1 - Opstart Importark'!$B$6,\"\")","v":""},{"$f":"IF(LEN('1 - Opstart Importark'!$B$9)>0,'1 - Opstart Importark'!$B$9,\"\")","v":""},{"$nulls":19},0,"","objektnogle_"]
[500,null,{"$f":"IF('1 - Opstart Importark'!$B$6=\"\",\"\",CONCATENATE('Blokke - AMV'!$B$2,LEFT('1 - Opstart Importark'!$B$15,2),J512,IF(L512=\"\",\"\",\"-\"),L512,IF(N512=\"\",\"\",\"_\"),N512,IF(P512=\"\",\"\",(CONCATENATE(\"_\",P512)))))","v":""},{"$nulls":14},{"$f":"IF(LEN('1 - Opstart Importark'!$B$6)>0,'1 - Opstart Importark'!$B$6,\"\")","v":""},{"$f":"IF(LEN('1 - Opstart Importark'!$B$9)>0,'1 - Opstart Importark'!$B$9,\"\")","v":""},{"$nulls":19},0,"","objektnogle_"]
[501,null,{"$f":"IF('1 - Opstart Importark'!$B$6=\"\",\"\",CONCATENATE('Blokke - AMV'!$B$2,LEFT('1 - Opstart Importark'!$B$15,2),J513,IF(L513=\"\",\"\",\"-\"),L513,IF(N513=\"\",\"\",\"_\"),N513,IF(P513=\"\",\"\",(CONCATENATE(\"_\",P513)))))","v":""},{"$nulls":14},{"$f":"IF(LEN('1 - Opstart Importark'!$B$6)>0,'1 - Opstart Importark'!$B$6,\"\")","v":""},{"$f":"IF(LEN('1 - Opstart Importark'!$B$9)>0,'1 - Opstart Importark'!$B$9,\"\")","v":""},{"$nulls":19},0,"","objektnogle_"]
[502,null,{"$f":"IF('1 - Opstart Importark'!$B$6=\"\",\"\",CONCATENATE('Blokke - AMV'!$B$2,LEFT('1 - Opstart Importark'!$B$15,2),J514,IF(L514=\"\",\"\",\"-\"),L514,IF(N514=\"\",\"\",\"_\"),N514,IF(P514=\"\",\"\",(CONCATENATE(\"_\",P514)))))","v":""},{"$nulls":14},{"$f":"IF(LEN('1 - Opstart Importark'!$B$6)>0,'1 - Opstart Importark'!$B$6,\"\")","v":""},{"$f":"IF(LEN('1 - Opstart Importark'!$B$9)>0,'1 - Opstart Importark'!$B$9,\"\")","v":""},{"$nulls":19},0,"","objektnogle_"]
[503,null,{"$f":"IF('1 - Opstart Importark'!$B$6=\"\",\"\",CONCATENATE('Blokke - AMV'!$B$2,LEFT('1 - Opstart Importark'!$B$15,2),J515,IF(L515=\"\",\"\",\"-\"),L515,IF(N515=\"\",\"\",\"_\"),N515,IF(P515=\"\",\"\",(CONCATENATE(\"_\",P515)))))","v":""},{"$nulls":14},{"$f":"IF(LEN('1 - Opstart Importark'!$B$6)>0,'1 - Opstart Importark'!$B$6,\"\")","v":""},{"$f":"IF(LEN('1 - Opstart Importark'!$B$9)>0,'1 - Opstart Importark'!$B$9,\"\")","v":""},{"$nulls":19},0,"","objektnogle_"]
[504,null,{"$f":"IF('1 - Opstart Importark'!$B$6=\"\",\"\",CONCATENATE('Blokke - AMV'!$B$2,LEFT('1 - Opstart Importark'!$B$15,2),J516,IF(L516=\"\",\"\",\"-\"),L516,IF(N516=\"\",\"\",\"_\"),N516,IF(P516=\"\",\"\",(CONCATENATE(\"_\",P516)))))","v":""},{"$nulls":14},{"$f":"IF(LEN('1 - Opstart Importark'!$B$6)>0,'1 - Opstart Importark'!$B$6,\"\")","v":""},{"$f":"IF(LEN('1 - Opstart Importark'!$B$9)>0,'1 - Opstart Importark'!$B$9,\"\")","v":""},{"$nulls":19},0,"","objektnogle_"]
[505,null,{"$f":"IF('1 - Opstart Importark'!$B$6=\"\",\"\",CONCATENATE('Blokke - AMV'!$B$2,LEFT('1 - Opstart Importark'!$B$15,2),J517,IF(L517=\"\",\"\",\"-\"),L517,IF(N517=\"\",\"\",\"_\"),N517,IF(P517=\"\",\"\",(CONCATENATE(\"_\",P517)))))","v":""},{"$nulls":14},{"$f":"IF(LEN('1 - Opstart Importark'!$B$6)>0,'1 - Opstart Importark'!$B$6,\"\")","v":""},{"$f":"IF(LEN('1 - Opstart Importark'!$B$9)>0,'1 - Opstart Importark'!$B$9,\"\")","v":""},{"$nulls":19},0,"","objektnogle_"]
[506,null,{"$f":"IF('1 - Opstart Importark'!$B$6=\"\",\"\",CONCATENATE('Blokke - AMV'!$B$2,LEFT('1 - Opstart Importark'!$B$15,2),J518,IF(L518=\"\",\"\",\"-\"),L518,IF(N518=\"\",\"\",\"_\"),N518,IF(P518=\"\",\"\",(CONCATENATE(\"_\",P518)))))","v":""},{"$nulls":14},{"$f":"IF(LEN('1 - Opstart Importark'!$B$6)>0,'1 - Opstart Importark'!$B$6,\"\")","v":""},{"$f":"IF(LEN('1 - Opstart Importark'!$B$9)>0,'1 - Opstart Importark'!$B$9,\"\")","v":""},{"$nulls":19},0,"","objektnogle_"]
[507,null,{"$f":"IF('1 - Opstart Importark'!$B$6=\"\",\"\",CONCATENATE('Blokke - AMV'!$B$2,LEFT('1 - Opstart Importark'!$B$15,2),J519,IF(L519=\"\",\"\",\"-\"),L519,IF(N519=\"\",\"\",\"_\"),N519,IF(P519=\"\",\"\",(CONCATENATE(\"_\",P519)))))","v":""},{"$nulls":14},{"$f":"IF(LEN('1 - Opstart Importark'!$B$6)>0,'1 - Opstart Importark'!$B$6,\"\")","v":""},{"$f":"IF(LEN('1 - Opstart Importark'!$B$9)>0,'1 - Opstart Importark'!$B$9,\"\")","v":""},{"$nulls":19},0,"","objektnogle_"]
[508,null,{"$f":"IF('1 - Opstart Importark'!$B$6=\"\",\"\",CONCATENATE('Blokke - AMV'!$B$2,LEFT('1 - Opstart Importark'!$B$15,2),J520,IF(L520=\"\",\"\",\"-\"),L520,IF(N520=\"\",\"\",\"_\"),N520,IF(P520=\"\",\"\",(CONCATENATE(\"_\",P520)))))","v":""},{"$nulls":14},{"$f":"IF(LEN('1 - Opstart Importark'!$B$6)>0,'1 - Opstart Importark'!$B$6,\"\")","v":""},{"$f":"IF(LEN('1 - Opstart Importark'!$B$9)>0,'1 - Opstart Importark'!$B$9,\"\")","v":""},{"$nulls":19},0,"","objektnogle_"]
[509,null,{"$f":"IF('1 - Opstart Importark'!$B$6=\"\",\"\",CONCATENATE('Blokke - AMV'!$B$2,LEFT('1 - Opstart Importark'!$B$15,2),J521,IF(L521=\"\",\"\",\"-\"),L521,IF(N521=\"\",\"\",\"_\"),N521,IF(P521=\"\",\"\",(CONCATENATE(\"_\",P521)))))","v":""},{"$nulls":14},{"$f":"IF(LEN('1 - Opstart Importark'!$B$6)>0,'1 - Opstart Importark'!$B$6,\"\")","v":""},{"$f":"IF(LEN('1 - Opstart Importark'!$B$9)>0,'1 - Opstart Importark'!$B$9,\"\")","v":""},{"$nulls":19},0,"","objektnogle_"]
[510,null,{"$f":"IF('1 - Opstart Importark'!$B$6=\"\",\"\",CONCATENATE('Blokke - AMV'!$B$2,LEFT('1 - Opstart Importark'!$B$15,2),J522,IF(L522=\"\",\"\",\"-\"),L522,IF(N522=\"\",\"\",\"_\"),N522,IF(P522=\"\",\"\",(CONCATENATE(\"_\",P522)))))","v":""},{"$nulls":14},{"$f":"IF(LEN('1 - Opstart Importark'!$B$6)>0,'1 - Opstart Importark'!$B$6,\"\")","v":""},{"$f":"IF(LEN('1 - Opstart Importark'!$B$9)>0,'1 - Opstart Importark'!$B$9,\"\")","v":""},{"$nulls":19},0,"","objektnogle_"]
[511,null,{"$f":"IF('1 - Opstart Importark'!$B$6=\"\",\"\",CONCATENATE('Blokke - AMV'!$B$2,LEFT('1 - Opstart Importark'!$B$15,2),J523,IF(L523=\"\",\"\",\"-\"),L523,IF(N523=\"\",\"\",\"_\"),N523,IF(P523=\"\",\"\",(CONCATENATE(\"_\",P523)))))","v":""},{"$nulls":14},{"$f":"IF(LEN('1 - Opstart Importark'!$B$6)>0,'1 - Opstart Importark'!$B$6,\"\")","v":""},{"$f":"IF(LEN('1 - Opstart Importark'!$B$9)>0,'1 - Opstart Importark'!$B$9,\"\")","v":""},{"$nulls":19},0,"","objektnogle_"]
[512,null,{"$f":"IF('1 - Opstart Importark'!$B$6=\"\",\"\",CONCATENATE('Blokke - AMV'!$B$2,LEFT('1 - Opstart Importark'!$B$15,2),J524,IF(L524=\"\",\"\",\"-\"),L524,IF(N524=\"\",\"\",\"_\"),N524,IF(P524=\"\",\"\",(CONCATENATE(\"_\",P524)))))","v":""},{"$nulls":14},{"$f":"IF(LEN('1 - Opstart Importark'!$B$6)>0,'1 - Opstart Importark'!$B$6,\"\")","v":""},{"$f":"IF(LEN('1 - Opstart Importark'!$B$9)>0,'1 - Opstart Importark'!$B$9,\"\")","v":""},{"$nulls":19},0,"","objektnogle_"]
[513,null,{"$f":"IF('1 - Opstart Importark'!$B$6=\"\",\"\",CONCATENATE('Blokke - AMV'!$B$2,LEFT('1 - Opstart Importark'!$B$15,2),J525,IF(L525=\"\",\"\",\"-\"),L525,IF(N525=\"\",\"\",\"_\"),N525,IF(P525=\"\",\"\",(CONCATENATE(\"_\",P525)))))","v":""},{"$nulls":14},{"$f":"IF(LEN('1 - Opstart Importark'!$B$6)>0,'1 - Opstart Importark'!$B$6,\"\")","v":""},{"$f":"IF(LEN('1 - Opstart Importark'!$B$9)>0,'1 - Opstart Importark'!$B$9,\"\")","v":""},{"$nulls":19},{"$f":"IFERROR(FIND(\".\",G525),)","v":0},{"$f":"IF(L525=\"\",\"\",IF(LEFT(L525,1)=\"E\",0,1))","v":""},{"$f":"CONCATENATE(\"objektnogle_\",LEFT(L525,1))","v":"objektnogle_"}]
[514,null,{"$f":"IF('1 - Opstart Importark'!$B$6=\"\",\"\",CONCATENATE('Blokke - AMV'!$B$2,LEFT('1 - Opstart Importark'!$B$15,2),J526,IF(L526=\"\",\"\",\"-\"),L526,IF(N526=\"\",\"\",\"_\"),N526,IF(P526=\"\",\"\",(CONCATENATE(\"_\",P526)))))","v":""},{"$nulls":14},{"$f":"IF(LEN('1 - Opstart Importark'!$B$6)>0,'1 - Opstart Importark'!$B$6,\"\")","v":""},{"$f":"IF(LEN('1 - Opstart Importark'!$B$9)>0,'1 - Opstart Importark'!$B$9,\"\")","v":""},{"$nulls":19},0,"","objektnogle_"]
[515,null,{"$f":"IF('1 - Opstart Importark'!$B$6=\"\",\"\",CONCATENATE('Blokke - AMV'!$B$2,LEFT('1 - Opstart Importark'!$B$15,2),J527,IF(L527=\"\",\"\",\"-\"),L527,IF(N527=\"\",\"\",\"_\"),N527,IF(P527=\"\",\"\",(CONCATENATE(\"_\",P527)))))","v":""},{"$nulls":14},{"$f":"IF(LEN('1 - Opstart Importark'!$B$6)>0,'1 - Opstart Importark'!$B$6,\"\")","v":""},{"$f":"IF(LEN('1 - Opstart Importark'!$B$9)>0,'1 - Opstart Importark'!$B$9,\"\")","v":""},{"$nulls":19},0,"","objektnogle_"]
[516,null,{"$f":"IF('1 - Opstart Importark'!$B$6=\"\",\"\",CONCATENATE('Blokke - AMV'!$B$2,LEFT('1 - Opstart Importark'!$B$15,2),J528,IF(L528=\"\",\"\",\"-\"),L528,IF(N528=\"\",\"\",\"_\"),N528,IF(P528=\"\",\"\",(CONCATENATE(\"_\",P528)))))","v":""},{"$nulls":14},{"$f":"IF(LEN('1 - Opstart Importark'!$B$6)>0,'1 - Opstart Importark'!$B$6,\"\")","v":""},{"$f":"IF(LEN('1 - Opstart Importark'!$B$9)>0,'1 - Opstart Importark'!$B$9,\"\")","v":""},{"$nulls":19},0,"","objektnogle_"]
[517,null,{"$f":"IF('1 - Opstart Importark'!$B$6=\"\",\"\",CONCATENATE('Blokke - AMV'!$B$2,LEFT('1 - Opstart Importark'!$B$15,2),J529,IF(L529=\"\",\"\",\"-\"),L529,IF(N529=\"\",\"\",\"_\"),N529,IF(P529=\"\",\"\",(CONCATENATE(\"_\",P529)))))","v":""},{"$nulls":14},{"$f":"IF(LEN('1 - Opstart Importark'!$B$6)>0,'1 - Opstart Importark'!$B$6,\"\")","v":""},{"$f":"IF(LEN('1 - Opstart Importark'!$B$9)>0,'1 - Opstart Importark'!$B$9,\"\")","v":""},{"$nulls":19},0,"","objektnogle_"]
[518,null,{"$f":"IF('1 - Opstart Importark'!$B$6=\"\",\"\",CONCATENATE('Blokke - AMV'!$B$2,LEFT('1 - Opstart Importark'!$B$15,2),J530,IF(L530=\"\",\"\",\"-\"),L530,IF(N530=\"\",\"\",\"_\"),N530,IF(P530=\"\",\"\",(CONCATENATE(\"_\",P530)))))","v":""},{"$nulls":14},{"$f":"IF(LEN('1 - Opstart Importark'!$B$6)>0,'1 - Opstart Importark'!$B$6,\"\")","v":""},{"$f":"IF(LEN('1 - Opstart Importark'!$B$9)>0,'1 - Opstart Importark'!$B$9,\"\")","v":""},{"$nulls":19},0,"","objektnogle_"]
[519,null,{"$f":"IF('1 - Opstart Importark'!$B$6=\"\",\"\",CONCATENATE('Blokke - AMV'!$B$2,LEFT('1 - Opstart Importark'!$B$15,2),J531,IF(L531=\"\",\"\",\"-\"),L531,IF(N531=\"\",\"\",\"_\"),N531,IF(P531=\"\",\"\",(CONCATENATE(\"_\",P531)))))","v":""},{"$nulls":14},{"$f":"IF(LEN('1 - Opstart Importark'!$B$6)>0,'1 - Opstart Importark'!$B$6,\"\")","v":""},{"$f":"IF(LEN('1 - Opstart Importark'!$B$9)>0,'1 - Opstart Importark'!$B$9,\"\")","v":""},{"$nulls":19},0,"","objektnogle_"]
[520,null,{"$f":"IF('1 - Opstart Importark'!$B$6=\"\",\"\",CONCATENATE('Blokke - AMV'!$B$2,LEFT('1 - Opstart Importark'!$B$15,2),J532,IF(L532=\"\",\"\",\"-\"),L532,IF(N532=\"\",\"\",\"_\"),N532,IF(P532=\"\",\"\",(CONCATENATE(\"_\",P532)))))","v":""},{"$nulls":14},{"$f":"IF(LEN('1 - Opstart Importark'!$B$6)>0,'1 - Opstart Importark'!$B$6,\"\")","v":""},{"$f":"IF(LEN('1 - Opstart Importark'!$B$9)>0,'1 - Opstart Importark'!$B$9,\"\")","v":""},{"$nulls":19},0,"","objektnogle_"]
[521,null,{"$f":"IF('1 - Opstart Importark'!$B$6=\"\",\"\",CONCATENATE('Blokke - AMV'!$B$2,LEFT('1 - Opstart Importark'!$B$15,2),J533,IF(L533=\"\",\"\",\"-\"),L533,IF(N533=\"\",\"\",\"_\"),N533,IF(P533=\"\",\"\",(CONCATENATE(\"_\",P533)))))","v":""},{"$nulls":14},{"$f":"IF(LEN('1 - Opstart Importark'!$B$6)>0,'1 - Opstart Importark'!$B$6,\"\")","v":""},{"$f":"IF(LEN('1 - Opstart Importark'!$B$9)>0,'1 - Opstart Importark'!$B$9,\"\")","v":""},{"$nulls":19},0,"","objektnogle_"]
[522,null,{"$f":"IF('1 - Opstart Importark'!$B$6=\"\",\"\",CONCATENATE('Blokke - AMV'!$B$2,LEFT('1 - Opstart Importark'!$B$15,2),J534,IF(L534=\"\",\"\",\"-\"),L534,IF(N534=\"\",\"\",\"_\"),N534,IF(P534=\"\",\"\",(CONCATENATE(\"_\",P534)))))","v":""},{"$nulls":14},{"$f":"IF(LEN('1 - Opstart Importark'!$B$6)>0,'1 - Opstart Importark'!$B$6,\"\")","v":""},{"$f":"IF(LEN('1 - Opstart Importark'!$B$9)>0,'1 - Opstart Importark'!$B$9,\"\")","v":""},{"$nulls":19},0,"","objektnogle_"]
[523,null,{"$f":"IF('1 - Opstart Importark'!$B$6=\"\",\"\",CONCATENATE('Blokke - AMV'!$B$2,LEFT('1 - Opstart Importark'!$B$15,2),J535,IF(L535=\"\",\"\",\"-\"),L535,IF(N535=\"\",\"\",\"_\"),N535,IF(P535=\"\",\"\",(CONCATENATE(\"_\",P535)))))","v":""},{"$nulls":14},{"$f":"IF(LEN('1 - Opstart Importark'!$B$6)>0,'1 - Opstart Importark'!$B$6,\"\")","v":""},{"$f":"IF(LEN('1 - Opstart Importark'!$B$9)>0,'1 - Opstart Importark'!$B$9,\"\")","v":""},{"$nulls":19},0,"","objektnogle_"]
[524,null,{"$f":"IF('1 - Opstart Importark'!$B$6=\"\",\"\",CONCATENATE('Blokke - AMV'!$B$2,LEFT('1 - Opstart Importark'!$B$15,2),J536,IF(L536=\"\",\"\",\"-\"),L536,IF(N536=\"\",\"\",\"_\"),N536,IF(P536=\"\",\"\",(CONCATENATE(\"_\",P536)))))","v":""},{"$nulls":14},{"$f":"IF(LEN('1 - Opstart Importark'!$B$6)>0,'1 - Opstart Importark'!$B$6,\"\")","v":""},{"$f":"IF(LEN('1 - Opstart Importark'!$B$9)>0,'1 - Opstart Importark'!$B$9,\"\")","v":""},{"$nulls":19},0,"","objektnogle_"]
[525,null,{"$f":"IF('1 - Opstart Importark'!$B$6=\"\",\"\",CONCATENATE('Blokke - AMV'!$B$2,LEFT('1 - Opstart Importark'!$B$15,2),J537,IF(L537=\"\",\"\",\"-\"),L537,IF(N537=\"\",\"\",\"_\"),N537,IF(P537=\"\",\"\",(CONCATENATE(\"_\",P537)))))","v":""},{"$nulls":14},{"$f":"IF(LEN('1 - Opstart Importark'!$B$6)>0,'1 - Opstart Importark'!$B$6,\"\")","v":""},{"$f":"IF(LEN('1 - Opstart Importark'!$B$9)>0,'1 - Opstart Importark'!$B$9,\"\")","v":""},{"$nulls":19},0,"","objektnogle_"]
[526,null,{"$f":"IF('1 - Opstart Importark'!$B$6=\"\",\"\",CONCATENATE('Blokke - AMV'!$B$2,LEFT('1 - Opstart Importark'!$B$15,2),J538,IF(L538=\"\",\"\",\"-\"),L538,IF(N538=\"\",\"\",\"_\"),N538,IF(P538=\"\",\"\",(CONCATENATE(\"_\",P538)))))","v":""},{"$nulls":14},{"$f":"IF(LEN('1 - Opstart Importark'!$B$6)>0,'1 - Opstart Importark'!$B$6,\"\")","v":""},{"$f":"IF(LEN('1 - Opstart Importark'!$B$9)>0,'1 - Opstart Importark'!$B$9,\"\")","v":""},{"$nulls":19},0,"","objektnogle_"]
[527,null,{"$f":"IF('1 - Opstart Importark'!$B$6=\"\",\"\",CONCATENATE('Blokke - AMV'!$B$2,LEFT('1 - Opstart Importark'!$B$15,2),J539,IF(L539=\"\",\"\",\"-\"),L539,IF(N539=\"\",\"\",\"_\"),N539,IF(P539=\"\",\"\",(CONCATENATE(\"_\",P539)))))","v":""},{"$nulls":14},{"$f":"IF(LEN('1 - Opstart Importark'!$B$6)>0,'1 - Opstart Importark'!$B$6,\"\")","v":""},{"$f":"IF(LEN('1 - Opstart Importark'!$B$9)>0,'1 - Opstart Importark'!$B$9,\"\")","v":""},{"$nulls":19},0,"","objektnogle_"]
[528,null,{"$f":"IF('1 - Opstart Importark'!$B$6=\"\",\"\",CONCATENATE('Blokke - AMV'!$B$2,LEFT('1 - Opstart Importark'!$B$15,2),J540,IF(L540=\"\",\"\",\"-\"),L540,IF(N540=\"\",\"\",\"_\"),N540,IF(P540=\"\",\"\",(CONCATENATE(\"_\",P540)))))","v":""},{"$nulls":14},{"$f":"IF(LEN('1 - Opstart Importark'!$B$6)>0,'1 - Opstart Importark'!$B$6,\"\")","v":""},{"$f":"IF(LEN('1 - Opstart Importark'!$B$9)>0,'1 - Opstart Importark'!$B$9,\"\")","v":""},{"$nulls":19},0,"","objektnogle_"]
[529,null,{"$f":"IF('1 - Opstart Importark'!$B$6=\"\",\"\",CONCATENATE('Blokke - AMV'!$B$2,LEFT('1 - Opstart Importark'!$B$15,2),J541,IF(L541=\"\",\"\",\"-\"),L541,IF(N541=\"\",\"\",\"_\"),N541,IF(P541=\"\",\"\",(CONCATENATE(\"_\",P541)))))","v":""},{"$nulls":14},{"$f":"IF(LEN('1 - Opstart Importark'!$B$6)>0,'1 - Opstart Importark'!$B$6,\"\")","v":""},{"$f":"IF(LEN('1 - Opstart Importark'!$B$9)>0,'1 - Opstart Importark'!$B$9,\"\")","v":""},{"$nulls":19},0,"","objektnogle_"]
[530,null,{"$f":"IF('1 - Opstart Importark'!$B$6=\"\",\"\",CONCATENATE('Blokke - AMV'!$B$2,LEFT('1 - Opstart Importark'!$B$15,2),J542,IF(L542=\"\",\"\",\"-\"),L542,IF(N542=\"\",\"\",\"_\"),N542,IF(P542=\"\",\"\",(CONCATENATE(\"_\",P542)))))","v":""},{"$nulls":14},{"$f":"IF(LEN('1 - Opstart Importark'!$B$6)>0,'1 - Opstart Importark'!$B$6,\"\")","v":""},{"$f":"IF(LEN('1 - Opstart Importark'!$B$9)>0,'1 - Opstart Importark'!$B$9,\"\")","v":""},{"$nulls":19},0,"","objektnogle_"]
[531,null,{"$f":"IF('1 - Opstart Importark'!$B$6=\"\",\"\",CONCATENATE('Blokke - AMV'!$B$2,LEFT('1 - Opstart Importark'!$B$15,2),J543,IF(L543=\"\",\"\",\"-\"),L543,IF(N543=\"\",\"\",\"_\"),N543,IF(P543=\"\",\"\",(CONCATENATE(\"_\",P543)))))","v":""},{"$nulls":14},{"$f":"IF(LEN('1 - Opstart Importark'!$B$6)>0,'1 - Opstart Importark'!$B$6,\"\")","v":""},{"$f":"IF(LEN('1 - Opstart Importark'!$B$9)>0,'1 - Opstart Importark'!$B$9,\"\")","v":""},{"$nulls":19},0,"","objektnogle_"]
[532,null,{"$f":"IF('1 - Opstart Importark'!$B$6=\"\",\"\",CONCATENATE('Blokke - AMV'!$B$2,LEFT('1 - Opstart Importark'!$B$15,2),J544,IF(L544=\"\",\"\",\"-\"),L544,IF(N544=\"\",\"\",\"_\"),N544,IF(P544=\"\",\"\",(CONCATENATE(\"_\",P544)))))","v":""},{"$nulls":14},{"$f":"IF(LEN('1 - Opstart Importark'!$B$6)>0,'1 - Opstart Importark'!$B$6,\"\")","v":""},{"$f":"IF(LEN('1 - Opstart Importark'!$B$9)>0,'1 - Opstart Importark'!$B$9,\"\")","v":""},{"$nulls":19},0,"","objektnogle_"]
[533,null,{"$f":"IF('1 - Opstart Importark'!$B$6=\"\",\"\",CONCATENATE('Blokke - AMV'!$B$2,LEFT('1 - Opstart Importark'!$B$15,2),J545,IF(L545=\"\",\"\",\"-\"),L545,IF(N545=\"\",\"\",\"_\"),N545,IF(P545=\"\",\"\",(CONCATENATE(\"_\",P545)))))","v":""},{"$nulls":14},{"$f":"IF(LEN('1 - Opstart Importark'!$B$6)>0,'1 - Opstart Importark'!$B$6,\"\")","v":""},{"$f":"IF(LEN('1 - Opstart Importark'!$B$9)>0,'1 - Opstart Importark'!$B$9,\"\")","v":""},{"$nulls":19},0,"","objektnogle_"]
[534,null,{"$f":"IF('1 - Opstart Importark'!$B$6=\"\",\"\",CONCATENATE('Blokke - AMV'!$B$2,LEFT('1 - Opstart Importark'!$B$15,2),J546,IF(L546=\"\",\"\",\"-\"),L546,IF(N546=\"\",\"\",\"_\"),N546,IF(P546=\"\",\"\",(CONCATENATE(\"_\",P546)))))","v":""},{"$nulls":14},{"$f":"IF(LEN('1 - Opstart Importark'!$B$6)>0,'1 - Opstart Importark'!$B$6,\"\")","v":""},{"$f":"IF(LEN('1 - Opstart Importark'!$B$9)>0,'1 - Opstart Importark'!$B$9,\"\")","v":""},{"$nulls":19},0,"","objektnogle_"]
[535,null,{"$f":"IF('1 - Opstart Importark'!$B$6=\"\",\"\",CONCATENATE('Blokke - AMV'!$B$2,LEFT('1 - Opstart Importark'!$B$15,2),J547,IF(L547=\"\",\"\",\"-\"),L547,IF(N547=\"\",\"\",\"_\"),N547,IF(P547=\"\",\"\",(CONCATENATE(\"_\",P547)))))","v":""},{"$nulls":14},{"$f":"IF(LEN('1 - Opstart Importark'!$B$6)>0,'1 - Opstart Importark'!$B$6,\"\")","v":""},{"$f":"IF(LEN('1 - Opstart Importark'!$B$9)>0,'1 - Opstart Importark'!$B$9,\"\")","v":""},{"$nulls":19},0,"","objektnogle_"]
[536,null,{"$f":"IF('1 - Opstart Importark'!$B$6=\"\",\"\",CONCATENATE('Blokke - AMV'!$B$2,LEFT('1 - Opstart Importark'!$B$15,2),J548,IF(L548=\"\",\"\",\"-\"),L548,IF(N548=\"\",\"\",\"_\"),N548,IF(P548=\"\",\"\",(CONCATENATE(\"_\",P548)))))","v":""},{"$nulls":14},{"$f":"IF(LEN('1 - Opstart Importark'!$B$6)>0,'1 - Opstart Importark'!$B$6,\"\")","v":""},{"$f":"IF(LEN('1 - Opstart Importark'!$B$9)>0,'1 - Opstart Importark'!$B$9,\"\")","v":""},{"$nulls":19},0,"","objektnogle_"]
[537,null,{"$f":"IF('1 - Opstart Importark'!$B$6=\"\",\"\",CONCATENATE('Blokke - AMV'!$B$2,LEFT('1 - Opstart Importark'!$B$15,2),J549,IF(L549=\"\",\"\",\"-\"),L549,IF(N549=\"\",\"\",\"_\"),N549,IF(P549=\"\",\"\",(CONCATENATE(\"_\",P549)))))","v":""},{"$nulls":14},{"$f":"IF(LEN('1 - Opstart Importark'!$B$6)>0,'1 - Opstart Importark'!$B$6,\"\")","v":""},{"$f":"IF(LEN('1 - Opstart Importark'!$B$9)>0,'1 - Opstart Importark'!$B$9,\"\")","v":""},{"$nulls":19},0,"","objektnogle_"]
[538,null,{"$f":"IF('1 - Opstart Importark'!$B$6=\"\",\"\",CONCATENATE('Blokke - AMV'!$B$2,LEFT('1 - Opstart Importark'!$B$15,2),J550,IF(L550=\"\",\"\",\"-\"),L550,IF(N550=\"\",\"\",\"_\"),N550,IF(P550=\"\",\"\",(CONCATENATE(\"_\",P550)))))","v":""},{"$nulls":14},{"$f":"IF(LEN('1 - Opstart Importark'!$B$6)>0,'1 - Opstart Importark'!$B$6,\"\")","v":""},{"$f":"IF(LEN('1 - Opstart Importark'!$B$9)>0,'1 - Opstart Importark'!$B$9,\"\")","v":""},{"$nulls":19},0,"","objektnogle_"]
[539,null,{"$f":"IF('1 - Opstart Importark'!$B$6=\"\",\"\",CONCATENATE('Blokke - AMV'!$B$2,LEFT('1 - Opstart Importark'!$B$15,2),J551,IF(L551=\"\",\"\",\"-\"),L551,IF(N551=\"\",\"\",\"_\"),N551,IF(P551=\"\",\"\",(CONCATENATE(\"_\",P551)))))","v":""},{"$nulls":14},{"$f":"IF(LEN('1 - Opstart Importark'!$B$6)>0,'1 - Opstart Importark'!$B$6,\"\")","v":""},{"$f":"IF(LEN('1 - Opstart Importark'!$B$9)>0,'1 - Opstart Importark'!$B$9,\"\")","v":""},{"$nulls":19},0,"","objektnogle_"]
[540,null,{"$f":"IF('1 - Opstart Importark'!$B$6=\"\",\"\",CONCATENATE('Blokke - AMV'!$B$2,LEFT('1 - Opstart Importark'!$B$15,2),J552,IF(L552=\"\",\"\",\"-\"),L552,IF(N552=\"\",\"\",\"_\"),N552,IF(P552=\"\",\"\",(CONCATENATE(\"_\",P552)))))","v":""},{"$nulls":14},{"$f":"IF(LEN('1 - Opstart Importark'!$B$6)>0,'1 - Opstart Importark'!$B$6,\"\")","v":""},{"$f":"IF(LEN('1 - Opstart Importark'!$B$9)>0,'1 - Opstart Importark'!$B$9,\"\")","v":""},{"$nulls":19},0,"","objektnogle_"]
[541,null,{"$f":"IF('1 - Opstart Importark'!$B$6=\"\",\"\",CONCATENATE('Blokke - AMV'!$B$2,LEFT('1 - Opstart Importark'!$B$15,2),J553,IF(L553=\"\",\"\",\"-\"),L553,IF(N553=\"\",\"\",\"_\"),N553,IF(P553=\"\",\"\",(CONCATENATE(\"_\",P553)))))","v":""},{"$nulls":14},{"$f":"IF(LEN('1 - Opstart Importark'!$B$6)>0,'1 - Opstart Importark'!$B$6,\"\")","v":""},{"$f":"IF(LEN('1 - Opstart Importark'!$B$9)>0,'1 - Opstart Importark'!$B$9,\"\")","v":""},{"$nulls":19},0,"","objektnogle_"]
[542,null,{"$f":"IF('1 - Opstart Importark'!$B$6=\"\",\"\",CONCATENATE('Blokke - AMV'!$B$2,LEFT('1 - Opstart Importark'!$B$15,2),J554,IF(L554=\"\",\"\",\"-\"),L554,IF(N554=\"\",\"\",\"_\"),N554,IF(P554=\"\",\"\",(CONCATENATE(\"_\",P554)))))","v":""},{"$nulls":14},{"$f":"IF(LEN('1 - Opstart Importark'!$B$6)>0,'1 - Opstart Importark'!$B$6,\"\")","v":""},{"$f":"IF(LEN('1 - Opstart Importark'!$B$9)>0,'1 - Opstart Importark'!$B$9,\"\")","v":""},{"$nulls":19},0,"","objektnogle_"]
[543,null,{"$f":"IF('1 - Opstart Importark'!$B$6=\"\",\"\",CONCATENATE('Blokke - AMV'!$B$2,LEFT('1 - Opstart Importark'!$B$15,2),J555,IF(L555=\"\",\"\",\"-\"),L555,IF(N555=\"\",\"\",\"_\"),N555,IF(P555=\"\",\"\",(CONCATENATE(\"_\",P555)))))","v":""},{"$nulls":14},{"$f":"IF(LEN('1 - Opstart Importark'!$B$6)>0,'1 - Opstart Importark'!$B$6,\"\")","v":""},{"$f":"IF(LEN('1 - Opstart Importark'!$B$9)>0,'1 - Opstart Importark'!$B$9,\"\")","v":""},{"$nulls":19},0,"","objektnogle_"]
[544,null,{"$f":"IF('1 - Opstart Importark'!$B$6=\"\",\"\",CONCATENATE('Blokke - AMV'!$B$2,LEFT('1 - Opstart Importark'!$B$15,2),J556,IF(L556=\"\",\"\",\"-\"),L556,IF(N556=\"\",\"\",\"_\"),N556,IF(P556=\"\",\"\",(CONCATENATE(\"_\",P556)))))","v":""},{"$nulls":14},{"$f":"IF(LEN('1 - Opstart Importark'!$B$6)>0,'1 - Opstart Importark'!$B$6,\"\")","v":""},{"$f":"IF(LEN('1 - Opstart Importark'!$B$9)>0,'1 - Opstart Importark'!$B$9,\"\")","v":""},{"$nulls":19},0,"","objektnogle_"]
[545,null,{"$f":"IF('1 - Opstart Importark'!$B$6=\"\",\"\",CONCATENATE('Blokke - AMV'!$B$2,LEFT('1 - Opstart Importark'!$B$15,2),J557,IF(L557=\"\",\"\",\"-\"),L557,IF(N557=\"\",\"\",\"_\"),N557,IF(P557=\"\",\"\",(CONCATENATE(\"_\",P557)))))","v":""},{"$nulls":14},{"$f":"IF(LEN('1 - Opstart Importark'!$B$6)>0,'1 - Opstart Importark'!$B$6,\"\")","v":""},{"$f":"IF(LEN('1 - Opstart Importark'!$B$9)>0,'1 - Opstart Importark'!$B$9,\"\")","v":""},{"$nulls":19},0,"","objektnogle_"]
[546,null,{"$f":"IF('1 - Opstart Importark'!$B$6=\"\",\"\",CONCATENATE('Blokke - AMV'!$B$2,LEFT('1 - Opstart Importark'!$B$15,2),J558,IF(L558=\"\",\"\",\"-\"),L558,IF(N558=\"\",\"\",\"_\"),N558,IF(P558=\"\",\"\",(CONCATENATE(\"_\",P558)))))","v":""},{"$nulls":14},{"$f":"IF(LEN('1 - Opstart Importark'!$B$6)>0,'1 - Opstart Importark'!$B$6,\"\")","v":""},{"$f":"IF(LEN('1 - Opstart Importark'!$B$9)>0,'1 - Opstart Importark'!$B$9,\"\")","v":""},{"$nulls":19},0,"","objektnogle_"]
[547,null,{"$f":"IF('1 - Opstart Importark'!$B$6=\"\",\"\",CONCATENATE('Blokke - AMV'!$B$2,LEFT('1 - Opstart Importark'!$B$15,2),J559,IF(L559=\"\",\"\",\"-\"),L559,IF(N559=\"\",\"\",\"_\"),N559,IF(P559=\"\",\"\",(CONCATENATE(\"_\",P559)))))","v":""},{"$nulls":14},{"$f":"IF(LEN('1 - Opstart Importark'!$B$6)>0,'1 - Opstart Importark'!$B$6,\"\")","v":""},{"$f":"IF(LEN('1 - Opstart Importark'!$B$9)>0,'1 - Opstart Importark'!$B$9,\"\")","v":""},{"$nulls":19},0,"","objektnogle_"]
[548,null,{"$f":"IF('1 - Opstart Importark'!$B$6=\"\",\"\",CONCATENATE('Blokke - AMV'!$B$2,LEFT('1 - Opstart Importark'!$B$15,2),J560,IF(L560=\"\",\"\",\"-\"),L560,IF(N560=\"\",\"\",\"_\"),N560,IF(P560=\"\",\"\",(CONCATENATE(\"_\",P560)))))","v":""},{"$nulls":14},{"$f":"IF(LEN('1 - Opstart Importark'!$B$6)>0,'1 - Opstart Importark'!$B$6,\"\")","v":""},{"$f":"IF(LEN('1 - Opstart Importark'!$B$9)>0,'1 - Opstart Importark'!$B$9,\"\")","v":""},{"$nulls":19},0,"","objektnogle_"]
[549,null,{"$f":"IF('1 - Opstart Importark'!$B$6=\"\",\"\",CONCATENATE('Blokke - AMV'!$B$2,LEFT('1 - Opstart Importark'!$B$15,2),J561,IF(L561=\"\",\"\",\"-\"),L561,IF(N561=\"\",\"\",\"_\"),N561,IF(P561=\"\",\"\",(CONCATENATE(\"_\",P561)))))","v":""},{"$nulls":14},{"$f":"IF(LEN('1 - Opstart Importark'!$B$6)>0,'1 - Opstart Importark'!$B$6,\"\")","v":""},{"$f":"IF(LEN('1 - Opstart Importark'!$B$9)>0,'1 - Opstart Importark'!$B$9,\"\")","v":""},{"$nulls":19},0,"","objektnogle_"]
[550,null,{"$f":"IF('1 - Opstart Importark'!$B$6=\"\",\"\",CONCATENATE('Blokke - AMV'!$B$2,LEFT('1 - Opstart Importark'!$B$15,2),J562,IF(L562=\"\",\"\",\"-\"),L562,IF(N562=\"\",\"\",\"_\"),N562,IF(P562=\"\",\"\",(CONCATENATE(\"_\",P562)))))","v":""},{"$nulls":14},{"$f":"IF(LEN('1 - Opstart Importark'!$B$6)>0,'1 - Opstart Importark'!$B$6,\"\")","v":""},{"$f":"IF(LEN('1 - Opstart Importark'!$B$9)>0,'1 - Opstart Importark'!$B$9,\"\")","v":""},{"$nulls":19},0,"","objektnogle_"]
[551,null,{"$f":"IF('1 - Opstart Importark'!$B$6=\"\",\"\",CONCATENATE('Blokke - AMV'!$B$2,LEFT('1 - Opstart Importark'!$B$15,2),J563,IF(L563=\"\",\"\",\"-\"),L563,IF(N563=\"\",\"\",\"_\"),N563,IF(P563=\"\",\"\",(CONCATENATE(\"_\",P563)))))","v":""},{"$nulls":14},{"$f":"IF(LEN('1 - Opstart Importark'!$B$6)>0,'1 - Opstart Importark'!$B$6,\"\")","v":""},{"$f":"IF(LEN('1 - Opstart Importark'!$B$9)>0,'1 - Opstart Importark'!$B$9,\"\")","v":""},{"$nulls":19},0,"","objektnogle_"]
[552,null,{"$f":"IF('1 - Opstart Importark'!$B$6=\"\",\"\",CONCATENATE('Blokke - AMV'!$B$2,LEFT('1 - Opstart Importark'!$B$15,2),J564,IF(L564=\"\",\"\",\"-\"),L564,IF(N564=\"\",\"\",\"_\"),N564,IF(P564=\"\",\"\",(CONCATENATE(\"_\",P564)))))","v":""},{"$nulls":14},{"$f":"IF(LEN('1 - Opstart Importark'!$B$6)>0,'1 - Opstart Importark'!$B$6,\"\")","v":""},{"$f":"IF(LEN('1 - Opstart Importark'!$B$9)>0,'1 - Opstart Importark'!$B$9,\"\")","v":""},{"$nulls":19},0,"","objektnogle_"]
[553,null,{"$f":"IF('1 - Opstart Importark'!$B$6=\"\",\"\",CONCATENATE('Blokke - AMV'!$B$2,LEFT('1 - Opstart Importark'!$B$15,2),J565,IF(L565=\"\",\"\",\"-\"),L565,IF(N565=\"\",\"\",\"_\"),N565,IF(P565=\"\",\"\",(CONCATENATE(\"_\",P565)))))","v":""},{"$nulls":14},{"$f":"IF(LEN('1 - Opstart Importark'!$B$6)>0,'1 - Opstart Importark'!$B$6,\"\")","v":""},{"$f":"IF(LEN('1 - Opstart Importark'!$B$9)>0,'1 - Opstart Importark'!$B$9,\"\")","v":""},{"$nulls":19},0,"","objektnogle_"]
[554,null,{"$f":"IF('1 - Opstart Importark'!$B$6=\"\",\"\",CONCATENATE('Blokke - AMV'!$B$2,LEFT('1 - Opstart Importark'!$B$15,2),J566,IF(L566=\"\",\"\",\"-\"),L566,IF(N566=\"\",\"\",\"_\"),N566,IF(P566=\"\",\"\",(CONCATENATE(\"_\",P566)))))","v":""},{"$nulls":14},{"$f":"IF(LEN('1 - Opstart Importark'!$B$6)>0,'1 - Opstart Importark'!$B$6,\"\")","v":""},{"$f":"IF(LEN('1 - Opstart Importark'!$B$9)>0,'1 - Opstart Importark'!$B$9,\"\")","v":""},{"$nulls":19},0,"","objektnogle_"]
[555,null,{"$f":"IF('1 - Opstart Importark'!$B$6=\"\",\"\",CONCATENATE('Blokke - AMV'!$B$2,LEFT('1 - Opstart Importark'!$B$15,2),J567,IF(L567=\"\",\"\",\"-\"),L567,IF(N567=\"\",\"\",\"_\"),N567,IF(P567=\"\",\"\",(CONCATENATE(\"_\",P567)))))","v":""},{"$nulls":14},{"$f":"IF(LEN('1 - Opstart Importark'!$B$6)>0,'1 - Opstart Importark'!$B$6,\"\")","v":""},{"$f":"IF(LEN('1 - Opstart Importark'!$B$9)>0,'1 - Opstart Importark'!$B$9,\"\")","v":""},{"$nulls":19},0,"","objektnogle_"]
[556,null,{"$f":"IF('1 - Opstart Importark'!$B$6=\"\",\"\",CONCATENATE('Blokke - AMV'!$B$2,LEFT('1 - Opstart Importark'!$B$15,2),J568,IF(L568=\"\",\"\",\"-\"),L568,IF(N568=\"\",\"\",\"_\"),N568,IF(P568=\"\",\"\",(CONCATENATE(\"_\",P568)))))","v":""},{"$nulls":14},{"$f":"IF(LEN('1 - Opstart Importark'!$B$6)>0,'1 - Opstart Importark'!$B$6,\"\")","v":""},{"$f":"IF(LEN('1 - Opstart Importark'!$B$9)>0,'1 - Opstart Importark'!$B$9,\"\")","v":""},{"$nulls":19},0,"","objektnogle_"]
[557,null,{"$f":"IF('1 - Opstart Importark'!$B$6=\"\",\"\",CONCATENATE('Blokke - AMV'!$B$2,LEFT('1 - Opstart Importark'!$B$15,2),J569,IF(L569=\"\",\"\",\"-\"),L569,IF(N569=\"\",\"\",\"_\"),N569,IF(P569=\"\",\"\",(CONCATENATE(\"_\",P569)))))","v":""},{"$nulls":14},{"$f":"IF(LEN('1 - Opstart Importark'!$B$6)>0,'1 - Opstart Importark'!$B$6,\"\")","v":""},{"$f":"IF(LEN('1 - Opstart Importark'!$B$9)>0,'1 - Opstart Importark'!$B$9,\"\")","v":""},{"$nulls":19},0,"","objektnogle_"]
[558,null,{"$f":"IF('1 - Opstart Importark'!$B$6=\"\",\"\",CONCATENATE('Blokke - AMV'!$B$2,LEFT('1 - Opstart Importark'!$B$15,2),J570,IF(L570=\"\",\"\",\"-\"),L570,IF(N570=\"\",\"\",\"_\"),N570,IF(P570=\"\",\"\",(CONCATENATE(\"_\",P570)))))","v":""},{"$nulls":14},{"$f":"IF(LEN('1 - Opstart Importark'!$B$6)>0,'1 - Opstart Importark'!$B$6,\"\")","v":""},{"$f":"IF(LEN('1 - Opstart Importark'!$B$9)>0,'1 - Opstart Importark'!$B$9,\"\")","v":""},{"$nulls":19},0,"","objektnogle_"]
[559,null,{"$f":"IF('1 - Opstart Importark'!$B$6=\"\",\"\",CONCATENATE('Blokke - AMV'!$B$2,LEFT('1 - Opstart Importark'!$B$15,2),J571,IF(L571=\"\",\"\",\"-\"),L571,IF(N571=\"\",\"\",\"_\"),N571,IF(P571=\"\",\"\",(CONCATENATE(\"_\",P571)))))","v":""},{"$nulls":14},{"$f":"IF(LEN('1 - Opstart Importark'!$B$6)>0,'1 - Opstart Importark'!$B$6,\"\")","v":""},{"$f":"IF(LEN('1 - Opstart Importark'!$B$9)>0,'1 - Opstart Importark'!$B$9,\"\")","v":""},{"$nulls":19},0,"","objektnogle_"]
[560,null,{"$f":"IF('1 - Opstart Importark'!$B$6=\"\",\"\",CONCATENATE('Blokke - AMV'!$B$2,LEFT('1 - Opstart Importark'!$B$15,2),J572,IF(L572=\"\",\"\",\"-\"),L572,IF(N572=\"\",\"\",\"_\"),N572,IF(P572=\"\",\"\",(CONCATENATE(\"_\",P572)))))","v":""},{"$nulls":14},{"$f":"IF(LEN('1 - Opstart Importark'!$B$6)>0,'1 - Opstart Importark'!$B$6,\"\")","v":""},{"$f":"IF(LEN('1 - Opstart Importark'!$B$9)>0,'1 - Opstart Importark'!$B$9,\"\")","v":""},{"$nulls":19},0,"","objektnogle_"]
[561,null,{"$f":"IF('1 - Opstart Importark'!$B$6=\"\",\"\",CONCATENATE('Blokke - AMV'!$B$2,LEFT('1 - Opstart Importark'!$B$15,2),J573,IF(L573=\"\",\"\",\"-\"),L573,IF(N573=\"\",\"\",\"_\"),N573,IF(P573=\"\",\"\",(CONCATENATE(\"_\",P573)))))","v":""},{"$nulls":14},{"$f":"IF(LEN('1 - Opstart Importark'!$B$6)>0,'1 - Opstart Importark'!$B$6,\"\")","v":""},{"$f":"IF(LEN('1 - Opstart Importark'!$B$9)>0,'1 - Opstart Importark'!$B$9,\"\")","v":""},{"$nulls":19},0,"","objektnogle_"]
[562,null,{"$f":"IF('1 - Opstart Importark'!$B$6=\"\",\"\",CONCATENATE('Blokke - AMV'!$B$2,LEFT('1 - Opstart Importark'!$B$15,2),J574,IF(L574=\"\",\"\",\"-\"),L574,IF(N574=\"\",\"\",\"_\"),N574,IF(P574=\"\",\"\",(CONCATENATE(\"_\",P574)))))","v":""},{"$nulls":14},{"$f":"IF(LEN('1 - Opstart Importark'!$B$6)>0,'1 - Opstart Importark'!$B$6,\"\")","v":""},{"$f":"IF(LEN('1 - Opstart Importark'!$B$9)>0,'1 - Opstart Importark'!$B$9,\"\")","v":""},{"$nulls":19},0,"","objektnogle_"]
[563,null,{"$f":"IF('1 - Opstart Importark'!$B$6=\"\",\"\",CONCATENATE('Blokke - AMV'!$B$2,LEFT('1 - Opstart Importark'!$B$15,2),J575,IF(L575=\"\",\"\",\"-\"),L575,IF(N575=\"\",\"\",\"_\"),N575,IF(P575=\"\",\"\",(CONCATENATE(\"_\",P575)))))","v":""},{"$nulls":14},{"$f":"IF(LEN('1 - Opstart Importark'!$B$6)>0,'1 - Opstart Importark'!$B$6,\"\")","v":""},{"$f":"IF(LEN('1 - Opstart Importark'!$B$9)>0,'1 - Opstart Importark'!$B$9,\"\")","v":""},{"$nulls":19},0,"","objektnogle_"]
[564,null,{"$f":"IF('1 - Opstart Importark'!$B$6=\"\",\"\",CONCATENATE('Blokke - AMV'!$B$2,LEFT('1 - Opstart Importark'!$B$15,2),J576,IF(L576=\"\",\"\",\"-\"),L576,IF(N576=\"\",\"\",\"_\"),N576,IF(P576=\"\",\"\",(CONCATENATE(\"_\",P576)))))","v":""},{"$nulls":14},{"$f":"IF(LEN('1 - Opstart Importark'!$B$6)>0,'1 - Opstart Importark'!$B$6,\"\")","v":""},{"$f":"IF(LEN('1 - Opstart Importark'!$B$9)>0,'1 - Opstart Importark'!$B$9,\"\")","v":""},{"$nulls":19},0,"","objektnogle_"]
[565,null,{"$f":"IF('1 - Opstart Importark'!$B$6=\"\",\"\",CONCATENATE('Blokke - AMV'!$B$2,LEFT('1 - Opstart Importark'!$B$15,2),J577,IF(L577=\"\",\"\",\"-\"),L577,IF(N577=\"\",\"\",\"_\"),N577,IF(P577=\"\",\"\",(CONCATENATE(\"_\",P577)))))","v":""},{"$nulls":14},{"$f":"IF(LEN('1 - Opstart Importark'!$B$6)>0,'1 - Opstart Importark'!$B$6,\"\")","v":""},{"$f":"IF(LEN('1 - Opstart Importark'!$B$9)>0,'1 - Opstart Importark'!$B$9,\"\")","v":""},{"$nulls":19},0,"","objektnogle_"]
[566,null,{"$f":"IF('1 - Opstart Importark'!$B$6=\"\",\"\",CONCATENATE('Blokke - AMV'!$B$2,LEFT('1 - Opstart Importark'!$B$15,2),J578,IF(L578=\"\",\"\",\"-\"),L578,IF(N578=\"\",\"\",\"_\"),N578,IF(P578=\"\",\"\",(CONCATENATE(\"_\",P578)))))","v":""},{"$nulls":14},{"$f":"IF(LEN('1 - Opstart Importark'!$B$6)>0,'1 - Opstart Importark'!$B$6,\"\")","v":""},{"$f":"IF(LEN('1 - Opstart Importark'!$B$9)>0,'1 - Opstart Importark'!$B$9,\"\")","v":""},{"$nulls":19},0,"","objektnogle_"]
[567,null,{"$f":"IF('1 - Opstart Importark'!$B$6=\"\",\"\",CONCATENATE('Blokke - AMV'!$B$2,LEFT('1 - Opstart Importark'!$B$15,2),J579,IF(L579=\"\",\"\",\"-\"),L579,IF(N579=\"\",\"\",\"_\"),N579,IF(P579=\"\",\"\",(CONCATENATE(\"_\",P579)))))","v":""},{"$nulls":14},{"$f":"IF(LEN('1 - Opstart Importark'!$B$6)>0,'1 - Opstart Importark'!$B$6,\"\")","v":""},{"$f":"IF(LEN('1 - Opstart Importark'!$B$9)>0,'1 - Opstart Importark'!$B$9,\"\")","v":""},{"$nulls":19},0,"","objektnogle_"]
[568,null,{"$f":"IF('1 - Opstart Importark'!$B$6=\"\",\"\",CONCATENATE('Blokke - AMV'!$B$2,LEFT('1 - Opstart Importark'!$B$15,2),J580,IF(L580=\"\",\"\",\"-\"),L580,IF(N580=\"\",\"\",\"_\"),N580,IF(P580=\"\",\"\",(CONCATENATE(\"_\",P580)))))","v":""},{"$nulls":14},{"$f":"IF(LEN('1 - Opstart Importark'!$B$6)>0,'1 - Opstart Importark'!$B$6,\"\")","v":""},{"$f":"IF(LEN('1 - Opstart Importark'!$B$9)>0,'1 - Opstart Importark'!$B$9,\"\")","v":""},{"$nulls":19},0,"","objektnogle_"]
[569,null,{"$f":"IF('1 - Opstart Importark'!$B$6=\"\",\"\",CONCATENATE('Blokke - AMV'!$B$2,LEFT('1 - Opstart Importark'!$B$15,2),J581,IF(L581=\"\",\"\",\"-\"),L581,IF(N581=\"\",\"\",\"_\"),N581,IF(P581=\"\",\"\",(CONCATENATE(\"_\",P581)))))","v":""},{"$nulls":14},{"$f":"IF(LEN('1 - Opstart Importark'!$B$6)>0,'1 - Opstart Importark'!$B$6,\"\")","v":""},{"$f":"IF(LEN('1 - Opstart Importark'!$B$9)>0,'1 - Opstart Importark'!$B$9,\"\")","v":""},{"$nulls":19},0,"","objektnogle_"]
[570,null,{"$f":"IF('1 - Opstart Importark'!$B$6=\"\",\"\",CONCATENATE('Blokke - AMV'!$B$2,LEFT('1 - Opstart Importark'!$B$15,2),J582,IF(L582=\"\",\"\",\"-\"),L582,IF(N582=\"\",\"\",\"_\"),N582,IF(P582=\"\",\"\",(CONCATENATE(\"_\",P582)))))","v":""},{"$nulls":14},{"$f":"IF(LEN('1 - Opstart Importark'!$B$6)>0,'1 - Opstart Importark'!$B$6,\"\")","v":""},{"$f":"IF(LEN('1 - Opstart Importark'!$B$9)>0,'1 - Opstart Importark'!$B$9,\"\")","v":""},{"$nulls":19},0,"","objektnogle_"]
[571,null,{"$f":"IF('1 - Opstart Importark'!$B$6=\"\",\"\",CONCATENATE('Blokke - AMV'!$B$2,LEFT('1 - Opstart Importark'!$B$15,2),J583,IF(L583=\"\",\"\",\"-\"),L583,IF(N583=\"\",\"\",\"_\"),N583,IF(P583=\"\",\"\",(CONCATENATE(\"_\",P583)))))","v":""},{"$nulls":14},{"$f":"IF(LEN('1 - Opstart Importark'!$B$6)>0,'1 - Opstart Importark'!$B$6,\"\")","v":""},{"$f":"IF(LEN('1 - Opstart Importark'!$B$9)>0,'1 - Opstart Importark'!$B$9,\"\")","v":""},{"$nulls":19},0,"","objektnogle_"]
[572,null,{"$f":"IF('1 - Opstart Importark'!$B$6=\"\",\"\",CONCATENATE('Blokke - AMV'!$B$2,LEFT('1 - Opstart Importark'!$B$15,2),J584,IF(L584=\"\",\"\",\"-\"),L584,IF(N584=\"\",\"\",\"_\"),N584,IF(P584=\"\",\"\",(CONCATENATE(\"_\",P584)))))","v":""},{"$nulls":14},{"$f":"IF(LEN('1 - Opstart Importark'!$B$6)>0,'1 - Opstart Importark'!$B$6,\"\")","v":""},{"$f":"IF(LEN('1 - Opstart Importark'!$B$9)>0,'1 - Opstart Importark'!$B$9,\"\")","v":""},{"$nulls":19},0,"","objektnogle_"]
[573,null,{"$f":"IF('1 - Opstart Importark'!$B$6=\"\",\"\",CONCATENATE('Blokke - AMV'!$B$2,LEFT('1 - Opstart Importark'!$B$15,2),J585,IF(L585=\"\",\"\",\"-\"),L585,IF(N585=\"\",\"\",\"_\"),N585,IF(P585=\"\",\"\",(CONCATENATE(\"_\",P585)))))","v":""},{"$nulls":14},{"$f":"IF(LEN('1 - Opstart Importark'!$B$6)>0,'1 - Opstart Importark'!$B$6,\"\")","v":""},{"$f":"IF(LEN('1 - Opstart Importark'!$B$9)>0,'1 - Opstart Importark'!$B$9,\"\")","v":""},{"$nulls":19},0,"","objektnogle_"]
[574,null,{"$f":"IF('1 - Opstart Importark'!$B$6=\"\",\"\",CONCATENATE('Blokke - AMV'!$B$2,LEFT('1 - Opstart Importark'!$B$15,2),J586,IF(L586=\"\",\"\",\"-\"),L586,IF(N586=\"\",\"\",\"_\"),N586,IF(P586=\"\",\"\",(CONCATENATE(\"_\",P586)))))","v":""},{"$nulls":14},{"$f":"IF(LEN('1 - Opstart Importark'!$B$6)>0,'1 - Opstart Importark'!$B$6,\"\")","v":""},{"$f":"IF(LEN('1 - Opstart Importark'!$B$9)>0,'1 - Opstart Importark'!$B$9,\"\")","v":""},{"$nulls":19},0,"","objektnogle_"]
[575,null,{"$f":"IF('1 - Opstart Importark'!$B$6=\"\",\"\",CONCATENATE('Blokke - AMV'!$B$2,LEFT('1 - Opstart Importark'!$B$15,2),J587,IF(L587=\"\",\"\",\"-\"),L587,IF(N587=\"\",\"\",\"_\"),N587,IF(P587=\"\",\"\",(CONCATENATE(\"_\",P587)))))","v":""},{"$nulls":14},{"$f":"IF(LEN('1 - Opstart Importark'!$B$6)>0,'1 - Opstart Importark'!$B$6,\"\")","v":""},{"$f":"IF(LEN('1 - Opstart Importark'!$B$9)>0,'1 - Opstart Importark'!$B$9,\"\")","v":""},{"$nulls":19},0,"","objektnogle_"]
[576,null,{"$f":"IF('1 - Opstart Importark'!$B$6=\"\",\"\",CONCATENATE('Blokke - AMV'!$B$2,LEFT('1 - Opstart Importark'!$B$15,2),J588,IF(L588=\"\",\"\",\"-\"),L588,IF(N588=\"\",\"\",\"_\"),N588,IF(P588=\"\",\"\",(CONCATENATE(\"_\",P588)))))","v":""},{"$nulls":14},{"$f":"IF(LEN('1 - Opstart Importark'!$B$6)>0,'1 - Opstart Importark'!$B$6,\"\")","v":""},{"$f":"IF(LEN('1 - Opstart Importark'!$B$9)>0,'1 - Opstart Importark'!$B$9,\"\")","v":""},{"$nulls":19},0,"","objektnogle_"]
[577,null,{"$f":"IF('1 - Opstart Importark'!$B$6=\"\",\"\",CONCATENATE('Blokke - AMV'!$B$2,LEFT('1 - Opstart Importark'!$B$15,2),J589,IF(L589=\"\",\"\",\"-\"),L589,IF(N589=\"\",\"\",\"_\"),N589,IF(P589=\"\",\"\",(CONCATENATE(\"_\",P589)))))","v":""},{"$nulls":14},{"$f":"IF(LEN('1 - Opstart Importark'!$B$6)>0,'1 - Opstart Importark'!$B$6,\"\")","v":""},{"$f":"IF(LEN('1 - Opstart Importark'!$B$9)>0,'1 - Opstart Importark'!$B$9,\"\")","v":""},{"$nulls":19},{"$f":"IFERROR(FIND(\".\",G589),)","v":0},{"$f":"IF(L589=\"\",\"\",IF(LEFT(L589,1)=\"E\",0,1))","v":""},{"$f":"CONCATENATE(\"objektnogle_\",LEFT(L589,1))","v":"objektnogle_"}]
[578,null,{"$f":"IF('1 - Opstart Importark'!$B$6=\"\",\"\",CONCATENATE('Blokke - AMV'!$B$2,LEFT('1 - Opstart Importark'!$B$15,2),J590,IF(L590=\"\",\"\",\"-\"),L590,IF(N590=\"\",\"\",\"_\"),N590,IF(P590=\"\",\"\",(CONCATENATE(\"_\",P590)))))","v":""},{"$nulls":14},{"$f":"IF(LEN('1 - Opstart Importark'!$B$6)>0,'1 - Opstart Importark'!$B$6,\"\")","v":""},{"$f":"IF(LEN('1 - Opstart Importark'!$B$9)>0,'1 - Opstart Importark'!$B$9,\"\")","v":""},{"$nulls":19},0,"","objektnogle_"]
[579,null,{"$f":"IF('1 - Opstart Importark'!$B$6=\"\",\"\",CONCATENATE('Blokke - AMV'!$B$2,LEFT('1 - Opstart Importark'!$B$15,2),J591,IF(L591=\"\",\"\",\"-\"),L591,IF(N591=\"\",\"\",\"_\"),N591,IF(P591=\"\",\"\",(CONCATENATE(\"_\",P591)))))","v":""},{"$nulls":14},{"$f":"IF(LEN('1 - Opstart Importark'!$B$6)>0,'1 - Opstart Importark'!$B$6,\"\")","v":""},{"$f":"IF(LEN('1 - Opstart Importark'!$B$9)>0,'1 - Opstart Importark'!$B$9,\"\")","v":""},{"$nulls":19},0,"","objektnogle_"]
[580,null,{"$f":"IF('1 - Opstart Importark'!$B$6=\"\",\"\",CONCATENATE('Blokke - AMV'!$B$2,LEFT('1 - Opstart Importark'!$B$15,2),J592,IF(L592=\"\",\"\",\"-\"),L592,IF(N592=\"\",\"\",\"_\"),N592,IF(P592=\"\",\"\",(CONCATENATE(\"_\",P592)))))","v":""},{"$nulls":14},{"$f":"IF(LEN('1 - Opstart Importark'!$B$6)>0,'1 - Opstart Importark'!$B$6,\"\")","v":""},{"$f":"IF(LEN('1 - Opstart Importark'!$B$9)>0,'1 - Opstart Importark'!$B$9,\"\")","v":""},{"$nulls":19},0,"","objektnogle_"]
[581,null,{"$f":"IF('1 - Opstart Importark'!$B$6=\"\",\"\",CONCATENATE('Blokke - AMV'!$B$2,LEFT('1 - Opstart Importark'!$B$15,2),J593,IF(L593=\"\",\"\",\"-\"),L593,IF(N593=\"\",\"\",\"_\"),N593,IF(P593=\"\",\"\",(CONCATENATE(\"_\",P593)))))","v":""},{"$nulls":14},{"$f":"IF(LEN('1 - Opstart Importark'!$B$6)>0,'1 - Opstart Importark'!$B$6,\"\")","v":""},{"$f":"IF(LEN('1 - Opstart Importark'!$B$9)>0,'1 - Opstart Importark'!$B$9,\"\")","v":""},{"$nulls":19},0,"","objektnogle_"]
[582,null,{"$f":"IF('1 - Opstart Importark'!$B$6=\"\",\"\",CONCATENATE('Blokke - AMV'!$B$2,LEFT('1 - Opstart Importark'!$B$15,2),J594,IF(L594=\"\",\"\",\"-\"),L594,IF(N594=\"\",\"\",\"_\"),N594,IF(P594=\"\",\"\",(CONCATENATE(\"_\",P594)))))","v":""},{"$nulls":14},{"$f":"IF(LEN('1 - Opstart Importark'!$B$6)>0,'1 - Opstart Importark'!$B$6,\"\")","v":""},{"$f":"IF(LEN('1 - Opstart Importark'!$B$9)>0,'1 - Opstart Importark'!$B$9,\"\")","v":""},{"$nulls":19},0,"","objektnogle_"]
[583,null,{"$f":"IF('1 - Opstart Importark'!$B$6=\"\",\"\",CONCATENATE('Blokke - AMV'!$B$2,LEFT('1 - Opstart Importark'!$B$15,2),J595,IF(L595=\"\",\"\",\"-\"),L595,IF(N595=\"\",\"\",\"_\"),N595,IF(P595=\"\",\"\",(CONCATENATE(\"_\",P595)))))","v":""},{"$nulls":14},{"$f":"IF(LEN('1 - Opstart Importark'!$B$6)>0,'1 - Opstart Importark'!$B$6,\"\")","v":""},{"$f":"IF(LEN('1 - Opstart Importark'!$B$9)>0,'1 - Opstart Importark'!$B$9,\"\")","v":""},{"$nulls":19},0,"","objektnogle_"]
[584,null,{"$f":"IF('1 - Opstart Importark'!$B$6=\"\",\"\",CONCATENATE('Blokke - AMV'!$B$2,LEFT('1 - Opstart Importark'!$B$15,2),J596,IF(L596=\"\",\"\",\"-\"),L596,IF(N596=\"\",\"\",\"_\"),N596,IF(P596=\"\",\"\",(CONCATENATE(\"_\",P596)))))","v":""},{"$nulls":14},{"$f":"IF(LEN('1 - Opstart Importark'!$B$6)>0,'1 - Opstart Importark'!$B$6,\"\")","v":""},{"$f":"IF(LEN('1 - Opstart Importark'!$B$9)>0,'1 - Opstart Importark'!$B$9,\"\")","v":""},{"$nulls":19},0,"","objektnogle_"]
[585,null,{"$f":"IF('1 - Opstart Importark'!$B$6=\"\",\"\",CONCATENATE('Blokke - AMV'!$B$2,LEFT('1 - Opstart Importark'!$B$15,2),J597,IF(L597=\"\",\"\",\"-\"),L597,IF(N597=\"\",\"\",\"_\"),N597,IF(P597=\"\",\"\",(CONCATENATE(\"_\",P597)))))","v":""},{"$nulls":14},{"$f":"IF(LEN('1 - Opstart Importark'!$B$6)>0,'1 - Opstart Importark'!$B$6,\"\")","v":""},{"$f":"IF(LEN('1 - Opstart Importark'!$B$9)>0,'1 - Opstart Importark'!$B$9,\"\")","v":""},{"$nulls":19},0,"","objektnogle_"]
[586,null,{"$f":"IF('1 - Opstart Importark'!$B$6=\"\",\"\",CONCATENATE('Blokke - AMV'!$B$2,LEFT('1 - Opstart Importark'!$B$15,2),J598,IF(L598=\"\",\"\",\"-\"),L598,IF(N598=\"\",\"\",\"_\"),N598,IF(P598=\"\",\"\",(CONCATENATE(\"_\",P598)))))","v":""},{"$nulls":14},{"$f":"IF(LEN('1 - Opstart Importark'!$B$6)>0,'1 - Opstart Importark'!$B$6,\"\")","v":""},{"$f":"IF(LEN('1 - Opstart Importark'!$B$9)>0,'1 - Opstart Importark'!$B$9,\"\")","v":""},{"$nulls":19},0,"","objektnogle_"]
[587,null,{"$f":"IF('1 - Opstart Importark'!$B$6=\"\",\"\",CONCATENATE('Blokke - AMV'!$B$2,LEFT('1 - Opstart Importark'!$B$15,2),J599,IF(L599=\"\",\"\",\"-\"),L599,IF(N599=\"\",\"\",\"_\"),N599,IF(P599=\"\",\"\",(CONCATENATE(\"_\",P599)))))","v":""},{"$nulls":14},{"$f":"IF(LEN('1 - Opstart Importark'!$B$6)>0,'1 - Opstart Importark'!$B$6,\"\")","v":""},{"$f":"IF(LEN('1 - Opstart Importark'!$B$9)>0,'1 - Opstart Importark'!$B$9,\"\")","v":""},{"$nulls":19},0,"","objektnogle_"]
[588,null,{"$f":"IF('1 - Opstart Importark'!$B$6=\"\",\"\",CONCATENATE('Blokke - AMV'!$B$2,LEFT('1 - Opstart Importark'!$B$15,2),J600,IF(L600=\"\",\"\",\"-\"),L600,IF(N600=\"\",\"\",\"_\"),N600,IF(P600=\"\",\"\",(CONCATENATE(\"_\",P600)))))","v":""},{"$nulls":14},{"$f":"IF(LEN('1 - Opstart Importark'!$B$6)>0,'1 - Opstart Importark'!$B$6,\"\")","v":""},{"$f":"IF(LEN('1 - Opstart Importark'!$B$9)>0,'1 - Opstart Importark'!$B$9,\"\")","v":""},{"$nulls":19},0,"","objektnogle_"]
[589,null,{"$f":"IF('1 - Opstart Importark'!$B$6=\"\",\"\",CONCATENATE('Blokke - AMV'!$B$2,LEFT('1 - Opstart Importark'!$B$15,2),J601,IF(L601=\"\",\"\",\"-\"),L601,IF(N601=\"\",\"\",\"_\"),N601,IF(P601=\"\",\"\",(CONCATENATE(\"_\",P601)))))","v":""},{"$nulls":14},{"$f":"IF(LEN('1 - Opstart Importark'!$B$6)>0,'1 - Opstart Importark'!$B$6,\"\")","v":""},{"$f":"IF(LEN('1 - Opstart Importark'!$B$9)>0,'1 - Opstart Importark'!$B$9,\"\")","v":""},{"$nulls":19},0,"","objektnogle_"]
[590,null,{"$f":"IF('1 - Opstart Importark'!$B$6=\"\",\"\",CONCATENATE('Blokke - AMV'!$B$2,LEFT('1 - Opstart Importark'!$B$15,2),J602,IF(L602=\"\",\"\",\"-\"),L602,IF(N602=\"\",\"\",\"_\"),N602,IF(P602=\"\",\"\",(CONCATENATE(\"_\",P602)))))","v":""},{"$nulls":14},{"$f":"IF(LEN('1 - Opstart Importark'!$B$6)>0,'1 - Opstart Importark'!$B$6,\"\")","v":""},{"$f":"IF(LEN('1 - Opstart Importark'!$B$9)>0,'1 - Opstart Importark'!$B$9,\"\")","v":""},{"$nulls":19},0,"","objektnogle_"]
[591,null,{"$f":"IF('1 - Opstart Importark'!$B$6=\"\",\"\",CONCATENATE('Blokke - AMV'!$B$2,LEFT('1 - Opstart Importark'!$B$15,2),J603,IF(L603=\"\",\"\",\"-\"),L603,IF(N603=\"\",\"\",\"_\"),N603,IF(P603=\"\",\"\",(CONCATENATE(\"_\",P603)))))","v":""},{"$nulls":14},{"$f":"IF(LEN('1 - Opstart Importark'!$B$6)>0,'1 - Opstart Importark'!$B$6,\"\")","v":""},{"$f":"IF(LEN('1 - Opstart Importark'!$B$9)>0,'1 - Opstart Importark'!$B$9,\"\")","v":""},{"$nulls":19},0,"","objektnogle_"]
[592,null,{"$f":"IF('1 - Opstart Importark'!$B$6=\"\",\"\",CONCATENATE('Blokke - AMV'!$B$2,LEFT('1 - Opstart Importark'!$B$15,2),J604,IF(L604=\"\",\"\",\"-\"),L604,IF(N604=\"\",\"\",\"_\"),N604,IF(P604=\"\",\"\",(CONCATENATE(\"_\",P604)))))","v":""},{"$nulls":14},{"$f":"IF(LEN('1 - Opstart Importark'!$B$6)>0,'1 - Opstart Importark'!$B$6,\"\")","v":""},{"$f":"IF(LEN('1 - Opstart Importark'!$B$9)>0,'1 - Opstart Importark'!$B$9,\"\")","v":""},{"$nulls":19},0,"","objektnogle_"]
[593,null,{"$f":"IF('1 - Opstart Importark'!$B$6=\"\",\"\",CONCATENATE('Blokke - AMV'!$B$2,LEFT('1 - Opstart Importark'!$B$15,2),J605,IF(L605=\"\",\"\",\"-\"),L605,IF(N605=\"\",\"\",\"_\"),N605,IF(P605=\"\",\"\",(CONCATENATE(\"_\",P605)))))","v":""},{"$nulls":14},{"$f":"IF(LEN('1 - Opstart Importark'!$B$6)>0,'1 - Opstart Importark'!$B$6,\"\")","v":""},{"$f":"IF(LEN('1 - Opstart Importark'!$B$9)>0,'1 - Opstart Importark'!$B$9,\"\")","v":""},{"$nulls":19},0,"","objektnogle_"]
[594,null,{"$f":"IF('1 - Opstart Importark'!$B$6=\"\",\"\",CONCATENATE('Blokke - AMV'!$B$2,LEFT('1 - Opstart Importark'!$B$15,2),J606,IF(L606=\"\",\"\",\"-\"),L606,IF(N606=\"\",\"\",\"_\"),N606,IF(P606=\"\",\"\",(CONCATENATE(\"_\",P606)))))","v":""},{"$nulls":14},{"$f":"IF(LEN('1 - Opstart Importark'!$B$6)>0,'1 - Opstart Importark'!$B$6,\"\")","v":""},{"$f":"IF(LEN('1 - Opstart Importark'!$B$9)>0,'1 - Opstart Importark'!$B$9,\"\")","v":""},{"$nulls":19},0,"","objektnogle_"]
[595,null,{"$f":"IF('1 - Opstart Importark'!$B$6=\"\",\"\",CONCATENATE('Blokke - AMV'!$B$2,LEFT('1 - Opstart Importark'!$B$15,2),J607,IF(L607=\"\",\"\",\"-\"),L607,IF(N607=\"\",\"\",\"_\"),N607,IF(P607=\"\",\"\",(CONCATENATE(\"_\",P607)))))","v":""},{"$nulls":14},{"$f":"IF(LEN('1 - Opstart Importark'!$B$6)>0,'1 - Opstart Importark'!$B$6,\"\")","v":""},{"$f":"IF(LEN('1 - Opstart Importark'!$B$9)>0,'1 - Opstart Importark'!$B$9,\"\")","v":""},{"$nulls":19},0,"","objektnogle_"]
[596,null,{"$f":"IF('1 - Opstart Importark'!$B$6=\"\",\"\",CONCATENATE('Blokke - AMV'!$B$2,LEFT('1 - Opstart Importark'!$B$15,2),J608,IF(L608=\"\",\"\",\"-\"),L608,IF(N608=\"\",\"\",\"_\"),N608,IF(P608=\"\",\"\",(CONCATENATE(\"_\",P608)))))","v":""},{"$nulls":14},{"$f":"IF(LEN('1 - Opstart Importark'!$B$6)>0,'1 - Opstart Importark'!$B$6,\"\")","v":""},{"$f":"IF(LEN('1 - Opstart Importark'!$B$9)>0,'1 - Opstart Importark'!$B$9,\"\")","v":""},{"$nulls":19},0,"","objektnogle_"]
[597,null,{"$f":"IF('1 - Opstart Importark'!$B$6=\"\",\"\",CONCATENATE('Blokke - AMV'!$B$2,LEFT('1 - Opstart Importark'!$B$15,2),J609,IF(L609=\"\",\"\",\"-\"),L609,IF(N609=\"\",\"\",\"_\"),N609,IF(P609=\"\",\"\",(CONCATENATE(\"_\",P609)))))","v":""},{"$nulls":14},{"$f":"IF(LEN('1 - Opstart Importark'!$B$6)>0,'1 - Opstart Importark'!$B$6,\"\")","v":""},{"$f":"IF(LEN('1 - Opstart Importark'!$B$9)>0,'1 - Opstart Importark'!$B$9,\"\")","v":""},{"$nulls":19},0,"","objektnogle_"]
[598,null,{"$f":"IF('1 - Opstart Importark'!$B$6=\"\",\"\",CONCATENATE('Blokke - AMV'!$B$2,LEFT('1 - Opstart Importark'!$B$15,2),J610,IF(L610=\"\",\"\",\"-\"),L610,IF(N610=\"\",\"\",\"_\"),N610,IF(P610=\"\",\"\",(CONCATENATE(\"_\",P610)))))","v":""},{"$nulls":14},{"$f":"IF(LEN('1 - Opstart Importark'!$B$6)>0,'1 - Opstart Importark'!$B$6,\"\")","v":""},{"$f":"IF(LEN('1 - Opstart Importark'!$B$9)>0,'1 - Opstart Importark'!$B$9,\"\")","v":""},{"$nulls":19},0,"","objektnogle_"]
[599,null,{"$f":"IF('1 - Opstart Importark'!$B$6=\"\",\"\",CONCATENATE('Blokke - AMV'!$B$2,LEFT('1 - Opstart Importark'!$B$15,2),J611,IF(L611=\"\",\"\",\"-\"),L611,IF(N611=\"\",\"\",\"_\"),N611,IF(P611=\"\",\"\",(CONCATENATE(\"_\",P611)))))","v":""},{"$nulls":14},{"$f":"IF(LEN('1 - Opstart Importark'!$B$6)>0,'1 - Opstart Importark'!$B$6,\"\")","v":""},{"$f":"IF(LEN('1 - Opstart Importark'!$B$9)>0,'1 - Opstart Importark'!$B$9,\"\")","v":""},{"$nulls":19},0,"","objektnogle_"]
[600,null,{"$f":"IF('1 - Opstart Importark'!$B$6=\"\",\"\",CONCATENATE('Blokke - AMV'!$B$2,LEFT('1 - Opstart Importark'!$B$15,2),J612,IF(L612=\"\",\"\",\"-\"),L612,IF(N612=\"\",\"\",\"_\"),N612,IF(P612=\"\",\"\",(CONCATENATE(\"_\",P612)))))","v":""},{"$nulls":14},{"$f":"IF(LEN('1 - Opstart Importark'!$B$6)>0,'1 - Opstart Importark'!$B$6,\"\")","v":""},{"$f":"IF(LEN('1 - Opstart Importark'!$B$9)>0,'1 - Opstart Importark'!$B$9,\"\")","v":""},{"$nulls":19},0,"","objektnogle_"]
[601,null,{"$f":"IF('1 - Opstart Importark'!$B$6=\"\",\"\",CONCATENATE('Blokke - AMV'!$B$2,LEFT('1 - Opstart Importark'!$B$15,2),J613,IF(L613=\"\",\"\",\"-\"),L613,IF(N613=\"\",\"\",\"_\"),N613,IF(P613=\"\",\"\",(CONCATENATE(\"_\",P613)))))","v":""},{"$nulls":14},{"$f":"IF(LEN('1 - Opstart Importark'!$B$6)>0,'1 - Opstart Importark'!$B$6,\"\")","v":""},{"$f":"IF(LEN('1 - Opstart Importark'!$B$9)>0,'1 - Opstart Importark'!$B$9,\"\")","v":""},{"$nulls":19},0,"","objektnogle_"]
[602,null,{"$f":"IF('1 - Opstart Importark'!$B$6=\"\",\"\",CONCATENATE('Blokke - AMV'!$B$2,LEFT('1 - Opstart Importark'!$B$15,2),J614,IF(L614=\"\",\"\",\"-\"),L614,IF(N614=\"\",\"\",\"_\"),N614,IF(P614=\"\",\"\",(CONCATENATE(\"_\",P614)))))","v":""},{"$nulls":14},{"$f":"IF(LEN('1 - Opstart Importark'!$B$6)>0,'1 - Opstart Importark'!$B$6,\"\")","v":""},{"$f":"IF(LEN('1 - Opstart Importark'!$B$9)>0,'1 - Opstart Importark'!$B$9,\"\")","v":""},{"$nulls":19},0,"","objektnogle_"]
[603,null,{"$f":"IF('1 - Opstart Importark'!$B$6=\"\",\"\",CONCATENATE('Blokke - AMV'!$B$2,LEFT('1 - Opstart Importark'!$B$15,2),J615,IF(L615=\"\",\"\",\"-\"),L615,IF(N615=\"\",\"\",\"_\"),N615,IF(P615=\"\",\"\",(CONCATENATE(\"_\",P615)))))","v":""},{"$nulls":14},{"$f":"IF(LEN('1 - Opstart Importark'!$B$6)>0,'1 - Opstart Importark'!$B$6,\"\")","v":""},{"$f":"IF(LEN('1 - Opstart Importark'!$B$9)>0,'1 - Opstart Importark'!$B$9,\"\")","v":""},{"$nulls":19},0,"","objektnogle_"]
[604,null,{"$f":"IF('1 - Opstart Importark'!$B$6=\"\",\"\",CONCATENATE('Blokke - AMV'!$B$2,LEFT('1 - Opstart Importark'!$B$15,2),J616,IF(L616=\"\",\"\",\"-\"),L616,IF(N616=\"\",\"\",\"_\"),N616,IF(P616=\"\",\"\",(CONCATENATE(\"_\",P616)))))","v":""},{"$nulls":14},{"$f":"IF(LEN('1 - Opstart Importark'!$B$6)>0,'1 - Opstart Importark'!$B$6,\"\")","v":""},{"$f":"IF(LEN('1 - Opstart Importark'!$B$9)>0,'1 - Opstart Importark'!$B$9,\"\")","v":""},{"$nulls":19},0,"","objektnogle_"]
[605,null,{"$f":"IF('1 - Opstart Importark'!$B$6=\"\",\"\",CONCATENATE('Blokke - AMV'!$B$2,LEFT('1 - Opstart Importark'!$B$15,2),J617,IF(L617=\"\",\"\",\"-\"),L617,IF(N617=\"\",\"\",\"_\"),N617,IF(P617=\"\",\"\",(CONCATENATE(\"_\",P617)))))","v":""},{"$nulls":14},{"$f":"IF(LEN('1 - Opstart Importark'!$B$6)>0,'1 - Opstart Importark'!$B$6,\"\")","v":""},{"$f":"IF(LEN('1 - Opstart Importark'!$B$9)>0,'1 - Opstart Importark'!$B$9,\"\")","v":""},{"$nulls":19},0,"","objektnogle_"]
[606,null,{"$f":"IF('1 - Opstart Importark'!$B$6=\"\",\"\",CONCATENATE('Blokke - AMV'!$B$2,LEFT('1 - Opstart Importark'!$B$15,2),J618,IF(L618=\"\",\"\",\"-\"),L618,IF(N618=\"\",\"\",\"_\"),N618,IF(P618=\"\",\"\",(CONCATENATE(\"_\",P618)))))","v":""},{"$nulls":14},{"$f":"IF(LEN('1 - Opstart Importark'!$B$6)>0,'1 - Opstart Importark'!$B$6,\"\")","v":""},{"$f":"IF(LEN('1 - Opstart Importark'!$B$9)>0,'1 - Opstart Importark'!$B$9,\"\")","v":""},{"$nulls":19},0,"","objektnogle_"]
[607,null,{"$f":"IF('1 - Opstart Importark'!$B$6=\"\",\"\",CONCATENATE('Blokke - AMV'!$B$2,LEFT('1 - Opstart Importark'!$B$15,2),J619,IF(L619=\"\",\"\",\"-\"),L619,IF(N619=\"\",\"\",\"_\"),N619,IF(P619=\"\",\"\",(CONCATENATE(\"_\",P619)))))","v":""},{"$nulls":14},{"$f":"IF(LEN('1 - Opstart Importark'!$B$6)>0,'1 - Opstart Importark'!$B$6,\"\")","v":""},{"$f":"IF(LEN('1 - Opstart Importark'!$B$9)>0,'1 - Opstart Importark'!$B$9,\"\")","v":""},{"$nulls":19},0,"","objektnogle_"]
[608,null,{"$f":"IF('1 - Opstart Importark'!$B$6=\"\",\"\",CONCATENATE('Blokke - AMV'!$B$2,LEFT('1 - Opstart Importark'!$B$15,2),J620,IF(L620=\"\",\"\",\"-\"),L620,IF(N620=\"\",\"\",\"_\"),N620,IF(P620=\"\",\"\",(CONCATENATE(\"_\",P620)))))","v":""},{"$nulls":14},{"$f":"IF(LEN('1 - Opstart Importark'!$B$6)>0,'1 - Opstart Importark'!$B$6,\"\")","v":""},{"$f":"IF(LEN('1 - Opstart Importark'!$B$9)>0,'1 - Opstart Importark'!$B$9,\"\")","v":""},{"$nulls":19},0,"","objektnogle_"]
[609,null,{"$f":"IF('1 - Opstart Importark'!$B$6=\"\",\"\",CONCATENATE('Blokke - AMV'!$B$2,LEFT('1 - Opstart Importark'!$B$15,2),J621,IF(L621=\"\",\"\",\"-\"),L621,IF(N621=\"\",\"\",\"_\"),N621,IF(P621=\"\",\"\",(CONCATENATE(\"_\",P621)))))","v":""},{"$nulls":14},{"$f":"IF(LEN('1 - Opstart Importark'!$B$6)>0,'1 - Opstart Importark'!$B$6,\"\")","v":""},{"$f":"IF(LEN('1 - Opstart Importark'!$B$9)>0,'1 - Opstart Importark'!$B$9,\"\")","v":""},{"$nulls":19},0,"","objektnogle_"]
[610,null,{"$f":"IF('1 - Opstart Importark'!$B$6=\"\",\"\",CONCATENATE('Blokke - AMV'!$B$2,LEFT('1 - Opstart Importark'!$B$15,2),J622,IF(L622=\"\",\"\",\"-\"),L622,IF(N622=\"\",\"\",\"_\"),N622,IF(P622=\"\",\"\",(CONCATENATE(\"_\",P622)))))","v":""},{"$nulls":14},{"$f":"IF(LEN('1 - Opstart Importark'!$B$6)>0,'1 - Opstart Importark'!$B$6,\"\")","v":""},{"$f":"IF(LEN('1 - Opstart Importark'!$B$9)>0,'1 - Opstart Importark'!$B$9,\"\")","v":""},{"$nulls":19},0,"","objektnogle_"]
[611,null,{"$f":"IF('1 - Opstart Importark'!$B$6=\"\",\"\",CONCATENATE('Blokke - AMV'!$B$2,LEFT('1 - Opstart Importark'!$B$15,2),J623,IF(L623=\"\",\"\",\"-\"),L623,IF(N623=\"\",\"\",\"_\"),N623,IF(P623=\"\",\"\",(CONCATENATE(\"_\",P623)))))","v":""},{"$nulls":14},{"$f":"IF(LEN('1 - Opstart Importark'!$B$6)>0,'1 - Opstart Importark'!$B$6,\"\")","v":""},{"$f":"IF(LEN('1 - Opstart Importark'!$B$9)>0,'1 - Opstart Importark'!$B$9,\"\")","v":""},{"$nulls":19},0,"","objektnogle_"]
[612,null,{"$f":"IF('1 - Opstart Importark'!$B$6=\"\",\"\",CONCATENATE('Blokke - AMV'!$B$2,LEFT('1 - Opstart Importark'!$B$15,2),J624,IF(L624=\"\",\"\",\"-\"),L624,IF(N624=\"\",\"\",\"_\"),N624,IF(P624=\"\",\"\",(CONCATENATE(\"_\",P624)))))","v":""},{"$nulls":14},{"$f":"IF(LEN('1 - Opstart Importark'!$B$6)>0,'1 - Opstart Importark'!$B$6,\"\")","v":""},{"$f":"IF(LEN('1 - Opstart Importark'!$B$9)>0,'1 - Opstart Importark'!$B$9,\"\")","v":""},{"$nulls":19},0,"","objektnogle_"]
[613,null,{"$f":"IF('1 - Opstart Importark'!$B$6=\"\",\"\",CONCATENATE('Blokke - AMV'!$B$2,LEFT('1 - Opstart Importark'!$B$15,2),J625,IF(L625=\"\",\"\",\"-\"),L625,IF(N625=\"\",\"\",\"_\"),N625,IF(P625=\"\",\"\",(CONCATENATE(\"_\",P625)))))","v":""},{"$nulls":14},{"$f":"IF(LEN('1 - Opstart Importark'!$B$6)>0,'1 - Opstart Importark'!$B$6,\"\")","v":""},{"$f":"IF(LEN('1 - Opstart Importark'!$B$9)>0,'1 - Opstart Importark'!$B$9,\"\")","v":""},{"$nulls":19},0,"","objektnogle_"]
[614,null,{"$f":"IF('1 - Opstart Importark'!$B$6=\"\",\"\",CONCATENATE('Blokke - AMV'!$B$2,LEFT('1 - Opstart Importark'!$B$15,2),J626,IF(L626=\"\",\"\",\"-\"),L626,IF(N626=\"\",\"\",\"_\"),N626,IF(P626=\"\",\"\",(CONCATENATE(\"_\",P626)))))","v":""},{"$nulls":14},{"$f":"IF(LEN('1 - Opstart Importark'!$B$6)>0,'1 - Opstart Importark'!$B$6,\"\")","v":""},{"$f":"IF(LEN('1 - Opstart Importark'!$B$9)>0,'1 - Opstart Importark'!$B$9,\"\")","v":""},{"$nulls":19},0,"","objektnogle_"]
[615,null,{"$f":"IF('1 - Opstart Importark'!$B$6=\"\",\"\",CONCATENATE('Blokke - AMV'!$B$2,LEFT('1 - Opstart Importark'!$B$15,2),J627,IF(L627=\"\",\"\",\"-\"),L627,IF(N627=\"\",\"\",\"_\"),N627,IF(P627=\"\",\"\",(CONCATENATE(\"_\",P627)))))","v":""},{"$nulls":14},{"$f":"IF(LEN('1 - Opstart Importark'!$B$6)>0,'1 - Opstart Importark'!$B$6,\"\")","v":""},{"$f":"IF(LEN('1 - Opstart Importark'!$B$9)>0,'1 - Opstart Importark'!$B$9,\"\")","v":""},{"$nulls":19},0,"","objektnogle_"]
[616,null,{"$f":"IF('1 - Opstart Importark'!$B$6=\"\",\"\",CONCATENATE('Blokke - AMV'!$B$2,LEFT('1 - Opstart Importark'!$B$15,2),J628,IF(L628=\"\",\"\",\"-\"),L628,IF(N628=\"\",\"\",\"_\"),N628,IF(P628=\"\",\"\",(CONCATENATE(\"_\",P628)))))","v":""},{"$nulls":14},{"$f":"IF(LEN('1 - Opstart Importark'!$B$6)>0,'1 - Opstart Importark'!$B$6,\"\")","v":""},{"$f":"IF(LEN('1 - Opstart Importark'!$B$9)>0,'1 - Opstart Importark'!$B$9,\"\")","v":""},{"$nulls":19},0,"","objektnogle_"]
[617,null,{"$f":"IF('1 - Opstart Importark'!$B$6=\"\",\"\",CONCATENATE('Blokke - AMV'!$B$2,LEFT('1 - Opstart Importark'!$B$15,2),J629,IF(L629=\"\",\"\",\"-\"),L629,IF(N629=\"\",\"\",\"_\"),N629,IF(P629=\"\",\"\",(CONCATENATE(\"_\",P629)))))","v":""},{"$nulls":14},{"$f":"IF(LEN('1 - Opstart Importark'!$B$6)>0,'1 - Opstart Importark'!$B$6,\"\")","v":""},{"$f":"IF(LEN('1 - Opstart Importark'!$B$9)>0,'1 - Opstart Importark'!$B$9,\"\")","v":""},{"$nulls":19},0,"","objektnogle_"]
[618,null,{"$f":"IF('1 - Opstart Importark'!$B$6=\"\",\"\",CONCATENATE('Blokke - AMV'!$B$2,LEFT('1 - Opstart Importark'!$B$15,2),J630,IF(L630=\"\",\"\",\"-\"),L630,IF(N630=\"\",\"\",\"_\"),N630,IF(P630=\"\",\"\",(CONCATENATE(\"_\",P630)))))","v":""},{"$nulls":14},{"$f":"IF(LEN('1 - Opstart Importark'!$B$6)>0,'1 - Opstart Importark'!$B$6,\"\")","v":""},{"$f":"IF(LEN('1 - Opstart Importark'!$B$9)>0,'1 - Opstart Importark'!$B$9,\"\")","v":""},{"$nulls":19},0,"","objektnogle_"]
[619,null,{"$f":"IF('1 - Opstart Importark'!$B$6=\"\",\"\",CONCATENATE('Blokke - AMV'!$B$2,LEFT('1 - Opstart Importark'!$B$15,2),J631,IF(L631=\"\",\"\",\"-\"),L631,IF(N631=\"\",\"\",\"_\"),N631,IF(P631=\"\",\"\",(CONCATENATE(\"_\",P631)))))","v":""},{"$nulls":14},{"$f":"IF(LEN('1 - Opstart Importark'!$B$6)>0,'1 - Opstart Importark'!$B$6,\"\")","v":""},{"$f":"IF(LEN('1 - Opstart Importark'!$B$9)>0,'1 - Opstart Importark'!$B$9,\"\")","v":""},{"$nulls":19},0,"","objektnogle_"]
[620,null,{"$f":"IF('1 - Opstart Importark'!$B$6=\"\",\"\",CONCATENATE('Blokke - AMV'!$B$2,LEFT('1 - Opstart Importark'!$B$15,2),J632,IF(L632=\"\",\"\",\"-\"),L632,IF(N632=\"\",\"\",\"_\"),N632,IF(P632=\"\",\"\",(CONCATENATE(\"_\",P632)))))","v":""},{"$nulls":14},{"$f":"IF(LEN('1 - Opstart Importark'!$B$6)>0,'1 - Opstart Importark'!$B$6,\"\")","v":""},{"$f":"IF(LEN('1 - Opstart Importark'!$B$9)>0,'1 - Opstart Importark'!$B$9,\"\")","v":""},{"$nulls":19},0,"","objektnogle_"]
[621,null,{"$f":"IF('1 - Opstart Importark'!$B$6=\"\",\"\",CONCATENATE('Blokke - AMV'!$B$2,LEFT('1 - Opstart Importark'!$B$15,2),J633,IF(L633=\"\",\"\",\"-\"),L633,IF(N633=\"\",\"\",\"_\"),N633,IF(P633=\"\",\"\",(CONCATENATE(\"_\",P633)))))","v":""},{"$nulls":14},{"$f":"IF(LEN('1 - Opstart Importark'!$B$6)>0,'1 - Opstart Importark'!$B$6,\"\")","v":""},{"$f":"IF(LEN('1 - Opstart Importark'!$B$9)>0,'1 - Opstart Importark'!$B$9,\"\")","v":""},{"$nulls":19},0,"","objektnogle_"]
[622,null,{"$f":"IF('1 - Opstart Importark'!$B$6=\"\",\"\",CONCATENATE('Blokke - AMV'!$B$2,LEFT('1 - Opstart Importark'!$B$15,2),J634,IF(L634=\"\",\"\",\"-\"),L634,IF(N634=\"\",\"\",\"_\"),N634,IF(P634=\"\",\"\",(CONCATENATE(\"_\",P634)))))","v":""},{"$nulls":14},{"$f":"IF(LEN('1 - Opstart Importark'!$B$6)>0,'1 - Opstart Importark'!$B$6,\"\")","v":""},{"$f":"IF(LEN('1 - Opstart Importark'!$B$9)>0,'1 - Opstart Importark'!$B$9,\"\")","v":""},{"$nulls":19},0,"","objektnogle_"]
[623,null,{"$f":"IF('1 - Opstart Importark'!$B$6=\"\",\"\",CONCATENATE('Blokke - AMV'!$B$2,LEFT('1 - Opstart Importark'!$B$15,2),J635,IF(L635=\"\",\"\",\"-\"),L635,IF(N635=\"\",\"\",\"_\"),N635,IF(P635=\"\",\"\",(CONCATENATE(\"_\",P635)))))","v":""},{"$nulls":14},{"$f":"IF(LEN('1 - Opstart Importark'!$B$6)>0,'1 - Opstart Importark'!$B$6,\"\")","v":""},{"$f":"IF(LEN('1 - Opstart Importark'!$B$9)>0,'1 - Opstart Importark'!$B$9,\"\")","v":""},{"$nulls":19},0,"","objektnogle_"]
[624,null,{"$f":"IF('1 - Opstart Importark'!$B$6=\"\",\"\",CONCATENATE('Blokke - AMV'!$B$2,LEFT('1 - Opstart Importark'!$B$15,2),J636,IF(L636=\"\",\"\",\"-\"),L636,IF(N636=\"\",\"\",\"_\"),N636,IF(P636=\"\",\"\",(CONCATENATE(\"_\",P636)))))","v":""},{"$nulls":14},{"$f":"IF(LEN('1 - Opstart Importark'!$B$6)>0,'1 - Opstart Importark'!$B$6,\"\")","v":""},{"$f":"IF(LEN('1 - Opstart Importark'!$B$9)>0,'1 - Opstart Importark'!$B$9,\"\")","v":""},{"$nulls":19},0,"","objektnogle_"]
[625,null,{"$f":"IF('1 - Opstart Importark'!$B$6=\"\",\"\",CONCATENATE('Blokke - AMV'!$B$2,LEFT('1 - Opstart Importark'!$B$15,2),J637,IF(L637=\"\",\"\",\"-\"),L637,IF(N637=\"\",\"\",\"_\"),N637,IF(P637=\"\",\"\",(CONCATENATE(\"_\",P637)))))","v":""},{"$nulls":14},{"$f":"IF(LEN('1 - Opstart Importark'!$B$6)>0,'1 - Opstart Importark'!$B$6,\"\")","v":""},{"$f":"IF(LEN('1 - Opstart Importark'!$B$9)>0,'1 - Opstart Importark'!$B$9,\"\")","v":""},{"$nulls":19},0,"","objektnogle_"]
[626,null,{"$f":"IF('1 - Opstart Importark'!$B$6=\"\",\"\",CONCATENATE('Blokke - AMV'!$B$2,LEFT('1 - Opstart Importark'!$B$15,2),J638,IF(L638=\"\",\"\",\"-\"),L638,IF(N638=\"\",\"\",\"_\"),N638,IF(P638=\"\",\"\",(CONCATENATE(\"_\",P638)))))","v":""},{"$nulls":14},{"$f":"IF(LEN('1 - Opstart Importark'!$B$6)>0,'1 - Opstart Importark'!$B$6,\"\")","v":""},{"$f":"IF(LEN('1 - Opstart Importark'!$B$9)>0,'1 - Opstart Importark'!$B$9,\"\")","v":""},{"$nulls":19},0,"","objektnogle_"]
[627,null,{"$f":"IF('1 - Opstart Importark'!$B$6=\"\",\"\",CONCATENATE('Blokke - AMV'!$B$2,LEFT('1 - Opstart Importark'!$B$15,2),J639,IF(L639=\"\",\"\",\"-\"),L639,IF(N639=\"\",\"\",\"_\"),N639,IF(P639=\"\",\"\",(CONCATENATE(\"_\",P639)))))","v":""},{"$nulls":14},{"$f":"IF(LEN('1 - Opstart Importark'!$B$6)>0,'1 - Opstart Importark'!$B$6,\"\")","v":""},{"$f":"IF(LEN('1 - Opstart Importark'!$B$9)>0,'1 - Opstart Importark'!$B$9,\"\")","v":""},{"$nulls":19},0,"","objektnogle_"]
[628,null,{"$f":"IF('1 - Opstart Importark'!$B$6=\"\",\"\",CONCATENATE('Blokke - AMV'!$B$2,LEFT('1 - Opstart Importark'!$B$15,2),J640,IF(L640=\"\",\"\",\"-\"),L640,IF(N640=\"\",\"\",\"_\"),N640,IF(P640=\"\",\"\",(CONCATENATE(\"_\",P640)))))","v":""},{"$nulls":14},{"$f":"IF(LEN('1 - Opstart Importark'!$B$6)>0,'1 - Opstart Importark'!$B$6,\"\")","v":""},{"$f":"IF(LEN('1 - Opstart Importark'!$B$9)>0,'1 - Opstart Importark'!$B$9,\"\")","v":""},{"$nulls":19},0,"","objektnogle_"]
[629,null,{"$f":"IF('1 - Opstart Importark'!$B$6=\"\",\"\",CONCATENATE('Blokke - AMV'!$B$2,LEFT('1 - Opstart Importark'!$B$15,2),J641,IF(L641=\"\",\"\",\"-\"),L641,IF(N641=\"\",\"\",\"_\"),N641,IF(P641=\"\",\"\",(CONCATENATE(\"_\",P641)))))","v":""},{"$nulls":14},{"$f":"IF(LEN('1 - Opstart Importark'!$B$6)>0,'1 - Opstart Importark'!$B$6,\"\")","v":""},{"$f":"IF(LEN('1 - Opstart Importark'!$B$9)>0,'1 - Opstart Importark'!$B$9,\"\")","v":""},{"$nulls":19},0,"","objektnogle_"]
[630,null,{"$f":"IF('1 - Opstart Importark'!$B$6=\"\",\"\",CONCATENATE('Blokke - AMV'!$B$2,LEFT('1 - Opstart Importark'!$B$15,2),J642,IF(L642=\"\",\"\",\"-\"),L642,IF(N642=\"\",\"\",\"_\"),N642,IF(P642=\"\",\"\",(CONCATENATE(\"_\",P642)))))","v":""},{"$nulls":14},{"$f":"IF(LEN('1 - Opstart Importark'!$B$6)>0,'1 - Opstart Importark'!$B$6,\"\")","v":""},{"$f":"IF(LEN('1 - Opstart Importark'!$B$9)>0,'1 - Opstart Importark'!$B$9,\"\")","v":""},{"$nulls":19},0,"","objektnogle_"]
[631,null,{"$f":"IF('1 - Opstart Importark'!$B$6=\"\",\"\",CONCATENATE('Blokke - AMV'!$B$2,LEFT('1 - Opstart Importark'!$B$15,2),J643,IF(L643=\"\",\"\",\"-\"),L643,IF(N643=\"\",\"\",\"_\"),N643,IF(P643=\"\",\"\",(CONCATENATE(\"_\",P643)))))","v":""},{"$nulls":14},{"$f":"IF(LEN('1 - Opstart Importark'!$B$6)>0,'1 - Opstart Importark'!$B$6,\"\")","v":""},{"$f":"IF(LEN('1 - Opstart Importark'!$B$9)>0,'1 - Opstart Importark'!$B$9,\"\")","v":""},{"$nulls":19},0,"","objektnogle_"]
[632,null,{"$f":"IF('1 - Opstart Importark'!$B$6=\"\",\"\",CONCATENATE('Blokke - AMV'!$B$2,LEFT('1 - Opstart Importark'!$B$15,2),J644,IF(L644=\"\",\"\",\"-\"),L644,IF(N644=\"\",\"\",\"_\"),N644,IF(P644=\"\",\"\",(CONCATENATE(\"_\",P644)))))","v":""},{"$nulls":14},{"$f":"IF(LEN('1 - Opstart Importark'!$B$6)>0,'1 - Opstart Importark'!$B$6,\"\")","v":""},{"$f":"IF(LEN('1 - Opstart Importark'!$B$9)>0,'1 - Opstart Importark'!$B$9,\"\")","v":""},{"$nulls":19},0,"","objektnogle_"]
[633,null,{"$f":"IF('1 - Opstart Importark'!$B$6=\"\",\"\",CONCATENATE('Blokke - AMV'!$B$2,LEFT('1 - Opstart Importark'!$B$15,2),J645,IF(L645=\"\",\"\",\"-\"),L645,IF(N645=\"\",\"\",\"_\"),N645,IF(P645=\"\",\"\",(CONCATENATE(\"_\",P645)))))","v":""},{"$nulls":14},{"$f":"IF(LEN('1 - Opstart Importark'!$B$6)>0,'1 - Opstart Importark'!$B$6,\"\")","v":""},{"$f":"IF(LEN('1 - Opstart Importark'!$B$9)>0,'1 - Opstart Importark'!$B$9,\"\")","v":""},{"$nulls":19},0,"","objektnogle_"]
[634,null,{"$f":"IF('1 - Opstart Importark'!$B$6=\"\",\"\",CONCATENATE('Blokke - AMV'!$B$2,LEFT('1 - Opstart Importark'!$B$15,2),J646,IF(L646=\"\",\"\",\"-\"),L646,IF(N646=\"\",\"\",\"_\"),N646,IF(P646=\"\",\"\",(CONCATENATE(\"_\",P646)))))","v":""},{"$nulls":14},{"$f":"IF(LEN('1 - Opstart Importark'!$B$6)>0,'1 - Opstart Importark'!$B$6,\"\")","v":""},{"$f":"IF(LEN('1 - Opstart Importark'!$B$9)>0,'1 - Opstart Importark'!$B$9,\"\")","v":""},{"$nulls":19},0,"","objektnogle_"]
[635,null,{"$f":"IF('1 - Opstart Importark'!$B$6=\"\",\"\",CONCATENATE('Blokke - AMV'!$B$2,LEFT('1 - Opstart Importark'!$B$15,2),J647,IF(L647=\"\",\"\",\"-\"),L647,IF(N647=\"\",\"\",\"_\"),N647,IF(P647=\"\",\"\",(CONCATENATE(\"_\",P647)))))","v":""},{"$nulls":14},{"$f":"IF(LEN('1 - Opstart Importark'!$B$6)>0,'1 - Opstart Importark'!$B$6,\"\")","v":""},{"$f":"IF(LEN('1 - Opstart Importark'!$B$9)>0,'1 - Opstart Importark'!$B$9,\"\")","v":""},{"$nulls":19},0,"","objektnogle_"]
[636,null,{"$f":"IF('1 - Opstart Importark'!$B$6=\"\",\"\",CONCATENATE('Blokke - AMV'!$B$2,LEFT('1 - Opstart Importark'!$B$15,2),J648,IF(L648=\"\",\"\",\"-\"),L648,IF(N648=\"\",\"\",\"_\"),N648,IF(P648=\"\",\"\",(CONCATENATE(\"_\",P648)))))","v":""},{"$nulls":14},{"$f":"IF(LEN('1 - Opstart Importark'!$B$6)>0,'1 - Opstart Importark'!$B$6,\"\")","v":""},{"$f":"IF(LEN('1 - Opstart Importark'!$B$9)>0,'1 - Opstart Importark'!$B$9,\"\")","v":""},{"$nulls":19},0,"","objektnogle_"]
[637,null,{"$f":"IF('1 - Opstart Importark'!$B$6=\"\",\"\",CONCATENATE('Blokke - AMV'!$B$2,LEFT('1 - Opstart Importark'!$B$15,2),J649,IF(L649=\"\",\"\",\"-\"),L649,IF(N649=\"\",\"\",\"_\"),N649,IF(P649=\"\",\"\",(CONCATENATE(\"_\",P649)))))","v":""},{"$nulls":14},{"$f":"IF(LEN('1 - Opstart Importark'!$B$6)>0,'1 - Opstart Importark'!$B$6,\"\")","v":""},{"$f":"IF(LEN('1 - Opstart Importark'!$B$9)>0,'1 - Opstart Importark'!$B$9,\"\")","v":""},{"$nulls":19},0,"","objektnogle_"]
[638,null,{"$f":"IF('1 - Opstart Importark'!$B$6=\"\",\"\",CONCATENATE('Blokke - AMV'!$B$2,LEFT('1 - Opstart Importark'!$B$15,2),J650,IF(L650=\"\",\"\",\"-\"),L650,IF(N650=\"\",\"\",\"_\"),N650,IF(P650=\"\",\"\",(CONCATENATE(\"_\",P650)))))","v":""},{"$nulls":14},{"$f":"IF(LEN('1 - Opstart Importark'!$B$6)>0,'1 - Opstart Importark'!$B$6,\"\")","v":""},{"$f":"IF(LEN('1 - Opstart Importark'!$B$9)>0,'1 - Opstart Importark'!$B$9,\"\")","v":""},{"$nulls":19},0,"","objektnogle_"]
[639,null,{"$f":"IF('1 - Opstart Importark'!$B$6=\"\",\"\",CONCATENATE('Blokke - AMV'!$B$2,LEFT('1 - Opstart Importark'!$B$15,2),J651,IF(L651=\"\",\"\",\"-\"),L651,IF(N651=\"\",\"\",\"_\"),N651,IF(P651=\"\",\"\",(CONCATENATE(\"_\",P651)))))","v":""},{"$nulls":14},{"$f":"IF(LEN('1 - Opstart Importark'!$B$6)>0,'1 - Opstart Importark'!$B$6,\"\")","v":""},{"$f":"IF(LEN('1 - Opstart Importark'!$B$9)>0,'1 - Opstart Importark'!$B$9,\"\")","v":""},{"$nulls":19},0,"","objektnogle_"]
[640,null,{"$f":"IF('1 - Opstart Importark'!$B$6=\"\",\"\",CONCATENATE('Blokke - AMV'!$B$2,LEFT('1 - Opstart Importark'!$B$15,2),J652,IF(L652=\"\",\"\",\"-\"),L652,IF(N652=\"\",\"\",\"_\"),N652,IF(P652=\"\",\"\",(CONCATENATE(\"_\",P652)))))","v":""},{"$nulls":14},{"$f":"IF(LEN('1 - Opstart Importark'!$B$6)>0,'1 - Opstart Importark'!$B$6,\"\")","v":""},{"$f":"IF(LEN('1 - Opstart Importark'!$B$9)>0,'1 - Opstart Importark'!$B$9,\"\")","v":""},{"$nulls":19},0,"","objektnogle_"]
[641,null,{"$f":"IF('1 - Opstart Importark'!$B$6=\"\",\"\",CONCATENATE('Blokke - AMV'!$B$2,LEFT('1 - Opstart Importark'!$B$15,2),J653,IF(L653=\"\",\"\",\"-\"),L653,IF(N653=\"\",\"\",\"_\"),N653,IF(P653=\"\",\"\",(CONCATENATE(\"_\",P653)))))","v":""},{"$nulls":14},{"$f":"IF(LEN('1 - Opstart Importark'!$B$6)>0,'1 - Opstart Importark'!$B$6,\"\")","v":""},{"$f":"IF(LEN('1 - Opstart Importark'!$B$9)>0,'1 - Opstart Importark'!$B$9,\"\")","v":""},{"$nulls":19},{"$f":"IFERROR(FIND(\".\",G653),)","v":0},{"$f":"IF(L653=\"\",\"\",IF(LEFT(L653,1)=\"E\",0,1))","v":""},{"$f":"CONCATENATE(\"objektnogle_\",LEFT(L653,1))","v":"objektnogle_"}]
[642,null,{"$f":"IF('1 - Opstart Importark'!$B$6=\"\",\"\",CONCATENATE('Blokke - AMV'!$B$2,LEFT('1 - Opstart Importark'!$B$15,2),J654,IF(L654=\"\",\"\",\"-\"),L654,IF(N654=\"\",\"\",\"_\"),N654,IF(P654=\"\",\"\",(CONCATENATE(\"_\",P654)))))","v":""},{"$nulls":14},{"$f":"IF(LEN('1 - Opstart Importark'!$B$6)>0,'1 - Opstart Importark'!$B$6,\"\")","v":""},{"$f":"IF(LEN('1 - Opstart Importark'!$B$9)>0,'1 - Opstart Importark'!$B$9,\"\")","v":""},{"$nulls":19},0,"","objektnogle_"]
[643,null,{"$f":"IF('1 - Opstart Importark'!$B$6=\"\",\"\",CONCATENATE('Blokke - AMV'!$B$2,LEFT('1 - Opstart Importark'!$B$15,2),J655,IF(L655=\"\",\"\",\"-\"),L655,IF(N655=\"\",\"\",\"_\"),N655,IF(P655=\"\",\"\",(CONCATENATE(\"_\",P655)))))","v":""},{"$nulls":14},{"$f":"IF(LEN('1 - Opstart Importark'!$B$6)>0,'1 - Opstart Importark'!$B$6,\"\")","v":""},{"$f":"IF(LEN('1 - Opstart Importark'!$B$9)>0,'1 - Opstart Importark'!$B$9,\"\")","v":""},{"$nulls":19},0,"","objektnogle_"]
[644,null,{"$f":"IF('1 - Opstart Importark'!$B$6=\"\",\"\",CONCATENATE('Blokke - AMV'!$B$2,LEFT('1 - Opstart Importark'!$B$15,2),J656,IF(L656=\"\",\"\",\"-\"),L656,IF(N656=\"\",\"\",\"_\"),N656,IF(P656=\"\",\"\",(CONCATENATE(\"_\",P656)))))","v":""},{"$nulls":14},{"$f":"IF(LEN('1 - Opstart Importark'!$B$6)>0,'1 - Opstart Importark'!$B$6,\"\")","v":""},{"$f":"IF(LEN('1 - Opstart Importark'!$B$9)>0,'1 - Opstart Importark'!$B$9,\"\")","v":""},{"$nulls":19},0,"","objektnogle_"]
[645,null,{"$f":"IF('1 - Opstart Importark'!$B$6=\"\",\"\",CONCATENATE('Blokke - AMV'!$B$2,LEFT('1 - Opstart Importark'!$B$15,2),J657,IF(L657=\"\",\"\",\"-\"),L657,IF(N657=\"\",\"\",\"_\"),N657,IF(P657=\"\",\"\",(CONCATENATE(\"_\",P657)))))","v":""},{"$nulls":14},{"$f":"IF(LEN('1 - Opstart Importark'!$B$6)>0,'1 - Opstart Importark'!$B$6,\"\")","v":""},{"$f":"IF(LEN('1 - Opstart Importark'!$B$9)>0,'1 - Opstart Importark'!$B$9,\"\")","v":""},{"$nulls":19},0,"","objektnogle_"]
[646,null,{"$f":"IF('1 - Opstart Importark'!$B$6=\"\",\"\",CONCATENATE('Blokke - AMV'!$B$2,LEFT('1 - Opstart Importark'!$B$15,2),J658,IF(L658=\"\",\"\",\"-\"),L658,IF(N658=\"\",\"\",\"_\"),N658,IF(P658=\"\",\"\",(CONCATENATE(\"_\",P658)))))","v":""},{"$nulls":14},{"$f":"IF(LEN('1 - Opstart Importark'!$B$6)>0,'1 - Opstart Importark'!$B$6,\"\")","v":""},{"$f":"IF(LEN('1 - Opstart Importark'!$B$9)>0,'1 - Opstart Importark'!$B$9,\"\")","v":""},{"$nulls":19},0,"","objektnogle_"]
[647,null,{"$f":"IF('1 - Opstart Importark'!$B$6=\"\",\"\",CONCATENATE('Blokke - AMV'!$B$2,LEFT('1 - Opstart Importark'!$B$15,2),J659,IF(L659=\"\",\"\",\"-\"),L659,IF(N659=\"\",\"\",\"_\"),N659,IF(P659=\"\",\"\",(CONCATENATE(\"_\",P659)))))","v":""},{"$nulls":14},{"$f":"IF(LEN('1 - Opstart Importark'!$B$6)>0,'1 - Opstart Importark'!$B$6,\"\")","v":""},{"$f":"IF(LEN('1 - Opstart Importark'!$B$9)>0,'1 - Opstart Importark'!$B$9,\"\")","v":""},{"$nulls":19},0,"","objektnogle_"]
[648,null,{"$f":"IF('1 - Opstart Importark'!$B$6=\"\",\"\",CONCATENATE('Blokke - AMV'!$B$2,LEFT('1 - Opstart Importark'!$B$15,2),J660,IF(L660=\"\",\"\",\"-\"),L660,IF(N660=\"\",\"\",\"_\"),N660,IF(P660=\"\",\"\",(CONCATENATE(\"_\",P660)))))","v":""},{"$nulls":14},{"$f":"IF(LEN('1 - Opstart Importark'!$B$6)>0,'1 - Opstart Importark'!$B$6,\"\")","v":""},{"$f":"IF(LEN('1 - Opstart Importark'!$B$9)>0,'1 - Opstart Importark'!$B$9,\"\")","v":""},{"$nulls":19},0,"","objektnogle_"]
[649,null,{"$f":"IF('1 - Opstart Importark'!$B$6=\"\",\"\",CONCATENATE('Blokke - AMV'!$B$2,LEFT('1 - Opstart Importark'!$B$15,2),J661,IF(L661=\"\",\"\",\"-\"),L661,IF(N661=\"\",\"\",\"_\"),N661,IF(P661=\"\",\"\",(CONCATENATE(\"_\",P661)))))","v":""},{"$nulls":14},{"$f":"IF(LEN('1 - Opstart Importark'!$B$6)>0,'1 - Opstart Importark'!$B$6,\"\")","v":""},{"$f":"IF(LEN('1 - Opstart Importark'!$B$9)>0,'1 - Opstart Importark'!$B$9,\"\")","v":""},{"$nulls":19},0,"","objektnogle_"]
[650,null,{"$f":"IF('1 - Opstart Importark'!$B$6=\"\",\"\",CONCATENATE('Blokke - AMV'!$B$2,LEFT('1 - Opstart Importark'!$B$15,2),J662,IF(L662=\"\",\"\",\"-\"),L662,IF(N662=\"\",\"\",\"_\"),N662,IF(P662=\"\",\"\",(CONCATENATE(\"_\",P662)))))","v":""},{"$nulls":14},{"$f":"IF(LEN('1 - Opstart Importark'!$B$6)>0,'1 - Opstart Importark'!$B$6,\"\")","v":""},{"$f":"IF(LEN('1 - Opstart Importark'!$B$9)>0,'1 - Opstart Importark'!$B$9,\"\")","v":""},{"$nulls":19},0,"","objektnogle_"]
[651,null,{"$f":"IF('1 - Opstart Importark'!$B$6=\"\",\"\",CONCATENATE('Blokke - AMV'!$B$2,LEFT('1 - Opstart Importark'!$B$15,2),J663,IF(L663=\"\",\"\",\"-\"),L663,IF(N663=\"\",\"\",\"_\"),N663,IF(P663=\"\",\"\",(CONCATENATE(\"_\",P663)))))","v":""},{"$nulls":14},{"$f":"IF(LEN('1 - Opstart Importark'!$B$6)>0,'1 - Opstart Importark'!$B$6,\"\")","v":""},{"$f":"IF(LEN('1 - Opstart Importark'!$B$9)>0,'1 - Opstart Importark'!$B$9,\"\")","v":""},{"$nulls":19},0,"","objektnogle_"]
[652,null,{"$f":"IF('1 - Opstart Importark'!$B$6=\"\",\"\",CONCATENATE('Blokke - AMV'!$B$2,LEFT('1 - Opstart Importark'!$B$15,2),J664,IF(L664=\"\",\"\",\"-\"),L664,IF(N664=\"\",\"\",\"_\"),N664,IF(P664=\"\",\"\",(CONCATENATE(\"_\",P664)))))","v":""},{"$nulls":14},{"$f":"IF(LEN('1 - Opstart Importark'!$B$6)>0,'1 - Opstart Importark'!$B$6,\"\")","v":""},{"$f":"IF(LEN('1 - Opstart Importark'!$B$9)>0,'1 - Opstart Importark'!$B$9,\"\")","v":""},{"$nulls":19},0,"","objektnogle_"]
[653,null,{"$f":"IF('1 - Opstart Importark'!$B$6=\"\",\"\",CONCATENATE('Blokke - AMV'!$B$2,LEFT('1 - Opstart Importark'!$B$15,2),J665,IF(L665=\"\",\"\",\"-\"),L665,IF(N665=\"\",\"\",\"_\"),N665,IF(P665=\"\",\"\",(CONCATENATE(\"_\",P665)))))","v":""},{"$nulls":14},{"$f":"IF(LEN('1 - Opstart Importark'!$B$6)>0,'1 - Opstart Importark'!$B$6,\"\")","v":""},{"$f":"IF(LEN('1 - Opstart Importark'!$B$9)>0,'1 - Opstart Importark'!$B$9,\"\")","v":""},{"$nulls":19},0,"","objektnogle_"]
[654,null,{"$f":"IF('1 - Opstart Importark'!$B$6=\"\",\"\",CONCATENATE('Blokke - AMV'!$B$2,LEFT('1 - Opstart Importark'!$B$15,2),J666,IF(L666=\"\",\"\",\"-\"),L666,IF(N666=\"\",\"\",\"_\"),N666,IF(P666=\"\",\"\",(CONCATENATE(\"_\",P666)))))","v":""},{"$nulls":14},{"$f":"IF(LEN('1 - Opstart Importark'!$B$6)>0,'1 - Opstart Importark'!$B$6,\"\")","v":""},{"$f":"IF(LEN('1 - Opstart Importark'!$B$9)>0,'1 - Opstart Importark'!$B$9,\"\")","v":""},{"$nulls":19},0,"","objektnogle_"]
[655,null,{"$f":"IF('1 - Opstart Importark'!$B$6=\"\",\"\",CONCATENATE('Blokke - AMV'!$B$2,LEFT('1 - Opstart Importark'!$B$15,2),J667,IF(L667=\"\",\"\",\"-\"),L667,IF(N667=\"\",\"\",\"_\"),N667,IF(P667=\"\",\"\",(CONCATENATE(\"_\",P667)))))","v":""},{"$nulls":14},{"$f":"IF(LEN('1 - Opstart Importark'!$B$6)>0,'1 - Opstart Importark'!$B$6,\"\")","v":""},{"$f":"IF(LEN('1 - Opstart Importark'!$B$9)>0,'1 - Opstart Importark'!$B$9,\"\")","v":""},{"$nulls":19},0,"","objektnogle_"]
[656,null,{"$f":"IF('1 - Opstart Importark'!$B$6=\"\",\"\",CONCATENATE('Blokke - AMV'!$B$2,LEFT('1 - Opstart Importark'!$B$15,2),J668,IF(L668=\"\",\"\",\"-\"),L668,IF(N668=\"\",\"\",\"_\"),N668,IF(P668=\"\",\"\",(CONCATENATE(\"_\",P668)))))","v":""},{"$nulls":14},{"$f":"IF(LEN('1 - Opstart Importark'!$B$6)>0,'1 - Opstart Importark'!$B$6,\"\")","v":""},{"$f":"IF(LEN('1 - Opstart Importark'!$B$9)>0,'1 - Opstart Importark'!$B$9,\"\")","v":""},{"$nulls":19},0,"","objektnogle_"]
[657,null,{"$f":"IF('1 - Opstart Importark'!$B$6=\"\",\"\",CONCATENATE('Blokke - AMV'!$B$2,LEFT('1 - Opstart Importark'!$B$15,2),J669,IF(L669=\"\",\"\",\"-\"),L669,IF(N669=\"\",\"\",\"_\"),N669,IF(P669=\"\",\"\",(CONCATENATE(\"_\",P669)))))","v":""},{"$nulls":14},{"$f":"IF(LEN('1 - Opstart Importark'!$B$6)>0,'1 - Opstart Importark'!$B$6,\"\")","v":""},{"$f":"IF(LEN('1 - Opstart Importark'!$B$9)>0,'1 - Opstart Importark'!$B$9,\"\")","v":""},{"$nulls":19},0,"","objektnogle_"]
[658,null,{"$f":"IF('1 - Opstart Importark'!$B$6=\"\",\"\",CONCATENATE('Blokke - AMV'!$B$2,LEFT('1 - Opstart Importark'!$B$15,2),J670,IF(L670=\"\",\"\",\"-\"),L670,IF(N670=\"\",\"\",\"_\"),N670,IF(P670=\"\",\"\",(CONCATENATE(\"_\",P670)))))","v":""},{"$nulls":14},{"$f":"IF(LEN('1 - Opstart Importark'!$B$6)>0,'1 - Opstart Importark'!$B$6,\"\")","v":""},{"$f":"IF(LEN('1 - Opstart Importark'!$B$9)>0,'1 - Opstart Importark'!$B$9,\"\")","v":""},{"$nulls":19},0,"","objektnogle_"]
[659,null,{"$f":"IF('1 - Opstart Importark'!$B$6=\"\",\"\",CONCATENATE('Blokke - AMV'!$B$2,LEFT('1 - Opstart Importark'!$B$15,2),J671,IF(L671=\"\",\"\",\"-\"),L671,IF(N671=\"\",\"\",\"_\"),N671,IF(P671=\"\",\"\",(CONCATENATE(\"_\",P671)))))","v":""},{"$nulls":14},{"$f":"IF(LEN('1 - Opstart Importark'!$B$6)>0,'1 - Opstart Importark'!$B$6,\"\")","v":""},{"$f":"IF(LEN('1 - Opstart Importark'!$B$9)>0,'1 - Opstart Importark'!$B$9,\"\")","v":""},{"$nulls":19},0,"","objektnogle_"]
[660,null,{"$f":"IF('1 - Opstart Importark'!$B$6=\"\",\"\",CONCATENATE('Blokke - AMV'!$B$2,LEFT('1 - Opstart Importark'!$B$15,2),J672,IF(L672=\"\",\"\",\"-\"),L672,IF(N672=\"\",\"\",\"_\"),N672,IF(P672=\"\",\"\",(CONCATENATE(\"_\",P672)))))","v":""},{"$nulls":14},{"$f":"IF(LEN('1 - Opstart Importark'!$B$6)>0,'1 - Opstart Importark'!$B$6,\"\")","v":""},{"$f":"IF(LEN('1 - Opstart Importark'!$B$9)>0,'1 - Opstart Importark'!$B$9,\"\")","v":""},{"$nulls":19},0,"","objektnogle_"]
[661,null,{"$f":"IF('1 - Opstart Importark'!$B$6=\"\",\"\",CONCATENATE('Blokke - AMV'!$B$2,LEFT('1 - Opstart Importark'!$B$15,2),J673,IF(L673=\"\",\"\",\"-\"),L673,IF(N673=\"\",\"\",\"_\"),N673,IF(P673=\"\",\"\",(CONCATENATE(\"_\",P673)))))","v":""},{"$nulls":14},{"$f":"IF(LEN('1 - Opstart Importark'!$B$6)>0,'1 - Opstart Importark'!$B$6,\"\")","v":""},{"$f":"IF(LEN('1 - Opstart Importark'!$B$9)>0,'1 - Opstart Importark'!$B$9,\"\")","v":""},{"$nulls":19},0,"","objektnogle_"]
[662,null,{"$f":"IF('1 - Opstart Importark'!$B$6=\"\",\"\",CONCATENATE('Blokke - AMV'!$B$2,LEFT('1 - Opstart Importark'!$B$15,2),J674,IF(L674=\"\",\"\",\"-\"),L674,IF(N674=\"\",\"\",\"_\"),N674,IF(P674=\"\",\"\",(CONCATENATE(\"_\",P674)))))","v":""},{"$nulls":14},{"$f":"IF(LEN('1 - Opstart Importark'!$B$6)>0,'1 - Opstart Importark'!$B$6,\"\")","v":""},{"$f":"IF(LEN('1 - Opstart Importark'!$B$9)>0,'1 - Opstart Importark'!$B$9,\"\")","v":""},{"$nulls":19},0,"","objektnogle_"]
[663,null,{"$f":"IF('1 - Opstart Importark'!$B$6=\"\",\"\",CONCATENATE('Blokke - AMV'!$B$2,LEFT('1 - Opstart Importark'!$B$15,2),J675,IF(L675=\"\",\"\",\"-\"),L675,IF(N675=\"\",\"\",\"_\"),N675,IF(P675=\"\",\"\",(CONCATENATE(\"_\",P675)))))","v":""},{"$nulls":14},{"$f":"IF(LEN('1 - Opstart Importark'!$B$6)>0,'1 - Opstart Importark'!$B$6,\"\")","v":""},{"$f":"IF(LEN('1 - Opstart Importark'!$B$9)>0,'1 - Opstart Importark'!$B$9,\"\")","v":""},{"$nulls":19},0,"","objektnogle_"]
[664,null,{"$f":"IF('1 - Opstart Importark'!$B$6=\"\",\"\",CONCATENATE('Blokke - AMV'!$B$2,LEFT('1 - Opstart Importark'!$B$15,2),J676,IF(L676=\"\",\"\",\"-\"),L676,IF(N676=\"\",\"\",\"_\"),N676,IF(P676=\"\",\"\",(CONCATENATE(\"_\",P676)))))","v":""},{"$nulls":14},{"$f":"IF(LEN('1 - Opstart Importark'!$B$6)>0,'1 - Opstart Importark'!$B$6,\"\")","v":""},{"$f":"IF(LEN('1 - Opstart Importark'!$B$9)>0,'1 - Opstart Importark'!$B$9,\"\")","v":""},{"$nulls":19},0,"","objektnogle_"]
[665,null,{"$f":"IF('1 - Opstart Importark'!$B$6=\"\",\"\",CONCATENATE('Blokke - AMV'!$B$2,LEFT('1 - Opstart Importark'!$B$15,2),J677,IF(L677=\"\",\"\",\"-\"),L677,IF(N677=\"\",\"\",\"_\"),N677,IF(P677=\"\",\"\",(CONCATENATE(\"_\",P677)))))","v":""},{"$nulls":14},{"$f":"IF(LEN('1 - Opstart Importark'!$B$6)>0,'1 - Opstart Importark'!$B$6,\"\")","v":""},{"$f":"IF(LEN('1 - Opstart Importark'!$B$9)>0,'1 - Opstart Importark'!$B$9,\"\")","v":""},{"$nulls":19},0,"","objektnogle_"]
[666,null,{"$f":"IF('1 - Opstart Importark'!$B$6=\"\",\"\",CONCATENATE('Blokke - AMV'!$B$2,LEFT('1 - Opstart Importark'!$B$15,2),J678,IF(L678=\"\",\"\",\"-\"),L678,IF(N678=\"\",\"\",\"_\"),N678,IF(P678=\"\",\"\",(CONCATENATE(\"_\",P678)))))","v":""},{"$nulls":14},{"$f":"IF(LEN('1 - Opstart Importark'!$B$6)>0,'1 - Opstart Importark'!$B$6,\"\")","v":""},{"$f":"IF(LEN('1 - Opstart Importark'!$B$9)>0,'1 - Opstart Importark'!$B$9,\"\")","v":""},{"$nulls":19},0,"","objektnogle_"]
[667,null,{"$f":"IF('1 - Opstart Importark'!$B$6=\"\",\"\",CONCATENATE('Blokke - AMV'!$B$2,LEFT('1 - Opstart Importark'!$B$15,2),J679,IF(L679=\"\",\"\",\"-\"),L679,IF(N679=\"\",\"\",\"_\"),N679,IF(P679=\"\",\"\",(CONCATENATE(\"_\",P679)))))","v":""},{"$nulls":14},{"$f":"IF(LEN('1 - Opstart Importark'!$B$6)>0,'1 - Opstart Importark'!$B$6,\"\")","v":""},{"$f":"IF(LEN('1 - Opstart Importark'!$B$9)>0,'1 - Opstart Importark'!$B$9,\"\")","v":""},{"$nulls":19},0,"","objektnogle_"]
[668,null,{"$f":"IF('1 - Opstart Importark'!$B$6=\"\",\"\",CONCATENATE('Blokke - AMV'!$B$2,LEFT('1 - Opstart Importark'!$B$15,2),J680,IF(L680=\"\",\"\",\"-\"),L680,IF(N680=\"\",\"\",\"_\"),N680,IF(P680=\"\",\"\",(CONCATENATE(\"_\",P680)))))","v":""},{"$nulls":14},{"$f":"IF(LEN('1 - Opstart Importark'!$B$6)>0,'1 - Opstart Importark'!$B$6,\"\")","v":""},{"$f":"IF(LEN('1 - Opstart Importark'!$B$9)>0,'1 - Opstart Importark'!$B$9,\"\")","v":""},{"$nulls":19},0,"","objektnogle_"]
[669,null,{"$f":"IF('1 - Opstart Importark'!$B$6=\"\",\"\",CONCATENATE('Blokke - AMV'!$B$2,LEFT('1 - Opstart Importark'!$B$15,2),J681,IF(L681=\"\",\"\",\"-\"),L681,IF(N681=\"\",\"\",\"_\"),N681,IF(P681=\"\",\"\",(CONCATENATE(\"_\",P681)))))","v":""},{"$nulls":14},{"$f":"IF(LEN('1 - Opstart Importark'!$B$6)>0,'1 - Opstart Importark'!$B$6,\"\")","v":""},{"$f":"IF(LEN('1 - Opstart Importark'!$B$9)>0,'1 - Opstart Importark'!$B$9,\"\")","v":""},{"$nulls":19},0,"","objektnogle_"]
[670,null,{"$f":"IF('1 - Opstart Importark'!$B$6=\"\",\"\",CONCATENATE('Blokke - AMV'!$B$2,LEFT('1 - Opstart Importark'!$B$15,2),J682,IF(L682=\"\",\"\",\"-\"),L682,IF(N682=\"\",\"\",\"_\"),N682,IF(P682=\"\",\"\",(CONCATENATE(\"_\",P682)))))","v":""},{"$nulls":14},{"$f":"IF(LEN('1 - Opstart Importark'!$B$6)>0,'1 - Opstart Importark'!$B$6,\"\")","v":""},{"$f":"IF(LEN('1 - Opstart Importark'!$B$9)>0,'1 - Opstart Importark'!$B$9,\"\")","v":""},{"$nulls":19},0,"","objektnogle_"]
[671,null,{"$f":"IF('1 - Opstart Importark'!$B$6=\"\",\"\",CONCATENATE('Blokke - AMV'!$B$2,LEFT('1 - Opstart Importark'!$B$15,2),J683,IF(L683=\"\",\"\",\"-\"),L683,IF(N683=\"\",\"\",\"_\"),N683,IF(P683=\"\",\"\",(CONCATENATE(\"_\",P683)))))","v":""},{"$nulls":14},{"$f":"IF(LEN('1 - Opstart Importark'!$B$6)>0,'1 - Opstart Importark'!$B$6,\"\")","v":""},{"$f":"IF(LEN('1 - Opstart Importark'!$B$9)>0,'1 - Opstart Importark'!$B$9,\"\")","v":""},{"$nulls":19},0,"","objektnogle_"]
[672,null,{"$f":"IF('1 - Opstart Importark'!$B$6=\"\",\"\",CONCATENATE('Blokke - AMV'!$B$2,LEFT('1 - Opstart Importark'!$B$15,2),J684,IF(L684=\"\",\"\",\"-\"),L684,IF(N684=\"\",\"\",\"_\"),N684,IF(P684=\"\",\"\",(CONCATENATE(\"_\",P684)))))","v":""},{"$nulls":14},{"$f":"IF(LEN('1 - Opstart Importark'!$B$6)>0,'1 - Opstart Importark'!$B$6,\"\")","v":""},{"$f":"IF(LEN('1 - Opstart Importark'!$B$9)>0,'1 - Opstart Importark'!$B$9,\"\")","v":""},{"$nulls":19},0,"","objektnogle_"]
[673,null,{"$f":"IF('1 - Opstart Importark'!$B$6=\"\",\"\",CONCATENATE('Blokke - AMV'!$B$2,LEFT('1 - Opstart Importark'!$B$15,2),J685,IF(L685=\"\",\"\",\"-\"),L685,IF(N685=\"\",\"\",\"_\"),N685,IF(P685=\"\",\"\",(CONCATENATE(\"_\",P685)))))","v":""},{"$nulls":14},{"$f":"IF(LEN('1 - Opstart Importark'!$B$6)>0,'1 - Opstart Importark'!$B$6,\"\")","v":""},{"$f":"IF(LEN('1 - Opstart Importark'!$B$9)>0,'1 - Opstart Importark'!$B$9,\"\")","v":""},{"$nulls":19},0,"","objektnogle_"]
[674,null,{"$f":"IF('1 - Opstart Importark'!$B$6=\"\",\"\",CONCATENATE('Blokke - AMV'!$B$2,LEFT('1 - Opstart Importark'!$B$15,2),J686,IF(L686=\"\",\"\",\"-\"),L686,IF(N686=\"\",\"\",\"_\"),N686,IF(P686=\"\",\"\",(CONCATENATE(\"_\",P686)))))","v":""},{"$nulls":14},{"$f":"IF(LEN('1 - Opstart Importark'!$B$6)>0,'1 - Opstart Importark'!$B$6,\"\")","v":""},{"$f":"IF(LEN('1 - Opstart Importark'!$B$9)>0,'1 - Opstart Importark'!$B$9,\"\")","v":""},{"$nulls":19},0,"","objektnogle_"]
[675,null,{"$f":"IF('1 - Opstart Importark'!$B$6=\"\",\"\",CONCATENATE('Blokke - AMV'!$B$2,LEFT('1 - Opstart Importark'!$B$15,2),J687,IF(L687=\"\",\"\",\"-\"),L687,IF(N687=\"\",\"\",\"_\"),N687,IF(P687=\"\",\"\",(CONCATENATE(\"_\",P687)))))","v":""},{"$nulls":14},{"$f":"IF(LEN('1 - Opstart Importark'!$B$6)>0,'1 - Opstart Importark'!$B$6,\"\")","v":""},{"$f":"IF(LEN('1 - Opstart Importark'!$B$9)>0,'1 - Opstart Importark'!$B$9,\"\")","v":""},{"$nulls":19},0,"","objektnogle_"]
[676,null,{"$f":"IF('1 - Opstart Importark'!$B$6=\"\",\"\",CONCATENATE('Blokke - AMV'!$B$2,LEFT('1 - Opstart Importark'!$B$15,2),J688,IF(L688=\"\",\"\",\"-\"),L688,IF(N688=\"\",\"\",\"_\"),N688,IF(P688=\"\",\"\",(CONCATENATE(\"_\",P688)))))","v":""},{"$nulls":14},{"$f":"IF(LEN('1 - Opstart Importark'!$B$6)>0,'1 - Opstart Importark'!$B$6,\"\")","v":""},{"$f":"IF(LEN('1 - Opstart Importark'!$B$9)>0,'1 - Opstart Importark'!$B$9,\"\")","v":""},{"$nulls":19},0,"","objektnogle_"]
[677,null,{"$f":"IF('1 - Opstart Importark'!$B$6=\"\",\"\",CONCATENATE('Blokke - AMV'!$B$2,LEFT('1 - Opstart Importark'!$B$15,2),J689,IF(L689=\"\",\"\",\"-\"),L689,IF(N689=\"\",\"\",\"_\"),N689,IF(P689=\"\",\"\",(CONCATENATE(\"_\",P689)))))","v":""},{"$nulls":14},{"$f":"IF(LEN('1 - Opstart Importark'!$B$6)>0,'1 - Opstart Importark'!$B$6,\"\")","v":""},{"$f":"IF(LEN('1 - Opstart Importark'!$B$9)>0,'1 - Opstart Importark'!$B$9,\"\")","v":""},{"$nulls":19},0,"","objektnogle_"]
[678,null,{"$f":"IF('1 - Opstart Importark'!$B$6=\"\",\"\",CONCATENATE('Blokke - AMV'!$B$2,LEFT('1 - Opstart Importark'!$B$15,2),J690,IF(L690=\"\",\"\",\"-\"),L690,IF(N690=\"\",\"\",\"_\"),N690,IF(P690=\"\",\"\",(CONCATENATE(\"_\",P690)))))","v":""},{"$nulls":14},{"$f":"IF(LEN('1 - Opstart Importark'!$B$6)>0,'1 - Opstart Importark'!$B$6,\"\")","v":""},{"$f":"IF(LEN('1 - Opstart Importark'!$B$9)>0,'1 - Opstart Importark'!$B$9,\"\")","v":""},{"$nulls":19},0,"","objektnogle_"]
[679,null,{"$f":"IF('1 - Opstart Importark'!$B$6=\"\",\"\",CONCATENATE('Blokke - AMV'!$B$2,LEFT('1 - Opstart Importark'!$B$15,2),J691,IF(L691=\"\",\"\",\"-\"),L691,IF(N691=\"\",\"\",\"_\"),N691,IF(P691=\"\",\"\",(CONCATENATE(\"_\",P691)))))","v":""},{"$nulls":14},{"$f":"IF(LEN('1 - Opstart Importark'!$B$6)>0,'1 - Opstart Importark'!$B$6,\"\")","v":""},{"$f":"IF(LEN('1 - Opstart Importark'!$B$9)>0,'1 - Opstart Importark'!$B$9,\"\")","v":""},{"$nulls":19},0,"","objektnogle_"]
[680,null,{"$f":"IF('1 - Opstart Importark'!$B$6=\"\",\"\",CONCATENATE('Blokke - AMV'!$B$2,LEFT('1 - Opstart Importark'!$B$15,2),J692,IF(L692=\"\",\"\",\"-\"),L692,IF(N692=\"\",\"\",\"_\"),N692,IF(P692=\"\",\"\",(CONCATENATE(\"_\",P692)))))","v":""},{"$nulls":14},{"$f":"IF(LEN('1 - Opstart Importark'!$B$6)>0,'1 - Opstart Importark'!$B$6,\"\")","v":""},{"$f":"IF(LEN('1 - Opstart Importark'!$B$9)>0,'1 - Opstart Importark'!$B$9,\"\")","v":""},{"$nulls":19},0,"","objektnogle_"]
[681,null,{"$f":"IF('1 - Opstart Importark'!$B$6=\"\",\"\",CONCATENATE('Blokke - AMV'!$B$2,LEFT('1 - Opstart Importark'!$B$15,2),J693,IF(L693=\"\",\"\",\"-\"),L693,IF(N693=\"\",\"\",\"_\"),N693,IF(P693=\"\",\"\",(CONCATENATE(\"_\",P693)))))","v":""},{"$nulls":14},{"$f":"IF(LEN('1 - Opstart Importark'!$B$6)>0,'1 - Opstart Importark'!$B$6,\"\")","v":""},{"$f":"IF(LEN('1 - Opstart Importark'!$B$9)>0,'1 - Opstart Importark'!$B$9,\"\")","v":""},{"$nulls":19},0,"","objektnogle_"]
[682,null,{"$f":"IF('1 - Opstart Importark'!$B$6=\"\",\"\",CONCATENATE('Blokke - AMV'!$B$2,LEFT('1 - Opstart Importark'!$B$15,2),J694,IF(L694=\"\",\"\",\"-\"),L694,IF(N694=\"\",\"\",\"_\"),N694,IF(P694=\"\",\"\",(CONCATENATE(\"_\",P694)))))","v":""},{"$nulls":14},{"$f":"IF(LEN('1 - Opstart Importark'!$B$6)>0,'1 - Opstart Importark'!$B$6,\"\")","v":""},{"$f":"IF(LEN('1 - Opstart Importark'!$B$9)>0,'1 - Opstart Importark'!$B$9,\"\")","v":""},{"$nulls":19},0,"","objektnogle_"]
[683,null,{"$f":"IF('1 - Opstart Importark'!$B$6=\"\",\"\",CONCATENATE('Blokke - AMV'!$B$2,LEFT('1 - Opstart Importark'!$B$15,2),J695,IF(L695=\"\",\"\",\"-\"),L695,IF(N695=\"\",\"\",\"_\"),N695,IF(P695=\"\",\"\",(CONCATENATE(\"_\",P695)))))","v":""},{"$nulls":14},{"$f":"IF(LEN('1 - Opstart Importark'!$B$6)>0,'1 - Opstart Importark'!$B$6,\"\")","v":""},{"$f":"IF(LEN('1 - Opstart Importark'!$B$9)>0,'1 - Opstart Importark'!$B$9,\"\")","v":""},{"$nulls":19},0,"","objektnogle_"]
[684,null,{"$f":"IF('1 - Opstart Importark'!$B$6=\"\",\"\",CONCATENATE('Blokke - AMV'!$B$2,LEFT('1 - Opstart Importark'!$B$15,2),J696,IF(L696=\"\",\"\",\"-\"),L696,IF(N696=\"\",\"\",\"_\"),N696,IF(P696=\"\",\"\",(CONCATENATE(\"_\",P696)))))","v":""},{"$nulls":14},{"$f":"IF(LEN('1 - Opstart Importark'!$B$6)>0,'1 - Opstart Importark'!$B$6,\"\")","v":""},{"$f":"IF(LEN('1 - Opstart Importark'!$B$9)>0,'1 - Opstart Importark'!$B$9,\"\")","v":""},{"$nulls":19},0,"","objektnogle_"]
[685,null,{"$f":"IF('1 - Opstart Importark'!$B$6=\"\",\"\",CONCATENATE('Blokke - AMV'!$B$2,LEFT('1 - Opstart Importark'!$B$15,2),J697,IF(L697=\"\",\"\",\"-\"),L697,IF(N697=\"\",\"\",\"_\"),N697,IF(P697=\"\",\"\",(CONCATENATE(\"_\",P697)))))","v":""},{"$nulls":14},{"$f":"IF(LEN('1 - Opstart Importark'!$B$6)>0,'1 - Opstart Importark'!$B$6,\"\")","v":""},{"$f":"IF(LEN('1 - Opstart Importark'!$B$9)>0,'1 - Opstart Importark'!$B$9,\"\")","v":""},{"$nulls":19},0,"","objektnogle_"]
[686,null,{"$f":"IF('1 - Opstart Importark'!$B$6=\"\",\"\",CONCATENATE('Blokke - AMV'!$B$2,LEFT('1 - Opstart Importark'!$B$15,2),J698,IF(L698=\"\",\"\",\"-\"),L698,IF(N698=\"\",\"\",\"_\"),N698,IF(P698=\"\",\"\",(CONCATENATE(\"_\",P698)))))","v":""},{"$nulls":14},{"$f":"IF(LEN('1 - Opstart Importark'!$B$6)>0,'1 - Opstart Importark'!$B$6,\"\")","v":""},{"$f":"IF(LEN('1 - Opstart Importark'!$B$9)>0,'1 - Opstart Importark'!$B$9,\"\")","v":""},{"$nulls":19},0,"","objektnogle_"]
[687,null,{"$f":"IF('1 - Opstart Importark'!$B$6=\"\",\"\",CONCATENATE('Blokke - AMV'!$B$2,LEFT('1 - Opstart Importark'!$B$15,2),J699,IF(L699=\"\",\"\",\"-\"),L699,IF(N699=\"\",\"\",\"_\"),N699,IF(P699=\"\",\"\",(CONCATENATE(\"_\",P699)))))","v":""},{"$nulls":14},{"$f":"IF(LEN('1 - Opstart Importark'!$B$6)>0,'1 - Opstart Importark'!$B$6,\"\")","v":""},{"$f":"IF(LEN('1 - Opstart Importark'!$B$9)>0,'1 - Opstart Importark'!$B$9,\"\")","v":""},{"$nulls":19},0,"","objektnogle_"]
[688,null,{"$f":"IF('1 - Opstart Importark'!$B$6=\"\",\"\",CONCATENATE('Blokke - AMV'!$B$2,LEFT('1 - Opstart Importark'!$B$15,2),J700,IF(L700=\"\",\"\",\"-\"),L700,IF(N700=\"\",\"\",\"_\"),N700,IF(P700=\"\",\"\",(CONCATENATE(\"_\",P700)))))","v":""},{"$nulls":14},{"$f":"IF(LEN('1 - Opstart Importark'!$B$6)>0,'1 - Opstart Importark'!$B$6,\"\")","v":""},{"$f":"IF(LEN('1 - Opstart Importark'!$B$9)>0,'1 - Opstart Importark'!$B$9,\"\")","v":""},{"$nulls":19},0,"","objektnogle_"]
[689,null,{"$f":"IF('1 - Opstart Importark'!$B$6=\"\",\"\",CONCATENATE('Blokke - AMV'!$B$2,LEFT('1 - Opstart Importark'!$B$15,2),J701,IF(L701=\"\",\"\",\"-\"),L701,IF(N701=\"\",\"\",\"_\"),N701,IF(P701=\"\",\"\",(CONCATENATE(\"_\",P701)))))","v":""},{"$nulls":14},{"$f":"IF(LEN('1 - Opstart Importark'!$B$6)>0,'1 - Opstart Importark'!$B$6,\"\")","v":""},{"$f":"IF(LEN('1 - Opstart Importark'!$B$9)>0,'1 - Opstart Importark'!$B$9,\"\")","v":""},{"$nulls":19},0,"","objektnogle_"]
[690,null,{"$f":"IF('1 - Opstart Importark'!$B$6=\"\",\"\",CONCATENATE('Blokke - AMV'!$B$2,LEFT('1 - Opstart Importark'!$B$15,2),J702,IF(L702=\"\",\"\",\"-\"),L702,IF(N702=\"\",\"\",\"_\"),N702,IF(P702=\"\",\"\",(CONCATENATE(\"_\",P702)))))","v":""},{"$nulls":14},{"$f":"IF(LEN('1 - Opstart Importark'!$B$6)>0,'1 - Opstart Importark'!$B$6,\"\")","v":""},{"$f":"IF(LEN('1 - Opstart Importark'!$B$9)>0,'1 - Opstart Importark'!$B$9,\"\")","v":""},{"$nulls":19},0,"","objektnogle_"]
[691,null,{"$f":"IF('1 - Opstart Importark'!$B$6=\"\",\"\",CONCATENATE('Blokke - AMV'!$B$2,LEFT('1 - Opstart Importark'!$B$15,2),J703,IF(L703=\"\",\"\",\"-\"),L703,IF(N703=\"\",\"\",\"_\"),N703,IF(P703=\"\",\"\",(CONCATENATE(\"_\",P703)))))","v":""},{"$nulls":14},{"$f":"IF(LEN('1 - Opstart Importark'!$B$6)>0,'1 - Opstart Importark'!$B$6,\"\")","v":""},{"$f":"IF(LEN('1 - Opstart Importark'!$B$9)>0,'1 - Opstart Importark'!$B$9,\"\")","v":""},{"$nulls":19},0,"","objektnogle_"]
[692,null,{"$f":"IF('1 - Opstart Importark'!$B$6=\"\",\"\",CONCATENATE('Blokke - AMV'!$B$2,LEFT('1 - Opstart Importark'!$B$15,2),J704,IF(L704=\"\",\"\",\"-\"),L704,IF(N704=\"\",\"\",\"_\"),N704,IF(P704=\"\",\"\",(CONCATENATE(\"_\",P704)))))","v":""},{"$nulls":14},{"$f":"IF(LEN('1 - Opstart Importark'!$B$6)>0,'1 - Opstart Importark'!$B$6,\"\")","v":""},{"$f":"IF(LEN('1 - Opstart Importark'!$B$9)>0,'1 - Opstart Importark'!$B$9,\"\")","v":""},{"$nulls":19},0,"","objektnogle_"]
[693,null,{"$f":"IF('1 - Opstart Importark'!$B$6=\"\",\"\",CONCATENATE('Blokke - AMV'!$B$2,LEFT('1 - Opstart Importark'!$B$15,2),J705,IF(L705=\"\",\"\",\"-\"),L705,IF(N705=\"\",\"\",\"_\"),N705,IF(P705=\"\",\"\",(CONCATENATE(\"_\",P705)))))","v":""},{"$nulls":14},{"$f":"IF(LEN('1 - Opstart Importark'!$B$6)>0,'1 - Opstart Importark'!$B$6,\"\")","v":""},{"$f":"IF(LEN('1 - Opstart Importark'!$B$9)>0,'1 - Opstart Importark'!$B$9,\"\")","v":""},{"$nulls":19},0,"","objektnogle_"]
[694,null,{"$f":"IF('1 - Opstart Importark'!$B$6=\"\",\"\",CONCATENATE('Blokke - AMV'!$B$2,LEFT('1 - Opstart Importark'!$B$15,2),J706,IF(L706=\"\",\"\",\"-\"),L706,IF(N706=\"\",\"\",\"_\"),N706,IF(P706=\"\",\"\",(CONCATENATE(\"_\",P706)))))","v":""},{"$nulls":14},{"$f":"IF(LEN('1 - Opstart Importark'!$B$6)>0,'1 - Opstart Importark'!$B$6,\"\")","v":""},{"$f":"IF(LEN('1 - Opstart Importark'!$B$9)>0,'1 - Opstart Importark'!$B$9,\"\")","v":""},{"$nulls":19},0,"","objektnogle_"]
[695,null,{"$f":"IF('1 - Opstart Importark'!$B$6=\"\",\"\",CONCATENATE('Blokke - AMV'!$B$2,LEFT('1 - Opstart Importark'!$B$15,2),J707,IF(L707=\"\",\"\",\"-\"),L707,IF(N707=\"\",\"\",\"_\"),N707,IF(P707=\"\",\"\",(CONCATENATE(\"_\",P707)))))","v":""},{"$nulls":14},{"$f":"IF(LEN('1 - Opstart Importark'!$B$6)>0,'1 - Opstart Importark'!$B$6,\"\")","v":""},{"$f":"IF(LEN('1 - Opstart Importark'!$B$9)>0,'1 - Opstart Importark'!$B$9,\"\")","v":""},{"$nulls":19},0,"","objektnogle_"]
[696,null,{"$f":"IF('1 - Opstart Importark'!$B$6=\"\",\"\",CONCATENATE('Blokke - AMV'!$B$2,LEFT('1 - Opstart Importark'!$B$15,2),J708,IF(L708=\"\",\"\",\"-\"),L708,IF(N708=\"\",\"\",\"_\"),N708,IF(P708=\"\",\"\",(CONCATENATE(\"_\",P708)))))","v":""},{"$nulls":14},{"$f":"IF(LEN('1 - Opstart Importark'!$B$6)>0,'1 - Opstart Importark'!$B$6,\"\")","v":""},{"$f":"IF(LEN('1 - Opstart Importark'!$B$9)>0,'1 - Opstart Importark'!$B$9,\"\")","v":""},{"$nulls":19},0,"","objektnogle_"]
[697,null,{"$f":"IF('1 - Opstart Importark'!$B$6=\"\",\"\",CONCATENATE('Blokke - AMV'!$B$2,LEFT('1 - Opstart Importark'!$B$15,2),J709,IF(L709=\"\",\"\",\"-\"),L709,IF(N709=\"\",\"\",\"_\"),N709,IF(P709=\"\",\"\",(CONCATENATE(\"_\",P709)))))","v":""},{"$nulls":14},{"$f":"IF(LEN('1 - Opstart Importark'!$B$6)>0,'1 - Opstart Importark'!$B$6,\"\")","v":""},{"$f":"IF(LEN('1 - Opstart Importark'!$B$9)>0,'1 - Opstart Importark'!$B$9,\"\")","v":""},{"$nulls":19},0,"","objektnogle_"]
[698,null,{"$f":"IF('1 - Opstart Importark'!$B$6=\"\",\"\",CONCATENATE('Blokke - AMV'!$B$2,LEFT('1 - Opstart Importark'!$B$15,2),J710,IF(L710=\"\",\"\",\"-\"),L710,IF(N710=\"\",\"\",\"_\"),N710,IF(P710=\"\",\"\",(CONCATENATE(\"_\",P710)))))","v":""},{"$nulls":14},{"$f":"IF(LEN('1 - Opstart Importark'!$B$6)>0,'1 - Opstart Importark'!$B$6,\"\")","v":""},{"$f":"IF(LEN('1 - Opstart Importark'!$B$9)>0,'1 - Opstart Importark'!$B$9,\"\")","v":""},{"$nulls":19},0,"","objektnogle_"]
[699,null,{"$f":"IF('1 - Opstart Importark'!$B$6=\"\",\"\",CONCATENATE('Blokke - AMV'!$B$2,LEFT('1 - Opstart Importark'!$B$15,2),J711,IF(L711=\"\",\"\",\"-\"),L711,IF(N711=\"\",\"\",\"_\"),N711,IF(P711=\"\",\"\",(CONCATENATE(\"_\",P711)))))","v":""},{"$nulls":14},{"$f":"IF(LEN('1 - Opstart Importark'!$B$6)>0,'1 - Opstart Importark'!$B$6,\"\")","v":""},{"$f":"IF(LEN('1 - Opstart Importark'!$B$9)>0,'1 - Opstart Importark'!$B$9,\"\")","v":""},{"$nulls":19},0,"","objektnogle_"]
[700,null,{"$f":"IF('1 - Opstart Importark'!$B$6=\"\",\"\",CONCATENATE('Blokke - AMV'!$B$2,LEFT('1 - Opstart Importark'!$B$15,2),J712,IF(L712=\"\",\"\",\"-\"),L712,IF(N712=\"\",\"\",\"_\"),N712,IF(P712=\"\",\"\",(CONCATENATE(\"_\",P712)))))","v":""},{"$nulls":14},{"$f":"IF(LEN('1 - Opstart Importark'!$B$6)>0,'1 - Opstart Importark'!$B$6,\"\")","v":""},{"$f":"IF(LEN('1 - Opstart Importark'!$B$9)>0,'1 - Opstart Importark'!$B$9,\"\")","v":""},{"$nulls":19},0,"","objektnogle_"]
[701,null,{"$f":"IF('1 - Opstart Importark'!$B$6=\"\",\"\",CONCATENATE('Blokke - AMV'!$B$2,LEFT('1 - Opstart Importark'!$B$15,2),J713,IF(L713=\"\",\"\",\"-\"),L713,IF(N713=\"\",\"\",\"_\"),N713,IF(P713=\"\",\"\",(CONCATENATE(\"_\",P713)))))","v":""},{"$nulls":14},{"$f":"IF(LEN('1 - Opstart Importark'!$B$6)>0,'1 - Opstart Importark'!$B$6,\"\")","v":""},{"$f":"IF(LEN('1 - Opstart Importark'!$B$9)>0,'1 - Opstart Importark'!$B$9,\"\")","v":""},{"$nulls":19},0,"","objektnogle_"]
[702,null,{"$f":"IF('1 - Opstart Importark'!$B$6=\"\",\"\",CONCATENATE('Blokke - AMV'!$B$2,LEFT('1 - Opstart Importark'!$B$15,2),J714,IF(L714=\"\",\"\",\"-\"),L714,IF(N714=\"\",\"\",\"_\"),N714,IF(P714=\"\",\"\",(CONCATENATE(\"_\",P714)))))","v":""},{"$nulls":14},{"$f":"IF(LEN('1 - Opstart Importark'!$B$6)>0,'1 - Opstart Importark'!$B$6,\"\")","v":""},{"$f":"IF(LEN('1 - Opstart Importark'!$B$9)>0,'1 - Opstart Importark'!$B$9,\"\")","v":""},{"$nulls":19},0,"","objektnogle_"]
[703,null,{"$f":"IF('1 - Opstart Importark'!$B$6=\"\",\"\",CONCATENATE('Blokke - AMV'!$B$2,LEFT('1 - Opstart Importark'!$B$15,2),J715,IF(L715=\"\",\"\",\"-\"),L715,IF(N715=\"\",\"\",\"_\"),N715,IF(P715=\"\",\"\",(CONCATENATE(\"_\",P715)))))","v":""},{"$nulls":14},{"$f":"IF(LEN('1 - Opstart Importark'!$B$6)>0,'1 - Opstart Importark'!$B$6,\"\")","v":""},{"$f":"IF(LEN('1 - Opstart Importark'!$B$9)>0,'1 - Opstart Importark'!$B$9,\"\")","v":""},{"$nulls":19},0,"","objektnogle_"]
[704,null,{"$f":"IF('1 - Opstart Importark'!$B$6=\"\",\"\",CONCATENATE('Blokke - AMV'!$B$2,LEFT('1 - Opstart Importark'!$B$15,2),J716,IF(L716=\"\",\"\",\"-\"),L716,IF(N716=\"\",\"\",\"_\"),N716,IF(P716=\"\",\"\",(CONCATENATE(\"_\",P716)))))","v":""},{"$nulls":14},{"$f":"IF(LEN('1 - Opstart Importark'!$B$6)>0,'1 - Opstart Importark'!$B$6,\"\")","v":""},{"$f":"IF(LEN('1 - Opstart Importark'!$B$9)>0,'1 - Opstart Importark'!$B$9,\"\")","v":""},{"$nulls":19},0,"","objektnogle_"]
[705,null,{"$f":"IF('1 - Opstart Importark'!$B$6=\"\",\"\",CONCATENATE('Blokke - AMV'!$B$2,LEFT('1 - Opstart Importark'!$B$15,2),J717,IF(L717=\"\",\"\",\"-\"),L717,IF(N717=\"\",\"\",\"_\"),N717,IF(P717=\"\",\"\",(CONCATENATE(\"_\",P717)))))","v":""},{"$nulls":14},{"$f":"IF(LEN('1 - Opstart Importark'!$B$6)>0,'1 - Opstart Importark'!$B$6,\"\")","v":""},{"$f":"IF(LEN('1 - Opstart Importark'!$B$9)>0,'1 - Opstart Importark'!$B$9,\"\")","v":""},{"$nulls":19},{"$f":"IFERROR(FIND(\".\",G717),)","v":0},{"$f":"IF(L717=\"\",\"\",IF(LEFT(L717,1)=\"E\",0,1))","v":""},{"$f":"CONCATENATE(\"objektnogle_\",LEFT(L717,1))","v":"objektnogle_"}]
[706,null,{"$f":"IF('1 - Opstart Importark'!$B$6=\"\",\"\",CONCATENATE('Blokke - AMV'!$B$2,LEFT('1 - Opstart Importark'!$B$15,2),J718,IF(L718=\"\",\"\",\"-\"),L718,IF(N718=\"\",\"\",\"_\"),N718,IF(P718=\"\",\"\",(CONCATENATE(\"_\",P718)))))","v":""},{"$nulls":14},{"$f":"IF(LEN('1 - Opstart Importark'!$B$6)>0,'1 - Opstart Importark'!$B$6,\"\")","v":""},{"$f":"IF(LEN('1 - Opstart Importark'!$B$9)>0,'1 - Opstart Importark'!$B$9,\"\")","v":""},{"$nulls":19},0,"","objektnogle_"]
[707,null,{"$f":"IF('1 - Opstart Importark'!$B$6=\"\",\"\",CONCATENATE('Blokke - AMV'!$B$2,LEFT('1 - Opstart Importark'!$B$15,2),J719,IF(L719=\"\",\"\",\"-\"),L719,IF(N719=\"\",\"\",\"_\"),N719,IF(P719=\"\",\"\",(CONCATENATE(\"_\",P719)))))","v":""},{"$nulls":14},{"$f":"IF(LEN('1 - Opstart Importark'!$B$6)>0,'1 - Opstart Importark'!$B$6,\"\")","v":""},{"$f":"IF(LEN('1 - Opstart Importark'!$B$9)>0,'1 - Opstart Importark'!$B$9,\"\")","v":""},{"$nulls":19},0,"","objektnogle_"]
[708,null,{"$f":"IF('1 - Opstart Importark'!$B$6=\"\",\"\",CONCATENATE('Blokke - AMV'!$B$2,LEFT('1 - Opstart Importark'!$B$15,2),J720,IF(L720=\"\",\"\",\"-\"),L720,IF(N720=\"\",\"\",\"_\"),N720,IF(P720=\"\",\"\",(CONCATENATE(\"_\",P720)))))","v":""},{"$nulls":14},{"$f":"IF(LEN('1 - Opstart Importark'!$B$6)>0,'1 - Opstart Importark'!$B$6,\"\")","v":""},{"$f":"IF(LEN('1 - Opstart Importark'!$B$9)>0,'1 - Opstart Importark'!$B$9,\"\")","v":""},{"$nulls":19},0,"","objektnogle_"]
[709,null,{"$f":"IF('1 - Opstart Importark'!$B$6=\"\",\"\",CONCATENATE('Blokke - AMV'!$B$2,LEFT('1 - Opstart Importark'!$B$15,2),J721,IF(L721=\"\",\"\",\"-\"),L721,IF(N721=\"\",\"\",\"_\"),N721,IF(P721=\"\",\"\",(CONCATENATE(\"_\",P721)))))","v":""},{"$nulls":14},{"$f":"IF(LEN('1 - Opstart Importark'!$B$6)>0,'1 - Opstart Importark'!$B$6,\"\")","v":""},{"$f":"IF(LEN('1 - Opstart Importark'!$B$9)>0,'1 - Opstart Importark'!$B$9,\"\")","v":""},{"$nulls":19},0,"","objektnogle_"]
[710,null,{"$f":"IF('1 - Opstart Importark'!$B$6=\"\",\"\",CONCATENATE('Blokke - AMV'!$B$2,LEFT('1 - Opstart Importark'!$B$15,2),J722,IF(L722=\"\",\"\",\"-\"),L722,IF(N722=\"\",\"\",\"_\"),N722,IF(P722=\"\",\"\",(CONCATENATE(\"_\",P722)))))","v":""},{"$nulls":14},{"$f":"IF(LEN('1 - Opstart Importark'!$B$6)>0,'1 - Opstart Importark'!$B$6,\"\")","v":""},{"$f":"IF(LEN('1 - Opstart Importark'!$B$9)>0,'1 - Opstart Importark'!$B$9,\"\")","v":""},{"$nulls":19},0,"","objektnogle_"]
[711,null,{"$f":"IF('1 - Opstart Importark'!$B$6=\"\",\"\",CONCATENATE('Blokke - AMV'!$B$2,LEFT('1 - Opstart Importark'!$B$15,2),J723,IF(L723=\"\",\"\",\"-\"),L723,IF(N723=\"\",\"\",\"_\"),N723,IF(P723=\"\",\"\",(CONCATENATE(\"_\",P723)))))","v":""},{"$nulls":14},{"$f":"IF(LEN('1 - Opstart Importark'!$B$6)>0,'1 - Opstart Importark'!$B$6,\"\")","v":""},{"$f":"IF(LEN('1 - Opstart Importark'!$B$9)>0,'1 - Opstart Importark'!$B$9,\"\")","v":""},{"$nulls":19},0,"","objektnogle_"]
[712,null,{"$f":"IF('1 - Opstart Importark'!$B$6=\"\",\"\",CONCATENATE('Blokke - AMV'!$B$2,LEFT('1 - Opstart Importark'!$B$15,2),J724,IF(L724=\"\",\"\",\"-\"),L724,IF(N724=\"\",\"\",\"_\"),N724,IF(P724=\"\",\"\",(CONCATENATE(\"_\",P724)))))","v":""},{"$nulls":14},{"$f":"IF(LEN('1 - Opstart Importark'!$B$6)>0,'1 - Opstart Importark'!$B$6,\"\")","v":""},{"$f":"IF(LEN('1 - Opstart Importark'!$B$9)>0,'1 - Opstart Importark'!$B$9,\"\")","v":""},{"$nulls":19},0,"","objektnogle_"]
[713,null,{"$f":"IF('1 - Opstart Importark'!$B$6=\"\",\"\",CONCATENATE('Blokke - AMV'!$B$2,LEFT('1 - Opstart Importark'!$B$15,2),J725,IF(L725=\"\",\"\",\"-\"),L725,IF(N725=\"\",\"\",\"_\"),N725,IF(P725=\"\",\"\",(CONCATENATE(\"_\",P725)))))","v":""},{"$nulls":14},{"$f":"IF(LEN('1 - Opstart Importark'!$B$6)>0,'1 - Opstart Importark'!$B$6,\"\")","v":""},{"$f":"IF(LEN('1 - Opstart Importark'!$B$9)>0,'1 - Opstart Importark'!$B$9,\"\")","v":""},{"$nulls":19},0,"","objektnogle_"]
[714,null,{"$f":"IF('1 - Opstart Importark'!$B$6=\"\",\"\",CONCATENATE('Blokke - AMV'!$B$2,LEFT('1 - Opstart Importark'!$B$15,2),J726,IF(L726=\"\",\"\",\"-\"),L726,IF(N726=\"\",\"\",\"_\"),N726,IF(P726=\"\",\"\",(CONCATENATE(\"_\",P726)))))","v":""},{"$nulls":14},{"$f":"IF(LEN('1 - Opstart Importark'!$B$6)>0,'1 - Opstart Importark'!$B$6,\"\")","v":""},{"$f":"IF(LEN('1 - Opstart Importark'!$B$9)>0,'1 - Opstart Importark'!$B$9,\"\")","v":""},{"$nulls":19},0,"","objektnogle_"]
[715,null,{"$f":"IF('1 - Opstart Importark'!$B$6=\"\",\"\",CONCATENATE('Blokke - AMV'!$B$2,LEFT('1 - Opstart Importark'!$B$15,2),J727,IF(L727=\"\",\"\",\"-\"),L727,IF(N727=\"\",\"\",\"_\"),N727,IF(P727=\"\",\"\",(CONCATENATE(\"_\",P727)))))","v":""},{"$nulls":14},{"$f":"IF(LEN('1 - Opstart Importark'!$B$6)>0,'1 - Opstart Importark'!$B$6,\"\")","v":""},{"$f":"IF(LEN('1 - Opstart Importark'!$B$9)>0,'1 - Opstart Importark'!$B$9,\"\")","v":""},{"$nulls":19},0,"","objektnogle_"]
[716,null,{"$f":"IF('1 - Opstart Importark'!$B$6=\"\",\"\",CONCATENATE('Blokke - AMV'!$B$2,LEFT('1 - Opstart Importark'!$B$15,2),J728,IF(L728=\"\",\"\",\"-\"),L728,IF(N728=\"\",\"\",\"_\"),N728,IF(P728=\"\",\"\",(CONCATENATE(\"_\",P728)))))","v":""},{"$nulls":14},{"$f":"IF(LEN('1 - Opstart Importark'!$B$6)>0,'1 - Opstart Importark'!$B$6,\"\")","v":""},{"$f":"IF(LEN('1 - Opstart Importark'!$B$9)>0,'1 - Opstart Importark'!$B$9,\"\")","v":""},{"$nulls":19},0,"","objektnogle_"]
[717,null,{"$f":"IF('1 - Opstart Importark'!$B$6=\"\",\"\",CONCATENATE('Blokke - AMV'!$B$2,LEFT('1 - Opstart Importark'!$B$15,2),J729,IF(L729=\"\",\"\",\"-\"),L729,IF(N729=\"\",\"\",\"_\"),N729,IF(P729=\"\",\"\",(CONCATENATE(\"_\",P729)))))","v":""},{"$nulls":14},{"$f":"IF(LEN('1 - Opstart Importark'!$B$6)>0,'1 - Opstart Importark'!$B$6,\"\")","v":""},{"$f":"IF(LEN('1 - Opstart Importark'!$B$9)>0,'1 - Opstart Importark'!$B$9,\"\")","v":""},{"$nulls":19},0,"","objektnogle_"]
[718,null,{"$f":"IF('1 - Opstart Importark'!$B$6=\"\",\"\",CONCATENATE('Blokke - AMV'!$B$2,LEFT('1 - Opstart Importark'!$B$15,2),J730,IF(L730=\"\",\"\",\"-\"),L730,IF(N730=\"\",\"\",\"_\"),N730,IF(P730=\"\",\"\",(CONCATENATE(\"_\",P730)))))","v":""},{"$nulls":14},{"$f":"IF(LEN('1 - Opstart Importark'!$B$6)>0,'1 - Opstart Importark'!$B$6,\"\")","v":""},{"$f":"IF(LEN('1 - Opstart Importark'!$B$9)>0,'1 - Opstart Importark'!$B$9,\"\")","v":""},{"$nulls":19},0,"","objektnogle_"]
[719,null,{"$f":"IF('1 - Opstart Importark'!$B$6=\"\",\"\",CONCATENATE('Blokke - AMV'!$B$2,LEFT('1 - Opstart Importark'!$B$15,2),J731,IF(L731=\"\",\"\",\"-\"),L731,IF(N731=\"\",\"\",\"_\"),N731,IF(P731=\"\",\"\",(CONCATENATE(\"_\",P731)))))","v":""},{"$nulls":14},{"$f":"IF(LEN('1 - Opstart Importark'!$B$6)>0,'1 - Opstart Importark'!$B$6,\"\")","v":""},{"$f":"IF(LEN('1 - Opstart Importark'!$B$9)>0,'1 - Opstart Importark'!$B$9,\"\")","v":""},{"$nulls":19},0,"","objektnogle_"]
[720,null,{"$f":"IF('1 - Opstart Importark'!$B$6=\"\",\"\",CONCATENATE('Blokke - AMV'!$B$2,LEFT('1 - Opstart Importark'!$B$15,2),J732,IF(L732=\"\",\"\",\"-\"),L732,IF(N732=\"\",\"\",\"_\"),N732,IF(P732=\"\",\"\",(CONCATENATE(\"_\",P732)))))","v":""},{"$nulls":14},{"$f":"IF(LEN('1 - Opstart Importark'!$B$6)>0,'1 - Opstart Importark'!$B$6,\"\")","v":""},{"$f":"IF(LEN('1 - Opstart Importark'!$B$9)>0,'1 - Opstart Importark'!$B$9,\"\")","v":""},{"$nulls":19},0,"","objektnogle_"]
[721,null,{"$f":"IF('1 - Opstart Importark'!$B$6=\"\",\"\",CONCATENATE('Blokke - AMV'!$B$2,LEFT('1 - Opstart Importark'!$B$15,2),J733,IF(L733=\"\",\"\",\"-\"),L733,IF(N733=\"\",\"\",\"_\"),N733,IF(P733=\"\",\"\",(CONCATENATE(\"_\",P733)))))","v":""},{"$nulls":14},{"$f":"IF(LEN('1 - Opstart Importark'!$B$6)>0,'1 - Opstart Importark'!$B$6,\"\")","v":""},{"$f":"IF(LEN('1 - Opstart Importark'!$B$9)>0,'1 - Opstart Importark'!$B$9,\"\")","v":""},{"$nulls":19},0,"","objektnogle_"]
[722,null,{"$f":"IF('1 - Opstart Importark'!$B$6=\"\",\"\",CONCATENATE('Blokke - AMV'!$B$2,LEFT('1 - Opstart Importark'!$B$15,2),J734,IF(L734=\"\",\"\",\"-\"),L734,IF(N734=\"\",\"\",\"_\"),N734,IF(P734=\"\",\"\",(CONCATENATE(\"_\",P734)))))","v":""},{"$nulls":14},{"$f":"IF(LEN('1 - Opstart Importark'!$B$6)>0,'1 - Opstart Importark'!$B$6,\"\")","v":""},{"$f":"IF(LEN('1 - Opstart Importark'!$B$9)>0,'1 - Opstart Importark'!$B$9,\"\")","v":""},{"$nulls":19},0,"","objektnogle_"]
[723,null,{"$f":"IF('1 - Opstart Importark'!$B$6=\"\",\"\",CONCATENATE('Blokke - AMV'!$B$2,LEFT('1 - Opstart Importark'!$B$15,2),J735,IF(L735=\"\",\"\",\"-\"),L735,IF(N735=\"\",\"\",\"_\"),N735,IF(P735=\"\",\"\",(CONCATENATE(\"_\",P735)))))","v":""},{"$nulls":14},{"$f":"IF(LEN('1 - Opstart Importark'!$B$6)>0,'1 - Opstart Importark'!$B$6,\"\")","v":""},{"$f":"IF(LEN('1 - Opstart Importark'!$B$9)>0,'1 - Opstart Importark'!$B$9,\"\")","v":""},{"$nulls":19},0,"","objektnogle_"]
[724,null,{"$f":"IF('1 - Opstart Importark'!$B$6=\"\",\"\",CONCATENATE('Blokke - AMV'!$B$2,LEFT('1 - Opstart Importark'!$B$15,2),J736,IF(L736=\"\",\"\",\"-\"),L736,IF(N736=\"\",\"\",\"_\"),N736,IF(P736=\"\",\"\",(CONCATENATE(\"_\",P736)))))","v":""},{"$nulls":14},{"$f":"IF(LEN('1 - Opstart Importark'!$B$6)>0,'1 - Opstart Importark'!$B$6,\"\")","v":""},{"$f":"IF(LEN('1 - Opstart Importark'!$B$9)>0,'1 - Opstart Importark'!$B$9,\"\")","v":""},{"$nulls":19},0,"","objektnogle_"]
[725,null,{"$f":"IF('1 - Opstart Importark'!$B$6=\"\",\"\",CONCATENATE('Blokke - AMV'!$B$2,LEFT('1 - Opstart Importark'!$B$15,2),J737,IF(L737=\"\",\"\",\"-\"),L737,IF(N737=\"\",\"\",\"_\"),N737,IF(P737=\"\",\"\",(CONCATENATE(\"_\",P737)))))","v":""},{"$nulls":14},{"$f":"IF(LEN('1 - Opstart Importark'!$B$6)>0,'1 - Opstart Importark'!$B$6,\"\")","v":""},{"$f":"IF(LEN('1 - Opstart Importark'!$B$9)>0,'1 - Opstart Importark'!$B$9,\"\")","v":""},{"$nulls":19},0,"","objektnogle_"]
[726,null,{"$f":"IF('1 - Opstart Importark'!$B$6=\"\",\"\",CONCATENATE('Blokke - AMV'!$B$2,LEFT('1 - Opstart Importark'!$B$15,2),J738,IF(L738=\"\",\"\",\"-\"),L738,IF(N738=\"\",\"\",\"_\"),N738,IF(P738=\"\",\"\",(CONCATENATE(\"_\",P738)))))","v":""},{"$nulls":14},{"$f":"IF(LEN('1 - Opstart Importark'!$B$6)>0,'1 - Opstart Importark'!$B$6,\"\")","v":""},{"$f":"IF(LEN('1 - Opstart Importark'!$B$9)>0,'1 - Opstart Importark'!$B$9,\"\")","v":""},{"$nulls":19},0,"","objektnogle_"]
[727,null,{"$f":"IF('1 - Opstart Importark'!$B$6=\"\",\"\",CONCATENATE('Blokke - AMV'!$B$2,LEFT('1 - Opstart Importark'!$B$15,2),J739,IF(L739=\"\",\"\",\"-\"),L739,IF(N739=\"\",\"\",\"_\"),N739,IF(P739=\"\",\"\",(CONCATENATE(\"_\",P739)))))","v":""},{"$nulls":14},{"$f":"IF(LEN('1 - Opstart Importark'!$B$6)>0,'1 - Opstart Importark'!$B$6,\"\")","v":""},{"$f":"IF(LEN('1 - Opstart Importark'!$B$9)>0,'1 - Opstart Importark'!$B$9,\"\")","v":""},{"$nulls":19},0,"","objektnogle_"]
[728,null,{"$f":"IF('1 - Opstart Importark'!$B$6=\"\",\"\",CONCATENATE('Blokke - AMV'!$B$2,LEFT('1 - Opstart Importark'!$B$15,2),J740,IF(L740=\"\",\"\",\"-\"),L740,IF(N740=\"\",\"\",\"_\"),N740,IF(P740=\"\",\"\",(CONCATENATE(\"_\",P740)))))","v":""},{"$nulls":14},{"$f":"IF(LEN('1 - Opstart Importark'!$B$6)>0,'1 - Opstart Importark'!$B$6,\"\")","v":""},{"$f":"IF(LEN('1 - Opstart Importark'!$B$9)>0,'1 - Opstart Importark'!$B$9,\"\")","v":""},{"$nulls":19},0,"","objektnogle_"]
[729,null,{"$f":"IF('1 - Opstart Importark'!$B$6=\"\",\"\",CONCATENATE('Blokke - AMV'!$B$2,LEFT('1 - Opstart Importark'!$B$15,2),J741,IF(L741=\"\",\"\",\"-\"),L741,IF(N741=\"\",\"\",\"_\"),N741,IF(P741=\"\",\"\",(CONCATENATE(\"_\",P741)))))","v":""},{"$nulls":14},{"$f":"IF(LEN('1 - Opstart Importark'!$B$6)>0,'1 - Opstart Importark'!$B$6,\"\")","v":""},{"$f":"IF(LEN('1 - Opstart Importark'!$B$9)>0,'1 - Opstart Importark'!$B$9,\"\")","v":""},{"$nulls":19},0,"","objektnogle_"]
[730,null,{"$f":"IF('1 - Opstart Importark'!$B$6=\"\",\"\",CONCATENATE('Blokke - AMV'!$B$2,LEFT('1 - Opstart Importark'!$B$15,2),J742,IF(L742=\"\",\"\",\"-\"),L742,IF(N742=\"\",\"\",\"_\"),N742,IF(P742=\"\",\"\",(CONCATENATE(\"_\",P742)))))","v":""},{"$nulls":14},{"$f":"IF(LEN('1 - Opstart Importark'!$B$6)>0,'1 - Opstart Importark'!$B$6,\"\")","v":""},{"$f":"IF(LEN('1 - Opstart Importark'!$B$9)>0,'1 - Opstart Importark'!$B$9,\"\")","v":""},{"$nulls":19},0,"","objektnogle_"]
[731,null,{"$f":"IF('1 - Opstart Importark'!$B$6=\"\",\"\",CONCATENATE('Blokke - AMV'!$B$2,LEFT('1 - Opstart Importark'!$B$15,2),J743,IF(L743=\"\",\"\",\"-\"),L743,IF(N743=\"\",\"\",\"_\"),N743,IF(P743=\"\",\"\",(CONCATENATE(\"_\",P743)))))","v":""},{"$nulls":14},{"$f":"IF(LEN('1 - Opstart Importark'!$B$6)>0,'1 - Opstart Importark'!$B$6,\"\")","v":""},{"$f":"IF(LEN('1 - Opstart Importark'!$B$9)>0,'1 - Opstart Importark'!$B$9,\"\")","v":""},{"$nulls":19},0,"","objektnogle_"]
[732,null,{"$f":"IF('1 - Opstart Importark'!$B$6=\"\",\"\",CONCATENATE('Blokke - AMV'!$B$2,LEFT('1 - Opstart Importark'!$B$15,2),J744,IF(L744=\"\",\"\",\"-\"),L744,IF(N744=\"\",\"\",\"_\"),N744,IF(P744=\"\",\"\",(CONCATENATE(\"_\",P744)))))","v":""},{"$nulls":14},{"$f":"IF(LEN('1 - Opstart Importark'!$B$6)>0,'1 - Opstart Importark'!$B$6,\"\")","v":""},{"$f":"IF(LEN('1 - Opstart Importark'!$B$9)>0,'1 - Opstart Importark'!$B$9,\"\")","v":""},{"$nulls":19},0,"","objektnogle_"]
[733,null,{"$f":"IF('1 - Opstart Importark'!$B$6=\"\",\"\",CONCATENATE('Blokke - AMV'!$B$2,LEFT('1 - Opstart Importark'!$B$15,2),J745,IF(L745=\"\",\"\",\"-\"),L745,IF(N745=\"\",\"\",\"_\"),N745,IF(P745=\"\",\"\",(CONCATENATE(\"_\",P745)))))","v":""},{"$nulls":14},{"$f":"IF(LEN('1 - Opstart Importark'!$B$6)>0,'1 - Opstart Importark'!$B$6,\"\")","v":""},{"$f":"IF(LEN('1 - Opstart Importark'!$B$9)>0,'1 - Opstart Importark'!$B$9,\"\")","v":""},{"$nulls":19},0,"","objektnogle_"]
[734,null,{"$f":"IF('1 - Opstart Importark'!$B$6=\"\",\"\",CONCATENATE('Blokke - AMV'!$B$2,LEFT('1 - Opstart Importark'!$B$15,2),J746,IF(L746=\"\",\"\",\"-\"),L746,IF(N746=\"\",\"\",\"_\"),N746,IF(P746=\"\",\"\",(CONCATENATE(\"_\",P746)))))","v":""},{"$nulls":14},{"$f":"IF(LEN('1 - Opstart Importark'!$B$6)>0,'1 - Opstart Importark'!$B$6,\"\")","v":""},{"$f":"IF(LEN('1 - Opstart Importark'!$B$9)>0,'1 - Opstart Importark'!$B$9,\"\")","v":""},{"$nulls":19},0,"","objektnogle_"]
[735,null,{"$f":"IF('1 - Opstart Importark'!$B$6=\"\",\"\",CONCATENATE('Blokke - AMV'!$B$2,LEFT('1 - Opstart Importark'!$B$15,2),J747,IF(L747=\"\",\"\",\"-\"),L747,IF(N747=\"\",\"\",\"_\"),N747,IF(P747=\"\",\"\",(CONCATENATE(\"_\",P747)))))","v":""},{"$nulls":14},{"$f":"IF(LEN('1 - Opstart Importark'!$B$6)>0,'1 - Opstart Importark'!$B$6,\"\")","v":""},{"$f":"IF(LEN('1 - Opstart Importark'!$B$9)>0,'1 - Opstart Importark'!$B$9,\"\")","v":""},{"$nulls":19},0,"","objektnogle_"]
[736,null,{"$f":"IF('1 - Opstart Importark'!$B$6=\"\",\"\",CONCATENATE('Blokke - AMV'!$B$2,LEFT('1 - Opstart Importark'!$B$15,2),J748,IF(L748=\"\",\"\",\"-\"),L748,IF(N748=\"\",\"\",\"_\"),N748,IF(P748=\"\",\"\",(CONCATENATE(\"_\",P748)))))","v":""},{"$nulls":14},{"$f":"IF(LEN('1 - Opstart Importark'!$B$6)>0,'1 - Opstart Importark'!$B$6,\"\")","v":""},{"$f":"IF(LEN('1 - Opstart Importark'!$B$9)>0,'1 - Opstart Importark'!$B$9,\"\")","v":""},{"$nulls":19},0,"","objektnogle_"]
[737,null,{"$f":"IF('1 - Opstart Importark'!$B$6=\"\",\"\",CONCATENATE('Blokke - AMV'!$B$2,LEFT('1 - Opstart Importark'!$B$15,2),J749,IF(L749=\"\",\"\",\"-\"),L749,IF(N749=\"\",\"\",\"_\"),N749,IF(P749=\"\",\"\",(CONCATENATE(\"_\",P749)))))","v":""},{"$nulls":14},{"$f":"IF(LEN('1 - Opstart Importark'!$B$6)>0,'1 - Opstart Importark'!$B$6,\"\")","v":""},{"$f":"IF(LEN('1 - Opstart Importark'!$B$9)>0,'1 - Opstart Importark'!$B$9,\"\")","v":""},{"$nulls":19},0,"","objektnogle_"]
[738,null,{"$f":"IF('1 - Opstart Importark'!$B$6=\"\",\"\",CONCATENATE('Blokke - AMV'!$B$2,LEFT('1 - Opstart Importark'!$B$15,2),J750,IF(L750=\"\",\"\",\"-\"),L750,IF(N750=\"\",\"\",\"_\"),N750,IF(P750=\"\",\"\",(CONCATENATE(\"_\",P750)))))","v":""},{"$nulls":14},{"$f":"IF(LEN('1 - Opstart Importark'!$B$6)>0,'1 - Opstart Importark'!$B$6,\"\")","v":""},{"$f":"IF(LEN('1 - Opstart Importark'!$B$9)>0,'1 - Opstart Importark'!$B$9,\"\")","v":""},{"$nulls":19},0,"","objektnogle_"]
[739,null,{"$f":"IF('1 - Opstart Importark'!$B$6=\"\",\"\",CONCATENATE('Blokke - AMV'!$B$2,LEFT('1 - Opstart Importark'!$B$15,2),J751,IF(L751=\"\",\"\",\"-\"),L751,IF(N751=\"\",\"\",\"_\"),N751,IF(P751=\"\",\"\",(CONCATENATE(\"_\",P751)))))","v":""},{"$nulls":14},{"$f":"IF(LEN('1 - Opstart Importark'!$B$6)>0,'1 - Opstart Importark'!$B$6,\"\")","v":""},{"$f":"IF(LEN('1 - Opstart Importark'!$B$9)>0,'1 - Opstart Importark'!$B$9,\"\")","v":""},{"$nulls":19},0,"","objektnogle_"]
[740,null,{"$f":"IF('1 - Opstart Importark'!$B$6=\"\",\"\",CONCATENATE('Blokke - AMV'!$B$2,LEFT('1 - Opstart Importark'!$B$15,2),J752,IF(L752=\"\",\"\",\"-\"),L752,IF(N752=\"\",\"\",\"_\"),N752,IF(P752=\"\",\"\",(CONCATENATE(\"_\",P752)))))","v":""},{"$nulls":14},{"$f":"IF(LEN('1 - Opstart Importark'!$B$6)>0,'1 - Opstart Importark'!$B$6,\"\")","v":""},{"$f":"IF(LEN('1 - Opstart Importark'!$B$9)>0,'1 - Opstart Importark'!$B$9,\"\")","v":""},{"$nulls":19},0,"","objektnogle_"]
[741,null,{"$f":"IF('1 - Opstart Importark'!$B$6=\"\",\"\",CONCATENATE('Blokke - AMV'!$B$2,LEFT('1 - Opstart Importark'!$B$15,2),J753,IF(L753=\"\",\"\",\"-\"),L753,IF(N753=\"\",\"\",\"_\"),N753,IF(P753=\"\",\"\",(CONCATENATE(\"_\",P753)))))","v":""},{"$nulls":14},{"$f":"IF(LEN('1 - Opstart Importark'!$B$6)>0,'1 - Opstart Importark'!$B$6,\"\")","v":""},{"$f":"IF(LEN('1 - Opstart Importark'!$B$9)>0,'1 - Opstart Importark'!$B$9,\"\")","v":""},{"$nulls":19},0,"","objektnogle_"]
[742,null,{"$f":"IF('1 - Opstart Importark'!$B$6=\"\",\"\",CONCATENATE('Blokke - AMV'!$B$2,LEFT('1 - Opstart Importark'!$B$15,2),J754,IF(L754=\"\",\"\",\"-\"),L754,IF(N754=\"\",\"\",\"_\"),N754,IF(P754=\"\",\"\",(CONCATENATE(\"_\",P754)))))","v":""},{"$nulls":14},{"$f":"IF(LEN('1 - Opstart Importark'!$B$6)>0,'1 - Opstart Importark'!$B$6,\"\")","v":""},{"$f":"IF(LEN('1 - Opstart Importark'!$B$9)>0,'1 - Opstart Importark'!$B$9,\"\")","v":""},{"$nulls":19},0,"","objektnogle_"]
[743,null,{"$f":"IF('1 - Opstart Importark'!$B$6=\"\",\"\",CONCATENATE('Blokke - AMV'!$B$2,LEFT('1 - Opstart Importark'!$B$15,2),J755,IF(L755=\"\",\"\",\"-\"),L755,IF(N755=\"\",\"\",\"_\"),N755,IF(P755=\"\",\"\",(CONCATENATE(\"_\",P755)))))","v":""},{"$nulls":14},{"$f":"IF(LEN('1 - Opstart Importark'!$B$6)>0,'1 - Opstart Importark'!$B$6,\"\")","v":""},{"$f":"IF(LEN('1 - Opstart Importark'!$B$9)>0,'1 - Opstart Importark'!$B$9,\"\")","v":""},{"$nulls":19},0,"","objektnogle_"]
[744,null,{"$f":"IF('1 - Opstart Importark'!$B$6=\"\",\"\",CONCATENATE('Blokke - AMV'!$B$2,LEFT('1 - Opstart Importark'!$B$15,2),J756,IF(L756=\"\",\"\",\"-\"),L756,IF(N756=\"\",\"\",\"_\"),N756,IF(P756=\"\",\"\",(CONCATENATE(\"_\",P756)))))","v":""},{"$nulls":14},{"$f":"IF(LEN('1 - Opstart Importark'!$B$6)>0,'1 - Opstart Importark'!$B$6,\"\")","v":""},{"$f":"IF(LEN('1 - Opstart Importark'!$B$9)>0,'1 - Opstart Importark'!$B$9,\"\")","v":""},{"$nulls":19},0,"","objektnogle_"]
[745,null,{"$f":"IF('1 - Opstart Importark'!$B$6=\"\",\"\",CONCATENATE('Blokke - AMV'!$B$2,LEFT('1 - Opstart Importark'!$B$15,2),J757,IF(L757=\"\",\"\",\"-\"),L757,IF(N757=\"\",\"\",\"_\"),N757,IF(P757=\"\",\"\",(CONCATENATE(\"_\",P757)))))","v":""},{"$nulls":14},{"$f":"IF(LEN('1 - Opstart Importark'!$B$6)>0,'1 - Opstart Importark'!$B$6,\"\")","v":""},{"$f":"IF(LEN('1 - Opstart Importark'!$B$9)>0,'1 - Opstart Importark'!$B$9,\"\")","v":""},{"$nulls":19},0,"","objektnogle_"]
[746,null,{"$f":"IF('1 - Opstart Importark'!$B$6=\"\",\"\",CONCATENATE('Blokke - AMV'!$B$2,LEFT('1 - Opstart Importark'!$B$15,2),J758,IF(L758=\"\",\"\",\"-\"),L758,IF(N758=\"\",\"\",\"_\"),N758,IF(P758=\"\",\"\",(CONCATENATE(\"_\",P758)))))","v":""},{"$nulls":14},{"$f":"IF(LEN('1 - Opstart Importark'!$B$6)>0,'1 - Opstart Importark'!$B$6,\"\")","v":""},{"$f":"IF(LEN('1 - Opstart Importark'!$B$9)>0,'1 - Opstart Importark'!$B$9,\"\")","v":""},{"$nulls":19},0,"","objektnogle_"]
[747,null,{"$f":"IF('1 - Opstart Importark'!$B$6=\"\",\"\",CONCATENATE('Blokke - AMV'!$B$2,LEFT('1 - Opstart Importark'!$B$15,2),J759,IF(L759=\"\",\"\",\"-\"),L759,IF(N759=\"\",\"\",\"_\"),N759,IF(P759=\"\",\"\",(CONCATENATE(\"_\",P759)))))","v":""},{"$nulls":14},{"$f":"IF(LEN('1 - Opstart Importark'!$B$6)>0,'1 - Opstart Importark'!$B$6,\"\")","v":""},{"$f":"IF(LEN('1 - Opstart Importark'!$B$9)>0,'1 - Opstart Importark'!$B$9,\"\")","v":""},{"$nulls":19},0,"","objektnogle_"]
[748,null,{"$f":"IF('1 - Opstart Importark'!$B$6=\"\",\"\",CONCATENATE('Blokke - AMV'!$B$2,LEFT('1 - Opstart Importark'!$B$15,2),J760,IF(L760=\"\",\"\",\"-\"),L760,IF(N760=\"\",\"\",\"_\"),N760,IF(P760=\"\",\"\",(CONCATENATE(\"_\",P760)))))","v":""},{"$nulls":14},{"$f":"IF(LEN('1 - Opstart Importark'!$B$6)>0,'1 - Opstart Importark'!$B$6,\"\")","v":""},{"$f":"IF(LEN('1 - Opstart Importark'!$B$9)>0,'1 - Opstart Importark'!$B$9,\"\")","v":""},{"$nulls":19},0,"","objektnogle_"]
[749,null,{"$f":"IF('1 - Opstart Importark'!$B$6=\"\",\"\",CONCATENATE('Blokke - AMV'!$B$2,LEFT('1 - Opstart Importark'!$B$15,2),J761,IF(L761=\"\",\"\",\"-\"),L761,IF(N761=\"\",\"\",\"_\"),N761,IF(P761=\"\",\"\",(CONCATENATE(\"_\",P761)))))","v":""},{"$nulls":14},{"$f":"IF(LEN('1 - Opstart Importark'!$B$6)>0,'1 - Opstart Importark'!$B$6,\"\")","v":""},{"$f":"IF(LEN('1 - Opstart Importark'!$B$9)>0,'1 - Opstart Importark'!$B$9,\"\")","v":""},{"$nulls":19},0,"","objektnogle_"]
[750,null,{"$f":"IF('1 - Opstart Importark'!$B$6=\"\",\"\",CONCATENATE('Blokke - AMV'!$B$2,LEFT('1 - Opstart Importark'!$B$15,2),J762,IF(L762=\"\",\"\",\"-\"),L762,IF(N762=\"\",\"\",\"_\"),N762,IF(P762=\"\",\"\",(CONCATENATE(\"_\",P762)))))","v":""},{"$nulls":14},{"$f":"IF(LEN('1 - Opstart Importark'!$B$6)>0,'1 - Opstart Importark'!$B$6,\"\")","v":""},{"$f":"IF(LEN('1 - Opstart Importark'!$B$9)>0,'1 - Opstart Importark'!$B$9,\"\")","v":""},{"$nulls":19},0,"","objektnogle_"]
[751,null,{"$f":"IF('1 - Opstart Importark'!$B$6=\"\",\"\",CONCATENATE('Blokke - AMV'!$B$2,LEFT('1 - Opstart Importark'!$B$15,2),J763,IF(L763=\"\",\"\",\"-\"),L763,IF(N763=\"\",\"\",\"_\"),N763,IF(P763=\"\",\"\",(CONCATENATE(\"_\",P763)))))","v":""},{"$nulls":14},{"$f":"IF(LEN('1 - Opstart Importark'!$B$6)>0,'1 - Opstart Importark'!$B$6,\"\")","v":""},{"$f":"IF(LEN('1 - Opstart Importark'!$B$9)>0,'1 - Opstart Importark'!$B$9,\"\")","v":""},{"$nulls":19},0,"","objektnogle_"]
[752,null,{"$f":"IF('1 - Opstart Importark'!$B$6=\"\",\"\",CONCATENATE('Blokke - AMV'!$B$2,LEFT('1 - Opstart Importark'!$B$15,2),J764,IF(L764=\"\",\"\",\"-\"),L764,IF(N764=\"\",\"\",\"_\"),N764,IF(P764=\"\",\"\",(CONCATENATE(\"_\",P764)))))","v":""},{"$nulls":14},{"$f":"IF(LEN('1 - Opstart Importark'!$B$6)>0,'1 - Opstart Importark'!$B$6,\"\")","v":""},{"$f":"IF(LEN('1 - Opstart Importark'!$B$9)>0,'1 - Opstart Importark'!$B$9,\"\")","v":""},{"$nulls":19},0,"","objektnogle_"]
[753,null,{"$f":"IF('1 - Opstart Importark'!$B$6=\"\",\"\",CONCATENATE('Blokke - AMV'!$B$2,LEFT('1 - Opstart Importark'!$B$15,2),J765,IF(L765=\"\",\"\",\"-\"),L765,IF(N765=\"\",\"\",\"_\"),N765,IF(P765=\"\",\"\",(CONCATENATE(\"_\",P765)))))","v":""},{"$nulls":14},{"$f":"IF(LEN('1 - Opstart Importark'!$B$6)>0,'1 - Opstart Importark'!$B$6,\"\")","v":""},{"$f":"IF(LEN('1 - Opstart Importark'!$B$9)>0,'1 - Opstart Importark'!$B$9,\"\")","v":""},{"$nulls":19},0,"","objektnogle_"]
[754,null,{"$f":"IF('1 - Opstart Importark'!$B$6=\"\",\"\",CONCATENATE('Blokke - AMV'!$B$2,LEFT('1 - Opstart Importark'!$B$15,2),J766,IF(L766=\"\",\"\",\"-\"),L766,IF(N766=\"\",\"\",\"_\"),N766,IF(P766=\"\",\"\",(CONCATENATE(\"_\",P766)))))","v":""},{"$nulls":14},{"$f":"IF(LEN('1 - Opstart Importark'!$B$6)>0,'1 - Opstart Importark'!$B$6,\"\")","v":""},{"$f":"IF(LEN('1 - Opstart Importark'!$B$9)>0,'1 - Opstart Importark'!$B$9,\"\")","v":""},{"$nulls":19},0,"","objektnogle_"]
[755,null,{"$f":"IF('1 - Opstart Importark'!$B$6=\"\",\"\",CONCATENATE('Blokke - AMV'!$B$2,LEFT('1 - Opstart Importark'!$B$15,2),J767,IF(L767=\"\",\"\",\"-\"),L767,IF(N767=\"\",\"\",\"_\"),N767,IF(P767=\"\",\"\",(CONCATENATE(\"_\",P767)))))","v":""},{"$nulls":14},{"$f":"IF(LEN('1 - Opstart Importark'!$B$6)>0,'1 - Opstart Importark'!$B$6,\"\")","v":""},{"$f":"IF(LEN('1 - Opstart Importark'!$B$9)>0,'1 - Opstart Importark'!$B$9,\"\")","v":""},{"$nulls":19},0,"","objektnogle_"]
[756,null,{"$f":"IF('1 - Opstart Importark'!$B$6=\"\",\"\",CONCATENATE('Blokke - AMV'!$B$2,LEFT('1 - Opstart Importark'!$B$15,2),J768,IF(L768=\"\",\"\",\"-\"),L768,IF(N768=\"\",\"\",\"_\"),N768,IF(P768=\"\",\"\",(CONCATENATE(\"_\",P768)))))","v":""},{"$nulls":14},{"$f":"IF(LEN('1 - Opstart Importark'!$B$6)>0,'1 - Opstart Importark'!$B$6,\"\")","v":""},{"$f":"IF(LEN('1 - Opstart Importark'!$B$9)>0,'1 - Opstart Importark'!$B$9,\"\")","v":""},{"$nulls":19},0,"","objektnogle_"]
[757,null,{"$f":"IF('1 - Opstart Importark'!$B$6=\"\",\"\",CONCATENATE('Blokke - AMV'!$B$2,LEFT('1 - Opstart Importark'!$B$15,2),J769,IF(L769=\"\",\"\",\"-\"),L769,IF(N769=\"\",\"\",\"_\"),N769,IF(P769=\"\",\"\",(CONCATENATE(\"_\",P769)))))","v":""},{"$nulls":14},{"$f":"IF(LEN('1 - Opstart Importark'!$B$6)>0,'1 - Opstart Importark'!$B$6,\"\")","v":""},{"$f":"IF(LEN('1 - Opstart Importark'!$B$9)>0,'1 - Opstart Importark'!$B$9,\"\")","v":""},{"$nulls":19},0,"","objektnogle_"]
[758,null,{"$f":"IF('1 - Opstart Importark'!$B$6=\"\",\"\",CONCATENATE('Blokke - AMV'!$B$2,LEFT('1 - Opstart Importark'!$B$15,2),J770,IF(L770=\"\",\"\",\"-\"),L770,IF(N770=\"\",\"\",\"_\"),N770,IF(P770=\"\",\"\",(CONCATENATE(\"_\",P770)))))","v":""},{"$nulls":14},{"$f":"IF(LEN('1 - Opstart Importark'!$B$6)>0,'1 - Opstart Importark'!$B$6,\"\")","v":""},{"$f":"IF(LEN('1 - Opstart Importark'!$B$9)>0,'1 - Opstart Importark'!$B$9,\"\")","v":""},{"$nulls":19},0,"","objektnogle_"]
[759,null,{"$f":"IF('1 - Opstart Importark'!$B$6=\"\",\"\",CONCATENATE('Blokke - AMV'!$B$2,LEFT('1 - Opstart Importark'!$B$15,2),J771,IF(L771=\"\",\"\",\"-\"),L771,IF(N771=\"\",\"\",\"_\"),N771,IF(P771=\"\",\"\",(CONCATENATE(\"_\",P771)))))","v":""},{"$nulls":14},{"$f":"IF(LEN('1 - Opstart Importark'!$B$6)>0,'1 - Opstart Importark'!$B$6,\"\")","v":""},{"$f":"IF(LEN('1 - Opstart Importark'!$B$9)>0,'1 - Opstart Importark'!$B$9,\"\")","v":""},{"$nulls":19},0,"","objektnogle_"]
[760,null,{"$f":"IF('1 - Opstart Importark'!$B$6=\"\",\"\",CONCATENATE('Blokke - AMV'!$B$2,LEFT('1 - Opstart Importark'!$B$15,2),J772,IF(L772=\"\",\"\",\"-\"),L772,IF(N772=\"\",\"\",\"_\"),N772,IF(P772=\"\",\"\",(CONCATENATE(\"_\",P772)))))","v":""},{"$nulls":14},{"$f":"IF(LEN('1 - Opstart Importark'!$B$6)>0,'1 - Opstart Importark'!$B$6,\"\")","v":""},{"$f":"IF(LEN('1 - Opstart Importark'!$B$9)>0,'1 - Opstart Importark'!$B$9,\"\")","v":""},{"$nulls":19},0,"","objektnogle_"]
[761,null,{"$f":"IF('1 - Opstart Importark'!$B$6=\"\",\"\",CONCATENATE('Blokke - AMV'!$B$2,LEFT('1 - Opstart Importark'!$B$15,2),J773,IF(L773=\"\",\"\",\"-\"),L773,IF(N773=\"\",\"\",\"_\"),N773,IF(P773=\"\",\"\",(CONCATENATE(\"_\",P773)))))","v":""},{"$nulls":14},{"$f":"IF(LEN('1 - Opstart Importark'!$B$6)>0,'1 - Opstart Importark'!$B$6,\"\")","v":""},{"$f":"IF(LEN('1 - Opstart Importark'!$B$9)>0,'1 - Opstart Importark'!$B$9,\"\")","v":""},{"$nulls":19},0,"","objektnogle_"]
[762,null,{"$f":"IF('1 - Opstart Importark'!$B$6=\"\",\"\",CONCATENATE('Blokke - AMV'!$B$2,LEFT('1 - Opstart Importark'!$B$15,2),J774,IF(L774=\"\",\"\",\"-\"),L774,IF(N774=\"\",\"\",\"_\"),N774,IF(P774=\"\",\"\",(CONCATENATE(\"_\",P774)))))","v":""},{"$nulls":14},{"$f":"IF(LEN('1 - Opstart Importark'!$B$6)>0,'1 - Opstart Importark'!$B$6,\"\")","v":""},{"$f":"IF(LEN('1 - Opstart Importark'!$B$9)>0,'1 - Opstart Importark'!$B$9,\"\")","v":""},{"$nulls":19},0,"","objektnogle_"]
[763,null,{"$f":"IF('1 - Opstart Importark'!$B$6=\"\",\"\",CONCATENATE('Blokke - AMV'!$B$2,LEFT('1 - Opstart Importark'!$B$15,2),J775,IF(L775=\"\",\"\",\"-\"),L775,IF(N775=\"\",\"\",\"_\"),N775,IF(P775=\"\",\"\",(CONCATENATE(\"_\",P775)))))","v":""},{"$nulls":14},{"$f":"IF(LEN('1 - Opstart Importark'!$B$6)>0,'1 - Opstart Importark'!$B$6,\"\")","v":""},{"$f":"IF(LEN('1 - Opstart Importark'!$B$9)>0,'1 - Opstart Importark'!$B$9,\"\")","v":""},{"$nulls":19},0,"","objektnogle_"]
[764,null,{"$f":"IF('1 - Opstart Importark'!$B$6=\"\",\"\",CONCATENATE('Blokke - AMV'!$B$2,LEFT('1 - Opstart Importark'!$B$15,2),J776,IF(L776=\"\",\"\",\"-\"),L776,IF(N776=\"\",\"\",\"_\"),N776,IF(P776=\"\",\"\",(CONCATENATE(\"_\",P776)))))","v":""},{"$nulls":14},{"$f":"IF(LEN('1 - Opstart Importark'!$B$6)>0,'1 - Opstart Importark'!$B$6,\"\")","v":""},{"$f":"IF(LEN('1 - Opstart Importark'!$B$9)>0,'1 - Opstart Importark'!$B$9,\"\")","v":""},{"$nulls":19},0,"","objektnogle_"]
[765,null,{"$f":"IF('1 - Opstart Importark'!$B$6=\"\",\"\",CONCATENATE('Blokke - AMV'!$B$2,LEFT('1 - Opstart Importark'!$B$15,2),J777,IF(L777=\"\",\"\",\"-\"),L777,IF(N777=\"\",\"\",\"_\"),N777,IF(P777=\"\",\"\",(CONCATENATE(\"_\",P777)))))","v":""},{"$nulls":14},{"$f":"IF(LEN('1 - Opstart Importark'!$B$6)>0,'1 - Opstart Importark'!$B$6,\"\")","v":""},{"$f":"IF(LEN('1 - Opstart Importark'!$B$9)>0,'1 - Opstart Importark'!$B$9,\"\")","v":""},{"$nulls":19},0,"","objektnogle_"]
[766,null,{"$f":"IF('1 - Opstart Importark'!$B$6=\"\",\"\",CONCATENATE('Blokke - AMV'!$B$2,LEFT('1 - Opstart Importark'!$B$15,2),J778,IF(L778=\"\",\"\",\"-\"),L778,IF(N778=\"\",\"\",\"_\"),N778,IF(P778=\"\",\"\",(CONCATENATE(\"_\",P778)))))","v":""},{"$nulls":14},{"$f":"IF(LEN('1 - Opstart Importark'!$B$6)>0,'1 - Opstart Importark'!$B$6,\"\")","v":""},{"$f":"IF(LEN('1 - Opstart Importark'!$B$9)>0,'1 - Opstart Importark'!$B$9,\"\")","v":""},{"$nulls":19},0,"","objektnogle_"]
[767,null,{"$f":"IF('1 - Opstart Importark'!$B$6=\"\",\"\",CONCATENATE('Blokke - AMV'!$B$2,LEFT('1 - Opstart Importark'!$B$15,2),J779,IF(L779=\"\",\"\",\"-\"),L779,IF(N779=\"\",\"\",\"_\"),N779,IF(P779=\"\",\"\",(CONCATENATE(\"_\",P779)))))","v":""},{"$nulls":14},{"$f":"IF(LEN('1 - Opstart Importark'!$B$6)>0,'1 - Opstart Importark'!$B$6,\"\")","v":""},{"$f":"IF(LEN('1 - Opstart Importark'!$B$9)>0,'1 - Opstart Importark'!$B$9,\"\")","v":""},{"$nulls":19},0,"","objektnogle_"]
[768,null,{"$f":"IF('1 - Opstart Importark'!$B$6=\"\",\"\",CONCATENATE('Blokke - AMV'!$B$2,LEFT('1 - Opstart Importark'!$B$15,2),J780,IF(L780=\"\",\"\",\"-\"),L780,IF(N780=\"\",\"\",\"_\"),N780,IF(P780=\"\",\"\",(CONCATENATE(\"_\",P780)))))","v":""},{"$nulls":14},{"$f":"IF(LEN('1 - Opstart Importark'!$B$6)>0,'1 - Opstart Importark'!$B$6,\"\")","v":""},{"$f":"IF(LEN('1 - Opstart Importark'!$B$9)>0,'1 - Opstart Importark'!$B$9,\"\")","v":""},{"$nulls":19},0,"","objektnogle_"]
[769,null,{"$f":"IF('1 - Opstart Importark'!$B$6=\"\",\"\",CONCATENATE('Blokke - AMV'!$B$2,LEFT('1 - Opstart Importark'!$B$15,2),J781,IF(L781=\"\",\"\",\"-\"),L781,IF(N781=\"\",\"\",\"_\"),N781,IF(P781=\"\",\"\",(CONCATENATE(\"_\",P781)))))","v":""},{"$nulls":14},{"$f":"IF(LEN('1 - Opstart Importark'!$B$6)>0,'1 - Opstart Importark'!$B$6,\"\")","v":""},{"$f":"IF(LEN('1 - Opstart Importark'!$B$9)>0,'1 - Opstart Importark'!$B$9,\"\")","v":""},{"$nulls":19},{"$f":"IFERROR(FIND(\".\",G781),)","v":0},{"$f":"IF(L781=\"\",\"\",IF(LEFT(L781,1)=\"E\",0,1))","v":""},{"$f":"CONCATENATE(\"objektnogle_\",LEFT(L781,1))","v":"objektnogle_"}]
[770,null,{"$f":"IF('1 - Opstart Importark'!$B$6=\"\",\"\",CONCATENATE('Blokke - AMV'!$B$2,LEFT('1 - Opstart Importark'!$B$15,2),J782,IF(L782=\"\",\"\",\"-\"),L782,IF(N782=\"\",\"\",\"_\"),N782,IF(P782=\"\",\"\",(CONCATENATE(\"_\",P782)))))","v":""},{"$nulls":14},{"$f":"IF(LEN('1 - Opstart Importark'!$B$6)>0,'1 - Opstart Importark'!$B$6,\"\")","v":""},{"$f":"IF(LEN('1 - Opstart Importark'!$B$9)>0,'1 - Opstart Importark'!$B$9,\"\")","v":""},{"$nulls":19},0,"","objektnogle_"]
[771,null,{"$f":"IF('1 - Opstart Importark'!$B$6=\"\",\"\",CONCATENATE('Blokke - AMV'!$B$2,LEFT('1 - Opstart Importark'!$B$15,2),J783,IF(L783=\"\",\"\",\"-\"),L783,IF(N783=\"\",\"\",\"_\"),N783,IF(P783=\"\",\"\",(CONCATENATE(\"_\",P783)))))","v":""},{"$nulls":14},{"$f":"IF(LEN('1 - Opstart Importark'!$B$6)>0,'1 - Opstart Importark'!$B$6,\"\")","v":""},{"$f":"IF(LEN('1 - Opstart Importark'!$B$9)>0,'1 - Opstart Importark'!$B$9,\"\")","v":""},{"$nulls":19},0,"","objektnogle_"]
[772,null,{"$f":"IF('1 - Opstart Importark'!$B$6=\"\",\"\",CONCATENATE('Blokke - AMV'!$B$2,LEFT('1 - Opstart Importark'!$B$15,2),J784,IF(L784=\"\",\"\",\"-\"),L784,IF(N784=\"\",\"\",\"_\"),N784,IF(P784=\"\",\"\",(CONCATENATE(\"_\",P784)))))","v":""},{"$nulls":14},{"$f":"IF(LEN('1 - Opstart Importark'!$B$6)>0,'1 - Opstart Importark'!$B$6,\"\")","v":""},{"$f":"IF(LEN('1 - Opstart Importark'!$B$9)>0,'1 - Opstart Importark'!$B$9,\"\")","v":""},{"$nulls":19},0,"","objektnogle_"]
[773,null,{"$f":"IF('1 - Opstart Importark'!$B$6=\"\",\"\",CONCATENATE('Blokke - AMV'!$B$2,LEFT('1 - Opstart Importark'!$B$15,2),J785,IF(L785=\"\",\"\",\"-\"),L785,IF(N785=\"\",\"\",\"_\"),N785,IF(P785=\"\",\"\",(CONCATENATE(\"_\",P785)))))","v":""},{"$nulls":14},{"$f":"IF(LEN('1 - Opstart Importark'!$B$6)>0,'1 - Opstart Importark'!$B$6,\"\")","v":""},{"$f":"IF(LEN('1 - Opstart Importark'!$B$9)>0,'1 - Opstart Importark'!$B$9,\"\")","v":""},{"$nulls":19},0,"","objektnogle_"]
[774,null,{"$f":"IF('1 - Opstart Importark'!$B$6=\"\",\"\",CONCATENATE('Blokke - AMV'!$B$2,LEFT('1 - Opstart Importark'!$B$15,2),J786,IF(L786=\"\",\"\",\"-\"),L786,IF(N786=\"\",\"\",\"_\"),N786,IF(P786=\"\",\"\",(CONCATENATE(\"_\",P786)))))","v":""},{"$nulls":14},{"$f":"IF(LEN('1 - Opstart Importark'!$B$6)>0,'1 - Opstart Importark'!$B$6,\"\")","v":""},{"$f":"IF(LEN('1 - Opstart Importark'!$B$9)>0,'1 - Opstart Importark'!$B$9,\"\")","v":""},{"$nulls":19},0,"","objektnogle_"]
[775,null,{"$f":"IF('1 - Opstart Importark'!$B$6=\"\",\"\",CONCATENATE('Blokke - AMV'!$B$2,LEFT('1 - Opstart Importark'!$B$15,2),J787,IF(L787=\"\",\"\",\"-\"),L787,IF(N787=\"\",\"\",\"_\"),N787,IF(P787=\"\",\"\",(CONCATENATE(\"_\",P787)))))","v":""},{"$nulls":14},{"$f":"IF(LEN('1 - Opstart Importark'!$B$6)>0,'1 - Opstart Importark'!$B$6,\"\")","v":""},{"$f":"IF(LEN('1 - Opstart Importark'!$B$9)>0,'1 - Opstart Importark'!$B$9,\"\")","v":""},{"$nulls":19},0,"","objektnogle_"]
[776,null,{"$f":"IF('1 - Opstart Importark'!$B$6=\"\",\"\",CONCATENATE('Blokke - AMV'!$B$2,LEFT('1 - Opstart Importark'!$B$15,2),J788,IF(L788=\"\",\"\",\"-\"),L788,IF(N788=\"\",\"\",\"_\"),N788,IF(P788=\"\",\"\",(CONCATENATE(\"_\",P788)))))","v":""},{"$nulls":14},{"$f":"IF(LEN('1 - Opstart Importark'!$B$6)>0,'1 - Opstart Importark'!$B$6,\"\")","v":""},{"$f":"IF(LEN('1 - Opstart Importark'!$B$9)>0,'1 - Opstart Importark'!$B$9,\"\")","v":""},{"$nulls":19},0,"","objektnogle_"]
[777,null,{"$f":"IF('1 - Opstart Importark'!$B$6=\"\",\"\",CONCATENATE('Blokke - AMV'!$B$2,LEFT('1 - Opstart Importark'!$B$15,2),J789,IF(L789=\"\",\"\",\"-\"),L789,IF(N789=\"\",\"\",\"_\"),N789,IF(P789=\"\",\"\",(CONCATENATE(\"_\",P789)))))","v":""},{"$nulls":14},{"$f":"IF(LEN('1 - Opstart Importark'!$B$6)>0,'1 - Opstart Importark'!$B$6,\"\")","v":""},{"$f":"IF(LEN('1 - Opstart Importark'!$B$9)>0,'1 - Opstart Importark'!$B$9,\"\")","v":""},{"$nulls":19},0,"","objektnogle_"]
[778,null,{"$f":"IF('1 - Opstart Importark'!$B$6=\"\",\"\",CONCATENATE('Blokke - AMV'!$B$2,LEFT('1 - Opstart Importark'!$B$15,2),J790,IF(L790=\"\",\"\",\"-\"),L790,IF(N790=\"\",\"\",\"_\"),N790,IF(P790=\"\",\"\",(CONCATENATE(\"_\",P790)))))","v":""},{"$nulls":14},{"$f":"IF(LEN('1 - Opstart Importark'!$B$6)>0,'1 - Opstart Importark'!$B$6,\"\")","v":""},{"$f":"IF(LEN('1 - Opstart Importark'!$B$9)>0,'1 - Opstart Importark'!$B$9,\"\")","v":""},{"$nulls":19},0,"","objektnogle_"]
[779,null,{"$f":"IF('1 - Opstart Importark'!$B$6=\"\",\"\",CONCATENATE('Blokke - AMV'!$B$2,LEFT('1 - Opstart Importark'!$B$15,2),J791,IF(L791=\"\",\"\",\"-\"),L791,IF(N791=\"\",\"\",\"_\"),N791,IF(P791=\"\",\"\",(CONCATENATE(\"_\",P791)))))","v":""},{"$nulls":14},{"$f":"IF(LEN('1 - Opstart Importark'!$B$6)>0,'1 - Opstart Importark'!$B$6,\"\")","v":""},{"$f":"IF(LEN('1 - Opstart Importark'!$B$9)>0,'1 - Opstart Importark'!$B$9,\"\")","v":""},{"$nulls":19},0,"","objektnogle_"]
[780,null,{"$f":"IF('1 - Opstart Importark'!$B$6=\"\",\"\",CONCATENATE('Blokke - AMV'!$B$2,LEFT('1 - Opstart Importark'!$B$15,2),J792,IF(L792=\"\",\"\",\"-\"),L792,IF(N792=\"\",\"\",\"_\"),N792,IF(P792=\"\",\"\",(CONCATENATE(\"_\",P792)))))","v":""},{"$nulls":14},{"$f":"IF(LEN('1 - Opstart Importark'!$B$6)>0,'1 - Opstart Importark'!$B$6,\"\")","v":""},{"$f":"IF(LEN('1 - Opstart Importark'!$B$9)>0,'1 - Opstart Importark'!$B$9,\"\")","v":""},{"$nulls":19},0,"","objektnogle_"]
[781,null,{"$f":"IF('1 - Opstart Importark'!$B$6=\"\",\"\",CONCATENATE('Blokke - AMV'!$B$2,LEFT('1 - Opstart Importark'!$B$15,2),J793,IF(L793=\"\",\"\",\"-\"),L793,IF(N793=\"\",\"\",\"_\"),N793,IF(P793=\"\",\"\",(CONCATENATE(\"_\",P793)))))","v":""},{"$nulls":14},{"$f":"IF(LEN('1 - Opstart Importark'!$B$6)>0,'1 - Opstart Importark'!$B$6,\"\")","v":""},{"$f":"IF(LEN('1 - Opstart Importark'!$B$9)>0,'1 - Opstart Importark'!$B$9,\"\")","v":""},{"$nulls":19},0,"","objektnogle_"]
[782,null,{"$f":"IF('1 - Opstart Importark'!$B$6=\"\",\"\",CONCATENATE('Blokke - AMV'!$B$2,LEFT('1 - Opstart Importark'!$B$15,2),J794,IF(L794=\"\",\"\",\"-\"),L794,IF(N794=\"\",\"\",\"_\"),N794,IF(P794=\"\",\"\",(CONCATENATE(\"_\",P794)))))","v":""},{"$nulls":14},{"$f":"IF(LEN('1 - Opstart Importark'!$B$6)>0,'1 - Opstart Importark'!$B$6,\"\")","v":""},{"$f":"IF(LEN('1 - Opstart Importark'!$B$9)>0,'1 - Opstart Importark'!$B$9,\"\")","v":""},{"$nulls":19},0,"","objektnogle_"]
[783,null,{"$f":"IF('1 - Opstart Importark'!$B$6=\"\",\"\",CONCATENATE('Blokke - AMV'!$B$2,LEFT('1 - Opstart Importark'!$B$15,2),J795,IF(L795=\"\",\"\",\"-\"),L795,IF(N795=\"\",\"\",\"_\"),N795,IF(P795=\"\",\"\",(CONCATENATE(\"_\",P795)))))","v":""},{"$nulls":14},{"$f":"IF(LEN('1 - Opstart Importark'!$B$6)>0,'1 - Opstart Importark'!$B$6,\"\")","v":""},{"$f":"IF(LEN('1 - Opstart Importark'!$B$9)>0,'1 - Opstart Importark'!$B$9,\"\")","v":""},{"$nulls":19},0,"","objektnogle_"]
[784,null,{"$f":"IF('1 - Opstart Importark'!$B$6=\"\",\"\",CONCATENATE('Blokke - AMV'!$B$2,LEFT('1 - Opstart Importark'!$B$15,2),J796,IF(L796=\"\",\"\",\"-\"),L796,IF(N796=\"\",\"\",\"_\"),N796,IF(P796=\"\",\"\",(CONCATENATE(\"_\",P796)))))","v":""},{"$nulls":14},{"$f":"IF(LEN('1 - Opstart Importark'!$B$6)>0,'1 - Opstart Importark'!$B$6,\"\")","v":""},{"$f":"IF(LEN('1 - Opstart Importark'!$B$9)>0,'1 - Opstart Importark'!$B$9,\"\")","v":""},{"$nulls":19},0,"","objektnogle_"]
[785,null,{"$f":"IF('1 - Opstart Importark'!$B$6=\"\",\"\",CONCATENATE('Blokke - AMV'!$B$2,LEFT('1 - Opstart Importark'!$B$15,2),J797,IF(L797=\"\",\"\",\"-\"),L797,IF(N797=\"\",\"\",\"_\"),N797,IF(P797=\"\",\"\",(CONCATENATE(\"_\",P797)))))","v":""},{"$nulls":14},{"$f":"IF(LEN('1 - Opstart Importark'!$B$6)>0,'1 - Opstart Importark'!$B$6,\"\")","v":""},{"$f":"IF(LEN('1 - Opstart Importark'!$B$9)>0,'1 - Opstart Importark'!$B$9,\"\")","v":""},{"$nulls":19},0,"","objektnogle_"]
[786,null,{"$f":"IF('1 - Opstart Importark'!$B$6=\"\",\"\",CONCATENATE('Blokke - AMV'!$B$2,LEFT('1 - Opstart Importark'!$B$15,2),J798,IF(L798=\"\",\"\",\"-\"),L798,IF(N798=\"\",\"\",\"_\"),N798,IF(P798=\"\",\"\",(CONCATENATE(\"_\",P798)))))","v":""},{"$nulls":14},{"$f":"IF(LEN('1 - Opstart Importark'!$B$6)>0,'1 - Opstart Importark'!$B$6,\"\")","v":""},{"$f":"IF(LEN('1 - Opstart Importark'!$B$9)>0,'1 - Opstart Importark'!$B$9,\"\")","v":""},{"$nulls":19},0,"","objektnogle_"]
[787,null,{"$f":"IF('1 - Opstart Importark'!$B$6=\"\",\"\",CONCATENATE('Blokke - AMV'!$B$2,LEFT('1 - Opstart Importark'!$B$15,2),J799,IF(L799=\"\",\"\",\"-\"),L799,IF(N799=\"\",\"\",\"_\"),N799,IF(P799=\"\",\"\",(CONCATENATE(\"_\",P799)))))","v":""},{"$nulls":14},{"$f":"IF(LEN('1 - Opstart Importark'!$B$6)>0,'1 - Opstart Importark'!$B$6,\"\")","v":""},{"$f":"IF(LEN('1 - Opstart Importark'!$B$9)>0,'1 - Opstart Importark'!$B$9,\"\")","v":""},{"$nulls":19},0,"","objektnogle_"]
[788,null,{"$f":"IF('1 - Opstart Importark'!$B$6=\"\",\"\",CONCATENATE('Blokke - AMV'!$B$2,LEFT('1 - Opstart Importark'!$B$15,2),J800,IF(L800=\"\",\"\",\"-\"),L800,IF(N800=\"\",\"\",\"_\"),N800,IF(P800=\"\",\"\",(CONCATENATE(\"_\",P800)))))","v":""},{"$nulls":14},{"$f":"IF(LEN('1 - Opstart Importark'!$B$6)>0,'1 - Opstart Importark'!$B$6,\"\")","v":""},{"$f":"IF(LEN('1 - Opstart Importark'!$B$9)>0,'1 - Opstart Importark'!$B$9,\"\")","v":""},{"$nulls":19},0,"","objektnogle_"]
[789,null,{"$f":"IF('1 - Opstart Importark'!$B$6=\"\",\"\",CONCATENATE('Blokke - AMV'!$B$2,LEFT('1 - Opstart Importark'!$B$15,2),J801,IF(L801=\"\",\"\",\"-\"),L801,IF(N801=\"\",\"\",\"_\"),N801,IF(P801=\"\",\"\",(CONCATENATE(\"_\",P801)))))","v":""},{"$nulls":14},{"$f":"IF(LEN('1 - Opstart Importark'!$B$6)>0,'1 - Opstart Importark'!$B$6,\"\")","v":""},{"$f":"IF(LEN('1 - Opstart Importark'!$B$9)>0,'1 - Opstart Importark'!$B$9,\"\")","v":""},{"$nulls":19},0,"","objektnogle_"]
[790,null,{"$f":"IF('1 - Opstart Importark'!$B$6=\"\",\"\",CONCATENATE('Blokke - AMV'!$B$2,LEFT('1 - Opstart Importark'!$B$15,2),J802,IF(L802=\"\",\"\",\"-\"),L802,IF(N802=\"\",\"\",\"_\"),N802,IF(P802=\"\",\"\",(CONCATENATE(\"_\",P802)))))","v":""},{"$nulls":14},{"$f":"IF(LEN('1 - Opstart Importark'!$B$6)>0,'1 - Opstart Importark'!$B$6,\"\")","v":""},{"$f":"IF(LEN('1 - Opstart Importark'!$B$9)>0,'1 - Opstart Importark'!$B$9,\"\")","v":""},{"$nulls":19},0,"","objektnogle_"]
[791,null,{"$f":"IF('1 - Opstart Importark'!$B$6=\"\",\"\",CONCATENATE('Blokke - AMV'!$B$2,LEFT('1 - Opstart Importark'!$B$15,2),J803,IF(L803=\"\",\"\",\"-\"),L803,IF(N803=\"\",\"\",\"_\"),N803,IF(P803=\"\",\"\",(CONCATENATE(\"_\",P803)))))","v":""},{"$nulls":14},{"$f":"IF(LEN('1 - Opstart Importark'!$B$6)>0,'1 - Opstart Importark'!$B$6,\"\")","v":""},{"$f":"IF(LEN('1 - Opstart Importark'!$B$9)>0,'1 - Opstart Importark'!$B$9,\"\")","v":""},{"$nulls":19},0,"","objektnogle_"]
[792,null,{"$f":"IF('1 - Opstart Importark'!$B$6=\"\",\"\",CONCATENATE('Blokke - AMV'!$B$2,LEFT('1 - Opstart Importark'!$B$15,2),J804,IF(L804=\"\",\"\",\"-\"),L804,IF(N804=\"\",\"\",\"_\"),N804,IF(P804=\"\",\"\",(CONCATENATE(\"_\",P804)))))","v":""},{"$nulls":14},{"$f":"IF(LEN('1 - Opstart Importark'!$B$6)>0,'1 - Opstart Importark'!$B$6,\"\")","v":""},{"$f":"IF(LEN('1 - Opstart Importark'!$B$9)>0,'1 - Opstart Importark'!$B$9,\"\")","v":""},{"$nulls":19},0,"","objektnogle_"]
[793,null,{"$f":"IF('1 - Opstart Importark'!$B$6=\"\",\"\",CONCATENATE('Blokke - AMV'!$B$2,LEFT('1 - Opstart Importark'!$B$15,2),J805,IF(L805=\"\",\"\",\"-\"),L805,IF(N805=\"\",\"\",\"_\"),N805,IF(P805=\"\",\"\",(CONCATENATE(\"_\",P805)))))","v":""},{"$nulls":14},{"$f":"IF(LEN('1 - Opstart Importark'!$B$6)>0,'1 - Opstart Importark'!$B$6,\"\")","v":""},{"$f":"IF(LEN('1 - Opstart Importark'!$B$9)>0,'1 - Opstart Importark'!$B$9,\"\")","v":""},{"$nulls":19},0,"","objektnogle_"]
[794,null,{"$f":"IF('1 - Opstart Importark'!$B$6=\"\",\"\",CONCATENATE('Blokke - AMV'!$B$2,LEFT('1 - Opstart Importark'!$B$15,2),J806,IF(L806=\"\",\"\",\"-\"),L806,IF(N806=\"\",\"\",\"_\"),N806,IF(P806=\"\",\"\",(CONCATENATE(\"_\",P806)))))","v":""},{"$nulls":14},{"$f":"IF(LEN('1 - Opstart Importark'!$B$6)>0,'1 - Opstart Importark'!$B$6,\"\")","v":""},{"$f":"IF(LEN('1 - Opstart Importark'!$B$9)>0,'1 - Opstart Importark'!$B$9,\"\")","v":""},{"$nulls":19},0,"","objektnogle_"]
[795,null,{"$f":"IF('1 - Opstart Importark'!$B$6=\"\",\"\",CONCATENATE('Blokke - AMV'!$B$2,LEFT('1 - Opstart Importark'!$B$15,2),J807,IF(L807=\"\",\"\",\"-\"),L807,IF(N807=\"\",\"\",\"_\"),N807,IF(P807=\"\",\"\",(CONCATENATE(\"_\",P807)))))","v":""},{"$nulls":14},{"$f":"IF(LEN('1 - Opstart Importark'!$B$6)>0,'1 - Opstart Importark'!$B$6,\"\")","v":""},{"$f":"IF(LEN('1 - Opstart Importark'!$B$9)>0,'1 - Opstart Importark'!$B$9,\"\")","v":""},{"$nulls":19},0,"","objektnogle_"]
[796,null,{"$f":"IF('1 - Opstart Importark'!$B$6=\"\",\"\",CONCATENATE('Blokke - AMV'!$B$2,LEFT('1 - Opstart Importark'!$B$15,2),J808,IF(L808=\"\",\"\",\"-\"),L808,IF(N808=\"\",\"\",\"_\"),N808,IF(P808=\"\",\"\",(CONCATENATE(\"_\",P808)))))","v":""},{"$nulls":14},{"$f":"IF(LEN('1 - Opstart Importark'!$B$6)>0,'1 - Opstart Importark'!$B$6,\"\")","v":""},{"$f":"IF(LEN('1 - Opstart Importark'!$B$9)>0,'1 - Opstart Importark'!$B$9,\"\")","v":""},{"$nulls":19},0,"","objektnogle_"]
[797,null,{"$f":"IF('1 - Opstart Importark'!$B$6=\"\",\"\",CONCATENATE('Blokke - AMV'!$B$2,LEFT('1 - Opstart Importark'!$B$15,2),J809,IF(L809=\"\",\"\",\"-\"),L809,IF(N809=\"\",\"\",\"_\"),N809,IF(P809=\"\",\"\",(CONCATENATE(\"_\",P809)))))","v":""},{"$nulls":14},{"$f":"IF(LEN('1 - Opstart Importark'!$B$6)>0,'1 - Opstart Importark'!$B$6,\"\")","v":""},{"$f":"IF(LEN('1 - Opstart Importark'!$B$9)>0,'1 - Opstart Importark'!$B$9,\"\")","v":""},{"$nulls":19},0,"","objektnogle_"]
[798,null,{"$f":"IF('1 - Opstart Importark'!$B$6=\"\",\"\",CONCATENATE('Blokke - AMV'!$B$2,LEFT('1 - Opstart Importark'!$B$15,2),J810,IF(L810=\"\",\"\",\"-\"),L810,IF(N810=\"\",\"\",\"_\"),N810,IF(P810=\"\",\"\",(CONCATENATE(\"_\",P810)))))","v":""},{"$nulls":14},{"$f":"IF(LEN('1 - Opstart Importark'!$B$6)>0,'1 - Opstart Importark'!$B$6,\"\")","v":""},{"$f":"IF(LEN('1 - Opstart Importark'!$B$9)>0,'1 - Opstart Importark'!$B$9,\"\")","v":""},{"$nulls":19},0,"","objektnogle_"]
[799,null,{"$f":"IF('1 - Opstart Importark'!$B$6=\"\",\"\",CONCATENATE('Blokke - AMV'!$B$2,LEFT('1 - Opstart Importark'!$B$15,2),J811,IF(L811=\"\",\"\",\"-\"),L811,IF(N811=\"\",\"\",\"_\"),N811,IF(P811=\"\",\"\",(CONCATENATE(\"_\",P811)))))","v":""},{"$nulls":14},{"$f":"IF(LEN('1 - Opstart Importark'!$B$6)>0,'1 - Opstart Importark'!$B$6,\"\")","v":""},{"$f":"IF(LEN('1 - Opstart Importark'!$B$9)>0,'1 - Opstart Importark'!$B$9,\"\")","v":""},{"$nulls":19},0,"","objektnogle_"]
[800,null,{"$f":"IF('1 - Opstart Importark'!$B$6=\"\",\"\",CONCATENATE('Blokke - AMV'!$B$2,LEFT('1 - Opstart Importark'!$B$15,2),J812,IF(L812=\"\",\"\",\"-\"),L812,IF(N812=\"\",\"\",\"_\"),N812,IF(P812=\"\",\"\",(CONCATENATE(\"_\",P812)))))","v":""},{"$nulls":14},{"$f":"IF(LEN('1 - Opstart Importark'!$B$6)>0,'1 - Opstart Importark'!$B$6,\"\")","v":""},{"$f":"IF(LEN('1 - Opstart Importark'!$B$9)>0,'1 - Opstart Importark'!$B$9,\"\")","v":""},{"$nulls":19},0,"","objektnogle_"]
[801,null,{"$f":"IF('1 - Opstart Importark'!$B$6=\"\",\"\",CONCATENATE('Blokke - AMV'!$B$2,LEFT('1 - Opstart Importark'!$B$15,2),J813,IF(L813=\"\",\"\",\"-\"),L813,IF(N813=\"\",\"\",\"_\"),N813,IF(P813=\"\",\"\",(CONCATENATE(\"_\",P813)))))","v":""},{"$nulls":14},{"$f":"IF(LEN('1 - Opstart Importark'!$B$6)>0,'1 - Opstart Importark'!$B$6,\"\")","v":""},{"$f":"IF(LEN('1 - Opstart Importark'!$B$9)>0,'1 - Opstart Importark'!$B$9,\"\")","v":""},{"$nulls":19},0,"","objektnogle_"]
[802,null,{"$f":"IF('1 - Opstart Importark'!$B$6=\"\",\"\",CONCATENATE('Blokke - AMV'!$B$2,LEFT('1 - Opstart Importark'!$B$15,2),J814,IF(L814=\"\",\"\",\"-\"),L814,IF(N814=\"\",\"\",\"_\"),N814,IF(P814=\"\",\"\",(CONCATENATE(\"_\",P814)))))","v":""},{"$nulls":14},{"$f":"IF(LEN('1 - Opstart Importark'!$B$6)>0,'1 - Opstart Importark'!$B$6,\"\")","v":""},{"$f":"IF(LEN('1 - Opstart Importark'!$B$9)>0,'1 - Opstart Importark'!$B$9,\"\")","v":""},{"$nulls":19},0,"","objektnogle_"]
[803,null,{"$f":"IF('1 - Opstart Importark'!$B$6=\"\",\"\",CONCATENATE('Blokke - AMV'!$B$2,LEFT('1 - Opstart Importark'!$B$15,2),J815,IF(L815=\"\",\"\",\"-\"),L815,IF(N815=\"\",\"\",\"_\"),N815,IF(P815=\"\",\"\",(CONCATENATE(\"_\",P815)))))","v":""},{"$nulls":14},{"$f":"IF(LEN('1 - Opstart Importark'!$B$6)>0,'1 - Opstart Importark'!$B$6,\"\")","v":""},{"$f":"IF(LEN('1 - Opstart Importark'!$B$9)>0,'1 - Opstart Importark'!$B$9,\"\")","v":""},{"$nulls":19},0,"","objektnogle_"]
[804,null,{"$f":"IF('1 - Opstart Importark'!$B$6=\"\",\"\",CONCATENATE('Blokke - AMV'!$B$2,LEFT('1 - Opstart Importark'!$B$15,2),J816,IF(L816=\"\",\"\",\"-\"),L816,IF(N816=\"\",\"\",\"_\"),N816,IF(P816=\"\",\"\",(CONCATENATE(\"_\",P816)))))","v":""},{"$nulls":14},{"$f":"IF(LEN('1 - Opstart Importark'!$B$6)>0,'1 - Opstart Importark'!$B$6,\"\")","v":""},{"$f":"IF(LEN('1 - Opstart Importark'!$B$9)>0,'1 - Opstart Importark'!$B$9,\"\")","v":""},{"$nulls":19},0,"","objektnogle_"]
[805,null,{"$f":"IF('1 - Opstart Importark'!$B$6=\"\",\"\",CONCATENATE('Blokke - AMV'!$B$2,LEFT('1 - Opstart Importark'!$B$15,2),J817,IF(L817=\"\",\"\",\"-\"),L817,IF(N817=\"\",\"\",\"_\"),N817,IF(P817=\"\",\"\",(CONCATENATE(\"_\",P817)))))","v":""},{"$nulls":14},{"$f":"IF(LEN('1 - Opstart Importark'!$B$6)>0,'1 - Opstart Importark'!$B$6,\"\")","v":""},{"$f":"IF(LEN('1 - Opstart Importark'!$B$9)>0,'1 - Opstart Importark'!$B$9,\"\")","v":""},{"$nulls":19},0,"","objektnogle_"]
[806,null,{"$f":"IF('1 - Opstart Importark'!$B$6=\"\",\"\",CONCATENATE('Blokke - AMV'!$B$2,LEFT('1 - Opstart Importark'!$B$15,2),J818,IF(L818=\"\",\"\",\"-\"),L818,IF(N818=\"\",\"\",\"_\"),N818,IF(P818=\"\",\"\",(CONCATENATE(\"_\",P818)))))","v":""},{"$nulls":14},{"$f":"IF(LEN('1 - Opstart Importark'!$B$6)>0,'1 - Opstart Importark'!$B$6,\"\")","v":""},{"$f":"IF(LEN('1 - Opstart Importark'!$B$9)>0,'1 - Opstart Importark'!$B$9,\"\")","v":""},{"$nulls":19},0,"","objektnogle_"]
[807,null,{"$f":"IF('1 - Opstart Importark'!$B$6=\"\",\"\",CONCATENATE('Blokke - AMV'!$B$2,LEFT('1 - Opstart Importark'!$B$15,2),J819,IF(L819=\"\",\"\",\"-\"),L819,IF(N819=\"\",\"\",\"_\"),N819,IF(P819=\"\",\"\",(CONCATENATE(\"_\",P819)))))","v":""},{"$nulls":14},{"$f":"IF(LEN('1 - Opstart Importark'!$B$6)>0,'1 - Opstart Importark'!$B$6,\"\")","v":""},{"$f":"IF(LEN('1 - Opstart Importark'!$B$9)>0,'1 - Opstart Importark'!$B$9,\"\")","v":""},{"$nulls":19},0,"","objektnogle_"]
[808,null,{"$f":"IF('1 - Opstart Importark'!$B$6=\"\",\"\",CONCATENATE('Blokke - AMV'!$B$2,LEFT('1 - Opstart Importark'!$B$15,2),J820,IF(L820=\"\",\"\",\"-\"),L820,IF(N820=\"\",\"\",\"_\"),N820,IF(P820=\"\",\"\",(CONCATENATE(\"_\",P820)))))","v":""},{"$nulls":14},{"$f":"IF(LEN('1 - Opstart Importark'!$B$6)>0,'1 - Opstart Importark'!$B$6,\"\")","v":""},{"$f":"IF(LEN('1 - Opstart Importark'!$B$9)>0,'1 - Opstart Importark'!$B$9,\"\")","v":""},{"$nulls":19},0,"","objektnogle_"]
[809,null,{"$f":"IF('1 - Opstart Importark'!$B$6=\"\",\"\",CONCATENATE('Blokke - AMV'!$B$2,LEFT('1 - Opstart Importark'!$B$15,2),J821,IF(L821=\"\",\"\",\"-\"),L821,IF(N821=\"\",\"\",\"_\"),N821,IF(P821=\"\",\"\",(CONCATENATE(\"_\",P821)))))","v":""},{"$nulls":14},{"$f":"IF(LEN('1 - Opstart Importark'!$B$6)>0,'1 - Opstart Importark'!$B$6,\"\")","v":""},{"$f":"IF(LEN('1 - Opstart Importark'!$B$9)>0,'1 - Opstart Importark'!$B$9,\"\")","v":""},{"$nulls":19},0,"","objektnogle_"]
[810,null,{"$f":"IF('1 - Opstart Importark'!$B$6=\"\",\"\",CONCATENATE('Blokke - AMV'!$B$2,LEFT('1 - Opstart Importark'!$B$15,2),J822,IF(L822=\"\",\"\",\"-\"),L822,IF(N822=\"\",\"\",\"_\"),N822,IF(P822=\"\",\"\",(CONCATENATE(\"_\",P822)))))","v":""},{"$nulls":14},{"$f":"IF(LEN('1 - Opstart Importark'!$B$6)>0,'1 - Opstart Importark'!$B$6,\"\")","v":""},{"$f":"IF(LEN('1 - Opstart Importark'!$B$9)>0,'1 - Opstart Importark'!$B$9,\"\")","v":""},{"$nulls":19},0,"","objektnogle_"]
[811,null,{"$f":"IF('1 - Opstart Importark'!$B$6=\"\",\"\",CONCATENATE('Blokke - AMV'!$B$2,LEFT('1 - Opstart Importark'!$B$15,2),J823,IF(L823=\"\",\"\",\"-\"),L823,IF(N823=\"\",\"\",\"_\"),N823,IF(P823=\"\",\"\",(CONCATENATE(\"_\",P823)))))","v":""},{"$nulls":14},{"$f":"IF(LEN('1 - Opstart Importark'!$B$6)>0,'1 - Opstart Importark'!$B$6,\"\")","v":""},{"$f":"IF(LEN('1 - Opstart Importark'!$B$9)>0,'1 - Opstart Importark'!$B$9,\"\")","v":""},{"$nulls":19},0,"","objektnogle_"]
[812,null,{"$f":"IF('1 - Opstart Importark'!$B$6=\"\",\"\",CONCATENATE('Blokke - AMV'!$B$2,LEFT('1 - Opstart Importark'!$B$15,2),J824,IF(L824=\"\",\"\",\"-\"),L824,IF(N824=\"\",\"\",\"_\"),N824,IF(P824=\"\",\"\",(CONCATENATE(\"_\",P824)))))","v":""},{"$nulls":14},{"$f":"IF(LEN('1 - Opstart Importark'!$B$6)>0,'1 - Opstart Importark'!$B$6,\"\")","v":""},{"$f":"IF(LEN('1 - Opstart Importark'!$B$9)>0,'1 - Opstart Importark'!$B$9,\"\")","v":""},{"$nulls":19},0,"","objektnogle_"]
[813,null,{"$f":"IF('1 - Opstart Importark'!$B$6=\"\",\"\",CONCATENATE('Blokke - AMV'!$B$2,LEFT('1 - Opstart Importark'!$B$15,2),J825,IF(L825=\"\",\"\",\"-\"),L825,IF(N825=\"\",\"\",\"_\"),N825,IF(P825=\"\",\"\",(CONCATENATE(\"_\",P825)))))","v":""},{"$nulls":14},{"$f":"IF(LEN('1 - Opstart Importark'!$B$6)>0,'1 - Opstart Importark'!$B$6,\"\")","v":""},{"$f":"IF(LEN('1 - Opstart Importark'!$B$9)>0,'1 - Opstart Importark'!$B$9,\"\")","v":""},{"$nulls":19},0,"","objektnogle_"]
[814,null,{"$f":"IF('1 - Opstart Importark'!$B$6=\"\",\"\",CONCATENATE('Blokke - AMV'!$B$2,LEFT('1 - Opstart Importark'!$B$15,2),J826,IF(L826=\"\",\"\",\"-\"),L826,IF(N826=\"\",\"\",\"_\"),N826,IF(P826=\"\",\"\",(CONCATENATE(\"_\",P826)))))","v":""},{"$nulls":14},{"$f":"IF(LEN('1 - Opstart Importark'!$B$6)>0,'1 - Opstart Importark'!$B$6,\"\")","v":""},{"$f":"IF(LEN('1 - Opstart Importark'!$B$9)>0,'1 - Opstart Importark'!$B$9,\"\")","v":""},{"$nulls":19},0,"","objektnogle_"]
[815,null,{"$f":"IF('1 - Opstart Importark'!$B$6=\"\",\"\",CONCATENATE('Blokke - AMV'!$B$2,LEFT('1 - Opstart Importark'!$B$15,2),J827,IF(L827=\"\",\"\",\"-\"),L827,IF(N827=\"\",\"\",\"_\"),N827,IF(P827=\"\",\"\",(CONCATENATE(\"_\",P827)))))","v":""},{"$nulls":14},{"$f":"IF(LEN('1 - Opstart Importark'!$B$6)>0,'1 - Opstart Importark'!$B$6,\"\")","v":""},{"$f":"IF(LEN('1 - Opstart Importark'!$B$9)>0,'1 - Opstart Importark'!$B$9,\"\")","v":""},{"$nulls":19},0,"","objektnogle_"]
[816,null,{"$f":"IF('1 - Opstart Importark'!$B$6=\"\",\"\",CONCATENATE('Blokke - AMV'!$B$2,LEFT('1 - Opstart Importark'!$B$15,2),J828,IF(L828=\"\",\"\",\"-\"),L828,IF(N828=\"\",\"\",\"_\"),N828,IF(P828=\"\",\"\",(CONCATENATE(\"_\",P828)))))","v":""},{"$nulls":14},{"$f":"IF(LEN('1 - Opstart Importark'!$B$6)>0,'1 - Opstart Importark'!$B$6,\"\")","v":""},{"$f":"IF(LEN('1 - Opstart Importark'!$B$9)>0,'1 - Opstart Importark'!$B$9,\"\")","v":""},{"$nulls":19},0,"","objektnogle_"]
[817,null,{"$f":"IF('1 - Opstart Importark'!$B$6=\"\",\"\",CONCATENATE('Blokke - AMV'!$B$2,LEFT('1 - Opstart Importark'!$B$15,2),J829,IF(L829=\"\",\"\",\"-\"),L829,IF(N829=\"\",\"\",\"_\"),N829,IF(P829=\"\",\"\",(CONCATENATE(\"_\",P829)))))","v":""},{"$nulls":14},{"$f":"IF(LEN('1 - Opstart Importark'!$B$6)>0,'1 - Opstart Importark'!$B$6,\"\")","v":""},{"$f":"IF(LEN('1 - Opstart Importark'!$B$9)>0,'1 - Opstart Importark'!$B$9,\"\")","v":""},{"$nulls":19},0,"","objektnogle_"]
[818,null,{"$f":"IF('1 - Opstart Importark'!$B$6=\"\",\"\",CONCATENATE('Blokke - AMV'!$B$2,LEFT('1 - Opstart Importark'!$B$15,2),J830,IF(L830=\"\",\"\",\"-\"),L830,IF(N830=\"\",\"\",\"_\"),N830,IF(P830=\"\",\"\",(CONCATENATE(\"_\",P830)))))","v":""},{"$nulls":14},{"$f":"IF(LEN('1 - Opstart Importark'!$B$6)>0,'1 - Opstart Importark'!$B$6,\"\")","v":""},{"$f":"IF(LEN('1 - Opstart Importark'!$B$9)>0,'1 - Opstart Importark'!$B$9,\"\")","v":""},{"$nulls":19},0,"","objektnogle_"]
[819,null,{"$f":"IF('1 - Opstart Importark'!$B$6=\"\",\"\",CONCATENATE('Blokke - AMV'!$B$2,LEFT('1 - Opstart Importark'!$B$15,2),J831,IF(L831=\"\",\"\",\"-\"),L831,IF(N831=\"\",\"\",\"_\"),N831,IF(P831=\"\",\"\",(CONCATENATE(\"_\",P831)))))","v":""},{"$nulls":14},{"$f":"IF(LEN('1 - Opstart Importark'!$B$6)>0,'1 - Opstart Importark'!$B$6,\"\")","v":""},{"$f":"IF(LEN('1 - Opstart Importark'!$B$9)>0,'1 - Opstart Importark'!$B$9,\"\")","v":""},{"$nulls":19},0,"","objektnogle_"]
[820,null,{"$f":"IF('1 - Opstart Importark'!$B$6=\"\",\"\",CONCATENATE('Blokke - AMV'!$B$2,LEFT('1 - Opstart Importark'!$B$15,2),J832,IF(L832=\"\",\"\",\"-\"),L832,IF(N832=\"\",\"\",\"_\"),N832,IF(P832=\"\",\"\",(CONCATENATE(\"_\",P832)))))","v":""},{"$nulls":14},{"$f":"IF(LEN('1 - Opstart Importark'!$B$6)>0,'1 - Opstart Importark'!$B$6,\"\")","v":""},{"$f":"IF(LEN('1 - Opstart Importark'!$B$9)>0,'1 - Opstart Importark'!$B$9,\"\")","v":""},{"$nulls":19},0,"","objektnogle_"]
[821,null,{"$f":"IF('1 - Opstart Importark'!$B$6=\"\",\"\",CONCATENATE('Blokke - AMV'!$B$2,LEFT('1 - Opstart Importark'!$B$15,2),J833,IF(L833=\"\",\"\",\"-\"),L833,IF(N833=\"\",\"\",\"_\"),N833,IF(P833=\"\",\"\",(CONCATENATE(\"_\",P833)))))","v":""},{"$nulls":14},{"$f":"IF(LEN('1 - Opstart Importark'!$B$6)>0,'1 - Opstart Importark'!$B$6,\"\")","v":""},{"$f":"IF(LEN('1 - Opstart Importark'!$B$9)>0,'1 - Opstart Importark'!$B$9,\"\")","v":""},{"$nulls":19},0,"","objektnogle_"]
[822,null,{"$f":"IF('1 - Opstart Importark'!$B$6=\"\",\"\",CONCATENATE('Blokke - AMV'!$B$2,LEFT('1 - Opstart Importark'!$B$15,2),J834,IF(L834=\"\",\"\",\"-\"),L834,IF(N834=\"\",\"\",\"_\"),N834,IF(P834=\"\",\"\",(CONCATENATE(\"_\",P834)))))","v":""},{"$nulls":14},{"$f":"IF(LEN('1 - Opstart Importark'!$B$6)>0,'1 - Opstart Importark'!$B$6,\"\")","v":""},{"$f":"IF(LEN('1 - Opstart Importark'!$B$9)>0,'1 - Opstart Importark'!$B$9,\"\")","v":""},{"$nulls":19},0,"","objektnogle_"]
[823,null,{"$f":"IF('1 - Opstart Importark'!$B$6=\"\",\"\",CONCATENATE('Blokke - AMV'!$B$2,LEFT('1 - Opstart Importark'!$B$15,2),J835,IF(L835=\"\",\"\",\"-\"),L835,IF(N835=\"\",\"\",\"_\"),N835,IF(P835=\"\",\"\",(CONCATENATE(\"_\",P835)))))","v":""},{"$nulls":14},{"$f":"IF(LEN('1 - Opstart Importark'!$B$6)>0,'1 - Opstart Importark'!$B$6,\"\")","v":""},{"$f":"IF(LEN('1 - Opstart Importark'!$B$9)>0,'1 - Opstart Importark'!$B$9,\"\")","v":""},{"$nulls":19},0,"","objektnogle_"]
[824,null,{"$f":"IF('1 - Opstart Importark'!$B$6=\"\",\"\",CONCATENATE('Blokke - AMV'!$B$2,LEFT('1 - Opstart Importark'!$B$15,2),J836,IF(L836=\"\",\"\",\"-\"),L836,IF(N836=\"\",\"\",\"_\"),N836,IF(P836=\"\",\"\",(CONCATENATE(\"_\",P836)))))","v":""},{"$nulls":14},{"$f":"IF(LEN('1 - Opstart Importark'!$B$6)>0,'1 - Opstart Importark'!$B$6,\"\")","v":""},{"$f":"IF(LEN('1 - Opstart Importark'!$B$9)>0,'1 - Opstart Importark'!$B$9,\"\")","v":""},{"$nulls":19},0,"","objektnogle_"]
[825,null,{"$f":"IF('1 - Opstart Importark'!$B$6=\"\",\"\",CONCATENATE('Blokke - AMV'!$B$2,LEFT('1 - Opstart Importark'!$B$15,2),J837,IF(L837=\"\",\"\",\"-\"),L837,IF(N837=\"\",\"\",\"_\"),N837,IF(P837=\"\",\"\",(CONCATENATE(\"_\",P837)))))","v":""},{"$nulls":14},{"$f":"IF(LEN('1 - Opstart Importark'!$B$6)>0,'1 - Opstart Importark'!$B$6,\"\")","v":""},{"$f":"IF(LEN('1 - Opstart Importark'!$B$9)>0,'1 - Opstart Importark'!$B$9,\"\")","v":""},{"$nulls":19},0,"","objektnogle_"]
[826,null,{"$f":"IF('1 - Opstart Importark'!$B$6=\"\",\"\",CONCATENATE('Blokke - AMV'!$B$2,LEFT('1 - Opstart Importark'!$B$15,2),J838,IF(L838=\"\",\"\",\"-\"),L838,IF(N838=\"\",\"\",\"_\"),N838,IF(P838=\"\",\"\",(CONCATENATE(\"_\",P838)))))","v":""},{"$nulls":14},{"$f":"IF(LEN('1 - Opstart Importark'!$B$6)>0,'1 - Opstart Importark'!$B$6,\"\")","v":""},{"$f":"IF(LEN('1 - Opstart Importark'!$B$9)>0,'1 - Opstart Importark'!$B$9,\"\")","v":""},{"$nulls":19},0,"","objektnogle_"]
[827,null,{"$f":"IF('1 - Opstart Importark'!$B$6=\"\",\"\",CONCATENATE('Blokke - AMV'!$B$2,LEFT('1 - Opstart Importark'!$B$15,2),J839,IF(L839=\"\",\"\",\"-\"),L839,IF(N839=\"\",\"\",\"_\"),N839,IF(P839=\"\",\"\",(CONCATENATE(\"_\",P839)))))","v":""},{"$nulls":14},{"$f":"IF(LEN('1 - Opstart Importark'!$B$6)>0,'1 - Opstart Importark'!$B$6,\"\")","v":""},{"$f":"IF(LEN('1 - Opstart Importark'!$B$9)>0,'1 - Opstart Importark'!$B$9,\"\")","v":""},{"$nulls":19},0,"","objektnogle_"]
[828,null,{"$f":"IF('1 - Opstart Importark'!$B$6=\"\",\"\",CONCATENATE('Blokke - AMV'!$B$2,LEFT('1 - Opstart Importark'!$B$15,2),J840,IF(L840=\"\",\"\",\"-\"),L840,IF(N840=\"\",\"\",\"_\"),N840,IF(P840=\"\",\"\",(CONCATENATE(\"_\",P840)))))","v":""},{"$nulls":14},{"$f":"IF(LEN('1 - Opstart Importark'!$B$6)>0,'1 - Opstart Importark'!$B$6,\"\")","v":""},{"$f":"IF(LEN('1 - Opstart Importark'!$B$9)>0,'1 - Opstart Importark'!$B$9,\"\")","v":""},{"$nulls":19},0,"","objektnogle_"]
[829,null,{"$f":"IF('1 - Opstart Importark'!$B$6=\"\",\"\",CONCATENATE('Blokke - AMV'!$B$2,LEFT('1 - Opstart Importark'!$B$15,2),J841,IF(L841=\"\",\"\",\"-\"),L841,IF(N841=\"\",\"\",\"_\"),N841,IF(P841=\"\",\"\",(CONCATENATE(\"_\",P841)))))","v":""},{"$nulls":14},{"$f":"IF(LEN('1 - Opstart Importark'!$B$6)>0,'1 - Opstart Importark'!$B$6,\"\")","v":""},{"$f":"IF(LEN('1 - Opstart Importark'!$B$9)>0,'1 - Opstart Importark'!$B$9,\"\")","v":""},{"$nulls":19},0,"","objektnogle_"]
[830,null,{"$f":"IF('1 - Opstart Importark'!$B$6=\"\",\"\",CONCATENATE('Blokke - AMV'!$B$2,LEFT('1 - Opstart Importark'!$B$15,2),J842,IF(L842=\"\",\"\",\"-\"),L842,IF(N842=\"\",\"\",\"_\"),N842,IF(P842=\"\",\"\",(CONCATENATE(\"_\",P842)))))","v":""},{"$nulls":14},{"$f":"IF(LEN('1 - Opstart Importark'!$B$6)>0,'1 - Opstart Importark'!$B$6,\"\")","v":""},{"$f":"IF(LEN('1 - Opstart Importark'!$B$9)>0,'1 - Opstart Importark'!$B$9,\"\")","v":""},{"$nulls":19},0,"","objektnogle_"]
[831,null,{"$f":"IF('1 - Opstart Importark'!$B$6=\"\",\"\",CONCATENATE('Blokke - AMV'!$B$2,LEFT('1 - Opstart Importark'!$B$15,2),J843,IF(L843=\"\",\"\",\"-\"),L843,IF(N843=\"\",\"\",\"_\"),N843,IF(P843=\"\",\"\",(CONCATENATE(\"_\",P843)))))","v":""},{"$nulls":14},{"$f":"IF(LEN('1 - Opstart Importark'!$B$6)>0,'1 - Opstart Importark'!$B$6,\"\")","v":""},{"$f":"IF(LEN('1 - Opstart Importark'!$B$9)>0,'1 - Opstart Importark'!$B$9,\"\")","v":""},{"$nulls":19},0,"","objektnogle_"]
[832,null,{"$f":"IF('1 - Opstart Importark'!$B$6=\"\",\"\",CONCATENATE('Blokke - AMV'!$B$2,LEFT('1 - Opstart Importark'!$B$15,2),J844,IF(L844=\"\",\"\",\"-\"),L844,IF(N844=\"\",\"\",\"_\"),N844,IF(P844=\"\",\"\",(CONCATENATE(\"_\",P844)))))","v":""},{"$nulls":14},{"$f":"IF(LEN('1 - Opstart Importark'!$B$6)>0,'1 - Opstart Importark'!$B$6,\"\")","v":""},{"$f":"IF(LEN('1 - Opstart Importark'!$B$9)>0,'1 - Opstart Importark'!$B$9,\"\")","v":""},{"$nulls":19},0,"","objektnogle_"]
[833,null,{"$f":"IF('1 - Opstart Importark'!$B$6=\"\",\"\",CONCATENATE('Blokke - AMV'!$B$2,LEFT('1 - Opstart Importark'!$B$15,2),J845,IF(L845=\"\",\"\",\"-\"),L845,IF(N845=\"\",\"\",\"_\"),N845,IF(P845=\"\",\"\",(CONCATENATE(\"_\",P845)))))","v":""},{"$nulls":14},{"$f":"IF(LEN('1 - Opstart Importark'!$B$6)>0,'1 - Opstart Importark'!$B$6,\"\")","v":""},{"$f":"IF(LEN('1 - Opstart Importark'!$B$9)>0,'1 - Opstart Importark'!$B$9,\"\")","v":""},{"$nulls":19},{"$f":"IFERROR(FIND(\".\",G845),)","v":0},{"$f":"IF(L845=\"\",\"\",IF(LEFT(L845,1)=\"E\",0,1))","v":""},{"$f":"CONCATENATE(\"objektnogle_\",LEFT(L845,1))","v":"objektnogle_"}]
[834,null,{"$f":"IF('1 - Opstart Importark'!$B$6=\"\",\"\",CONCATENATE('Blokke - AMV'!$B$2,LEFT('1 - Opstart Importark'!$B$15,2),J846,IF(L846=\"\",\"\",\"-\"),L846,IF(N846=\"\",\"\",\"_\"),N846,IF(P846=\"\",\"\",(CONCATENATE(\"_\",P846)))))","v":""},{"$nulls":14},{"$f":"IF(LEN('1 - Opstart Importark'!$B$6)>0,'1 - Opstart Importark'!$B$6,\"\")","v":""},{"$f":"IF(LEN('1 - Opstart Importark'!$B$9)>0,'1 - Opstart Importark'!$B$9,\"\")","v":""},{"$nulls":19},0,"","objektnogle_"]
[835,null,{"$f":"IF('1 - Opstart Importark'!$B$6=\"\",\"\",CONCATENATE('Blokke - AMV'!$B$2,LEFT('1 - Opstart Importark'!$B$15,2),J847,IF(L847=\"\",\"\",\"-\"),L847,IF(N847=\"\",\"\",\"_\"),N847,IF(P847=\"\",\"\",(CONCATENATE(\"_\",P847)))))","v":""},{"$nulls":14},{"$f":"IF(LEN('1 - Opstart Importark'!$B$6)>0,'1 - Opstart Importark'!$B$6,\"\")","v":""},{"$f":"IF(LEN('1 - Opstart Importark'!$B$9)>0,'1 - Opstart Importark'!$B$9,\"\")","v":""},{"$nulls":19},0,"","objektnogle_"]
[836,null,{"$f":"IF('1 - Opstart Importark'!$B$6=\"\",\"\",CONCATENATE('Blokke - AMV'!$B$2,LEFT('1 - Opstart Importark'!$B$15,2),J848,IF(L848=\"\",\"\",\"-\"),L848,IF(N848=\"\",\"\",\"_\"),N848,IF(P848=\"\",\"\",(CONCATENATE(\"_\",P848)))))","v":""},{"$nulls":14},{"$f":"IF(LEN('1 - Opstart Importark'!$B$6)>0,'1 - Opstart Importark'!$B$6,\"\")","v":""},{"$f":"IF(LEN('1 - Opstart Importark'!$B$9)>0,'1 - Opstart Importark'!$B$9,\"\")","v":""},{"$nulls":19},0,"","objektnogle_"]
[837,null,{"$f":"IF('1 - Opstart Importark'!$B$6=\"\",\"\",CONCATENATE('Blokke - AMV'!$B$2,LEFT('1 - Opstart Importark'!$B$15,2),J849,IF(L849=\"\",\"\",\"-\"),L849,IF(N849=\"\",\"\",\"_\"),N849,IF(P849=\"\",\"\",(CONCATENATE(\"_\",P849)))))","v":""},{"$nulls":14},{"$f":"IF(LEN('1 - Opstart Importark'!$B$6)>0,'1 - Opstart Importark'!$B$6,\"\")","v":""},{"$f":"IF(LEN('1 - Opstart Importark'!$B$9)>0,'1 - Opstart Importark'!$B$9,\"\")","v":""},{"$nulls":19},0,"","objektnogle_"]
[838,null,{"$f":"IF('1 - Opstart Importark'!$B$6=\"\",\"\",CONCATENATE('Blokke - AMV'!$B$2,LEFT('1 - Opstart Importark'!$B$15,2),J850,IF(L850=\"\",\"\",\"-\"),L850,IF(N850=\"\",\"\",\"_\"),N850,IF(P850=\"\",\"\",(CONCATENATE(\"_\",P850)))))","v":""},{"$nulls":14},{"$f":"IF(LEN('1 - Opstart Importark'!$B$6)>0,'1 - Opstart Importark'!$B$6,\"\")","v":""},{"$f":"IF(LEN('1 - Opstart Importark'!$B$9)>0,'1 - Opstart Importark'!$B$9,\"\")","v":""},{"$nulls":19},0,"","objektnogle_"]
[839,null,{"$f":"IF('1 - Opstart Importark'!$B$6=\"\",\"\",CONCATENATE('Blokke - AMV'!$B$2,LEFT('1 - Opstart Importark'!$B$15,2),J851,IF(L851=\"\",\"\",\"-\"),L851,IF(N851=\"\",\"\",\"_\"),N851,IF(P851=\"\",\"\",(CONCATENATE(\"_\",P851)))))","v":""},{"$nulls":14},{"$f":"IF(LEN('1 - Opstart Importark'!$B$6)>0,'1 - Opstart Importark'!$B$6,\"\")","v":""},{"$f":"IF(LEN('1 - Opstart Importark'!$B$9)>0,'1 - Opstart Importark'!$B$9,\"\")","v":""},{"$nulls":19},0,"","objektnogle_"]
[840,null,{"$f":"IF('1 - Opstart Importark'!$B$6=\"\",\"\",CONCATENATE('Blokke - AMV'!$B$2,LEFT('1 - Opstart Importark'!$B$15,2),J852,IF(L852=\"\",\"\",\"-\"),L852,IF(N852=\"\",\"\",\"_\"),N852,IF(P852=\"\",\"\",(CONCATENATE(\"_\",P852)))))","v":""},{"$nulls":14},{"$f":"IF(LEN('1 - Opstart Importark'!$B$6)>0,'1 - Opstart Importark'!$B$6,\"\")","v":""},{"$f":"IF(LEN('1 - Opstart Importark'!$B$9)>0,'1 - Opstart Importark'!$B$9,\"\")","v":""},{"$nulls":19},0,"","objektnogle_"]
[841,null,{"$f":"IF('1 - Opstart Importark'!$B$6=\"\",\"\",CONCATENATE('Blokke - AMV'!$B$2,LEFT('1 - Opstart Importark'!$B$15,2),J853,IF(L853=\"\",\"\",\"-\"),L853,IF(N853=\"\",\"\",\"_\"),N853,IF(P853=\"\",\"\",(CONCATENATE(\"_\",P853)))))","v":""},{"$nulls":14},{"$f":"IF(LEN('1 - Opstart Importark'!$B$6)>0,'1 - Opstart Importark'!$B$6,\"\")","v":""},{"$f":"IF(LEN('1 - Opstart Importark'!$B$9)>0,'1 - Opstart Importark'!$B$9,\"\")","v":""},{"$nulls":19},0,"","objektnogle_"]
[842,null,{"$f":"IF('1 - Opstart Importark'!$B$6=\"\",\"\",CONCATENATE('Blokke - AMV'!$B$2,LEFT('1 - Opstart Importark'!$B$15,2),J854,IF(L854=\"\",\"\",\"-\"),L854,IF(N854=\"\",\"\",\"_\"),N854,IF(P854=\"\",\"\",(CONCATENATE(\"_\",P854)))))","v":""},{"$nulls":14},{"$f":"IF(LEN('1 - Opstart Importark'!$B$6)>0,'1 - Opstart Importark'!$B$6,\"\")","v":""},{"$f":"IF(LEN('1 - Opstart Importark'!$B$9)>0,'1 - Opstart Importark'!$B$9,\"\")","v":""},{"$nulls":19},0,"","objektnogle_"]
[843,null,{"$f":"IF('1 - Opstart Importark'!$B$6=\"\",\"\",CONCATENATE('Blokke - AMV'!$B$2,LEFT('1 - Opstart Importark'!$B$15,2),J855,IF(L855=\"\",\"\",\"-\"),L855,IF(N855=\"\",\"\",\"_\"),N855,IF(P855=\"\",\"\",(CONCATENATE(\"_\",P855)))))","v":""},{"$nulls":14},{"$f":"IF(LEN('1 - Opstart Importark'!$B$6)>0,'1 - Opstart Importark'!$B$6,\"\")","v":""},{"$f":"IF(LEN('1 - Opstart Importark'!$B$9)>0,'1 - Opstart Importark'!$B$9,\"\")","v":""},{"$nulls":19},0,"","objektnogle_"]
[844,null,{"$f":"IF('1 - Opstart Importark'!$B$6=\"\",\"\",CONCATENATE('Blokke - AMV'!$B$2,LEFT('1 - Opstart Importark'!$B$15,2),J856,IF(L856=\"\",\"\",\"-\"),L856,IF(N856=\"\",\"\",\"_\"),N856,IF(P856=\"\",\"\",(CONCATENATE(\"_\",P856)))))","v":""},{"$nulls":14},{"$f":"IF(LEN('1 - Opstart Importark'!$B$6)>0,'1 - Opstart Importark'!$B$6,\"\")","v":""},{"$f":"IF(LEN('1 - Opstart Importark'!$B$9)>0,'1 - Opstart Importark'!$B$9,\"\")","v":""},{"$nulls":19},0,"","objektnogle_"]
[845,null,{"$f":"IF('1 - Opstart Importark'!$B$6=\"\",\"\",CONCATENATE('Blokke - AMV'!$B$2,LEFT('1 - Opstart Importark'!$B$15,2),J857,IF(L857=\"\",\"\",\"-\"),L857,IF(N857=\"\",\"\",\"_\"),N857,IF(P857=\"\",\"\",(CONCATENATE(\"_\",P857)))))","v":""},{"$nulls":14},{"$f":"IF(LEN('1 - Opstart Importark'!$B$6)>0,'1 - Opstart Importark'!$B$6,\"\")","v":""},{"$f":"IF(LEN('1 - Opstart Importark'!$B$9)>0,'1 - Opstart Importark'!$B$9,\"\")","v":""},{"$nulls":19},0,"","objektnogle_"]
[846,null,{"$f":"IF('1 - Opstart Importark'!$B$6=\"\",\"\",CONCATENATE('Blokke - AMV'!$B$2,LEFT('1 - Opstart Importark'!$B$15,2),J858,IF(L858=\"\",\"\",\"-\"),L858,IF(N858=\"\",\"\",\"_\"),N858,IF(P858=\"\",\"\",(CONCATENATE(\"_\",P858)))))","v":""},{"$nulls":14},{"$f":"IF(LEN('1 - Opstart Importark'!$B$6)>0,'1 - Opstart Importark'!$B$6,\"\")","v":""},{"$f":"IF(LEN('1 - Opstart Importark'!$B$9)>0,'1 - Opstart Importark'!$B$9,\"\")","v":""},{"$nulls":19},0,"","objektnogle_"]
[847,null,{"$f":"IF('1 - Opstart Importark'!$B$6=\"\",\"\",CONCATENATE('Blokke - AMV'!$B$2,LEFT('1 - Opstart Importark'!$B$15,2),J859,IF(L859=\"\",\"\",\"-\"),L859,IF(N859=\"\",\"\",\"_\"),N859,IF(P859=\"\",\"\",(CONCATENATE(\"_\",P859)))))","v":""},{"$nulls":14},{"$f":"IF(LEN('1 - Opstart Importark'!$B$6)>0,'1 - Opstart Importark'!$B$6,\"\")","v":""},{"$f":"IF(LEN('1 - Opstart Importark'!$B$9)>0,'1 - Opstart Importark'!$B$9,\"\")","v":""},{"$nulls":19},0,"","objektnogle_"]
[848,null,{"$f":"IF('1 - Opstart Importark'!$B$6=\"\",\"\",CONCATENATE('Blokke - AMV'!$B$2,LEFT('1 - Opstart Importark'!$B$15,2),J860,IF(L860=\"\",\"\",\"-\"),L860,IF(N860=\"\",\"\",\"_\"),N860,IF(P860=\"\",\"\",(CONCATENATE(\"_\",P860)))))","v":""},{"$nulls":14},{"$f":"IF(LEN('1 - Opstart Importark'!$B$6)>0,'1 - Opstart Importark'!$B$6,\"\")","v":""},{"$f":"IF(LEN('1 - Opstart Importark'!$B$9)>0,'1 - Opstart Importark'!$B$9,\"\")","v":""},{"$nulls":19},0,"","objektnogle_"]
[849,null,{"$f":"IF('1 - Opstart Importark'!$B$6=\"\",\"\",CONCATENATE('Blokke - AMV'!$B$2,LEFT('1 - Opstart Importark'!$B$15,2),J861,IF(L861=\"\",\"\",\"-\"),L861,IF(N861=\"\",\"\",\"_\"),N861,IF(P861=\"\",\"\",(CONCATENATE(\"_\",P861)))))","v":""},{"$nulls":14},{"$f":"IF(LEN('1 - Opstart Importark'!$B$6)>0,'1 - Opstart Importark'!$B$6,\"\")","v":""},{"$f":"IF(LEN('1 - Opstart Importark'!$B$9)>0,'1 - Opstart Importark'!$B$9,\"\")","v":""},{"$nulls":19},0,"","objektnogle_"]
[850,null,{"$f":"IF('1 - Opstart Importark'!$B$6=\"\",\"\",CONCATENATE('Blokke - AMV'!$B$2,LEFT('1 - Opstart Importark'!$B$15,2),J862,IF(L862=\"\",\"\",\"-\"),L862,IF(N862=\"\",\"\",\"_\"),N862,IF(P862=\"\",\"\",(CONCATENATE(\"_\",P862)))))","v":""},{"$nulls":14},{"$f":"IF(LEN('1 - Opstart Importark'!$B$6)>0,'1 - Opstart Importark'!$B$6,\"\")","v":""},{"$f":"IF(LEN('1 - Opstart Importark'!$B$9)>0,'1 - Opstart Importark'!$B$9,\"\")","v":""},{"$nulls":19},0,"","objektnogle_"]
[851,null,{"$f":"IF('1 - Opstart Importark'!$B$6=\"\",\"\",CONCATENATE('Blokke - AMV'!$B$2,LEFT('1 - Opstart Importark'!$B$15,2),J863,IF(L863=\"\",\"\",\"-\"),L863,IF(N863=\"\",\"\",\"_\"),N863,IF(P863=\"\",\"\",(CONCATENATE(\"_\",P863)))))","v":""},{"$nulls":14},{"$f":"IF(LEN('1 - Opstart Importark'!$B$6)>0,'1 - Opstart Importark'!$B$6,\"\")","v":""},{"$f":"IF(LEN('1 - Opstart Importark'!$B$9)>0,'1 - Opstart Importark'!$B$9,\"\")","v":""},{"$nulls":19},0,"","objektnogle_"]
[852,null,{"$f":"IF('1 - Opstart Importark'!$B$6=\"\",\"\",CONCATENATE('Blokke - AMV'!$B$2,LEFT('1 - Opstart Importark'!$B$15,2),J864,IF(L864=\"\",\"\",\"-\"),L864,IF(N864=\"\",\"\",\"_\"),N864,IF(P864=\"\",\"\",(CONCATENATE(\"_\",P864)))))","v":""},{"$nulls":14},{"$f":"IF(LEN('1 - Opstart Importark'!$B$6)>0,'1 - Opstart Importark'!$B$6,\"\")","v":""},{"$f":"IF(LEN('1 - Opstart Importark'!$B$9)>0,'1 - Opstart Importark'!$B$9,\"\")","v":""},{"$nulls":19},0,"","objektnogle_"]
[853,null,{"$f":"IF('1 - Opstart Importark'!$B$6=\"\",\"\",CONCATENATE('Blokke - AMV'!$B$2,LEFT('1 - Opstart Importark'!$B$15,2),J865,IF(L865=\"\",\"\",\"-\"),L865,IF(N865=\"\",\"\",\"_\"),N865,IF(P865=\"\",\"\",(CONCATENATE(\"_\",P865)))))","v":""},{"$nulls":14},{"$f":"IF(LEN('1 - Opstart Importark'!$B$6)>0,'1 - Opstart Importark'!$B$6,\"\")","v":""},{"$f":"IF(LEN('1 - Opstart Importark'!$B$9)>0,'1 - Opstart Importark'!$B$9,\"\")","v":""},{"$nulls":19},0,"","objektnogle_"]
[854,null,{"$f":"IF('1 - Opstart Importark'!$B$6=\"\",\"\",CONCATENATE('Blokke - AMV'!$B$2,LEFT('1 - Opstart Importark'!$B$15,2),J866,IF(L866=\"\",\"\",\"-\"),L866,IF(N866=\"\",\"\",\"_\"),N866,IF(P866=\"\",\"\",(CONCATENATE(\"_\",P866)))))","v":""},{"$nulls":14},{"$f":"IF(LEN('1 - Opstart Importark'!$B$6)>0,'1 - Opstart Importark'!$B$6,\"\")","v":""},{"$f":"IF(LEN('1 - Opstart Importark'!$B$9)>0,'1 - Opstart Importark'!$B$9,\"\")","v":""},{"$nulls":19},0,"","objektnogle_"]
[855,null,{"$f":"IF('1 - Opstart Importark'!$B$6=\"\",\"\",CONCATENATE('Blokke - AMV'!$B$2,LEFT('1 - Opstart Importark'!$B$15,2),J867,IF(L867=\"\",\"\",\"-\"),L867,IF(N867=\"\",\"\",\"_\"),N867,IF(P867=\"\",\"\",(CONCATENATE(\"_\",P867)))))","v":""},{"$nulls":14},{"$f":"IF(LEN('1 - Opstart Importark'!$B$6)>0,'1 - Opstart Importark'!$B$6,\"\")","v":""},{"$f":"IF(LEN('1 - Opstart Importark'!$B$9)>0,'1 - Opstart Importark'!$B$9,\"\")","v":""},{"$nulls":19},0,"","objektnogle_"]
[856,null,{"$f":"IF('1 - Opstart Importark'!$B$6=\"\",\"\",CONCATENATE('Blokke - AMV'!$B$2,LEFT('1 - Opstart Importark'!$B$15,2),J868,IF(L868=\"\",\"\",\"-\"),L868,IF(N868=\"\",\"\",\"_\"),N868,IF(P868=\"\",\"\",(CONCATENATE(\"_\",P868)))))","v":""},{"$nulls":14},{"$f":"IF(LEN('1 - Opstart Importark'!$B$6)>0,'1 - Opstart Importark'!$B$6,\"\")","v":""},{"$f":"IF(LEN('1 - Opstart Importark'!$B$9)>0,'1 - Opstart Importark'!$B$9,\"\")","v":""},{"$nulls":19},0,"","objektnogle_"]
[857,null,{"$f":"IF('1 - Opstart Importark'!$B$6=\"\",\"\",CONCATENATE('Blokke - AMV'!$B$2,LEFT('1 - Opstart Importark'!$B$15,2),J869,IF(L869=\"\",\"\",\"-\"),L869,IF(N869=\"\",\"\",\"_\"),N869,IF(P869=\"\",\"\",(CONCATENATE(\"_\",P869)))))","v":""},{"$nulls":14},{"$f":"IF(LEN('1 - Opstart Importark'!$B$6)>0,'1 - Opstart Importark'!$B$6,\"\")","v":""},{"$f":"IF(LEN('1 - Opstart Importark'!$B$9)>0,'1 - Opstart Importark'!$B$9,\"\")","v":""},{"$nulls":19},0,"","objektnogle_"]
[858,null,{"$f":"IF('1 - Opstart Importark'!$B$6=\"\",\"\",CONCATENATE('Blokke - AMV'!$B$2,LEFT('1 - Opstart Importark'!$B$15,2),J870,IF(L870=\"\",\"\",\"-\"),L870,IF(N870=\"\",\"\",\"_\"),N870,IF(P870=\"\",\"\",(CONCATENATE(\"_\",P870)))))","v":""},{"$nulls":14},{"$f":"IF(LEN('1 - Opstart Importark'!$B$6)>0,'1 - Opstart Importark'!$B$6,\"\")","v":""},{"$f":"IF(LEN('1 - Opstart Importark'!$B$9)>0,'1 - Opstart Importark'!$B$9,\"\")","v":""},{"$nulls":19},0,"","objektnogle_"]
[859,null,{"$f":"IF('1 - Opstart Importark'!$B$6=\"\",\"\",CONCATENATE('Blokke - AMV'!$B$2,LEFT('1 - Opstart Importark'!$B$15,2),J871,IF(L871=\"\",\"\",\"-\"),L871,IF(N871=\"\",\"\",\"_\"),N871,IF(P871=\"\",\"\",(CONCATENATE(\"_\",P871)))))","v":""},{"$nulls":14},{"$f":"IF(LEN('1 - Opstart Importark'!$B$6)>0,'1 - Opstart Importark'!$B$6,\"\")","v":""},{"$f":"IF(LEN('1 - Opstart Importark'!$B$9)>0,'1 - Opstart Importark'!$B$9,\"\")","v":""},{"$nulls":19},0,"","objektnogle_"]
[860,null,{"$f":"IF('1 - Opstart Importark'!$B$6=\"\",\"\",CONCATENATE('Blokke - AMV'!$B$2,LEFT('1 - Opstart Importark'!$B$15,2),J872,IF(L872=\"\",\"\",\"-\"),L872,IF(N872=\"\",\"\",\"_\"),N872,IF(P872=\"\",\"\",(CONCATENATE(\"_\",P872)))))","v":""},{"$nulls":14},{"$f":"IF(LEN('1 - Opstart Importark'!$B$6)>0,'1 - Opstart Importark'!$B$6,\"\")","v":""},{"$f":"IF(LEN('1 - Opstart Importark'!$B$9)>0,'1 - Opstart Importark'!$B$9,\"\")","v":""},{"$nulls":19},0,"","objektnogle_"]
[861,null,{"$f":"IF('1 - Opstart Importark'!$B$6=\"\",\"\",CONCATENATE('Blokke - AMV'!$B$2,LEFT('1 - Opstart Importark'!$B$15,2),J873,IF(L873=\"\",\"\",\"-\"),L873,IF(N873=\"\",\"\",\"_\"),N873,IF(P873=\"\",\"\",(CONCATENATE(\"_\",P873)))))","v":""},{"$nulls":14},{"$f":"IF(LEN('1 - Opstart Importark'!$B$6)>0,'1 - Opstart Importark'!$B$6,\"\")","v":""},{"$f":"IF(LEN('1 - Opstart Importark'!$B$9)>0,'1 - Opstart Importark'!$B$9,\"\")","v":""},{"$nulls":19},0,"","objektnogle_"]
[862,null,{"$f":"IF('1 - Opstart Importark'!$B$6=\"\",\"\",CONCATENATE('Blokke - AMV'!$B$2,LEFT('1 - Opstart Importark'!$B$15,2),J874,IF(L874=\"\",\"\",\"-\"),L874,IF(N874=\"\",\"\",\"_\"),N874,IF(P874=\"\",\"\",(CONCATENATE(\"_\",P874)))))","v":""},{"$nulls":14},{"$f":"IF(LEN('1 - Opstart Importark'!$B$6)>0,'1 - Opstart Importark'!$B$6,\"\")","v":""},{"$f":"IF(LEN('1 - Opstart Importark'!$B$9)>0,'1 - Opstart Importark'!$B$9,\"\")","v":""},{"$nulls":19},0,"","objektnogle_"]
[863,null,{"$f":"IF('1 - Opstart Importark'!$B$6=\"\",\"\",CONCATENATE('Blokke - AMV'!$B$2,LEFT('1 - Opstart Importark'!$B$15,2),J875,IF(L875=\"\",\"\",\"-\"),L875,IF(N875=\"\",\"\",\"_\"),N875,IF(P875=\"\",\"\",(CONCATENATE(\"_\",P875)))))","v":""},{"$nulls":14},{"$f":"IF(LEN('1 - Opstart Importark'!$B$6)>0,'1 - Opstart Importark'!$B$6,\"\")","v":""},{"$f":"IF(LEN('1 - Opstart Importark'!$B$9)>0,'1 - Opstart Importark'!$B$9,\"\")","v":""},{"$nulls":19},0,"","objektnogle_"]
[864,null,{"$f":"IF('1 - Opstart Importark'!$B$6=\"\",\"\",CONCATENATE('Blokke - AMV'!$B$2,LEFT('1 - Opstart Importark'!$B$15,2),J876,IF(L876=\"\",\"\",\"-\"),L876,IF(N876=\"\",\"\",\"_\"),N876,IF(P876=\"\",\"\",(CONCATENATE(\"_\",P876)))))","v":""},{"$nulls":14},{"$f":"IF(LEN('1 - Opstart Importark'!$B$6)>0,'1 - Opstart Importark'!$B$6,\"\")","v":""},{"$f":"IF(LEN('1 - Opstart Importark'!$B$9)>0,'1 - Opstart Importark'!$B$9,\"\")","v":""},{"$nulls":19},0,"","objektnogle_"]
[865,null,{"$f":"IF('1 - Opstart Importark'!$B$6=\"\",\"\",CONCATENATE('Blokke - AMV'!$B$2,LEFT('1 - Opstart Importark'!$B$15,2),J877,IF(L877=\"\",\"\",\"-\"),L877,IF(N877=\"\",\"\",\"_\"),N877,IF(P877=\"\",\"\",(CONCATENATE(\"_\",P877)))))","v":""},{"$nulls":14},{"$f":"IF(LEN('1 - Opstart Importark'!$B$6)>0,'1 - Opstart Importark'!$B$6,\"\")","v":""},{"$f":"IF(LEN('1 - Opstart Importark'!$B$9)>0,'1 - Opstart Importark'!$B$9,\"\")","v":""},{"$nulls":19},0,"","objektnogle_"]
[866,null,{"$f":"IF('1 - Opstart Importark'!$B$6=\"\",\"\",CONCATENATE('Blokke - AMV'!$B$2,LEFT('1 - Opstart Importark'!$B$15,2),J878,IF(L878=\"\",\"\",\"-\"),L878,IF(N878=\"\",\"\",\"_\"),N878,IF(P878=\"\",\"\",(CONCATENATE(\"_\",P878)))))","v":""},{"$nulls":14},{"$f":"IF(LEN('1 - Opstart Importark'!$B$6)>0,'1 - Opstart Importark'!$B$6,\"\")","v":""},{"$f":"IF(LEN('1 - Opstart Importark'!$B$9)>0,'1 - Opstart Importark'!$B$9,\"\")","v":""},{"$nulls":19},0,"","objektnogle_"]
[867,null,{"$f":"IF('1 - Opstart Importark'!$B$6=\"\",\"\",CONCATENATE('Blokke - AMV'!$B$2,LEFT('1 - Opstart Importark'!$B$15,2),J879,IF(L879=\"\",\"\",\"-\"),L879,IF(N879=\"\",\"\",\"_\"),N879,IF(P879=\"\",\"\",(CONCATENATE(\"_\",P879)))))","v":""},{"$nulls":14},{"$f":"IF(LEN('1 - Opstart Importark'!$B$6)>0,'1 - Opstart Importark'!$B$6,\"\")","v":""},{"$f":"IF(LEN('1 - Opstart Importark'!$B$9)>0,'1 - Opstart Importark'!$B$9,\"\")","v":""},{"$nulls":19},0,"","objektnogle_"]
[868,null,{"$f":"IF('1 - Opstart Importark'!$B$6=\"\",\"\",CONCATENATE('Blokke - AMV'!$B$2,LEFT('1 - Opstart Importark'!$B$15,2),J880,IF(L880=\"\",\"\",\"-\"),L880,IF(N880=\"\",\"\",\"_\"),N880,IF(P880=\"\",\"\",(CONCATENATE(\"_\",P880)))))","v":""},{"$nulls":14},{"$f":"IF(LEN('1 - Opstart Importark'!$B$6)>0,'1 - Opstart Importark'!$B$6,\"\")","v":""},{"$f":"IF(LEN('1 - Opstart Importark'!$B$9)>0,'1 - Opstart Importark'!$B$9,\"\")","v":""},{"$nulls":19},0,"","objektnogle_"]
[869,null,{"$f":"IF('1 - Opstart Importark'!$B$6=\"\",\"\",CONCATENATE('Blokke - AMV'!$B$2,LEFT('1 - Opstart Importark'!$B$15,2),J881,IF(L881=\"\",\"\",\"-\"),L881,IF(N881=\"\",\"\",\"_\"),N881,IF(P881=\"\",\"\",(CONCATENATE(\"_\",P881)))))","v":""},{"$nulls":14},{"$f":"IF(LEN('1 - Opstart Importark'!$B$6)>0,'1 - Opstart Importark'!$B$6,\"\")","v":""},{"$f":"IF(LEN('1 - Opstart Importark'!$B$9)>0,'1 - Opstart Importark'!$B$9,\"\")","v":""},{"$nulls":19},0,"","objektnogle_"]
[870,null,{"$f":"IF('1 - Opstart Importark'!$B$6=\"\",\"\",CONCATENATE('Blokke - AMV'!$B$2,LEFT('1 - Opstart Importark'!$B$15,2),J882,IF(L882=\"\",\"\",\"-\"),L882,IF(N882=\"\",\"\",\"_\"),N882,IF(P882=\"\",\"\",(CONCATENATE(\"_\",P882)))))","v":""},{"$nulls":14},{"$f":"IF(LEN('1 - Opstart Importark'!$B$6)>0,'1 - Opstart Importark'!$B$6,\"\")","v":""},{"$f":"IF(LEN('1 - Opstart Importark'!$B$9)>0,'1 - Opstart Importark'!$B$9,\"\")","v":""},{"$nulls":19},0,"","objektnogle_"]
[871,null,{"$f":"IF('1 - Opstart Importark'!$B$6=\"\",\"\",CONCATENATE('Blokke - AMV'!$B$2,LEFT('1 - Opstart Importark'!$B$15,2),J883,IF(L883=\"\",\"\",\"-\"),L883,IF(N883=\"\",\"\",\"_\"),N883,IF(P883=\"\",\"\",(CONCATENATE(\"_\",P883)))))","v":""},{"$nulls":14},{"$f":"IF(LEN('1 - Opstart Importark'!$B$6)>0,'1 - Opstart Importark'!$B$6,\"\")","v":""},{"$f":"IF(LEN('1 - Opstart Importark'!$B$9)>0,'1 - Opstart Importark'!$B$9,\"\")","v":""},{"$nulls":19},0,"","objektnogle_"]
[872,null,{"$f":"IF('1 - Opstart Importark'!$B$6=\"\",\"\",CONCATENATE('Blokke - AMV'!$B$2,LEFT('1 - Opstart Importark'!$B$15,2),J884,IF(L884=\"\",\"\",\"-\"),L884,IF(N884=\"\",\"\",\"_\"),N884,IF(P884=\"\",\"\",(CONCATENATE(\"_\",P884)))))","v":""},{"$nulls":14},{"$f":"IF(LEN('1 - Opstart Importark'!$B$6)>0,'1 - Opstart Importark'!$B$6,\"\")","v":""},{"$f":"IF(LEN('1 - Opstart Importark'!$B$9)>0,'1 - Opstart Importark'!$B$9,\"\")","v":""},{"$nulls":19},0,"","objektnogle_"]
[873,null,{"$f":"IF('1 - Opstart Importark'!$B$6=\"\",\"\",CONCATENATE('Blokke - AMV'!$B$2,LEFT('1 - Opstart Importark'!$B$15,2),J885,IF(L885=\"\",\"\",\"-\"),L885,IF(N885=\"\",\"\",\"_\"),N885,IF(P885=\"\",\"\",(CONCATENATE(\"_\",P885)))))","v":""},{"$nulls":14},{"$f":"IF(LEN('1 - Opstart Importark'!$B$6)>0,'1 - Opstart Importark'!$B$6,\"\")","v":""},{"$f":"IF(LEN('1 - Opstart Importark'!$B$9)>0,'1 - Opstart Importark'!$B$9,\"\")","v":""},{"$nulls":19},0,"","objektnogle_"]
[874,null,{"$f":"IF('1 - Opstart Importark'!$B$6=\"\",\"\",CONCATENATE('Blokke - AMV'!$B$2,LEFT('1 - Opstart Importark'!$B$15,2),J886,IF(L886=\"\",\"\",\"-\"),L886,IF(N886=\"\",\"\",\"_\"),N886,IF(P886=\"\",\"\",(CONCATENATE(\"_\",P886)))))","v":""},{"$nulls":14},{"$f":"IF(LEN('1 - Opstart Importark'!$B$6)>0,'1 - Opstart Importark'!$B$6,\"\")","v":""},{"$f":"IF(LEN('1 - Opstart Importark'!$B$9)>0,'1 - Opstart Importark'!$B$9,\"\")","v":""},{"$nulls":19},0,"","objektnogle_"]
[875,null,{"$f":"IF('1 - Opstart Importark'!$B$6=\"\",\"\",CONCATENATE('Blokke - AMV'!$B$2,LEFT('1 - Opstart Importark'!$B$15,2),J887,IF(L887=\"\",\"\",\"-\"),L887,IF(N887=\"\",\"\",\"_\"),N887,IF(P887=\"\",\"\",(CONCATENATE(\"_\",P887)))))","v":""},{"$nulls":14},{"$f":"IF(LEN('1 - Opstart Importark'!$B$6)>0,'1 - Opstart Importark'!$B$6,\"\")","v":""},{"$f":"IF(LEN('1 - Opstart Importark'!$B$9)>0,'1 - Opstart Importark'!$B$9,\"\")","v":""},{"$nulls":19},0,"","objektnogle_"]
[876,null,{"$f":"IF('1 - Opstart Importark'!$B$6=\"\",\"\",CONCATENATE('Blokke - AMV'!$B$2,LEFT('1 - Opstart Importark'!$B$15,2),J888,IF(L888=\"\",\"\",\"-\"),L888,IF(N888=\"\",\"\",\"_\"),N888,IF(P888=\"\",\"\",(CONCATENATE(\"_\",P888)))))","v":""},{"$nulls":14},{"$f":"IF(LEN('1 - Opstart Importark'!$B$6)>0,'1 - Opstart Importark'!$B$6,\"\")","v":""},{"$f":"IF(LEN('1 - Opstart Importark'!$B$9)>0,'1 - Opstart Importark'!$B$9,\"\")","v":""},{"$nulls":19},0,"","objektnogle_"]
[877,null,{"$f":"IF('1 - Opstart Importark'!$B$6=\"\",\"\",CONCATENATE('Blokke - AMV'!$B$2,LEFT('1 - Opstart Importark'!$B$15,2),J889,IF(L889=\"\",\"\",\"-\"),L889,IF(N889=\"\",\"\",\"_\"),N889,IF(P889=\"\",\"\",(CONCATENATE(\"_\",P889)))))","v":""},{"$nulls":14},{"$f":"IF(LEN('1 - Opstart Importark'!$B$6)>0,'1 - Opstart Importark'!$B$6,\"\")","v":""},{"$f":"IF(LEN('1 - Opstart Importark'!$B$9)>0,'1 - Opstart Importark'!$B$9,\"\")","v":""},{"$nulls":19},0,"","objektnogle_"]
[878,null,{"$f":"IF('1 - Opstart Importark'!$B$6=\"\",\"\",CONCATENATE('Blokke - AMV'!$B$2,LEFT('1 - Opstart Importark'!$B$15,2),J890,IF(L890=\"\",\"\",\"-\"),L890,IF(N890=\"\",\"\",\"_\"),N890,IF(P890=\"\",\"\",(CONCATENATE(\"_\",P890)))))","v":""},{"$nulls":14},{"$f":"IF(LEN('1 - Opstart Importark'!$B$6)>0,'1 - Opstart Importark'!$B$6,\"\")","v":""},{"$f":"IF(LEN('1 - Opstart Importark'!$B$9)>0,'1 - Opstart Importark'!$B$9,\"\")","v":""},{"$nulls":19},0,"","objektnogle_"]
[879,null,{"$f":"IF('1 - Opstart Importark'!$B$6=\"\",\"\",CONCATENATE('Blokke - AMV'!$B$2,LEFT('1 - Opstart Importark'!$B$15,2),J891,IF(L891=\"\",\"\",\"-\"),L891,IF(N891=\"\",\"\",\"_\"),N891,IF(P891=\"\",\"\",(CONCATENATE(\"_\",P891)))))","v":""},{"$nulls":14},{"$f":"IF(LEN('1 - Opstart Importark'!$B$6)>0,'1 - Opstart Importark'!$B$6,\"\")","v":""},{"$f":"IF(LEN('1 - Opstart Importark'!$B$9)>0,'1 - Opstart Importark'!$B$9,\"\")","v":""},{"$nulls":19},0,"","objektnogle_"]
[880,null,{"$f":"IF('1 - Opstart Importark'!$B$6=\"\",\"\",CONCATENATE('Blokke - AMV'!$B$2,LEFT('1 - Opstart Importark'!$B$15,2),J892,IF(L892=\"\",\"\",\"-\"),L892,IF(N892=\"\",\"\",\"_\"),N892,IF(P892=\"\",\"\",(CONCATENATE(\"_\",P892)))))","v":""},{"$nulls":14},{"$f":"IF(LEN('1 - Opstart Importark'!$B$6)>0,'1 - Opstart Importark'!$B$6,\"\")","v":""},{"$f":"IF(LEN('1 - Opstart Importark'!$B$9)>0,'1 - Opstart Importark'!$B$9,\"\")","v":""},{"$nulls":19},0,"","objektnogle_"]
[881,null,{"$f":"IF('1 - Opstart Importark'!$B$6=\"\",\"\",CONCATENATE('Blokke - AMV'!$B$2,LEFT('1 - Opstart Importark'!$B$15,2),J893,IF(L893=\"\",\"\",\"-\"),L893,IF(N893=\"\",\"\",\"_\"),N893,IF(P893=\"\",\"\",(CONCATENATE(\"_\",P893)))))","v":""},{"$nulls":14},{"$f":"IF(LEN('1 - Opstart Importark'!$B$6)>0,'1 - Opstart Importark'!$B$6,\"\")","v":""},{"$f":"IF(LEN('1 - Opstart Importark'!$B$9)>0,'1 - Opstart Importark'!$B$9,\"\")","v":""},{"$nulls":19},0,"","objektnogle_"]
[882,null,{"$f":"IF('1 - Opstart Importark'!$B$6=\"\",\"\",CONCATENATE('Blokke - AMV'!$B$2,LEFT('1 - Opstart Importark'!$B$15,2),J894,IF(L894=\"\",\"\",\"-\"),L894,IF(N894=\"\",\"\",\"_\"),N894,IF(P894=\"\",\"\",(CONCATENATE(\"_\",P894)))))","v":""},{"$nulls":14},{"$f":"IF(LEN('1 - Opstart Importark'!$B$6)>0,'1 - Opstart Importark'!$B$6,\"\")","v":""},{"$f":"IF(LEN('1 - Opstart Importark'!$B$9)>0,'1 - Opstart Importark'!$B$9,\"\")","v":""},{"$nulls":19},0,"","objektnogle_"]
[883,null,{"$f":"IF('1 - Opstart Importark'!$B$6=\"\",\"\",CONCATENATE('Blokke - AMV'!$B$2,LEFT('1 - Opstart Importark'!$B$15,2),J895,IF(L895=\"\",\"\",\"-\"),L895,IF(N895=\"\",\"\",\"_\"),N895,IF(P895=\"\",\"\",(CONCATENATE(\"_\",P895)))))","v":""},{"$nulls":14},{"$f":"IF(LEN('1 - Opstart Importark'!$B$6)>0,'1 - Opstart Importark'!$B$6,\"\")","v":""},{"$f":"IF(LEN('1 - Opstart Importark'!$B$9)>0,'1 - Opstart Importark'!$B$9,\"\")","v":""},{"$nulls":19},0,"","objektnogle_"]
[884,null,{"$f":"IF('1 - Opstart Importark'!$B$6=\"\",\"\",CONCATENATE('Blokke - AMV'!$B$2,LEFT('1 - Opstart Importark'!$B$15,2),J896,IF(L896=\"\",\"\",\"-\"),L896,IF(N896=\"\",\"\",\"_\"),N896,IF(P896=\"\",\"\",(CONCATENATE(\"_\",P896)))))","v":""},{"$nulls":14},{"$f":"IF(LEN('1 - Opstart Importark'!$B$6)>0,'1 - Opstart Importark'!$B$6,\"\")","v":""},{"$f":"IF(LEN('1 - Opstart Importark'!$B$9)>0,'1 - Opstart Importark'!$B$9,\"\")","v":""},{"$nulls":19},0,"","objektnogle_"]
[885,null,{"$f":"IF('1 - Opstart Importark'!$B$6=\"\",\"\",CONCATENATE('Blokke - AMV'!$B$2,LEFT('1 - Opstart Importark'!$B$15,2),J897,IF(L897=\"\",\"\",\"-\"),L897,IF(N897=\"\",\"\",\"_\"),N897,IF(P897=\"\",\"\",(CONCATENATE(\"_\",P897)))))","v":""},{"$nulls":14},{"$f":"IF(LEN('1 - Opstart Importark'!$B$6)>0,'1 - Opstart Importark'!$B$6,\"\")","v":""},{"$f":"IF(LEN('1 - Opstart Importark'!$B$9)>0,'1 - Opstart Importark'!$B$9,\"\")","v":""},{"$nulls":19},0,"","objektnogle_"]
[886,null,{"$f":"IF('1 - Opstart Importark'!$B$6=\"\",\"\",CONCATENATE('Blokke - AMV'!$B$2,LEFT('1 - Opstart Importark'!$B$15,2),J898,IF(L898=\"\",\"\",\"-\"),L898,IF(N898=\"\",\"\",\"_\"),N898,IF(P898=\"\",\"\",(CONCATENATE(\"_\",P898)))))","v":""},{"$nulls":14},{"$f":"IF(LEN('1 - Opstart Importark'!$B$6)>0,'1 - Opstart Importark'!$B$6,\"\")","v":""},{"$f":"IF(LEN('1 - Opstart Importark'!$B$9)>0,'1 - Opstart Importark'!$B$9,\"\")","v":""},{"$nulls":19},0,"","objektnogle_"]
[887,null,{"$f":"IF('1 - Opstart Importark'!$B$6=\"\",\"\",CONCATENATE('Blokke - AMV'!$B$2,LEFT('1 - Opstart Importark'!$B$15,2),J899,IF(L899=\"\",\"\",\"-\"),L899,IF(N899=\"\",\"\",\"_\"),N899,IF(P899=\"\",\"\",(CONCATENATE(\"_\",P899)))))","v":""},{"$nulls":14},{"$f":"IF(LEN('1 - Opstart Importark'!$B$6)>0,'1 - Opstart Importark'!$B$6,\"\")","v":""},{"$f":"IF(LEN('1 - Opstart Importark'!$B$9)>0,'1 - Opstart Importark'!$B$9,\"\")","v":""},{"$nulls":19},0,"","objektnogle_"]
[888,null,{"$f":"IF('1 - Opstart Importark'!$B$6=\"\",\"\",CONCATENATE('Blokke - AMV'!$B$2,LEFT('1 - Opstart Importark'!$B$15,2),J900,IF(L900=\"\",\"\",\"-\"),L900,IF(N900=\"\",\"\",\"_\"),N900,IF(P900=\"\",\"\",(CONCATENATE(\"_\",P900)))))","v":""},{"$nulls":14},{"$f":"IF(LEN('1 - Opstart Importark'!$B$6)>0,'1 - Opstart Importark'!$B$6,\"\")","v":""},{"$f":"IF(LEN('1 - Opstart Importark'!$B$9)>0,'1 - Opstart Importark'!$B$9,\"\")","v":""},{"$nulls":19},0,"","objektnogle_"]
[889,null,{"$f":"IF('1 - Opstart Importark'!$B$6=\"\",\"\",CONCATENATE('Blokke - AMV'!$B$2,LEFT('1 - Opstart Importark'!$B$15,2),J901,IF(L901=\"\",\"\",\"-\"),L901,IF(N901=\"\",\"\",\"_\"),N901,IF(P901=\"\",\"\",(CONCATENATE(\"_\",P901)))))","v":""},{"$nulls":14},{"$f":"IF(LEN('1 - Opstart Importark'!$B$6)>0,'1 - Opstart Importark'!$B$6,\"\")","v":""},{"$f":"IF(LEN('1 - Opstart Importark'!$B$9)>0,'1 - Opstart Importark'!$B$9,\"\")","v":""},{"$nulls":19},0,"","objektnogle_"]
[890,null,{"$f":"IF('1 - Opstart Importark'!$B$6=\"\",\"\",CONCATENATE('Blokke - AMV'!$B$2,LEFT('1 - Opstart Importark'!$B$15,2),J902,IF(L902=\"\",\"\",\"-\"),L902,IF(N902=\"\",\"\",\"_\"),N902,IF(P902=\"\",\"\",(CONCATENATE(\"_\",P902)))))","v":""},{"$nulls":14},{"$f":"IF(LEN('1 - Opstart Importark'!$B$6)>0,'1 - Opstart Importark'!$B$6,\"\")","v":""},{"$f":"IF(LEN('1 - Opstart Importark'!$B$9)>0,'1 - Opstart Importark'!$B$9,\"\")","v":""},{"$nulls":19},0,"","objektnogle_"]
[891,null,{"$f":"IF('1 - Opstart Importark'!$B$6=\"\",\"\",CONCATENATE('Blokke - AMV'!$B$2,LEFT('1 - Opstart Importark'!$B$15,2),J903,IF(L903=\"\",\"\",\"-\"),L903,IF(N903=\"\",\"\",\"_\"),N903,IF(P903=\"\",\"\",(CONCATENATE(\"_\",P903)))))","v":""},{"$nulls":14},{"$f":"IF(LEN('1 - Opstart Importark'!$B$6)>0,'1 - Opstart Importark'!$B$6,\"\")","v":""},{"$f":"IF(LEN('1 - Opstart Importark'!$B$9)>0,'1 - Opstart Importark'!$B$9,\"\")","v":""},{"$nulls":19},0,"","objektnogle_"]
[892,null,{"$f":"IF('1 - Opstart Importark'!$B$6=\"\",\"\",CONCATENATE('Blokke - AMV'!$B$2,LEFT('1 - Opstart Importark'!$B$15,2),J904,IF(L904=\"\",\"\",\"-\"),L904,IF(N904=\"\",\"\",\"_\"),N904,IF(P904=\"\",\"\",(CONCATENATE(\"_\",P904)))))","v":""},{"$nulls":14},{"$f":"IF(LEN('1 - Opstart Importark'!$B$6)>0,'1 - Opstart Importark'!$B$6,\"\")","v":""},{"$f":"IF(LEN('1 - Opstart Importark'!$B$9)>0,'1 - Opstart Importark'!$B$9,\"\")","v":""},{"$nulls":19},0,"","objektnogle_"]
[893,null,{"$f":"IF('1 - Opstart Importark'!$B$6=\"\",\"\",CONCATENATE('Blokke - AMV'!$B$2,LEFT('1 - Opstart Importark'!$B$15,2),J905,IF(L905=\"\",\"\",\"-\"),L905,IF(N905=\"\",\"\",\"_\"),N905,IF(P905=\"\",\"\",(CONCATENATE(\"_\",P905)))))","v":""},{"$nulls":14},{"$f":"IF(LEN('1 - Opstart Importark'!$B$6)>0,'1 - Opstart Importark'!$B$6,\"\")","v":""},{"$f":"IF(LEN('1 - Opstart Importark'!$B$9)>0,'1 - Opstart Importark'!$B$9,\"\")","v":""},{"$nulls":19},0,"","objektnogle_"]
[894,null,{"$f":"IF('1 - Opstart Importark'!$B$6=\"\",\"\",CONCATENATE('Blokke - AMV'!$B$2,LEFT('1 - Opstart Importark'!$B$15,2),J906,IF(L906=\"\",\"\",\"-\"),L906,IF(N906=\"\",\"\",\"_\"),N906,IF(P906=\"\",\"\",(CONCATENATE(\"_\",P906)))))","v":""},{"$nulls":14},{"$f":"IF(LEN('1 - Opstart Importark'!$B$6)>0,'1 - Opstart Importark'!$B$6,\"\")","v":""},{"$f":"IF(LEN('1 - Opstart Importark'!$B$9)>0,'1 - Opstart Importark'!$B$9,\"\")","v":""},{"$nulls":19},0,"","objektnogle_"]
[895,null,{"$f":"IF('1 - Opstart Importark'!$B$6=\"\",\"\",CONCATENATE('Blokke - AMV'!$B$2,LEFT('1 - Opstart Importark'!$B$15,2),J907,IF(L907=\"\",\"\",\"-\"),L907,IF(N907=\"\",\"\",\"_\"),N907,IF(P907=\"\",\"\",(CONCATENATE(\"_\",P907)))))","v":""},{"$nulls":14},{"$f":"IF(LEN('1 - Opstart Importark'!$B$6)>0,'1 - Opstart Importark'!$B$6,\"\")","v":""},{"$f":"IF(LEN('1 - Opstart Importark'!$B$9)>0,'1 - Opstart Importark'!$B$9,\"\")","v":""},{"$nulls":19},0,"","objektnogle_"]
[896,null,{"$f":"IF('1 - Opstart Importark'!$B$6=\"\",\"\",CONCATENATE('Blokke - AMV'!$B$2,LEFT('1 - Opstart Importark'!$B$15,2),J908,IF(L908=\"\",\"\",\"-\"),L908,IF(N908=\"\",\"\",\"_\"),N908,IF(P908=\"\",\"\",(CONCATENATE(\"_\",P908)))))","v":""},{"$nulls":14},{"$f":"IF(LEN('1 - Opstart Importark'!$B$6)>0,'1 - Opstart Importark'!$B$6,\"\")","v":""},{"$f":"IF(LEN('1 - Opstart Importark'!$B$9)>0,'1 - Opstart Importark'!$B$9,\"\")","v":""},{"$nulls":19},0,"","objektnogle_"]
[897,null,{"$f":"IF('1 - Opstart Importark'!$B$6=\"\",\"\",CONCATENATE('Blokke - AMV'!$B$2,LEFT('1 - Opstart Importark'!$B$15,2),J909,IF(L909=\"\",\"\",\"-\"),L909,IF(N909=\"\",\"\",\"_\"),N909,IF(P909=\"\",\"\",(CONCATENATE(\"_\",P909)))))","v":""},{"$nulls":14},{"$f":"IF(LEN('1 - Opstart Importark'!$B$6)>0,'1 - Opstart Importark'!$B$6,\"\")","v":""},{"$f":"IF(LEN('1 - Opstart Importark'!$B$9)>0,'1 - Opstart Importark'!$B$9,\"\")","v":""},{"$nulls":19},{"$f":"IFERROR(FIND(\".\",G909),)","v":0},{"$f":"IF(L909=\"\",\"\",IF(LEFT(L909,1)=\"E\",0,1))","v":""},{"$f":"CONCATENATE(\"objektnogle_\",LEFT(L909,1))","v":"objektnogle_"}]
[898,null,{"$f":"IF('1 - Opstart Importark'!$B$6=\"\",\"\",CONCATENATE('Blokke - AMV'!$B$2,LEFT('1 - Opstart Importark'!$B$15,2),J910,IF(L910=\"\",\"\",\"-\"),L910,IF(N910=\"\",\"\",\"_\"),N910,IF(P910=\"\",\"\",(CONCATENATE(\"_\",P910)))))","v":""},{"$nulls":14},{"$f":"IF(LEN('1 - Opstart Importark'!$B$6)>0,'1 - Opstart Importark'!$B$6,\"\")","v":""},{"$f":"IF(LEN('1 - Opstart Importark'!$B$9)>0,'1 - Opstart Importark'!$B$9,\"\")","v":""},{"$nulls":19},0,"","objektnogle_"]
[899,null,{"$f":"IF('1 - Opstart Importark'!$B$6=\"\",\"\",CONCATENATE('Blokke - AMV'!$B$2,LEFT('1 - Opstart Importark'!$B$15,2),J911,IF(L911=\"\",\"\",\"-\"),L911,IF(N911=\"\",\"\",\"_\"),N911,IF(P911=\"\",\"\",(CONCATENATE(\"_\",P911)))))","v":""},{"$nulls":14},{"$f":"IF(LEN('1 - Opstart Importark'!$B$6)>0,'1 - Opstart Importark'!$B$6,\"\")","v":""},{"$f":"IF(LEN('1 - Opstart Importark'!$B$9)>0,'1 - Opstart Importark'!$B$9,\"\")","v":""},{"$nulls":19},0,"","objektnogle_"]
[900,null,{"$f":"IF('1 - Opstart Importark'!$B$6=\"\",\"\",CONCATENATE('Blokke - AMV'!$B$2,LEFT('1 - Opstart Importark'!$B$15,2),J912,IF(L912=\"\",\"\",\"-\"),L912,IF(N912=\"\",\"\",\"_\"),N912,IF(P912=\"\",\"\",(CONCATENATE(\"_\",P912)))))","v":""},{"$nulls":14},{"$f":"IF(LEN('1 - Opstart Importark'!$B$6)>0,'1 - Opstart Importark'!$B$6,\"\")","v":""},{"$f":"IF(LEN('1 - Opstart Importark'!$B$9)>0,'1 - Opstart Importark'!$B$9,\"\")","v":""},{"$nulls":19},0,"","objektnogle_"]
[901,null,{"$f":"IF('1 - Opstart Importark'!$B$6=\"\",\"\",CONCATENATE('Blokke - AMV'!$B$2,LEFT('1 - Opstart Importark'!$B$15,2),J913,IF(L913=\"\",\"\",\"-\"),L913,IF(N913=\"\",\"\",\"_\"),N913,IF(P913=\"\",\"\",(CONCATENATE(\"_\",P913)))))","v":""},{"$nulls":14},{"$f":"IF(LEN('1 - Opstart Importark'!$B$6)>0,'1 - Opstart Importark'!$B$6,\"\")","v":""},{"$f":"IF(LEN('1 - Opstart Importark'!$B$9)>0,'1 - Opstart Importark'!$B$9,\"\")","v":""},{"$nulls":19},0,"","objektnogle_"]
[902,null,{"$f":"IF('1 - Opstart Importark'!$B$6=\"\",\"\",CONCATENATE('Blokke - AMV'!$B$2,LEFT('1 - Opstart Importark'!$B$15,2),J914,IF(L914=\"\",\"\",\"-\"),L914,IF(N914=\"\",\"\",\"_\"),N914,IF(P914=\"\",\"\",(CONCATENATE(\"_\",P914)))))","v":""},{"$nulls":14},{"$f":"IF(LEN('1 - Opstart Importark'!$B$6)>0,'1 - Opstart Importark'!$B$6,\"\")","v":""},{"$f":"IF(LEN('1 - Opstart Importark'!$B$9)>0,'1 - Opstart Importark'!$B$9,\"\")","v":""},{"$nulls":19},0,"","objektnogle_"]
[903,null,{"$f":"IF('1 - Opstart Importark'!$B$6=\"\",\"\",CONCATENATE('Blokke - AMV'!$B$2,LEFT('1 - Opstart Importark'!$B$15,2),J915,IF(L915=\"\",\"\",\"-\"),L915,IF(N915=\"\",\"\",\"_\"),N915,IF(P915=\"\",\"\",(CONCATENATE(\"_\",P915)))))","v":""},{"$nulls":14},{"$f":"IF(LEN('1 - Opstart Importark'!$B$6)>0,'1 - Opstart Importark'!$B$6,\"\")","v":""},{"$f":"IF(LEN('1 - Opstart Importark'!$B$9)>0,'1 - Opstart Importark'!$B$9,\"\")","v":""},{"$nulls":19},0,"","objektnogle_"]
[904,null,{"$f":"IF('1 - Opstart Importark'!$B$6=\"\",\"\",CONCATENATE('Blokke - AMV'!$B$2,LEFT('1 - Opstart Importark'!$B$15,2),J916,IF(L916=\"\",\"\",\"-\"),L916,IF(N916=\"\",\"\",\"_\"),N916,IF(P916=\"\",\"\",(CONCATENATE(\"_\",P916)))))","v":""},{"$nulls":14},{"$f":"IF(LEN('1 - Opstart Importark'!$B$6)>0,'1 - Opstart Importark'!$B$6,\"\")","v":""},{"$f":"IF(LEN('1 - Opstart Importark'!$B$9)>0,'1 - Opstart Importark'!$B$9,\"\")","v":""},{"$nulls":19},0,"","objektnogle_"]
[905,null,{"$f":"IF('1 - Opstart Importark'!$B$6=\"\",\"\",CONCATENATE('Blokke - AMV'!$B$2,LEFT('1 - Opstart Importark'!$B$15,2),J917,IF(L917=\"\",\"\",\"-\"),L917,IF(N917=\"\",\"\",\"_\"),N917,IF(P917=\"\",\"\",(CONCATENATE(\"_\",P917)))))","v":""},{"$nulls":14},{"$f":"IF(LEN('1 - Opstart Importark'!$B$6)>0,'1 - Opstart Importark'!$B$6,\"\")","v":""},{"$f":"IF(LEN('1 - Opstart Importark'!$B$9)>0,'1 - Opstart Importark'!$B$9,\"\")","v":""},{"$nulls":19},0,"","objektnogle_"]
[906,null,{"$f":"IF('1 - Opstart Importark'!$B$6=\"\",\"\",CONCATENATE('Blokke - AMV'!$B$2,LEFT('1 - Opstart Importark'!$B$15,2),J918,IF(L918=\"\",\"\",\"-\"),L918,IF(N918=\"\",\"\",\"_\"),N918,IF(P918=\"\",\"\",(CONCATENATE(\"_\",P918)))))","v":""},{"$nulls":14},{"$f":"IF(LEN('1 - Opstart Importark'!$B$6)>0,'1 - Opstart Importark'!$B$6,\"\")","v":""},{"$f":"IF(LEN('1 - Opstart Importark'!$B$9)>0,'1 - Opstart Importark'!$B$9,\"\")","v":""},{"$nulls":19},0,"","objektnogle_"]
[907,null,{"$f":"IF('1 - Opstart Importark'!$B$6=\"\",\"\",CONCATENATE('Blokke - AMV'!$B$2,LEFT('1 - Opstart Importark'!$B$15,2),J919,IF(L919=\"\",\"\",\"-\"),L919,IF(N919=\"\",\"\",\"_\"),N919,IF(P919=\"\",\"\",(CONCATENATE(\"_\",P919)))))","v":""},{"$nulls":14},{"$f":"IF(LEN('1 - Opstart Importark'!$B$6)>0,'1 - Opstart Importark'!$B$6,\"\")","v":""},{"$f":"IF(LEN('1 - Opstart Importark'!$B$9)>0,'1 - Opstart Importark'!$B$9,\"\")","v":""},{"$nulls":19},0,"","objektnogle_"]
[908,null,{"$f":"IF('1 - Opstart Importark'!$B$6=\"\",\"\",CONCATENATE('Blokke - AMV'!$B$2,LEFT('1 - Opstart Importark'!$B$15,2),J920,IF(L920=\"\",\"\",\"-\"),L920,IF(N920=\"\",\"\",\"_\"),N920,IF(P920=\"\",\"\",(CONCATENATE(\"_\",P920)))))","v":""},{"$nulls":14},{"$f":"IF(LEN('1 - Opstart Importark'!$B$6)>0,'1 - Opstart Importark'!$B$6,\"\")","v":""},{"$f":"IF(LEN('1 - Opstart Importark'!$B$9)>0,'1 - Opstart Importark'!$B$9,\"\")","v":""},{"$nulls":19},0,"","objektnogle_"]
[909,null,{"$f":"IF('1 - Opstart Importark'!$B$6=\"\",\"\",CONCATENATE('Blokke - AMV'!$B$2,LEFT('1 - Opstart Importark'!$B$15,2),J921,IF(L921=\"\",\"\",\"-\"),L921,IF(N921=\"\",\"\",\"_\"),N921,IF(P921=\"\",\"\",(CONCATENATE(\"_\",P921)))))","v":""},{"$nulls":14},{"$f":"IF(LEN('1 - Opstart Importark'!$B$6)>0,'1 - Opstart Importark'!$B$6,\"\")","v":""},{"$f":"IF(LEN('1 - Opstart Importark'!$B$9)>0,'1 - Opstart Importark'!$B$9,\"\")","v":""},{"$nulls":19},0,"","objektnogle_"]
[910,null,{"$f":"IF('1 - Opstart Importark'!$B$6=\"\",\"\",CONCATENATE('Blokke - AMV'!$B$2,LEFT('1 - Opstart Importark'!$B$15,2),J922,IF(L922=\"\",\"\",\"-\"),L922,IF(N922=\"\",\"\",\"_\"),N922,IF(P922=\"\",\"\",(CONCATENATE(\"_\",P922)))))","v":""},{"$nulls":14},{"$f":"IF(LEN('1 - Opstart Importark'!$B$6)>0,'1 - Opstart Importark'!$B$6,\"\")","v":""},{"$f":"IF(LEN('1 - Opstart Importark'!$B$9)>0,'1 - Opstart Importark'!$B$9,\"\")","v":""},{"$nulls":19},0,"","objektnogle_"]
[911,null,{"$f":"IF('1 - Opstart Importark'!$B$6=\"\",\"\",CONCATENATE('Blokke - AMV'!$B$2,LEFT('1 - Opstart Importark'!$B$15,2),J923,IF(L923=\"\",\"\",\"-\"),L923,IF(N923=\"\",\"\",\"_\"),N923,IF(P923=\"\",\"\",(CONCATENATE(\"_\",P923)))))","v":""},{"$nulls":14},{"$f":"IF(LEN('1 - Opstart Importark'!$B$6)>0,'1 - Opstart Importark'!$B$6,\"\")","v":""},{"$f":"IF(LEN('1 - Opstart Importark'!$B$9)>0,'1 - Opstart Importark'!$B$9,\"\")","v":""},{"$nulls":19},0,"","objektnogle_"]
[912,null,{"$f":"IF('1 - Opstart Importark'!$B$6=\"\",\"\",CONCATENATE('Blokke - AMV'!$B$2,LEFT('1 - Opstart Importark'!$B$15,2),J924,IF(L924=\"\",\"\",\"-\"),L924,IF(N924=\"\",\"\",\"_\"),N924,IF(P924=\"\",\"\",(CONCATENATE(\"_\",P924)))))","v":""},{"$nulls":14},{"$f":"IF(LEN('1 - Opstart Importark'!$B$6)>0,'1 - Opstart Importark'!$B$6,\"\")","v":""},{"$f":"IF(LEN('1 - Opstart Importark'!$B$9)>0,'1 - Opstart Importark'!$B$9,\"\")","v":""},{"$nulls":19},0,"","objektnogle_"]
[913,null,{"$f":"IF('1 - Opstart Importark'!$B$6=\"\",\"\",CONCATENATE('Blokke - AMV'!$B$2,LEFT('1 - Opstart Importark'!$B$15,2),J925,IF(L925=\"\",\"\",\"-\"),L925,IF(N925=\"\",\"\",\"_\"),N925,IF(P925=\"\",\"\",(CONCATENATE(\"_\",P925)))))","v":""},{"$nulls":14},{"$f":"IF(LEN('1 - Opstart Importark'!$B$6)>0,'1 - Opstart Importark'!$B$6,\"\")","v":""},{"$f":"IF(LEN('1 - Opstart Importark'!$B$9)>0,'1 - Opstart Importark'!$B$9,\"\")","v":""},{"$nulls":19},0,"","objektnogle_"]
[914,null,{"$f":"IF('1 - Opstart Importark'!$B$6=\"\",\"\",CONCATENATE('Blokke - AMV'!$B$2,LEFT('1 - Opstart Importark'!$B$15,2),J926,IF(L926=\"\",\"\",\"-\"),L926,IF(N926=\"\",\"\",\"_\"),N926,IF(P926=\"\",\"\",(CONCATENATE(\"_\",P926)))))","v":""},{"$nulls":14},{"$f":"IF(LEN('1 - Opstart Importark'!$B$6)>0,'1 - Opstart Importark'!$B$6,\"\")","v":""},{"$f":"IF(LEN('1 - Opstart Importark'!$B$9)>0,'1 - Opstart Importark'!$B$9,\"\")","v":""},{"$nulls":19},0,"","objektnogle_"]
[915,null,{"$f":"IF('1 - Opstart Importark'!$B$6=\"\",\"\",CONCATENATE('Blokke - AMV'!$B$2,LEFT('1 - Opstart Importark'!$B$15,2),J927,IF(L927=\"\",\"\",\"-\"),L927,IF(N927=\"\",\"\",\"_\"),N927,IF(P927=\"\",\"\",(CONCATENATE(\"_\",P927)))))","v":""},{"$nulls":14},{"$f":"IF(LEN('1 - Opstart Importark'!$B$6)>0,'1 - Opstart Importark'!$B$6,\"\")","v":""},{"$f":"IF(LEN('1 - Opstart Importark'!$B$9)>0,'1 - Opstart Importark'!$B$9,\"\")","v":""},{"$nulls":19},0,"","objektnogle_"]
[916,null,{"$f":"IF('1 - Opstart Importark'!$B$6=\"\",\"\",CONCATENATE('Blokke - AMV'!$B$2,LEFT('1 - Opstart Importark'!$B$15,2),J928,IF(L928=\"\",\"\",\"-\"),L928,IF(N928=\"\",\"\",\"_\"),N928,IF(P928=\"\",\"\",(CONCATENATE(\"_\",P928)))))","v":""},{"$nulls":14},{"$f":"IF(LEN('1 - Opstart Importark'!$B$6)>0,'1 - Opstart Importark'!$B$6,\"\")","v":""},{"$f":"IF(LEN('1 - Opstart Importark'!$B$9)>0,'1 - Opstart Importark'!$B$9,\"\")","v":""},{"$nulls":19},0,"","objektnogle_"]
[917,null,{"$f":"IF('1 - Opstart Importark'!$B$6=\"\",\"\",CONCATENATE('Blokke - AMV'!$B$2,LEFT('1 - Opstart Importark'!$B$15,2),J929,IF(L929=\"\",\"\",\"-\"),L929,IF(N929=\"\",\"\",\"_\"),N929,IF(P929=\"\",\"\",(CONCATENATE(\"_\",P929)))))","v":""},{"$nulls":14},{"$f":"IF(LEN('1 - Opstart Importark'!$B$6)>0,'1 - Opstart Importark'!$B$6,\"\")","v":""},{"$f":"IF(LEN('1 - Opstart Importark'!$B$9)>0,'1 - Opstart Importark'!$B$9,\"\")","v":""},{"$nulls":19},0,"","objektnogle_"]
[918,null,{"$f":"IF('1 - Opstart Importark'!$B$6=\"\",\"\",CONCATENATE('Blokke - AMV'!$B$2,LEFT('1 - Opstart Importark'!$B$15,2),J930,IF(L930=\"\",\"\",\"-\"),L930,IF(N930=\"\",\"\",\"_\"),N930,IF(P930=\"\",\"\",(CONCATENATE(\"_\",P930)))))","v":""},{"$nulls":14},{"$f":"IF(LEN('1 - Opstart Importark'!$B$6)>0,'1 - Opstart Importark'!$B$6,\"\")","v":""},{"$f":"IF(LEN('1 - Opstart Importark'!$B$9)>0,'1 - Opstart Importark'!$B$9,\"\")","v":""},{"$nulls":19},0,"","objektnogle_"]
[919,null,{"$f":"IF('1 - Opstart Importark'!$B$6=\"\",\"\",CONCATENATE('Blokke - AMV'!$B$2,LEFT('1 - Opstart Importark'!$B$15,2),J931,IF(L931=\"\",\"\",\"-\"),L931,IF(N931=\"\",\"\",\"_\"),N931,IF(P931=\"\",\"\",(CONCATENATE(\"_\",P931)))))","v":""},{"$nulls":14},{"$f":"IF(LEN('1 - Opstart Importark'!$B$6)>0,'1 - Opstart Importark'!$B$6,\"\")","v":""},{"$f":"IF(LEN('1 - Opstart Importark'!$B$9)>0,'1 - Opstart Importark'!$B$9,\"\")","v":""},{"$nulls":19},0,"","objektnogle_"]
[920,null,{"$f":"IF('1 - Opstart Importark'!$B$6=\"\",\"\",CONCATENATE('Blokke - AMV'!$B$2,LEFT('1 - Opstart Importark'!$B$15,2),J932,IF(L932=\"\",\"\",\"-\"),L932,IF(N932=\"\",\"\",\"_\"),N932,IF(P932=\"\",\"\",(CONCATENATE(\"_\",P932)))))","v":""},{"$nulls":14},{"$f":"IF(LEN('1 - Opstart Importark'!$B$6)>0,'1 - Opstart Importark'!$B$6,\"\")","v":""},{"$f":"IF(LEN('1 - Opstart Importark'!$B$9)>0,'1 - Opstart Importark'!$B$9,\"\")","v":""},{"$nulls":19},0,"","objektnogle_"]
[921,null,{"$f":"IF('1 - Opstart Importark'!$B$6=\"\",\"\",CONCATENATE('Blokke - AMV'!$B$2,LEFT('1 - Opstart Importark'!$B$15,2),J933,IF(L933=\"\",\"\",\"-\"),L933,IF(N933=\"\",\"\",\"_\"),N933,IF(P933=\"\",\"\",(CONCATENATE(\"_\",P933)))))","v":""},{"$nulls":14},{"$f":"IF(LEN('1 - Opstart Importark'!$B$6)>0,'1 - Opstart Importark'!$B$6,\"\")","v":""},{"$f":"IF(LEN('1 - Opstart Importark'!$B$9)>0,'1 - Opstart Importark'!$B$9,\"\")","v":""},{"$nulls":19},0,"","objektnogle_"]
[922,null,{"$f":"IF('1 - Opstart Importark'!$B$6=\"\",\"\",CONCATENATE('Blokke - AMV'!$B$2,LEFT('1 - Opstart Importark'!$B$15,2),J934,IF(L934=\"\",\"\",\"-\"),L934,IF(N934=\"\",\"\",\"_\"),N934,IF(P934=\"\",\"\",(CONCATENATE(\"_\",P934)))))","v":""},{"$nulls":14},{"$f":"IF(LEN('1 - Opstart Importark'!$B$6)>0,'1 - Opstart Importark'!$B$6,\"\")","v":""},{"$f":"IF(LEN('1 - Opstart Importark'!$B$9)>0,'1 - Opstart Importark'!$B$9,\"\")","v":""},{"$nulls":19},0,"","objektnogle_"]
[923,null,{"$f":"IF('1 - Opstart Importark'!$B$6=\"\",\"\",CONCATENATE('Blokke - AMV'!$B$2,LEFT('1 - Opstart Importark'!$B$15,2),J935,IF(L935=\"\",\"\",\"-\"),L935,IF(N935=\"\",\"\",\"_\"),N935,IF(P935=\"\",\"\",(CONCATENATE(\"_\",P935)))))","v":""},{"$nulls":14},{"$f":"IF(LEN('1 - Opstart Importark'!$B$6)>0,'1 - Opstart Importark'!$B$6,\"\")","v":""},{"$f":"IF(LEN('1 - Opstart Importark'!$B$9)>0,'1 - Opstart Importark'!$B$9,\"\")","v":""},{"$nulls":19},0,"","objektnogle_"]
[924,null,{"$f":"IF('1 - Opstart Importark'!$B$6=\"\",\"\",CONCATENATE('Blokke - AMV'!$B$2,LEFT('1 - Opstart Importark'!$B$15,2),J936,IF(L936=\"\",\"\",\"-\"),L936,IF(N936=\"\",\"\",\"_\"),N936,IF(P936=\"\",\"\",(CONCATENATE(\"_\",P936)))))","v":""},{"$nulls":14},{"$f":"IF(LEN('1 - Opstart Importark'!$B$6)>0,'1 - Opstart Importark'!$B$6,\"\")","v":""},{"$f":"IF(LEN('1 - Opstart Importark'!$B$9)>0,'1 - Opstart Importark'!$B$9,\"\")","v":""},{"$nulls":19},0,"","objektnogle_"]
[925,null,{"$f":"IF('1 - Opstart Importark'!$B$6=\"\",\"\",CONCATENATE('Blokke - AMV'!$B$2,LEFT('1 - Opstart Importark'!$B$15,2),J937,IF(L937=\"\",\"\",\"-\"),L937,IF(N937=\"\",\"\",\"_\"),N937,IF(P937=\"\",\"\",(CONCATENATE(\"_\",P937)))))","v":""},{"$nulls":14},{"$f":"IF(LEN('1 - Opstart Importark'!$B$6)>0,'1 - Opstart Importark'!$B$6,\"\")","v":""},{"$f":"IF(LEN('1 - Opstart Importark'!$B$9)>0,'1 - Opstart Importark'!$B$9,\"\")","v":""},{"$nulls":19},0,"","objektnogle_"]
[926,null,{"$f":"IF('1 - Opstart Importark'!$B$6=\"\",\"\",CONCATENATE('Blokke - AMV'!$B$2,LEFT('1 - Opstart Importark'!$B$15,2),J938,IF(L938=\"\",\"\",\"-\"),L938,IF(N938=\"\",\"\",\"_\"),N938,IF(P938=\"\",\"\",(CONCATENATE(\"_\",P938)))))","v":""},{"$nulls":14},{"$f":"IF(LEN('1 - Opstart Importark'!$B$6)>0,'1 - Opstart Importark'!$B$6,\"\")","v":""},{"$f":"IF(LEN('1 - Opstart Importark'!$B$9)>0,'1 - Opstart Importark'!$B$9,\"\")","v":""},{"$nulls":19},0,"","objektnogle_"]
[927,null,{"$f":"IF('1 - Opstart Importark'!$B$6=\"\",\"\",CONCATENATE('Blokke - AMV'!$B$2,LEFT('1 - Opstart Importark'!$B$15,2),J939,IF(L939=\"\",\"\",\"-\"),L939,IF(N939=\"\",\"\",\"_\"),N939,IF(P939=\"\",\"\",(CONCATENATE(\"_\",P939)))))","v":""},{"$nulls":14},{"$f":"IF(LEN('1 - Opstart Importark'!$B$6)>0,'1 - Opstart Importark'!$B$6,\"\")","v":""},{"$f":"IF(LEN('1 - Opstart Importark'!$B$9)>0,'1 - Opstart Importark'!$B$9,\"\")","v":""},{"$nulls":19},0,"","objektnogle_"]
[928,null,{"$f":"IF('1 - Opstart Importark'!$B$6=\"\",\"\",CONCATENATE('Blokke - AMV'!$B$2,LEFT('1 - Opstart Importark'!$B$15,2),J940,IF(L940=\"\",\"\",\"-\"),L940,IF(N940=\"\",\"\",\"_\"),N940,IF(P940=\"\",\"\",(CONCATENATE(\"_\",P940)))))","v":""},{"$nulls":14},{"$f":"IF(LEN('1 - Opstart Importark'!$B$6)>0,'1 - Opstart Importark'!$B$6,\"\")","v":""},{"$f":"IF(LEN('1 - Opstart Importark'!$B$9)>0,'1 - Opstart Importark'!$B$9,\"\")","v":""},{"$nulls":19},0,"","objektnogle_"]
[929,null,{"$f":"IF('1 - Opstart Importark'!$B$6=\"\",\"\",CONCATENATE('Blokke - AMV'!$B$2,LEFT('1 - Opstart Importark'!$B$15,2),J941,IF(L941=\"\",\"\",\"-\"),L941,IF(N941=\"\",\"\",\"_\"),N941,IF(P941=\"\",\"\",(CONCATENATE(\"_\",P941)))))","v":""},{"$nulls":14},{"$f":"IF(LEN('1 - Opstart Importark'!$B$6)>0,'1 - Opstart Importark'!$B$6,\"\")","v":""},{"$f":"IF(LEN('1 - Opstart Importark'!$B$9)>0,'1 - Opstart Importark'!$B$9,\"\")","v":""},{"$nulls":19},0,"","objektnogle_"]
[930,null,{"$f":"IF('1 - Opstart Importark'!$B$6=\"\",\"\",CONCATENATE('Blokke - AMV'!$B$2,LEFT('1 - Opstart Importark'!$B$15,2),J942,IF(L942=\"\",\"\",\"-\"),L942,IF(N942=\"\",\"\",\"_\"),N942,IF(P942=\"\",\"\",(CONCATENATE(\"_\",P942)))))","v":""},{"$nulls":14},{"$f":"IF(LEN('1 - Opstart Importark'!$B$6)>0,'1 - Opstart Importark'!$B$6,\"\")","v":""},{"$f":"IF(LEN('1 - Opstart Importark'!$B$9)>0,'1 - Opstart Importark'!$B$9,\"\")","v":""},{"$nulls":19},0,"","objektnogle_"]
[931,null,{"$f":"IF('1 - Opstart Importark'!$B$6=\"\",\"\",CONCATENATE('Blokke - AMV'!$B$2,LEFT('1 - Opstart Importark'!$B$15,2),J943,IF(L943=\"\",\"\",\"-\"),L943,IF(N943=\"\",\"\",\"_\"),N943,IF(P943=\"\",\"\",(CONCATENATE(\"_\",P943)))))","v":""},{"$nulls":14},{"$f":"IF(LEN('1 - Opstart Importark'!$B$6)>0,'1 - Opstart Importark'!$B$6,\"\")","v":""},{"$f":"IF(LEN('1 - Opstart Importark'!$B$9)>0,'1 - Opstart Importark'!$B$9,\"\")","v":""},{"$nulls":19},0,"","objektnogle_"]
[932,null,{"$f":"IF('1 - Opstart Importark'!$B$6=\"\",\"\",CONCATENATE('Blokke - AMV'!$B$2,LEFT('1 - Opstart Importark'!$B$15,2),J944,IF(L944=\"\",\"\",\"-\"),L944,IF(N944=\"\",\"\",\"_\"),N944,IF(P944=\"\",\"\",(CONCATENATE(\"_\",P944)))))","v":""},{"$nulls":14},{"$f":"IF(LEN('1 - Opstart Importark'!$B$6)>0,'1 - Opstart Importark'!$B$6,\"\")","v":""},{"$f":"IF(LEN('1 - Opstart Importark'!$B$9)>0,'1 - Opstart Importark'!$B$9,\"\")","v":""},{"$nulls":19},0,"","objektnogle_"]
[933,null,{"$f":"IF('1 - Opstart Importark'!$B$6=\"\",\"\",CONCATENATE('Blokke - AMV'!$B$2,LEFT('1 - Opstart Importark'!$B$15,2),J945,IF(L945=\"\",\"\",\"-\"),L945,IF(N945=\"\",\"\",\"_\"),N945,IF(P945=\"\",\"\",(CONCATENATE(\"_\",P945)))))","v":""},{"$nulls":14},{"$f":"IF(LEN('1 - Opstart Importark'!$B$6)>0,'1 - Opstart Importark'!$B$6,\"\")","v":""},{"$f":"IF(LEN('1 - Opstart Importark'!$B$9)>0,'1 - Opstart Importark'!$B$9,\"\")","v":""},{"$nulls":19},0,"","objektnogle_"]
[934,null,{"$f":"IF('1 - Opstart Importark'!$B$6=\"\",\"\",CONCATENATE('Blokke - AMV'!$B$2,LEFT('1 - Opstart Importark'!$B$15,2),J946,IF(L946=\"\",\"\",\"-\"),L946,IF(N946=\"\",\"\",\"_\"),N946,IF(P946=\"\",\"\",(CONCATENATE(\"_\",P946)))))","v":""},{"$nulls":14},{"$f":"IF(LEN('1 - Opstart Importark'!$B$6)>0,'1 - Opstart Importark'!$B$6,\"\")","v":""},{"$f":"IF(LEN('1 - Opstart Importark'!$B$9)>0,'1 - Opstart Importark'!$B$9,\"\")","v":""},{"$nulls":19},0,"","objektnogle_"]
[935,null,{"$f":"IF('1 - Opstart Importark'!$B$6=\"\",\"\",CONCATENATE('Blokke - AMV'!$B$2,LEFT('1 - Opstart Importark'!$B$15,2),J947,IF(L947=\"\",\"\",\"-\"),L947,IF(N947=\"\",\"\",\"_\"),N947,IF(P947=\"\",\"\",(CONCATENATE(\"_\",P947)))))","v":""},{"$nulls":14},{"$f":"IF(LEN('1 - Opstart Importark'!$B$6)>0,'1 - Opstart Importark'!$B$6,\"\")","v":""},{"$f":"IF(LEN('1 - Opstart Importark'!$B$9)>0,'1 - Opstart Importark'!$B$9,\"\")","v":""},{"$nulls":19},0,"","objektnogle_"]
[936,null,{"$f":"IF('1 - Opstart Importark'!$B$6=\"\",\"\",CONCATENATE('Blokke - AMV'!$B$2,LEFT('1 - Opstart Importark'!$B$15,2),J948,IF(L948=\"\",\"\",\"-\"),L948,IF(N948=\"\",\"\",\"_\"),N948,IF(P948=\"\",\"\",(CONCATENATE(\"_\",P948)))))","v":""},{"$nulls":14},{"$f":"IF(LEN('1 - Opstart Importark'!$B$6)>0,'1 - Opstart Importark'!$B$6,\"\")","v":""},{"$f":"IF(LEN('1 - Opstart Importark'!$B$9)>0,'1 - Opstart Importark'!$B$9,\"\")","v":""},{"$nulls":19},0,"","objektnogle_"]
[937,null,{"$f":"IF('1 - Opstart Importark'!$B$6=\"\",\"\",CONCATENATE('Blokke - AMV'!$B$2,LEFT('1 - Opstart Importark'!$B$15,2),J949,IF(L949=\"\",\"\",\"-\"),L949,IF(N949=\"\",\"\",\"_\"),N949,IF(P949=\"\",\"\",(CONCATENATE(\"_\",P949)))))","v":""},{"$nulls":14},{"$f":"IF(LEN('1 - Opstart Importark'!$B$6)>0,'1 - Opstart Importark'!$B$6,\"\")","v":""},{"$f":"IF(LEN('1 - Opstart Importark'!$B$9)>0,'1 - Opstart Importark'!$B$9,\"\")","v":""},{"$nulls":19},0,"","objektnogle_"]
[938,null,{"$f":"IF('1 - Opstart Importark'!$B$6=\"\",\"\",CONCATENATE('Blokke - AMV'!$B$2,LEFT('1 - Opstart Importark'!$B$15,2),J950,IF(L950=\"\",\"\",\"-\"),L950,IF(N950=\"\",\"\",\"_\"),N950,IF(P950=\"\",\"\",(CONCATENATE(\"_\",P950)))))","v":""},{"$nulls":14},{"$f":"IF(LEN('1 - Opstart Importark'!$B$6)>0,'1 - Opstart Importark'!$B$6,\"\")","v":""},{"$f":"IF(LEN('1 - Opstart Importark'!$B$9)>0,'1 - Opstart Importark'!$B$9,\"\")","v":""},{"$nulls":19},0,"","objektnogle_"]
[939,null,{"$f":"IF('1 - Opstart Importark'!$B$6=\"\",\"\",CONCATENATE('Blokke - AMV'!$B$2,LEFT('1 - Opstart Importark'!$B$15,2),J951,IF(L951=\"\",\"\",\"-\"),L951,IF(N951=\"\",\"\",\"_\"),N951,IF(P951=\"\",\"\",(CONCATENATE(\"_\",P951)))))","v":""},{"$nulls":14},{"$f":"IF(LEN('1 - Opstart Importark'!$B$6)>0,'1 - Opstart Importark'!$B$6,\"\")","v":""},{"$f":"IF(LEN('1 - Opstart Importark'!$B$9)>0,'1 - Opstart Importark'!$B$9,\"\")","v":""},{"$nulls":19},0,"","objektnogle_"]
[940,null,{"$f":"IF('1 - Opstart Importark'!$B$6=\"\",\"\",CONCATENATE('Blokke - AMV'!$B$2,LEFT('1 - Opstart Importark'!$B$15,2),J952,IF(L952=\"\",\"\",\"-\"),L952,IF(N952=\"\",\"\",\"_\"),N952,IF(P952=\"\",\"\",(CONCATENATE(\"_\",P952)))))","v":""},{"$nulls":14},{"$f":"IF(LEN('1 - Opstart Importark'!$B$6)>0,'1 - Opstart Importark'!$B$6,\"\")","v":""},{"$f":"IF(LEN('1 - Opstart Importark'!$B$9)>0,'1 - Opstart Importark'!$B$9,\"\")","v":""},{"$nulls":19},0,"","objektnogle_"]
[941,null,{"$f":"IF('1 - Opstart Importark'!$B$6=\"\",\"\",CONCATENATE('Blokke - AMV'!$B$2,LEFT('1 - Opstart Importark'!$B$15,2),J953,IF(L953=\"\",\"\",\"-\"),L953,IF(N953=\"\",\"\",\"_\"),N953,IF(P953=\"\",\"\",(CONCATENATE(\"_\",P953)))))","v":""},{"$nulls":14},{"$f":"IF(LEN('1 - Opstart Importark'!$B$6)>0,'1 - Opstart Importark'!$B$6,\"\")","v":""},{"$f":"IF(LEN('1 - Opstart Importark'!$B$9)>0,'1 - Opstart Importark'!$B$9,\"\")","v":""},{"$nulls":19},0,"","objektnogle_"]
[942,null,{"$f":"IF('1 - Opstart Importark'!$B$6=\"\",\"\",CONCATENATE('Blokke - AMV'!$B$2,LEFT('1 - Opstart Importark'!$B$15,2),J954,IF(L954=\"\",\"\",\"-\"),L954,IF(N954=\"\",\"\",\"_\"),N954,IF(P954=\"\",\"\",(CONCATENATE(\"_\",P954)))))","v":""},{"$nulls":14},{"$f":"IF(LEN('1 - Opstart Importark'!$B$6)>0,'1 - Opstart Importark'!$B$6,\"\")","v":""},{"$f":"IF(LEN('1 - Opstart Importark'!$B$9)>0,'1 - Opstart Importark'!$B$9,\"\")","v":""},{"$nulls":19},0,"","objektnogle_"]
[943,null,{"$f":"IF('1 - Opstart Importark'!$B$6=\"\",\"\",CONCATENATE('Blokke - AMV'!$B$2,LEFT('1 - Opstart Importark'!$B$15,2),J955,IF(L955=\"\",\"\",\"-\"),L955,IF(N955=\"\",\"\",\"_\"),N955,IF(P955=\"\",\"\",(CONCATENATE(\"_\",P955)))))","v":""},{"$nulls":14},{"$f":"IF(LEN('1 - Opstart Importark'!$B$6)>0,'1 - Opstart Importark'!$B$6,\"\")","v":""},{"$f":"IF(LEN('1 - Opstart Importark'!$B$9)>0,'1 - Opstart Importark'!$B$9,\"\")","v":""},{"$nulls":19},0,"","objektnogle_"]
[944,null,{"$f":"IF('1 - Opstart Importark'!$B$6=\"\",\"\",CONCATENATE('Blokke - AMV'!$B$2,LEFT('1 - Opstart Importark'!$B$15,2),J956,IF(L956=\"\",\"\",\"-\"),L956,IF(N956=\"\",\"\",\"_\"),N956,IF(P956=\"\",\"\",(CONCATENATE(\"_\",P956)))))","v":""},{"$nulls":14},{"$f":"IF(LEN('1 - Opstart Importark'!$B$6)>0,'1 - Opstart Importark'!$B$6,\"\")","v":""},{"$f":"IF(LEN('1 - Opstart Importark'!$B$9)>0,'1 - Opstart Importark'!$B$9,\"\")","v":""},{"$nulls":19},0,"","objektnogle_"]
[945,null,{"$f":"IF('1 - Opstart Importark'!$B$6=\"\",\"\",CONCATENATE('Blokke - AMV'!$B$2,LEFT('1 - Opstart Importark'!$B$15,2),J957,IF(L957=\"\",\"\",\"-\"),L957,IF(N957=\"\",\"\",\"_\"),N957,IF(P957=\"\",\"\",(CONCATENATE(\"_\",P957)))))","v":""},{"$nulls":14},{"$f":"IF(LEN('1 - Opstart Importark'!$B$6)>0,'1 - Opstart Importark'!$B$6,\"\")","v":""},{"$f":"IF(LEN('1 - Opstart Importark'!$B$9)>0,'1 - Opstart Importark'!$B$9,\"\")","v":""},{"$nulls":19},0,"","objektnogle_"]
[946,null,{"$f":"IF('1 - Opstart Importark'!$B$6=\"\",\"\",CONCATENATE('Blokke - AMV'!$B$2,LEFT('1 - Opstart Importark'!$B$15,2),J958,IF(L958=\"\",\"\",\"-\"),L958,IF(N958=\"\",\"\",\"_\"),N958,IF(P958=\"\",\"\",(CONCATENATE(\"_\",P958)))))","v":""},{"$nulls":14},{"$f":"IF(LEN('1 - Opstart Importark'!$B$6)>0,'1 - Opstart Importark'!$B$6,\"\")","v":""},{"$f":"IF(LEN('1 - Opstart Importark'!$B$9)>0,'1 - Opstart Importark'!$B$9,\"\")","v":""},{"$nulls":19},0,"","objektnogle_"]
[947,null,{"$f":"IF('1 - Opstart Importark'!$B$6=\"\",\"\",CONCATENATE('Blokke - AMV'!$B$2,LEFT('1 - Opstart Importark'!$B$15,2),J959,IF(L959=\"\",\"\",\"-\"),L959,IF(N959=\"\",\"\",\"_\"),N959,IF(P959=\"\",\"\",(CONCATENATE(\"_\",P959)))))","v":""},{"$nulls":14},{"$f":"IF(LEN('1 - Opstart Importark'!$B$6)>0,'1 - Opstart Importark'!$B$6,\"\")","v":""},{"$f":"IF(LEN('1 - Opstart Importark'!$B$9)>0,'1 - Opstart Importark'!$B$9,\"\")","v":""},{"$nulls":19},0,"","objektnogle_"]
[948,null,{"$f":"IF('1 - Opstart Importark'!$B$6=\"\",\"\",CONCATENATE('Blokke - AMV'!$B$2,LEFT('1 - Opstart Importark'!$B$15,2),J960,IF(L960=\"\",\"\",\"-\"),L960,IF(N960=\"\",\"\",\"_\"),N960,IF(P960=\"\",\"\",(CONCATENATE(\"_\",P960)))))","v":""},{"$nulls":14},{"$f":"IF(LEN('1 - Opstart Importark'!$B$6)>0,'1 - Opstart Importark'!$B$6,\"\")","v":""},{"$f":"IF(LEN('1 - Opstart Importark'!$B$9)>0,'1 - Opstart Importark'!$B$9,\"\")","v":""},{"$nulls":19},0,"","objektnogle_"]
[949,null,{"$f":"IF('1 - Opstart Importark'!$B$6=\"\",\"\",CONCATENATE('Blokke - AMV'!$B$2,LEFT('1 - Opstart Importark'!$B$15,2),J961,IF(L961=\"\",\"\",\"-\"),L961,IF(N961=\"\",\"\",\"_\"),N961,IF(P961=\"\",\"\",(CONCATENATE(\"_\",P961)))))","v":""},{"$nulls":14},{"$f":"IF(LEN('1 - Opstart Importark'!$B$6)>0,'1 - Opstart Importark'!$B$6,\"\")","v":""},{"$f":"IF(LEN('1 - Opstart Importark'!$B$9)>0,'1 - Opstart Importark'!$B$9,\"\")","v":""},{"$nulls":19},0,"","objektnogle_"]
[950,null,{"$f":"IF('1 - Opstart Importark'!$B$6=\"\",\"\",CONCATENATE('Blokke - AMV'!$B$2,LEFT('1 - Opstart Importark'!$B$15,2),J962,IF(L962=\"\",\"\",\"-\"),L962,IF(N962=\"\",\"\",\"_\"),N962,IF(P962=\"\",\"\",(CONCATENATE(\"_\",P962)))))","v":""},{"$nulls":14},{"$f":"IF(LEN('1 - Opstart Importark'!$B$6)>0,'1 - Opstart Importark'!$B$6,\"\")","v":""},{"$f":"IF(LEN('1 - Opstart Importark'!$B$9)>0,'1 - Opstart Importark'!$B$9,\"\")","v":""},{"$nulls":19},0,"","objektnogle_"]
[951,null,{"$f":"IF('1 - Opstart Importark'!$B$6=\"\",\"\",CONCATENATE('Blokke - AMV'!$B$2,LEFT('1 - Opstart Importark'!$B$15,2),J963,IF(L963=\"\",\"\",\"-\"),L963,IF(N963=\"\",\"\",\"_\"),N963,IF(P963=\"\",\"\",(CONCATENATE(\"_\",P963)))))","v":""},{"$nulls":14},{"$f":"IF(LEN('1 - Opstart Importark'!$B$6)>0,'1 - Opstart Importark'!$B$6,\"\")","v":""},{"$f":"IF(LEN('1 - Opstart Importark'!$B$9)>0,'1 - Opstart Importark'!$B$9,\"\")","v":""},{"$nulls":19},0,"","objektnogle_"]
[952,null,{"$f":"IF('1 - Opstart Importark'!$B$6=\"\",\"\",CONCATENATE('Blokke - AMV'!$B$2,LEFT('1 - Opstart Importark'!$B$15,2),J964,IF(L964=\"\",\"\",\"-\"),L964,IF(N964=\"\",\"\",\"_\"),N964,IF(P964=\"\",\"\",(CONCATENATE(\"_\",P964)))))","v":""},{"$nulls":14},{"$f":"IF(LEN('1 - Opstart Importark'!$B$6)>0,'1 - Opstart Importark'!$B$6,\"\")","v":""},{"$f":"IF(LEN('1 - Opstart Importark'!$B$9)>0,'1 - Opstart Importark'!$B$9,\"\")","v":""},{"$nulls":19},0,"","objektnogle_"]
[953,null,{"$f":"IF('1 - Opstart Importark'!$B$6=\"\",\"\",CONCATENATE('Blokke - AMV'!$B$2,LEFT('1 - Opstart Importark'!$B$15,2),J965,IF(L965=\"\",\"\",\"-\"),L965,IF(N965=\"\",\"\",\"_\"),N965,IF(P965=\"\",\"\",(CONCATENATE(\"_\",P965)))))","v":""},{"$nulls":14},{"$f":"IF(LEN('1 - Opstart Importark'!$B$6)>0,'1 - Opstart Importark'!$B$6,\"\")","v":""},{"$f":"IF(LEN('1 - Opstart Importark'!$B$9)>0,'1 - Opstart Importark'!$B$9,\"\")","v":""},{"$nulls":19},0,"","objektnogle_"]
[954,null,{"$f":"IF('1 - Opstart Importark'!$B$6=\"\",\"\",CONCATENATE('Blokke - AMV'!$B$2,LEFT('1 - Opstart Importark'!$B$15,2),J966,IF(L966=\"\",\"\",\"-\"),L966,IF(N966=\"\",\"\",\"_\"),N966,IF(P966=\"\",\"\",(CONCATENATE(\"_\",P966)))))","v":""},{"$nulls":14},{"$f":"IF(LEN('1 - Opstart Importark'!$B$6)>0,'1 - Opstart Importark'!$B$6,\"\")","v":""},{"$f":"IF(LEN('1 - Opstart Importark'!$B$9)>0,'1 - Opstart Importark'!$B$9,\"\")","v":""},{"$nulls":19},0,"","objektnogle_"]
[955,null,{"$f":"IF('1 - Opstart Importark'!$B$6=\"\",\"\",CONCATENATE('Blokke - AMV'!$B$2,LEFT('1 - Opstart Importark'!$B$15,2),J967,IF(L967=\"\",\"\",\"-\"),L967,IF(N967=\"\",\"\",\"_\"),N967,IF(P967=\"\",\"\",(CONCATENATE(\"_\",P967)))))","v":""},{"$nulls":14},{"$f":"IF(LEN('1 - Opstart Importark'!$B$6)>0,'1 - Opstart Importark'!$B$6,\"\")","v":""},{"$f":"IF(LEN('1 - Opstart Importark'!$B$9)>0,'1 - Opstart Importark'!$B$9,\"\")","v":""},{"$nulls":19},0,"","objektnogle_"]
[956,null,{"$f":"IF('1 - Opstart Importark'!$B$6=\"\",\"\",CONCATENATE('Blokke - AMV'!$B$2,LEFT('1 - Opstart Importark'!$B$15,2),J968,IF(L968=\"\",\"\",\"-\"),L968,IF(N968=\"\",\"\",\"_\"),N968,IF(P968=\"\",\"\",(CONCATENATE(\"_\",P968)))))","v":""},{"$nulls":14},{"$f":"IF(LEN('1 - Opstart Importark'!$B$6)>0,'1 - Opstart Importark'!$B$6,\"\")","v":""},{"$f":"IF(LEN('1 - Opstart Importark'!$B$9)>0,'1 - Opstart Importark'!$B$9,\"\")","v":""},{"$nulls":19},0,"","objektnogle_"]
[957,null,{"$f":"IF('1 - Opstart Importark'!$B$6=\"\",\"\",CONCATENATE('Blokke - AMV'!$B$2,LEFT('1 - Opstart Importark'!$B$15,2),J969,IF(L969=\"\",\"\",\"-\"),L969,IF(N969=\"\",\"\",\"_\"),N969,IF(P969=\"\",\"\",(CONCATENATE(\"_\",P969)))))","v":""},{"$nulls":14},{"$f":"IF(LEN('1 - Opstart Importark'!$B$6)>0,'1 - Opstart Importark'!$B$6,\"\")","v":""},{"$f":"IF(LEN('1 - Opstart Importark'!$B$9)>0,'1 - Opstart Importark'!$B$9,\"\")","v":""},{"$nulls":19},0,"","objektnogle_"]
[958,null,{"$f":"IF('1 - Opstart Importark'!$B$6=\"\",\"\",CONCATENATE('Blokke - AMV'!$B$2,LEFT('1 - Opstart Importark'!$B$15,2),J970,IF(L970=\"\",\"\",\"-\"),L970,IF(N970=\"\",\"\",\"_\"),N970,IF(P970=\"\",\"\",(CONCATENATE(\"_\",P970)))))","v":""},{"$nulls":14},{"$f":"IF(LEN('1 - Opstart Importark'!$B$6)>0,'1 - Opstart Importark'!$B$6,\"\")","v":""},{"$f":"IF(LEN('1 - Opstart Importark'!$B$9)>0,'1 - Opstart Importark'!$B$9,\"\")","v":""},{"$nulls":19},0,"","objektnogle_"]
[959,null,{"$f":"IF('1 - Opstart Importark'!$B$6=\"\",\"\",CONCATENATE('Blokke - AMV'!$B$2,LEFT('1 - Opstart Importark'!$B$15,2),J971,IF(L971=\"\",\"\",\"-\"),L971,IF(N971=\"\",\"\",\"_\"),N971,IF(P971=\"\",\"\",(CONCATENATE(\"_\",P971)))))","v":""},{"$nulls":14},{"$f":"IF(LEN('1 - Opstart Importark'!$B$6)>0,'1 - Opstart Importark'!$B$6,\"\")","v":""},{"$f":"IF(LEN('1 - Opstart Importark'!$B$9)>0,'1 - Opstart Importark'!$B$9,\"\")","v":""},{"$nulls":19},0,"","objektnogle_"]
[960,null,{"$f":"IF('1 - Opstart Importark'!$B$6=\"\",\"\",CONCATENATE('Blokke - AMV'!$B$2,LEFT('1 - Opstart Importark'!$B$15,2),J972,IF(L972=\"\",\"\",\"-\"),L972,IF(N972=\"\",\"\",\"_\"),N972,IF(P972=\"\",\"\",(CONCATENATE(\"_\",P972)))))","v":""},{"$nulls":14},{"$f":"IF(LEN('1 - Opstart Importark'!$B$6)>0,'1 - Opstart Importark'!$B$6,\"\")","v":""},{"$f":"IF(LEN('1 - Opstart Importark'!$B$9)>0,'1 - Opstart Importark'!$B$9,\"\")","v":""},{"$nulls":19},0,"","objektnogle_"]
[961,null,{"$f":"IF('1 - Opstart Importark'!$B$6=\"\",\"\",CONCATENATE('Blokke - AMV'!$B$2,LEFT('1 - Opstart Importark'!$B$15,2),J973,IF(L973=\"\",\"\",\"-\"),L973,IF(N973=\"\",\"\",\"_\"),N973,IF(P973=\"\",\"\",(CONCATENATE(\"_\",P973)))))","v":""},{"$nulls":14},{"$f":"IF(LEN('1 - Opstart Importark'!$B$6)>0,'1 - Opstart Importark'!$B$6,\"\")","v":""},{"$f":"IF(LEN('1 - Opstart Importark'!$B$9)>0,'1 - Opstart Importark'!$B$9,\"\")","v":""},{"$nulls":19},{"$f":"IFERROR(FIND(\".\",G973),)","v":0},{"$f":"IF(L973=\"\",\"\",IF(LEFT(L973,1)=\"E\",0,1))","v":""},{"$f":"CONCATENATE(\"objektnogle_\",LEFT(L973,1))","v":"objektnogle_"}]
[962,null,{"$f":"IF('1 - Opstart Importark'!$B$6=\"\",\"\",CONCATENATE('Blokke - AMV'!$B$2,LEFT('1 - Opstart Importark'!$B$15,2),J974,IF(L974=\"\",\"\",\"-\"),L974,IF(N974=\"\",\"\",\"_\"),N974,IF(P974=\"\",\"\",(CONCATENATE(\"_\",P974)))))","v":""},{"$nulls":14},{"$f":"IF(LEN('1 - Opstart Importark'!$B$6)>0,'1 - Opstart Importark'!$B$6,\"\")","v":""},{"$f":"IF(LEN('1 - Opstart Importark'!$B$9)>0,'1 - Opstart Importark'!$B$9,\"\")","v":""},{"$nulls":19},0,"","objektnogle_"]
[963,null,{"$f":"IF('1 - Opstart Importark'!$B$6=\"\",\"\",CONCATENATE('Blokke - AMV'!$B$2,LEFT('1 - Opstart Importark'!$B$15,2),J975,IF(L975=\"\",\"\",\"-\"),L975,IF(N975=\"\",\"\",\"_\"),N975,IF(P975=\"\",\"\",(CONCATENATE(\"_\",P975)))))","v":""},{"$nulls":14},{"$f":"IF(LEN('1 - Opstart Importark'!$B$6)>0,'1 - Opstart Importark'!$B$6,\"\")","v":""},{"$f":"IF(LEN('1 - Opstart Importark'!$B$9)>0,'1 - Opstart Importark'!$B$9,\"\")","v":""},{"$nulls":19},0,"","objektnogle_"]
[964,null,{"$f":"IF('1 - Opstart Importark'!$B$6=\"\",\"\",CONCATENATE('Blokke - AMV'!$B$2,LEFT('1 - Opstart Importark'!$B$15,2),J976,IF(L976=\"\",\"\",\"-\"),L976,IF(N976=\"\",\"\",\"_\"),N976,IF(P976=\"\",\"\",(CONCATENATE(\"_\",P976)))))","v":""},{"$nulls":14},{"$f":"IF(LEN('1 - Opstart Importark'!$B$6)>0,'1 - Opstart Importark'!$B$6,\"\")","v":""},{"$f":"IF(LEN('1 - Opstart Importark'!$B$9)>0,'1 - Opstart Importark'!$B$9,\"\")","v":""},{"$nulls":19},0,"","objektnogle_"]
[965,null,{"$f":"IF('1 - Opstart Importark'!$B$6=\"\",\"\",CONCATENATE('Blokke - AMV'!$B$2,LEFT('1 - Opstart Importark'!$B$15,2),J977,IF(L977=\"\",\"\",\"-\"),L977,IF(N977=\"\",\"\",\"_\"),N977,IF(P977=\"\",\"\",(CONCATENATE(\"_\",P977)))))","v":""},{"$nulls":14},{"$f":"IF(LEN('1 - Opstart Importark'!$B$6)>0,'1 - Opstart Importark'!$B$6,\"\")","v":""},{"$f":"IF(LEN('1 - Opstart Importark'!$B$9)>0,'1 - Opstart Importark'!$B$9,\"\")","v":""},{"$nulls":19},0,"","objektnogle_"]
[966,null,{"$f":"IF('1 - Opstart Importark'!$B$6=\"\",\"\",CONCATENATE('Blokke - AMV'!$B$2,LEFT('1 - Opstart Importark'!$B$15,2),J978,IF(L978=\"\",\"\",\"-\"),L978,IF(N978=\"\",\"\",\"_\"),N978,IF(P978=\"\",\"\",(CONCATENATE(\"_\",P978)))))","v":""},{"$nulls":14},{"$f":"IF(LEN('1 - Opstart Importark'!$B$6)>0,'1 - Opstart Importark'!$B$6,\"\")","v":""},{"$f":"IF(LEN('1 - Opstart Importark'!$B$9)>0,'1 - Opstart Importark'!$B$9,\"\")","v":""},{"$nulls":19},0,"","objektnogle_"]
[967,null,{"$f":"IF('1 - Opstart Importark'!$B$6=\"\",\"\",CONCATENATE('Blokke - AMV'!$B$2,LEFT('1 - Opstart Importark'!$B$15,2),J979,IF(L979=\"\",\"\",\"-\"),L979,IF(N979=\"\",\"\",\"_\"),N979,IF(P979=\"\",\"\",(CONCATENATE(\"_\",P979)))))","v":""},{"$nulls":14},{"$f":"IF(LEN('1 - Opstart Importark'!$B$6)>0,'1 - Opstart Importark'!$B$6,\"\")","v":""},{"$f":"IF(LEN('1 - Opstart Importark'!$B$9)>0,'1 - Opstart Importark'!$B$9,\"\")","v":""},{"$nulls":19},0,"","objektnogle_"]
[968,null,{"$f":"IF('1 - Opstart Importark'!$B$6=\"\",\"\",CONCATENATE('Blokke - AMV'!$B$2,LEFT('1 - Opstart Importark'!$B$15,2),J980,IF(L980=\"\",\"\",\"-\"),L980,IF(N980=\"\",\"\",\"_\"),N980,IF(P980=\"\",\"\",(CONCATENATE(\"_\",P980)))))","v":""},{"$nulls":14},{"$f":"IF(LEN('1 - Opstart Importark'!$B$6)>0,'1 - Opstart Importark'!$B$6,\"\")","v":""},{"$f":"IF(LEN('1 - Opstart Importark'!$B$9)>0,'1 - Opstart Importark'!$B$9,\"\")","v":""},{"$nulls":19},0,"","objektnogle_"]
[969,null,{"$f":"IF('1 - Opstart Importark'!$B$6=\"\",\"\",CONCATENATE('Blokke - AMV'!$B$2,LEFT('1 - Opstart Importark'!$B$15,2),J981,IF(L981=\"\",\"\",\"-\"),L981,IF(N981=\"\",\"\",\"_\"),N981,IF(P981=\"\",\"\",(CONCATENATE(\"_\",P981)))))","v":""},{"$nulls":14},{"$f":"IF(LEN('1 - Opstart Importark'!$B$6)>0,'1 - Opstart Importark'!$B$6,\"\")","v":""},{"$f":"IF(LEN('1 - Opstart Importark'!$B$9)>0,'1 - Opstart Importark'!$B$9,\"\")","v":""},{"$nulls":19},0,"","objektnogle_"]
[970,null,{"$f":"IF('1 - Opstart Importark'!$B$6=\"\",\"\",CONCATENATE('Blokke - AMV'!$B$2,LEFT('1 - Opstart Importark'!$B$15,2),J982,IF(L982=\"\",\"\",\"-\"),L982,IF(N982=\"\",\"\",\"_\"),N982,IF(P982=\"\",\"\",(CONCATENATE(\"_\",P982)))))","v":""},{"$nulls":14},{"$f":"IF(LEN('1 - Opstart Importark'!$B$6)>0,'1 - Opstart Importark'!$B$6,\"\")","v":""},{"$f":"IF(LEN('1 - Opstart Importark'!$B$9)>0,'1 - Opstart Importark'!$B$9,\"\")","v":""},{"$nulls":19},0,"","objektnogle_"]
[971,null,{"$f":"IF('1 - Opstart Importark'!$B$6=\"\",\"\",CONCATENATE('Blokke - AMV'!$B$2,LEFT('1 - Opstart Importark'!$B$15,2),J983,IF(L983=\"\",\"\",\"-\"),L983,IF(N983=\"\",\"\",\"_\"),N983,IF(P983=\"\",\"\",(CONCATENATE(\"_\",P983)))))","v":""},{"$nulls":14},{"$f":"IF(LEN('1 - Opstart Importark'!$B$6)>0,'1 - Opstart Importark'!$B$6,\"\")","v":""},{"$f":"IF(LEN('1 - Opstart Importark'!$B$9)>0,'1 - Opstart Importark'!$B$9,\"\")","v":""},{"$nulls":19},0,"","objektnogle_"]
[972,null,{"$f":"IF('1 - Opstart Importark'!$B$6=\"\",\"\",CONCATENATE('Blokke - AMV'!$B$2,LEFT('1 - Opstart Importark'!$B$15,2),J984,IF(L984=\"\",\"\",\"-\"),L984,IF(N984=\"\",\"\",\"_\"),N984,IF(P984=\"\",\"\",(CONCATENATE(\"_\",P984)))))","v":""},{"$nulls":14},{"$f":"IF(LEN('1 - Opstart Importark'!$B$6)>0,'1 - Opstart Importark'!$B$6,\"\")","v":""},{"$f":"IF(LEN('1 - Opstart Importark'!$B$9)>0,'1 - Opstart Importark'!$B$9,\"\")","v":""},{"$nulls":19},0,"","objektnogle_"]
[973,null,{"$f":"IF('1 - Opstart Importark'!$B$6=\"\",\"\",CONCATENATE('Blokke - AMV'!$B$2,LEFT('1 - Opstart Importark'!$B$15,2),J985,IF(L985=\"\",\"\",\"-\"),L985,IF(N985=\"\",\"\",\"_\"),N985,IF(P985=\"\",\"\",(CONCATENATE(\"_\",P985)))))","v":""},{"$nulls":14},{"$f":"IF(LEN('1 - Opstart Importark'!$B$6)>0,'1 - Opstart Importark'!$B$6,\"\")","v":""},{"$f":"IF(LEN('1 - Opstart Importark'!$B$9)>0,'1 - Opstart Importark'!$B$9,\"\")","v":""},{"$nulls":19},0,"","objektnogle_"]
[974,null,{"$f":"IF('1 - Opstart Importark'!$B$6=\"\",\"\",CONCATENATE('Blokke - AMV'!$B$2,LEFT('1 - Opstart Importark'!$B$15,2),J986,IF(L986=\"\",\"\",\"-\"),L986,IF(N986=\"\",\"\",\"_\"),N986,IF(P986=\"\",\"\",(CONCATENATE(\"_\",P986)))))","v":""},{"$nulls":14},{"$f":"IF(LEN('1 - Opstart Importark'!$B$6)>0,'1 - Opstart Importark'!$B$6,\"\")","v":""},{"$f":"IF(LEN('1 - Opstart Importark'!$B$9)>0,'1 - Opstart Importark'!$B$9,\"\")","v":""},{"$nulls":19},0,"","objektnogle_"]
[975,null,{"$f":"IF('1 - Opstart Importark'!$B$6=\"\",\"\",CONCATENATE('Blokke - AMV'!$B$2,LEFT('1 - Opstart Importark'!$B$15,2),J987,IF(L987=\"\",\"\",\"-\"),L987,IF(N987=\"\",\"\",\"_\"),N987,IF(P987=\"\",\"\",(CONCATENATE(\"_\",P987)))))","v":""},{"$nulls":14},{"$f":"IF(LEN('1 - Opstart Importark'!$B$6)>0,'1 - Opstart Importark'!$B$6,\"\")","v":""},{"$f":"IF(LEN('1 - Opstart Importark'!$B$9)>0,'1 - Opstart Importark'!$B$9,\"\")","v":""},{"$nulls":19},0,"","objektnogle_"]
[976,null,{"$f":"IF('1 - Opstart Importark'!$B$6=\"\",\"\",CONCATENATE('Blokke - AMV'!$B$2,LEFT('1 - Opstart Importark'!$B$15,2),J988,IF(L988=\"\",\"\",\"-\"),L988,IF(N988=\"\",\"\",\"_\"),N988,IF(P988=\"\",\"\",(CONCATENATE(\"_\",P988)))))","v":""},{"$nulls":14},{"$f":"IF(LEN('1 - Opstart Importark'!$B$6)>0,'1 - Opstart Importark'!$B$6,\"\")","v":""},{"$f":"IF(LEN('1 - Opstart Importark'!$B$9)>0,'1 - Opstart Importark'!$B$9,\"\")","v":""},{"$nulls":19},0,"","objektnogle_"]
[977,null,{"$f":"IF('1 - Opstart Importark'!$B$6=\"\",\"\",CONCATENATE('Blokke - AMV'!$B$2,LEFT('1 - Opstart Importark'!$B$15,2),J989,IF(L989=\"\",\"\",\"-\"),L989,IF(N989=\"\",\"\",\"_\"),N989,IF(P989=\"\",\"\",(CONCATENATE(\"_\",P989)))))","v":""},{"$nulls":14},{"$f":"IF(LEN('1 - Opstart Importark'!$B$6)>0,'1 - Opstart Importark'!$B$6,\"\")","v":""},{"$f":"IF(LEN('1 - Opstart Importark'!$B$9)>0,'1 - Opstart Importark'!$B$9,\"\")","v":""},{"$nulls":19},0,"","objektnogle_"]
[978,null,{"$f":"IF('1 - Opstart Importark'!$B$6=\"\",\"\",CONCATENATE('Blokke - AMV'!$B$2,LEFT('1 - Opstart Importark'!$B$15,2),J990,IF(L990=\"\",\"\",\"-\"),L990,IF(N990=\"\",\"\",\"_\"),N990,IF(P990=\"\",\"\",(CONCATENATE(\"_\",P990)))))","v":""},{"$nulls":14},{"$f":"IF(LEN('1 - Opstart Importark'!$B$6)>0,'1 - Opstart Importark'!$B$6,\"\")","v":""},{"$f":"IF(LEN('1 - Opstart Importark'!$B$9)>0,'1 - Opstart Importark'!$B$9,\"\")","v":""},{"$nulls":19},0,"","objektnogle_"]
[979,null,{"$f":"IF('1 - Opstart Importark'!$B$6=\"\",\"\",CONCATENATE('Blokke - AMV'!$B$2,LEFT('1 - Opstart Importark'!$B$15,2),J991,IF(L991=\"\",\"\",\"-\"),L991,IF(N991=\"\",\"\",\"_\"),N991,IF(P991=\"\",\"\",(CONCATENATE(\"_\",P991)))))","v":""},{"$nulls":14},{"$f":"IF(LEN('1 - Opstart Importark'!$B$6)>0,'1 - Opstart Importark'!$B$6,\"\")","v":""},{"$f":"IF(LEN('1 - Opstart Importark'!$B$9)>0,'1 - Opstart Importark'!$B$9,\"\")","v":""},{"$nulls":19},0,"","objektnogle_"]
[980,null,{"$f":"IF('1 - Opstart Importark'!$B$6=\"\",\"\",CONCATENATE('Blokke - AMV'!$B$2,LEFT('1 - Opstart Importark'!$B$15,2),J992,IF(L992=\"\",\"\",\"-\"),L992,IF(N992=\"\",\"\",\"_\"),N992,IF(P992=\"\",\"\",(CONCATENATE(\"_\",P992)))))","v":""},{"$nulls":14},{"$f":"IF(LEN('1 - Opstart Importark'!$B$6)>0,'1 - Opstart Importark'!$B$6,\"\")","v":""},{"$f":"IF(LEN('1 - Opstart Importark'!$B$9)>0,'1 - Opstart Importark'!$B$9,\"\")","v":""},{"$nulls":19},0,"","objektnogle_"]
[981,null,{"$f":"IF('1 - Opstart Importark'!$B$6=\"\",\"\",CONCATENATE('Blokke - AMV'!$B$2,LEFT('1 - Opstart Importark'!$B$15,2),J993,IF(L993=\"\",\"\",\"-\"),L993,IF(N993=\"\",\"\",\"_\"),N993,IF(P993=\"\",\"\",(CONCATENATE(\"_\",P993)))))","v":""},{"$nulls":14},{"$f":"IF(LEN('1 - Opstart Importark'!$B$6)>0,'1 - Opstart Importark'!$B$6,\"\")","v":""},{"$f":"IF(LEN('1 - Opstart Importark'!$B$9)>0,'1 - Opstart Importark'!$B$9,\"\")","v":""},{"$nulls":19},0,"","objektnogle_"]
[982,null,{"$f":"IF('1 - Opstart Importark'!$B$6=\"\",\"\",CONCATENATE('Blokke - AMV'!$B$2,LEFT('1 - Opstart Importark'!$B$15,2),J994,IF(L994=\"\",\"\",\"-\"),L994,IF(N994=\"\",\"\",\"_\"),N994,IF(P994=\"\",\"\",(CONCATENATE(\"_\",P994)))))","v":""},{"$nulls":14},{"$f":"IF(LEN('1 - Opstart Importark'!$B$6)>0,'1 - Opstart Importark'!$B$6,\"\")","v":""},{"$f":"IF(LEN('1 - Opstart Importark'!$B$9)>0,'1 - Opstart Importark'!$B$9,\"\")","v":""},{"$nulls":19},0,"","objektnogle_"]
[983,null,{"$f":"IF('1 - Opstart Importark'!$B$6=\"\",\"\",CONCATENATE('Blokke - AMV'!$B$2,LEFT('1 - Opstart Importark'!$B$15,2),J995,IF(L995=\"\",\"\",\"-\"),L995,IF(N995=\"\",\"\",\"_\"),N995,IF(P995=\"\",\"\",(CONCATENATE(\"_\",P995)))))","v":""},{"$nulls":14},{"$f":"IF(LEN('1 - Opstart Importark'!$B$6)>0,'1 - Opstart Importark'!$B$6,\"\")","v":""},{"$f":"IF(LEN('1 - Opstart Importark'!$B$9)>0,'1 - Opstart Importark'!$B$9,\"\")","v":""},{"$nulls":19},0,"","objektnogle_"]
[984,null,{"$f":"IF('1 - Opstart Importark'!$B$6=\"\",\"\",CONCATENATE('Blokke - AMV'!$B$2,LEFT('1 - Opstart Importark'!$B$15,2),J996,IF(L996=\"\",\"\",\"-\"),L996,IF(N996=\"\",\"\",\"_\"),N996,IF(P996=\"\",\"\",(CONCATENATE(\"_\",P996)))))","v":""},{"$nulls":14},{"$f":"IF(LEN('1 - Opstart Importark'!$B$6)>0,'1 - Opstart Importark'!$B$6,\"\")","v":""},{"$f":"IF(LEN('1 - Opstart Importark'!$B$9)>0,'1 - Opstart Importark'!$B$9,\"\")","v":""},{"$nulls":19},0,"","objektnogle_"]
[985,null,{"$f":"IF('1 - Opstart Importark'!$B$6=\"\",\"\",CONCATENATE('Blokke - AMV'!$B$2,LEFT('1 - Opstart Importark'!$B$15,2),J997,IF(L997=\"\",\"\",\"-\"),L997,IF(N997=\"\",\"\",\"_\"),N997,IF(P997=\"\",\"\",(CONCATENATE(\"_\",P997)))))","v":""},{"$nulls":14},{"$f":"IF(LEN('1 - Opstart Importark'!$B$6)>0,'1 - Opstart Importark'!$B$6,\"\")","v":""},{"$f":"IF(LEN('1 - Opstart Importark'!$B$9)>0,'1 - Opstart Importark'!$B$9,\"\")","v":""},{"$nulls":19},0,"","objektnogle_"]
[986,null,{"$f":"IF('1 - Opstart Importark'!$B$6=\"\",\"\",CONCATENATE('Blokke - AMV'!$B$2,LEFT('1 - Opstart Importark'!$B$15,2),J998,IF(L998=\"\",\"\",\"-\"),L998,IF(N998=\"\",\"\",\"_\"),N998,IF(P998=\"\",\"\",(CONCATENATE(\"_\",P998)))))","v":""},{"$nulls":14},{"$f":"IF(LEN('1 - Opstart Importark'!$B$6)>0,'1 - Opstart Importark'!$B$6,\"\")","v":""},{"$f":"IF(LEN('1 - Opstart Importark'!$B$9)>0,'1 - Opstart Importark'!$B$9,\"\")","v":""},{"$nulls":19},0,"","objektnogle_"]
[987,null,{"$f":"IF('1 - Opstart Importark'!$B$6=\"\",\"\",CONCATENATE('Blokke - AMV'!$B$2,LEFT('1 - Opstart Importark'!$B$15,2),J999,IF(L999=\"\",\"\",\"-\"),L999,IF(N999=\"\",\"\",\"_\"),N999,IF(P999=\"\",\"\",(CONCATENATE(\"_\",P999)))))","v":""},{"$nulls":14},{"$f":"IF(LEN('1 - Opstart Importark'!$B$6)>0,'1 - Opstart Importark'!$B$6,\"\")","v":""},{"$f":"IF(LEN('1 - Opstart Importark'!$B$9)>0,'1 - Opstart Importark'!$B$9,\"\")","v":""},{"$nulls":19},0,"","objektnogle_"]
[988,null,{"$f":"IF('1 - Opstart Importark'!$B$6=\"\",\"\",CONCATENATE('Blokke - AMV'!$B$2,LEFT('1 - Opstart Importark'!$B$15,2),J1000,IF(L1000=\"\",\"\",\"-\"),L1000,IF(N1000=\"\",\"\",\"_\"),N1000,IF(P1000=\"\",\"\",(CONCATENATE(\"_\",P1000)))))","v":""},{"$nulls":14},{"$f":"IF(LEN('1 - Opstart Importark'!$B$6)>0,'1 - Opstart Importark'!$B$6,\"\")","v":""},{"$f":"IF(LEN('1 - Opstart Importark'!$B$9)>0,'1 - Opstart Importark'!$B$9,\"\")","v":""},{"$nulls":19},0,"","objektnogle_"]
[989,null,{"$f":"IF('1 - Opstart Importark'!$B$6=\"\",\"\",CONCATENATE('Blokke - AMV'!$B$2,LEFT('1 - Opstart Importark'!$B$15,2),J1001,IF(L1001=\"\",\"\",\"-\"),L1001,IF(N1001=\"\",\"\",\"_\"),N1001,IF(P1001=\"\",\"\",(CONCATENATE(\"_\",P1001)))))","v":""},{"$nulls":14},{"$f":"IF(LEN('1 - Opstart Importark'!$B$6)>0,'1 - Opstart Importark'!$B$6,\"\")","v":""},{"$f":"IF(LEN('1 - Opstart Importark'!$B$9)>0,'1 - Opstart Importark'!$B$9,\"\")","v":""},{"$nulls":19},0,"","objektnogle_"]
[990,null,{"$f":"IF('1 - Opstart Importark'!$B$6=\"\",\"\",CONCATENATE('Blokke - AMV'!$B$2,LEFT('1 - Opstart Importark'!$B$15,2),J1002,IF(L1002=\"\",\"\",\"-\"),L1002,IF(N1002=\"\",\"\",\"_\"),N1002,IF(P1002=\"\",\"\",(CONCATENATE(\"_\",P1002)))))","v":""},{"$nulls":14},{"$f":"IF(LEN('1 - Opstart Importark'!$B$6)>0,'1 - Opstart Importark'!$B$6,\"\")","v":""},{"$f":"IF(LEN('1 - Opstart Importark'!$B$9)>0,'1 - Opstart Importark'!$B$9,\"\")","v":""},{"$nulls":19},0,"","objektnogle_"]
[991,null,{"$f":"IF('1 - Opstart Importark'!$B$6=\"\",\"\",CONCATENATE('Blokke - AMV'!$B$2,LEFT('1 - Opstart Importark'!$B$15,2),J1003,IF(L1003=\"\",\"\",\"-\"),L1003,IF(N1003=\"\",\"\",\"_\"),N1003,IF(P1003=\"\",\"\",(CONCATENATE(\"_\",P1003)))))","v":""},{"$nulls":14},{"$f":"IF(LEN('1 - Opstart Importark'!$B$6)>0,'1 - Opstart Importark'!$B$6,\"\")","v":""},{"$f":"IF(LEN('1 - Opstart Importark'!$B$9)>0,'1 - Opstart Importark'!$B$9,\"\")","v":""},{"$nulls":19},0,"","objektnogle_"]
[992,null,{"$f":"IF('1 - Opstart Importark'!$B$6=\"\",\"\",CONCATENATE('Blokke - AMV'!$B$2,LEFT('1 - Opstart Importark'!$B$15,2),J1004,IF(L1004=\"\",\"\",\"-\"),L1004,IF(N1004=\"\",\"\",\"_\"),N1004,IF(P1004=\"\",\"\",(CONCATENATE(\"_\",P1004)))))","v":""},{"$nulls":14},{"$f":"IF(LEN('1 - Opstart Importark'!$B$6)>0,'1 - Opstart Importark'!$B$6,\"\")","v":""},{"$f":"IF(LEN('1 - Opstart Importark'!$B$9)>0,'1 - Opstart Importark'!$B$9,\"\")","v":""},{"$nulls":19},0,"","objektnogle_"]
[993,null,{"$f":"IF('1 - Opstart Importark'!$B$6=\"\",\"\",CONCATENATE('Blokke - AMV'!$B$2,LEFT('1 - Opstart Importark'!$B$15,2),J1005,IF(L1005=\"\",\"\",\"-\"),L1005,IF(N1005=\"\",\"\",\"_\"),N1005,IF(P1005=\"\",\"\",(CONCATENATE(\"_\",P1005)))))","v":""},{"$nulls":14},{"$f":"IF(LEN('1 - Opstart Importark'!$B$6)>0,'1 - Opstart Importark'!$B$6,\"\")","v":""},{"$f":"IF(LEN('1 - Opstart Importark'!$B$9)>0,'1 - Opstart Importark'!$B$9,\"\")","v":""},{"$nulls":19},0,"","objektnogle_"]
[994,null,{"$f":"IF('1 - Opstart Importark'!$B$6=\"\",\"\",CONCATENATE('Blokke - AMV'!$B$2,LEFT('1 - Opstart Importark'!$B$15,2),J1006,IF(L1006=\"\",\"\",\"-\"),L1006,IF(N1006=\"\",\"\",\"_\"),N1006,IF(P1006=\"\",\"\",(CONCATENATE(\"_\",P1006)))))","v":""},{"$nulls":14},{"$f":"IF(LEN('1 - Opstart Importark'!$B$6)>0,'1 - Opstart Importark'!$B$6,\"\")","v":""},{"$f":"IF(LEN('1 - Opstart Importark'!$B$9)>0,'1 - Opstart Importark'!$B$9,\"\")","v":""},{"$nulls":19},0,"","objektnogle_"]
[995,null,{"$f":"IF('1 - Opstart Importark'!$B$6=\"\",\"\",CONCATENATE('Blokke - AMV'!$B$2,LEFT('1 - Opstart Importark'!$B$15,2),J1007,IF(L1007=\"\",\"\",\"-\"),L1007,IF(N1007=\"\",\"\",\"_\"),N1007,IF(P1007=\"\",\"\",(CONCATENATE(\"_\",P1007)))))","v":""},{"$nulls":14},{"$f":"IF(LEN('1 - Opstart Importark'!$B$6)>0,'1 - Opstart Importark'!$B$6,\"\")","v":""},{"$f":"IF(LEN('1 - Opstart Importark'!$B$9)>0,'1 - Opstart Importark'!$B$9,\"\")","v":""},{"$nulls":19},0,"","objektnogle_"]
[996,null,{"$f":"IF('1 - Opstart Importark'!$B$6=\"\",\"\",CONCATENATE('Blokke - AMV'!$B$2,LEFT('1 - Opstart Importark'!$B$15,2),J1008,IF(L1008=\"\",\"\",\"-\"),L1008,IF(N1008=\"\",\"\",\"_\"),N1008,IF(P1008=\"\",\"\",(CONCATENATE(\"_\",P1008)))))","v":""},{"$nulls":14},{"$f":"IF(LEN('1 - Opstart Importark'!$B$6)>0,'1 - Opstart Importark'!$B$6,\"\")","v":""},{"$f":"IF(LEN('1 - Opstart Importark'!$B$9)>0,'1 - Opstart Importark'!$B$9,\"\")","v":""},{"$nulls":19},0,"","objektnogle_"]
[997,null,{"$f":"IF('1 - Opstart Importark'!$B$6=\"\",\"\",CONCATENATE('Blokke - AMV'!$B$2,LEFT('1 - Opstart Importark'!$B$15,2),J1009,IF(L1009=\"\",\"\",\"-\"),L1009,IF(N1009=\"\",\"\",\"_\"),N1009,IF(P1009=\"\",\"\",(CONCATENATE(\"_\",P1009)))))","v":""},{"$nulls":14},{"$f":"IF(LEN('1 - Opstart Importark'!$B$6)>0,'1 - Opstart Importark'!$B$6,\"\")","v":""},{"$f":"IF(LEN('1 - Opstart Importark'!$B$9)>0,'1 - Opstart Importark'!$B$9,\"\")","v":""},{"$nulls":19},0,"","objektnogle_"]
[998,null,{"$f":"IF('1 - Opstart Importark'!$B$6=\"\",\"\",CONCATENATE('Blokke - AMV'!$B$2,LEFT('1 - Opstart Importark'!$B$15,2),J1010,IF(L1010=\"\",\"\",\"-\"),L1010,IF(N1010=\"\",\"\",\"_\"),N1010,IF(P1010=\"\",\"\",(CONCATENATE(\"_\",P1010)))))","v":""},{"$nulls":14},{"$f":"IF(LEN('1 - Opstart Importark'!$B$6)>0,'1 - Opstart Importark'!$B$6,\"\")","v":""},{"$f":"IF(LEN('1 - Opstart Importark'!$B$9)>0,'1 - Opstart Importark'!$B$9,\"\")","v":""},{"$nulls":19},0,"","objektnogle_"]
[999,null,{"$f":"IF('1 - Opstart Importark'!$B$6=\"\",\"\",CONCATENATE('Blokke - AMV'!$B$2,LEFT('1 - Opstart Importark'!$B$15,2),J1011,IF(L1011=\"\",\"\",\"-\"),L1011,IF(N1011=\"\",\"\",\"_\"),N1011,IF(P1011=\"\",\"\",(CONCATENATE(\"_\",P1011)))))","v":""},{"$nulls":14},{"$f":"IF(LEN('1 - Opstart Importark'!$B$6)>0,'1 - Opstart Importark'!$B$6,\"\")","v":""},{"$f":"IF(LEN('1 - Opstart Importark'!$B$9)>0,'1 - Opstart Importark'!$B$9,\"\")","v":""},{"$nulls":19},0,"","objektnogle_"]
[1000,null,{"$f":"IF('1 - Opstart Importark'!$B$6=\"\",\"\",CONCATENATE('Blokke - AMV'!$B$2,LEFT('1 - Opstart Importark'!$B$15,2),J1012,IF(L1012=\"\",\"\",\"-\"),L1012,IF(N1012=\"\",\"\",\"_\"),N1012,IF(P1012=\"\",\"\",(CONCATENATE(\"_\",P1012)))))","v":""},{"$nulls":14},{"$f":"IF(LEN('1 - Opstart Importark'!$B$6)>0,'1 - Opstart Importark'!$B$6,\"\")","v":""},{"$f":"IF(LEN('1 - Opstart Importark'!$B$9)>0,'1 - Opstart Importark'!$B$9,\"\")","v":""},{"$nulls":19},0,"","objektnogle_"]

{"sheet":"Blokke - AMV","index":2,"n_rows":30,"n_cols":2,"rows_kept":30,"hidden":true}
["AMV blokke","Geotag"]
[null,"AMV"]
["00 - AMV Fælles",{"$f":"CONCATENATE($B$2,LEFT(A3,2))","v":"AMV00"}]
["01 - AMV Blok 1",{"$f":"CONCATENATE($B$2,LEFT(A4,2))","v":"AMV01"}]
["02 - AMV Blok 2","AMV02"]
["03 - AMV Blok 3","AMV03"]
["04 - AMV Blok 4","AMV04"]
["12 - AMV Fællesanlæg for Blok 1 og 2","AMV12"]
["20 - AMV Administrationsbygning","AMV20"]
["21 - AMV Losseanlæg","AMV21"]
["22 - AMV Transportanlæg og lager","AMV22"]
["60 - Geotermi","AMV60"]
["71 - Amager Strandvej pumpestation","AMV71"]
["72 - TPW","AMV72"]
[null,{"$f":"CONCATENATE(LEFT(A15,3),MID(A15,5,2))","v":""}]
[null,""]
[null,""]
[null,""]
[null,""]
[null,""]
[null,""]
[null,""]
[null,""]
[null,""]
[null,""]
[null,""]
[null,""]
[null,""]
[null,""]
[null,""]

{"sheet":"Objekt key oversigt","index":3,"n_rows":96,"n_cols":28,"rows_kept":96,"hidden":true}
[null,null,"LED",null,null,"TEK",null,null,"BYG",null,null,"EL",{"$nulls":3},"SRO",null,null,"MEK",null,null,"liste"]
[null,null,"A - Overordnet ledelse",null,null,"B - Overordnet teknologi",null,null,"C - Bygning Konstruktion",null,"El","E - El & SRO",null,"SRO",null,"SRO",null,null,"M - Maskinteknik inklusiv procesteknik"]
[10120,"Plant revision",{"$nulls":18},"B","B - Overordnet teknologi"]
[12010,"Dates","Anlægsrevision",20510,"Disposal","Affald",35002,null,"Bæringer/fastgørelse",45022,null,"ADK (adgangskontrol)",{"$f":"CONCATENATE($K$2,\" - \",L4)","v":"El - ADK (adgangskontrol)"},50120,"Alarms","Alarmer",65031,null,"Aktuator",null,"C","C - Bygning Konstruktion"]
[11630,"Design, calculations, stress analysis","Datoer",21510,"Plant protection","Anlægsbeskyttelse",35013,null,"Brandmateriel",45009,null,"Aktuator",{"$f":"CONCATENATE($K$2,\" - \",L5)","v":"El - Aktuator"},50140,"Plant protection","Anlægsbeskyttelse",65007,null,"Analog regulator (selvvirkende)",null,"E","E - El & SRO"]
[11810,"Document review","Design, beregninger, stress analyser",20110,"Plant labelling","Anlægsnavngivning (TAG), opmærkning, skiltning",35016,null,"Brønd",40210,"battery chargers","Batteriladere, ladestandere","El - Batteriladere, ladestandere",50150,"Automation","Automation (SRO)",65021,null,"Analogt viserinstrument",null,"M","M - Maskinteknik inklusiv procesteknik"]
[10230,"Operation","Dokumentgennemgang",20120,"Occupational safety","Arbejdssikkerhed",30230,"Building material","Bygningsmaterialer",45021,null,"Beskyttelsesudstyr (fejlstrøm, overstrøm, overspænding)","El - Beskyttelsesudstyr (fejlstrøm, overstrøm, overspænding)",55006,null,"Frekvensomformer",65028,null,"Befugtning, affugtning"]
[10710,"Licensing procedures","Drift",21920,"Protection against internal impacts","Beskyttelse mod interne hændelser",35015,null,"Bygværk",45015,null,"Bygningsinstallationer","El - Bygningsinstallationer",55005,null,"HMI/betjeningspanel/lokal styreboks",65033,null,"Blænder, dyser"]
[10920,"Put into operation","Godkendelsesprocedurer",21930,"Protection against natural impacts","Beskyttelse mod naturlige hændelser",32010,"Doors","Døre",45018,null,"Data installationer","El - Data installationer",55013,null,"Horn",65029,null,"Dosering, opblanding"]
[10220,"Procurement","Idriftsættelse",21910,"Protection against external impacts","Beskyttelse mod ydre hændelser",35003,null,"Elevatorer",45011,null,"Fasekompensering","El - Fasekompensering",51330,"Instrumentation","Instrumentering",65013,null,"Filter/snavssamler"]
[11710,"Quality management","Indkøb",25001,null,"Boring",30610,"Facade construction","Facade",45019,null,"Fastgørelse","El - Fastgørelse",51410,"Communication systems","Kommunikationssystemer",65034,null,"Fittings"]
[11310,"Erection","Kvalitetskontrol",20230,"Fire and explosion control","Brand og eksplosionskontroludstyr",35011,null,"Faldsikring",41120,"Cable routes","Føringsveje","El - Føringsveje",52210,"Control room/stations","Kontrolrum/stationer",65026,null,"Forarbejdning (adsorption, katalyse, reduktion, knusning)"]
[10910,"Commissioning","Opførelse",20410,"Review Design review","Design evaluering",30710,"Foundation","Fundament",40520,"Power transmission","Forsyning (mellemspænding)","El - Forsyning (mellemspænding)",55003,null,"Lokal client",65009,null,"Forbrænding (olie/gas brænder"]
[11910,"Training","Opstart",22320,"In-service inspections","Inspektionsarbejde efter idrifttagelse",35018,null,"Gadeskab",42110,"Converters","Frekvensomformer, omformer","El - Frekvensomformer, omformer",55007,null,"Måler kWh",62220,null,"Forbrugsmaterialer/medier"]
[10610,"Manufacturing","Øvelse",21110,"Corrosion protection","Korrosionsbeskyttelse",30720,"Ground water-proofing","Grundvandssikring",40710,"Direct current and emergency power generation","Jævnstrøms- og nødstrømsanlæg (generator, UPS, batterier)","El - Jævnstrøms- og nødstrømsanlæg (generator, UPS, batterier)",55015,null,"Netværk",65019,null,"Fordamper"]
[11620,"Project documentation","Produktion",25002,null,"Matrikel",35010,null,"Hejseredskaber",40530,"Earthing, Lightning","Jordingsanlæg, potentialudligning","El - Jordingsanlæg, potentialudligning",55012,null,"Nødstopskreds",65022,null,"Isolering"]
[11650,"Project monitoring","Projekt dokumentation",22110,"Environmental protection","Miljøbeskyttelse",35007,null,"Inventar",41110,"Cables, lines","Kabler, forbindelser","El - Kabler, forbindelser",55014,null,"Øvrig opmærkning, advarselsskilte",65008,null,"Kedel",{"$nulls":8},"objektnogle_B"]
[10110,"Project management, administration","Projekt overvågning",21410,"Emergency","Nødberedskab",30210,"Soil investigation","Jordbund",45012,null,"Koblingsudstyr, forsyningsadskiller","El - Koblingsudstyr, forsyningsadskiller",55001,null,"Person beskyttelse (functional safety)",65014,null,"Kompensator"]
[11640,"Project control","Projektledelse, administration",20220,"Pickling, internal cleaning of systems","Præservering, indvendig rensning af systemer",35008,null,"Kloak",45005,null,"Kompressor (integreret motor)","El - Kompressor (integreret motor)",55004,null,"PLC (logikmodul)",65020,null,"Kondensator"]
[11920,"System meetings","Projektstyring",20710,"Track laying","Sporlægning, traceer",35019,null,"Kontrolrum",45002,null,"Lokalt kabinet/styreboks","El - Lokalt kabinet/styreboks",55009,null,"Positioner",65024,null,"Lyddæmper"]
[11610,"Trial operation","Systemiske møder",21210,"Noise protection","Støjbeskyttelse",35004,null,"Lejdere",40220,"Lighting, power installation","Lavspændingsinstallation","El - Lavspændingsinstallation",55011,null,"Programfiler",65030,null,"Materiale transport"]
[10930,"Maintenance","Testkørsel",25000,null,"Terræn",35005,null,"Porte",45013,null,"Måler","El - Måler",55008,null,"Regneværk/omsætter (lokalt)",65036,null,"Øvrig opmærkning, advarselsskilte"]
[null,null,"Vedligehold",20210,"Site development","udvikling af lokation",35021,null,"Procesrum",45014,null,"Måletransformer","El - Måletransformer",55016,null,"SCADA",61610,"Pumps, blowers, compressors","Pumper, ventilatorer, kompressorer"]
[{"$nulls":3},21950,"Road construction, pathway construction","Vejanlæg, midlertidige vejanlæg",35001,null,"Stålkonstruktioner",41310,"Motors","Motorer","El - Motorer",55002,null,"Server",61810,"Piping","Rørinstallation"]
[{"$nulls":6},30220,"Civil drafts, structural calculations","Statik",45003,null,"Øvrig elforbruger","El - Øvrig elforbruger",55010,null,"Signaler",65025,null,"Separator (gas/væskeudskiller)"]
[{"$nulls":6},35017,null,"Sump",45024,null,"Øvrig opmærkning, advarselsskilte","El - Øvrig opmærkning, advarselsskilte",55017,null,"SRO",65011,null,"Skorsten"]
[{"$nulls":6},30410,"Roofing, roof sealing","Tagkonstruktion",45004,null,"Pumpe (integreret motor)","El - Pumpe (integreret motor)",51820,"Closed-loop control","Styring og regulering",60210,"Tanks","Tanke, beholder"]
[{"$nulls":6},35020,null,"Tavlerum",45001,null,"Sikkerhedskomponent, failsafe","El - Sikkerhedskomponent, failsafe",50510,"Installation systems, cabinets, module frames","Systemer, kabinetter, moduler, rammer",65032,null,"Transmission (gear, kobling, bremser, lejer)"]
[{"$nulls":6},35006,null,"Transportredskaber",45010,null,"Støjfilter","El - Støjfilter",50710,"Transmitters","Transmittere",65010,null,"Turbine"]
[{"$nulls":6},35012,null,"Værkstedsmaskiner",45017,null,"Svagstrømsinstallationer","El - Svagstrømsinstallationer",50110,"Equipment protection","Udstyrsbeskyttelse",65035,null,"Værktøj, transportabelt hjælpeudstyr"]
[{"$nulls":6},35009,null,"Vand",45020,null,"Tavler","El - Tavler",null,null,"Rykkes sammen med El",65027,null,"Varmebehandling"]
[null,null,"Til diskussion:",{"$nulls":3},31110,"Heating, ventilation and air conditioning (HVAC)","Varme, ventilation og luftbehandling",42010,"Transformers","Transformere","El - Transformere",{"$nulls":3},62210,"Heat exchangers, evaporators","Varmevekslere"]
[null,null,"Udgår",{"$nulls":3},35014,null,"Velfærdsforanstaltninger",45007,null,"Varmelegeme, konvektor, luftkøler (kalorifere)","El - Varmelegeme, konvektor, luftkøler (kalorifere)",{"$nulls":3},60110,"Valves","Ventiler, haner, spjæld"]
[null,null,"Beholdes",{"$nulls":3},30620,"Window","Vinduer",45006,null,"Ventilator (integreret motor)","El - Ventilator (integreret motor)",{"$nulls":3},65023,null,"Vibrationsdæmper"]
[{"$nulls":9},45023,null,"Videoovervågning","El - Videoovervågning"]
[{"$nulls":11},"Alarmer",{"$f":"CONCATENATE($N$2,\" - \",L36)","v":"SRO - Alarmer"}]
[{"$nulls":11},"Anlægsbeskyttelse",{"$f":"CONCATENATE($N$2,\" - \",L37)","v":"SRO - Anlægsbeskyttelse"}]
[{"$nulls":11},"Automation (SRO)","SRO - Automation (SRO)"]
[{"$nulls":11},"Frekvensomformer","SRO - Frekvensomformer"]
[{"$nulls":11},"HMI/betjeningspanel/lokal styreboks","SRO - HMI/betjeningspanel/lokal styreboks"]
[{"$nulls":11},"Horn","SRO - Horn"]
[{"$nulls":11},"Instrumentering","SRO - Instrumentering"]
[{"$nulls":11},"Kommunikationssystemer","SRO - Kommunikationssystemer"]
[{"$nulls":11},"Kontrolrum/stationer","SRO - Kontrolrum/stationer"]
[{"$nulls":11},"Lokal client","SRO - Lokal client"]
[{"$nulls":11},"Måler kWh","SRO - Måler kWh"]
[{"$nulls":11},"Netværk","SRO - Netværk"]
[{"$nulls":11},"Nødstopskreds","SRO - Nødstopskreds"]
[{"$nulls":11},"Øvrig opmærkning, advarselsskilte","SRO - Øvrig opmærkning, advarselsskilte"]
[{"$nulls":11},"Person beskyttelse (functional safety)","SRO - Person beskyttelse (functional safety)"]
[null,null,"Bygning Konstruktion",{"$nulls":8},"PLC (logikmodul)","SRO - PLC (logikmodul)"]
[null,null,"El",{"$nulls":8},"Positioner","SRO - Positioner"]
[null,null,"Maskin Proces",{"$nulls":8},"Programfiler","SRO - Programfiler"]
[null,null,"Overordnet",{"$nulls":8},"Regneværk/omsætter (lokalt)","SRO - Regneværk/omsætter (lokalt)"]
[null,null,"SRO",{"$nulls":8},"SCADA","SRO - SCADA"]
[{"$nulls":11},"Server","SRO - Server"]
[{"$nulls":11},"Signaler","SRO - Signaler"]
[{"$nulls":11},"SRO","SRO - SRO"]
[{"$nulls":11},"Styring og regulering","SRO - Styring og regulering"]
[{"$nulls":11},"Systemer, kabinetter, moduler, rammer","SRO - Systemer, kabinetter, moduler, rammer"]
[{"$nulls":11},"Transmittere","SRO - Transmittere"]
[{"$nulls":11},"Udstyrsbeskyttelse","SRO - Udstyrsbeskyttelse"]
{"$rows_empty":20}
[10210,"Site installations"]
[null,null,"Anlægsinstallationer",20610,"Colouring","Farve",35025,null,"1.sal",45016,null,"Belysning",null,50130,"Analog transmitters","Analoge transmittere",65006,null,"Afluftningsventil"]
[{"$nulls":3},22210,"Consumer","Forbruger",35026,null,"2.sal",40510,"Auxiliary power supply","Hjælpe kraftforsyning",null,50210,"Binary transmitters","Binære transmittere",65002,null,"Afspærringsventil"]
[{"$nulls":3},22310,"Lagging, sheathing","Forsinkelse, mitigationer",35027,null,"3.sal",40720,"D.C. switchgear and distribution boards","Jævnstrøms relæer og fordelingstavler",null,50220,"Orifices, nozzles","Blænder, dyser",65012,null,"Economizer"]
[{"$nulls":3},20520,"Spare and wear parts","Slid- og reservedele",35028,null,"4.sal",41410,"Grid systems","Netsystemer",null,50410,"Data communication","Datakommunikation",65005,null,"Instrumentventil"]
[{"$nulls":3},21940,"Steel construction","Stålkonstruktion",30240,"Concrete construction work","Betonarbejde",41910,"Switchgear","Relæer",null,50610,"Field devices","Feltudstyr",65016,null,"Kompressor"]
[{"$nulls":6},32310,"Civil engineering hydraulics","Entreprenør hydrauliske beregninger",45008,null,"Stikkontakt, stikkontaktstation",null,51340,"Measuring transformer","Måletransformer",65017,null,"Kompressoraggregat"]
[{"$nulls":6},30730,"Ground-water measurement and investigation","Grundvandsundersøgelse",{"$nulls":4},51320,"Measuring valves and fittings","Måleventiler og fittings",65003,null,"Kontraventil / kontraklap"]
[{"$nulls":6},30510,"Earth-moving","Jordskred",{"$nulls":4},51310,"Messages from system control","Meddelser fra proceskontrolsystemet",65015,null,"Lejer"]
[{"$nulls":6},35023,null,"Kælder",{"$nulls":4},51910,"Training simulators","Øvelses simulatorer",60810,"Hoisting devices","Løfteudstyr"]
[{"$nulls":6},31310,"Masonry construction work","Murarbejde",{"$nulls":4},51810,"Control valves, control drives","Styrede ventiler og drev",62220,"Material","Materiale"]
[{"$nulls":6},35022,null,"Platform",{"$nulls":4},50720,"Equipment catalog","Udstyrskatalog",65001,null,"Reguleringsventil"]
[{"$nulls":6},35024,null,"Stue",{"$nulls":7},65004,null,"Sikkerhedsventil"]
[{"$nulls":16},65018,null,"Ventilator"]

{"sheet":"Parametre","index":4,"n_rows":8,"n_cols":7,"rows_kept":8,"hidden":true}
["Liste til søgning hovedgrupper - DCC","As-build","Mappe E","PDF_COLOR","PDF_format","Koordinat system","Kotesystem"]
["?"," "]
["A - Overordnet ledelse","Ja","El","Sort/Hvid","A4","UTM32","DVR90"]
["B - Overordnet teknologi","Nej","SRO","Farve","A3","Intet","Intet"]
["C - Byggeri og anlæg",{"$nulls":3},"A2"]
["E - El",{"$nulls":3},"A1"]
["M - Mekanisk konstruktion – Normalt inkl. procesteknik",{"$nulls":3},"A0"]
["P - Procesteknik – kun hvis adskillelse fra mekanisk konstruktion ønskes"]