{"text_format":"3","workbook":"xlsx","n_sheets":5,"sheets":["1 - Opstart Importark","2 - IMPORTARK","Lokationer - Køl","Objekt key oversigt","Parametre"],"not_rendered":{"defined_names":17},"read":"whole","date_system":"1900"}

{"sheet":"1 - Opstart Importark","index":0,"n_rows":22,"n_cols":2,"rows_kept":22}
[]
[null,"Køl - Importark"]
[null,"Køl - Importark til ProjectWise af anlægsdokumentation - Version 2.01"]
[null,{"$f":"IF(B6=\"\",\"Husk projektnummer\",\"\")","v":"Husk projektnummer"}]
[null,"Projektnummer"]
[]
[]
[null,"Projektnavn"]
[]
[]
[null,{"$f":"IF(LEN(B15)*LEN(B20)=0,\"OK\",\"Lokation valgt 2 gange!\")","v":"OK"}]
[null,"Ved ekst. lokation: Vælg lokation i grønt felt"]
[]
[null,"Lokation"]
[]
[null,"ELLER"]
[null,"NY lokation indskrives i gult felt"]
[]
[null,"NY lokation (5 karakterer)"]
[]
[]
[null,"Adresse"]

{"sheet":"2 - IMPORTARK","index":1,"n_rows":1012,"n_cols":44,"rows_kept":1012,"merged":[[2,4,2,6],[3,14,3,16],[7,14,7,16],[7,17,7,19]]}
[1,2,3,4,5,6,7,8,9,10,11,12,13,14,15,16,17,{"$nulls":3},18,19,20,21,22,23,24,25,26,27,28,29,30,31,32,33,34,35,36,38,39,40,41,42]
[1,2,3,4,5,6,7,8,9,10,11,12,13,14,15,16,17,{"$nulls":3},18,19,20,21,22,23,24,25,26,27,28,29,30,31,32,33,34,35,36,38,39,40,41,42]
[null,null,"HOFOR",null,"Overordnet information",{"$nulls":3},"KKS","-","DCC","-","Løbenr.",null,"Meta data",{"$nulls":25},"Skjules"]
[null,null,"KØL - dokumentkode ",{"$nulls":5},"KKS standard + aggregatkode",null,"VGB-S-832-00-2016-04-DE-EN",null,"Bruges til at gøre koden unik",null,"Søgbare oplysninger til senere fremfindelse af dokumenter"]
[]
[null,null,"Geotag - KKS - DCC - Løbenr.",null,"Importeres","Filnavn","Bemærkninger til import",{"$nulls":7},"Projekt nr.","Projekt navn","Adresse","KKS beskr.","Aggregat beskr.","DCC beskr.","Beskrivelse","Tegningstype","El/SRO","Tegnet af ","Tegnet dato","Kontrol af ","Kontrol dato","Godkendt af ","Godkendt dato","Leverandør","Mål-\nforhold","Objekt filter \n(Fra DCC standard)","Objekt nøgle \n(Uddybning af Objekt filter fra DCC standard)","Farve","A-format","Bemærkning","Internt - gl. nr.","Eksternt nr.",null,null,"Beskrivelse","Beskrivelse","el/sro","Objekt filter"]
[]
[{"$nulls":4},"Skal udfyldes","Skal udfyldes","kan udfyldes",null,"Skal udfyldes ",null,"Skal udfyldes",null,"Skal udfyldes",null,"Info fra faneblad 1",null,null,"Bør udfyldes, når der er en KKS-koden ",null,null,"Skal udfyldes",{"$nulls":14},"kan udfyldes"]
[null,null,"Eksempel på korrekt \nudfyldning af Importark:",null,"Vælg med ja/nej, hvilke dokumenter som skal importeres","skal udfyldes med filnavnet til dokumentimport \nHusk .filtype","Supplerende information til dokumentimport",null,"KKS1 + KKS2 + KKS3\n+ evt. Strengnr. & Aggregatkode",null,"EMA020",null,"0001",null,"Projekt nr. \nuden fasenr.","Projektnavn","Adresse oplysning","Uddybende KKS - tekst ","Uddybende Aggregat - tekst ","Uddybende DCC - tekst ","Beskrivelse af indhold af dokument","Beskriv tegningstype","El eller SRO dokumentation skal vælges, hvis felt er rødt","Initialer","dato","Initialer","dato","Initialer","dato","navn","Intet mål-\nforhold: NA","Info fra \nDCC-kode","Vælg objektnøgle:","Hvilket farverum er \ndokumentet i?","Hvilket A-format er dokumentet i?","Ekstra uddybende info om dokumentet","Gl. nr.:\nHOFOR - Internt nr. ","Leverandør nr./ Eksternt nr. "]
[]
[null,null,"KTGK01-SMV01GS001-CDA010-0001",null,"Ja","Traverskran.pdf",null,null,"SMV01GS001",null,"EMA010",null,"0001",null,"i2445-02-01","Testprojekt","Tientgensgade",{"$nulls":3},"Traverskran","Snittegning","El","JLAS","2023-06-12","KUSU","2023-06-15","HYTR","2023-06-25","Krüger","1:50 / NA","E - El & SRO","El - Øvrig elforbruger","Farve","A3","Tilslutningsdiagram for tilbehør","1285-119a","B.2.5.",{"$nulls":4},"check af E"]
[{"$nulls":14},"[Projekt nr.]","[Projektnavn]","[Beliggenhed]",{"$nulls":3},"[Tag Beskr]","[Tegningstype]","[El_SRO]","[Tegnet af]","[Tegningsdato]","[Kontrolleret af]","[Kontrol dato]","[Godkendt af]","[Godkendt dato]","[Leverandør]","[Målforhold]","[Objektfilter]","[Objektnøgle]","[PDF_Color]","[PDF_pagesize]","[Bemærkning]","[Gl. dokument nr.1]","[Gl. dokument nr. 2]","[DO_NOT_PDF]",null,null,"[Bemærkning]","[Bemærkning]","[Bemærkning]"]
[1,null,{"$f":"IF('1 - Opstart Importark'!$B$6=\"\",\"\",(IF('1 - Opstart Importark'!$B$15=\"\",CONCATENATE(LEFT('1 - Opstart Importark'!$B$3,1),(LEFT('1 - Opstart Importark'!$B$20,5)),MID('1 - Opstart Importark'!$B$20,5,2),LEFT('1 - Opstart Importark'!$B$28,3),IF(I13=\"\",\"\",\"-\"),I13,IF(K13=\"\",\"\",\"-\"),K13,IF(M13=\"\",\"\",\"-\"),M13),CONCATENATE(LEFT('1 - Opstart Importark'!$B$3,1),(LEFT('1 - Opstart Importark'!$B$15,5)),(LEFT('1 - Opstart Importark'!$B$18,3)),IF(I13=\"\",\"\",\"-\"),I13,IF(K13=\"\",\"\",\"-\"),K13,IF(M13=\"\",\"\",\"-\"),M13))))","v":""},null," ",{"$nulls":9},{"$f":"IF(LEN('1 - Opstart Importark'!$B$6)>0,'1 - Opstart Importark'!$B$6,\"\")","v":""},{"$f":"IF(LEN('1 - Opstart Importark'!$B$9)>0,'1 - Opstart Importark'!$B$9,\"\")","v":""},{"$f":"IF(LEN('1 - Opstart Importark'!$B$23)>0,'1 - Opstart Importark'!$B$23,\"\")","v":""},{"$nulls":14},{"$f":"IF(K13=\"\",\"\",VLOOKUP(LEFT(K13,1),objektfilter,2))","v":""},{"$nulls":8},{"$f":"IFERROR(FIND(\".\",F13),)","v":0},null,{"$f":"IF(K13=\"\",\"\",IF(LEFT(K13,1)=\"E\",0,1))","v":""},{"$f":"IF(W13=\"\", CONCATENATE(\"objektnogle_\",LEFT(AF13,1)),CONCATENATE(\"objektnogle_\",LEFT(W13,1)))","v":"objektnogle_"}]
[2,null,{"$f":"IF('1 - Opstart Importark'!$B$6=\"\",\"\",(IF('1 - Opstart Importark'!$B$15=\"\",CONCATENATE(LEFT('1 - Opstart Importark'!$B$3,1),(LEFT('1 - Opstart Importark'!$B$20,5)),MID('1 - Opstart Importark'!$B$20,5,2),LEFT('1 - Opstart Importark'!$B$28,3),IF(I14=\"\",\"\",\"-\"),I14,IF(K14=\"\",\"\",\"-\"),K14,IF(M14=\"\",\"\",\"-\"),M14),CONCATENATE(LEFT('1 - Opstart Importark'!$B$3,1),(LEFT('1 - Opstart Importark'!$B$15,5)),(LEFT('1 - Opstart Importark'!$B$18,3)),IF(I14=\"\",\"\",\"-\"),I14,IF(K14=\"\",\"\",\"-\"),K14,IF(M14=\"\",\"\",\"-\"),M14))))","v":""},null," ",{"$nulls":9},{"$f":"IF(LEN('1 - Opstart Importark'!$B$6)>0,'1 - Opstart Importark'!$B$6,\"\")","v":""},{"$f":"IF(LEN('1 - Opstart Importark'!$B$9)>0,'1 - Opstart Importark'!$B$9,\"\")","v":""},{"$f":"IF(LEN('1 - Opstart Importark'!$B$23)>0,'1 - Opstart Importark'!$B$23,\"\")","v":""},{"$nulls":14},"",{"$nulls":8},{"$f":"IFERROR(FIND(\".\",F14),)","v":0},{"$f":"IF(K14=\"\",\"\",IF(LEFT(K14,1)=\"E\",0,1))","v":""},{"$f":"IF(K14=\"\",\"\",IF(LEFT(K14,1)=\"E\",0,1))","v":""},{"$f":"IF(W14=\"\", CONCATENATE(\"objektnogle_\",LEFT(AF14,1)),CONCATENATE(\"objektnogle_\",LEFT(W14,1)))","v":"objektnogle_"}]
[3,null,{"$f":"IF('1 - Opstart Importark'!$B$6=\"\",\"\",(IF('1 - Opstart Importark'!$B$15=\"\",CONCATENATE(LEFT('1 - Opstart Importark'!$B$3,1),(LEFT('1 - Opstart Importark'!$B$20,5)),MID('1 - Opstart Importark'!$B$20,5,2),LEFT('1 - Opstart Importark'!$B$28,3),IF(I15=\"\",\"\",\"-\"),I15,IF(K15=\"\",\"\",\"-\"),K15,IF(M15=\"\",\"\",\"-\"),M15),CONCATENATE(LEFT('1 - Opstart Importark'!$B$3,1),(LEFT('1 - Opstart Importark'!$B$15,5)),(LEFT('1 - Opstart Importark'!$B$18,3)),IF(I15=\"\",\"\",\"-\"),I15,IF(K15=\"\",\"\",\"-\"),K15,IF(M15=\"\",\"\",\"-\"),M15))))","v":""},null," ",{"$nulls":9},{"$f":"IF(LEN('1 - Opstart Importark'!$B$6)>0,'1 - Opstart Importark'!$B$6,\"\")","v":""},{"$f":"IF(LEN('1 - Opstart Importark'!$B$9)>0,'1 - Opstart Importark'!$B$9,\"\")","v":""},{"$f":"IF(LEN('1 - Opstart Importark'!$B$23)>0,'1 - Opstart Importark'!$B$23,\"\")","v":""},{"$nulls":14},"",{"$nulls":8},0,{"$f":"IF(K15=\"\",\"\",IF(LEFT(K15,1)=\"E\",0,1))","v":""},"","objektnogle_"]
[4,null,{"$f":"IF('1 - Opstart Importark'!$B$6=\"\",\"\",(IF('1 - Opstart Importark'!$B$15=\"\",CONCATENATE(LEFT('1 - Opstart Importark'!$B$3,1),(LEFT('1 - Opstart Importark'!$B$20,5)),MID('1 - Opstart Importark'!$B$20,5,2),LEFT('1 - Opstart Importark'!$B$28,3),IF(I16=\"\",\"\",\"-\"),I16,IF(K16=\"\",\"\",\"-\"),K16,IF(M16=\"\",\"\",\"-\"),M16),CONCATENATE(LEFT('1 - Opstart Importark'!$B$3,1),(LEFT('1 - Opstart Importark'!$B$15,5)),(LEFT('1 - Opstart Importark'!$B$18,3)),IF(I16=\"\",\"\",\"-\"),I16,IF(K16=\"\",\"\",\"-\"),K16,IF(M16=\"\",\"\",\"-\"),M16))))","v":""},null," ",{"$nulls":9},{"$f":"IF(LEN('1 - Opstart Importark'!$B$6)>0,'1 - Opstart Importark'!$B$6,\"\")","v":""},{"$f":"IF(LEN('1 - Opstart Importark'!$B$9)>0,'1 - Opstart Importark'!$B$9,\"\")","v":""},{"$f":"IF(LEN('1 - Opstart Importark'!$B$23)>0,'1 - Opstart Importark'!$B$23,\"\")","v":""},{"$nulls":14},"",{"$nulls":8},0,"","","objektnogle_"]
[5,null,{"$f":"IF('1 - Opstart Importark'!$B$6=\"\",\"\",(IF('1 - Opstart Importark'!$B$15=\"\",CONCATENATE(LEFT('1 - Opstart Importark'!$B$3,1),(LEFT('1 - Opstart Importark'!$B$20,5)),MID('1 - Opstart Importark'!$B$20,5,2),LEFT('1 - Opstart Importark'!$B$28,3),IF(I17=\"\",\"\",\"-\"),I17,IF(K17=\"\",\"\",\"-\"),K17,IF(M17=\"\",\"\",\"-\"),M17),CONCATENATE(LEFT('1 - Opstart Importark'!$B$3,1),(LEFT('1 - Opstart Importark'!$B$15,5)),(LEFT('1 - Opstart Importark'!$B$18,3)),IF(I17=\"\",\"\",\"-\"),I17,IF(K17=\"\",\"\",\"-\"),K17,IF(M17=\"\",\"\",\"-\"),M17))))","v":""},null," ",{"$nulls":9},{"$f":"IF(LEN('1 - Opstart Importark'!$B$6)>0,'1 - Opstart Importark'!$B$6,\"\")","v":""},{"$f":"IF(LEN('1 - Opstart Importark'!$B$9)>0,'1 - Opstart Importark'!$B$9,\"\")","v":""},{"$f":"IF(LEN('1 - Opstart Importark'!$B$23)>0,'1 - Opstart Importark'!$B$23,\"\")","v":""},{"$nulls":14},"",{"$nulls":8},0,"","","objektnogle_"]
[6,null,{"$f":"IF('1 - Opstart Importark'!$B$6=\"\",\"\",(IF('1 - Opstart Importark'!$B$15=\"\",CONCATENATE(LEFT('1 - Opstart Importark'!$B$3,1),(LEFT('1 - Opstart Importark'!$B$20,5)),MID('1 - Opstart Importark'!$B$20,5,2),LEFT('1 - Opstart Importark'!$B$28,3),IF(I18=\"\",\"\",\"-\"),I18,IF(K18=\"\",\"\",\"-\"),K18,IF(M18=\"\",\"\",\"-\"),M18),CONCATENATE(LEFT('1 - Opstart Importark'!$B$3,1),(LEFT('1 - Opstart Importark'!$B$15,5)),(LEFT('1 - Opstart Importark'!$B$18,3)),IF(I18=\"\",\"\",\"-\"),I18,IF(K18=\"\",\"\",\"-\"),K18,IF(M18=\"\",\"\",\"-\"),M18))))","v":""},null," ",{"$nulls":9},{"$f":"IF(LEN('1 - Opstart Importark'!$B$6)>0,'1 - Opstart Importark'!$B$6,\"\")","v":""},{"$f":"IF(LEN('1 - Opstart Importark'!$B$9)>0,'1 - Opstart Importark'!$B$9,\"\")","v":""},{"$f":"IF(LEN('1 - Opstart Importark'!$B$23)>0,'1 - Opstart Importark'!$B$23,\"\")","v":""},{"$nulls":14},"",{"$nulls":8},0,"","","objektnogle_"]
[7,null,{"$f":"IF('1 - Opstart Importark'!$B$6=\"\",\"\",(IF('1 - Opstart Importark'!$B$15=\"\",CONCATENATE(LEFT('1 - Opstart Importark'!$B$3,1),(LEFT('1 - Opstart Importark'!$B$20,5)),MID('1 - Opstart Importark'!$B$20,5,2),LEFT('1 - Opstart Importark'!$B$28,3),IF(I19=\"\",\"\",\"-\"),I19,IF(K19=\"\",\"\",\"-\"),K19,IF(M19=\"\",\"\",\"-\"),M19),CONCATENATE(LEFT('1 - Opstart Importark'!$B$3,1),(LEFT('1 - Opstart Importark'!$B$15,5)),(LEFT('1 - Opstart Importark'!$B$18,3)),IF(I19=\"\",\"\",\"-\"),I19,IF(K19=\"\",\"\",\"-\"),K19,IF(M19=\"\",\"\",\"-\"),M19))))","v":""},null," ",{"$nulls":9},{"$f":"IF(LEN('1 - Opstart Importark'!$B$6)>0,'1 - Opstart Importark'!$B$6,\"\")","v":""},{"$f":"IF(LEN('1 - Opstart Importark'!$B$9)>0,'1 - Opstart Importark'!$B$9,\"\")","v":""},{"$f":"IF(LEN('1 - Opstart Importark'!$B$23)>0,'1 - Opstart Importark'!$B$23,\"\")","v":""},{"$nulls":14},"",{"$nulls":8},0,"","","objektnogle_"]
[8,null,{"$f":"IF('1 - Opstart Importark'!$B$6=\"\",\"\",(IF('1 - Opstart Importark'!$B$15=\"\",CONCATENATE(LEFT('1 - Opstart Importark'!$B$3,1),(LEFT('1 - Opstart Importark'!$B$20,5)),MID('1 - Opstart Importark'!$B$20,5,2),LEFT('1 - Opstart Importark'!$B$28,3),IF(I20=\"\",\"\",\"-\"),I20,IF(K20=\"\",\"\",\"-\"),K20,IF(M20=\"\",\"\",\"-\"),M20),CONCATENATE(LEFT('1 - Opstart Importark'!$B$3,1),(LEFT('1 - Opstart Importark'!$B$15,5)),(LEFT('1 - Opstart Importark'!$B$18,3)),IF(I20=\"\",\"\",\"-\"),I20,IF(K20=\"\",\"\",\"-\"),K20,IF(M20=\"\",\"\",\"-\"),M20))))","v":""},null," ",{"$nulls":9},{"$f":"IF(LEN('1 - Opstart Importark'!$B$6)>0,'1 - Opstart Importark'!$B$6,\"\")","v":""},{"$f":"IF(LEN('1 - Opstart Importark'!$B$9)>0,'1 - Opstart Importark'!$B$9,\"\")","v":""},{"$f":"IF(LEN('1 - Opstart Importark'!$B$23)>0,'1 - Opstart Importark'!$B$23,\"\")","v":""},{"$nulls":14},"",{"$nulls":8},0,"","","objektnogle_"]
[9,null,{"$f":"IF('1 - Opstart Importark'!$B$6=\"\",\"\",(IF('1 - Opstart Importark'!$B$15=\"\",CONCATENATE(LEFT('1 - Opstart Importark'!$B$3,1),(LEFT('1 - Opstart Importark'!$B$20,5)),MID('1 - Opstart Importark'!$B$20,5,2),LEFT('1 - Opstart Importark'!$B$28,3),IF(I21=\"\",\"\",\"-\"),I21,IF(K21=\"\",\"\",\"-\"),K21,IF(M21=\"\",\"\",\"-\"),M21),CONCATENATE(LEFT('1 - Opstart Importark'!$B$3,1),(LEFT('1 - Opstart Importark'!$B$15,5)),(LEFT('1 - Opstart Importark'!$B$18,3)),IF(I21=\"\",\"\",\"-\"),I21,IF(K21=\"\",\"\",\"-\"),K21,IF(M21=\"\",\"\",\"-\"),M21))))","v":""},null," ",{"$nulls":9},{"$f":"IF(LEN('1 - Opstart Importark'!$B$6)>0,'1 - Opstart Importark'!$B$6,\"\")","v":""},{"$f":"IF(LEN('1 - Opstart Importark'!$B$9)>0,'1 - Opstart Importark'!$B$9,\"\")","v":""},{"$f":"IF(LEN('1 - Opstart Importark'!$B$23)>0,'1 - Opstart Importark'!$B$23,\"\")","v":""},{"$nulls":14},"",{"$nulls":8},0,"","","objektnogle_"]
[10,null,{"$f":"IF('1 - Opstart Importark'!$B$6=\"\",\"\",(IF('1 - Opstart Importark'!$B$15=\"\",CONCATENATE(LEFT('1 - Opstart Importark'!$B$3,1),(LEFT('1 - Opstart Importark'!$B$20,5)),MID('1 - Opstart Importark'!$B$20,5,2),LEFT('1 - Opstart Importark'!$B$28,3),IF(I22=\"\",\"\",\"-\"),I22,IF(K22=\"\",\"\",\"-\"),K22,IF(M22=\"\",\"\",\"-\"),M22),CONCATENATE(LEFT('1 - Opstart Importark'!$B$3,1),(LEFT('1 - Opstart Importark'!$B$15,5)),(LEFT('1 - Opstart Importark'!$B$18,3)),IF(I22=\"\",\"\",\"-\"),I22,IF(K22=\"\",\"\",\"-\"),K22,IF(M22=\"\",\"\",\"-\"),M22))))","v":""},null," ",{"$nulls":9},{"$f":"IF(LEN('1 - Opstart Importark'!$B$6)>0,'1 - Opstart Importark'!$B$6,\"\")","v":""},{"$f":"IF(LEN('1 - Opstart Importark'!$B$9)>0,'1 - Opstart Importark'!$B$9,\"\")","v":""},{"$f":"IF(LEN('1 - Opstart Importark'!$B$23)>0,'1 - Opstart Importark'!$B$23,\"\")","v":""},{"$nulls":14},"",{"$nulls":8},0,"","","objektnogle_"]
[11,null,{"$f":"IF('1 - Opstart Importark'!$B$6=\"\",\"\",(IF('1 - Opstart Importark'!$B$15=\"\",CONCATENATE(LEFT('1 - Opstart Importark'!$B$3,1),(LEFT('1 - Opstart Importark'!$B$20,5)),MID('1 - Opstart Importark'!$B$20,5,2),LEFT('1 - Opstart Importark'!$B$28,3),IF(I23=\"\",\"\",\"-\"),I23,IF(K23=\"\",\"\",\"-\"),K23,IF(M23=\"\",\"\",\"-\"),M23),CONCATENATE(LEFT('1 - Opstart Importark'!$B$3,1),(LEFT('1 - Opstart Importark'!$B$15,5)),(LEFT('1 - Opstart Importark'!$B$18,3)),IF(I23=\"\",\"\",\"-\"),I23,IF(K23=\"\",\"\",\"-\"),K23,IF(M23=\"\",\"\",\"-\"),M23))))","v":""},null," ",{"$nulls":9},{"$f":"IF(LEN('1 - Opstart Importark'!$B$6)>0,'1 - Opstart Importark'!$B$6,\"\")","v":""},{"$f":"IF(LEN('1 - Opstart Importark'!$B$9)>0,'1 - Opstart Importark'!$B$9,\"\")","v":""},{"$f":"IF(LEN('1 - Opstart Importark'!$B$23)>0,'1 - Opstart Importark'!$B$23,\"\")","v":""},{"$nulls":14},"",{"$nulls":8},0,"","","objektnogle_"]
[12,null,{"$f":"IF('1 - Opstart Importark'!$B$6=\"\",\"\",(IF('1 - Opstart Importark'!$B$15=\"\",CONCATENATE(LEFT('1 - Opstart Importark'!$B$3,1),(LEFT('1 - Opstart Importark'!$B$20,5)),MID('1 - Opstart Importark'!$B$20,5,2),LEFT('1 - Opstart Importark'!$B$28,3),IF(I24=\"\",\"\",\"-\"),I24,IF(K24=\"\",\"\",\"-\"),K24,IF(M24=\"\",\"\",\"-\"),M24),CONCATENATE(LEFT('1 - Opstart Importark'!$B$3,1),(LEFT('1 - Opstart Importark'!$B$15,5)),(LEFT('1 - Opstart Importark'!$B$18,3)),IF(I24=\"\",\"\",\"-\"),I24,IF(K24=\"\",\"\",\"-\"),K24,IF(M24=\"\",\"\",\"-\"),M24))))","v":""},null," ",{"$nulls":9},{"$f":"IF(LEN('1 - Opstart Importark'!$B$6)>0,'1 - Opstart Importark'!$B$6,\"\")","v":""},{"$f":"IF(LEN('1 - Opstart Importark'!$B$9)>0,'1 - Opstart Importark'!$B$9,\"\")","v":""},{"$f":"IF(LEN('1 - Opstart Importark'!$B$23)>0,'1 - Opstart Importark'!$B$23,\"\")","v":""},{"$nulls":14},"",{"$nulls":8},0,"","","objektnogle_"]
[13,null,{"$f":"IF('1 - Opstart Importark'!$B$6=\"\",\"\",(IF('1 - Opstart Importark'!$B$15=\"\",CONCATENATE(LEFT('1 - Opstart Importark'!$B$3,1),(LEFT('1 - Opstart Importark'!$B$20,5)),MID('1 - Opstart Importark'!$B$20,5,2),LEFT('1 - Opstart Importark'!$B$28,3),IF(I25=\"\",\"\",\"-\"),I25,IF(K25=\"\",\"\",\"-\"),K25,IF(M25=\"\",\"\",\"-\"),M25),CONCATENATE(LEFT('1 - Opstart Importark'!$B$3,1),(LEFT('1 - Opstart Importark'!$B$15,5)),(LEFT('1 - Opstart Importark'!$B$18,3)),IF(I25=\"\",\"\",\"-\"),I25,IF(K25=\"\",\"\",\"-\"),K25,IF(M25=\"\",\"\",\"-\"),M25))))","v":""},null," ",{"$nulls":9},{"$f":"IF(LEN('1 - Opstart Importark'!$B$6)>0,'1 - Opstart Importark'!$B$6,\"\")","v":""},{"$f":"IF(LEN('1 - Opstart Importark'!$B$9)>0,'1 - Opstart Importark'!$B$9,\"\")","v":""},{"$f":"IF(LEN('1 - Opstart Importark'!$B$23)>0,'1 - Opstart Importark'!$B$23,\"\")","v":""},{"$nulls":14},"",{"$nulls":8},0,"","","objektnogle_"]
[14,null,{"$f":"IF('1 - Opstart Importark'!$B$6=\"\",\"\",(IF('1 - Opstart Importark'!$B$15=\"\",CONCATENATE(LEFT('1 - Opstart Importark'!$B$3,1),(LEFT('1 - Opstart Importark'!$B$20,5)),MID('1 - Opstart Importark'!$B$20,5,2),LEFT('1 - Opstart Importark'!$B$28,3),IF(I26=\"\",\"\",\"-\"),I26,IF(K26=\"\",\"\",\"-\"),K26,IF(M26=\"\",\"\",\"-\"),M26),CONCATENATE(LEFT('1 - Opstart Importark'!$B$3,1),(LEFT('1 - Opstart Importark'!$B$15,5)),(LEFT('1 - Opstart Importark'!$B$18,3)),IF(I26=\"\",\"\",\"-\"),I26,IF(K26=\"\",\"\",\"-\"),K26,IF(M26=\"\",\"\",\"-\"),M26))))","v":""},null," ",{"$nulls":9},{"$f":"IF(LEN('1 - Opstart Importark'!$B$6)>0,'1 - Opstart Importark'!$B$6,\"\")","v":""},{"$f":"IF(LEN('1 - Opstart Importark'!$B$9)>0,'1 - Opstart Importark'!$B$9,\"\")","v":""},{"$f":"IF(LEN('1 - Opstart Importark'!$B$23)>0,'1 - Opstart Importark'!$B$23,\"\")","v":""},{"$nulls":14},"",{"$nulls":8},0,"","","objektnogle_"]
[15,null,{"$f":"IF('1 - Opstart Importark'!$B$6=\"\",\"\",(IF('1 - Opstart Importark'!$B$15=\"\",CONCATENATE(LEFT('1 - Opstart Importark'!$B$3,1),(LEFT('1 - Opstart Importark'!$B$20,5)),MID('1 - Opstart Importark'!$B$20,5,2),LEFT('1 - Opstart Importark'!$B$28,3),IF(I27=\"\",\"\",\"-\"),I27,IF(K27=\"\",\"\",\"-\"),K27,IF(M27=\"\",\"\",\"-\"),M27),CONCATENATE(LEFT('1 - Opstart Importark'!$B$3,1),(LEFT('1 - Opstart Importark'!$B$15,5)),(LEFT('1 - Opstart Importark'!$B$18,3)),IF(I27=\"\",\"\",\"-\"),I27,IF(K27=\"\",\"\",\"-\"),K27,IF(M27=\"\",\"\",\"-\"),M27))))","v":""},null," ",{"$nulls":9},{"$f":"IF(LEN('1 - Opstart Importark'!$B$6)>0,'1 - Opstart Importark'!$B$6,\"\")","v":""},{"$f":"IF(LEN('1 - Opstart Importark'!$B$9)>0,'1 - Opstart Importark'!$B$9,\"\")","v":""},{"$f":"IF(LEN('1 - Opstart Importark'!$B$23)>0,'1 - Opstart Importark'!$B$23,\"\")","v":""},{"$nulls":14},"",{"$nulls":8},0,"","","objektnogle_"]
[16,null,{"$f":"IF('1 - Opstart Importark'!$B$6=\"\",\"\",(IF('1 - Opstart Importark'!$B$15=\"\",CONCATENATE(LEFT('1 - Opstart Importark'!$B$3,1),(LEFT('1 - Opstart Importark'!$B$20,5)),MID('1 - Opstart Importark'!$B$20,5,2),LEFT('1 - Opstart Importark'!$B$28,3),IF(I28=\"\",\"\",\"-\"),I28,IF(K28=\"\",\"\",\"-\"),K28,IF(M28=\"\",\"\",\"-\"),M28),CONCATENATE(LEFT('1 - Opstart Importark'!$B$3,1),(LEFT('1 - Opstart Importark'!$B$15,5)),(LEFT('1 - Opstart Importark'!$B$18,3)),IF(I28=\"\",\"\",\"-\"),I28,IF(K28=\"\",\"\",\"-\"),K28,IF(M28=\"\",\"\",\"-\"),M28))))","v":""},null," ",{"$nulls":9},{"$f":"IF(LEN('1 - Opstart Importark'!$B$6)>0,'1 - Opstart Importark'!$B$6,\"\")","v":""},{"$f":"IF(LEN('1 - Opstart Importark'!$B$9)>0,'1 - Opstart Importark'!$B$9,\"\")","v":""},{"$f":"IF(LEN('1 - Opstart Importark'!$B$23)>0,'1 - Opstart Importark'!$B$23,\"\")","v":""},{"$nulls":14},"",{"$nulls":8},0,"","","objektnogle_"]
[17,null,{"$f":"IF('1 - Opstart Importark'!$B$6=\"\",\"\",(IF('1 - Opstart Importark'!$B$15=\"\",CONCATENATE(LEFT('1 - Opstart Importark'!$B$3,1),(LEFT('1 - Opstart Importark'!$B$20,5)),MID('1 - Opstart Importark'!$B$20,5,2),LEFT('1 - Opstart Importark'!$B$28,3),IF(I29=\"\",\"\",\"-\"),I29,IF(K29=\"\",\"\",\"-\"),K29,IF(M29=\"\",\"\",\"-\"),M29),CONCATENATE(LEFT('1 - Opstart Importark'!$B$3,1),(LEFT('1 - Opstart Importark'!$B$15,5)),(LEFT('1 - Opstart Importark'!$B$18,3)),IF(I29=\"\",\"\",\"-\"),I29,IF(K29=\"\",\"\",\"-\"),K29,IF(M29=\"\",\"\",\"-\"),M29))))","v":""},null," ",{"$nulls":9},{"$f":"IF(LEN('1 - Opstart Importark'!$B$6)>0,'1 - Opstart Importark'!$B$6,\"\")","v":""},{"$f":"IF(LEN('1 - Opstart Importark'!$B$9)>0,'1 - Opstart Importark'!$B$9,\"\")","v":""},{"$f":"IF(LEN('1 - Opstart Importark'!$B$23)>0,'1 - Opstart Importark'!$B$23,\"\")","v":""},{"$nulls":14},"",{"$nulls":8},0,"","","objektnogle_"]
[18,null,{"$f":"IF('1 - Opstart Importark'!$B$6=\"\",\"\",(IF('1 - Opstart Importark'!$B$15=\"\",CONCATENATE(LEFT('1 - Opstart Importark'!$B$3,1),(LEFT('1 - Opstart Importark'!$B$20,5)),MID('1 - Opstart Importark'!$B$20,5,2),LEFT('1 - Opstart Importark'!$B$28,3),IF(I30=\"\",\"\",\"-\"),I30,IF(K30=\"\",\"\",\"-\"),K30,IF(M30=\"\",\"\",\"-\"),M30),CONCATENATE(LEFT('1 - Opstart Importark'!$B$3,1),(LEFT('1 - Opstart Importark'!$B$15,5)),(LEFT('1 - Opstart Importark'!$B$18,3)),IF(I30=\"\",\"\",\"-\"),I30,IF(K30=\"\",\"\",\"-\"),K30,IF(M30=\"\",\"\",\"-\"),M30))))","v":""},null," ",{"$nulls":9},{"$f":"IF(LEN('1 - Opstart Importark'!$B$6)>0,'1 - Opstart Importark'!$B$6,\"\")","v":""},{"$f":"IF(LEN('1 - Opstart Importark'!$B$9)>0,'1 - Opstart Importark'!$B$9,\"\")","v":""},{"$f":"IF(LEN('1 - Opstart Importark'!$B$23)>0,'1 - Opstart Importark'!$B$23,\"\")","v":""},{"$nulls":14},"",{"$nulls":8},0,"","","objektnogle_"]
[19,null,{"$f":"IF('1 - Opstart Importark'!$B$6=\"\",\"\",(IF('1 - Opstart Importark'!$B$15=\"\",CONCATENATE(LEFT('1 - Opstart Importark'!$B$3,1),(LEFT('1 - Opstart Importark'!$B$20,5)),MID('1 - Opstart Importark'!$B$20,5,2),LEFT('1 - Opstart Importark'!$B$28,3),IF(I31=\"\",\"\",\"-\"),I31,IF(K31=\"\",\"\",\"-\"),K31,IF(M31=\"\",\"\",\"-\"),M31),CONCATENATE(LEFT('1 - Opstart Importark'!$B$3,1),(LEFT('1 - Opstart Importark'!$B$15,5)),(LEFT('1 - Opstart Importark'!$B$18,3)),IF(I31=\"\",\"\",\"-\"),I31,IF(K31=\"\",\"\",\"-\"),K31,IF(M31=\"\",\"\",\"-\"),M31))))","v":""},null," ",{"$nulls":9},{"$f":"IF(LEN('1 - Opstart Importark'!$B$6)>0,'1 - Opstart Importark'!$B$6,\"\")","v":""},{"$f":"IF(LEN('1 - Opstart Importark'!$B$9)>0,'1 - Opstart Importark'!$B$9,\"\")","v":""},{"$f":"IF(LEN('1 - Opstart Importark'!$B$23)>0,'1 - Opstart Importark'!$B$23,\"\")","v":""},{"$nulls":14},"",{"$nulls":8},0,"","","objektnogle_"]
[20,null,{"$f":"IF('1 - Opstart Importark'!$B$6=\"\",\"\",(IF('1 - Opstart Importark'!$B$15=\"\",CONCATENATE(LEFT('1 - Opstart Importark'!$B$3,1),(LEFT('1 - Opstart Importark'!$B$20,5)),MID('1 - Opstart Importark'!$B$20,5,2),LEFT('1 - Opstart Importark'!$B$28,3),IF(I32=\"\",\"\",\"-\"),I32,IF(K32=\"\",\"\",\"-\"),K32,IF(M32=\"\",\"\",\"-\"),M32),CONCATENATE(LEFT('1 - Opstart Importark'!$B$3,1),(LEFT('1 - Opstart Importark'!$B$15,5)),(LEFT('1 - Opstart Importark'!$B$18,3)),IF(I32=\"\",\"\",\"-\"),I32,IF(K32=\"\",\"\",\"-\"),K32,IF(M32=\"\",\"\",\"-\"),M32))))","v":""},null," ",{"$nulls":9},{"$f":"IF(LEN('1 - Opstart Importark'!$B$6)>0,'1 - Opstart Importark'!$B$6,\"\")","v":""},{"$f":"IF(LEN('1 - Opstart Importark'!$B$9)>0,'1 - Opstart Importark'!$B$9,\"\")","v":""},{"$f":"IF(LEN('1 - Opstart Importark'!$B$23)>0,'1 - Opstart Importark'!$B$23,\"\")","v":""},{"$nulls":14},"",{"$nulls":8},0,"","","objektnogle_"]
[21,null,{"$f":"IF('1 - Opstart Importark'!$B$6=\"\",\"\",(IF('1 - Opstart Importark'!$B$15=\"\",CONCATENATE(LEFT('1 - Opstart Importark'!$B$3,1),(LEFT('1 - Opstart Importark'!$B$20,5)),MID('1 - Opstart Importark'!$B$20,5,2),LEFT('1 - Opstart Importark'!$B$28,3),IF(I33=\"\",\"\",\"-\"),I33,IF(K33=\"\",\"\",\"-\"),K33,IF(M33=\"\",\"\",\"-\"),M33),CONCATENATE(LEFT('1 - Opstart Importark'!$B$3,1),(LEFT('1 - Opstart Importark'!$B$15,5)),(LEFT('1 - Opstart Importark'!$B$18,3)),IF(I33=\"\",\"\",\"-\"),I33,IF(K33=\"\",\"\",\"-\"),K33,IF(M33=\"\",\"\",\"-\"),M33))))","v":""},null," ",{"$nulls":9},{"$f":"IF(LEN('1 - Opstart Importark'!$B$6)>0,'1 - Opstart Importark'!$B$6,\"\")","v":""},{"$f":"IF(LEN('1 - Opstart Importark'!$B$9)>0,'1 - Opstart Importark'!$B$9,\"\")","v":""},{"$f":"IF(LEN('1 - Opstart Importark'!$B$23)>0,'1 - Opstart Importark'!$B$23,\"\")","v":""},{"$nulls":14},"",{"$nulls":8},0,"","","objektnogle_"]
[22,null,{"$f":"IF('1 - Opstart Importark'!$B$6=\"\",\"\",(IF('1 - Opstart Importark'!$B$15=\"\",CONCATENATE(LEFT('1 - Opstart Importark'!$B$3,1),(LEFT('1 - Opstart Importark'!$B$20,5)),MID('1 - Opstart Importark'!$B$20,5,2),LEFT('1 - Opstart Importark'!$B$28,3),IF(I34=\"\",\"\",\"-\"),I34,IF(K34=\"\",\"\",\"-\"),K34,IF(M34=\"\",\"\",\"-\"),M34),CONCATENATE(LEFT('1 - Opstart Importark'!$B$3,1),(LEFT('1 - Opstart Importark'!$B$15,5)),(LEFT('1 - Opstart Importark'!$B$18,3)),IF(I34=\"\",\"\",\"-\"),I34,IF(K34=\"\",\"\",\"-\"),K34,IF(M34=\"\",\"\",\"-\"),M34))))","v":""},null," ",{"$nulls":9},{"$f":"IF(LEN('1 - Opstart Importark'!$B$6)>0,'1 - Opstart Importark'!$B$6,\"\")","v":""},{"$f":"IF(LEN('1 - Opstart Importark'!$B$9)>0,'1 - Opstart Importark'!$B$9,\"\")","v":""},{"$f":"IF(LEN('1 - Opstart Importark'!$B$23)>0,'1 - Opstart Importark'!$B$23,\"\")","v":""},{"$nulls":14},"",{"$nulls":8},0,"","","objektnogle_"]
[23,null,{"$f":"IF('1 - Opstart Importark'!$B$6=\"\",\"\",(IF('1 - Opstart Importark'!$B$15=\"\",CONCATENATE(LEFT('1 - Opstart Importark'!$B$3,1),(LEFT('1 - Opstart Importark'!$B$20,5)),MID('1 - Opstart Importark'!$B$20,5,2),LEFT('1 - Opstart Importark'!$B$28,3),IF(I35=\"\",\"\",\"-\"),I35,IF(K35=\"\",\"\",\"-\"),K35,IF(M35=\"\",\"\",\"-\"),M35),CONCATENATE(LEFT('1 - Opstart Importark'!$B$3,1),(LEFT('1 - Opstart Importark'!$B$15,5)),(LEFT('1 - Opstart Importark'!$B$18,3)),IF(I35=\"\",\"\",\"-\"),I35,IF(K35=\"\",\"\",\"-\"),K35,IF(M35=\"\",\"\",\"-\"),M35))))","v":""},null," ",{"$nulls":9},{"$f":"IF(LEN('1 - Opstart Importark'!$B$6)>0,'1 - Opstart Importark'!$B$6,\"\")","v":""},{"$f":"IF(LEN('1 - Opstart Importark'!$B$9)>0,'1 - Opstart Importark'!$B$9,\"\")","v":""},{"$f":"IF(LEN('1 - Opstart Importark'!$B$23)>0,'1 - Opstart Importark'!$B$23,\"\")","v":""},{"$nulls":14},"",{"$nulls":8},0,"","","objektnogle_"]
[24,null,{"$f":"IF('1 - Opstart Importark'!$B$6=\"\",\"\",(IF('1 - Opstart Importark'!$B$15=\"\",CONCATENATE(LEFT('1 - Opstart Importark'!$B$3,1),(LEFT('1 - Opstart Importark'!$B$20,5)),MID('1 - Opstart Importark'!$B$20,5,2),LEFT('1 - Opstart Importark'!$B$28,3),IF(I36=\"\",\"\",\"-\"),I36,IF(K36=\"\",\"\",\"-\"),K36,IF(M36=\"\",\"\",\"-\"),M36),CONCATENATE(LEFT('1 - Opstart Importark'!$B$3,1),(LEFT('1 - Opstart Importark'!$B$15,5)),(LEFT('1 - Opstart Importark'!$B$18,3)),IF(I36=\"\",\"\",\"-\"),I36,IF(K36=\"\",\"\",\"-\"),K36,IF(M36=\"\",\"\",\"-\"),M36))))","v":""},null," ",{"$nulls":9},{"$f":"IF(LEN('1 - Opstart Importark'!$B$6)>0,'1 - Opstart Importark'!$B$6,\"\")","v":""},{"$f":"IF(LEN('1 - Opstart Importark'!$B$9)>0,'1 - Opstart Importark'!$B$9,\"\")","v":""},{"$f":"IF(LEN('1 - Opstart Importark'!$B$23)>0,'1 - Opstart Importark'!$B$23,\"\")","v":""},{"$nulls":14},"",{"$nulls":8},0,"","","objektnogle_"]
[25,null,{"$f":"IF('1 - Opstart Importark'!$B$6=\"\",\"\",(IF('1 - Opstart Importark'!$B$15=\"\",CONCATENATE(LEFT('1 - Opstart Importark'!$B$3,1),(LEFT('1 - Opstart Importark'!$B$20,5)),MID('1 - Opstart Importark'!$B$20,5,2),LEFT('1 - Opstart Importark'!$B$28,3),IF(I37=\"\",\"\",\"-\"),I37,IF(K37=\"\",\"\",\"-\"),K37,IF(M37=\"\",\"\",\"-\"),M37),CONCATENATE(LEFT('1 - Opstart Importark'!$B$3,1),(LEFT('1 - Opstart Importark'!$B$15,5)),(LEFT('1 - Opstart Importark'!$B$18,3)),IF(I37=\"\",\"\",\"-\"),I37,IF(K37=\"\",\"\",\"-\"),K37,IF(M37=\"\",\"\",\"-\"),M37))))","v":""},null," ",{"$nulls":9},{"$f":"IF(LEN('1 - Opstart Importark'!$B$6)>0,'1 - Opstart Importark'!$B$6,\"\")","v":""},{"$f":"IF(LEN('1 - Opstart Importark'!$B$9)>0,'1 - Opstart Importark'!$B$9,\"\")","v":""},{"$f":"IF(LEN('1 - Opstart Importark'!$B$23)>0,'1 - Opstart Importark'!$B$23,\"\")","v":""},{"$nulls":14},"",{"$nulls":8},0,"","","objektnogle_"]
[26,null,{"$f":"IF('1 - Opstart Importark'!$B$6=\"\",\"\",(IF('1 - Opstart Importark'!$B$15=\"\",CONCATENATE(LEFT('1 - Opstart Importark'!$B$3,1),(LEFT('1 - Opstart Importark'!$B$20,5)),MID('1 - Opstart Importark'!$B$20,5,2),LEFT('1 - Opstart Importark'!$B$28,3),IF(I38=\"\",\"\",\"-\"),I38,IF(K38=\"\",\"\",\"-\"),K38,IF(M38=\"\",\"\",\"-\"),M38),CONCATENATE(LEFT('1 - Opstart Importark'!$B$3,1),(LEFT('1 - Opstart Importark'!$B$15,5)),(LEFT('1 - Opstart Importark'!$B$18,3)),IF(I38=\"\",\"\",\"-\"),I38,IF(K38=\"\",\"\",\"-\"),K38,IF(M38=\"\",\"\",\"-\"),M38))))","v":""},null," ",{"$nulls":9},{"$f":"IF(LEN('1 - Opstart Importark'!$B$6)>0,'1 - Opstart Importark'!$B$6,\"\")","v":""},{"$f":"IF(LEN('1 - Opstart Importark'!$B$9)>0,'1 - Opstart Importark'!$B$9,\"\")","v":""},{"$f":"IF(LEN('1 - Opstart Importark'!$B$23)>0,'1 - Opstart Importark'!$B$23,\"\")","v":""},{"$nulls":14},"",{"$nulls":8},0,"","","objektnogle_"]
[27,null,{"$f":"IF('1 - Opstart Importark'!$B$6=\"\",\"\",(IF('1 - Opstart Importark'!$B$15=\"\",CONCATENATE(LEFT('1 - Opstart Importark'!$B$3,1),(LEFT('1 - Opstart Importark'!$B$20,5)),MID('1 - Opstart Importark'!$B$20,5,2),LEFT('1 - Opstart Importark'!$B$28,3),IF(I39=\"\",\"\",\"-\"),I39,IF(K39=\"\",\"\",\"-\"),K39,IF(M39=\"\",\"\",\"-\"),M39),CONCATENATE(LEFT('1 - Opstart Importark'!$B$3,1),(LEFT('1 - Opstart Importark'!$B$15,5)),(LEFT('1 - Opstart Importark'!$B$18,3)),IF(I39=\"\",\"\",\"-\"),I39,IF(K39=\"\",\"\",\"-\"),K39,IF(M39=\"\",\"\",\"-\"),M39))))","v":""},null," ",{"$nulls":9},{"$f":"IF(LEN('1 - Opstart Importark'!$B$6)>0,'1 - Opstart Importark'!$B$6,\"\")","v":""},{"$f":"IF(LEN('1 - Opstart Importark'!$B$9)>0,'1 - Opstart Importark'!$B$9,\"\")","v":""},{"$f":"IF(LEN('1 - Opstart Importark'!$B$23)>0,'1 - Opstart Importark'!$B$23,\"\")","v":""},{"$nulls":14},"",{"$nulls":8},0,"","","objektnogle_"]
[28,null,{"$f":"IF('1 - Opstart Importark'!$B$6=\"\",\"\",(IF('1 - Opstart Importark'!$B$15=\"\",CONCATENATE(LEFT('1 - Opstart Importark'!$B$3,1),(LEFT('1 - Opstart Importark'!$B$20,5)),MID('1 - Opstart Importark'!$B$20,5,2),LEFT('1 - Opstart Importark'!$B$28,3),IF(I40=\"\",\"\",\"-\"),I40,IF(K40=\"\",\"\",\"-\"),K40,IF(M40=\"\",\"\",\"-\"),M40),CONCATENATE(LEFT('1 - Opstart Importark'!$B$3,1),(LEFT('1 - Opstart Importark'!$B$15,5)),(LEFT('1 - Opstart Importark'!$B$18,3)),IF(I40=\"\",\"\",\"-\"),I40,IF(K40=\"\",\"\",\"-\"),K40,IF(M40=\"\",\"\",\"-\"),M40))))","v":""},null," ",{"$nulls":9},{"$f":"IF(LEN('1 - Opstart Importark'!$B$6)>0,'1 - Opstart Importark'!$B$6,\"\")","v":""},{"$f":"IF(LEN('1 - Opstart Importark'!$B$9)>0,'1 - Opstart Importark'!$B$9,\"\")","v":""},{"$f":"IF(LEN('1 - Opstart Importark'!$B$23)>0,'1 - Opstart Importark'!$B$23,\"\")","v":""},{"$nulls":14},"",{"$nulls":8},0,"","","objektnogle_"]
[29,null,{"$f":"IF('1 - Opstart Importark'!$B$6=\"\",\"\",(IF('1 - Opstart Importark'!$B$15=\"\",CONCATENATE(LEFT('1 - Opstart Importark'!$B$3,1),(LEFT('1 - Opstart Importark'!$B$20,5)),MID('1 - Opstart Importark'!$B$20,5,2),LEFT('1 - Opstart Importark'!$B$28,3),IF(I41=\"\",\"\",\"-\"),I41,IF(K41=\"\",\"\",\"-\"),K41,IF(M41=\"\",\"\",\"-\"),M41),CONCATENATE(LEFT('1 - Opstart Importark'!$B$3,1),(LEFT('1 - Opstart Importark'!$B$15,5)),(LEFT('1 - Opstart Importark'!$B$18,3)),IF(I41=\"\",\"\",\"-\"),I41,IF(K41=\"\",\"\",\"-\"),K41,IF(M41=\"\",\"\",\"-\"),M41))))","v":""},null," ",{"$nulls":9},{"$f":"IF(LEN('1 - Opstart Importark'!$B$6)>0,'1 - Opstart Importark'!$B$6,\"\")","v":""},{"$f":"IF(LEN('1 - Opstart Importark'!$B$9)>0,'1 - Opstart Importark'!$B$9,\"\")","v":""},{"$f":"IF(LEN('1 - Opstart Importark'!$B$23)>0,'1 - Opstart Importark'!$B$23,\"\")","v":""},{"$nulls":14},"",{"$nulls":8},0,"","","objektnogle_"]
[30,null,{"$f":"IF('1 - Opstart Importark'!$B$6=\"\",\"\",(IF('1 - Opstart Importark'!$B$15=\"\",CONCATENATE(LEFT('1 - Opstart Importark'!$B$3,1),(LEFT('1 - Opstart Importark'!$B$20,5)),MID('1 - Opstart Importark'!$B$20,5,2),LEFT('1 - Opstart Importark'!$B$28,3),IF(I42=\"\",\"\",\"-\"),I42,IF(K42=\"\",\"\",\"-\"),K42,IF(M42=\"\",\"\",\"-\"),M42),CONCATENATE(LEFT('1 - Opstart Importark'!$B$3,1),(LEFT('1 - Opstart Importark'!$B$15,5)),(LEFT('1 - Opstart Importark'!$B$18,3)),IF(I42=\"\",\"\",\"-\"),I42,IF(K42=\"\",\"\",\"-\"),K42,IF(M42=\"\",\"\",\"-\"),M42))))","v":""},null," ",{"$nulls":9},{"$f":"IF(LEN('1 - Opstart Importark'!$B$6)>0,'1 - Opstart Importark'!$B$6,\"\")","v":""},{"$f":"IF(LEN('1 - Opstart Importark'!$B$9)>0,'1 - Opstart Importark'!$B$9,\"\")","v":""},{"$f":"IF(LEN('1 - Opstart Importark'!$B$23)>0,'1 - Opstart Importark'!$B$23,\"\")","v":""},{"$nulls":14},"",{"$nulls":8},0,"","","objektnogle_"]
[31,null,{"$f":"IF('1 - Opstart Importark'!$B$6=\"\",\"\",(IF('1 - Opstart Importark'!$B$15=\"\",CONCATENATE(LEFT('1 - Opstart Importark'!$B$3,1),(LEFT('1 - Opstart Importark'!$B$20,5)),MID('1 - Opstart Importark'!$B$20,5,2),LEFT('1 - Opstart Importark'!$B$28,3),IF(I43=\"\",\"\",\"-\"),I43,IF(K43=\"\",\"\",\"-\"),K43,IF(M43=\"\",\"\",\"-\"),M43),CONCATENATE(LEFT('1 - Opstart Importark'!$B$3,1),(LEFT('1 - Opstart Importark'!$B$15,5)),(LEFT('1 - Opstart Importark'!$B$18,3)),IF(I43=\"\",\"\",\"-\"),I43,IF(K43=\"\",\"\",\"-\"),K43,IF(M43=\"\",\"\",\"-\"),M43))))","v":""},null," ",{"$nulls":9},{"$f":"IF(LEN('1 - Opstart Importark'!$B$6)>0,'1 - Opstart Importark'!$B$6,\"\")","v":""},{"$f":"IF(LEN('1 - Opstart Importark'!$B$9)>0,'1 - Opstart Importark'!$B$9,\"\")","v":""},{"$f":"IF(LEN('1 - Opstart Importark'!$B$23)>0,'1 - Opstart Importark'!$B$23,\"\")","v":""},{"$nulls":14},"",{"$nulls":8},0,"","","objektnogle_"]
[32,null,{"$f":"IF('1 - Opstart Importark'!$B$6=\"\",\"\",(IF('1 - Opstart Importark'!$B$15=\"\",CONCATENATE(LEFT('1 - Opstart Importark'!$B$3,1),(LEFT('1 - Opstart Importark'!$B$20,5)),MID('1 - Opstart Importark'!$B$20,5,2),LEFT('1 - Opstart Importark'!$B$28,3),IF(I44=\"\",\"\",\"-\"),I44,IF(K44=\"\",\"\",\"-\"),K44,IF(M44=\"\",\"\",\"-\"),M44),CONCATENATE(LEFT('1 - Opstart Importark'!$B$3,1),(LEFT('1 - Opstart Importark'!$B$15,5)),(LEFT('1 - Opstart Importark'!$B$18,3)),IF(I44=\"\",\"\",\"-\"),I44,IF(K44=\"\",\"\",\"-\"),K44,IF(M44=\"\",\"\",\"-\"),M44))))","v":""},null," ",{"$nulls":9},{"$f":"IF(LEN('1 - Opstart Importark'!$B$6)>0,'1 - Opstart Importark'!$B$6,\"\")","v":""},{"$f":"IF(LEN('1 - Opstart Importark'!$B$9)>0,'1 - Opstart Importark'!$B$9,\"\")","v":""},{"$f":"IF(LEN('1 - Opstart Importark'!$B$23)>0,'1 - Opstart Importark'!$B$23,\"\")","v":""},{"$nulls":14},"",{"$nulls":8},0,"","","objektnogle_"]
[33,null,{"$f":"IF('1 - Opstart Importark'!$B$6=\"\",\"\",(IF('1 - Opstart Importark'!$B$15=\"\",CONCATENATE(LEFT('1 - Opstart Importark'!$B$3,1),(LEFT('1 - Opstart Importark'!$B$20,5)),MID('1 - Opstart Importark'!$B$20,5,2),LEFT('1 - Opstart Importark'!$B$28,3),IF(I45=\"\",\"\",\"-\"),I45,IF(K45=\"\",\"\",\"-\"),K45,IF(M45=\"\",\"\",\"-\"),M45),CONCATENATE(LEFT('1 - Opstart Importark'!$B$3,1),(LEFT('1 - Opstart Importark'!$B$15,5)),(LEFT('1 - Opstart Importark'!$B$18,3)),IF(I45=\"\",\"\",\"-\"),I45,IF(K45=\"\",\"\",\"-\"),K45,IF(M45=\"\",\"\",\"-\"),M45))))","v":""},null," ",{"$nulls":9},{"$f":"IF(LEN('1 - Opstart Importark'!$B$6)>0,'1 - Opstart Importark'!$B$6,\"\")","v":""},{"$f":"IF(LEN('1 - Opstart Importark'!$B$9)>0,'1 - Opstart Importark'!$B$9,\"\")","v":""},{"$f":"IF(LEN('1 - Opstart Importark'!$B$23)>0,'1 - Opstart Importark'!$B$23,\"\")","v":""},{"$nulls":14},"",{"$nulls":8},0,"","","objektnogle_"]
[34,null,{"$f":"IF('1 - Opstart Importark'!$B$6=\"\",\"\",(IF('1 - Opstart Importark'!$B$15=\"\",CONCATENATE(LEFT('1 - Opstart Importark'!$B$3,1),(LEFT('1 - Opstart Importark'!$B$20,5)),MID('1 - Opstart Importark'!$B$20,5,2),LEFT('1 - Opstart Importark'!$B$28,3),IF(I46=\"\",\"\",\"-\"),I46,IF(K46=\"\",\"\",\"-\"),K46,IF(M46=\"\",\"\",\"-\"),M46),CONCATENATE(LEFT('1 - Opstart Importark'!$B$3,1),(LEFT('1 - Opstart Importark'!$B$15,5)),(LEFT('1 - Opstart Importark'!$B$18,3)),IF(I46=\"\",\"\",\"-\"),I46,IF(K46=\"\",\"\",\"-\"),K46,IF(M46=\"\",\"\",\"-\"),M46))))","v":""},null," ",{"$nulls":9},{"$f":"IF(LEN('1 - Opstart Importark'!$B$6)>0,'1 - Opstart Importark'!$B$6,\"\")","v":""},{"$f":"IF(LEN('1 - Opstart Importark'!$B$9)>0,'1 - Opstart Importark'!$B$9,\"\")","v":""},{"$f":"IF(LEN('1 - Opstart Importark'!$B$23)>0,'1 - Opstart Importark'!$B$23,\"\")","v":""},{"$nulls":14},"",{"$nulls":8},0,"","","objektnogle_"]
[35,null,{"$f":"IF('1 - Opstart Importark'!$B$6=\"\",\"\",(IF('1 - Opstart Importark'!$B$15=\"\",CONCATENATE(LEFT('1 - Opstart Importark'!$B$3,1),(LEFT('1 - Opstart Importark'!$B$20,5)),MID('1 - Opstart Importark'!$B$20,5,2),LEFT('1 - Opstart Importark'!$B$28,3),IF(I47=\"\",\"\",\"-\"),I47,IF(K47=\"\",\"\",\"-\"),K47,IF(M47=\"\",\"\",\"-\"),M47),CONCATENATE(LEFT('1 - Opstart Importark'!$B$3,1),(LEFT('1 - Opstart Importark'!$B$15,5)),(LEFT('1 - Opstart Importark'!$B$18,3)),IF(I47=\"\",\"\",\"-\"),I47,IF(K47=\"\",\"\",\"-\"),K47,IF(M47=\"\",\"\",\"-\"),M47))))","v":""},null," ",{"$nulls":9},{"$f":"IF(LEN('1 - Opstart Importark'!$B$6)>0,'1 - Opstart Importark'!$B$6,\"\")","v":""},{"$f":"IF(LEN('1 - Opstart Importark'!$B$9)>0,'1 - Opstart Importark'!$B$9,\"\")","v":""},{"$f":"IF(LEN('1 - Opstart Importark'!$B$23)>0,'1 - Opstart Importark'!$B$23,\"\")","v":""},{"$nulls":14},"",{"$nulls":8},0,"","","objektnogle_"]
[36,null,{"$f":"IF('1 - Opstart Importark'!$B$6=\"\",\"\",(IF('1 - Opstart Importark'!$B$15=\"\",CONCATENATE(LEFT('1 - Opstart Importark'!$B$3,1),(LEFT('1 - Opstart Importark'!$B$20,5)),MID('1 - Opstart Importark'!$B$20,5,2),LEFT('1 - Opstart Importark'!$B$28,3),IF(I48=\"\",\"\",\"-\"),I48,IF(K48=\"\",\"\",\"-\"),K48,IF(M48=\"\",\"\",\"-\"),M48),CONCATENATE(LEFT('1 - Opstart Importark'!$B$3,1),(LEFT('1 - Opstart Importark'!$B$15,5)),(LEFT('1 - Opstart Importark'!$B$18,3)),IF(I48=\"\",\"\",\"-\"),I48,IF(K48=\"\",\"\",\"-\"),K48,IF(M48=\"\",\"\",\"-\"),M48))))","v":""},null," ",{"$nulls":9},{"$f":"IF(LEN('1 - Opstart Importark'!$B$6)>0,'1 - Opstart Importark'!$B$6,\"\")","v":""},{"$f":"IF(LEN('1 - Opstart Importark'!$B$9)>0,'1 - Opstart Importark'!$B$9,\"\")","v":""},{"$f":"IF(LEN('1 - Opstart Importark'!$B$23)>0,'1 - Opstart Importark'!$B$23,\"\")","v":""},{"$nulls":14},"",{"$nulls":8},0,"","","objektnogle_"]
[37,null,{"$f":"IF('1 - Opstart Importark'!$B$6=\"\",\"\",(IF('1 - Opstart Importark'!$B$15=\"\",CONCATENATE(LEFT('1 - Opstart Importark'!$B$3,1),(LEFT('1 - Opstart Importark'!$B$20,5)),MID('1 - Opstart Importark'!$B$20,5,2),LEFT('1 - Opstart Importark'!$B$28,3),IF(I49=\"\",\"\",\"-\"),I49,IF(K49=\"\",\"\",\"-\"),K49,IF(M49=\"\",\"\",\"-\"),M49),CONCATENATE(LEFT('1 - Opstart Importark'!$B$3,1),(LEFT('1 - Opstart Importark'!$B$15,5)),(LEFT('1 - Opstart Importark'!$B$18,3)),IF(I49=\"\",\"\",\"-\"),I49,IF(K49=\"\",\"\",\"-\"),K49,IF(M49=\"\",\"\",\"-\"),M49))))","v":""},null," ",{"$nulls":9},{"$f":"IF(LEN('1 - Opstart Importark'!$B$6)>0,'1 - Opstart Importark'!$B$6,\"\")","v":""},{"$f":"IF(LEN('1 - Opstart Importark'!$B$9)>0,'1 - Opstart Importark'!$B$9,\"\")","v":""},{"$f":"IF(LEN('1 - Opstart Importark'!$B$23)>0,'1 - Opstart Importark'!$B$23,\"\")","v":""},{"$nulls":14},"",{"$nulls":8},0,"","","objektnogle_"]
[38,null,{"$f":"IF('1 - Opstart Importark'!$B$6=\"\",\"\",(IF('1 - Opstart Importark'!$B$15=\"\",CONCATENATE(LEFT('1 - Opstart Importark'!$B$3,1),(LEFT('1 - Opstart Importark'!$B$20,5)),MID('1 - Opstart Importark'!$B$20,5,2),LEFT('1 - Opstart Importark'!$B$28,3),IF(I50=\"\",\"\",\"-\"),I50,IF(K50=\"\",\"\",\"-\"),K50,IF(M50=\"\",\"\",\"-\"),M50),CONCATENATE(LEFT('1 - Opstart Importark'!$B$3,1),(LEFT('1 - Opstart Importark'!$B$15,5)),(LEFT('1 - Opstart Importark'!$B$18,3)),IF(I50=\"\",\"\",\"-\"),I50,IF(K50=\"\",\"\",\"-\"),K50,IF(M50=\"\",\"\",\"-\"),M50))))","v":""},null," ",{"$nulls":9},{"$f":"IF(LEN('1 - Opstart Importark'!$B$6)>0,'1 - Opstart Importark'!$B$6,\"\")","v":""},{"$f":"IF(LEN('1 - Opstart Importark'!$B$9)>0,'1 - Opstart Importark'!$B$9,\"\")","v":""},{"$f":"IF(LEN('1 - Opstart Importark'!$B$23)>0,'1 - Opstart Importark'!$B$23,\"\")","v":""},{"$nulls":14},"",{"$nulls":8},0,"","","objektnogle_"]
[39,null,{"$f":"IF('1 - Opstart Importark'!$B$6=\"\",\"\",(IF('1 - Opstart Importark'!$B$15=\"\",CONCATENATE(LEFT('1 - Opstart Importark'!$B$3,1),(LEFT('1 - Opstart Importark'!$B$20,5)),MID('1 - Opstart Importark'!$B$20,5,2),LEFT('1 - Opstart Importark'!$B$28,3),IF(I51=\"\",\"\",\"-\"),I51,IF(K51=\"\",\"\",\"-\"),K51,IF(M51=\"\",\"\",\"-\"),M51),CONCATENATE(LEFT('1 - Opstart Importark'!$B$3,1),(LEFT('1 - Opstart Importark'!$B$15,5)),(LEFT('1 - Opstart Importark'!$B$18,3)),IF(I51=\"\",\"\",\"-\"),I51,IF(K51=\"\",\"\",\"-\"),K51,IF(M51=\"\",\"\",\"-\"),M51))))","v":""},null," ",{"$nulls":9},{"$f":"IF(LEN('1 - Opstart Importark'!$B$6)>0,'1 - Opstart Importark'!$B$6,\"\")","v":""},{"$f":"IF(LEN('1 - Opstart Importark'!$B$9)>0,'1 - Opstart Importark'!$B$9,\"\")","v":""},{"$f":"IF(LEN('1 - Opstart Importark'!$B$23)>0,'1 - Opstart Importark'!$B$23,\"\")","v":""},{"$nulls":14},"",{"$nulls":8},0,"","","objektnogle_"]
[40,null,{"$f":"IF('1 - Opstart Importark'!$B$6=\"\",\"\",(IF('1 - Opstart Importark'!$B$15=\"\",CONCATENATE(LEFT('1 - Opstart Importark'!$B$3,1),(LEFT('1 - Opstart Importark'!$B$20,5)),MID('1 - Opstart Importark'!$B$20,5,2),LEFT('1 - Opstart Importark'!$B$28,3),IF(I52=\"\",\"\",\"-\"),I52,IF(K52=\"\",\"\",\"-\"),K52,IF(M52=\"\",\"\",\"-\"),M52),CONCATENATE(LEFT('1 - Opstart Importark'!$B$3,1),(LEFT('1 - Opstart Importark'!$B$15,5)),(LEFT('1 - Opstart Importark'!$B$18,3)),IF(I52=\"\",\"\",\"-\"),I52,IF(K52=\"\",\"\",\"-\"),K52,IF(M52=\"\",\"\",\"-\"),M52))))","v":""},null," ",{"$nulls":9},{"$f":"IF(LEN('1 - Opstart Importark'!$B$6)>0,'1 - Opstart Importark'!$B$6,\"\")","v":""},{"$f":"IF(LEN('1 - Opstart Importark'!$B$9)>0,'1 - Opstart Importark'!$B$9,\"\")","v":""},{"$f":"IF(LEN('1 - Opstart Importark'!$B$23)>0,'1 - Opstart Importark'!$B$23,\"\")","v":""},{"$nulls":14},"",{"$nulls":8},0,"","","objektnogle_"]
[41,null,{"$f":"IF('1 - Opstart Importark'!$B$6=\"\",\"\",(IF('1 - Opstart Importark'!$B$15=\"\",CONCATENATE(LEFT('1 - Opstart Importark'!$B$3,1),(LEFT('1 - Opstart Importark'!$B$20,5)),MID('1 - Opstart Importark'!$B$20,5,2),LEFT('1 - Opstart Importark'!$B$28,3),IF(I53=\"\",\"\",\"-\"),I53,IF(K53=\"\",\"\",\"-\"),K53,IF(M53=\"\",\"\",\"-\"),M53),CONCATENATE(LEFT('1 - Opstart Importark'!$B$3,1),(LEFT('1 - Opstart Importark'!$B$15,5)),(LEFT('1 - Opstart Importark'!$B$18,3)),IF(I53=\"\",\"\",\"-\"),I53,IF(K53=\"\",\"\",\"-\"),K53,IF(M53=\"\",\"\",\"-\"),M53))))","v":""},null," ",{"$nulls":9},{"$f":"IF(LEN('1 - Opstart Importark'!$B$6)>0,'1 - Opstart Importark'!$B$6,\"\")","v":""},{"$f":"IF(LEN('1 - Opstart Importark'!$B$9)>0,'1 - Opstart Importark'!$B$9,\"\")","v":""},{"$f":"IF(LEN('1 - Opstart Importark'!$B$23)>0,'1 - Opstart Importark'!$B$23,\"\")","v":""},{"$nulls":14},"",{"$nulls":8},0,"","","objektnogle_"]
[42,null,{"$f":"IF('1 - Opstart Importark'!$B$6=\"\",\"\",(IF('1 - Opstart Importark'!$B$15=\"\",CONCATENATE(LEFT('1 - Opstart Importark'!$B$3,1),(LEFT('1 - Opstart Importark'!$B$20,5)),MID('1 - Opstart Importark'!$B$20,5,2),LEFT('1 - Opstart Importark'!$B$28,3),IF(I54=\"\",\"\",\"-\"),I54,IF(K54=\"\",\"\",\"-\"),K54,IF(M54=\"\",\"\",\"-\"),M54),CONCATENATE(LEFT('1 - Opstart Importark'!$B$3,1),(LEFT('1 - Opstart Importark'!$B$15,5)),(LEFT('1 - Opstart Importark'!$B$18,3)),IF(I54=\"\",\"\",\"-\"),I54,IF(K54=\"\",\"\",\"-\"),K54,IF(M54=\"\",\"\",\"-\"),M54))))","v":""},null," ",{"$nulls":9},{"$f":"IF(LEN('1 - Opstart Importark'!$B$6)>0,'1 - Opstart Importark'!$B$6,\"\")","v":""},{"$f":"IF(LEN('1 - Opstart Importark'!$B$9)>0,'1 - Opstart Importark'!$B$9,\"\")","v":""},{"$f":"IF(LEN('1 - Opstart Importark'!$B$23)>0,'1 - Opstart Importark'!$B$23,\"\")","v":""},{"$nulls":14},"",{"$nulls":8},0,"","","objektnogle_"]
[43,null,{"$f":"IF('1 - Opstart Importark'!$B$6=\"\",\"\",(IF('1 - Opstart Importark'!$B$15=\"\",CONCATENATE(LEFT('1 - Opstart Importark'!$B$3,1),(LEFT('1 - Opstart Importark'!$B$20,5)),MID('1 - Opstart Importark'!$B$20,5,2),LEFT('1 - Opstart Importark'!$B$28,3),IF(I55=\"\",\"\",\"-\"),I55,IF(K55=\"\",\"\",\"-\"),K55,IF(M55=\"\",\"\",\"-\"),M55),CONCATENATE(LEFT('1 - Opstart Importark'!$B$3,1),(LEFT('1 - Opstart Importark'!$B$15,5)),(LEFT('1 - Opstart Importark'!$B$18,3)),IF(I55=\"\",\"\",\"-\"),I55,IF(K55=\"\",\"\",\"-\"),K55,IF(M55=\"\",\"\",\"-\"),M55))))","v":""},null," ",{"$nulls":9},{"$f":"IF(LEN('1 - Opstart Importark'!$B$6)>0,'1 - Opstart Importark'!$B$6,\"\")","v":""},{"$f":"IF(LEN('1 - Opstart Importark'!$B$9)>0,'1 - Opstart Importark'!$B$9,\"\")","v":""},{"$f":"IF(LEN('1 - Opstart Importark'!$B$23)>0,'1 - Opstart Importark'!$B$23,\"\")","v":""},{"$nulls":14},"",{"$nulls":8},0,"","","objektnogle_"]
[44,null,{"$f":"IF('1 - Opstart Importark'!$B$6=\"\",\"\",(IF('1 - Opstart Importark'!$B$15=\"\",CONCATENATE(LEFT('1 - Opstart Importark'!$B$3,1),(LEFT('1 - Opstart Importark'!$B$20,5)),MID('1 - Opstart Importark'!$B$20,5,2),LEFT('1 - Opstart Importark'!$B$28,3),IF(I56=\"\",\"\",\"-\"),I56,IF(K56=\"\",\"\",\"-\"),K56,IF(M56=\"\",\"\",\"-\"),M56),CONCATENATE(LEFT('1 - Opstart Importark'!$B$3,1),(LEFT('1 - Opstart Importark'!$B$15,5)),(LEFT('1 - Opstart Importark'!$B$18,3)),IF(I56=\"\",\"\",\"-\"),I56,IF(K56=\"\",\"\",\"-\"),K56,IF(M56=\"\",\"\",\"-\"),M56))))","v":""},null," ",{"$nulls":9},{"$f":"IF(LEN('1 - Opstart Importark'!$B$6)>0,'1 - Opstart Importark'!$B$6,\"\")","v":""},{"$f":"IF(LEN('1 - Opstart Importark'!$B$9)>0,'1 - Opstart Importark'!$B$9,\"\")","v":""},{"$f":"IF(LEN('1 - Opstart Importark'!$B$23)>0,'1 - Opstart Importark'!$B$23,\"\")","v":""},{"$nulls":14},"",{"$nulls":8},0,"","","objektnogle_"]
[45,null,{"$f":"IF('1 - Opstart Importark'!$B$6=\"\",\"\",(IF('1 - Opstart Importark'!$B$15=\"\",CONCATENATE(LEFT('1 - Opstart Importark'!$B$3,1),(LEFT('1 - Opstart Importark'!$B$20,5)),MID('1 - Opstart Importark'!$B$20,5,2),LEFT('1 - Opstart Importark'!$B$28,3),IF(I57=\"\",\"\",\"-\"),I57,IF(K57=\"\",\"\",\"-\"),K57,IF(M57=\"\",\"\",\"-\"),M57),CONCATENATE(LEFT('1 - Opstart Importark'!$B$3,1),(LEFT('1 - Opstart Importark'!$B$15,5)),(LEFT('1 - Opstart Importark'!$B$18,3)),IF(I57=\"\",\"\",\"-\"),I57,IF(K57=\"\",\"\",\"-\"),K57,IF(M57=\"\",\"\",\"-\"),M57))))","v":""},null," ",{"$nulls":9},{"$f":"IF(LEN('1 - Opstart Importark'!$B$6)>0,'1 - Opstart Importark'!$B$6,\"\")","v":""},{"$f":"IF(LEN('1 - Opstart Importark'!$B$9)>0,'1 - Opstart Importark'!$B$9,\"\")","v":""},{"$f":"IF(LEN('1 - Opstart Importark'!$B$23)>0,'1 - Opstart Importark'!$B$23,\"\")","v":""},{"$nulls":14},"",{"$nulls":8},0,"","","objektnogle_"]
[46,null,{"$f":"IF('1 - Opstart Importark'!$B$6=\"\",\"\",(IF('1 - Opstart Importark'!$B$15=\"\",CONCATENATE(LEFT('1 - Opstart Importark'!$B$3,1),(LEFT('1 - Opstart Importark'!$B$20,5)),MID('1 - Opstart Importark'!$B$20,5,2),LEFT('1 - Opstart Importark'!$B$28,3),IF(I58=\"\",\"\",\"-\"),I58,IF(K58=\"\",\"\",\"-\"),K58,IF(M58=\"\",\"\",\"-\"),M58),CONCATENATE(LEFT('1 - Opstart Importark'!$B$3,1),(LEFT('1 - Opstart Importark'!$B$15,5)),(LEFT('1 - Opstart Importark'!$B$18,3)),IF(I58=\"\",\"\",\"-\"),I58,IF(K58=\"\",\"\",\"-\"),K58,IF(M58=\"\",\"\",\"-\"),M58))))","v":""},null," ",{"$nulls":9},{"$f":"IF(LEN('1 - Opstart Importark'!$B$6)>0,'1 - Opstart Importark'!$B$6,\"\")","v":""},{"$f":"IF(LEN('1 - Opstart Importark'!$B$9)>0,'1 - Opstart Importark'!$B$9,\"\")","v":""},{"$f":"IF(LEN('1 - Opstart Importark'!$B$23)>0,'1 - Opstart Importark'!$B$23,\"\")","v":""},{"$nulls":14},"",{"$nulls":8},0,"","","objektnogle_"]
[47,null,{"$f":"IF('1 - Opstart Importark'!$B$6=\"\",\"\",(IF('1 - Opstart Importark'!$B$15=\"\",CONCATENATE(LEFT('1 - Opstart Importark'!$B$3,1),(LEFT('1 - Opstart Importark'!$B$20,5)),MID('1 - Opstart Importark'!$B$20,5,2),LEFT('1 - Opstart Importark'!$B$28,3),IF(I59=\"\",\"\",\"-\"),I59,IF(K59=\"\",\"\",\"-\"),K59,IF(M59=\"\",\"\",\"-\"),M59),CONCATENATE(LEFT('1 - Opstart Importark'!$B$3,1),(LEFT('1 - Opstart Importark'!$B$15,5)),(LEFT('1 - Opstart Importark'!$B$18,3)),IF(I59=\"\",\"\",\"-\"),I59,IF(K59=\"\",\"\",\"-\"),K59,IF(M59=\"\",\"\",\"-\"),M59))))","v":""},null," ",{"$nulls":9},{"$f":"IF(LEN('1 - Opstart Importark'!$B$6)>0,'1 - Opstart Importark'!$B$6,\"\")","v":""},{"$f":"IF(LEN('1 - Opstart Importark'!$B$9)>0,'1 - Opstart Importark'!$B$9,\"\")","v":""},{"$f":"IF(LEN('1 - Opstart Importark'!$B$23)>0,'1 - Opstart Importark'!$B$23,\"\")","v":""},{"$nulls":14},"",{"$nulls":8},0,"","","objektnogle_"]
[48,null,{"$f":"IF('1 - Opstart Importark'!$B$6=\"\",\"\",(IF('1 - Opstart Importark'!$B$15=\"\",CONCATENATE(LEFT('1 - Opstart Importark'!$B$3,1),(LEFT('1 - Opstart Importark'!$B$20,5)),MID('1 - Opstart Importark'!$B$20,5,2),LEFT('1 - Opstart Importark'!$B$28,3),IF(I60=\"\",\"\",\"-\"),I60,IF(K60=\"\",\"\",\"-\"),K60,IF(M60=\"\",\"\",\"-\"),M60),CONCATENATE(LEFT('1 - Opstart Importark'!$B$3,1),(LEFT('1 - Opstart Importark'!$B$15,5)),(LEFT('1 - Opstart Importark'!$B$18,3)),IF(I60=\"\",\"\",\"-\"),I60,IF(K60=\"\",\"\",\"-\"),K60,IF(M60=\"\",\"\",\"-\"),M60))))","v":""},null," ",{"$nulls":9},{"$f":"IF(LEN('1 - Opstart Importark'!$B$6)>0,'1 - Opstart Importark'!$B$6,\"\")","v":""},{"$f":"IF(LEN('1 - Opstart Importark'!$B$9)>0,'1 - Opstart Importark'!$B$9,\"\")","v":""},{"$f":"IF(LEN('1 - Opstart Importark'!$B$23)>0,'1 - Opstart Importark'!$B$23,\"\")","v":""},{"$nulls":14},"",{"$nulls":8},0,"","","objektnogle_"]
[49,null,{"$f":"IF('1 - Opstart Importark'!$B$6=\"\",\"\",(IF('1 - Opstart Importark'!$B$15=\"\",CONCATENATE(LEFT('1 - Opstart Importark'!$B$3,1),(LEFT('1 - Opstart Importark'!$B$20,5)),MID('1 - Opstart Importark'!$B$20,5,2),LEFT('1 - Opstart Importark'!$B$28,3),IF(I61=\"\",\"\",\"-\"),I61,IF(K61=\"\",\"\",\"-\"),K61,IF(M61=\"\",\"\",\"-\"),M61),CONCATENATE(LEFT('1 - Opstart Importark'!$B$3,1),(LEFT('1 - Opstart Importark'!$B$15,5)),(LEFT('1 - Opstart Importark'!$B$18,3)),IF(I61=\"\",\"\",\"-\"),I61,IF(K61=\"\",\"\",\"-\"),K61,IF(M61=\"\",\"\",\"-\"),M61))))","v":""},null," ",{"$nulls":9},{"$f":"IF(LEN('1 - Opstart Importark'!$B$6)>0,'1 - Opstart Importark'!$B$6,\"\")","v":""},{"$f":"IF(LEN('1 - Opstart Importark'!$B$9)>0,'1 - Opstart Importark'!$B$9,\"\")","v":""},{"$f":"IF(LEN('1 - Opstart Importark'!$B$23)>0,'1 - Opstart Importark'!$B$23,\"\")","v":""},{"$nulls":14},"",{"$nulls":8},0,"","","objektnogle_"]
[50,null,{"$f":"IF('1 - Opstart Importark'!$B$6=\"\",\"\",(IF('1 - Opstart Importark'!$B$15=\"\",CONCATENATE(LEFT('1 - Opstart Importark'!$B$3,1),(LEFT('1 - Opstart Importark'!$B$20,5)),MID('1 - Opstart Importark'!$B$20,5,2),LEFT('1 - Opstart Importark'!$B$28,3),IF(I62=\"\",\"\",\"-\"),I62,IF(K62=\"\",\"\",\"-\"),K62,IF(M62=\"\",\"\",\"-\"),M62),CONCATENATE(LEFT('1 - Opstart Importark'!$B$3,1),(LEFT('1 - Opstart Importark'!$B$15,5)),(LEFT('1 - Opstart Importark'!$B$18,3)),IF(I62=\"\",\"\",\"-\"),I62,IF(K62=\"\",\"\",\"-\"),K62,IF(M62=\"\",\"\",\"-\"),M62))))","v":""},null," ",{"$nulls":9},{"$f":"IF(LEN('1 - Opstart Importark'!$B$6)>0,'1 - Opstart Importark'!$B$6,\"\")","v":""},{"$f":"IF(LEN('1 - Opstart Importark'!$B$9)>0,'1 - Opstart Importark'!$B$9,\"\")","v":""},{"$f":"IF(LEN('1 - Opstart Importark'!$B$23)>0,'1 - Opstart Importark'!$B$23,\"\")","v":""},{"$nulls":14},"",{"$nulls":8},0,"","","objektnogle_"]
[51,null,{"$f":"IF('1 - Opstart Importark'!$B$6=\"\",\"\",(IF('1 - Opstart Importark'!$B$15=\"\",CONCATENATE(LEFT('1 - Opstart Importark'!$B$3,1),(LEFT('1 - Opstart Importark'!$B$20,5)),MID('1 - Opstart Importark'!$B$20,5,2),LEFT('1 - Opstart Importark'!$B$28,3),IF(I63=\"\",\"\",\"-\"),I63,IF(K63=\"\",\"\",\"-\"),K63,IF(M63=\"\",\"\",\"-\"),M63),CONCATENATE(LEFT('1 - Opstart Importark'!$B$3,1),(LEFT('1 - Opstart Importark'!$B$15,5)),(LEFT('1 - Opstart Importark'!$B$18,3)),IF(I63=\"\",\"\",\"-\"),I63,IF(K63=\"\",\"\",\"-\"),K63,IF(M63=\"\",\"\",\"-\"),M63))))","v":""},null," ",{"$nulls":9},{"$f":"IF(LEN('1 - Opstart Importark'!$B$6)>0,'1 - Opstart Importark'!$B$6,\"\")","v":""},{"$f":"IF(LEN('1 - Opstart Importark'!$B$9)>0,'1 - Opstart Importark'!$B$9,\"\")","v":""},{"$f":"IF(LEN('1 - Opstart Importark'!$B$23)>0,'1 - Opstart Importark'!$B$23,\"\")","v":""},{"$nulls":14},"",{"$nulls":8},0,"","","objektnogle_"]
[52,null,{"$f":"IF('1 - Opstart Importark'!$B$6=\"\",\"\",(IF('1 - Opstart Importark'!$B$15=\"\",CONCATENATE(LEFT('1 - Opstart Importark'!$B$3,1),(LEFT('1 - Opstart Importark'!$B$20,5)),MID('1 - Opstart Importark'!$B$20,5,2),LEFT('1 - Opstart Importark'!$B$28,3),IF(I64=\"\",\"\",\"-\"),I64,IF(K64=\"\",\"\",\"-\"),K64,IF(M64=\"\",\"\",\"-\"),M64),CONCATENATE(LEFT('1 - Opstart Importark'!$B$3,1),(LEFT('1 - Opstart Importark'!$B$15,5)),(LEFT('1 - Opstart Importark'!$B$18,3)),IF(I64=\"\",\"\",\"-\"),I64,IF(K64=\"\",\"\",\"-\"),K64,IF(M64=\"\",\"\",\"-\"),M64))))","v":""},null," ",{"$nulls":9},{"$f":"IF(LEN('1 - Opstart Importark'!$B$6)>0,'1 - Opstart Importark'!$B$6,\"\")","v":""},{"$f":"IF(LEN('1 - Opstart Importark'!$B$9)>0,'1 - Opstart Importark'!$B$9,\"\")","v":""},{"$f":"IF(LEN('1 - Opstart Importark'!$B$23)>0,'1 - Opstart Importark'!$B$23,\"\")","v":""},{"$nulls":14},"",{"$nulls":8},0,"","","objektnogle_"]
[53,null,{"$f":"IF('1 - Opstart Importark'!$B$6=\"\",\"\",(IF('1 - Opstart Importark'!$B$15=\"\",CONCATENATE(LEFT('1 - Opstart Importark'!$B$3,1),(LEFT('1 - Opstart Importark'!$B$20,5)),MID('1 - Opstart Importark'!$B$20,5,2),LEFT('1 - Opstart Importark'!$B$28,3),IF(I65=\"\",\"\",\"-\"),I65,IF(K65=\"\",\"\",\"-\"),K65,IF(M65=\"\",\"\",\"-\"),M65),CONCATENATE(LEFT('1 - Opstart Importark'!$B$3,1),(LEFT('1 - Opstart Importark'!$B$15,5)),(LEFT('1 - Opstart Importark'!$B$18,3)),IF(I65=\"\",\"\",\"-\"),I65,IF(K65=\"\",\"\",\"-\"),K65,IF(M65=\"\",\"\",\"-\"),M65))))","v":""},null," ",{"$nulls":9},{"$f":"IF(LEN('1 - Opstart Importark'!$B$6)>0,'1 - Opstart Importark'!$B$6,\"\")","v":""},{"$f":"IF(LEN('1 - Opstart Importark'!$B$9)>0,'1 - Opstart Importark'!$B$9,\"\")","v":""},{"$f":"IF(LEN('1 - Opstart Importark'!$B$23)>0,'1 - Opstart Importark'!$B$23,\"\")","v":""},{"$nulls":14},"",{"$nulls":8},0,"","","objektnogle_"]
[54,null,{"$f":"IF('1 - Opstart Importark'!$B$6=\"\",\"\",(IF('1 - Opstart Importark'!$B$15=\"\",CONCATENATE(LEFT('1 - Opstart Importark'!$B$3,1),(LEFT('1 - Opstart Importark'!$B$20,5)),MID('1 - Opstart Importark'!$B$20,5,2),LEFT('1 - Opstart Importark'!$B$28,3),IF(I66=\"\",\"\",\"-\"),I66,IF(K66=\"\",\"\",\"-\"),K66,IF(M66=\"\",\"\",\"-\"),M66),CONCATENATE(LEFT('1 - Opstart Importark'!$B$3,1),(LEFT('1 - Opstart Importark'!$B$15,5)),(LEFT('1 - Opstart Importark'!$B$18,3)),IF(I66=\"\",\"\",\"-\"),I66,IF(K66=\"\",\"\",\"-\"),K66,IF(M66=\"\",\"\",\"-\"),M66))))","v":""},null," ",{"$nulls":9},{"$f":"IF(LEN('1 - Opstart Importark'!$B$6)>0,'1 - Opstart Importark'!$B$6,\"\")","v":""},{"$f":"IF(LEN('1 - Opstart Importark'!$B$9)>0,'1 - Opstart Importark'!$B$9,\"\")","v":""},{"$f":"IF(LEN('1 - Opstart Importark'!$B$23)>0,'1 - Opstart Importark'!$B$23,\"\")","v":""},{"$nulls":14},"",{"$nulls":8},0,"","","objektnogle_"]
[55,null,{"$f":"IF('1 - Opstart Importark'!$B$6=\"\",\"\",(IF('1 - Opstart Importark'!$B$15=\"\",CONCATENATE(LEFT('1 - Opstart Importark'!$B$3,1),(LEFT('1 - Opstart Importark'!$B$20,5)),MID('1 - Opstart Importark'!$B$20,5,2),LEFT('1 - Opstart Importark'!$B$28,3),IF(I67=\"\",\"\",\"-\"),I67,IF(K67=\"\",\"\",\"-\"),K67,IF(M67=\"\",\"\",\"-\"),M67),CONCATENATE(LEFT('1 - Opstart Importark'!$B$3,1),(LEFT('1 - Opstart Importark'!$B$15,5)),(LEFT('1 - Opstart Importark'!$B$18,3)),IF(I67=\"\",\"\",\"-\"),I67,IF(K67=\"\",\"\",\"-\"),K67,IF(M67=\"\",\"\",\"-\"),M67))))","v":""},null," ",{"$nulls":9},{"$f":"IF(LEN('1 - Opstart Importark'!$B$6)>0,'1 - Opstart Importark'!$B$6,\"\")","v":""},{"$f":"IF(LEN('1 - Opstart Importark'!$B$9)>0,'1 - Opstart Importark'!$B$9,\"\")","v":""},{"$f":"IF(LEN('1 - Opstart Importark'!$B$23)>0,'1 - Opstart Importark'!$B$23,\"\")","v":""},{"$nulls":14},"",{"$nulls":8},0,"","","objektnogle_"]
[56,null,{"$f":"IF('1 - Opstart Importark'!$B$6=\"\",\"\",(IF('1 - Opstart Importark'!$B$15=\"\",CONCATENATE(LEFT('1 - Opstart Importark'!$B$3,1),(LEFT('1 - Opstart Importark'!$B$20,5)),MID('1 - Opstart Importark'!$B$20,5,2),LEFT('1 - Opstart Importark'!$B$28,3),IF(I68=\"\",\"\",\"-\"),I68,IF(K68=\"\",\"\",\"-\"),K68,IF(M68=\"\",\"\",\"-\"),M68),CONCATENATE(LEFT('1 - Opstart Importark'!$B$3,1),(LEFT('1 - Opstart Importark'!$B$15,5)),(LEFT('1 - Opstart Importark'!$B$18,3)),IF(I68=\"\",\"\",\"-\"),I68,IF(K68=\"\",\"\",\"-\"),K68,IF(M68=\"\",\"\",\"-\"),M68))))","v":""},null," ",{"$nulls":9},{"$f":"IF(LEN('1 - Opstart Importark'!$B$6)>0,'1 - Opstart Importark'!$B$6,\"\")","v":""},{"$f":"IF(LEN('1 - Opstart Importark'!$B$9)>0,'1 - Opstart Importark'!$B$9,\"\")","v":""},{"$f":"IF(LEN('1 - Opstart Importark'!$B$23)>0,'1 - Opstart Importark'!$B$23,\"\")","v":""},{"$nulls":14},"",{"$nulls":8},0,"","","objektnogle_"]
[57,null,{"$f":"IF('1 - Opstart Importark'!$B$6=\"\",\"\",(IF('1 - Opstart Importark'!$B$15=\"\",CONCATENATE(LEFT('1 - Opstart Importark'!$B$3,1),(LEFT('1 - Opstart Importark'!$B$20,5)),MID('1 - Opstart Importark'!$B$20,5,2),LEFT('1 - Opstart Importark'!$B$28,3),IF(I69=\"\",\"\",\"-\"),I69,IF(K69=\"\",\"\",\"-\"),K69,IF(M69=\"\",\"\",\"-\"),M69),CONCATENATE(LEFT('1 - Opstart Importark'!$B$3,1),(LEFT('1 - Opstart Importark'!$B$15,5)),(LEFT('1 - Opstart Importark'!$B$18,3)),IF(I69=\"\",\"\",\"-\"),I69,IF(K69=\"\",\"\",\"-\"),K69,IF(M69=\"\",\"\",\"-\"),M69))))","v":""},null," ",{"$nulls":9},{"$f":"IF(LEN('1 - Opstart Importark'!$B$6)>0,'1 - Opstart Importark'!$B$6,\"\")","v":""},{"$f":"IF(LEN('1 - Opstart Importark'!$B$9)>0,'1 - Opstart Importark'!$B$9,\"\")","v":""},{"$f":"IF(LEN('1 - Opstart Importark'!$B$23)>0,'1 - Opstart Importark'!$B$23,\"\")","v":""},{"$nulls":14},"",{"$nulls":8},0,"","","objektnogle_"]
[58,null,{"$f":"IF('1 - Opstart Importark'!$B$6=\"\",\"\",(IF('1 - Opstart Importark'!$B$15=\"\",CONCATENATE(LEFT('1 - Opstart Importark'!$B$3,1),(LEFT('1 - Opstart Importark'!$B$20,5)),MID('1 - Opstart Importark'!$B$20,5,2),LEFT('1 - Opstart Importark'!$B$28,3),IF(I70=\"\",\"\",\"-\"),I70,IF(K70=\"\",\"\",\"-\"),K70,IF(M70=\"\",\"\",\"-\"),M70),CONCATENATE(LEFT('1 - Opstart Importark'!$B$3,1),(LEFT('1 - Opstart Importark'!$B$15,5)),(LEFT('1 - Opstart Importark'!$B$18,3)),IF(I70=\"\",\"\",\"-\"),I70,IF(K70=\"\",\"\",\"-\"),K70,IF(M70=\"\",\"\",\"-\"),M70))))","v":""},null," ",{"$nulls":9},{"$f":"IF(LEN('1 - Opstart Importark'!$B$6)>0,'1 - Opstart Importark'!$B$6,\"\")","v":""},{"$f":"IF(LEN('1 - Opstart Importark'!$B$9)>0,'1 - Opstart Importark'!$B$9,\"\")","v":""},{"$f":"IF(LEN('1 - Opstart Importark'!$B$23)>0,'1 - Opstart Importark'!$B$23,\"\")","v":""},{"$nulls":14},"",{"$nulls":8},0,"","","objektnogle_"]
[59,null,{"$f":"IF('1 - Opstart Importark'!$B$6=\"\",\"\",(IF('1 - Opstart Importark'!$B$15=\"\",CONCATENATE(LEFT('1 - Opstart Importark'!$B$3,1),(LEFT('1 - Opstart Importark'!$B$20,5)),MID('1 - Opstart Importark'!$B$20,5,2),LEFT('1 - Opstart Importark'!$B$28,3),IF(I71=\"\",\"\",\"-\"),I71,IF(K71=\"\",\"\",\"-\"),K71,IF(M71=\"\",\"\",\"-\"),M71),CONCATENATE(LEFT('1 - Opstart Importark'!$B$3,1),(LEFT('1 - Opstart Importark'!$B$15,5)),(LEFT('1 - Opstart Importark'!$B$18,3)),IF(I71=\"\",\"\",\"-\"),I71,IF(K71=\"\",\"\",\"-\"),K71,IF(M71=\"\",\"\",\"-\"),M71))))","v":""},null," ",{"$nulls":9},{"$f":"IF(LEN('1 - Opstart Importark'!$B$6)>0,'1 - Opstart Importark'!$B$6,\"\")","v":""},{"$f":"IF(LEN('1 - Opstart Importark'!$B$9)>0,'1 - Opstart Importark'!$B$9,\"\")","v":""},{"$f":"IF(LEN('1 - Opstart Importark'!$B$23)>0,'1 - Opstart Importark'!$B$23,\"\")","v":""},{"$nulls":14},"",{"$nulls":8},0,"","","objektnogle_"]
[60,null,{"$f":"IF('1 - Opstart Importark'!$B$6=\"\",\"\",(IF('1 - Opstart Importark'!$B$15=\"\",CONCATENATE(LEFT('1 - Opstart Importark'!$B$3,1),(LEFT('1 - Opstart Importark'!$B$20,5)),MID('1 - Opstart Importark'!$B$20,5,2),LEFT('1 - Opstart Importark'!$B$28,3),IF(I72=\"\",\"\",\"-\"),I72,IF(K72=\"\",\"\",\"-\"),K72,IF(M72=\"\",\"\",\"-\"),M72),CONCATENATE(LEFT('1 - Opstart Importark'!$B$3,1),(LEFT('1 - Opstart Importark'!$B$15,5)),(LEFT('1 - Opstart Importark'!$B$18,3)),IF(I72=\"\",\"\",\"-\"),I72,IF(K72=\"\",\"\",\"-\"),K72,IF(M72=\"\",\"\",\"-\"),M72))))","v":""},null," ",{"$nulls":9},{"$f":"IF(LEN('1 - Opstart Importark'!$B$6)>0,'1 - Opstart Importark'!$B$6,\"\")","v":""},{"$f":"IF(LEN('1 - Opstart Importark'!$B$9)>0,'1 - Opstart Importark'!$B$9,\"\")","v":""},{"$f":"IF(LEN('1 - Opstart Importark'!$B$23)>0,'1 - Opstart Importark'!$B$23,\"\")","v":""},{"$nulls":14},"",{"$nulls":8},0,"","","objektnogle_"]
[61,null,{"$f":"IF('1 - Opstart Importark'!$B$6=\"\",\"\",(IF('1 - Opstart Importark'!$B$15=\"\",CONCATENATE(LEFT('1 - Opstart Importark'!$B$3,1),(LEFT('1 - Opstart Importark'!$B$20,5)),MID('1 - Opstart Importark'!$B$20,5,2),LEFT('1 - Opstart Importark'!$B$28,3),IF(I73=\"\",\"\",\"-\"),I73,IF(K73=\"\",\"\",\"-\"),K73,IF(M73=\"\",\"\",\"-\"),M73),CONCATENATE(LEFT('1 - Opstart Importark'!$B$3,1),(LEFT('1 - Opstart Importark'!$B$15,5)),(LEFT('1 - Opstart Importark'!$B$18,3)),IF(I73=\"\",\"\",\"-\"),I73,IF(K73=\"\",\"\",\"-\"),K73,IF(M73=\"\",\"\",\"-\"),M73))))","v":""},null," ",{"$nulls":9},{"$f":"IF(LEN('1 - Opstart Importark'!$B$6)>0,'1 - Opstart Importark'!$B$6,\"\")","v":""},{"$f":"IF(LEN('1 - Opstart Importark'!$B$9)>0,'1 - Opstart Importark'!$B$9,\"\")","v":""},{"$f":"IF(LEN('1 - Opstart Importark'!$B$23)>0,'1 - Opstart Importark'!$B$23,\"\")","v":""},{"$nulls":14},"",{"$nulls":8},0,"","","objektnogle_"]
[62,null,{"$f":"IF('1 - Opstart Importark'!$B$6=\"\",\"\",(IF('1 - Opstart Importark'!$B$15=\"\",CONCATENATE(LEFT('1 - Opstart Importark'!$B$3,1),(LEFT('1 - Opstart Importark'!$B$20,5)),MID('1 - Opstart Importark'!$B$20,5,2),LEFT('1 - Opstart Importark'!$B$28,3),IF(I74=\"\",\"\",\"-\"),I74,IF(K74=\"\",\"\",\"-\"),K74,IF(M74=\"\",\"\",\"-\"),M74),CONCATENATE(LEFT('1 - Opstart Importark'!$B$3,1),(LEFT('1 - Opstart Importark'!$B$15,5)),(LEFT('1 - Opstart Importark'!$B$18,3)),IF(I74=\"\",\"\",\"-\"),I74,IF(K74=\"\",\"\",\"-\"),K74,IF(M74=\"\",\"\",\"-\"),M74))))","v":""},null," ",{"$nulls":9},{"$f":"IF(LEN('1 - Opstart Importark'!$B$6)>0,'1 - Opstart Importark'!$B$6,\"\")","v":""},{"$f":"IF(LEN('1 - Opstart Importark'!$B$9)>0,'1 - Opstart Importark'!$B$9,\"\")","v":""},{"$f":"IF(LEN('1 - Opstart Importark'!$B$23)>0,'1 - Opstart Importark'!$B$23,\"\")","v":""},{"$nulls":14},"",{"$nulls":8},0,"","","objektnogle_"]
[63,null,{"$f":"IF('1 - Opstart Importark'!$B$6=\"\",\"\",(IF('1 - Opstart Importark'!$B$15=\"\",CONCATENATE(LEFT('1 - Opstart Importark'!$B$3,1),(LEFT('1 - Opstart Importark'!$B$20,5)),MID('1 - Opstart Importark'!$B$20,5,2),LEFT('1 - Opstart Importark'!$B$28,3),IF(I75=\"\",\"\",\"-\"),I75,IF(K75=\"\",\"\",\"-\"),K75,IF(M75=\"\",\"\",\"-\"),M75),CONCATENATE(LEFT('1 - Opstart Importark'!$B$3,1),(LEFT('1 - Opstart Importark'!$B$15,5)),(LEFT('1 - Opstart Importark'!$B$18,3)),IF(I75=\"\",\"\",\"-\"),I75,IF(K75=\"\",\"\",\"-\"),K75,IF(M75=\"\",\"\",\"-\"),M75))))","v":""},null," ",{"$nulls":9},{"$f":"IF(LEN('1 - Opstart Importark'!$B$6)>0,'1 - Opstart Importark'!$B$6,\"\")","v":""},{"$f":"IF(LEN('1 - Opstart Importark'!$B$9)>0,'1 - Opstart Importark'!$B$9,\"\")","v":""},{"$f":"IF(LEN('1 - Opstart Importark'!$B$23)>0,'1 - Opstart Importark'!$B$23,\"\")","v":""},{"$nulls":14},"",{"$nulls":8},0,"","","objektnogle_"]
[64,null,{"$f":"IF('1 - Opstart Importark'!$B$6=\"\",\"\",(IF('1 - Opstart Importark'!$B$15=\"\",CONCATENATE(LEFT('1 - Opstart Importark'!$B$3,1),(LEFT('1 - Opstart Importark'!$B$20,5)),MID('1 - Opstart Importark'!$B$20,5,2),LEFT('1 - Opstart Importark'!$B$28,3),IF(I76=\"\",\"\",\"-\"),I76,IF(K76=\"\",\"\",\"-\"),K76,IF(M76=\"\",\"\",\"-\"),M76),CONCATENATE(LEFT('1 - Opstart Importark'!$B$3,1),(LEFT('1 - Opstart Importark'!$B$15,5)),(LEFT('1 - Opstart Importark'!$B$18,3)),IF(I76=\"\",\"\",\"-\"),I76,IF(K76=\"\",\"\",\"-\"),K76,IF(M76=\"\",\"\",\"-\"),M76))))","v":""},null," ",{"$nulls":9},{"$f":"IF(LEN('1 - Opstart Importark'!$B$6)>0,'1 - Opstart Importark'!$B$6,\"\")","v":""},{"$f":"IF(LEN('1 - Opstart Importark'!$B$9)>0,'1 - Opstart Importark'!$B$9,\"\")","v":""},{"$f":"IF(LEN('1 - Opstart Importark'!$B$23)>0,'1 - Opstart Importark'!$B$23,\"\")","v":""},{"$nulls":14},"",{"$nulls":8},0,"","","objektnogle_"]
[65,null,{"$f":"IF('1 - Opstart Importark'!$B$6=\"\",\"\",(IF('1 - Opstart Importark'!$B$15=\"\",CONCATENATE(LEFT('1 - Opstart Importark'!$B$3,1),(LEFT('1 - Opstart Importark'!$B$20,5)),MID('1 - Opstart Importark'!$B$20,5,2),LEFT('1 - Opstart Importark'!$B$28,3),IF(I77=\"\",\"\",\"-\"),I77,IF(K77=\"\",\"\",\"-\"),K77,IF(M77=\"\",\"\",\"-\"),M77),CONCATENATE(LEFT('1 - Opstart Importark'!$B$3,1),(LEFT('1 - Opstart Importark'!$B$15,5)),(LEFT('1 - Opstart Importark'!$B$18,3)),IF(I77=\"\",\"\",\"-\"),I77,IF(K77=\"\",\"\",\"-\"),K77,IF(M77=\"\",\"\",\"-\"),M77))))","v":""},null," ",{"$nulls":9},{"$f":"IF(LEN('1 - Opstart Importark'!$B$6)>0,'1 - Opstart Importark'!$B$6,\"\")","v":""},{"$f":"IF(LEN('1 - Opstart Importark'!$B$9)>0,'1 - Opstart Importark'!$B$9,\"\")","v":""},{"$f":"IF(LEN('1 - Opstart Importark'!$B$23)>0,'1 - Opstart Importark'!$B$23,\"\")","v":""},{"$nulls":14},{"$f":"IF(K77=\"\",\"\",VLOOKUP(LEFT(K77,1),objektfilter,2))","v":""},{"$nulls":8},{"$f":"IFERROR(FIND(\".\",F77),)","v":0},"","","objektnogle_"]
[66,null,{"$f":"IF('1 - Opstart Importark'!$B$6=\"\",\"\",(IF('1 - Opstart Importark'!$B$15=\"\",CONCATENATE(LEFT('1 - Opstart Importark'!$B$3,1),(LEFT('1 - Opstart Importark'!$B$20,5)),MID('1 - Opstart Importark'!$B$20,5,2),LEFT('1 - Opstart Importark'!$B$28,3),IF(I78=\"\",\"\",\"-\"),I78,IF(K78=\"\",\"\",\"-\"),K78,IF(M78=\"\",\"\",\"-\"),M78),CONCATENATE(LEFT('1 - Opstart Importark'!$B$3,1),(LEFT('1 - Opstart Importark'!$B$15,5)),(LEFT('1 - Opstart Importark'!$B$18,3)),IF(I78=\"\",\"\",\"-\"),I78,IF(K78=\"\",\"\",\"-\"),K78,IF(M78=\"\",\"\",\"-\"),M78))))","v":""},null," ",{"$nulls":9},{"$f":"IF(LEN('1 - Opstart Importark'!$B$6)>0,'1 - Opstart Importark'!$B$6,\"\")","v":""},{"$f":"IF(LEN('1 - Opstart Importark'!$B$9)>0,'1 - Opstart Importark'!$B$9,\"\")","v":""},{"$f":"IF(LEN('1 - Opstart Importark'!$B$23)>0,'1 - Opstart Importark'!$B$23,\"\")","v":""},{"$nulls":14},"",{"$nulls":8},0,{"$f":"IF(K78=\"\",\"\",IF(LEFT(K78,1)=\"E\",0,1))","v":""},{"$f":"IF(K78=\"\",\"\",IF(LEFT(K78,1)=\"E\",0,1))","v":""},{"$f":"IF(W78=\"\", CONCATENATE(\"objektnogle_\",LEFT(AF78,1)),CONCATENATE(\"objektnogle_\",LEFT(W78,1)))","v":"objektnogle_"}]
[67,null,{"$f":"IF('1 - Opstart Importark'!$B$6=\"\",\"\",(IF('1 - Opstart Importark'!$B$15=\"\",CONCATENATE(LEFT('1 - Opstart Importark'!$B$3,1),(LEFT('1 - Opstart Importark'!$B$20,5)),MID('1 - Opstart Importark'!$B$20,5,2),LEFT('1 - Opstart Importark'!$B$28,3),IF(I79=\"\",\"\",\"-\"),I79,IF(K79=\"\",\"\",\"-\"),K79,IF(M79=\"\",\"\",\"-\"),M79),CONCATENATE(LEFT('1 - Opstart Importark'!$B$3,1),(LEFT('1 - Opstart Importark'!$B$15,5)),(LEFT('1 - Opstart Importark'!$B$18,3)),IF(I79=\"\",\"\",\"-\"),I79,IF(K79=\"\",\"\",\"-\"),K79,IF(M79=\"\",\"\",\"-\"),M79))))","v":""},null," ",{"$nulls":9},{"$f":"IF(LEN('1 - Opstart Importark'!$B$6)>0,'1 - Opstart Importark'!$B$6,\"\")","v":""},{"$f":"IF(LEN('1 - Opstart Importark'!$B$9)>0,'1 - Opstart Importark'!$B$9,\"\")","v":""},{"$f":"IF(LEN('1 - Opstart Importark'!$B$23)>0,'1 - Opstart Importark'!$B$23,\"\")","v":""},{"$nulls":14},"",{"$nulls":8},0,"","","objektnogle_"]
[68,null,{"$f":"IF('1 - Opstart Importark'!$B$6=\"\",\"\",(IF('1 - Opstart Importark'!$B$15=\"\",CONCATENATE(LEFT('1 - Opstart Importark'!$B$3,1),(LEFT('1 - Opstart Importark'!$B$20,5)),MID('1 - Opstart Importark'!$B$20,5,2),LEFT('1 - Opstart Importark'!$B$28,3),IF(I80=\"\",\"\",\"-\"),I80,IF(K80=\"\",\"\",\"-\"),K80,IF(M80=\"\",\"\",\"-\"),M80),CONCATENATE(LEFT('1 - Opstart Importark'!$B$3,1),(LEFT('1 - Opstart Importark'!$B$15,5)),(LEFT('1 - Opstart Importark'!$B$18,3)),IF(I80=\"\",\"\",\"-\"),I80,IF(K80=\"\",\"\",\"-\"),K80,IF(M80=\"\",\"\",\"-\"),M80))))","v":""},null," ",{"$nulls":9},{"$f":"IF(LEN('1 - Opstart Importark'!$B$6)>0,'1 - Opstart Importark'!$B$6,\"\")","v":""},{"$f":"IF(LEN('1 - Opstart Importark'!$B$9)>0,'1 - Opstart Importark'!$B$9,\"\")","v":""},{"$f":"IF(LEN('1 - Opstart Importark'!$B$23)>0,'1 - Opstart Importark'!$B$23,\"\")","v":""},{"$nulls":14},"",{"$nulls":8},0,"","","objektnogle_"]
[69,null,{"$f":"IF('1 - Opstart Importark'!$B$6=\"\",\"\",(IF('1 - Opstart Importark'!$B$15=\"\",CONCATENATE(LEFT('1 - Opstart Importark'!$B$3,1),(LEFT('1 - Opstart Importark'!$B$20,5)),MID('1 - Opstart Importark'!$B$20,5,2),LEFT('1 - Opstart Importark'!$B$28,3),IF(I81=\"\",\"\",\"-\"),I81,IF(K81=\"\",\"\",\"-\"),K81,IF(M81=\"\",\"\",\"-\"),M81),CONCATENATE(LEFT('1 - Opstart Importark'!$B$3,1),(LEFT('1 - Opstart Importark'!$B$15,5)),(LEFT('1 - Opstart Importark'!$B$18,3)),IF(I81=\"\",\"\",\"-\"),I81,IF(K81=\"\",\"\",\"-\"),K81,IF(M81=\"\",\"\",\"-\"),M81))))","v":""},null," ",{"$nulls":9},{"$f":"IF(LEN('1 - Opstart Importark'!$B$6)>0,'1 - Opstart Importark'!$B$6,\"\")","v":""},{"$f":"IF(LEN('1 - Opstart Importark'!$B$9)>0,'1 - Opstart Importark'!$B$9,\"\")","v":""},{"$f":"IF(LEN('1 - Opstart Importark'!$B$23)>0,'1 - Opstart Importark'!$B$23,\"\")","v":""},{"$nulls":14},"",{"$nulls":8},0,"","","objektnogle_"]
[70,null,{"$f":"IF('1 - Opstart Importark'!$B$6=\"\",\"\",(IF('1 - Opstart Importark'!$B$15=\"\",CONCATENATE(LEFT('1 - Opstart Importark'!$B$3,1),(LEFT('1 - Opstart Importark'!$B$20,5)),MID('1 - Opstart Importark'!$B$20,5,2),LEFT('1 - Opstart Importark'!$B$28,3),IF(I82=\"\",\"\",\"-\"),I82,IF(K82=\"\",\"\",\"-\"),K82,IF(M82=\"\",\"\",\"-\"),M82),CONCATENATE(LEFT('1 - Opstart Importark'!$B$3,1),(LEFT('1 - Opstart Importark'!$B$15,5)),(LEFT('1 - Opstart Importark'!$B$18,3)),IF(I82=\"\",\"\",\"-\"),I82,IF(K82=\"\",\"\",\"-\"),K82,IF(M82=\"\",\"\",\"-\"),M82))))","v":""},null," ",{"$nulls":9},{"$f":"IF(LEN('1 - Opstart Importark'!$B$6)>0,'1 - Opstart Importark'!$B$6,\"\")","v":""},{"$f":"IF(LEN('1 - Opstart Importark'!$B$9)>0,'1 - Opstart Importark'!$B$9,\"\")","v":""},{"$f":"IF(LEN('1 - Opstart Importark'!$B$23)>0,'1 - Opstart Importark'!$B$23,\"\")","v":""},{"$nulls":14},"",{"$nulls":8},0,"","","objektnogle_"]
[71,null,{"$f":"IF('1 - Opstart Importark'!$B$6=\"\",\"\",(IF('1 - Opstart Importark'!$B$15=\"\",CONCATENATE(LEFT('1 - Opstart Importark'!$B$3,1),(LEFT('1 - Opstart Importark'!$B$20,5)),MID('1 - Opstart Importark'!$B$20,5,2),LEFT('1 - Opstart Importark'!$B$28,3),IF(I83=\"\",\"\",\"-\"),I83,IF(K83=\"\",\"\",\"-\"),K83,IF(M83=\"\",\"\",\"-\"),M83),CONCATENATE(LEFT('1 - Opstart Importark'!$B$3,1),(LEFT('1 - Opstart Importark'!$B$15,5)),(LEFT('1 - Opstart Importark'!$B$18,3)),IF(I83=\"\",\"\",\"-\"),I83,IF(K83=\"\",\"\",\"-\"),K83,IF(M83=\"\",\"\",\"-\"),M83))))","v":""},null," ",{"$nulls":9},{"$f":"IF(LEN('1 - Opstart Importark'!$B$6)>0,'1 - Opstart Importark'!$B$6,\"\")","v":""},{"$f":"IF(LEN('1 - Opstart Importark'!$B$9)>0,'1 - Opstart Importark'!$B$9,\"\")","v":""},{"$f":"IF(LEN('1 - Opstart Importark'!$B$23)>0,'1 - Opstart Importark'!$B$23,\"\")","v":""},{"$nulls":14},"",{"$nulls":8},0,"","","objektnogle_"]
[72,null,{"$f":"IF('1 - Opstart Importark'!$B$6=\"\",\"\",(IF('1 - Opstart Importark'!$B$15=\"\",CONCATENATE(LEFT('1 - Opstart Importark'!$B$3,1),(LEFT('1 - Opstart Importark'!$B$20,5)),MID('1 - Opstart Importark'!$B$20,5,2),LEFT('1 - Opstart Importark'!$B$28,3),IF(I84=\"\",\"\",\"-\"),I84,IF(K84=\"\",\"\",\"-\"),K84,IF(M84=\"\",\"\",\"-\"),M84),CONCATENATE(LEFT('1 - Opstart Importark'!$B$3,1),(LEFT('1 - Opstart Importark'!$B$15,5)),(LEFT('1 - Opstart Importark'!$B$18,3)),IF(I84=\"\",\"\",\"-\"),I84,IF(K84=\"\",\"\",\"-\"),K84,IF(M84=\"\",\"\",\"-\"),M84))))","v":""},null," ",{"$nulls":9},{"$f":"IF(LEN('1 - Opstart Importark'!$B$6)>0,'1 - Opstart Importark'!$B$6,\"\")","v":""},{"$f":"IF(LEN('1 - Opstart Importark'!$B$9)>0,'1 - Opstart Importark'!$B$9,\"\")","v":""},{"$f":"IF(LEN('1 - Opstart Importark'!$B$23)>0,'1 - Opstart Importark'!$B$23,\"\")","v":""},{"$nulls":14},"",{"$nulls":8},0,"","","objektnogle_"]
[73,null,{"$f":"IF('1 - Opstart Importark'!$B$6=\"\",\"\",(IF('1 - Opstart Importark'!$B$15=\"\",CONCATENATE(LEFT('1 - Opstart Importark'!$B$3,1),(LEFT('1 - Opstart Importark'!$B$20,5)),MID('1 - Opstart Importark'!$B$20,5,2),LEFT('1 - Opstart Importark'!$B$28,3),IF(I85=\"\",\"\",\"-\"),I85,IF(K85=\"\",\"\",\"-\"),K85,IF(M85=\"\",\"\",\"-\"),M85),CONCATENATE(LEFT('1 - Opstart Importark'!$B$3,1),(LEFT('1 - Opstart Importark'!$B$15,5)),(LEFT('1 - Opstart Importark'!$B$18,3)),IF(I85=\"\",\"\",\"-\"),I85,IF(K85=\"\",\"\",\"-\"),K85,IF(M85=\"\",\"\",\"-\"),M85))))","v":""},null," ",{"$nulls":9},{"$f":"IF(LEN('1 - Opstart Importark'!$B$6)>0,'1 - Opstart Importark'!$B$6,\"\")","v":""},{"$f":"IF(LEN('1 - Opstart Importark'!$B$9)>0,'1 - Opstart Importark'!$B$9,\"\")","v":""},{"$f":"IF(LEN('1 - Opstart Importark'!$B$23)>0,'1 - Opstart Importark'!$B$23,\"\")","v":""},{"$nulls":14},"",{"$nulls":8},0,"","","objektnogle_"]
[74,null,{"$f":"IF('1 - Opstart Importark'!$B$6=\"\",\"\",(IF('1 - Opstart Importark'!$B$15=\"\",CONCATENATE(LEFT('1 - Opstart Importark'!$B$3,1),(LEFT('1 - Opstart Importark'!$B$20,5)),MID('1 - Opstart Importark'!$B$20,5,2),LEFT('1 - Opstart Importark'!$B$28,3),IF(I86=\"\",\"\",\"-\"),I86,IF(K86=\"\",\"\",\"-\"),K86,IF(M86=\"\",\"\",\"-\"),M86),CONCATENATE(LEFT('1 - Opstart Importark'!$B$3,1),(LEFT('1 - Opstart Importark'!$B$15,5)),(LEFT('1 - Opstart Importark'!$B$18,3)),IF(I86=\"\",\"\",\"-\"),I86,IF(K86=\"\",\"\",\"-\"),K86,IF(M86=\"\",\"\",\"-\"),M86))))","v":""},null," ",{"$nulls":9},{"$f":"IF(LEN('1 - Opstart Importark'!$B$6)>0,'1 - Opstart Importark'!$B$6,\"\")","v":""},{"$f":"IF(LEN('1 - Opstart Importark'!$B$9)>0,'1 - Opstart Importark'!$B$9,\"\")","v":""},{"$f":"IF(LEN('1 - Opstart Importark'!$B$23)>0,'1 - Opstart Importark'!$B$23,\"\")","v":""},{"$nulls":14},"",{"$nulls":8},0,"","","objektnogle_"]
[75,null,{"$f":"IF('1 - Opstart Importark'!$B$6=\"\",\"\",(IF('1 - Opstart Importark'!$B$15=\"\",CONCATENATE(LEFT('1 - Opstart Importark'!$B$3,1),(LEFT('1 - Opstart Importark'!$B$20,5)),MID('1 - Opstart Importark'!$B$20,5,2),LEFT('1 - Opstart Importark'!$B$28,3),IF(I87=\"\",\"\",\"-\"),I87,IF(K87=\"\",\"\",\"-\"),K87,IF(M87=\"\",\"\",\"-\"),M87),CONCATENATE(LEFT('1 - Opstart Importark'!$B$3,1),(LEFT('1 - Opstart Importark'!$B$15,5)),(LEFT('1 - Opstart Importark'!$B$18,3)),IF(I87=\"\",\"\",\"-\"),I87,IF(K87=\"\",\"\",\"-\"),K87,IF(M87=\"\",\"\",\"-\"),M87))))","v":""},null," ",{"$nulls":9},{"$f":"IF(LEN('1 - Opstart Importark'!$B$6)>0,'1 - Opstart Importark'!$B$6,\"\")","v":""},{"$f":"IF(LEN('1 - Opstart Importark'!$B$9)>0,'1 - Opstart Importark'!$B$9,\"\")","v":""},{"$f":"IF(LEN('1 - Opstart Importark'!$B$23)>0,'1 - Opstart Importark'!$B$23,\"\")","v":""},{"$nulls":14},"",{"$nulls":8},0,"","","objektnogle_"]
[76,null,{"$f":"IF('1 - Opstart Importark'!$B$6=\"\",\"\",(IF('1 - Opstart Importark'!$B$15=\"\",CONCATENATE(LEFT('1 - Opstart Importark'!$B$3,1),(LEFT('1 - Opstart Importark'!$B$20,5)),MID('1 - Opstart Importark'!$B$20,5,2),LEFT('1 - Opstart Importark'!$B$28,3),IF(I88=\"\",\"\",\"-\"),I88,IF(K88=\"\",\"\",\"-\"),K88,IF(M88=\"\",\"\",\"-\"),M88),CONCATENATE(LEFT('1 - Opstart Importark'!$B$3,1),(LEFT('1 - Opstart Importark'!$B$15,5)),(LEFT('1 - Opstart Importark'!$B$18,3)),IF(I88=\"\",\"\",\"-\"),I88,IF(K88=\"\",\"\",\"-\"),K88,IF(M88=\"\",\"\",\"-\"),M88))))","v":""},null," ",{"$nulls":9},{"$f":"IF(LEN('1 - Opstart Importark'!$B$6)>0,'1 - Opstart Importark'!$B$6,\"\")","v":""},{"$f":"IF(LEN('1 - Opstart Importark'!$B$9)>0,'1 - Opstart Importark'!$B$9,\"\")","v":""},{"$f":"IF(LEN('1 - Opstart Importark'!$B$23)>0,'1 - Opstart Importark'!$B$23,\"\")","v":""},{"$nulls":14},"",{"$nulls":8},0,"","","objektnogle_"]
[77,null,{"$f":"IF('1 - Opstart Importark'!$B$6=\"\",\"\",(IF('1 - Opstart Importark'!$B$15=\"\",CONCATENATE(LEFT('1 - Opstart Importark'!$B$3,1),(LEFT('1 - Opstart Importark'!$B$20,5)),MID('1 - Opstart Importark'!$B$20,5,2),LEFT('1 - Opstart Importark'!$B$28,3),IF(I89=\"\",\"\",\"-\"),I89,IF(K89=\"\",\"\",\"-\"),K89,IF(M89=\"\",\"\",\"-\"),M89),CONCATENATE(LEFT('1 - Opstart Importark'!$B$3,1),(LEFT('1 - Opstart Importark'!$B$15,5)),(LEFT('1 - Opstart Importark'!$B$18,3)),IF(I89=\"\",\"\",\"-\"),I89,IF(K89=\"\",\"\",\"-\"),K89,IF(M89=\"\",\"\",\"-\"),M89))))","v":""},null," ",{"$nulls":9},{"$f":"IF(LEN('1 - Opstart Importark'!$B$6)>0,'1 - Opstart Importark'!$B$6,\"\")","v":""},{"$f":"IF(LEN('1 - Opstart Importark'!$B$9)>0,'1 - Opstart Importark'!$B$9,\"\")","v":""},{"$f":"IF(LEN('1 - Opstart Importark'!$B$23)>0,'1 - Opstart Importark'!$B$23,\"\")","v":""},{"$nulls":14},"",{"$nulls":8},0,"","","objektnogle_"]
[78,null,{"$f":"IF('1 - Opstart Importark'!$B$6=\"\",\"\",(IF('1 - Opstart Importark'!$B$15=\"\",CONCATENATE(LEFT('1 - Opstart Importark'!$B$3,1),(LEFT('1 - Opstart Importark'!$B$20,5)),MID('1 - Opstart Importark'!$B$20,5,2),LEFT('1 - Opstart Importark'!$B$28,3),IF(I90=\"\",\"\",\"-\"),I90,IF(K90=\"\",\"\",\"-\"),K90,IF(M90=\"\",\"\",\"-\"),M90),CONCATENATE(LEFT('1 - Opstart Importark'!$B$3,1),(LEFT('1 - Opstart Importark'!$B$15,5)),(LEFT('1 - Opstart Importark'!$B$18,3)),IF(I90=\"\",\"\",\"-\"),I90,IF(K90=\"\",\"\",\"-\"),K90,IF(M90=\"\",\"\",\"-\"),M90))))","v":""},null," ",{"$nulls":9},{"$f":"IF(LEN('1 - Opstart Importark'!$B$6)>0,'1 - Opstart Importark'!$B$6,\"\")","v":""},{"$f":"IF(LEN('1 - Opstart Importark'!$B$9)>0,'1 - Opstart Importark'!$B$9,\"\")","v":""},{"$f":"IF(LEN('1 - Opstart Importark'!$B$23)>0,'1 - Opstart Importark'!$B$23,\"\")","v":""},{"$nulls":14},"",{"$nulls":8},0,"","","objektnogle_"]
[79,null,{"$f":"IF('1 - Opstart Importark'!$B$6=\"\",\"\",(IF('1 - Opstart Importark'!$B$15=\"\",CONCATENATE(LEFT('1 - Opstart Importark'!$B$3,1),(LEFT('1 - Opstart Importark'!$B$20,5)),MID('1 - Opstart Importark'!$B$20,5,2),LEFT('1 - Opstart Importark'!$B$28,3),IF(I91=\"\",\"\",\"-\"),I91,IF(K91=\"\",\"\",\"-\"),K91,IF(M91=\"\",\"\",\"-\"),M91),CONCATENATE(LEFT('1 - Opstart Importark'!$B$3,1),(LEFT('1 - Opstart Importark'!$B$15,5)),(LEFT('1 - Opstart Importark'!$B$18,3)),IF(I91=\"\",\"\",\"-\"),I91,IF(K91=\"\",\"\",\"-\"),K91,IF(M91=\"\",\"\",\"-\"),M91))))","v":""},null," ",{"$nulls":9},{"$f":"IF(LEN('1 - Opstart Importark'!$B$6)>0,'1 - Opstart Importark'!$B$6,\"\")","v":""},{"$f":"IF(LEN('1 - Opstart Importark'!$B$9)>0,'1 - Opstart Importark'!$B$9,\"\")","v":""},{"$f":"IF(LEN('1 - Opstart Importark'!$B$23)>0,'1 - Opstart Importark'!$B$23,\"\")","v":""},{"$nulls":14},"",{"$nulls":8},0,"","","objektnogle_"]
[80,null,{"$f":"IF('1 - Opstart Importark'!$B$6=\"\",\"\",(IF('1 - Opstart Importark'!$B$15=\"\",CONCATENATE(LEFT('1 - Opstart Importark'!$B$3,1),(LEFT('1 - Opstart Importark'!$B$20,5)),MID('1 - Opstart Importark'!$B$20,5,2),LEFT('1 - Opstart Importark'!$B$28,3),IF(I92=\"\",\"\",\"-\"),I92,IF(K92=\"\",\"\",\"-\"),K92,IF(M92=\"\",\"\",\"-\"),M92),CONCATENATE(LEFT('1 - Opstart Importark'!$B$3,1),(LEFT('1 - Opstart Importark'!$B$15,5)),(LEFT('1 - Opstart Importark'!$B$18,3)),IF(I92=\"\",\"\",\"-\"),I92,IF(K92=\"\",\"\",\"-\"),K92,IF(M92=\"\",\"\",\"-\"),M92))))","v":""},null," ",{"$nulls":9},{"$f":"IF(LEN('1 - Opstart Importark'!$B$6)>0,'1 - Opstart Importark'!$B$6,\"\")","v":""},{"$f":"IF(LEN('1 - Opstart Importark'!$B$9)>0,'1 - Opstart Importark'!$B$9,\"\")","v":""},{"$f":"IF(LEN('1 - Opstart Importark'!$B$23)>0,'1 - Opstart Importark'!$B$23,\"\")","v":""},{"$nulls":14},"",{"$nulls":8},0,"","","objektnogle_"]
[81,null,{"$f":"IF('1 - Opstart Importark'!$B$6=\"\",\"\",(IF('1 - Opstart Importark'!$B$15=\"\",CONCATENATE(LEFT('1 - Opstart Importark'!$B$3,1),(LEFT('1 - Opstart Importark'!$B$20,5)),MID('1 - Opstart Importark'!$B$20,5,2),LEFT('1 - Opstart Importark'!$B$28,3),IF(I93=\"\",\"\",\"-\"),I93,IF(K93=\"\",\"\",\"-\"),K93,IF(M93=\"\",\"\",\"-\"),M93),CONCATENATE(LEFT('1 - Opstart Importark'!$B$3,1),(LEFT('1 - Opstart Importark'!$B$15,5)),(LEFT('1 - Opstart Importark'!$B$18,3)),IF(I93=\"\",\"\",\"-\"),I93,IF(K93=\"\",\"\",\"-\"),K93,IF(M93=\"\",\"\",\"-\"),M93))))","v":""},null," ",{"$nulls":9},{"$f":"IF(LEN('1 - Opstart Importark'!$B$6)>0,'1 - Opstart Importark'!$B$6,\"\")","v":""},{"$f":"IF(LEN('1 - Opstart Importark'!$B$9)>0,'1 - Opstart Importark'!$B$9,\"\")","v":""},{"$f":"IF(LEN('1 - Opstart Importark'!$B$23)>0,'1 - Opstart Importark'!$B$23,\"\")","v":""},{"$nulls":14},"",{"$nulls":8},0,"","","objektnogle_"]
[82,null,{"$f":"IF('1 - Opstart Importark'!$B$6=\"\",\"\",(IF('1 - Opstart Importark'!$B$15=\"\",CONCATENATE(LEFT('1 - Opstart Importark'!$B$3,1),(LEFT('1 - Opstart Importark'!$B$20,5)),MID('1 - Opstart Importark'!$B$20,5,2),LEFT('1 - Opstart Importark'!$B$28,3),IF(I94=\"\",\"\",\"-\"),I94,IF(K94=\"\",\"\",\"-\"),K94,IF(M94=\"\",\"\",\"-\"),M94),CONCATENATE(LEFT('1 - Opstart Importark'!$B$3,1),(LEFT('1 - Opstart Importark'!$B$15,5)),(LEFT('1 - Opstart Importark'!$B$18,3)),IF(I94=\"\",\"\",\"-\"),I94,IF(K94=\"\",\"\",\"-\"),K94,IF(M94=\"\",\"\",\"-\"),M94))))","v":""},null," ",{"$nulls":9},{"$f":"IF(LEN('1 - Opstart Importark'!$B$6)>0,'1 - Opstart Importark'!$B$6,\"\")","v":""},{"$f":"IF(LEN('1 - Opstart Importark'!$B$9)>0,'1 - Opstart Importark'!$B$9,\"\")","v":""},{"$f":"IF(LEN('1 - Opstart Importark'!$B$23)>0,'1 - Opstart Importark'!$B$23,\"\")","v":""},{"$nulls":14},"",{"$nulls":8},0,"","","objektnogle_"]
[83,null,{"$f":"IF('1 - Opstart Importark'!$B$6=\"\",\"\",(IF('1 - Opstart Importark'!$B$15=\"\",CONCATENATE(LEFT('1 - Opstart Importark'!$B$3,1),(LEFT('1 - Opstart Importark'!$B$20,5)),MID('1 - Opstart Importark'!$B$20,5,2),LEFT('1 - Opstart Importark'!$B$28,3),IF(I95=\"\",\"\",\"-\"),I95,IF(K95=\"\",\"\",\"-\"),K95,IF(M95=\"\",\"\",\"-\"),M95),CONCATENATE(LEFT('1 - Opstart Importark'!$B$3,1),(LEFT('1 - Opstart Importark'!$B$15,5)),(LEFT('1 - Opstart Importark'!$B$18,3)),IF(I95=\"\",\"\",\"-\"),I95,IF(K95=\"\",\"\",\"-\"),K95,IF(M95=\"\",\"\",\"-\"),M95))))","v":""},null," ",{"$nulls":9},{"$f":"IF(LEN('1 - Opstart Importark'!$B$6)>0,'1 - Opstart Importark'!$B$6,\"\")","v":""},{"$f":"IF(LEN('1 - Opstart Importark'!$B$9)>0,'1 - Opstart Importark'!$B$9,\"\")","v":""},{"$f":"IF(LEN('1 - Opstart Importark'!$B$23)>0,'1 - Opstart Importark'!$B$23,\"\")","v":""},{"$nulls":14},"",{"$nulls":8},0,"","","objektnogle_"]
[84,null,{"$f":"IF('1 - Opstart Importark'!$B$6=\"\",\"\",(IF('1 - Opstart Importark'!$B$15=\"\",CONCATENATE(LEFT('1 - Opstart Importark'!$B$3,1),(LEFT('1 - Opstart Importark'!$B$20,5)),MID('1 - Opstart Importark'!$B$20,5,2),LEFT('1 - Opstart Importark'!$B$28,3),IF(I96=\"\",\"\",\"-\"),I96,IF(K96=\"\",\"\",\"-\"),K96,IF(M96=\"\",\"\",\"-\"),M96),CONCATENATE(LEFT('1 - Opstart Importark'!$B$3,1),(LEFT('1 - Opstart Importark'!$B$15,5)),(LEFT('1 - Opstart Importark'!$B$18,3)),IF(I96=\"\",\"\",\"-\"),I96,IF(K96=\"\",\"\",\"-\"),K96,IF(M96=\"\",\"\",\"-\"),M96))))","v":""},null," ",{"$nulls":9},{"$f":"IF(LEN('1 - Opstart Importark'!$B$6)>0,'1 - Opstart Importark'!$B$6,\"\")","v":""},{"$f":"IF(LEN('1 - Opstart Importark'!$B$9)>0,'1 - Opstart Importark'!$B$9,\"\")","v":""},{"$f":"IF(LEN('1 - Opstart Importark'!$B$23)>0,'1 - Opstart Importark'!$B$23,\"\")","v":""},{"$nulls":14},"",{"$nulls":8},0,"","","objektnogle_"]
[85,null,{"$f":"IF('1 - Opstart Importark'!$B$6=\"\",\"\",(IF('1 - Opstart Importark'!$B$15=\"\",CONCATENATE(LEFT('1 - Opstart Importark'!$B$3,1),(LEFT('1 - Opstart Importark'!$B$20,5)),MID('1 - Opstart Importark'!$B$20,5,2),LEFT('1 - Opstart Importark'!$B$28,3),IF(I97=\"\",\"\",\"-\"),I97,IF(K97=\"\",\"\",\"-\"),K97,IF(M97=\"\",\"\",\"-\"),M97),CONCATENATE(LEFT('1 - Opstart Importark'!$B$3,1),(LEFT('1 - Opstart Importark'!$B$15,5)),(LEFT('1 - Opstart Importark'!$B$18,3)),IF(I97=\"\",\"\",\"-\"),I97,IF(K97=\"\",\"\",\"-\"),K97,IF(M97=\"\",\"\",\"-\"),M97))))","v":""},null," ",{"$nulls":9},{"$f":"IF(LEN('1 - Opstart Importark'!$B$6)>0,'1 - Opstart Importark'!$B$6,\"\")","v":""},{"$f":"IF(LEN('1 - Opstart Importark'!$B$9)>0,'1 - Opstart Importark'!$B$9,\"\")","v":""},{"$f":"IF(LEN('1 - Opstart Importark'!$B$23)>0,'1 - Opstart Importark'!$B$23,\"\")","v":""},{"$nulls":14},"",{"$nulls":8},0,"","","objektnogle_"]
[86,null,{"$f":"IF('1 - Opstart Importark'!$B$6=\"\",\"\",(IF('1 - Opstart Importark'!$B$15=\"\",CONCATENATE(LEFT('1 - Opstart Importark'!$B$3,1),(LEFT('1 - Opstart Importark'!$B$20,5)),MID('1 - Opstart Importark'!$B$20,5,2),LEFT('1 - Opstart Importark'!$B$28,3),IF(I98=\"\",\"\",\"-\"),I98,IF(K98=\"\",\"\",\"-\"),K98,IF(M98=\"\",\"\",\"-\"),M98),CONCATENATE(LEFT('1 - Opstart Importark'!$B$3,1),(LEFT('1 - Opstart Importark'!$B$15,5)),(LEFT('1 - Opstart Importark'!$B$18,3)),IF(I98=\"\",\"\",\"-\"),I98,IF(K98=\"\",\"\",\"-\"),K98,IF(M98=\"\",\"\",\"-\"),M98))))","v":""},null," ",{"$nulls":9},{"$f":"IF(LEN('1 - Opstart Importark'!$B$6)>0,'1 - Opstart Importark'!$B$6,\"\")","v":""},{"$f":"IF(LEN('1 - Opstart Importark'!$B$9)>0,'1 - Opstart Importark'!$B$9,\"\")","v":""},{"$f":"IF(LEN('1 - Opstart Importark'!$B$23)>0,'1 - Opstart Importark'!$B$23,\"\")","v":""},{"$nulls":14},"",{"$nulls":8},0,"","","objektnogle_"]
[87,null,{"$f":"IF('1 - Opstart Importark'!$B$6=\"\",\"\",(IF('1 - Opstart Importark'!$B$15=\"\",CONCATENATE(LEFT('1 - Opstart Importark'!$B$3,1),(LEFT('1 - Opstart Importark'!$B$20,5)),MID('1 - Opstart Importark'!$B$20,5,2),LEFT('1 - Opstart Importark'!$B$28,3),IF(I99=\"\",\"\",\"-\"),I99,IF(K99=\"\",\"\",\"-\"),K99,IF(M99=\"\",\"\",\"-\"),M99),CONCATENATE(LEFT('1 - Opstart Importark'!$B$3,1),(LEFT('1 - Opstart Importark'!$B$15,5)),(LEFT('1 - Opstart Importark'!$B$18,3)),IF(I99=\"\",\"\",\"-\"),I99,IF(K99=\"\",\"\",\"-\"),K99,IF(M99=\"\",\"\",\"-\"),M99))))","v":""},null," ",{"$nulls":9},{"$f":"IF(LEN('1 - Opstart Importark'!$B$6)>0,'1 - Opstart Importark'!$B$6,\"\")","v":""},{"$f":"IF(LEN('1 - Opstart Importark'!$B$9)>0,'1 - Opstart Importark'!$B$9,\"\")","v":""},{"$f":"IF(LEN('1 - Opstart Importark'!$B$23)>0,'1 - Opstart Importark'!$B$23,\"\")","v":""},{"$nulls":14},"",{"$nulls":8},0,"","","objektnogle_"]
[88,null,{"$f":"IF('1 - Opstart Importark'!$B$6=\"\",\"\",(IF('1 - Opstart Importark'!$B$15=\"\",CONCATENATE(LEFT('1 - Opstart Importark'!$B$3,1),(LEFT('1 - Opstart Importark'!$B$20,5)),MID('1 - Opstart Importark'!$B$20,5,2),LEFT('1 - Opstart Importark'!$B$28,3),IF(I100=\"\",\"\",\"-\"),I100,IF(K100=\"\",\"\",\"-\"),K100,IF(M100=\"\",\"\",\"-\"),M100),CONCATENATE(LEFT('1 - Opstart Importark'!$B$3,1),(LEFT('1 - Opstart Importark'!$B$15,5)),(LEFT('1 - Opstart Importark'!$B$18,3)),IF(I100=\"\",\"\",\"-\"),I100,IF(K100=\"\",\"\",\"-\"),K100,IF(M100=\"\",\"\",\"-\"),M100))))","v":""},null," ",{"$nulls":9},{"$f":"IF(LEN('1 - Opstart Importark'!$B$6)>0,'1 - Opstart Importark'!$B$6,\"\")","v":""},{"$f":"IF(LEN('1 - Opstart Importark'!$B$9)>0,'1 - Opstart Importark'!$B$9,\"\")","v":""},{"$f":"IF(LEN('1 - Opstart Importark'!$B$23)>0,'1 - Opstart Importark'!$B$23,\"\")","v":""},{"$nulls":14},"",{"$nulls":8},0,"","","objektnogle_"]
[89,null,{"$f":"IF('1 - Opstart Importark'!$B$6=\"\",\"\",(IF('1 - Opstart Importark'!$B$15=\"\",CONCATENATE(LEFT('1 - Opstart Importark'!$B$3,1),(LEFT('1 - Opstart Importark'!$B$20,5)),MID('1 - Opstart Importark'!$B$20,5,2),LEFT('1 - Opstart Importark'!$B$28,3),IF(I101=\"\",\"\",\"-\"),I101,IF(K101=\"\",\"\",\"-\"),K101,IF(M101=\"\",\"\",\"-\"),M101),CONCATENATE(LEFT('1 - Opstart Importark'!$B$3,1),(LEFT('1 - Opstart Importark'!$B$15,5)),(LEFT('1 - Opstart Importark'!$B$18,3)),IF(I101=\"\",\"\",\"-\"),I101,IF(K101=\"\",\"\",\"-\"),K101,IF(M101=\"\",\"\",\"-\"),M101))))","v":""},null," ",{"$nulls":9},{"$f":"IF(LEN('1 - Opstart Importark'!$B$6)>0,'1 - Opstart Importark'!$B$6,\"\")","v":""},{"$f":"IF(LEN('1 - Opstart Importark'!$B$9)>0,'1 - Opstart Importark'!$B$9,\"\")","v":""},{"$f":"IF(LEN('1 - Opstart Importark'!$B$23)>0,'1 - Opstart Importark'!$B$23,\"\")","v":""},{"$nulls":14},"",{"$nulls":8},0,"","","objektnogle_"]
[90,null,{"$f":"IF('1 - Opstart Importark'!$B$6=\"\",\"\",(IF('1 - Opstart Importark'!$B$15=\"\",CONCATENATE(LEFT('1 - Opstart Importark'!$B$3,1),(LEFT('1 - Opstart Importark'!$B$20,5)),MID('1 - Opstart Importark'!$B$20,5,2),LEFT('1 - Opstart Importark'!$B$28,3),IF(I102=\"\",\"\",\"-\"),I102,IF(K102=\"\",\"\",\"-\"),K102,IF(M102=\"\",\"\",\"-\"),M102),CONCATENATE(LEFT('1 - Opstart Importark'!$B$3,1),(LEFT('1 - Opstart Importark'!$B$15,5)),(LEFT('1 - Opstart Importark'!$B$18,3)),IF(I102=\"\",\"\",\"-\"),I102,IF(K102=\"\",\"\",\"-\"),K102,IF(M102=\"\",\"\",\"-\"),M102))))","v":""},null," ",{"$nulls":9},{"$f":"IF(LEN('1 - Opstart Importark'!$B$6)>0,'1 - Opstart Importark'!$B$6,\"\")","v":""},{"$f":"IF(LEN('1 - Opstart Importark'!$B$9)>0,'1 - Opstart Importark'!$B$9,\"\")","v":""},{"$f":"IF(LEN('1 - Opstart Importark'!$B$23)>0,'1 - Opstart Importark'!$B$23,\"\")","v":""},{"$nulls":14},"",{"$nulls":8},0,"","","objektnogle_"]
[91,null,{"$f":"IF('1 - Opstart Importark'!$B$6=\"\",\"\",(IF('1 - Opstart Importark'!$B$15=\"\",CONCATENATE(LEFT('1 - Opstart Importark'!$B$3,1),(LEFT('1 - Opstart Importark'!$B$20,5)),MID('1 - Opstart Importark'!$B$20,5,2),LEFT('1 - Opstart Importark'!$B$28,3),IF(I103=\"\",\"\",\"-\"),I103,IF(K103=\"\",\"\",\"-\"),K103,IF(M103=\"\",\"\",\"-\"),M103),CONCATENATE(LEFT('1 - Opstart Importark'!$B$3,1),(LEFT('1 - Opstart Importark'!$B$15,5)),(LEFT('1 - Opstart Importark'!$B$18,3)),IF(I103=\"\",\"\",\"-\"),I103,IF(K103=\"\",\"\",\"-\"),K103,IF(M103=\"\",\"\",\"-\"),M103))))","v":""},null," ",{"$nulls":9},{"$f":"IF(LEN('1 - Opstart Importark'!$B$6)>0,'1 - Opstart Importark'!$B$6,\"\")","v":""},{"$f":"IF(LEN('1 - Opstart Importark'!$B$9)>0,'1 - Opstart Importark'!$B$9,\"\")","v":""},{"$f":"IF(LEN('1 - Opstart Importark'!$B$23)>0,'1 - Opstart Importark'!$B$23,\"\")","v":""},{"$nulls":14},"",{"$nulls":8},0,"","","objektnogle_"]
[92,null,{"$f":"IF('1 - Opstart Importark'!$B$6=\"\",\"\",(IF('1 - Opstart Importark'!$B$15=\"\",CONCATENATE(LEFT('1 - Opstart Importark'!$B$3,1),(LEFT('1 - Opstart Importark'!$B$20,5)),MID('1 - Opstart Importark'!$B$20,5,2),LEFT('1 - Opstart Importark'!$B$28,3),IF(I104=\"\",\"\",\"-\"),I104,IF(K104=\"\",\"\",\"-\"),K104,IF(M104=\"\",\"\",\"-\"),M104),CONCATENATE(LEFT('1 - Opstart Importark'!$B$3,1),(LEFT('1 - Opstart Importark'!$B$15,5)),(LEFT('1 - Opstart Importark'!$B$18,3)),IF(I104=\"\",\"\",\"-\"),I104,IF(K104=\"\",\"\",\"-\"),K104,IF(M104=\"\",\"\",\"-\"),M104))))","v":""},null," ",{"$nulls":9},{"$f":"IF(LEN('1 - Opstart Importark'!$B$6)>0,'1 - Opstart Importark'!$B$6,\"\")","v":""},{"$f":"IF(LEN('1 - Opstart Importark'!$B$9)>0,'1 - Opstart Importark'!$B$9,\"\")","v":""},{"$f":"IF(LEN('1 - Opstart Importark'!$B$23)>0,'1 - Opstart Importark'!$B$23,\"\")","v":""},{"$nulls":14},"",{"$nulls":8},0,"","","objektnogle_"]
[93,null,{"$f":"IF('1 - Opstart Importark'!$B$6=\"\",\"\",(IF('1 - Opstart Importark'!$B$15=\"\",CONCATENATE(LEFT('1 - Opstart Importark'!$B$3,1),(LEFT('1 - Opstart Importark'!$B$20,5)),MID('1 - Opstart Importark'!$B$20,5,2),LEFT('1 - Opstart Importark'!$B$28,3),IF(I105=\"\",\"\",\"-\"),I105,IF(K105=\"\",\"\",\"-\"),K105,IF(M105=\"\",\"\",\"-\"),M105),CONCATENATE(LEFT('1 - Opstart Importark'!$B$3,1),(LEFT('1 - Opstart Importark'!$B$15,5)),(LEFT('1 - Opstart Importark'!$B$18,3)),IF(I105=\"\",\"\",\"-\"),I105,IF(K105=\"\",\"\",\"-\"),K105,IF(M105=\"\",\"\",\"-\"),M105))))","v":""},null," ",{"$nulls":9},{"$f":"IF(LEN('1 - Opstart Importark'!$B$6)>0,'1 - Opstart Importark'!$B$6,\"\")","v":""},{"$f":"IF(LEN('1 - Opstart Importark'!$B$9)>0,'1 - Opstart Importark'!$B$9,\"\")","v":""},{"$f":"IF(LEN('1 - Opstart Importark'!$B$23)>0,'1 - Opstart Importark'!$B$23,\"\")","v":""},{"$nulls":14},"",{"$nulls":8},0,"","","objektnogle_"]
[94,null,{"$f":"IF('1 - Opstart Importark'!$B$6=\"\",\"\",(IF('1 - Opstart Importark'!$B$15=\"\",CONCATENATE(LEFT('1 - Opstart Importark'!$B$3,1),(LEFT('1 - Opstart Importark'!$B$20,5)),MID('1 - Opstart Importark'!$B$20,5,2),LEFT('1 - Opstart Importark'!$B$28,3),IF(I106=\"\",\"\",\"-\"),I106,IF(K106=\"\",\"\",\"-\"),K106,IF(M106=\"\",\"\",\"-\"),M106),CONCATENATE(LEFT('1 - Opstart Importark'!$B$3,1),(LEFT('1 - Opstart Importark'!$B$15,5)),(LEFT('1 - Opstart Importark'!$B$18,3)),IF(I106=\"\",\"\",\"-\"),I106,IF(K106=\"\",\"\",\"-\"),K106,IF(M106=\"\",\"\",\"-\"),M106))))","v":""},null," ",{"$nulls":9},{"$f":"IF(LEN('1 - Opstart Importark'!$B$6)>0,'1 - Opstart Importark'!$B$6,\"\")","v":""},{"$f":"IF(LEN('1 - Opstart Importark'!$B$9)>0,'1 - Opstart Importark'!$B$9,\"\")","v":""},{"$f":"IF(LEN('1 - Opstart Importark'!$B$23)>0,'1 - Opstart Importark'!$B$23,\"\")","v":""},{"$nulls":14},"",{"$nulls":8},0,"","","objektnogle_"]
[95,null,{"$f":"IF('1 - Opstart Importark'!$B$6=\"\",\"\",(IF('1 - Opstart Importark'!$B$15=\"\",CONCATENATE(LEFT('1 - Opstart Importark'!$B$3,1),(LEFT('1 - Opstart Importark'!$B$20,5)),MID('1 - Opstart Importark'!$B$20,5,2),LEFT('1 - Opstart Importark'!$B$28,3),IF(I107=\"\",\"\",\"-\"),I107,IF(K107=\"\",\"\",\"-\"),K107,IF(M107=\"\",\"\",\"-\"),M107),CONCATENATE(LEFT('1 - Opstart Importark'!$B$3,1),(LEFT('1 - Opstart Importark'!$B$15,5)),(LEFT('1 - Opstart Importark'!$B$18,3)),IF(I107=\"\",\"\",\"-\"),I107,IF(K107=\"\",\"\",\"-\"),K107,IF(M107=\"\",\"\",\"-\"),M107))))","v":""},null," ",{"$nulls":9},{"$f":"IF(LEN('1 - Opstart Importark'!$B$6)>0,'1 - Opstart Importark'!$B$6,\"\")","v":""},{"$f":"IF(LEN('1 - Opstart Importark'!$B$9)>0,'1 - Opstart Importark'!$B$9,\"\")","v":""},{"$f":"IF(LEN('1 - Opstart Importark'!$B$23)>0,'1 - Opstart Importark'!$B$23,\"\")","v":""},{"$nulls":14},"",{"$nulls":8},0,"","","objektnogle_"]
[96,null,{"$f":"IF('1 - Opstart Importark'!$B$6=\"\",\"\",(IF('1 - Opstart Importark'!$B$15=\"\",CONCATENATE(LEFT('1 - Opstart Importark'!$B$3,1),(LEFT('1 - Opstart Importark'!$B$20,5)),MID('1 - Opstart Importark'!$B$20,5,2),LEFT('1 - Opstart Importark'!$B$28,3),IF(I108=\"\",\"\",\"-\"),I108,IF(K108=\"\",\"\",\"-\"),K108,IF(M108=\"\",\"\",\"-\"),M108),CONCATENATE(LEFT('1 - Opstart Importark'!$B$3,1),(LEFT('1 - Opstart Importark'!$B$15,5)),(LEFT('1 - Opstart Importark'!$B$18,3)),IF(I108=\"\",\"\",\"-\"),I108,IF(K108=\"\",\"\",\"-\"),K108,IF(M108=\"\",\"\",\"-\"),M108))))","v":""},null," ",{"$nulls":9},{"$f":"IF(LEN('1 - Opstart Importark'!$B$6)>0,'1 - Opstart Importark'!$B$6,\"\")","v":""},{"$f":"IF(LEN('1 - Opstart Importark'!$B$9)>0,'1 - Opstart Importark'!$B$9,\"\")","v":""},{"$f":"IF(LEN('1 - Opstart Importark'!$B$23)>0,'1 - Opstart Importark'!$B$23,\"\")","v":""},{"$nulls":14},"",{"$nulls":8},0,"","","objektnogle_"]
[97,null,{"$f":"IF('1 - Opstart Importark'!$B$6=\"\",\"\",(IF('1 - Opstart Importark'!$B$15=\"\",CONCATENATE(LEFT('1 - Opstart Importark'!$B$3,1),(LEFT('1 - Opstart Importark'!$B$20,5)),MID('1 - Opstart Importark'!$B$20,5,2),LEFT('1 - Opstart Importark'!$B$28,3),IF(I109=\"\",\"\",\"-\"),I109,IF(K109=\"\",\"\",\"-\"),K109,IF(M109=\"\",\"\",\"-\"),M109),CONCATENATE(LEFT('1 - Opstart Importark'!$B$3,1),(LEFT('1 - Opstart Importark'!$B$15,5)),(LEFT('1 - Opstart Importark'!$B$18,3)),IF(I109=\"\",\"\",\"-\"),I109,IF(K109=\"\",\"\",\"-\"),K109,IF(M109=\"\",\"\",\"-\"),M109))))","v":""},null," ",{"$nulls":9},{"$f":"IF(LEN('1 - Opstart Importark'!$B$6)>0,'1 - Opstart Importark'!$B$6,\"\")","v":""},{"$f":"IF(LEN('1 - Opstart Importark'!$B$9)>0,'1 - Opstart Importark'!$B$9,\"\")","v":""},{"$f":"IF(LEN('1 - Opstart Importark'!$B$23)>0,'1 - Opstart Importark'!$B$23,\"\")","v":""},{"$nulls":14},"",{"$nulls":8},0,"","","objektnogle_"]
[98,null,{"$f":"IF('1 - Opstart Importark'!$B$6=\"\",\"\",(IF('1 - Opstart Importark'!$B$15=\"\",CONCATENATE(LEFT('1 - Opstart Importark'!$B$3,1),(LEFT('1 - Opstart Importark'!$B$20,5)),MID('1 - Opstart Importark'!$B$20,5,2),LEFT('1 - Opstart Importark'!$B$28,3),IF(I110=\"\",\"\",\"-\"),I110,IF(K110=\"\",\"\",\"-\"),K110,IF(M110=\"\",\"\",\"-\"),M110),CONCATENATE(LEFT('1 - Opstart Importark'!$B$3,1),(LEFT('1 - Opstart Importark'!$B$15,5)),(LEFT('1 - Opstart Importark'!$B$18,3)),IF(I110=\"\",\"\",\"-\"),I110,IF(K110=\"\",\"\",\"-\"),K110,IF(M110=\"\",\"\",\"-\"),M110))))","v":""},null," ",{"$nulls":9},{"$f":"IF(LEN('1 - Opstart Importark'!$B$6)>0,'1 - Opstart Importark'!$B$6,\"\")","v":""},{"$f":"IF(LEN('1 - Opstart Importark'!$B$9)>0,'1 - Opstart Importark'!$B$9,\"\")","v":""},{"$f":"IF(LEN('1 - Opstart Importark'!$B$23)>0,'1 - Opstart Importark'!$B$23,\"\")","v":""},{"$nulls":14},"",{"$nulls":8},0,"","","objektnogle_"]
[99,null,{"$f":"IF('1 - Opstart Importark'!$B$6=\"\",\"\",(IF('1 - Opstart Importark'!$B$15=\"\",CONCATENATE(LEFT('1 - Opstart Importark'!$B$3,1),(LEFT('1 - Opstart Importark'!$B$20,5)),MID('1 - Opstart Importark'!$B$20,5,2),LEFT('1 - Opstart Importark'!$B$28,3),IF(I111=\"\",\"\",\"-\"),I111,IF(K111=\"\",\"\",\"-\"),K111,IF(M111=\"\",\"\",\"-\"),M111),CONCATENATE(LEFT('1 - Opstart Importark'!$B$3,1),(LEFT('1 - Opstart Importark'!$B$15,5)),(LEFT('1 - Opstart Importark'!$B$18,3)),IF(I111=\"\",\"\",\"-\"),I111,IF(K111=\"\",\"\",\"-\"),K111,IF(M111=\"\",\"\",\"-\"),M111))))","v":""},null," ",{"$nulls":9},{"$f":"IF(LEN('1 - Opstart Importark'!$B$6)>0,'1 - Opstart Importark'!$B$6,\"\")","v":""},{"$f":"IF(LEN('1 - Opstart Importark'!$B$9)>0,'1 - Opstart Importark'!$B$9,\"\")","v":""},{"$f":"IF(LEN('1 - Opstart Importark'!$B$23)>0,'1 - Opstart Importark'!$B$23,\"\")","v":""},{"$nulls":14},"",{"$nulls":8},0,"","","objektnogle_"]
[100,null,{"$f":"IF('1 - Opstart Importark'!$B$6=\"\",\"\",(IF('1 - Opstart Importark'!$B$15=\"\",CONCATENATE(LEFT('1 - Opstart Importark'!$B$3,1),(LEFT('1 - Opstart Importark'!$B$20,5)),MID('1 - Opstart Importark'!$B$20,5,2),LEFT('1 - Opstart Importark'!$B$28,3),IF(I112=\"\",\"\",\"-\"),I112,IF(K112=\"\",\"\",\"-\"),K112,IF(M112=\"\",\"\",\"-\"),M112),CONCATENATE(LEFT('1 - Opstart Importark'!$B$3,1),(LEFT('1 - Opstart Importark'!$B$15,5)),(LEFT('1 - Opstart Importark'!$B$18,3)),IF(I112=\"\",\"\",\"-\"),I112,IF(K112=\"\",\"\",\"-\"),K112,IF(M112=\"\",\"\",\"-\"),M112))))","v":""},null," ",{"$nulls":9},{"$f":"IF(LEN('1 - Opstart Importark'!$B$6)>0,'1 - Opstart Importark'!$B$6,\"\")","v":""},{"$f":"IF(LEN('1 - Opstart Importark'!$B$9)>0,'1 - Opstart Importark'!$B$9,\"\")","v":""},{"$f":"IF(LEN('1 - Opstart Importark'!$B$23)>0,'1 - Opstart Importark'!$B$23,\"\")","v":""},{"$nulls":14},"",{"$nulls":8},0,"","","objektnogle_"]
[101,null,{"$f":"IF('1 - Opstart Importark'!$B$6=\"\",\"\",(IF('1 - Opstart Importark'!$B$15=\"\",CONCATENATE(LEFT('1 - Opstart Importark'!$B$3,1),(LEFT('1 - Opstart Importark'!$B$20,5)),MID('1 - Opstart Importark'!$B$20,5,2),LEFT('1 - Opstart Importark'!$B$28,3),IF(I113=\"\",\"\",\"-\"),I113,IF(K113=\"\",\"\",\"-\"),K113,IF(M113=\"\",\"\",\"-\"),M113),CONCATENATE(LEFT('1 - Opstart Importark'!$B$3,1),(LEFT('1 - Opstart Importark'!$B$15,5)),(LEFT('1 - Opstart Importark'!$B$18,3)),IF(I113=\"\",\"\",\"-\"),I113,IF(K113=\"\",\"\",\"-\"),K113,IF(M113=\"\",\"\",\"-\"),M113))))","v":""},null," ",{"$nulls":9},{"$f":"IF(LEN('1 - Opstart Importark'!$B$6)>0,'1 - Opstart Importark'!$B$6,\"\")","v":""},{"$f":"IF(LEN('1 - Opstart Importark'!$B$9)>0,'1 - Opstart Importark'!$B$9,\"\")","v":""},{"$f":"IF(LEN('1 - Opstart Importark'!$B$23)>0,'1 - Opstart Importark'!$B$23,\"\")","v":""},{"$nulls":14},"",{"$nulls":8},0,"","","objektnogle_"]
[102,null,{"$f":"IF('1 - Opstart Importark'!$B$6=\"\",\"\",(IF('1 - Opstart Importark'!$B$15=\"\",CONCATENATE(LEFT('1 - Opstart Importark'!$B$3,1),(LEFT('1 - Opstart Importark'!$B$20,5)),MID('1 - Opstart Importark'!$B$20,5,2),LEFT('1 - Opstart Importark'!$B$28,3),IF(I114=\"\",\"\",\"-\"),I114,IF(K114=\"\",\"\",\"-\"),K114,IF(M114=\"\",\"\",\"-\"),M114),CONCATENATE(LEFT('1 - Opstart Importark'!$B$3,1),(LEFT('1 - Opstart Importark'!$B$15,5)),(LEFT('1 - Opstart Importark'!$B$18,3)),IF(I114=\"\",\"\",\"-\"),I114,IF(K114=\"\",\"\",\"-\"),K114,IF(M114=\"\",\"\",\"-\"),M114))))","v":""},null," ",{"$nulls":9},{"$f":"IF(LEN('1 - Opstart Importark'!$B$6)>0,'1 - Opstart Importark'!$B$6,\"\")","v":""},{"$f":"IF(LEN('1 - Opstart Importark'!$B$9)>0,'1 - Opstart Importark'!$B$9,\"\")","v":""},{"$f":"IF(LEN('1 - Opstart Importark'!$B$23)>0,'1 - Opstart Importark'!$B$23,\"\")","v":""},{"$nulls":14},"",{"$nulls":8},0,"","","objektnogle_"]
[103,null,{"$f":"IF('1 - Opstart Importark'!$B$6=\"\",\"\",(IF('1 - Opstart Importark'!$B$15=\"\",CONCATENATE(LEFT('1 - Opstart Importark'!$B$3,1),(LEFT('1 - Opstart Importark'!$B$20,5)),MID('1 - Opstart Importark'!$B$20,5,2),LEFT('1 - Opstart Importark'!$B$28,3),IF(I115=\"\",\"\",\"-\"),I115,IF(K115=\"\",\"\",\"-\"),K115,IF(M115=\"\",\"\",\"-\"),M115),CONCATENATE(LEFT('1 - Opstart Importark'!$B$3,1),(LEFT('1 - Opstart Importark'!$B$15,5)),(LEFT('1 - Opstart Importark'!$B$18,3)),IF(I115=\"\",\"\",\"-\"),I115,IF(K115=\"\",\"\",\"-\"),K115,IF(M115=\"\",\"\",\"-\"),M115))))","v":""},null," ",{"$nulls":9},{"$f":"IF(LEN('1 - Opstart Importark'!$B$6)>0,'1 - Opstart Importark'!$B$6,\"\")","v":""},{"$f":"IF(LEN('1 - Opstart Importark'!$B$9)>0,'1 - Opstart Importark'!$B$9,\"\")","v":""},{"$f":"IF(LEN('1 - Opstart Importark'!$B$23)>0,'1 - Opstart Importark'!$B$23,\"\")","v":""},{"$nulls":14},"",{"$nulls":8},0,"","","objektnogle_"]
[104,null,{"$f":"IF('1 - Opstart Importark'!$B$6=\"\",\"\",(IF('1 - Opstart Importark'!$B$15=\"\",CONCATENATE(LEFT('1 - Opstart Importark'!$B$3,1),(LEFT('1 - Opstart Importark'!$B$20,5)),MID('1 - Opstart Importark'!$B$20,5,2),LEFT('1 - Opstart Importark'!$B$28,3),IF(I116=\"\",\"\",\"-\"),I116,IF(K116=\"\",\"\",\"-\"),K116,IF(M116=\"\",\"\",\"-\"),M116),CONCATENATE(LEFT('1 - Opstart Importark'!$B$3,1),(LEFT('1 - Opstart Importark'!$B$15,5)),(LEFT('1 - Opstart Importark'!$B$18,3)),IF(I116=\"\",\"\",\"-\"),I116,IF(K116=\"\",\"\",\"-\"),K116,IF(M116=\"\",\"\",\"-\"),M116))))","v":""},null," ",{"$nulls":9},{"$f":"IF(LEN('1 - Opstart Importark'!$B$6)>0,'1 - Opstart Importark'!$B$6,\"\")","v":""},{"$f":"IF(LEN('1 - Opstart Importark'!$B$9)>0,'1 - Opstart Importark'!$B$9,\"\")","v":""},{"$f":"IF(LEN('1 - Opstart Importark'!$B$23)>0,'1 - Opstart Importark'!$B$23,\"\")","v":""},{"$nulls":14},"",{"$nulls":8},0,"","","objektnogle_"]
[105,null,{"$f":"IF('1 - Opstart Importark'!$B$6=\"\",\"\",(IF('1 - Opstart Importark'!$B$15=\"\",CONCATENATE(LEFT('1 - Opstart Importark'!$B$3,1),(LEFT('1 - Opstart Importark'!$B$20,5)),MID('1 - Opstart Importark'!$B$20,5,2),LEFT('1 - Opstart Importark'!$B$28,3),IF(I117=\"\",\"\",\"-\"),I117,IF(K117=\"\",\"\",\"-\"),K117,IF(M117=\"\",\"\",\"-\"),M117),CONCATENATE(LEFT('1 - Opstart Importark'!$B$3,1),(LEFT('1 - Opstart Importark'!$B$15,5)),(LEFT('1 - Opstart Importark'!$B$18,3)),IF(I117=\"\",\"\",\"-\"),I117,IF(K117=\"\",\"\",\"-\"),K117,IF(M117=\"\",\"\",\"-\"),M117))))","v":""},null," ",{"$nulls":9},{"$f":"IF(LEN('1 - Opstart Importark'!$B$6)>0,'1 - Opstart Importark'!$B$6,\"\")","v":""},{"$f":"IF(LEN('1 - Opstart Importark'!$B$9)>0,'1 - Opstart Importark'!$B$9,\"\")","v":""},{"$f":"IF(LEN('1 - Opstart Importark'!$B$23)>0,'1 - Opstart Importark'!$B$23,\"\")","v":""},{"$nulls":14},"",{"$nulls":8},0,"","","objektnogle_"]
[106,null,{"$f":"IF('1 - Opstart Importark'!$B$6=\"\",\"\",(IF('1 - Opstart Importark'!$B$15=\"\",CONCATENATE(LEFT('1 - Opstart Importark'!$B$3,1),(LEFT('1 - Opstart Importark'!$B$20,5)),MID('1 - Opstart Importark'!$B$20,5,2),LEFT('1 - Opstart Importark'!$B$28,3),IF(I118=\"\",\"\",\"-\"),I118,IF(K118=\"\",\"\",\"-\"),K118,IF(M118=\"\",\"\",\"-\"),M118),CONCATENATE(LEFT('1 - Opstart Importark'!$B$3,1),(LEFT('1 - Opstart Importark'!$B$15,5)),(LEFT('1 - Opstart Importark'!$B$18,3)),IF(I118=\"\",\"\",\"-\"),I118,IF(K118=\"\",\"\",\"-\"),K118,IF(M118=\"\",\"\",\"-\"),M118))))","v":""},null," ",{"$nulls":9},{"$f":"IF(LEN('1 - Opstart Importark'!$B$6)>0,'1 - Opstart Importark'!$B$6,\"\")","v":""},{"$f":"IF(LEN('1 - Opstart Importark'!$B$9)>0,'1 - Opstart Importark'!$B$9,\"\")","v":""},{"$f":"IF(LEN('1 - Opstart Importark'!$B$23)>0,'1 - Opstart Importark'!$B$23,\"\")","v":""},{"$nulls":14},"",{"$nulls":8},0,"","","objektnogle_"]
[107,null,{"$f":"IF('1 - Opstart Importark'!$B$6=\"\",\"\",(IF('1 - Opstart Importark'!$B$15=\"\",CONCATENATE(LEFT('1 - Opstart Importark'!$B$3,1),(LEFT('1 - Opstart Importark'!$B$20,5)),MID('1 - Opstart Importark'!$B$20,5,2),LEFT('1 - Opstart Importark'!$B$28,3),IF(I119=\"\",\"\",\"-\"),I119,IF(K119=\"\",\"\",\"-\"),K119,IF(M119=\"\",\"\",\"-\"),M119),CONCATENATE(LEFT('1 - Opstart Importark'!$B$3,1),(LEFT('1 - Opstart Importark'!$B$15,5)),(LEFT('1 - Opstart Importark'!$B$18,3)),IF(I119=\"\",\"\",\"-\"),I119,IF(K119=\"\",\"\",\"-\"),K119,IF(M119=\"\",\"\",\"-\"),M119))))","v":""},null," ",{"$nulls":9},{"$f":"IF(LEN('1 - Opstart Importark'!$B$6)>0,'1 - Opstart Importark'!$B$6,\"\")","v":""},{"$f":"IF(LEN('1 - Opstart Importark'!$B$9)>0,'1 - Opstart Importark'!$B$9,\"\")","v":""},{"$f":"IF(LEN('1 - Opstart Importark'!$B$23)>0,'1 - Opstart Importark'!$B$23,\"\")","v":""},{"$nulls":14},"",{"$nulls":8},0,"","","objektnogle_"]
[108,null,{"$f":"IF('1 - Opstart Importark'!$B$6=\"\",\"\",(IF('1 - Opstart Importark'!$B$15=\"\",CONCATENATE(LEFT('1 - Opstart Importark'!$B$3,1),(LEFT('1 - Opstart Importark'!$B$20,5)),MID('1 - Opstart Importark'!$B$20,5,2),LEFT('1 - Opstart Importark'!$B$28,3),IF(I120=\"\",\"\",\"-\"),I120,IF(K120=\"\",\"\",\"-\"),K120,IF(M120=\"\",\"\",\"-\"),M120),CONCATENATE(LEFT('1 - Opstart Importark'!$B$3,1),(LEFT('1 - Opstart Importark'!$B$15,5)),(LEFT('1 - Opstart Importark'!$B$18,3)),IF(I120=\"\",\"\",\"-\"),I120,IF(K120=\"\",\"\",\"-\"),K120,IF(M120=\"\",\"\",\"-\"),M120))))","v":""},null," ",{"$nulls":9},{"$f":"IF(LEN('1 - Opstart Importark'!$B$6)>0,'1 - Opstart Importark'!$B$6,\"\")","v":""},{"$f":"IF(LEN('1 - Opstart Importark'!$B$9)>0,'1 - Opstart Importark'!$B$9,\"\")","v":""},{"$f":"IF(LEN('1 - Opstart Importark'!$B$23)>0,'1 - Opstart Importark'!$B$23,\"\")","v":""},{"$nulls":14},"",{"$nulls":8},0,"","","objektnogle_"]
[109,null,{"$f":"IF('1 - Opstart Importark'!$B$6=\"\",\"\",(IF('1 - Opstart Importark'!$B$15=\"\",CONCATENATE(LEFT('1 - Opstart Importark'!$B$3,1),(LEFT('1 - Opstart Importark'!$B$20,5)),MID('1 - Opstart Importark'!$B$20,5,2),LEFT('1 - Opstart Importark'!$B$28,3),IF(I121=\"\",\"\",\"-\"),I121,IF(K121=\"\",\"\",\"-\"),K121,IF(M121=\"\",\"\",\"-\"),M121),CONCATENATE(LEFT('1 - Opstart Importark'!$B$3,1),(LEFT('1 - Opstart Importark'!$B$15,5)),(LEFT('1 - Opstart Importark'!$B$18,3)),IF(I121=\"\",\"\",\"-\"),I121,IF(K121=\"\",\"\",\"-\"),K121,IF(M121=\"\",\"\",\"-\"),M121))))","v":""},null," ",{"$nulls":9},{"$f":"IF(LEN('1 - Opstart Importark'!$B$6)>0,'1 - Opstart Importark'!$B$6,\"\")","v":""},{"$f":"IF(LEN('1 - Opstart Importark'!$B$9)>0,'1 - Opstart Importark'!$B$9,\"\")","v":""},{"$f":"IF(LEN('1 - Opstart Importark'!$B$23)>0,'1 - Opstart Importark'!$B$23,\"\")","v":""},{"$nulls":14},"",{"$nulls":8},0,"","","objektnogle_"]
[110,null,{"$f":"IF('1 - Opstart Importark'!$B$6=\"\",\"\",(IF('1 - Opstart Importark'!$B$15=\"\",CONCATENATE(LEFT('1 - Opstart Importark'!$B$3,1),(LEFT('1 - Opstart Importark'!$B$20,5)),MID('1 - Opstart Importark'!$B$20,5,2),LEFT('1 - Opstart Importark'!$B$28,3),IF(I122=\"\",\"\",\"-\"),I122,IF(K122=\"\",\"\",\"-\"),K122,IF(M122=\"\",\"\",\"-\"),M122),CONCATENATE(LEFT('1 - Opstart Importark'!$B$3,1),(LEFT('1 - Opstart Importark'!$B$15,5)),(LEFT('1 - Opstart Importark'!$B$18,3)),IF(I122=\"\",\"\",\"-\"),I122,IF(K122=\"\",\"\",\"-\"),K122,IF(M122=\"\",\"\",\"-\"),M122))))","v":""},null," ",{"$nulls":9},{"$f":"IF(LEN('1 - Opstart Importark'!$B$6)>0,'1 - Opstart Importark'!$B$6,\"\")","v":""},{"$f":"IF(LEN('1 - Opstart Importark'!$B$9)>0,'1 - Opstart Importark'!$B$9,\"\")","v":""},{"$f":"IF(LEN('1 - Opstart Importark'!$B$23)>0,'1 - Opstart Importark'!$B$23,\"\")","v":""},{"$nulls":14},"",{"$nulls":8},0,"","","objektnogle_"]
[111,null,{"$f":"IF('1 - Opstart Importark'!$B$6=\"\",\"\",(IF('1 - Opstart Importark'!$B$15=\"\",CONCATENATE(LEFT('1 - Opstart Importark'!$B$3,1),(LEFT('1 - Opstart Importark'!$B$20,5)),MID('1 - Opstart Importark'!$B$20,5,2),LEFT('1 - Opstart Importark'!$B$28,3),IF(I123=\"\",\"\",\"-\"),I123,IF(K123=\"\",\"\",\"-\"),K123,IF(M123=\"\",\"\",\"-\"),M123),CONCATENATE(LEFT('1 - Opstart Importark'!$B$3,1),(LEFT('1 - Opstart Importark'!$B$15,5)),(LEFT('1 - Opstart Importark'!$B$18,3)),IF(I123=\"\",\"\",\"-\"),I123,IF(K123=\"\",\"\",\"-\"),K123,IF(M123=\"\",\"\",\"-\"),M123))))","v":""},null," ",{"$nulls":9},{"$f":"IF(LEN('1 - Opstart Importark'!$B$6)>0,'1 - Opstart Importark'!$B$6,\"\")","v":""},{"$f":"IF(LEN('1 - Opstart Importark'!$B$9)>0,'1 - Opstart Importark'!$B$9,\"\")","v":""},{"$f":"IF(LEN('1 - Opstart Importark'!$B$23)>0,'1 - Opstart Importark'!$B$23,\"\")","v":""},{"$nulls":14},"",{"$nulls":8},0,"","","objektnogle_"]
[112,null,{"$f":"IF('1 - Opstart Importark'!$B$6=\"\",\"\",(IF('1 - Opstart Importark'!$B$15=\"\",CONCATENATE(LEFT('1 - Opstart Importark'!$B$3,1),(LEFT('1 - Opstart Importark'!$B$20,5)),MID('1 - Opstart Importark'!$B$20,5,2),LEFT('1 - Opstart Importark'!$B$28,3),IF(I124=\"\",\"\",\"-\"),I124,IF(K124=\"\",\"\",\"-\"),K124,IF(M124=\"\",\"\",\"-\"),M124),CONCATENATE(LEFT('1 - Opstart Importark'!$B$3,1),(LEFT('1 - Opstart Importark'!$B$15,5)),(LEFT('1 - Opstart Importark'!$B$18,3)),IF(I124=\"\",\"\",\"-\"),I124,IF(K124=\"\",\"\",\"-\"),K124,IF(M124=\"\",\"\",\"-\"),M124))))","v":""},null," ",{"$nulls":9},{"$f":"IF(LEN('1 - Opstart Importark'!$B$6)>0,'1 - Opstart Importark'!$B$6,\"\")","v":""},{"$f":"IF(LEN('1 - Opstart Importark'!$B$9)>0,'1 - Opstart Importark'!$B$9,\"\")","v":""},{"$f":"IF(LEN('1 - Opstart Importark'!$B$23)>0,'1 - Opstart Importark'!$B$23,\"\")","v":""},{"$nulls":14},"",{"$nulls":8},0,"","","objektnogle_"]
[113,null,{"$f":"IF('1 - Opstart Importark'!$B$6=\"\",\"\",(IF('1 - Opstart Importark'!$B$15=\"\",CONCATENATE(LEFT('1 - Opstart Importark'!$B$3,1),(LEFT('1 - Opstart Importark'!$B$20,5)),MID('1 - Opstart Importark'!$B$20,5,2),LEFT('1 - Opstart Importark'!$B$28,3),IF(I125=\"\",\"\",\"-\"),I125,IF(K125=\"\",\"\",\"-\"),K125,IF(M125=\"\",\"\",\"-\"),M125),CONCATENATE(LEFT('1 - Opstart Importark'!$B$3,1),(LEFT('1 - Opstart Importark'!$B$15,5)),(LEFT('1 - Opstart Importark'!$B$18,3)),IF(I125=\"\",\"\",\"-\"),I125,IF(K125=\"\",\"\",\"-\"),K125,IF(M125=\"\",\"\",\"-\"),M125))))","v":""},null," ",{"$nulls":9},{"$f":"IF(LEN('1 - Opstart Importark'!$B$6)>0,'1 - Opstart Importark'!$B$6,\"\")","v":""},{"$f":"IF(LEN('1 - Opstart Importark'!$B$9)>0,'1 - Opstart Importark'!$B$9,\"\")","v":""},{"$f":"IF(LEN('1 - Opstart Importark'!$B$23)>0,'1 - Opstart Importark'!$B$23,\"\")","v":""},{"$nulls":14},"",{"$nulls":8},0,"","","objektnogle_"]
[114,null,{"$f":"IF('1 - Opstart Importark'!$B$6=\"\",\"\",(IF('1 - Opstart Importark'!$B$15=\"\",CONCATENATE(LEFT('1 - Opstart Importark'!$B$3,1),(LEFT('1 - Opstart Importark'!$B$20,5)),MID('1 - Opstart Importark'!$B$20,5,2),LEFT('1 - Opstart Importark'!$B$28,3),IF(I126=\"\",\"\",\"-\"),I126,IF(K126=\"\",\"\",\"-\"),K126,IF(M126=\"\",\"\",\"-\"),M126),CONCATENATE(LEFT('1 - Opstart Importark'!$B$3,1),(LEFT('1 - Opstart Importark'!$B$15,5)),(LEFT('1 - Opstart Importark'!$B$18,3)),IF(I126=\"\",\"\",\"-\"),I126,IF(K126=\"\",\"\",\"-\"),K126,IF(M126=\"\",\"\",\"-\"),M126))))","v":""},null," ",{"$nulls":9},{"$f":"IF(LEN('1 - Opstart Importark'!$B$6)>0,'1 - Opstart Importark'!$B$6,\"\")","v":""},{"$f":"IF(LEN('1 - Opstart Importark'!$B$9)>0,'1 - Opstart Importark'!$B$9,\"\")","v":""},{"$f":"IF(LEN('1 - Opstart Importark'!$B$23)>0,'1 - Opstart Importark'!$B$23,\"\")","v":""},{"$nulls":14},"",{"$nulls":8},0,"","","objektnogle_"]
[115,null,{"$f":"IF('1 - Opstart Importark'!$B$6=\"\",\"\",(IF('1 - Opstart Importark'!$B$15=\"\",CONCATENATE(LEFT('1 - Opstart Importark'!$B$3,1),(LEFT('1 - Opstart Importark'!$B$20,5)),MID('1 - Opstart Importark'!$B$20,5,2),LEFT('1 - Opstart Importark'!$B$28,3),IF(I127=\"\",\"\",\"-\"),I127,IF(K127=\"\",\"\",\"-\"),K127,IF(M127=\"\",\"\",\"-\"),M127),CONCATENATE(LEFT('1 - Opstart Importark'!$B$3,1),(LEFT('1 - Opstart Importark'!$B$15,5)),(LEFT('1 - Opstart Importark'!$B$18,3)),IF(I127=\"\",\"\",\"-\"),I127,IF(K127=\"\",\"\",\"-\"),K127,IF(M127=\"\",\"\",\"-\"),M127))))","v":""},null," ",{"$nulls":9},{"$f":"IF(LEN('1 - Opstart Importark'!$B$6)>0,'1 - Opstart Importark'!$B$6,\"\")","v":""},{"$f":"IF(LEN('1 - Opstart Importark'!$B$9)>0,'1 - Opstart Importark'!$B$9,\"\")","v":""},{"$f":"IF(LEN('1 - Opstart Importark'!$B$23)>0,'1 - Opstart Importark'!$B$23,\"\")","v":""},{"$nulls":14},"",{"$nulls":8},0,"","","objektnogle_"]
[116,null,{"$f":"IF('1 - Opstart Importark'!$B$6=\"\",\"\",(IF('1 - Opstart Importark'!$B$15=\"\",CONCATENATE(LEFT('1 - Opstart Importark'!$B$3,1),(LEFT('1 - Opstart Importark'!$B$20,5)),MID('1 - Opstart Importark'!$B$20,5,2),LEFT('1 - Opstart Importark'!$B$28,3),IF(I128=\"\",\"\",\"-\"),I128,IF(K128=\"\",\"\",\"-\"),K128,IF(M128=\"\",\"\",\"-\"),M128),CONCATENATE(LEFT('1 - Opstart Importark'!$B$3,1),(LEFT('1 - Opstart Importark'!$B$15,5)),(LEFT('1 - Opstart Importark'!$B$18,3)),IF(I128=\"\",\"\",\"-\"),I128,IF(K128=\"\",\"\",\"-\"),K128,IF(M128=\"\",\"\",\"-\"),M128))))","v":""},null," ",{"$nulls":9},{"$f":"IF(LEN('1 - Opstart Importark'!$B$6)>0,'1 - Opstart Importark'!$B$6,\"\")","v":""},{"$f":"IF(LEN('1 - Opstart Importark'!$B$9)>0,'1 - Opstart Importark'!$B$9,\"\")","v":""},{"$f":"IF(LEN('1 - Opstart Importark'!$B$23)>0,'1 - Opstart Importark'!$B$23,\"\")","v":""},{"$nulls":14},"",{"$nulls":8},0,"","","objektnogle_"]
[117,null,{"$f":"IF('1 - Opstart Importark'!$B$6=\"\",\"\",(IF('1 - Opstart Importark'!$B$15=\"\",CONCATENATE(LEFT('1 - Opstart Importark'!$B$3,1),(LEFT('1 - Opstart Importark'!$B$20,5)),MID('1 - Opstart Importark'!$B$20,5,2),LEFT('1 - Opstart Importark'!$B$28,3),IF(I129=\"\",\"\",\"-\"),I129,IF(K129=\"\",\"\",\"-\"),K129,IF(M129=\"\",\"\",\"-\"),M129),CONCATENATE(LEFT('1 - Opstart Importark'!$B$3,1),(LEFT('1 - Opstart Importark'!$B$15,5)),(LEFT('1 - Opstart Importark'!$B$18,3)),IF(I129=\"\",\"\",\"-\"),I129,IF(K129=\"\",\"\",\"-\"),K129,IF(M129=\"\",\"\",\"-\"),M129))))","v":""},null," ",{"$nulls":9},{"$f":"IF(LEN('1 - Opstart Importark'!$B$6)>0,'1 - Opstart Importark'!$B$6,\"\")","v":""},{"$f":"IF(LEN('1 - Opstart Importark'!$B$9)>0,'1 - Opstart Importark'!$B$9,\"\")","v":""},{"$f":"IF(LEN('1 - Opstart Importark'!$B$23)>0,'1 - Opstart Importark'!$B$23,\"\")","v":""},{"$nulls":14},"",{"$nulls":8},0,"","","objektnogle_"]
[118,null,{"$f":"IF('1 - Opstart Importark'!$B$6=\"\",\"\",(IF('1 - Opstart Importark'!$B$15=\"\",CONCATENATE(LEFT('1 - Opstart Importark'!$B$3,1),(LEFT('1 - Opstart Importark'!$B$20,5)),MID('1 - Opstart Importark'!$B$20,5,2),LEFT('1 - Opstart Importark'!$B$28,3),IF(I130=\"\",\"\",\"-\"),I130,IF(K130=\"\",\"\",\"-\"),K130,IF(M130=\"\",\"\",\"-\"),M130),CONCATENATE(LEFT('1 - Opstart Importark'!$B$3,1),(LEFT('1 - Opstart Importark'!$B$15,5)),(LEFT('1 - Opstart Importark'!$B$18,3)),IF(I130=\"\",\"\",\"-\"),I130,IF(K130=\"\",\"\",\"-\"),K130,IF(M130=\"\",\"\",\"-\"),M130))))","v":""},null," ",{"$nulls":9},{"$f":"IF(LEN('1 - Opstart Importark'!$B$6)>0,'1 - Opstart Importark'!$B$6,\"\")","v":""},{"$f":"IF(LEN('1 - Opstart Importark'!$B$9)>0,'1 - Opstart Importark'!$B$9,\"\")","v":""},{"$f":"IF(LEN('1 - Opstart Importark'!$B$23)>0,'1 - Opstart Importark'!$B$23,\"\")","v":""},{"$nulls":14},"",{"$nulls":8},0,"","","objektnogle_"]
[119,null,{"$f":"IF('1 - Opstart Importark'!$B$6=\"\",\"\",(IF('1 - Opstart Importark'!$B$15=\"\",CONCATENATE(LEFT('1 - Opstart Importark'!$B$3,1),(LEFT('1 - Opstart Importark'!$B$20,5)),MID('1 - Opstart Importark'!$B$20,5,2),LEFT('1 - Opstart Importark'!$B$28,3),IF(I131=\"\",\"\",\"-\"),I131,IF(K131=\"\",\"\",\"-\"),K131,IF(M131=\"\",\"\",\"-\"),M131),CONCATENATE(LEFT('1 - Opstart Importark'!$B$3,1),(LEFT('1 - Opstart Importark'!$B$15,5)),(LEFT('1 - Opstart Importark'!$B$18,3)),IF(I131=\"\",\"\",\"-\"),I131,IF(K131=\"\",\"\",\"-\"),K131,IF(M131=\"\",\"\",\"-\"),M131))))","v":""},null," ",{"$nulls":9},{"$f":"IF(LEN('1 - Opstart Importark'!$B$6)>0,'1 - Opstart Importark'!$B$6,\"\")","v":""},{"$f":"IF(LEN('1 - Opstart Importark'!$B$9)>0,'1 - Opstart Importark'!$B$9,\"\")","v":""},{"$f":"IF(LEN('1 - Opstart Importark'!$B$23)>0,'1 - Opstart Importark'!$B$23,\"\")","v":""},{"$nulls":14},"",{"$nulls":8},0,"","","objektnogle_"]
[120,null,{"$f":"IF('1 - Opstart Importark'!$B$6=\"\",\"\",(IF('1 - Opstart Importark'!$B$15=\"\",CONCATENATE(LEFT('1 - Opstart Importark'!$B$3,1),(LEFT('1 - Opstart Importark'!$B$20,5)),MID('1 - Opstart Importark'!$B$20,5,2),LEFT('1 - Opstart Importark'!$B$28,3),IF(I132=\"\",\"\",\"-\"),I132,IF(K132=\"\",\"\",\"-\"),K132,IF(M132=\"\",\"\",\"-\"),M132),CONCATENATE(LEFT('1 - Opstart Importark'!$B$3,1),(LEFT('1 - Opstart Importark'!$B$15,5)),(LEFT('1 - Opstart Importark'!$B$18,3)),IF(I132=\"\",\"\",\"-\"),I132,IF(K132=\"\",\"\",\"-\"),K132,IF(M132=\"\",\"\",\"-\"),M132))))","v":""},null," ",{"$nulls":9},{"$f":"IF(LEN('1 - Opstart Importark'!$B$6)>0,'1 - Opstart Importark'!$B$6,\"\")","v":""},{"$f":"IF(LEN('1 - Opstart Importark'!$B$9)>0,'1 - Opstart Importark'!$B$9,\"\")","v":""},{"$f":"IF(LEN('1 - Opstart Importark'!$B$23)>0,'1 - Opstart Importark'!$B$23,\"\")","v":""},{"$nulls":14},"",{"$nulls":8},0,"","","objektnogle_"]
[121,null,{"$f":"IF('1 - Opstart Importark'!$B$6=\"\",\"\",(IF('1 - Opstart Importark'!$B$15=\"\",CONCATENATE(LEFT('1 - Opstart Importark'!$B$3,1),(LEFT('1 - Opstart Importark'!$B$20,5)),MID('1 - Opstart Importark'!$B$20,5,2),LEFT('1 - Opstart Importark'!$B$28,3),IF(I133=\"\",\"\",\"-\"),I133,IF(K133=\"\",\"\",\"-\"),K133,IF(M133=\"\",\"\",\"-\"),M133),CONCATENATE(LEFT('1 - Opstart Importark'!$B$3,1),(LEFT('1 - Opstart Importark'!$B$15,5)),(LEFT('1 - Opstart Importark'!$B$18,3)),IF(I133=\"\",\"\",\"-\"),I133,IF(K133=\"\",\"\",\"-\"),K133,IF(M133=\"\",\"\",\"-\"),M133))))","v":""},null," ",{"$nulls":9},{"$f":"IF(LEN('1 - Opstart Importark'!$B$6)>0,'1 - Opstart Importark'!$B$6,\"\")","v":""},{"$f":"IF(LEN('1 - Opstart Importark'!$B$9)>0,'1 - Opstart Importark'!$B$9,\"\")","v":""},{"$f":"IF(LEN('1 - Opstart Importark'!$B$23)>0,'1 - Opstart Importark'!$B$23,\"\")","v":""},{"$nulls":14},"",{"$nulls":8},0,"","","objektnogle_"]
[122,null,{"$f":"IF('1 - Opstart Importark'!$B$6=\"\",\"\",(IF('1 - Opstart Importark'!$B$15=\"\",CONCATENATE(LEFT('1 - Opstart Importark'!$B$3,1),(LEFT('1 - Opstart Importark'!$B$20,5)),MID('1 - Opstart Importark'!$B$20,5,2),LEFT('1 - Opstart Importark'!$B$28,3),IF(I134=\"\",\"\",\"-\"),I134,IF(K134=\"\",\"\",\"-\"),K134,IF(M134=\"\",\"\",\"-\"),M134),CONCATENATE(LEFT('1 - Opstart Importark'!$B$3,1),(LEFT('1 - Opstart Importark'!$B$15,5)),(LEFT('1 - Opstart Importark'!$B$18,3)),IF(I134=\"\",\"\",\"-\"),I134,IF(K134=\"\",\"\",\"-\"),K134,IF(M134=\"\",\"\",\"-\"),M134))))","v":""},null," ",{"$nulls":9},{"$f":"IF(LEN('1 - Opstart Importark'!$B$6)>0,'1 - Opstart Importark'!$B$6,\"\")","v":""},{"$f":"IF(LEN('1 - Opstart Importark'!$B$9)>0,'1 - Opstart Importark'!$B$9,\"\")","v":""},{"$f":"IF(LEN('1 - Opstart Importark'!$B$23)>0,'1 - Opstart Importark'!$B$23,\"\")","v":""},{"$nulls":14},"",{"$nulls":8},0,"","","objektnogle_"]
[123,null,{"$f":"IF('1 - Opstart Importark'!$B$6=\"\",\"\",(IF('1 - Opstart Importark'!$B$15=\"\",CONCATENATE(LEFT('1 - Opstart Importark'!$B$3,1),(LEFT('1 - Opstart Importark'!$B$20,5)),MID('1 - Opstart Importark'!$B$20,5,2),LEFT('1 - Opstart Importark'!$B$28,3),IF(I135=\"\",\"\",\"-\"),I135,IF(K135=\"\",\"\",\"-\"),K135,IF(M135=\"\",\"\",\"-\"),M135),CONCATENATE(LEFT('1 - Opstart Importark'!$B$3,1),(LEFT('1 - Opstart Importark'!$B$15,5)),(LEFT('1 - Opstart Importark'!$B$18,3)),IF(I135=\"\",\"\",\"-\"),I135,IF(K135=\"\",\"\",\"-\"),K135,IF(M135=\"\",\"\",\"-\"),M135))))","v":""},null," ",{"$nulls":9},{"$f":"IF(LEN('1 - Opstart Importark'!$B$6)>0,'1 - Opstart Importark'!$B$6,\"\")","v":""},{"$f":"IF(LEN('1 - Opstart Importark'!$B$9)>0,'1 - Opstart Importark'!$B$9,\"\")","v":""},{"$f":"IF(LEN('1 - Opstart Importark'!$B$23)>0,'1 - Opstart Importark'!$B$23,\"\")","v":""},{"$nulls":14},"",{"$nulls":8},0,"","","objektnogle_"]
[124,null,{"$f":"IF('1 - Opstart Importark'!$B$6=\"\",\"\",(IF('1 - Opstart Importark'!$B$15=\"\",CONCATENATE(LEFT('1 - Opstart Importark'!$B$3,1),(LEFT('1 - Opstart Importark'!$B$20,5)),MID('1 - Opstart Importark'!$B$20,5,2),LEFT('1 - Opstart Importark'!$B$28,3),IF(I136=\"\",\"\",\"-\"),I136,IF(K136=\"\",\"\",\"-\"),K136,IF(M136=\"\",\"\",\"-\"),M136),CONCATENATE(LEFT('1 - Opstart Importark'!$B$3,1),(LEFT('1 - Opstart Importark'!$B$15,5)),(LEFT('1 - Opstart Importark'!$B$18,3)),IF(I136=\"\",\"\",\"-\"),I136,IF(K136=\"\",\"\",\"-\"),K136,IF(M136=\"\",\"\",\"-\"),M136))))","v":""},null," ",{"$nulls":9},{"$f":"IF(LEN('1 - Opstart Importark'!$B$6)>0,'1 - Opstart Importark'!$B$6,\"\")","v":""},{"$f":"IF(LEN('1 - Opstart Importark'!$B$9)>0,'1 - Opstart Importark'!$B$9,\"\")","v":""},{"$f":"IF(LEN('1 - Opstart Importark'!$B$23)>0,'1 - Opstart Importark'!$B$23,\"\")","v":""},{"$nulls":14},"",{"$nulls":8},0,"","","objektnogle_"]
[125,null,{"$f":"IF('1 - Opstart Importark'!$B$6=\"\",\"\",(IF('1 - Opstart Importark'!$B$15=\"\",CONCATENATE(LEFT('1 - Opstart Importark'!$B$3,1),(LEFT('1 - Opstart Importark'!$B$20,5)),MID('1 - Opstart Importark'!$B$20,5,2),LEFT('1 - Opstart Importark'!$B$28,3),IF(I137=\"\",\"\",\"-\"),I137,IF(K137=\"\",\"\",\"-\"),K137,IF(M137=\"\",\"\",\"-\"),M137),CONCATENATE(LEFT('1 - Opstart Importark'!$B$3,1),(LEFT('1 - Opstart Importark'!$B$15,5)),(LEFT('1 - Opstart Importark'!$B$18,3)),IF(I137=\"\",\"\",\"-\"),I137,IF(K137=\"\",\"\",\"-\"),K137,IF(M137=\"\",\"\",\"-\"),M137))))","v":""},null," ",{"$nulls":9},{"$f":"IF(LEN('1 - Opstart Importark'!$B$6)>0,'1 - Opstart Importark'!$B$6,\"\")","v":""},{"$f":"IF(LEN('1 - Opstart Importark'!$B$9)>0,'1 - Opstart Importark'!$B$9,\"\")","v":""},{"$f":"IF(LEN('1 - Opstart Importark'!$B$23)>0,'1 - Opstart Importark'!$B$23,\"\")","v":""},{"$nulls":14},"",{"$nulls":8},0,"","","objektnogle_"]
[126,null,{"$f":"IF('1 - Opstart Importark'!$B$6=\"\",\"\",(IF('1 - Opstart Importark'!$B$15=\"\",CONCATENATE(LEFT('1 - Opstart Importark'!$B$3,1),(LEFT('1 - Opstart Importark'!$B$20,5)),MID('1 - Opstart Importark'!$B$20,5,2),LEFT('1 - Opstart Importark'!$B$28,3),IF(I138=\"\",\"\",\"-\"),I138,IF(K138=\"\",\"\",\"-\"),K138,IF(M138=\"\",\"\",\"-\"),M138),CONCATENATE(LEFT('1 - Opstart Importark'!$B$3,1),(LEFT('1 - Opstart Importark'!$B$15,5)),(LEFT('1 - Opstart Importark'!$B$18,3)),IF(I138=\"\",\"\",\"-\"),I138,IF(K138=\"\",\"\",\"-\"),K138,IF(M138=\"\",\"\",\"-\"),M138))))","v":""},null," ",{"$nulls":9},{"$f":"IF(LEN('1 - Opstart Importark'!$B$6)>0,'1 - Opstart Importark'!$B$6,\"\")","v":""},{"$f":"IF(LEN('1 - Opstart Importark'!$B$9)>0,'1 - Opstart Importark'!$B$9,\"\")","v":""},{"$f":"IF(LEN('1 - Opstart Importark'!$B$23)>0,'1 - Opstart Importark'!$B$23,\"\")","v":""},{"$nulls":14},"",{"$nulls":8},0,"","","objektnogle_"]
[127,null,{"$f":"IF('1 - Opstart Importark'!$B$6=\"\",\"\",(IF('1 - Opstart Importark'!$B$15=\"\",CONCATENATE(LEFT('1 - Opstart Importark'!$B$3,1),(LEFT('1 - Opstart Importark'!$B$20,5)),MID('1 - Opstart Importark'!$B$20,5,2),LEFT('1 - Opstart Importark'!$B$28,3),IF(I139=\"\",\"\",\"-\"),I139,IF(K139=\"\",\"\",\"-\"),K139,IF(M139=\"\",\"\",\"-\"),M139),CONCATENATE(LEFT('1 - Opstart Importark'!$B$3,1),(LEFT('1 - Opstart Importark'!$B$15,5)),(LEFT('1 - Opstart Importark'!$B$18,3)),IF(I139=\"\",\"\",\"-\"),I139,IF(K139=\"\",\"\",\"-\"),K139,IF(M139=\"\",\"\",\"-\"),M139))))","v":""},null," ",{"$nulls":9},{"$f":"IF(LEN('1 - Opstart Importark'!$B$6)>0,'1 - Opstart Importark'!$B$6,\"\")","v":""},{"$f":"IF(LEN('1 - Opstart Importark'!$B$9)>0,'1 - Opstart Importark'!$B$9,\"\")","v":""},{"$f":"IF(LEN('1 - Opstart Importark'!$B$23)>0,'1 - Opstart Importark'!$B$23,\"\")","v":""},{"$nulls":14},"",{"$nulls":8},0,"","","objektnogle_"]
[128,null,{"$f":"IF('1 - Opstart Importark'!$B$6=\"\",\"\",(IF('1 - Opstart Importark'!$B$15=\"\",CONCATENATE(LEFT('1 - Opstart Importark'!$B$3,1),(LEFT('1 - Opstart Importark'!$B$20,5)),MID('1 - Opstart Importark'!$B$20,5,2),LEFT('1 - Opstart Importark'!$B$28,3),IF(I140=\"\",\"\",\"-\"),I140,IF(K140=\"\",\"\",\"-\"),K140,IF(M140=\"\",\"\",\"-\"),M140),CONCATENATE(LEFT('1 - Opstart Importark'!$B$3,1),(LEFT('1 - Opstart Importark'!$B$15,5)),(LEFT('1 - Opstart Importark'!$B$18,3)),IF(I140=\"\",\"\",\"-\"),I140,IF(K140=\"\",\"\",\"-\"),K140,IF(M140=\"\",\"\",\"-\"),M140))))","v":""},null," ",{"$nulls":9},{"$f":"IF(LEN('1 - Opstart Importark'!$B$6)>0,'1 - Opstart Importark'!$B$6,\"\")","v":""},{"$f":"IF(LEN('1 - Opstart Importark'!$B$9)>0,'1 - Opstart Importark'!$B$9,\"\")","v":""},{"$f":"IF(LEN('1 - Opstart Importark'!$B$23)>0,'1 - Opstart Importark'!$B$23,\"\")","v":""},{"$nulls":14},"",{"$nulls":8},0,"","","objektnogle_"]
[129,null,{"$f":"IF('1 - Opstart Importark'!$B$6=\"\",\"\",(IF('1 - Opstart Importark'!$B$15=\"\",CONCATENATE(LEFT('1 - Opstart Importark'!$B$3,1),(LEFT('1 - Opstart Importark'!$B$20,5)),MID('1 - Opstart Importark'!$B$20,5,2),LEFT('1 - Opstart Importark'!$B$28,3),IF(I141=\"\",\"\",\"-\"),I141,IF(K141=\"\",\"\",\"-\"),K141,IF(M141=\"\",\"\",\"-\"),M141),CONCATENATE(LEFT('1 - Opstart Importark'!$B$3,1),(LEFT('1 - Opstart Importark'!$B$15,5)),(LEFT('1 - Opstart Importark'!$B$18,3)),IF(I141=\"\",\"\",\"-\"),I141,IF(K141=\"\",\"\",\"-\"),K141,IF(M141=\"\",\"\",\"-\"),M141))))","v":""},null," ",{"$nulls":9},{"$f":"IF(LEN('1 - Opstart Importark'!$B$6)>0,'1 - Opstart Importark'!$B$6,\"\")","v":""},{"$f":"IF(LEN('1 - Opstart Importark'!$B$9)>0,'1 - Opstart Importark'!$B$9,\"\")","v":""},{"$f":"IF(LEN('1 - Opstart Importark'!$B$23)>0,'1 - Opstart Importark'!$B$23,\"\")","v":""},{"$nulls":14},{"$f":"IF(K141=\"\",\"\",VLOOKUP(LEFT(K141,1),objektfilter,2))","v":""},{"$nulls":8},{"$f":"IFERROR(FIND(\".\",F141),)","v":0},"","","objektnogle_"]
[130,null,{"$f":"IF('1 - Opstart Importark'!$B$6=\"\",\"\",(IF('1 - Opstart Importark'!$B$15=\"\",CONCATENATE(LEFT('1 - Opstart Importark'!$B$3,1),(LEFT('1 - Opstart Importark'!$B$20,5)),MID('1 - Opstart Importark'!$B$20,5,2),LEFT('1 - Opstart Importark'!$B$28,3),IF(I142=\"\",\"\",\"-\"),I142,IF(K142=\"\",\"\",\"-\"),K142,IF(M142=\"\",\"\",\"-\"),M142),CONCATENATE(LEFT('1 - Opstart Importark'!$B$3,1),(LEFT('1 - Opstart Importark'!$B$15,5)),(LEFT('1 - Opstart Importark'!$B$18,3)),IF(I142=\"\",\"\",\"-\"),I142,IF(K142=\"\",\"\",\"-\"),K142,IF(M142=\"\",\"\",\"-\"),M142))))","v":""},null," ",{"$nulls":9},{"$f":"IF(LEN('1 - Opstart Importark'!$B$6)>0,'1 - Opstart Importark'!$B$6,\"\")","v":""},{"$f":"IF(LEN('1 - Opstart Importark'!$B$9)>0,'1 - Opstart Importark'!$B$9,\"\")","v":""},{"$f":"IF(LEN('1 - Opstart Importark'!$B$23)>0,'1 - Opstart Importark'!$B$23,\"\")","v":""},{"$nulls":14},"",{"$nulls":8},0,{"$f":"IF(K142=\"\",\"\",IF(LEFT(K142,1)=\"E\",0,1))","v":""},{"$f":"IF(K142=\"\",\"\",IF(LEFT(K142,1)=\"E\",0,1))","v":""},{"$f":"IF(W142=\"\", CONCATENATE(\"objektnogle_\",LEFT(AF142,1)),CONCATENATE(\"objektnogle_\",LEFT(W142,1)))","v":"objektnogle_"}]
[131,null,{"$f":"IF('1 - Opstart Importark'!$B$6=\"\",\"\",(IF('1 - Opstart Importark'!$B$15=\"\",CONCATENATE(LEFT('1 - Opstart Importark'!$B$3,1),(LEFT('1 - Opstart Importark'!$B$20,5)),MID('1 - Opstart Importark'!$B$20,5,2),LEFT('1 - Opstart Importark'!$B$28,3),IF(I143=\"\",\"\",\"-\"),I143,IF(K143=\"\",\"\",\"-\"),K143,IF(M143=\"\",\"\",\"-\"),M143),CONCATENATE(LEFT('1 - Opstart Importark'!$B$3,1),(LEFT('1 - Opstart Importark'!$B$15,5)),(LEFT('1 - Opstart Importark'!$B$18,3)),IF(I143=\"\",\"\",\"-\"),I143,IF(K143=\"\",\"\",\"-\"),K143,IF(M143=\"\",\"\",\"-\"),M143))))","v":""},null," ",{"$nulls":9},{"$f":"IF(LEN('1 - Opstart Importark'!$B$6)>0,'1 - Opstart Importark'!$B$6,\"\")","v":""},{"$f":"IF(LEN('1 - Opstart Importark'!$B$9)>0,'1 - Opstart Importark'!$B$9,\"\")","v":""},{"$f":"IF(LEN('1 - Opstart Importark'!$B$23)>0,'1 - Opstart Importark'!$B$23,\"\")","v":""},{"$nulls":14},"",{"$nulls":8},0,"","","objektnogle_"]
[132,null,{"$f":"IF('1 - Opstart Importark'!$B$6=\"\",\"\",(IF('1 - Opstart Importark'!$B$15=\"\",CONCATENATE(LEFT('1 - Opstart Importark'!$B$3,1),(LEFT('1 - Opstart Importark'!$B$20,5)),MID('1 - Opstart Importark'!$B$20,5,2),LEFT('1 - Opstart Importark'!$B$28,3),IF(I144=\"\",\"\",\"-\"),I144,IF(K144=\"\",\"\",\"-\"),K144,IF(M144=\"\",\"\",\"-\"),M144),CONCATENATE(LEFT('1 - Opstart Importark'!$B$3,1),(LEFT('1 - Opstart Importark'!$B$15,5)),(LEFT('1 - Opstart Importark'!$B$18,3)),IF(I144=\"\",\"\",\"-\"),I144,IF(K144=\"\",\"\",\"-\"),K144,IF(M144=\"\",\"\",\"-\"),M144))))","v":""},null," ",{"$nulls":9},{"$f":"IF(LEN('1 - Opstart Importark'!$B$6)>0,'1 - Opstart Importark'!$B$6,\"\")","v":""},{"$f":"IF(LEN('1 - Opstart Importark'!$B$9)>0,'1 - Opstart Importark'!$B$9,\"\")","v":""},{"$f":"IF(LEN('1 - Opstart Importark'!$B$23)>0,'1 - Opstart Importark'!$B$23,\"\")","v":""},{"$nulls":14},"",{"$nulls":8},0,"","","objektnogle_"]
[133,null,{"$f":"IF('1 - Opstart Importark'!$B$6=\"\",\"\",(IF('1 - Opstart Importark'!$B$15=\"\",CONCATENATE(LEFT('1 - Opstart Importark'!$B$3,1),(LEFT('1 - Opstart Importark'!$B$20,5)),MID('1 - Opstart Importark'!$B$20,5,2),LEFT('1 - Opstart Importark'!$B$28,3),IF(I145=\"\",\"\",\"-\"),I145,IF(K145=\"\",\"\",\"-\"),K145,IF(M145=\"\",\"\",\"-\"),M145),CONCATENATE(LEFT('1 - Opstart Importark'!$B$3,1),(LEFT('1 - Opstart Importark'!$B$15,5)),(LEFT('1 - Opstart Importark'!$B$18,3)),IF(I145=\"\",\"\",\"-\"),I145,IF(K145=\"\",\"\",\"-\"),K145,IF(M145=\"\",\"\",\"-\"),M145))))","v":""},null," ",{"$nulls":9},{"$f":"IF(LEN('1 - Opstart Importark'!$B$6)>0,'1 - Opstart Importark'!$B$6,\"\")","v":""},{"$f":"IF(LEN('1 - Opstart Importark'!$B$9)>0,'1 - Opstart Importark'!$B$9,\"\")","v":""},{"$f":"IF(LEN('1 - Opstart Importark'!$B$23)>0,'1 - Opstart Importark'!$B$23,\"\")","v":""},{"$nulls":14},"",{"$nulls":8},0,"","","objektnogle_"]
[134,null,{"$f":"IF('1 - Opstart Importark'!$B$6=\"\",\"\",(IF('1 - Opstart Importark'!$B$15=\"\",CONCATENATE(LEFT('1 - Opstart Importark'!$B$3,1),(LEFT('1 - Opstart Importark'!$B$20,5)),MID('1 - Opstart Importark'!$B$20,5,2),LEFT('1 - Opstart Importark'!$B$28,3),IF(I146=\"\",\"\",\"-\"),I146,IF(K146=\"\",\"\",\"-\"),K146,IF(M146=\"\",\"\",\"-\"),M146),CONCATENATE(LEFT('1 - Opstart Importark'!$B$3,1),(LEFT('1 - Opstart Importark'!$B$15,5)),(LEFT('1 - Opstart Importark'!$B$18,3)),IF(I146=\"\",\"\",\"-\"),I146,IF(K146=\"\",\"\",\"-\"),K146,IF(M146=\"\",\"\",\"-\"),M146))))","v":""},null," ",{"$nulls":9},{"$f":"IF(LEN('1 - Opstart Importark'!$B$6)>0,'1 - Opstart Importark'!$B$6,\"\")","v":""},{"$f":"IF(LEN('1 - Opstart Importark'!$B$9)>0,'1 - Opstart Importark'!$B$9,\"\")","v":""},{"$f":"IF(LEN('1 - Opstart Importark'!$B$23)>0,'1 - Opstart Importark'!$B$23,\"\")","v":""},{"$nulls":14},"",{"$nulls":8},0,"","","objektnogle_"]
[135,null,{"$f":"IF('1 - Opstart Importark'!$B$6=\"\",\"\",(IF('1 - Opstart Importark'!$B$15=\"\",CONCATENATE(LEFT('1 - Opstart Importark'!$B$3,1),(LEFT('1 - Opstart Importark'!$B$20,5)),MID('1 - Opstart Importark'!$B$20,5,2),LEFT('1 - Opstart Importark'!$B$28,3),IF(I147=\"\",\"\",\"-\"),I147,IF(K147=\"\",\"\",\"-\"),K147,IF(M147=\"\",\"\",\"-\"),M147),CONCATENATE(LEFT('1 - Opstart Importark'!$B$3,1),(LEFT('1 - Opstart Importark'!$B$15,5)),(LEFT('1 - Opstart Importark'!$B$18,3)),IF(I147=\"\",\"\",\"-\"),I147,IF(K147=\"\",\"\",\"-\"),K147,IF(M147=\"\",\"\",\"-\"),M147))))","v":""},null," ",{"$nulls":9},{"$f":"IF(LEN('1 - Opstart Importark'!$B$6)>0,'1 - Opstart Importark'!$B$6,\"\")","v":""},{"$f":"IF(LEN('1 - Opstart Importark'!$B$9)>0,'1 - Opstart Importark'!$B$9,\"\")","v":""},{"$f":"IF(LEN('1 - Opstart Importark'!$B$23)>0,'1 - Opstart Importark'!$B$23,\"\")","v":""},{"$nulls":14},"",{"$nulls":8},0,"","","objektnogle_"]
[136,null,{"$f":"IF('1 - Opstart Importark'!$B$6=\"\",\"\",(IF('1 - Opstart Importark'!$B$15=\"\",CONCATENATE(LEFT('1 - Opstart Importark'!$B$3,1),(LEFT('1 - Opstart Importark'!$B$20,5)),MID('1 - Opstart Importark'!$B$20,5,2),LEFT('1 - Opstart Importark'!$B$28,3),IF(I148=\"\",\"\",\"-\"),I148,IF(K148=\"\",\"\",\"-\"),K148,IF(M148=\"\",\"\",\"-\"),M148),CONCATENATE(LEFT('1 - Opstart Importark'!$B$3,1),(LEFT('1 - Opstart Importark'!$B$15,5)),(LEFT('1 - Opstart Importark'!$B$18,3)),IF(I148=\"\",\"\",\"-\"),I148,IF(K148=\"\",\"\",\"-\"),K148,IF(M148=\"\",\"\",\"-\"),M148))))","v":""},null," ",{"$nulls":9},{"$f":"IF(LEN('1 - Opstart Importark'!$B$6)>0,'1 - Opstart Importark'!$B$6,\"\")","v":""},{"$f":"IF(LEN('1 - Opstart Importark'!$B$9)>0,'1 - Opstart Importark'!$B$9,\"\")","v":""},{"$f":"IF(LEN('1 - Opstart Importark'!$B$23)>0,'1 - Opstart Importark'!$B$23,\"\")","v":""},{"$nulls":14},"",{"$nulls":8},0,"","","objektnogle_"]
[137,null,{"$f":"IF('1 - Opstart Importark'!$B$6=\"\",\"\",(IF('1 - Opstart Importark'!$B$15=\"\",CONCATENATE(LEFT('1 - Opstart Importark'!$B$3,1),(LEFT('1 - Opstart Importark'!$B$20,5)),MID('1 - Opstart Importark'!$B$20,5,2),LEFT('1 - Opstart Importark'!$B$28,3),IF(I149=\"\",\"\",\"-\"),I149,IF(K149=\"\",\"\",\"-\"),K149,IF(M149=\"\",\"\",\"-\"),M149),CONCATENATE(LEFT('1 - Opstart Importark'!$B$3,1),(LEFT('1 - Opstart Importark'!$B$15,5)),(LEFT('1 - Opstart Importark'!$B$18,3)),IF(I149=\"\",\"\",\"-\"),I149,IF(K149=\"\",\"\",\"-\"),K149,IF(M149=\"\",\"\",\"-\"),M149))))","v":""},null," ",{"$nulls":9},{"$f":"IF(LEN('1 - Opstart Importark'!$B$6)>0,'1 - Opstart Importark'!$B$6,\"\")","v":""},{"$f":"IF(LEN('1 - Opstart Importark'!$B$9)>0,'1 - Opstart Importark'!$B$9,\"\")","v":""},{"$f":"IF(LEN('1 - Opstart Importark'!$B$23)>0,'1 - Opstart Importark'!$B$23,\"\")","v":""},{"$nulls":14},"",{"$nulls":8},0,"","","objektnogle_"]
[138,null,{"$f":"IF('1 - Opstart Importark'!$B$6=\"\",\"\",(IF('1 - Opstart Importark'!$B$15=\"\",CONCATENATE(LEFT('1 - Opstart Importark'!$B$3,1),(LEFT('1 - Opstart Importark'!$B$20,5)),MID('1 - Opstart Importark'!$B$20,5,2),LEFT('1 - Opstart Importark'!$B$28,3),IF(I150=\"\",\"\",\"-\"),I150,IF(K150=\"\",\"\",\"-\"),K150,IF(M150=\"\",\"\",\"-\"),M150),CONCATENATE(LEFT('1 - Opstart Importark'!$B$3,1),(LEFT('1 - Opstart Importark'!$B$15,5)),(LEFT('1 - Opstart Importark'!$B$18,3)),IF(I150=\"\",\"\",\"-\"),I150,IF(K150=\"\",\"\",\"-\"),K150,IF(M150=\"\",\"\",\"-\"),M150))))","v":""},null," ",{"$nulls":9},{"$f":"IF(LEN('1 - Opstart Importark'!$B$6)>0,'1 - Opstart Importark'!$B$6,\"\")","v":""},{"$f":"IF(LEN('1 - Opstart Importark'!$B$9)>0,'1 - Opstart Importark'!$B$9,\"\")","v":""},{"$f":"IF(LEN('1 - Opstart Importark'!$B$23)>0,'1 - Opstart Importark'!$B$23,\"\")","v":""},{"$nulls":14},"",{"$nulls":8},0,"","","objektnogle_"]
[139,null,{"$f":"IF('1 - Opstart Importark'!$B$6=\"\",\"\",(IF('1 - Opstart Importark'!$B$15=\"\",CONCATENATE(LEFT('1 - Opstart Importark'!$B$3,1),(LEFT('1 - Opstart Importark'!$B$20,5)),MID('1 - Opstart Importark'!$B$20,5,2),LEFT('1 - Opstart Importark'!$B$28,3),IF(I151=\"\",\"\",\"-\"),I151,IF(K151=\"\",\"\",\"-\"),K151,IF(M151=\"\",\"\",\"-\"),M151),CONCATENATE(LEFT('1 - Opstart Importark'!$B$3,1),(LEFT('1 - Opstart Importark'!$B$15,5)),(LEFT('1 - Opstart Importark'!$B$18,3)),IF(I151=\"\",\"\",\"-\"),I151,IF(K151=\"\",\"\",\"-\"),K151,IF(M151=\"\",\"\",\"-\"),M151))))","v":""},null," ",{"$nulls":9},{"$f":"IF(LEN('1 - Opstart Importark'!$B$6)>0,'1 - Opstart Importark'!$B$6,\"\")","v":""},{"$f":"IF(LEN('1 - Opstart Importark'!$B$9)>0,'1 - Opstart Importark'!$B$9,\"\")","v":""},{"$f":"IF(LEN('1 - Opstart Importark'!$B$23)>0,'1 - Opstart Importark'!$B$23,\"\")","v":""},{"$nulls":14},"",{"$nulls":8},0,"","","objektnogle_"]
[140,null,{"$f":"IF('1 - Opstart Importark'!$B$6=\"\",\"\",(IF('1 - Opstart Importark'!$B$15=\"\",CONCATENATE(LEFT('1 - Opstart Importark'!$B$3,1),(LEFT('1 - Opstart Importark'!$B$20,5)),MID('1 - Opstart Importark'!$B$20,5,2),LEFT('1 - Opstart Importark'!$B$28,3),IF(I152=\"\",\"\",\"-\"),I152,IF(K152=\"\",\"\",\"-\"),K152,IF(M152=\"\",\"\",\"-\"),M152),CONCATENATE(LEFT('1 - Opstart Importark'!$B$3,1),(LEFT('1 - Opstart Importark'!$B$15,5)),(LEFT('1 - Opstart Importark'!$B$18,3)),IF(I152=\"\",\"\",\"-\"),I152,IF(K152=\"\",\"\",\"-\"),K152,IF(M152=\"\",\"\",\"-\"),M152))))","v":""},null," ",{"$nulls":9},{"$f":"IF(LEN('1 - Opstart Importark'!$B$6)>0,'1 - Opstart Importark'!$B$6,\"\")","v":""},{"$f":"IF(LEN('1 - Opstart Importark'!$B$9)>0,'1 - Opstart Importark'!$B$9,\"\")","v":""},{"$f":"IF(LEN('1 - Opstart Importark'!$B$23)>0,'1 - Opstart Importark'!$B$23,\"\")","v":""},{"$nulls":14},"",{"$nulls":8},0,"","","objektnogle_"]
[141,null,{"$f":"IF('1 - Opstart Importark'!$B$6=\"\",\"\",(IF('1 - Opstart Importark'!$B$15=\"\",CONCATENATE(LEFT('1 - Opstart Importark'!$B$3,1),(LEFT('1 - Opstart Importark'!$B$20,5)),MID('1 - Opstart Importark'!$B$20,5,2),LEFT('1 - Opstart Importark'!$B$28,3),IF(I153=\"\",\"\",\"-\"),I153,IF(K153=\"\",\"\",\"-\"),K153,IF(M153=\"\",\"\",\"-\"),M153),CONCATENATE(LEFT('1 - Opstart Importark'!$B$3,1),(LEFT('1 - Opstart Importark'!$B$15,5)),(LEFT('1 - Opstart Importark'!$B$18,3)),IF(I153=\"\",\"\",\"-\"),I153,IF(K153=\"\",\"\",\"-\"),K153,IF(M153=\"\",\"\",\"-\"),M153))))","v":""},null," ",{"$nulls":9},{"$f":"IF(LEN('1 - Opstart Importark'!$B$6)>0,'1 - Opstart Importark'!$B$6,\"\")","v":""},{"$f":"IF(LEN('1 - Opstart Importark'!$B$9)>0,'1 - Opstart Importark'!$B$9,\"\")","v":""},{"$f":"IF(LEN('1 - Opstart Importark'!$B$23)>0,'1 - Opstart Importark'!$B$23,\"\")","v":""},{"$nulls":14},"",{"$nulls":8},0,"","","objektnogle_"]
[142,null,{"$f":"IF('1 - Opstart Importark'!$B$6=\"\",\"\",(IF('1 - Opstart Importark'!$B$15=\"\",CONCATENATE(LEFT('1 - Opstart Importark'!$B$3,1),(LEFT('1 - Opstart Importark'!$B$20,5)),MID('1 - Opstart Importark'!$B$20,5,2),LEFT('1 - Opstart Importark'!$B$28,3),IF(I154=\"\",\"\",\"-\"),I154,IF(K154=\"\",\"\",\"-\"),K154,IF(M154=\"\",\"\",\"-\"),M154),CONCATENATE(LEFT('1 - Opstart Importark'!$B$3,1),(LEFT('1 - Opstart Importark'!$B$15,5)),(LEFT('1 - Opstart Importark'!$B$18,3)),IF(I154=\"\",\"\",\"-\"),I154,IF(K154=\"\",\"\",\"-\"),K154,IF(M154=\"\",\"\",\"-\"),M154))))","v":""},null," ",{"$nulls":9},{"$f":"IF(LEN('1 - Opstart Importark'!$B$6)>0,'1 - Opstart Importark'!$B$6,\"\")","v":""},{"$f":"IF(LEN('1 - Opstart Importark'!$B$9)>0,'1 - Opstart Importark'!$B$9,\"\")","v":""},{"$f":"IF(LEN('1 - Opstart Importark'!$B$23)>0,'1 - Opstart Importark'!$B$23,\"\")","v":""},{"$nulls":14},"",{"$nulls":8},0,"","","objektnogle_"]
[143,null,{"$f":"IF('1 - Opstart Importark'!$B$6=\"\",\"\",(IF('1 - Opstart Importark'!$B$15=\"\",CONCATENATE(LEFT('1 - Opstart Importark'!$B$3,1),(LEFT('1 - Opstart Importark'!$B$20,5)),MID('1 - Opstart Importark'!$B$20,5,2),LEFT('1 - Opstart Importark'!$B$28,3),IF(I155=\"\",\"\",\"-\"),I155,IF(K155=\"\",\"\",\"-\"),K155,IF(M155=\"\",\"\",\"-\"),M155),CONCATENATE(LEFT('1 - Opstart Importark'!$B$3,1),(LEFT('1 - Opstart Importark'!$B$15,5)),(LEFT('1 - Opstart Importark'!$B$18,3)),IF(I155=\"\",\"\",\"-\"),I155,IF(K155=\"\",\"\",\"-\"),K155,IF(M155=\"\",\"\",\"-\"),M155))))","v":""},null," ",{"$nulls":9},{"$f":"IF(LEN('1 - Opstart Importark'!$B$6)>0,'1 - Opstart Importark'!$B$6,\"\")","v":""},{"$f":"IF(LEN('1 - Opstart Importark'!$B$9)>0,'1 - Opstart Importark'!$B$9,\"\")","v":""},{"$f":"IF(LEN('1 - Opstart Importark'!$B$23)>0,'1 - Opstart Importark'!$B$23,\"\")","v":""},{"$nulls":14},"",{"$nulls":8},0,"","","objektnogle_"]
[144,null,{"$f":"IF('1 - Opstart Importark'!$B$6=\"\",\"\",(IF('1 - Opstart Importark'!$B$15=\"\",CONCATENATE(LEFT('1 - Opstart Importark'!$B$3,1),(LEFT('1 - Opstart Importark'!$B$20,5)),MID('1 - Opstart Importark'!$B$20,5,2),LEFT('1 - Opstart Importark'!$B$28,3),IF(I156=\"\",\"\",\"-\"),I156,IF(K156=\"\",\"\",\"-\"),K156,IF(M156=\"\",\"\",\"-\"),M156),CONCATENATE(LEFT('1 - Opstart Importark'!$B$3,1),(LEFT('1 - Opstart Importark'!$B$15,5)),(LEFT('1 - Opstart Importark'!$B$18,3)),IF(I156=\"\",\"\",\"-\"),I156,IF(K156=\"\",\"\",\"-\"),K156,IF(M156=\"\",\"\",\"-\"),M156))))","v":""},null," ",{"$nulls":9},{"$f":"IF(LEN('1 - Opstart Importark'!$B$6)>0,'1 - Opstart Importark'!$B$6,\"\")","v":""},{"$f":"IF(LEN('1 - Opstart Importark'!$B$9)>0,'1 - Opstart Importark'!$B$9,\"\")","v":""},{"$f":"IF(LEN('1 - Opstart Importark'!$B$23)>0,'1 - Opstart Importark'!$B$23,\"\")","v":""},{"$nulls":14},"",{"$nulls":8},0,"","","objektnogle_"]
[145,null,{"$f":"IF('1 - Opstart Importark'!$B$6=\"\",\"\",(IF('1 - Opstart Importark'!$B$15=\"\",CONCATENATE(LEFT('1 - Opstart Importark'!$B$3,1),(LEFT('1 - Opstart Importark'!$B$20,5)),MID('1 - Opstart Importark'!$B$20,5,2),LEFT('1 - Opstart Importark'!$B$28,3),IF(I157=\"\",\"\",\"-\"),I157,IF(K157=\"\",\"\",\"-\"),K157,IF(M157=\"\",\"\",\"-\"),M157),CONCATENATE(LEFT('1 - Opstart Importark'!$B$3,1),(LEFT('1 - Opstart Importark'!$B$15,5)),(LEFT('1 - Opstart Importark'!$B$18,3)),IF(I157=\"\",\"\",\"-\"),I157,IF(K157=\"\",\"\",\"-\"),K157,IF(M157=\"\",\"\",\"-\"),M157))))","v":""},null," ",{"$nulls":9},{"$f":"IF(LEN('1 - Opstart Importark'!$B$6)>0,'1 - Opstart Importark'!$B$6,\"\")","v":""},{"$f":"IF(LEN('1 - Opstart Importark'!$B$9)>0,'1 - Opstart Importark'!$B$9,\"\")","v":""},{"$f":"IF(LEN('1 - Opstart Importark'!$B$23)>0,'1 - Opstart Importark'!$B$23,\"\")","v":""},{"$nulls":14},"",{"$nulls":8},0,"","","objektnogle_"]
[146,null,{"$f":"IF('1 - Opstart Importark'!$B$6=\"\",\"\",(IF('1 - Opstart Importark'!$B$15=\"\",CONCATENATE(LEFT('1 - Opstart Importark'!$B$3,1),(LEFT('1 - Opstart Importark'!$B$20,5)),MID('1 - Opstart Importark'!$B$20,5,2),LEFT('1 - Opstart Importark'!$B$28,3),IF(I158=\"\",\"\",\"-\"),I158,IF(K158=\"\",\"\",\"-\"),K158,IF(M158=\"\",\"\",\"-\"),M158),CONCATENATE(LEFT('1 - Opstart Importark'!$B$3,1),(LEFT('1 - Opstart Importark'!$B$15,5)),(LEFT('1 - Opstart Importark'!$B$18,3)),IF(I158=\"\",\"\",\"-\"),I158,IF(K158=\"\",\"\",\"-\"),K158,IF(M158=\"\",\"\",\"-\"),M158))))","v":""},null," ",{"$nulls":9},{"$f":"IF(LEN('1 - Opstart Importark'!$B$6)>0,'1 - Opstart Importark'!$B$6,\"\")","v":""},{"$f":"IF(LEN('1 - Opstart Importark'!$B$9)>0,'1 - Opstart Importark'!$B$9,\"\")","v":""},{"$f":"IF(LEN('1 - Opstart Importark'!$B$23)>0,'1 - Opstart Importark'!$B$23,\"\")","v":""},{"$nulls":14},"",{"$nulls":8},0,"","","objektnogle_"]
[147,null,{"$f":"IF('1 - Opstart Importark'!$B$6=\"\",\"\",(IF('1 - Opstart Importark'!$B$15=\"\",CONCATENATE(LEFT('1 - Opstart Importark'!$B$3,1),(LEFT('1 - Opstart Importark'!$B$20,5)),MID('1 - Opstart Importark'!$B$20,5,2),LEFT('1 - Opstart Importark'!$B$28,3),IF(I159=\"\",\"\",\"-\"),I159,IF(K159=\"\",\"\",\"-\"),K159,IF(M159=\"\",\"\",\"-\"),M159),CONCATENATE(LEFT('1 - Opstart Importark'!$B$3,1),(LEFT('1 - Opstart Importark'!$B$15,5)),(LEFT('1 - Opstart Importark'!$B$18,3)),IF(I159=\"\",\"\",\"-\"),I159,IF(K159=\"\",\"\",\"-\"),K159,IF(M159=\"\",\"\",\"-\"),M159))))","v":""},null," ",{"$nulls":9},{"$f":"IF(LEN('1 - Opstart Importark'!$B$6)>0,'1 - Opstart Importark'!$B$6,\"\")","v":""},{"$f":"IF(LEN('1 - Opstart Importark'!$B$9)>0,'1 - Opstart Importark'!$B$9,\"\")","v":""},{"$f":"IF(LEN('1 - Opstart Importark'!$B$23)>0,'1 - Opstart Importark'!$B$23,\"\")","v":""},{"$nulls":14},"",{"$nulls":8},0,"","","objektnogle_"]
[148,null,{"$f":"IF('1 - Opstart Importark'!$B$6=\"\",\"\",(IF('1 - Opstart Importark'!$B$15=\"\",CONCATENATE(LEFT('1 - Opstart Importark'!$B$3,1),(LEFT('1 - Opstart Importark'!$B$20,5)),MID('1 - Opstart Importark'!$B$20,5,2),LEFT('1 - Opstart Importark'!$B$28,3),IF(I160=\"\",\"\",\"-\"),I160,IF(K160=\"\",\"\",\"-\"),K160,IF(M160=\"\",\"\",\"-\"),M160),CONCATENATE(LEFT('1 - Opstart Importark'!$B$3,1),(LEFT('1 - Opstart Importark'!$B$15,5)),(LEFT('1 - Opstart Importark'!$B$18,3)),IF(I160=\"\",\"\",\"-\"),I160,IF(K160=\"\",\"\",\"-\"),K160,IF(M160=\"\",\"\",\"-\"),M160))))","v":""},null," ",{"$nulls":9},{"$f":"IF(LEN('1 - Opstart Importark'!$B$6)>0,'1 - Opstart Importark'!$B$6,\"\")","v":""},{"$f":"IF(LEN('1 - Opstart Importark'!$B$9)>0,'1 - Opstart Importark'!$B$9,\"\")","v":""},{"$f":"IF(LEN('1 - Opstart Importark'!$B$23)>0,'1 - Opstart Importark'!$B$23,\"\")","v":""},{"$nulls":14},"",{"$nulls":8},0,"","","objektnogle_"]
[149,null,{"$f":"IF('1 - Opstart Importark'!$B$6=\"\",\"\",(IF('1 - Opstart Importark'!$B$15=\"\",CONCATENATE(LEFT('1 - Opstart Importark'!$B$3,1),(LEFT('1 - Opstart Importark'!$B$20,5)),MID('1 - Opstart Importark'!$B$20,5,2),LEFT('1 - Opstart Importark'!$B$28,3),IF(I161=\"\",\"\",\"-\"),I161,IF(K161=\"\",\"\",\"-\"),K161,IF(M161=\"\",\"\",\"-\"),M161),CONCATENATE(LEFT('1 - Opstart Importark'!$B$3,1),(LEFT('1 - Opstart Importark'!$B$15,5)),(LEFT('1 - Opstart Importark'!$B$18,3)),IF(I161=\"\",\"\",\"-\"),I161,IF(K161=\"\",\"\",\"-\"),K161,IF(M161=\"\",\"\",\"-\"),M161))))","v":""},null," ",{"$nulls":9},{"$f":"IF(LEN('1 - Opstart Importark'!$B$6)>0,'1 - Opstart Importark'!$B$6,\"\")","v":""},{"$f":"IF(LEN('1 - Opstart Importark'!$B$9)>0,'1 - Opstart Importark'!$B$9,\"\")","v":""},{"$f":"IF(LEN('1 - Opstart Importark'!$B$23)>0,'1 - Opstart Importark'!$B$23,\"\")","v":""},{"$nulls":14},"",{"$nulls":8},0,"","","objektnogle_"]
[150,null,{"$f":"IF('1 - Opstart Importark'!$B$6=\"\",\"\",(IF('1 - Opstart Importark'!$B$15=\"\",CONCATENATE(LEFT('1 - Opstart Importark'!$B$3,1),(LEFT('1 - Opstart Importark'!$B$20,5)),MID('1 - Opstart Importark'!$B$20,5,2),LEFT('1 - Opstart Importark'!$B$28,3),IF(I162=\"\",\"\",\"-\"),I162,IF(K162=\"\",\"\",\"-\"),K162,IF(M162=\"\",\"\",\"-\"),M162),CONCATENATE(LEFT('1 - Opstart Importark'!$B$3,1),(LEFT('1 - Opstart Importark'!$B$15,5)),(LEFT('1 - Opstart Importark'!$B$18,3)),IF(I162=\"\",\"\",\"-\"),I162,IF(K162=\"\",\"\",\"-\"),K162,IF(M162=\"\",\"\",\"-\"),M162))))","v":""},null," ",{"$nulls":9},{"$f":"IF(LEN('1 - Opstart Importark'!$B$6)>0,'1 - Opstart Importark'!$B$6,\"\")","v":""},{"$f":"IF(LEN('1 - Opstart Importark'!$B$9)>0,'1 - Opstart Importark'!$B$9,\"\")","v":""},{"$f":"IF(LEN('1 - Opstart Importark'!$B$23)>0,'1 - Opstart Importark'!$B$23,\"\")","v":""},{"$nulls":14},"",{"$nulls":8},0,"","","objektnogle_"]
[151,null,{"$f":"IF('1 - Opstart Importark'!$B$6=\"\",\"\",(IF('1 - Opstart Importark'!$B$15=\"\",CONCATENATE(LEFT('1 - Opstart Importark'!$B$3,1),(LEFT('1 - Opstart Importark'!$B$20,5)),MID('1 - Opstart Importark'!$B$20,5,2),LEFT('1 - Opstart Importark'!$B$28,3),IF(I163=\"\",\"\",\"-\"),I163,IF(K163=\"\",\"\",\"-\"),K163,IF(M163=\"\",\"\",\"-\"),M163),CONCATENATE(LEFT('1 - Opstart Importark'!$B$3,1),(LEFT('1 - Opstart Importark'!$B$15,5)),(LEFT('1 - Opstart Importark'!$B$18,3)),IF(I163=\"\",\"\",\"-\"),I163,IF(K163=\"\",\"\",\"-\"),K163,IF(M163=\"\",\"\",\"-\"),M163))))","v":""},null," ",{"$nulls":9},{"$f":"IF(LEN('1 - Opstart Importark'!$B$6)>0,'1 - Opstart Importark'!$B$6,\"\")","v":""},{"$f":"IF(LEN('1 - Opstart Importark'!$B$9)>0,'1 - Opstart Importark'!$B$9,\"\")","v":""},{"$f":"IF(LEN('1 - Opstart Importark'!$B$23)>0,'1 - Opstart Importark'!$B$23,\"\")","v":""},{"$nulls":14},"",{"$nulls":8},0,"","","objektnogle_"]
[152,null,{"$f":"IF('1 - Opstart Importark'!$B$6=\"\",\"\",(IF('1 - Opstart Importark'!$B$15=\"\",CONCATENATE(LEFT('1 - Opstart Importark'!$B$3,1),(LEFT('1 - Opstart Importark'!$B$20,5)),MID('1 - Opstart Importark'!$B$20,5,2),LEFT('1 - Opstart Importark'!$B$28,3),IF(I164=\"\",\"\",\"-\"),I164,IF(K164=\"\",\"\",\"-\"),K164,IF(M164=\"\",\"\",\"-\"),M164),CONCATENATE(LEFT('1 - Opstart Importark'!$B$3,1),(LEFT('1 - Opstart Importark'!$B$15,5)),(LEFT('1 - Opstart Importark'!$B$18,3)),IF(I164=\"\",\"\",\"-\"),I164,IF(K164=\"\",\"\",\"-\"),K164,IF(M164=\"\",\"\",\"-\"),M164))))","v":""},null," ",{"$nulls":9},{"$f":"IF(LEN('1 - Opstart Importark'!$B$6)>0,'1 - Opstart Importark'!$B$6,\"\")","v":""},{"$f":"IF(LEN('1 - Opstart Importark'!$B$9)>0,'1 - Opstart Importark'!$B$9,\"\")","v":""},{"$f":"IF(LEN('1 - Opstart Importark'!$B$23)>0,'1 - Opstart Importark'!$B$23,\"\")","v":""},{"$nulls":14},"",{"$nulls":8},0,"","","objektnogle_"]
[153,null,{"$f":"IF('1 - Opstart Importark'!$B$6=\"\",\"\",(IF('1 - Opstart Importark'!$B$15=\"\",CONCATENATE(LEFT('1 - Opstart Importark'!$B$3,1),(LEFT('1 - Opstart Importark'!$B$20,5)),MID('1 - Opstart Importark'!$B$20,5,2),LEFT('1 - Opstart Importark'!$B$28,3),IF(I165=\"\",\"\",\"-\"),I165,IF(K165=\"\",\"\",\"-\"),K165,IF(M165=\"\",\"\",\"-\"),M165),CONCATENATE(LEFT('1 - Opstart Importark'!$B$3,1),(LEFT('1 - Opstart Importark'!$B$15,5)),(LEFT('1 - Opstart Importark'!$B$18,3)),IF(I165=\"\",\"\",\"-\"),I165,IF(K165=\"\",\"\",\"-\"),K165,IF(M165=\"\",\"\",\"-\"),M165))))","v":""},null," ",{"$nulls":9},{"$f":"IF(LEN('1 - Opstart Importark'!$B$6)>0,'1 - Opstart Importark'!$B$6,\"\")","v":""},{"$f":"IF(LEN('1 - Opstart Importark'!$B$9)>0,'1 - Opstart Importark'!$B$9,\"\")","v":""},{"$f":"IF(LEN('1 - Opstart Importark'!$B$23)>0,'1 - Opstart Importark'!$B$23,\"\")","v":""},{"$nulls":14},"",{"$nulls":8},0,"","","objektnogle_"]
[154,null,{"$f":"IF('1 - Opstart Importark'!$B$6=\"\",\"\",(IF('1 - Opstart Importark'!$B$15=\"\",CONCATENATE(LEFT('1 - Opstart Importark'!$B$3,1),(LEFT('1 - Opstart Importark'!$B$20,5)),MID('1 - Opstart Importark'!$B$20,5,2),LEFT('1 - Opstart Importark'!$B$28,3),IF(I166=\"\",\"\",\"-\"),I166,IF(K166=\"\",\"\",\"-\"),K166,IF(M166=\"\",\"\",\"-\"),M166),CONCATENATE(LEFT('1 - Opstart Importark'!$B$3,1),(LEFT('1 - Opstart Importark'!$B$15,5)),(LEFT('1 - Opstart Importark'!$B$18,3)),IF(I166=\"\",\"\",\"-\"),I166,IF(K166=\"\",\"\",\"-\"),K166,IF(M166=\"\",\"\",\"-\"),M166))))","v":""},null," ",{"$nulls":9},{"$f":"IF(LEN('1 - Opstart Importark'!$B$6)>0,'1 - Opstart Importark'!$B$6,\"\")","v":""},{"$f":"IF(LEN('1 - Opstart Importark'!$B$9)>0,'1 - Opstart Importark'!$B$9,\"\")","v":""},{"$f":"IF(LEN('1 - Opstart Importark'!$B$23)>0,'1 - Opstart Importark'!$B$23,\"\")","v":""},{"$nulls":14},"",{"$nulls":8},0,"","","objektnogle_"]
[155,null,{"$f":"IF('1 - Opstart Importark'!$B$6=\"\",\"\",(IF('1 - Opstart Importark'!$B$15=\"\",CONCATENATE(LEFT('1 - Opstart Importark'!$B$3,1),(LEFT('1 - Opstart Importark'!$B$20,5)),MID('1 - Opstart Importark'!$B$20,5,2),LEFT('1 - Opstart Importark'!$B$28,3),IF(I167=\"\",\"\",\"-\"),I167,IF(K167=\"\",\"\",\"-\"),K167,IF(M167=\"\",\"\",\"-\"),M167),CONCATENATE(LEFT('1 - Opstart Importark'!$B$3,1),(LEFT('1 - Opstart Importark'!$B$15,5)),(LEFT('1 - Opstart Importark'!$B$18,3)),IF(I167=\"\",\"\",\"-\"),I167,IF(K167=\"\",\"\",\"-\"),K167,IF(M167=\"\",\"\",\"-\"),M167))))","v":""},null," ",{"$nulls":9},{"$f":"IF(LEN('1 - Opstart Importark'!$B$6)>0,'1 - Opstart Importark'!$B$6,\"\")","v":""},{"$f":"IF(LEN('1 - Opstart Importark'!$B$9)>0,'1 - Opstart Importark'!$B$9,\"\")","v":""},{"$f":"IF(LEN('1 - Opstart Importark'!$B$23)>0,'1 - Opstart Importark'!$B$23,\"\")","v":""},{"$nulls":14},"",{"$nulls":8},0,"","","objektnogle_"]
[156,null,{"$f":"IF('1 - Opstart Importark'!$B$6=\"\",\"\",(IF('1 - Opstart Importark'!$B$15=\"\",CONCATENATE(LEFT('1 - Opstart Importark'!$B$3,1),(LEFT('1 - Opstart Importark'!$B$20,5)),MID('1 - Opstart Importark'!$B$20,5,2),LEFT('1 - Opstart Importark'!$B$28,3),IF(I168=\"\",\"\",\"-\"),I168,IF(K168=\"\",\"\",\"-\"),K168,IF(M168=\"\",\"\",\"-\"),M168),CONCATENATE(LEFT('1 - Opstart Importark'!$B$3,1),(LEFT('1 - Opstart Importark'!$B$15,5)),(LEFT('1 - Opstart Importark'!$B$18,3)),IF(I168=\"\",\"\",\"-\"),I168,IF(K168=\"\",\"\",\"-\"),K168,IF(M168=\"\",\"\",\"-\"),M168))))","v":""},null," ",{"$nulls":9},{"$f":"IF(LEN('1 - Opstart Importark'!$B$6)>0,'1 - Opstart Importark'!$B$6,\"\")","v":""},{"$f":"IF(LEN('1 - Opstart Importark'!$B$9)>0,'1 - Opstart Importark'!$B$9,\"\")","v":""},{"$f":"IF(LEN('1 - Opstart Importark'!$B$23)>0,'1 - Opstart Importark'!$B$23,\"\")","v":""},{"$nulls":14},"",{"$nulls":8},0,"","","objektnogle_"]
[157,null,{"$f":"IF('1 - Opstart Importark'!$B$6=\"\",\"\",(IF('1 - Opstart Importark'!$B$15=\"\",CONCATENATE(LEFT('1 - Opstart Importark'!$B$3,1),(LEFT('1 - Opstart Importark'!$B$20,5)),MID('1 - Opstart Importark'!$B$20,5,2),LEFT('1 - Opstart Importark'!$B$28,3),IF(I169=\"\",\"\",\"-\"),I169,IF(K169=\"\",\"\",\"-\"),K169,IF(M169=\"\",\"\",\"-\"),M169),CONCATENATE(LEFT('1 - Opstart Importark'!$B$3,1),(LEFT('1 - Opstart Importark'!$B$15,5)),(LEFT('1 - Opstart Importark'!$B$18,3)),IF(I169=\"\",\"\",\"-\"),I169,IF(K169=\"\",\"\",\"-\"),K169,IF(M169=\"\",\"\",\"-\"),M169))))","v":""},null," ",{"$nulls":9},{"$f":"IF(LEN('1 - Opstart Importark'!$B$6)>0,'1 - Opstart Importark'!$B$6,\"\")","v":""},{"$f":"IF(LEN('1 - Opstart Importark'!$B$9)>0,'1 - Opstart Importark'!$B$9,\"\")","v":""},{"$f":"IF(LEN('1 - Opstart Importark'!$B$23)>0,'1 - Opstart Importark'!$B$23,\"\")","v":""},{"$nulls":14},"",{"$nulls":8},0,"","","objektnogle_"]
[158,null,{"$f":"IF('1 - Opstart Importark'!$B$6=\"\",\"\",(IF('1 - Opstart Importark'!$B$15=\"\",CONCATENATE(LEFT('1 - Opstart Importark'!$B$3,1),(LEFT('1 - Opstart Importark'!$B$20,5)),MID('1 - Opstart Importark'!$B$20,5,2),LEFT('1 - Opstart Importark'!$B$28,3),IF(I170=\"\",\"\",\"-\"),I170,IF(K170=\"\",\"\",\"-\"),K170,IF(M170=\"\",\"\",\"-\"),M170),CONCATENATE(LEFT('1 - Opstart Importark'!$B$3,1),(LEFT('1 - Opstart Importark'!$B$15,5)),(LEFT('1 - Opstart Importark'!$B$18,3)),IF(I170=\"\",\"\",\"-\"),I170,IF(K170=\"\",\"\",\"-\"),K170,IF(M170=\"\",\"\",\"-\"),M170))))","v":""},null," ",{"$nulls":9},{"$f":"IF(LEN('1 - Opstart Importark'!$B$6)>0,'1 - Opstart Importark'!$B$6,\"\")","v":""},{"$f":"IF(LEN('1 - Opstart Importark'!$B$9)>0,'1 - Opstart Importark'!$B$9,\"\")","v":""},{"$f":"IF(LEN('1 - Opstart Importark'!$B$23)>0,'1 - Opstart Importark'!$B$23,\"\")","v":""},{"$nulls":14},"",{"$nulls":8},0,"","","objektnogle_"]
[159,null,{"$f":"IF('1 - Opstart Importark'!$B$6=\"\",\"\",(IF('1 - Opstart Importark'!$B$15=\"\",CONCATENATE(LEFT('1 - Opstart Importark'!$B$3,1),(LEFT('1 - Opstart Importark'!$B$20,5)),MID('1 - Opstart Importark'!$B$20,5,2),LEFT('1 - Opstart Importark'!$B$28,3),IF(I171=\"\",\"\",\"-\"),I171,IF(K171=\"\",\"\",\"-\"),K171,IF(M171=\"\",\"\",\"-\"),M171),CONCATENATE(LEFT('1 - Opstart Importark'!$B$3,1),(LEFT('1 - Opstart Importark'!$B$15,5)),(LEFT('1 - Opstart Importark'!$B$18,3)),IF(I171=\"\",\"\",\"-\"),I171,IF(K171=\"\",\"\",\"-\"),K171,IF(M171=\"\",\"\",\"-\"),M171))))","v":""},null," ",{"$nulls":9},{"$f":"IF(LEN('1 - Opstart Importark'!$B$6)>0,'1 - Opstart Importark'!$B$6,\"\")","v":""},{"$f":"IF(LEN('1 - Opstart Importark'!$B$9)>0,'1 - Opstart Importark'!$B$9,\"\")","v":""},{"$f":"IF(LEN('1 - Opstart Importark'!$B$23)>0,'1 - Opstart Importark'!$B$23,\"\")","v":""},{"$nulls":14},"",{"$nulls":8},0,"","","objektnogle_"]
[160,null,{"$f":"IF('1 - Opstart Importark'!$B$6=\"\",\"\",(IF('1 - Opstart Importark'!$B$15=\"\",CONCATENATE(LEFT('1 - Opstart Importark'!$B$3,1),(LEFT('1 - Opstart Importark'!$B$20,5)),MID('1 - Opstart Importark'!$B$20,5,2),LEFT('1 - Opstart Importark'!$B$28,3),IF(I172=\"\",\"\",\"-\"),I172,IF(K172=\"\",\"\",\"-\"),K172,IF(M172=\"\",\"\",\"-\"),M172),CONCATENATE(LEFT('1 - Opstart Importark'!$B$3,1),(LEFT('1 - Opstart Importark'!$B$15,5)),(LEFT('1 - Opstart Importark'!$B$18,3)),IF(I172=\"\",\"\",\"-\"),I172,IF(K172=\"\",\"\",\"-\"),K172,IF(M172=\"\",\"\",\"-\"),M172))))","v":""},null," ",{"$nulls":9},{"$f":"IF(LEN('1 - Opstart Importark'!$B$6)>0,'1 - Opstart Importark'!$B$6,\"\")","v":""},{"$f":"IF(LEN('1 - Opstart Importark'!$B$9)>0,'1 - Opstart Importark'!$B$9,\"\")","v":""},{"$f":"IF(LEN('1 - Opstart Importark'!$B$23)>0,'1 - Opstart Importark'!$B$23,\"\")","v":""},{"$nulls":14},"",{"$nulls":8},0,"","","objektnogle_"]
[161,null,{"$f":"IF('1 - Opstart Importark'!$B$6=\"\",\"\",(IF('1 - Opstart Importark'!$B$15=\"\",CONCATENATE(LEFT('1 - Opstart Importark'!$B$3,1),(LEFT('1 - Opstart Importark'!$B$20,5)),MID('1 - Opstart Importark'!$B$20,5,2),LEFT('1 - Opstart Importark'!$B$28,3),IF(I173=\"\",\"\",\"-\"),I173,IF(K173=\"\",\"\",\"-\"),K173,IF(M173=\"\",\"\",\"-\"),M173),CONCATENATE(LEFT('1 - Opstart Importark'!$B$3,1),(LEFT('1 - Opstart Importark'!$B$15,5)),(LEFT('1 - Opstart Importark'!$B$18,3)),IF(I173=\"\",\"\",\"-\"),I173,IF(K173=\"\",\"\",\"-\"),K173,IF(M173=\"\",\"\",\"-\"),M173))))","v":""},null," ",{"$nulls":9},{"$f":"IF(LEN('1 - Opstart Importark'!$B$6)>0,'1 - Opstart Importark'!$B$6,\"\")","v":""},{"$f":"IF(LEN('1 - Opstart Importark'!$B$9)>0,'1 - Opstart Importark'!$B$9,\"\")","v":""},{"$f":"IF(LEN('1 - Opstart Importark'!$B$23)>0,'1 - Opstart Importark'!$B$23,\"\")","v":""},{"$nulls":14},"",{"$nulls":8},0,"","","objektnogle_"]
[162,null,{"$f":"IF('1 - Opstart Importark'!$B$6=\"\",\"\",(IF('1 - Opstart Importark'!$B$15=\"\",CONCATENATE(LEFT('1 - Opstart Importark'!$B$3,1),(LEFT('1 - Opstart Importark'!$B$20,5)),MID('1 - Opstart Importark'!$B$20,5,2),LEFT('1 - Opstart Importark'!$B$28,3),IF(I174=\"\",\"\",\"-\"),I174,IF(K174=\"\",\"\",\"-\"),K174,IF(M174=\"\",\"\",\"-\"),M174),CONCATENATE(LEFT('1 - Opstart Importark'!$B$3,1),(LEFT('1 - Opstart Importark'!$B$15,5)),(LEFT('1 - Opstart Importark'!$B$18,3)),IF(I174=\"\",\"\",\"-\"),I174,IF(K174=\"\",\"\",\"-\"),K174,IF(M174=\"\",\"\",\"-\"),M174))))","v":""},null," ",{"$nulls":9},{"$f":"IF(LEN('1 - Opstart Importark'!$B$6)>0,'1 - Opstart Importark'!$B$6,\"\")","v":""},{"$f":"IF(LEN('1 - Opstart Importark'!$B$9)>0,'1 - Opstart Importark'!$B$9,\"\")","v":""},{"$f":"IF(LEN('1 - Opstart Importark'!$B$23)>0,'1 - Opstart Importark'!$B$23,\"\")","v":""},{"$nulls":14},"",{"$nulls":8},0,"","","objektnogle_"]
[163,null,{"$f":"IF('1 - Opstart Importark'!$B$6=\"\",\"\",(IF('1 - Opstart Importark'!$B$15=\"\",CONCATENATE(LEFT('1 - Opstart Importark'!$B$3,1),(LEFT('1 - Opstart Importark'!$B$20,5)),MID('1 - Opstart Importark'!$B$20,5,2),LEFT('1 - Opstart Importark'!$B$28,3),IF(I175=\"\",\"\",\"-\"),I175,IF(K175=\"\",\"\",\"-\"),K175,IF(M175=\"\",\"\",\"-\"),M175),CONCATENATE(LEFT('1 - Opstart Importark'!$B$3,1),(LEFT('1 - Opstart Importark'!$B$15,5)),(LEFT('1 - Opstart Importark'!$B$18,3)),IF(I175=\"\",\"\",\"-\"),I175,IF(K175=\"\",\"\",\"-\"),K175,IF(M175=\"\",\"\",\"-\"),M175))))","v":""},null," ",{"$nulls":9},{"$f":"IF(LEN('1 - Opstart Importark'!$B$6)>0,'1 - Opstart Importark'!$B$6,\"\")","v":""},{"$f":"IF(LEN('1 - Opstart Importark'!$B$9)>0,'1 - Opstart Importark'!$B$9,\"\")","v":""},{"$f":"IF(LEN('1 - Opstart Importark'!$B$23)>0,'1 - Opstart Importark'!$B$23,\"\")","v":""},{"$nulls":14},"",{"$nulls":8},0,"","","objektnogle_"]
[164,null,{"$f":"IF('1 - Opstart Importark'!$B$6=\"\",\"\",(IF('1 - Opstart Importark'!$B$15=\"\",CONCATENATE(LEFT('1 - Opstart Importark'!$B$3,1),(LEFT('1 - Opstart Importark'!$B$20,5)),MID('1 - Opstart Importark'!$B$20,5,2),LEFT('1 - Opstart Importark'!$B$28,3),IF(I176=\"\",\"\",\"-\"),I176,IF(K176=\"\",\"\",\"-\"),K176,IF(M176=\"\",\"\",\"-\"),M176),CONCATENATE(LEFT('1 - Opstart Importark'!$B$3,1),(LEFT('1 - Opstart Importark'!$B$15,5)),(LEFT('1 - Opstart Importark'!$B$18,3)),IF(I176=\"\",\"\",\"-\"),I176,IF(K176=\"\",\"\",\"-\"),K176,IF(M176=\"\",\"\",\"-\"),M176))))","v":""},null," ",{"$nulls":9},{"$f":"IF(LEN('1 - Opstart Importark'!$B$6)>0,'1 - Opstart Importark'!$B$6,\"\")","v":""},{"$f":"IF(LEN('1 - Opstart Importark'!$B$9)>0,'1 - Opstart Importark'!$B$9,\"\")","v":""},{"$f":"IF(LEN('1 - Opstart Importark'!$B$23)>0,'1 - Opstart Importark'!$B$23,\"\")","v":""},{"$nulls":14},"",{"$nulls":8},0,"","","objektnogle_"]
[165,null,{"$f":"IF('1 - Opstart Importark'!$B$6=\"\",\"\",(IF('1 - Opstart Importark'!$B$15=\"\",CONCATENATE(LEFT('1 - Opstart Importark'!$B$3,1),(LEFT('1 - Opstart Importark'!$B$20,5)),MID('1 - Opstart Importark'!$B$20,5,2),LEFT('1 - Opstart Importark'!$B$28,3),IF(I177=\"\",\"\",\"-\"),I177,IF(K177=\"\",\"\",\"-\"),K177,IF(M177=\"\",\"\",\"-\"),M177),CONCATENATE(LEFT('1 - Opstart Importark'!$B$3,1),(LEFT('1 - Opstart Importark'!$B$15,5)),(LEFT('1 - Opstart Importark'!$B$18,3)),IF(I177=\"\",\"\",\"-\"),I177,IF(K177=\"\",\"\",\"-\"),K177,IF(M177=\"\",\"\",\"-\"),M177))))","v":""},null," ",{"$nulls":9},{"$f":"IF(LEN('1 - Opstart Importark'!$B$6)>0,'1 - Opstart Importark'!$B$6,\"\")","v":""},{"$f":"IF(LEN('1 - Opstart Importark'!$B$9)>0,'1 - Opstart Importark'!$B$9,\"\")","v":""},{"$f":"IF(LEN('1 - Opstart Importark'!$B$23)>0,'1 - Opstart Importark'!$B$23,\"\")","v":""},{"$nulls":14},"",{"$nulls":8},0,"","","objektnogle_"]
[166,null,{"$f":"IF('1 - Opstart Importark'!$B$6=\"\",\"\",(IF('1 - Opstart Importark'!$B$15=\"\",CONCATENATE(LEFT('1 - Opstart Importark'!$B$3,1),(LEFT('1 - Opstart Importark'!$B$20,5)),MID('1 - Opstart Importark'!$B$20,5,2),LEFT('1 - Opstart Importark'!$B$28,3),IF(I178=\"\",\"\",\"-\"),I178,IF(K178=\"\",\"\",\"-\"),K178,IF(M178=\"\",\"\",\"-\"),M178),CONCATENATE(LEFT('1 - Opstart Importark'!$B$3,1),(LEFT('1 - Opstart Importark'!$B$15,5)),(LEFT('1 - Opstart Importark'!$B$18,3)),IF(I178=\"\",\"\",\"-\"),I178,IF(K178=\"\",\"\",\"-\"),K178,IF(M178=\"\",\"\",\"-\"),M178))))","v":""},null," ",{"$nulls":9},{"$f":"IF(LEN('1 - Opstart Importark'!$B$6)>0,'1 - Opstart Importark'!$B$6,\"\")","v":""},{"$f":"IF(LEN('1 - Opstart Importark'!$B$9)>0,'1 - Opstart Importark'!$B$9,\"\")","v":""},{"$f":"IF(LEN('1 - Opstart Importark'!$B$23)>0,'1 - Opstart Importark'!$B$23,\"\")","v":""},{"$nulls":14},"",{"$nulls":8},0,"","","objektnogle_"]
[167,null,{"$f":"IF('1 - Opstart Importark'!$B$6=\"\",\"\",(IF('1 - Opstart Importark'!$B$15=\"\",CONCATENATE(LEFT('1 - Opstart Importark'!$B$3,1),(LEFT('1 - Opstart Importark'!$B$20,5)),MID('1 - Opstart Importark'!$B$20,5,2),LEFT('1 - Opstart Importark'!$B$28,3),IF(I179=\"\",\"\",\"-\"),I179,IF(K179=\"\",\"\",\"-\"),K179,IF(M179=\"\",\"\",\"-\"),M179),CONCATENATE(LEFT('1 - Opstart Importark'!$B$3,1),(LEFT('1 - Opstart Importark'!$B$15,5)),(LEFT('1 - Opstart Importark'!$B$18,3)),IF(I179=\"\",\"\",\"-\"),I179,IF(K179=\"\",\"\",\"-\"),K179,IF(M179=\"\",\"\",\"-\"),M179))))","v":""},null," ",{"$nulls":9},{"$f":"IF(LEN('1 - Opstart Importark'!$B$6)>0,'1 - Opstart Importark'!$B$6,\"\")","v":""},{"$f":"IF(LEN('1 - Opstart Importark'!$B$9)>0,'1 - Opstart Importark'!$B$9,\"\")","v":""},{"$f":"IF(LEN('1 - Opstart Importark'!$B$23)>0,'1 - Opstart Importark'!$B$23,\"\")","v":""},{"$nulls":14},"",{"$nulls":8},0,"","","objektnogle_"]
[168,null,{"$f":"IF('1 - Opstart Importark'!$B$6=\"\",\"\",(IF('1 - Opstart Importark'!$B$15=\"\",CONCATENATE(LEFT('1 - Opstart Importark'!$B$3,1),(LEFT('1 - Opstart Importark'!$B$20,5)),MID('1 - Opstart Importark'!$B$20,5,2),LEFT('1 - Opstart Importark'!$B$28,3),IF(I180=\"\",\"\",\"-\"),I180,IF(K180=\"\",\"\",\"-\"),K180,IF(M180=\"\",\"\",\"-\"),M180),CONCATENATE(LEFT('1 - Opstart Importark'!$B$3,1),(LEFT('1 - Opstart Importark'!$B$15,5)),(LEFT('1 - Opstart Importark'!$B$18,3)),IF(I180=\"\",\"\",\"-\"),I180,IF(K180=\"\",\"\",\"-\"),K180,IF(M180=\"\",\"\",\"-\"),M180))))","v":""},null," ",{"$nulls":9},{"$f":"IF(LEN('1 - Opstart Importark'!$B$6)>0,'1 - Opstart Importark'!$B$6,\"\")","v":""},{"$f":"IF(LEN('1 - Opstart Importark'!$B$9)>0,'1 - Opstart Importark'!$B$9,\"\")","v":""},{"$f":"IF(LEN('1 - Opstart Importark'!$B$23)>0,'1 - Opstart Importark'!$B$23,\"\")","v":""},{"$nulls":14},"",{"$nulls":8},0,"","","objektnogle_"]
[169,null,{"$f":"IF('1 - Opstart Importark'!$B$6=\"\",\"\",(IF('1 - Opstart Importark'!$B$15=\"\",CONCATENATE(LEFT('1 - Opstart Importark'!$B$3,1),(LEFT('1 - Opstart Importark'!$B$20,5)),MID('1 - Opstart Importark'!$B$20,5,2),LEFT('1 - Opstart Importark'!$B$28,3),IF(I181=\"\",\"\",\"-\"),I181,IF(K181=\"\",\"\",\"-\"),K181,IF(M181=\"\",\"\",\"-\"),M181),CONCATENATE(LEFT('1 - Opstart Importark'!$B$3,1),(LEFT('1 - Opstart Importark'!$B$15,5)),(LEFT('1 - Opstart Importark'!$B$18,3)),IF(I181=\"\",\"\",\"-\"),I181,IF(K181=\"\",\"\",\"-\"),K181,IF(M181=\"\",\"\",\"-\"),M181))))","v":""},null," ",{"$nulls":9},{"$f":"IF(LEN('1 - Opstart Importark'!$B$6)>0,'1 - Opstart Importark'!$B$6,\"\")","v":""},{"$f":"IF(LEN('1 - Opstart Importark'!$B$9)>0,'1 - Opstart Importark'!$B$9,\"\")","v":""},{"$f":"IF(LEN('1 - Opstart Importark'!$B$23)>0,'1 - Opstart Importark'!$B$23,\"\")","v":""},{"$nulls":14},"",{"$nulls":8},0,"","","objektnogle_"]
[170,null,{"$f":"IF('1 - Opstart Importark'!$B$6=\"\",\"\",(IF('1 - Opstart Importark'!$B$15=\"\",CONCATENATE(LEFT('1 - Opstart Importark'!$B$3,1),(LEFT('1 - Opstart Importark'!$B$20,5)),MID('1 - Opstart Importark'!$B$20,5,2),LEFT('1 - Opstart Importark'!$B$28,3),IF(I182=\"\",\"\",\"-\"),I182,IF(K182=\"\",\"\",\"-\"),K182,IF(M182=\"\",\"\",\"-\"),M182),CONCATENATE(LEFT('1 - Opstart Importark'!$B$3,1),(LEFT('1 - Opstart Importark'!$B$15,5)),(LEFT('1 - Opstart Importark'!$B$18,3)),IF(I182=\"\",\"\",\"-\"),I182,IF(K182=\"\",\"\",\"-\"),K182,IF(M182=\"\",\"\",\"-\"),M182))))","v":""},null," ",{"$nulls":9},{"$f":"IF(LEN('1 - Opstart Importark'!$B$6)>0,'1 - Opstart Importark'!$B$6,\"\")","v":""},{"$f":"IF(LEN('1 - Opstart Importark'!$B$9)>0,'1 - Opstart Importark'!$B$9,\"\")","v":""},{"$f":"IF(LEN('1 - Opstart Importark'!$B$23)>0,'1 - Opstart Importark'!$B$23,\"\")","v":""},{"$nulls":14},"",{"$nulls":8},0,"","","objektnogle_"]
[171,null,{"$f":"IF('1 - Opstart Importark'!$B$6=\"\",\"\",(IF('1 - Opstart Importark'!$B$15=\"\",CONCATENATE(LEFT('1 - Opstart Importark'!$B$3,1),(LEFT('1 - Opstart Importark'!$B$20,5)),MID('1 - Opstart Importark'!$B$20,5,2),LEFT('1 - Opstart Importark'!$B$28,3),IF(I183=\"\",\"\",\"-\"),I183,IF(K183=\"\",\"\",\"-\"),K183,IF(M183=\"\",\"\",\"-\"),M183),CONCATENATE(LEFT('1 - Opstart Importark'!$B$3,1),(LEFT('1 - Opstart Importark'!$B$15,5)),(LEFT('1 - Opstart Importark'!$B$18,3)),IF(I183=\"\",\"\",\"-\"),I183,IF(K183=\"\",\"\",\"-\"),K183,IF(M183=\"\",\"\",\"-\"),M183))))","v":""},null," ",{"$nulls":9},{"$f":"IF(LEN('1 - Opstart Importark'!$B$6)>0,'1 - Opstart Importark'!$B$6,\"\")","v":""},{"$f":"IF(LEN('1 - Opstart Importark'!$B$9)>0,'1 - Opstart Importark'!$B$9,\"\")","v":""},{"$f":"IF(LEN('1 - Opstart Importark'!$B$23)>0,'1 - Opstart Importark'!$B$23,\"\")","v":""},{"$nulls":14},"",{"$nulls":8},0,"","","objektnogle_"]
[172,null,{"$f":"IF('1 - Opstart Importark'!$B$6=\"\",\"\",(IF('1 - Opstart Importark'!$B$15=\"\",CONCATENATE(LEFT('1 - Opstart Importark'!$B$3,1),(LEFT('1 - Opstart Importark'!$B$20,5)),MID('1 - Opstart Importark'!$B$20,5,2),LEFT('1 - Opstart Importark'!$B$28,3),IF(I184=\"\",\"\",\"-\"),I184,IF(K184=\"\",\"\",\"-\"),K184,IF(M184=\"\",\"\",\"-\"),M184),CONCATENATE(LEFT('1 - Opstart Importark'!$B$3,1),(LEFT('1 - Opstart Importark'!$B$15,5)),(LEFT('1 - Opstart Importark'!$B$18,3)),IF(I184=\"\",\"\",\"-\"),I184,IF(K184=\"\",\"\",\"-\"),K184,IF(M184=\"\",\"\",\"-\"),M184))))","v":""},null," ",{"$nulls":9},{"$f":"IF(LEN('1 - Opstart Importark'!$B$6)>0,'1 - Opstart Importark'!$B$6,\"\")","v":""},{"$f":"IF(LEN('1 - Opstart Importark'!$B$9)>0,'1 - Opstart Importark'!$B$9,\"\")","v":""},{"$f":"IF(LEN('1 - Opstart Importark'!$B$23)>0,'1 - Opstart Importark'!$B$23,\"\")","v":""},{"$nulls":14},"",{"$nulls":8},0,"","","objektnogle_"]
[173,null,{"$f":"IF('1 - Opstart Importark'!$B$6=\"\",\"\",(IF('1 - Opstart Importark'!$B$15=\"\",CONCATENATE(LEFT('1 - Opstart Importark'!$B$3,1),(LEFT('1 - Opstart Importark'!$B$20,5)),MID('1 - Opstart Importark'!$B$20,5,2),LEFT('1 - Opstart Importark'!$B$28,3),IF(I185=\"\",\"\",\"-\"),I185,IF(K185=\"\",\"\",\"-\"),K185,IF(M185=\"\",\"\",\"-\"),M185),CONCATENATE(LEFT('1 - Opstart Importark'!$B$3,1),(LEFT('1 - Opstart Importark'!$B$15,5)),(LEFT('1 - Opstart Importark'!$B$18,3)),IF(I185=\"\",\"\",\"-\"),I185,IF(K185=\"\",\"\",\"-\"),K185,IF(M185=\"\",\"\",\"-\"),M185))))","v":""},null," ",{"$nulls":9},{"$f":"IF(LEN('1 - Opstart Importark'!$B$6)>0,'1 - Opstart Importark'!$B$6,\"\")","v":""},{"$f":"IF(LEN('1 - Opstart Importark'!$B$9)>0,'1 - Opstart Importark'!$B$9,\"\")","v":""},{"$f":"IF(LEN('1 - Opstart Importark'!$B$23)>0,'1 - Opstart Importark'!$B$23,\"\")","v":""},{"$nulls":14},"",{"$nulls":8},0,"","","objektnogle_"]
[174,null,{"$f":"IF('1 - Opstart Importark'!$B$6=\"\",\"\",(IF('1 - Opstart Importark'!$B$15=\"\",CONCATENATE(LEFT('1 - Opstart Importark'!$B$3,1),(LEFT('1 - Opstart Importark'!$B$20,5)),MID('1 - Opstart Importark'!$B$20,5,2),LEFT('1 - Opstart Importark'!$B$28,3),IF(I186=\"\",\"\",\"-\"),I186,IF(K186=\"\",\"\",\"-\"),K186,IF(M186=\"\",\"\",\"-\"),M186),CONCATENATE(LEFT('1 - Opstart Importark'!$B$3,1),(LEFT('1 - Opstart Importark'!$B$15,5)),(LEFT('1 - Opstart Importark'!$B$18,3)),IF(I186=\"\",\"\",\"-\"),I186,IF(K186=\"\",\"\",\"-\"),K186,IF(M186=\"\",\"\",\"-\"),M186))))","v":""},null," ",{"$nulls":9},{"$f":"IF(LEN('1 - Opstart Importark'!$B$6)>0,'1 - Opstart Importark'!$B$6,\"\")","v":""},{"$f":"IF(LEN('1 - Opstart Importark'!$B$9)>0,'1 - Opstart Importark'!$B$9,\"\")","v":""},{"$f":"IF(LEN('1 - Opstart Importark'!$B$23)>0,'1 - Opstart Importark'!$B$23,\"\")","v":""},{"$nulls":14},"",{"$nulls":8},0,"","","objektnogle_"]
[175,null,{"$f":"IF('1 - Opstart Importark'!$B$6=\"\",\"\",(IF('1 - Opstart Importark'!$B$15=\"\",CONCATENATE(LEFT('1 - Opstart Importark'!$B$3,1),(LEFT('1 - Opstart Importark'!$B$20,5)),MID('1 - Opstart Importark'!$B$20,5,2),LEFT('1 - Opstart Importark'!$B$28,3),IF(I187=\"\",\"\",\"-\"),I187,IF(K187=\"\",\"\",\"-\"),K187,IF(M187=\"\",\"\",\"-\"),M187),CONCATENATE(LEFT('1 - Opstart Importark'!$B$3,1),(LEFT('1 - Opstart Importark'!$B$15,5)),(LEFT('1 - Opstart Importark'!$B$18,3)),IF(I187=\"\",\"\",\"-\"),I187,IF(K187=\"\",\"\",\"-\"),K187,IF(M187=\"\",\"\",\"-\"),M187))))","v":""},null," ",{"$nulls":9},{"$f":"IF(LEN('1 - Opstart Importark'!$B$6)>0,'1 - Opstart Importark'!$B$6,\"\")","v":""},{"$f":"IF(LEN('1 - Opstart Importark'!$B$9)>0,'1 - Opstart Importark'!$B$9,\"\")","v":""},{"$f":"IF(LEN('1 - Opstart Importark'!$B$23)>0,'1 - Opstart Importark'!$B$23,\"\")","v":""},{"$nulls":14},"",{"$nulls":8},0,"","","objektnogle_"]
[176,null,{"$f":"IF('1 - Opstart Importark'!$B$6=\"\",\"\",(IF('1 - Opstart Importark'!$B$15=\"\",CONCATENATE(LEFT('1 - Opstart Importark'!$B$3,1),(LEFT('1 - Opstart Importark'!$B$20,5)),MID('1 - Opstart Importark'!$B$20,5,2),LEFT('1 - Opstart Importark'!$B$28,3),IF(I188=\"\",\"\",\"-\"),I188,IF(K188=\"\",\"\",\"-\"),K188,IF(M188=\"\",\"\",\"-\"),M188),CONCATENATE(LEFT('1 - Opstart Importark'!$B$3,1),(LEFT('1 - Opstart Importark'!$B$15,5)),(LEFT('1 - Opstart Importark'!$B$18,3)),IF(I188=\"\",\"\",\"-\"),I188,IF(K188=\"\",\"\",\"-\"),K188,IF(M188=\"\",\"\",\"-\"),M188))))","v":""},null," ",{"$nulls":9},{"$f":"IF(LEN('1 - Opstart Importark'!$B$6)>0,'1 - Opstart Importark'!$B$6,\"\")","v":""},{"$f":"IF(LEN('1 - Opstart Importark'!$B$9)>0,'1 - Opstart Importark'!$B$9,\"\")","v":""},{"$f":"IF(LEN('1 - Opstart Importark'!$B$23)>0,'1 - Opstart Importark'!$B$23,\"\")","v":""},{"$nulls":14},"",{"$nulls":8},0,"","","objektnogle_"]
[177,null,{"$f":"IF('1 - Opstart Importark'!$B$6=\"\",\"\",(IF('1 - Opstart Importark'!$B$15=\"\",CONCATENATE(LEFT('1 - Opstart Importark'!$B$3,1),(LEFT('1 - Opstart Importark'!$B$20,5)),MID('1 - Opstart Importark'!$B$20,5,2),LEFT('1 - Opstart Importark'!$B$28,3),IF(I189=\"\",\"\",\"-\"),I189,IF(K189=\"\",\"\",\"-\"),K189,IF(M189=\"\",\"\",\"-\"),M189),CONCATENATE(LEFT('1 - Opstart Importark'!$B$3,1),(LEFT('1 - Opstart Importark'!$B$15,5)),(LEFT('1 - Opstart Importark'!$B$18,3)),IF(I189=\"\",\"\",\"-\"),I189,IF(K189=\"\",\"\",\"-\"),K189,IF(M189=\"\",\"\",\"-\"),M189))))","v":""},null," ",{"$nulls":9},{"$f":"IF(LEN('1 - Opstart Importark'!$B$6)>0,'1 - Opstart Importark'!$B$6,\"\")","v":""},{"$f":"IF(LEN('1 - Opstart Importark'!$B$9)>0,'1 - Opstart Importark'!$B$9,\"\")","v":""},{"$f":"IF(LEN('1 - Opstart Importark'!$B$23)>0,'1 - Opstart Importark'!$B$23,\"\")","v":""},{"$nulls":14},"",{"$nulls":8},0,"","","objektnogle_"]
[178,null,{"$f":"IF('1 - Opstart Importark'!$B$6=\"\",\"\",(IF('1 - Opstart Importark'!$B$15=\"\",CONCATENATE(LEFT('1 - Opstart Importark'!$B$3,1),(LEFT('1 - Opstart Importark'!$B$20,5)),MID('1 - Opstart Importark'!$B$20,5,2),LEFT('1 - Opstart Importark'!$B$28,3),IF(I190=\"\",\"\",\"-\"),I190,IF(K190=\"\",\"\",\"-\"),K190,IF(M190=\"\",\"\",\"-\"),M190),CONCATENATE(LEFT('1 - Opstart Importark'!$B$3,1),(LEFT('1 - Opstart Importark'!$B$15,5)),(LEFT('1 - Opstart Importark'!$B$18,3)),IF(I190=\"\",\"\",\"-\"),I190,IF(K190=\"\",\"\",\"-\"),K190,IF(M190=\"\",\"\",\"-\"),M190))))","v":""},null," ",{"$nulls":9},{"$f":"IF(LEN('1 - Opstart Importark'!$B$6)>0,'1 - Opstart Importark'!$B$6,\"\")","v":""},{"$f":"IF(LEN('1 - Opstart Importark'!$B$9)>0,'1 - Opstart Importark'!$B$9,\"\")","v":""},{"$f":"IF(LEN('1 - Opstart Importark'!$B$23)>0,'1 - Opstart Importark'!$B$23,\"\")","v":""},{"$nulls":14},"",{"$nulls":8},0,"","","objektnogle_"]
[179,null,{"$f":"IF('1 - Opstart Importark'!$B$6=\"\",\"\",(IF('1 - Opstart Importark'!$B$15=\"\",CONCATENATE(LEFT('1 - Opstart Importark'!$B$3,1),(LEFT('1 - Opstart Importark'!$B$20,5)),MID('1 - Opstart Importark'!$B$20,5,2),LEFT('1 - Opstart Importark'!$B$28,3),IF(I191=\"\",\"\",\"-\"),I191,IF(K191=\"\",\"\",\"-\"),K191,IF(M191=\"\",\"\",\"-\"),M191),CONCATENATE(LEFT('1 - Opstart Importark'!$B$3,1),(LEFT('1 - Opstart Importark'!$B$15,5)),(LEFT('1 - Opstart Importark'!$B$18,3)),IF(I191=\"\",\"\",\"-\"),I191,IF(K191=\"\",\"\",\"-\"),K191,IF(M191=\"\",\"\",\"-\"),M191))))","v":""},null," ",{"$nulls":9},{"$f":"IF(LEN('1 - Opstart Importark'!$B$6)>0,'1 - Opstart Importark'!$B$6,\"\")","v":""},{"$f":"IF(LEN('1 - Opstart Importark'!$B$9)>0,'1 - Opstart Importark'!$B$9,\"\")","v":""},{"$f":"IF(LEN('1 - Opstart Importark'!$B$23)>0,'1 - Opstart Importark'!$B$23,\"\")","v":""},{"$nulls":14},"",{"$nulls":8},0,"","","objektnogle_"]
[180,null,{"$f":"IF('1 - Opstart Importark'!$B$6=\"\",\"\",(IF('1 - Opstart Importark'!$B$15=\"\",CONCATENATE(LEFT('1 - Opstart Importark'!$B$3,1),(LEFT('1 - Opstart Importark'!$B$20,5)),MID('1 - Opstart Importark'!$B$20,5,2),LEFT('1 - Opstart Importark'!$B$28,3),IF(I192=\"\",\"\",\"-\"),I192,IF(K192=\"\",\"\",\"-\"),K192,IF(M192=\"\",\"\",\"-\"),M192),CONCATENATE(LEFT('1 - Opstart Importark'!$B$3,1),(LEFT('1 - Opstart Importark'!$B$15,5)),(LEFT('1 - Opstart Importark'!$B$18,3)),IF(I192=\"\",\"\",\"-\"),I192,IF(K192=\"\",\"\",\"-\"),K192,IF(M192=\"\",\"\",\"-\"),M192))))","v":""},null," ",{"$nulls":9},{"$f":"IF(LEN('1 - Opstart Importark'!$B$6)>0,'1 - Opstart Importark'!$B$6,\"\")","v":""},{"$f":"IF(LEN('1 - Opstart Importark'!$B$9)>0,'1 - Opstart Importark'!$B$9,\"\")","v":""},{"$f":"IF(LEN('1 - Opstart Importark'!$B$23)>0,'1 - Opstart Importark'!$B$23,\"\")","v":""},{"$nulls":14},"",{"$nulls":8},0,"","","objektnogle_"]
[181,null,{"$f":"IF('1 - Opstart Importark'!$B$6=\"\",\"\",(IF('1 - Opstart Importark'!$B$15=\"\",CONCATENATE(LEFT('1 - Opstart Importark'!$B$3,1),(LEFT('1 - Opstart Importark'!$B$20,5)),MID('1 - Opstart Importark'!$B$20,5,2),LEFT('1 - Opstart Importark'!$B$28,3),IF(I193=\"\",\"\",\"-\"),I193,IF(K193=\"\",\"\",\"-\"),K193,IF(M193=\"\",\"\",\"-\"),M193),CONCATENATE(LEFT('1 - Opstart Importark'!$B$3,1),(LEFT('1 - Opstart Importark'!$B$15,5)),(LEFT('1 - Opstart Importark'!$B$18,3)),IF(I193=\"\",\"\",\"-\"),I193,IF(K193=\"\",\"\",\"-\"),K193,IF(M193=\"\",\"\",\"-\"),M193))))","v":""},null," ",{"$nulls":9},{"$f":"IF(LEN('1 - Opstart Importark'!$B$6)>0,'1 - Opstart Importark'!$B$6,\"\")","v":""},{"$f":"IF(LEN('1 - Opstart Importark'!$B$9)>0,'1 - Opstart Importark'!$B$9,\"\")","v":""},{"$f":"IF(LEN('1 - Opstart Importark'!$B$23)>0,'1 - Opstart Importark'!$B$23,\"\")","v":""},{"$nulls":14},"",{"$nulls":8},0,"","","objektnogle_"]
[182,null,{"$f":"IF('1 - Opstart Importark'!$B$6=\"\",\"\",(IF('1 - Opstart Importark'!$B$15=\"\",CONCATENATE(LEFT('1 - Opstart Importark'!$B$3,1),(LEFT('1 - Opstart Importark'!$B$20,5)),MID('1 - Opstart Importark'!$B$20,5,2),LEFT('1 - Opstart Importark'!$B$28,3),IF(I194=\"\",\"\",\"-\"),I194,IF(K194=\"\",\"\",\"-\"),K194,IF(M194=\"\",\"\",\"-\"),M194),CONCATENATE(LEFT('1 - Opstart Importark'!$B$3,1),(LEFT('1 - Opstart Importark'!$B$15,5)),(LEFT('1 - Opstart Importark'!$B$18,3)),IF(I194=\"\",\"\",\"-\"),I194,IF(K194=\"\",\"\",\"-\"),K194,IF(M194=\"\",\"\",\"-\"),M194))))","v":""},null," ",{"$nulls":9},{"$f":"IF(LEN('1 - Opstart Importark'!$B$6)>0,'1 - Opstart Importark'!$B$6,\"\")","v":""},{"$f":"IF(LEN('1 - Opstart Importark'!$B$9)>0,'1 - Opstart Importark'!$B$9,\"\")","v":""},{"$f":"IF(LEN('1 - Opstart Importark'!$B$23)>0,'1 - Opstart Importark'!$B$23,\"\")","v":""},{"$nulls":14},"",{"$nulls":8},0,"","","objektnogle_"]
[183,null,{"$f":"IF('1 - Opstart Importark'!$B$6=\"\",\"\",(IF('1 - Opstart Importark'!$B$15=\"\",CONCATENATE(LEFT('1 - Opstart Importark'!$B$3,1),(LEFT('1 - Opstart Importark'!$B$20,5)),MID('1 - Opstart Importark'!$B$20,5,2),LEFT('1 - Opstart Importark'!$B$28,3),IF(I195=\"\",\"\",\"-\"),I195,IF(K195=\"\",\"\",\"-\"),K195,IF(M195=\"\",\"\",\"-\"),M195),CONCATENATE(LEFT('1 - Opstart Importark'!$B$3,1),(LEFT('1 - Opstart Importark'!$B$15,5)),(LEFT('1 - Opstart Importark'!$B$18,3)),IF(I195=\"\",\"\",\"-\"),I195,IF(K195=\"\",\"\",\"-\"),K195,IF(M195=\"\",\"\",\"-\"),M195))))","v":""},null," ",{"$nulls":9},{"$f":"IF(LEN('1 - Opstart Importark'!$B$6)>0,'1 - Opstart Importark'!$B$6,\"\")","v":""},{"$f":"IF(LEN('1 - Opstart Importark'!$B$9)>0,'1 - Opstart Importark'!$B$9,\"\")","v":""},{"$f":"IF(LEN('1 - Opstart Importark'!$B$23)>0,'1 - Opstart Importark'!$B$23,\"\")","v":""},{"$nulls":14},"",{"$nulls":8},0,"","","objektnogle_"]
[184,null,{"$f":"IF('1 - Opstart Importark'!$B$6=\"\",\"\",(IF('1 - Opstart Importark'!$B$15=\"\",CONCATENATE(LEFT('1 - Opstart Importark'!$B$3,1),(LEFT('1 - Opstart Importark'!$B$20,5)),MID('1 - Opstart Importark'!$B$20,5,2),LEFT('1 - Opstart Importark'!$B$28,3),IF(I196=\"\",\"\",\"-\"),I196,IF(K196=\"\",\"\",\"-\"),K196,IF(M196=\"\",\"\",\"-\"),M196),CONCATENATE(LEFT('1 - Opstart Importark'!$B$3,1),(LEFT('1 - Opstart Importark'!$B$15,5)),(LEFT('1 - Opstart Importark'!$B$18,3)),IF(I196=\"\",\"\",\"-\"),I196,IF(K196=\"\",\"\",\"-\"),K196,IF(M196=\"\",\"\",\"-\"),M196))))","v":""},null," ",{"$nulls":9},{"$f":"IF(LEN('1 - Opstart Importark'!$B$6)>0,'1 - Opstart Importark'!$B$6,\"\")","v":""},{"$f":"IF(LEN('1 - Opstart Importark'!$B$9)>0,'1 - Opstart Importark'!$B$9,\"\")","v":""},{"$f":"IF(LEN('1 - Opstart Importark'!$B$23)>0,'1 - Opstart Importark'!$B$23,\"\")","v":""},{"$nulls":14},"",{"$nulls":8},0,"","","objektnogle_"]
[185,null,{"$f":"IF('1 - Opstart Importark'!$B$6=\"\",\"\",(IF('1 - Opstart Importark'!$B$15=\"\",CONCATENATE(LEFT('1 - Opstart Importark'!$B$3,1),(LEFT('1 - Opstart Importark'!$B$20,5)),MID('1 - Opstart Importark'!$B$20,5,2),LEFT('1 - Opstart Importark'!$B$28,3),IF(I197=\"\",\"\",\"-\"),I197,IF(K197=\"\",\"\",\"-\"),K197,IF(M197=\"\",\"\",\"-\"),M197),CONCATENATE(LEFT('1 - Opstart Importark'!$B$3,1),(LEFT('1 - Opstart Importark'!$B$15,5)),(LEFT('1 - Opstart Importark'!$B$18,3)),IF(I197=\"\",\"\",\"-\"),I197,IF(K197=\"\",\"\",\"-\"),K197,IF(M197=\"\",\"\",\"-\"),M197))))","v":""},null," ",{"$nulls":9},{"$f":"IF(LEN('1 - Opstart Importark'!$B$6)>0,'1 - Opstart Importark'!$B$6,\"\")","v":""},{"$f":"IF(LEN('1 - Opstart Importark'!$B$9)>0,'1 - Opstart Importark'!$B$9,\"\")","v":""},{"$f":"IF(LEN('1 - Opstart Importark'!$B$23)>0,'1 - Opstart Importark'!$B$23,\"\")","v":""},{"$nulls":14},"",{"$nulls":8},0,"","","objektnogle_"]
[186,null,{"$f":"IF('1 - Opstart Importark'!$B$6=\"\",\"\",(IF('1 - Opstart Importark'!$B$15=\"\",CONCATENATE(LEFT('1 - Opstart Importark'!$B$3,1),(LEFT('1 - Opstart Importark'!$B$20,5)),MID('1 - Opstart Importark'!$B$20,5,2),LEFT('1 - Opstart Importark'!$B$28,3),IF(I198=\"\",\"\",\"-\"),I198,IF(K198=\"\",\"\",\"-\"),K198,IF(M198=\"\",\"\",\"-\"),M198),CONCATENATE(LEFT('1 - Opstart Importark'!$B$3,1),(LEFT('1 - Opstart Importark'!$B$15,5)),(LEFT('1 - Opstart Importark'!$B$18,3)),IF(I198=\"\",\"\",\"-\"),I198,IF(K198=\"\",\"\",\"-\"),K198,IF(M198=\"\",\"\",\"-\"),M198))))","v":""},null," ",{"$nulls":9},{"$f":"IF(LEN('1 - Opstart Importark'!$B$6)>0,'1 - Opstart Importark'!$B$6,\"\")","v":""},{"$f":"IF(LEN('1 - Opstart Importark'!$B$9)>0,'1 - Opstart Importark'!$B$9,\"\")","v":""},{"$f":"IF(LEN('1 - Opstart Importark'!$B$23)>0,'1 - Opstart Importark'!$B$23,\"\")","v":""},{"$nulls":14},"",{"$nulls":8},0,"","","objektnogle_"]
[187,null,{"$f":"IF('1 - Opstart Importark'!$B$6=\"\",\"\",(IF('1 - Opstart Importark'!$B$15=\"\",CONCATENATE(LEFT('1 - Opstart Importark'!$B$3,1),(LEFT('1 - Opstart Importark'!$B$20,5)),MID('1 - Opstart Importark'!$B$20,5,2),LEFT('1 - Opstart Importark'!$B$28,3),IF(I199=\"\",\"\",\"-\"),I199,IF(K199=\"\",\"\",\"-\"),K199,IF(M199=\"\",\"\",\"-\"),M199),CONCATENATE(LEFT('1 - Opstart Importark'!$B$3,1),(LEFT('1 - Opstart Importark'!$B$15,5)),(LEFT('1 - Opstart Importark'!$B$18,3)),IF(I199=\"\",\"\",\"-\"),I199,IF(K199=\"\",\"\",\"-\"),K199,IF(M199=\"\",\"\",\"-\"),M199))))","v":""},null," ",{"$nulls":9},{"$f":"IF(LEN('1 - Opstart Importark'!$B$6)>0,'1 - Opstart Importark'!$B$6,\"\")","v":""},{"$f":"IF(LEN('1 - Opstart Importark'!$B$9)>0,'1 - Opstart Importark'!$B$9,\"\")","v":""},{"$f":"IF(LEN('1 - Opstart Importark'!$B$23)>0,'1 - Opstart Importark'!$B$23,\"\")","v":""},{"$nulls":14},"",{"$nulls":8},0,"","","objektnogle_"]
[188,null,{"$f":"IF('1 - Opstart Importark'!$B$6=\"\",\"\",(IF('1 - Opstart Importark'!$B$15=\"\",CONCATENATE(LEFT('1 - Opstart Importark'!$B$3,1),(LEFT('1 - Opstart Importark'!$B$20,5)),MID('1 - Opstart Importark'!$B$20,5,2),LEFT('1 - Opstart Importark'!$B$28,3),IF(I200=\"\",\"\",\"-\"),I200,IF(K200=\"\",\"\",\"-\"),K200,IF(M200=\"\",\"\",\"-\"),M200),CONCATENATE(LEFT('1 - Opstart Importark'!$B$3,1),(LEFT('1 - Opstart Importark'!$B$15,5)),(LEFT('1 - Opstart Importark'!$B$18,3)),IF(I200=\"\",\"\",\"-\"),I200,IF(K200=\"\",\"\",\"-\"),K200,IF(M200=\"\",\"\",\"-\"),M200))))","v":""},null," ",{"$nulls":9},{"$f":"IF(LEN('1 - Opstart Importark'!$B$6)>0,'1 - Opstart Importark'!$B$6,\"\")","v":""},{"$f":"IF(LEN('1 - Opstart Importark'!$B$9)>0,'1 - Opstart Importark'!$B$9,\"\")","v":""},{"$f":"IF(LEN('1 - Opstart Importark'!$B$23)>0,'1 - Opstart Importark'!$B$23,\"\")","v":""},{"$nulls":14},"",{"$nulls":8},0,"","","objektnogle_"]
[189,null,{"$f":"IF('1 - Opstart Importark'!$B$6=\"\",\"\",(IF('1 - Opstart Importark'!$B$15=\"\",CONCATENATE(LEFT('1 - Opstart Importark'!$B$3,1),(LEFT('1 - Opstart Importark'!$B$20,5)),MID('1 - Opstart Importark'!$B$20,5,2),LEFT('1 - Opstart Importark'!$B$28,3),IF(I201=\"\",\"\",\"-\"),I201,IF(K201=\"\",\"\",\"-\"),K201,IF(M201=\"\",\"\",\"-\"),M201),CONCATENATE(LEFT('1 - Opstart Importark'!$B$3,1),(LEFT('1 - Opstart Importark'!$B$15,5)),(LEFT('1 - Opstart Importark'!$B$18,3)),IF(I201=\"\",\"\",\"-\"),I201,IF(K201=\"\",\"\",\"-\"),K201,IF(M201=\"\",\"\",\"-\"),M201))))","v":""},null," ",{"$nulls":9},{"$f":"IF(LEN('1 - Opstart Importark'!$B$6)>0,'1 - Opstart Importark'!$B$6,\"\")","v":""},{"$f":"IF(LEN('1 - Opstart Importark'!$B$9)>0,'1 - Opstart Importark'!$B$9,\"\")","v":""},{"$f":"IF(LEN('1 - Opstart Importark'!$B$23)>0,'1 - Opstart Importark'!$B$23,\"\")","v":""},{"$nulls":14},"",{"$nulls":8},0,"","","objektnogle_"]
[190,null,{"$f":"IF('1 - Opstart Importark'!$B$6=\"\",\"\",(IF('1 - Opstart Importark'!$B$15=\"\",CONCATENATE(LEFT('1 - Opstart Importark'!$B$3,1),(LEFT('1 - Opstart Importark'!$B$20,5)),MID('1 - Opstart Importark'!$B$20,5,2),LEFT('1 - Opstart Importark'!$B$28,3),IF(I202=\"\",\"\",\"-\"),I202,IF(K202=\"\",\"\",\"-\"),K202,IF(M202=\"\",\"\",\"-\"),M202),CONCATENATE(LEFT('1 - Opstart Importark'!$B$3,1),(LEFT('1 - Opstart Importark'!$B$15,5)),(LEFT('1 - Opstart Importark'!$B$18,3)),IF(I202=\"\",\"\",\"-\"),I202,IF(K202=\"\",\"\",\"-\"),K202,IF(M202=\"\",\"\",\"-\"),M202))))","v":""},null," ",{"$nulls":9},{"$f":"IF(LEN('1 - Opstart Importark'!$B$6)>0,'1 - Opstart Importark'!$B$6,\"\")","v":""},{"$f":"IF(LEN('1 - Opstart Importark'!$B$9)>0,'1 - Opstart Importark'!$B$9,\"\")","v":""},{"$f":"IF(LEN('1 - Opstart Importark'!$B$23)>0,'1 - Opstart Importark'!$B$23,\"\")","v":""},{"$nulls":14},"",{"$nulls":8},0,"","","objektnogle_"]
[191,null,{"$f":"IF('1 - Opstart Importark'!$B$6=\"\",\"\",(IF('1 - Opstart Importark'!$B$15=\"\",CONCATENATE(LEFT('1 - Opstart Importark'!$B$3,1),(LEFT('1 - Opstart Importark'!$B$20,5)),MID('1 - Opstart Importark'!$B$20,5,2),LEFT('1 - Opstart Importark'!$B$28,3),IF(I203=\"\",\"\",\"-\"),I203,IF(K203=\"\",\"\",\"-\"),K203,IF(M203=\"\",\"\",\"-\"),M203),CONCATENATE(LEFT('1 - Opstart Importark'!$B$3,1),(LEFT('1 - Opstart Importark'!$B$15,5)),(LEFT('1 - Opstart Importark'!$B$18,3)),IF(I203=\"\",\"\",\"-\"),I203,IF(K203=\"\",\"\",\"-\"),K203,IF(M203=\"\",\"\",\"-\"),M203))))","v":""},null," ",{"$nulls":9},{"$f":"IF(LEN('1 - Opstart Importark'!$B$6)>0,'1 - Opstart Importark'!$B$6,\"\")","v":""},{"$f":"IF(LEN('1 - Opstart Importark'!$B$9)>0,'1 - Opstart Importark'!$B$9,\"\")","v":""},{"$f":"IF(LEN('1 - Opstart Importark'!$B$23)>0,'1 - Opstart Importark'!$B$23,\"\")","v":""},{"$nulls":14},"",{"$nulls":8},0,"","","objektnogle_"]
[192,null,{"$f":"IF('1 - Opstart Importark'!$B$6=\"\",\"\",(IF('1 - Opstart Importark'!$B$15=\"\",CONCATENATE(LEFT('1 - Opstart Importark'!$B$3,1),(LEFT('1 - Opstart Importark'!$B$20,5)),MID('1 - Opstart Importark'!$B$20,5,2),LEFT('1 - Opstart Importark'!$B$28,3),IF(I204=\"\",\"\",\"-\"),I204,IF(K204=\"\",\"\",\"-\"),K204,IF(M204=\"\",\"\",\"-\"),M204),CONCATENATE(LEFT('1 - Opstart Importark'!$B$3,1),(LEFT('1 - Opstart Importark'!$B$15,5)),(LEFT('1 - Opstart Importark'!$B$18,3)),IF(I204=\"\",\"\",\"-\"),I204,IF(K204=\"\",\"\",\"-\"),K204,IF(M204=\"\",\"\",\"-\"),M204))))","v":""},null," ",{"$nulls":9},{"$f":"IF(LEN('1 - Opstart Importark'!$B$6)>0,'1 - Opstart Importark'!$B$6,\"\")","v":""},{"$f":"IF(LEN('1 - Opstart Importark'!$B$9)>0,'1 - Opstart Importark'!$B$9,\"\")","v":""},{"$f":"IF(LEN('1 - Opstart Importark'!$B$23)>0,'1 - Opstart Importark'!$B$23,\"\")","v":""},{"$nulls":14},"",{"$nulls":8},0,"","","objektnogle_"]
[193,null,{"$f":"IF('1 - Opstart Importark'!$B$6=\"\",\"\",(IF('1 - Opstart Importark'!$B$15=\"\",CONCATENATE(LEFT('1 - Opstart Importark'!$B$3,1),(LEFT('1 - Opstart Importark'!$B$20,5)),MID('1 - Opstart Importark'!$B$20,5,2),LEFT('1 - Opstart Importark'!$B$28,3),IF(I205=\"\",\"\",\"-\"),I205,IF(K205=\"\",\"\",\"-\"),K205,IF(M205=\"\",\"\",\"-\"),M205),CONCATENATE(LEFT('1 - Opstart Importark'!$B$3,1),(LEFT('1 - Opstart Importark'!$B$15,5)),(LEFT('1 - Opstart Importark'!$B$18,3)),IF(I205=\"\",\"\",\"-\"),I205,IF(K205=\"\",\"\",\"-\"),K205,IF(M205=\"\",\"\",\"-\"),M205))))","v":""},null," ",{"$nulls":9},{"$f":"IF(LEN('1 - Opstart Importark'!$B$6)>0,'1 - Opstart Importark'!$B$6,\"\")","v":""},{"$f":"IF(LEN('1 - Opstart Importark'!$B$9)>0,'1 - Opstart Importark'!$B$9,\"\")","v":""},{"$f":"IF(LEN('1 - Opstart Importark'!$B$23)>0,'1 - Opstart Importark'!$B$23,\"\")","v":""},{"$nulls":14},{"$f":"IF(K205=\"\",\"\",VLOOKUP(LEFT(K205,1),objektfilter,2))","v":""},{"$nulls":8},{"$f":"IFERROR(FIND(\".\",F205),)","v":0},"","","objektnogle_"]
[194,null,{"$f":"IF('1 - Opstart Importark'!$B$6=\"\",\"\",(IF('1 - Opstart Importark'!$B$15=\"\",CONCATENATE(LEFT('1 - Opstart Importark'!$B$3,1),(LEFT('1 - Opstart Importark'!$B$20,5)),MID('1 - Opstart Importark'!$B$20,5,2),LEFT('1 - Opstart Importark'!$B$28,3),IF(I206=\"\",\"\",\"-\"),I206,IF(K206=\"\",\"\",\"-\"),K206,IF(M206=\"\",\"\",\"-\"),M206),CONCATENATE(LEFT('1 - Opstart Importark'!$B$3,1),(LEFT('1 - Opstart Importark'!$B$15,5)),(LEFT('1 - Opstart Importark'!$B$18,3)),IF(I206=\"\",\"\",\"-\"),I206,IF(K206=\"\",\"\",\"-\"),K206,IF(M206=\"\",\"\",\"-\"),M206))))","v":""},null," ",{"$nulls":9},{"$f":"IF(LEN('1 - Opstart Importark'!$B$6)>0,'1 - Opstart Importark'!$B$6,\"\")","v":""},{"$f":"IF(LEN('1 - Opstart Importark'!$B$9)>0,'1 - Opstart Importark'!$B$9,\"\")","v":""},{"$f":"IF(LEN('1 - Opstart Importark'!$B$23)>0,'1 - Opstart Importark'!$B$23,\"\")","v":""},{"$nulls":14},"",{"$nulls":8},0,{"$f":"IF(K206=\"\",\"\",IF(LEFT(K206,1)=\"E\",0,1))","v":""},{"$f":"IF(K206=\"\",\"\",IF(LEFT(K206,1)=\"E\",0,1))","v":""},{"$f":"IF(W206=\"\", CONCATENATE(\"objektnogle_\",LEFT(AF206,1)),CONCATENATE(\"objektnogle_\",LEFT(W206,1)))","v":"objektnogle_"}]
[195,null,{"$f":"IF('1 - Opstart Importark'!$B$6=\"\",\"\",(IF('1 - Opstart Importark'!$B$15=\"\",CONCATENATE(LEFT('1 - Opstart Importark'!$B$3,1),(LEFT('1 - Opstart Importark'!$B$20,5)),MID('1 - Opstart Importark'!$B$20,5,2),LEFT('1 - Opstart Importark'!$B$28,3),IF(I207=\"\",\"\",\"-\"),I207,IF(K207=\"\",\"\",\"-\"),K207,IF(M207=\"\",\"\",\"-\"),M207),CONCATENATE(LEFT('1 - Opstart Importark'!$B$3,1),(LEFT('1 - Opstart Importark'!$B$15,5)),(LEFT('1 - Opstart Importark'!$B$18,3)),IF(I207=\"\",\"\",\"-\"),I207,IF(K207=\"\",\"\",\"-\"),K207,IF(M207=\"\",\"\",\"-\"),M207))))","v":""},null," ",{"$nulls":9},{"$f":"IF(LEN('1 - Opstart Importark'!$B$6)>0,'1 - Opstart Importark'!$B$6,\"\")","v":""},{"$f":"IF(LEN('1 - Opstart Importark'!$B$9)>0,'1 - Opstart Importark'!$B$9,\"\")","v":""},{"$f":"IF(LEN('1 - Opstart Importark'!$B$23)>0,'1 - Opstart Importark'!$B$23,\"\")","v":""},{"$nulls":14},"",{"$nulls":8},0,"","","objektnogle_"]
[196,null,{"$f":"IF('1 - Opstart Importark'!$B$6=\"\",\"\",(IF('1 - Opstart Importark'!$B$15=\"\",CONCATENATE(LEFT('1 - Opstart Importark'!$B$3,1),(LEFT('1 - Opstart Importark'!$B$20,5)),MID('1 - Opstart Importark'!$B$20,5,2),LEFT('1 - Opstart Importark'!$B$28,3),IF(I208=\"\",\"\",\"-\"),I208,IF(K208=\"\",\"\",\"-\"),K208,IF(M208=\"\",\"\",\"-\"),M208),CONCATENATE(LEFT('1 - Opstart Importark'!$B$3,1),(LEFT('1 - Opstart Importark'!$B$15,5)),(LEFT('1 - Opstart Importark'!$B$18,3)),IF(I208=\"\",\"\",\"-\"),I208,IF(K208=\"\",\"\",\"-\"),K208,IF(M208=\"\",\"\",\"-\"),M208))))","v":""},null," ",{"$nulls":9},{"$f":"IF(LEN('1 - Opstart Importark'!$B$6)>0,'1 - Opstart Importark'!$B$6,\"\")","v":""},{"$f":"IF(LEN('1 - Opstart Importark'!$B$9)>0,'1 - Opstart Importark'!$B$9,\"\")","v":""},{"$f":"IF(LEN('1 - Opstart Importark'!$B$23)>0,'1 - Opstart Importark'!$B$23,\"\")","v":""},{"$nulls":14},"",{"$nulls":8},0,"","","objektnogle_"]
[197,null,{"$f":"IF('1 - Opstart Importark'!$B$6=\"\",\"\",(IF('1 - Opstart Importark'!$B$15=\"\",CONCATENATE(LEFT('1 - Opstart Importark'!$B$3,1),(LEFT('1 - Opstart Importark'!$B$20,5)),MID('1 - Opstart Importark'!$B$20,5,2),LEFT('1 - Opstart Importark'!$B$28,3),IF(I209=\"\",\"\",\"-\"),I209,IF(K209=\"\",\"\",\"-\"),K209,IF(M209=\"\",\"\",\"-\"),M209),CONCATENATE(LEFT('1 - Opstart Importark'!$B$3,1),(LEFT('1 - Opstart Importark'!$B$15,5)),(LEFT('1 - Opstart Importark'!$B$18,3)),IF(I209=\"\",\"\",\"-\"),I209,IF(K209=\"\",\"\",\"-\"),K209,IF(M209=\"\",\"\",\"-\"),M209))))","v":""},null," ",{"$nulls":9},{"$f":"IF(LEN('1 - Opstart Importark'!$B$6)>0,'1 - Opstart Importark'!$B$6,\"\")","v":""},{"$f":"IF(LEN('1 - Opstart Importark'!$B$9)>0,'1 - Opstart Importark'!$B$9,\"\")","v":""},{"$f":"IF(LEN('1 - Opstart Importark'!$B$23)>0,'1 - Opstart Importark'!$B$23,\"\")","v":""},{"$nulls":14},"",{"$nulls":8},0,"","","objektnogle_"]
[198,null,{"$f":"IF('1 - Opstart Importark'!$B$6=\"\",\"\",(IF('1 - Opstart Importark'!$B$15=\"\",CONCATENATE(LEFT('1 - Opstart Importark'!$B$3,1),(LEFT('1 - Opstart Importark'!$B$20,5)),MID('1 - Opstart Importark'!$B$20,5,2),LEFT('1 - Opstart Importark'!$B$28,3),IF(I210=\"\",\"\",\"-\"),I210,IF(K210=\"\",\"\",\"-\"),K210,IF(M210=\"\",\"\",\"-\"),M210),CONCATENATE(LEFT('1 - Opstart Importark'!$B$3,1),(LEFT('1 - Opstart Importark'!$B$15,5)),(LEFT('1 - Opstart Importark'!$B$18,3)),IF(I210=\"\",\"\",\"-\"),I210,IF(K210=\"\",\"\",\"-\"),K210,IF(M210=\"\",\"\",\"-\"),M210))))","v":""},null," ",{"$nulls":9},{"$f":"IF(LEN('1 - Opstart Importark'!$B$6)>0,'1 - Opstart Importark'!$B$6,\"\")","v":""},{"$f":"IF(LEN('1 - Opstart Importark'!$B$9)>0,'1 - Opstart Importark'!$B$9,\"\")","v":""},{"$f":"IF(LEN('1 - Opstart Importark'!$B$23)>0,'1 - Opstart Importark'!$B$23,\"\")","v":""},{"$nulls":14},"",{"$nulls":8},0,"","","objektnogle_"]
[199,null,{"$f":"IF('1 - Opstart Importark'!$B$6=\"\",\"\",(IF('1 - Opstart Importark'!$B$15=\"\",CONCATENATE(LEFT('1 - Opstart Importark'!$B$3,1),(LEFT('1 - Opstart Importark'!$B$20,5)),MID('1 - Opstart Importark'!$B$20,5,2),LEFT('1 - Opstart Importark'!$B$28,3),IF(I211=\"\",\"\",\"-\"),I211,IF(K211=\"\",\"\",\"-\"),K211,IF(M211=\"\",\"\",\"-\"),M211),CONCATENATE(LEFT('1 - Opstart Importark'!$B$3,1),(LEFT('1 - Opstart Importark'!$B$15,5)),(LEFT('1 - Opstart Importark'!$B$18,3)),IF(I211=\"\",\"\",\"-\"),I211,IF(K211=\"\",\"\",\"-\"),K211,IF(M211=\"\",\"\",\"-\"),M211))))","v":""},null," ",{"$nulls":9},{"$f":"IF(LEN('1 - Opstart Importark'!$B$6)>0,'1 - Opstart Importark'!$B$6,\"\")","v":""},{"$f":"IF(LEN('1 - Opstart Importark'!$B$9)>0,'1 - Opstart Importark'!$B$9,\"\")","v":""},{"$f":"IF(LEN('1 - Opstart Importark'!$B$23)>0,'1 - Opstart Importark'!$B$23,\"\")","v":""},{"$nulls":14},"",{"$nulls":8},0,"","","objektnogle_"]
[200,null,{"$f":"IF('1 - Opstart Importark'!$B$6=\"\",\"\",(IF('1 - Opstart Importark'!$B$15=\"\",CONCATENATE(LEFT('1 - Opstart Importark'!$B$3,1),(LEFT('1 - Opstart Importark'!$B$20,5)),MID('1 - Opstart Importark'!$B$20,5,2),LEFT('1 - Opstart Importark'!$B$28,3),IF(I212=\"\",\"\",\"-\"),I212,IF(K212=\"\",\"\",\"-\"),K212,IF(M212=\"\",\"\",\"-\"),M212),CONCATENATE(LEFT('1 - Opstart Importark'!$B$3,1),(LEFT('1 - Opstart Importark'!$B$15,5)),(LEFT('1 - Opstart Importark'!$B$18,3)),IF(I212=\"\",\"\",\"-\"),I212,IF(K212=\"\",\"\",\"-\"),K212,IF(M212=\"\",\"\",\"-\"),M212))))","v":""},null," ",{"$nulls":9},{"$f":"IF(LEN('1 - Opstart Importark'!$B$6)>0,'1 - Opstart Importark'!$B$6,\"\")","v":""},{"$f":"IF(LEN('1 - Opstart Importark'!$B$9)>0,'1 - Opstart Importark'!$B$9,\"\")","v":""},{"$f":"IF(LEN('1 - Opstart Importark'!$B$23)>0,'1 - Opstart Importark'!$B$23,\"\")","v":""},{"$nulls":14},"",{"$nulls":8},0,"","","objektnogle_"]
[201,null,{"$f":"IF('1 - Opstart Importark'!$B$6=\"\",\"\",(IF('1 - Opstart Importark'!$B$15=\"\",CONCATENATE(LEFT('1 - Opstart Importark'!$B$3,1),(LEFT('1 - Opstart Importark'!$B$20,5)),MID('1 - Opstart Importark'!$B$20,5,2),LEFT('1 - Opstart Importark'!$B$28,3),IF(I213=\"\",\"\",\"-\"),I213,IF(K213=\"\",\"\",\"-\"),K213,IF(M213=\"\",\"\",\"-\"),M213),CONCATENATE(LEFT('1 - Opstart Importark'!$B$3,1),(LEFT('1 - Opstart Importark'!$B$15,5)),(LEFT('1 - Opstart Importark'!$B$18,3)),IF(I213=\"\",\"\",\"-\"),I213,IF(K213=\"\",\"\",\"-\"),K213,IF(M213=\"\",\"\",\"-\"),M213))))","v":""},null," ",{"$nulls":9},{"$f":"IF(LEN('1 - Opstart Importark'!$B$6)>0,'1 - Opstart Importark'!$B$6,\"\")","v":""},{"$f":"IF(LEN('1 - Opstart Importark'!$B$9)>0,'1 - Opstart Importark'!$B$9,\"\")","v":""},{"$f":"IF(LEN('1 - Opstart Importark'!$B$23)>0,'1 - Opstart Importark'!$B$23,\"\")","v":""},{"$nulls":14},"",{"$nulls":8},0,"","","objektnogle_"]
[202,null,{"$f":"IF('1 - Opstart Importark'!$B$6=\"\",\"\",(IF('1 - Opstart Importark'!$B$15=\"\",CONCATENATE(LEFT('1 - Opstart Importark'!$B$3,1),(LEFT('1 - Opstart Importark'!$B$20,5)),MID('1 - Opstart Importark'!$B$20,5,2),LEFT('1 - Opstart Importark'!$B$28,3),IF(I214=\"\",\"\",\"-\"),I214,IF(K214=\"\",\"\",\"-\"),K214,IF(M214=\"\",\"\",\"-\"),M214),CONCATENATE(LEFT('1 - Opstart Importark'!$B$3,1),(LEFT('1 - Opstart Importark'!$B$15,5)),(LEFT('1 - Opstart Importark'!$B$18,3)),IF(I214=\"\",\"\",\"-\"),I214,IF(K214=\"\",\"\",\"-\"),K214,IF(M214=\"\",\"\",\"-\"),M214))))","v":""},null," ",{"$nulls":9},{"$f":"IF(LEN('1 - Opstart Importark'!$B$6)>0,'1 - Opstart Importark'!$B$6,\"\")","v":""},{"$f":"IF(LEN('1 - Opstart Importark'!$B$9)>0,'1 - Opstart Importark'!$B$9,\"\")","v":""},{"$f":"IF(LEN('1 - Opstart Importark'!$B$23)>0,'1 - Opstart Importark'!$B$23,\"\")","v":""},{"$nulls":14},"",{"$nulls":8},0,"","","objektnogle_"]
[203,null,{"$f":"IF('1 - Opstart Importark'!$B$6=\"\",\"\",(IF('1 - Opstart Importark'!$B$15=\"\",CONCATENATE(LEFT('1 - Opstart Importark'!$B$3,1),(LEFT('1 - Opstart Importark'!$B$20,5)),MID('1 - Opstart Importark'!$B$20,5,2),LEFT('1 - Opstart Importark'!$B$28,3),IF(I215=\"\",\"\",\"-\"),I215,IF(K215=\"\",\"\",\"-\"),K215,IF(M215=\"\",\"\",\"-\"),M215),CONCATENATE(LEFT('1 - Opstart Importark'!$B$3,1),(LEFT('1 - Opstart Importark'!$B$15,5)),(LEFT('1 - Opstart Importark'!$B$18,3)),IF(I215=\"\",\"\",\"-\"),I215,IF(K215=\"\",\"\",\"-\"),K215,IF(M215=\"\",\"\",\"-\"),M215))))","v":""},null," ",{"$nulls":9},{"$f":"IF(LEN('1 - Opstart Importark'!$B$6)>0,'1 - Opstart Importark'!$B$6,\"\")","v":""},{"$f":"IF(LEN('1 - Opstart Importark'!$B$9)>0,'1 - Opstart Importark'!$B$9,\"\")","v":""},{"$f":"IF(LEN('1 - Opstart Importark'!$B$23)>0,'1 - Opstart Importark'!$B$23,\"\")","v":""},{"$nulls":14},"",{"$nulls":8},0,"","","objektnogle_"]
[204,null,{"$f":"IF('1 - Opstart Importark'!$B$6=\"\",\"\",(IF('1 - Opstart Importark'!$B$15=\"\",CONCATENATE(LEFT('1 - Opstart Importark'!$B$3,1),(LEFT('1 - Opstart Importark'!$B$20,5)),MID('1 - Opstart Importark'!$B$20,5,2),LEFT('1 - Opstart Importark'!$B$28,3),IF(I216=\"\",\"\",\"-\"),I216,IF(K216=\"\",\"\",\"-\"),K216,IF(M216=\"\",\"\",\"-\"),M216),CONCATENATE(LEFT('1 - Opstart Importark'!$B$3,1),(LEFT('1 - Opstart Importark'!$B$15,5)),(LEFT('1 - Opstart Importark'!$B$18,3)),IF(I216=\"\",\"\",\"-\"),I216,IF(K216=\"\",\"\",\"-\"),K216,IF(M216=\"\",\"\",\"-\"),M216))))","v":""},null," ",{"$nulls":9},{"$f":"IF(LEN('1 - Opstart Importark'!$B$6)>0,'1 - Opstart Importark'!$B$6,\"\")","v":""},{"$f":"IF(LEN('1 - Opstart Importark'!$B$9)>0,'1 - Opstart Importark'!$B$9,\"\")","v":""},{"$f":"IF(LEN('1 - Opstart Importark'!$B$23)>0,'1 - Opstart Importark'!$B$23,\"\")","v":""},{"$nulls":14},"",{"$nulls":8},0,"","","objektnogle_"]
[205,null,{"$f":"IF('1 - Opstart Importark'!$B$6=\"\",\"\",(IF('1 - Opstart Importark'!$B$15=\"\",CONCATENATE(LEFT('1 - Opstart Importark'!$B$3,1),(LEFT('1 - Opstart Importark'!$B$20,5)),MID('1 - Opstart Importark'!$B$20,5,2),LEFT('1 - Opstart Importark'!$B$28,3),IF(I217=\"\",\"\",\"-\"),I217,IF(K217=\"\",\"\",\"-\"),K217,IF(M217=\"\",\"\",\"-\"),M217),CONCATENATE(LEFT('1 - Opstart Importark'!$B$3,1),(LEFT('1 - Opstart Importark'!$B$15,5)),(LEFT('1 - Opstart Importark'!$B$18,3)),IF(I217=\"\",\"\",\"-\"),I217,IF(K217=\"\",\"\",\"-\"),K217,IF(M217=\"\",\"\",\"-\"),M217))))","v":""},null," ",{"$nulls":9},{"$f":"IF(LEN('1 - Opstart Importark'!$B$6)>0,'1 - Opstart Importark'!$B$6,\"\")","v":""},{"$f":"IF(LEN('1 - Opstart Importark'!$B$9)>0,'1 - Opstart Importark'!$B$9,\"\")","v":""},{"$f":"IF(LEN('1 - Opstart Importark'!$B$23)>0,'1 - Opstart Importark'!$B$23,\"\")","v":""},{"$nulls":14},"",{"$nulls":8},0,"","","objektnogle_"]
[206,null,{"$f":"IF('1 - Opstart Importark'!$B$6=\"\",\"\",(IF('1 - Opstart Importark'!$B$15=\"\",CONCATENATE(LEFT('1 - Opstart Importark'!$B$3,1),(LEFT('1 - Opstart Importark'!$B$20,5)),MID('1 - Opstart Importark'!$B$20,5,2),LEFT('1 - Opstart Importark'!$B$28,3),IF(I218=\"\",\"\",\"-\"),I218,IF(K218=\"\",\"\",\"-\"),K218,IF(M218=\"\",\"\",\"-\"),M218),CONCATENATE(LEFT('1 - Opstart Importark'!$B$3,1),(LEFT('1 - Opstart Importark'!$B$15,5)),(LEFT('1 - Opstart Importark'!$B$18,3)),IF(I218=\"\",\"\",\"-\"),I218,IF(K218=\"\",\"\",\"-\"),K218,IF(M218=\"\",\"\",\"-\"),M218))))","v":""},null," ",{"$nulls":9},{"$f":"IF(LEN('1 - Opstart Importark'!$B$6)>0,'1 - Opstart Importark'!$B$6,\"\")","v":""},{"$f":"IF(LEN('1 - Opstart Importark'!$B$9)>0,'1 - Opstart Importark'!$B$9,\"\")","v":""},{"$f":"IF(LEN('1 - Opstart Importark'!$B$23)>0,'1 - Opstart Importark'!$B$23,\"\")","v":""},{"$nulls":14},"",{"$nulls":8},0,"","","objektnogle_"]
[207,null,{"$f":"IF('1 - Opstart Importark'!$B$6=\"\",\"\",(IF('1 - Opstart Importark'!$B$15=\"\",CONCATENATE(LEFT('1 - Opstart Importark'!$B$3,1),(LEFT('1 - Opstart Importark'!$B$20,5)),MID('1 - Opstart Importark'!$B$20,5,2),LEFT('1 - Opstart Importark'!$B$28,3),IF(I219=\"\",\"\",\"-\"),I219,IF(K219=\"\",\"\",\"-\"),K219,IF(M219=\"\",\"\",\"-\"),M219),CONCATENATE(LEFT('1 - Opstart Importark'!$B$3,1),(LEFT('1 - Opstart Importark'!$B$15,5)),(LEFT('1 - Opstart Importark'!$B$18,3)),IF(I219=\"\",\"\",\"-\"),I219,IF(K219=\"\",\"\",\"-\"),K219,IF(M219=\"\",\"\",\"-\"),M219))))","v":""},null," ",{"$nulls":9},{"$f":"IF(LEN('1 - Opstart Importark'!$B$6)>0,'1 - Opstart Importark'!$B$6,\"\")","v":""},{"$f":"IF(LEN('1 - Opstart Importark'!$B$9)>0,'1 - Opstart Importark'!$B$9,\"\")","v":""},{"$f":"IF(LEN('1 - Opstart Importark'!$B$23)>0,'1 - Opstart Importark'!$B$23,\"\")","v":""},{"$nulls":14},"",{"$nulls":8},0,"","","objektnogle_"]
[208,null,{"$f":"IF('1 - Opstart Importark'!$B$6=\"\",\"\",(IF('1 - Opstart Importark'!$B$15=\"\",CONCATENATE(LEFT('1 - Opstart Importark'!$B$3,1),(LEFT('1 - Opstart Importark'!$B$20,5)),MID('1 - Opstart Importark'!$B$20,5,2),LEFT('1 - Opstart Importark'!$B$28,3),IF(I220=\"\",\"\",\"-\"),I220,IF(K220=\"\",\"\",\"-\"),K220,IF(M220=\"\",\"\",\"-\"),M220),CONCATENATE(LEFT('1 - Opstart Importark'!$B$3,1),(LEFT('1 - Opstart Importark'!$B$15,5)),(LEFT('1 - Opstart Importark'!$B$18,3)),IF(I220=\"\",\"\",\"-\"),I220,IF(K220=\"\",\"\",\"-\"),K220,IF(M220=\"\",\"\",\"-\"),M220))))","v":""},null," ",{"$nulls":9},{"$f":"IF(LEN('1 - Opstart Importark'!$B$6)>0,'1 - Opstart Importark'!$B$6,\"\")","v":""},{"$f":"IF(LEN('1 - Opstart Importark'!$B$9)>0,'1 - Opstart Importark'!$B$9,\"\")","v":""},{"$f":"IF(LEN('1 - Opstart Importark'!$B$23)>0,'1 - Opstart Importark'!$B$23,\"\")","v":""},{"$nulls":14},"",{"$nulls":8},0,"","","objektnogle_"]
[209,null,{"$f":"IF('1 - Opstart Importark'!$B$6=\"\",\"\",(IF('1 - Opstart Importark'!$B$15=\"\",CONCATENATE(LEFT('1 - Opstart Importark'!$B$3,1),(LEFT('1 - Opstart Importark'!$B$20,5)),MID('1 - Opstart Importark'!$B$20,5,2),LEFT('1 - Opstart Importark'!$B$28,3),IF(I221=\"\",\"\",\"-\"),I221,IF(K221=\"\",\"\",\"-\"),K221,IF(M221=\"\",\"\",\"-\"),M221),CONCATENATE(LEFT('1 - Opstart Importark'!$B$3,1),(LEFT('1 - Opstart Importark'!$B$15,5)),(LEFT('1 - Opstart Importark'!$B$18,3)),IF(I221=\"\",\"\",\"-\"),I221,IF(K221=\"\",\"\",\"-\"),K221,IF(M221=\"\",\"\",\"-\"),M221))))","v":""},null," ",{"$nulls":9},{"$f":"IF(LEN('1 - Opstart Importark'!$B$6)>0,'1 - Opstart Importark'!$B$6,\"\")","v":""},{"$f":"IF(LEN('1 - Opstart Importark'!$B$9)>0,'1 - Opstart Importark'!$B$9,\"\")","v":""},{"$f":"IF(LEN('1 - Opstart Importark'!$B$23)>0,'1 - Opstart Importark'!$B$23,\"\")","v":""},{"$nulls":14},"",{"$nulls":8},0,"","","objektnogle_"]
[210,null,{"$f":"IF('1 - Opstart Importark'!$B$6=\"\",\"\",(IF('1 - Opstart Importark'!$B$15=\"\",CONCATENATE(LEFT('1 - Opstart Importark'!$B$3,1),(LEFT('1 - Opstart Importark'!$B$20,5)),MID('1 - Opstart Importark'!$B$20,5,2),LEFT('1 - Opstart Importark'!$B$28,3),IF(I222=\"\",\"\",\"-\"),I222,IF(K222=\"\",\"\",\"-\"),K222,IF(M222=\"\",\"\",\"-\"),M222),CONCATENATE(LEFT('1 - Opstart Importark'!$B$3,1),(LEFT('1 - Opstart Importark'!$B$15,5)),(LEFT('1 - Opstart Importark'!$B$18,3)),IF(I222=\"\",\"\",\"-\"),I222,IF(K222=\"\",\"\",\"-\"),K222,IF(M222=\"\",\"\",\"-\"),M222))))","v":""},null," ",{"$nulls":9},{"$f":"IF(LEN('1 - Opstart Importark'!$B$6)>0,'1 - Opstart Importark'!$B$6,\"\")","v":""},{"$f":"IF(LEN('1 - Opstart Importark'!$B$9)>0,'1 - Opstart Importark'!$B$9,\"\")","v":""},{"$f":"IF(LEN('1 - Opstart Importark'!$B$23)>0,'1 - Opstart Importark'!$B$23,\"\")","v":""},{"$nulls":14},"",{"$nulls":8},0,"","","objektnogle_"]
[211,null,{"$f":"IF('1 - Opstart Importark'!$B$6=\"\",\"\",(IF('1 - Opstart Importark'!$B$15=\"\",CONCATENATE(LEFT('1 - Opstart Importark'!$B$3,1),(LEFT('1 - Opstart Importark'!$B$20,5)),MID('1 - Opstart Importark'!$B$20,5,2),LEFT('1 - Opstart Importark'!$B$28,3),IF(I223=\"\",\"\",\"-\"),I223,IF(K223=\"\",\"\",\"-\"),K223,IF(M223=\"\",\"\",\"-\"),M223),CONCATENATE(LEFT('1 - Opstart Importark'!$B$3,1),(LEFT('1 - Opstart Importark'!$B$15,5)),(LEFT('1 - Opstart Importark'!$B$18,3)),IF(I223=\"\",\"\",\"-\"),I223,IF(K223=\"\",\"\",\"-\"),K223,IF(M223=\"\",\"\",\"-\"),M223))))","v":""},null," ",{"$nulls":9},{"$f":"IF(LEN('1 - Opstart Importark'!$B$6)>0,'1 - Opstart Importark'!$B$6,\"\")","v":""},{"$f":"IF(LEN('1 - Opstart Importark'!$B$9)>0,'1 - Opstart Importark'!$B$9,\"\")","v":""},{"$f":"IF(LEN('1 - Opstart Importark'!$B$23)>0,'1 - Opstart Importark'!$B$23,\"\")","v":""},{"$nulls":14},"",{"$nulls":8},0,"","","objektnogle_"]
[212,null,{"$f":"IF('1 - Opstart Importark'!$B$6=\"\",\"\",(IF('1 - Opstart Importark'!$B$15=\"\",CONCATENATE(LEFT('1 - Opstart Importark'!$B$3,1),(LEFT('1 - Opstart Importark'!$B$20,5)),MID('1 - Opstart Importark'!$B$20,5,2),LEFT('1 - Opstart Importark'!$B$28,3),IF(I224=\"\",\"\",\"-\"),I224,IF(K224=\"\",\"\",\"-\"),K224,IF(M224=\"\",\"\",\"-\"),M224),CONCATENATE(LEFT('1 - Opstart Importark'!$B$3,1),(LEFT('1 - Opstart Importark'!$B$15,5)),(LEFT('1 - Opstart Importark'!$B$18,3)),IF(I224=\"\",\"\",\"-\"),I224,IF(K224=\"\",\"\",\"-\"),K224,IF(M224=\"\",\"\",\"-\"),M224))))","v":""},null," ",{"$nulls":9},{"$f":"IF(LEN('1 - Opstart Importark'!$B$6)>0,'1 - Opstart Importark'!$B$6,\"\")","v":""},{"$f":"IF(LEN('1 - Opstart Importark'!$B$9)>0,'1 - Opstart Importark'!$B$9,\"\")","v":""},{"$f":"IF(LEN('1 - Opstart Importark'!$B$23)>0,'1 - Opstart Importark'!$B$23,\"\")","v":""},{"$nulls":14},"",{"$nulls":8},0,"","","objektnogle_"]
[213,null,{"$f":"IF('1 - Opstart Importark'!$B$6=\"\",\"\",(IF('1 - Opstart Importark'!$B$15=\"\",CONCATENATE(LEFT('1 - Opstart Importark'!$B$3,1),(LEFT('1 - Opstart Importark'!$B$20,5)),MID('1 - Opstart Importark'!$B$20,5,2),LEFT('1 - Opstart Importark'!$B$28,3),IF(I225=\"\",\"\",\"-\"),I225,IF(K225=\"\",\"\",\"-\"),K225,IF(M225=\"\",\"\",\"-\"),M225),CONCATENATE(LEFT('1 - Opstart Importark'!$B$3,1),(LEFT('1 - Opstart Importark'!$B$15,5)),(LEFT('1 - Opstart Importark'!$B$18,3)),IF(I225=\"\",\"\",\"-\"),I225,IF(K225=\"\",\"\",\"-\"),K225,IF(M225=\"\",\"\",\"-\"),M225))))","v":""},null," ",{"$nulls":9},{"$f":"IF(LEN('1 - Opstart Importark'!$B$6)>0,'1 - Opstart Importark'!$B$6,\"\")","v":""},{"$f":"IF(LEN('1 - Opstart Importark'!$B$9)>0,'1 - Opstart Importark'!$B$9,\"\")","v":""},{"$f":"IF(LEN('1 - Opstart Importark'!$B$23)>0,'1 - Opstart Importark'!$B$23,\"\")","v":""},{"$nulls":14},"",{"$nulls":8},0,"","","objektnogle_"]
[214,null,{"$f":"IF('1 - Opstart Importark'!$B$6=\"\",\"\",(IF('1 - Opstart Importark'!$B$15=\"\",CONCATENATE(LEFT('1 - Opstart Importark'!$B$3,1),(LEFT('1 - Opstart Importark'!$B$20,5)),MID('1 - Opstart Importark'!$B$20,5,2),LEFT('1 - Opstart Importark'!$B$28,3),IF(I226=\"\",\"\",\"-\"),I226,IF(K226=\"\",\"\",\"-\"),K226,IF(M226=\"\",\"\",\"-\"),M226),CONCATENATE(LEFT('1 - Opstart Importark'!$B$3,1),(LEFT('1 - Opstart Importark'!$B$15,5)),(LEFT('1 - Opstart Importark'!$B$18,3)),IF(I226=\"\",\"\",\"-\"),I226,IF(K226=\"\",\"\",\"-\"),K226,IF(M226=\"\",\"\",\"-\"),M226))))","v":""},null," ",{"$nulls":9},{"$f":"IF(LEN('1 - Opstart Importark'!$B$6)>0,'1 - Opstart Importark'!$B$6,\"\")","v":""},{"$f":"IF(LEN('1 - Opstart Importark'!$B$9)>0,'1 - Opstart Importark'!$B$9,\"\")","v":""},{"$f":"IF(LEN('1 - Opstart Importark'!$B$23)>0,'1 - Opstart Importark'!$B$23,\"\")","v":""},{"$nulls":14},"",{"$nulls":8},0,"","","objektnogle_"]
[215,null,{"$f":"IF('1 - Opstart Importark'!$B$6=\"\",\"\",(IF('1 - Opstart Importark'!$B$15=\"\",CONCATENATE(LEFT('1 - Opstart Importark'!$B$3,1),(LEFT('1 - Opstart Importark'!$B$20,5)),MID('1 - Opstart Importark'!$B$20,5,2),LEFT('1 - Opstart Importark'!$B$28,3),IF(I227=\"\",\"\",\"-\"),I227,IF(K227=\"\",\"\",\"-\"),K227,IF(M227=\"\",\"\",\"-\"),M227),CONCATENATE(LEFT('1 - Opstart Importark'!$B$3,1),(LEFT('1 - Opstart Importark'!$B$15,5)),(LEFT('1 - Opstart Importark'!$B$18,3)),IF(I227=\"\",\"\",\"-\"),I227,IF(K227=\"\",\"\",\"-\"),K227,IF(M227=\"\",\"\",\"-\"),M227))))","v":""},null," ",{"$nulls":9},{"$f":"IF(LEN('1 - Opstart Importark'!$B$6)>0,'1 - Opstart Importark'!$B$6,\"\")","v":""},{"$f":"IF(LEN('1 - Opstart Importark'!$B$9)>0,'1 - Opstart Importark'!$B$9,\"\")","v":""},{"$f":"IF(LEN('1 - Opstart Importark'!$B$23)>0,'1 - Opstart Importark'!$B$23,\"\")","v":""},{"$nulls":14},"",{"$nulls":8},0,"","","objektnogle_"]
[216,null,{"$f":"IF('1 - Opstart Importark'!$B$6=\"\",\"\",(IF('1 - Opstart Importark'!$B$15=\"\",CONCATENATE(LEFT('1 - Opstart Importark'!$B$3,1),(LEFT('1 - Opstart Importark'!$B$20,5)),MID('1 - Opstart Importark'!$B$20,5,2),LEFT('1 - Opstart Importark'!$B$28,3),IF(I228=\"\",\"\",\"-\"),I228,IF(K228=\"\",\"\",\"-\"),K228,IF(M228=\"\",\"\",\"-\"),M228),CONCATENATE(LEFT('1 - Opstart Importark'!$B$3,1),(LEFT('1 - Opstart Importark'!$B$15,5)),(LEFT('1 - Opstart Importark'!$B$18,3)),IF(I228=\"\",\"\",\"-\"),I228,IF(K228=\"\",\"\",\"-\"),K228,IF(M228=\"\",\"\",\"-\"),M228))))","v":""},null," ",{"$nulls":9},{"$f":"IF(LEN('1 - Opstart Importark'!$B$6)>0,'1 - Opstart Importark'!$B$6,\"\")","v":""},{"$f":"IF(LEN('1 - Opstart Importark'!$B$9)>0,'1 - Opstart Importark'!$B$9,\"\")","v":""},{"$f":"IF(LEN('1 - Opstart Importark'!$B$23)>0,'1 - Opstart Importark'!$B$23,\"\")","v":""},{"$nulls":14},"",{"$nulls":8},0,"","","objektnogle_"]
[217,null,{"$f":"IF('1 - Opstart Importark'!$B$6=\"\",\"\",(IF('1 - Opstart Importark'!$B$15=\"\",CONCATENATE(LEFT('1 - Opstart Importark'!$B$3,1),(LEFT('1 - Opstart Importark'!$B$20,5)),MID('1 - Opstart Importark'!$B$20,5,2),LEFT('1 - Opstart Importark'!$B$28,3),IF(I229=\"\",\"\",\"-\"),I229,IF(K229=\"\",\"\",\"-\"),K229,IF(M229=\"\",\"\",\"-\"),M229),CONCATENATE(LEFT('1 - Opstart Importark'!$B$3,1),(LEFT('1 - Opstart Importark'!$B$15,5)),(LEFT('1 - Opstart Importark'!$B$18,3)),IF(I229=\"\",\"\",\"-\"),I229,IF(K229=\"\",\"\",\"-\"),K229,IF(M229=\"\",\"\",\"-\"),M229))))","v":""},null," ",{"$nulls":9},{"$f":"IF(LEN('1 - Opstart Importark'!$B$6)>0,'1 - Opstart Importark'!$B$6,\"\")","v":""},{"$f":"IF(LEN('1 - Opstart Importark'!$B$9)>0,'1 - Opstart Importark'!$B$9,\"\")","v":""},{"$f":"IF(LEN('1 - Opstart Importark'!$B$23)>0,'1 - Opstart Importark'!$B$23,\"\")","v":""},{"$nulls":14},"",{"$nulls":8},0,"","","objektnogle_"]
[218,null,{"$f":"IF('1 - Opstart Importark'!$B$6=\"\",\"\",(IF('1 - Opstart Importark'!$B$15=\"\",CONCATENATE(LEFT('1 - Opstart Importark'!$B$3,1),(LEFT('1 - Opstart Importark'!$B$20,5)),MID('1 - Opstart Importark'!$B$20,5,2),LEFT('1 - Opstart Importark'!$B$28,3),IF(I230=\"\",\"\",\"-\"),I230,IF(K230=\"\",\"\",\"-\"),K230,IF(M230=\"\",\"\",\"-\"),M230),CONCATENATE(LEFT('1 - Opstart Importark'!$B$3,1),(LEFT('1 - Opstart Importark'!$B$15,5)),(LEFT('1 - Opstart Importark'!$B$18,3)),IF(I230=\"\",\"\",\"-\"),I230,IF(K230=\"\",\"\",\"-\"),K230,IF(M230=\"\",\"\",\"-\"),M230))))","v":""},null," ",{"$nulls":9},{"$f":"IF(LEN('1 - Opstart Importark'!$B$6)>0,'1 - Opstart Importark'!$B$6,\"\")","v":""},{"$f":"IF(LEN('1 - Opstart Importark'!$B$9)>0,'1 - Opstart Importark'!$B$9,\"\")","v":""},{"$f":"IF(LEN('1 - Opstart Importark'!$B$23)>0,'1 - Opstart Importark'!$B$23,\"\")","v":""},{"$nulls":14},"",{"$nulls":8},0,"","","objektnogle_"]
[219,null,{"$f":"IF('1 - Opstart Importark'!$B$6=\"\",\"\",(IF('1 - Opstart Importark'!$B$15=\"\",CONCATENATE(LEFT('1 - Opstart Importark'!$B$3,1),(LEFT('1 - Opstart Importark'!$B$20,5)),MID('1 - Opstart Importark'!$B$20,5,2),LEFT('1 - Opstart Importark'!$B$28,3),IF(I231=\"\",\"\",\"-\"),I231,IF(K231=\"\",\"\",\"-\"),K231,IF(M231=\"\",\"\",\"-\"),M231),CONCATENATE(LEFT('1 - Opstart Importark'!$B$3,1),(LEFT('1 - Opstart Importark'!$B$15,5)),(LEFT('1 - Opstart Importark'!$B$18,3)),IF(I231=\"\",\"\",\"-\"),I231,IF(K231=\"\",\"\",\"-\"),K231,IF(M231=\"\",\"\",\"-\"),M231))))","v":""},null," ",{"$nulls":9},{"$f":"IF(LEN('1 - Opstart Importark'!$B$6)>0,'1 - Opstart Importark'!$B$6,\"\")","v":""},{"$f":"IF(LEN('1 - Opstart Importark'!$B$9)>0,'1 - Opstart Importark'!$B$9,\"\")","v":""},{"$f":"IF(LEN('1 - Opstart Importark'!$B$23)>0,'1 - Opstart Importark'!$B$23,\"\")","v":""},{"$nulls":14},"",{"$nulls":8},0,"","","objektnogle_"]
[220,null,{"$f":"IF('1 - Opstart Importark'!$B$6=\"\",\"\",(IF('1 - Opstart Importark'!$B$15=\"\",CONCATENATE(LEFT('1 - Opstart Importark'!$B$3,1),(LEFT('1 - Opstart Importark'!$B$20,5)),MID('1 - Opstart Importark'!$B$20,5,2),LEFT('1 - Opstart Importark'!$B$28,3),IF(I232=\"\",\"\",\"-\"),I232,IF(K232=\"\",\"\",\"-\"),K232,IF(M232=\"\",\"\",\"-\"),M232),CONCATENATE(LEFT('1 - Opstart Importark'!$B$3,1),(LEFT('1 - Opstart Importark'!$B$15,5)),(LEFT('1 - Opstart Importark'!$B$18,3)),IF(I232=\"\",\"\",\"-\"),I232,IF(K232=\"\",\"\",\"-\"),K232,IF(M232=\"\",\"\",\"-\"),M232))))","v":""},null," ",{"$nulls":9},{"$f":"IF(LEN('1 - Opstart Importark'!$B$6)>0,'1 - Opstart Importark'!$B$6,\"\")","v":""},{"$f":"IF(LEN('1 - Opstart Importark'!$B$9)>0,'1 - Opstart Importark'!$B$9,\"\")","v":""},{"$f":"IF(LEN('1 - Opstart Importark'!$B$23)>0,'1 - Opstart Importark'!$B$23,\"\")","v":""},{"$nulls":14},"",{"$nulls":8},0,"","","objektnogle_"]
[221,null,{"$f":"IF('1 - Opstart Importark'!$B$6=\"\",\"\",(IF('1 - Opstart Importark'!$B$15=\"\",CONCATENATE(LEFT('1 - Opstart Importark'!$B$3,1),(LEFT('1 - Opstart Importark'!$B$20,5)),MID('1 - Opstart Importark'!$B$20,5,2),LEFT('1 - Opstart Importark'!$B$28,3),IF(I233=\"\",\"\",\"-\"),I233,IF(K233=\"\",\"\",\"-\"),K233,IF(M233=\"\",\"\",\"-\"),M233),CONCATENATE(LEFT('1 - Opstart Importark'!$B$3,1),(LEFT('1 - Opstart Importark'!$B$15,5)),(LEFT('1 - Opstart Importark'!$B$18,3)),IF(I233=\"\",\"\",\"-\"),I233,IF(K233=\"\",\"\",\"-\"),K233,IF(M233=\"\",\"\",\"-\"),M233))))","v":""},null," ",{"$nulls":9},{"$f":"IF(LEN('1 - Opstart Importark'!$B$6)>0,'1 - Opstart Importark'!$B$6,\"\")","v":""},{"$f":"IF(LEN('1 - Opstart Importark'!$B$9)>0,'1 - Opstart Importark'!$B$9,\"\")","v":""},{"$f":"IF(LEN('1 - Opstart Importark'!$B$23)>0,'1 - Opstart Importark'!$B$23,\"\")","v":""},{"$nulls":14},"",{"$nulls":8},0,"","","objektnogle_"]
[222,null,{"$f":"IF('1 - Opstart Importark'!$B$6=\"\",\"\",(IF('1 - Opstart Importark'!$B$15=\"\",CONCATENATE(LEFT('1 - Opstart Importark'!$B$3,1),(LEFT('1 - Opstart Importark'!$B$20,5)),MID('1 - Opstart Importark'!$B$20,5,2),LEFT('1 - Opstart Importark'!$B$28,3),IF(I234=\"\",\"\",\"-\"),I234,IF(K234=\"\",\"\",\"-\"),K234,IF(M234=\"\",\"\",\"-\"),M234),CONCATENATE(LEFT('1 - Opstart Importark'!$B$3,1),(LEFT('1 - Opstart Importark'!$B$15,5)),(LEFT('1 - Opstart Importark'!$B$18,3)),IF(I234=\"\",\"\",\"-\"),I234,IF(K234=\"\",\"\",\"-\"),K234,IF(M234=\"\",\"\",\"-\"),M234))))","v":""},null," ",{"$nulls":9},{"$f":"IF(LEN('1 - Opstart Importark'!$B$6)>0,'1 - Opstart Importark'!$B$6,\"\")","v":""},{"$f":"IF(LEN('1 - Opstart Importark'!$B$9)>0,'1 - Opstart Importark'!$B$9,\"\")","v":""},{"$f":"IF(LEN('1 - Opstart Importark'!$B$23)>0,'1 - Opstart Importark'!$B$23,\"\")","v":""},{"$nulls":14},"",{"$nulls":8},0,"","","objektnogle_"]
[223,null,{"$f":"IF('1 - Opstart Importark'!$B$6=\"\",\"\",(IF('1 - Opstart Importark'!$B$15=\"\",CONCATENATE(LEFT('1 - Opstart Importark'!$B$3,1),(LEFT('1 - Opstart Importark'!$B$20,5)),MID('1 - Opstart Importark'!$B$20,5,2),LEFT('1 - Opstart Importark'!$B$28,3),IF(I235=\"\",\"\",\"-\"),I235,IF(K235=\"\",\"\",\"-\"),K235,IF(M235=\"\",\"\",\"-\"),M235),CONCATENATE(LEFT('1 - Opstart Importark'!$B$3,1),(LEFT('1 - Opstart Importark'!$B$15,5)),(LEFT('1 - Opstart Importark'!$B$18,3)),IF(I235=\"\",\"\",\"-\"),I235,IF(K235=\"\",\"\",\"-\"),K235,IF(M235=\"\",\"\",\"-\"),M235))))","v":""},null," ",{"$nulls":9},{"$f":"IF(LEN('1 - Opstart Importark'!$B$6)>0,'1 - Opstart Importark'!$B$6,\"\")","v":""},{"$f":"IF(LEN('1 - Opstart Importark'!$B$9)>0,'1 - Opstart Importark'!$B$9,\"\")","v":""},{"$f":"IF(LEN('1 - Opstart Importark'!$B$23)>0,'1 - Opstart Importark'!$B$23,\"\")","v":""},{"$nulls":14},"",{"$nulls":8},0,"","","objektnogle_"]
[224,null,{"$f":"IF('1 - Opstart Importark'!$B$6=\"\",\"\",(IF('1 - Opstart Importark'!$B$15=\"\",CONCATENATE(LEFT('1 - Opstart Importark'!$B$3,1),(LEFT('1 - Opstart Importark'!$B$20,5)),MID('1 - Opstart Importark'!$B$20,5,2),LEFT('1 - Opstart Importark'!$B$28,3),IF(I236=\"\",\"\",\"-\"),I236,IF(K236=\"\",\"\",\"-\"),K236,IF(M236=\"\",\"\",\"-\"),M236),CONCATENATE(LEFT('1 - Opstart Importark'!$B$3,1),(LEFT('1 - Opstart Importark'!$B$15,5)),(LEFT('1 - Opstart Importark'!$B$18,3)),IF(I236=\"\",\"\",\"-\"),I236,IF(K236=\"\",\"\",\"-\"),K236,IF(M236=\"\",\"\",\"-\"),M236))))","v":""},null," ",{"$nulls":9},{"$f":"IF(LEN('1 - Opstart Importark'!$B$6)>0,'1 - Opstart Importark'!$B$6,\"\")","v":""},{"$f":"IF(LEN('1 - Opstart Importark'!$B$9)>0,'1 - Opstart Importark'!$B$9,\"\")","v":""},{"$f":"IF(LEN('1 - Opstart Importark'!$B$23)>0,'1 - Opstart Importark'!$B$23,\"\")","v":""},{"$nulls":14},"",{"$nulls":8},0,"","","objektnogle_"]
[225,null,{"$f":"IF('1 - Opstart Importark'!$B$6=\"\",\"\",(IF('1 - Opstart Importark'!$B$15=\"\",CONCATENATE(LEFT('1 - Opstart Importark'!$B$3,1),(LEFT('1 - Opstart Importark'!$B$20,5)),MID('1 - Opstart Importark'!$B$20,5,2),LEFT('1 - Opstart Importark'!$B$28,3),IF(I237=\"\",\"\",\"-\"),I237,IF(K237=\"\",\"\",\"-\"),K237,IF(M237=\"\",\"\",\"-\"),M237),CONCATENATE(LEFT('1 - Opstart Importark'!$B$3,1),(LEFT('1 - Opstart Importark'!$B$15,5)),(LEFT('1 - Opstart Importark'!$B$18,3)),IF(I237=\"\",\"\",\"-\"),I237,IF(K237=\"\",\"\",\"-\"),K237,IF(M237=\"\",\"\",\"-\"),M237))))","v":""},null," ",{"$nulls":9},{"$f":"IF(LEN('1 - Opstart Importark'!$B$6)>0,'1 - Opstart Importark'!$B$6,\"\")","v":""},{"$f":"IF(LEN('1 - Opstart Importark'!$B$9)>0,'1 - Opstart Importark'!$B$9,\"\")","v":""},{"$f":"IF(LEN('1 - Opstart Importark'!$B$23)>0,'1 - Opstart Importark'!$B$23,\"\")","v":""},{"$nulls":14},"",{"$nulls":8},0,"","","objektnogle_"]
[226,null,{"$f":"IF('1 - Opstart Importark'!$B$6=\"\",\"\",(IF('1 - Opstart Importark'!$B$15=\"\",CONCATENATE(LEFT('1 - Opstart Importark'!$B$3,1),(LEFT('1 - Opstart Importark'!$B$20,5)),MID('1 - Opstart Importark'!$B$20,5,2),LEFT('1 - Opstart Importark'!$B$28,3),IF(I238=\"\",\"\",\"-\"),I238,IF(K238=\"\",\"\",\"-\"),K238,IF(M238=\"\",\"\",\"-\"),M238),CONCATENATE(LEFT('1 - Opstart Importark'!$B$3,1),(LEFT('1 - Opstart Importark'!$B$15,5)),(LEFT('1 - Opstart Importark'!$B$18,3)),IF(I238=\"\",\"\",\"-\"),I238,IF(K238=\"\",\"\",\"-\"),K238,IF(M238=\"\",\"\",\"-\"),M238))))","v":""},null," ",{"$nulls":9},{"$f":"IF(LEN('1 - Opstart Importark'!$B$6)>0,'1 - Opstart Importark'!$B$6,\"\")","v":""},{"$f":"IF(LEN('1 - Opstart Importark'!$B$9)>0,'1 - Opstart Importark'!$B$9,\"\")","v":""},{"$f":"IF(LEN('1 - Opstart Importark'!$B$23)>0,'1 - Opstart Importark'!$B$23,\"\")","v":""},{"$nulls":14},"",{"$nulls":8},0,"","","objektnogle_"]
[227,null,{"$f":"IF('1 - Opstart Importark'!$B$6=\"\",\"\",(IF('1 - Opstart Importark'!$B$15=\"\",CONCATENATE(LEFT('1 - Opstart Importark'!$B$3,1),(LEFT('1 - Opstart Importark'!$B$20,5)),MID('1 - Opstart Importark'!$B$20,5,2),LEFT('1 - Opstart Importark'!$B$28,3),IF(I239=\"\",\"\",\"-\"),I239,IF(K239=\"\",\"\",\"-\"),K239,IF(M239=\"\",\"\",\"-\"),M239),CONCATENATE(LEFT('1 - Opstart Importark'!$B$3,1),(LEFT('1 - Opstart Importark'!$B$15,5)),(LEFT('1 - Opstart Importark'!$B$18,3)),IF(I239=\"\",\"\",\"-\"),I239,IF(K239=\"\",\"\",\"-\"),K239,IF(M239=\"\",\"\",\"-\"),M239))))","v":""},null," ",{"$nulls":9},{"$f":"IF(LEN('1 - Opstart Importark'!$B$6)>0,'1 - Opstart Importark'!$B$6,\"\")","v":""},{"$f":"IF(LEN('1 - Opstart Importark'!$B$9)>0,'1 - Opstart Importark'!$B$9,\"\")","v":""},{"$f":"IF(LEN('1 - Opstart Importark'!$B$23)>0,'1 - Opstart Importark'!$B$23,\"\")","v":""},{"$nulls":14},"",{"$nulls":8},0,"","","objektnogle_"]
[228,null,{"$f":"IF('1 - Opstart Importark'!$B$6=\"\",\"\",(IF('1 - Opstart Importark'!$B$15=\"\",CONCATENATE(LEFT('1 - Opstart Importark'!$B$3,1),(LEFT('1 - Opstart Importark'!$B$20,5)),MID('1 - Opstart Importark'!$B$20,5,2),LEFT('1 - Opstart Importark'!$B$28,3),IF(I240=\"\",\"\",\"-\"),I240,IF(K240=\"\",\"\",\"-\"),K240,IF(M240=\"\",\"\",\"-\"),M240),CONCATENATE(LEFT('1 - Opstart Importark'!$B$3,1),(LEFT('1 - Opstart Importark'!$B$15,5)),(LEFT('1 - Opstart Importark'!$B$18,3)),IF(I240=\"\",\"\",\"-\"),I240,IF(K240=\"\",\"\",\"-\"),K240,IF(M240=\"\",\"\",\"-\"),M240))))","v":""},null," ",{"$nulls":9},{"$f":"IF(LEN('1 - Opstart Importark'!$B$6)>0,'1 - Opstart Importark'!$B$6,\"\")","v":""},{"$f":"IF(LEN('1 - Opstart Importark'!$B$9)>0,'1 - Opstart Importark'!$B$9,\"\")","v":""},{"$f":"IF(LEN('1 - Opstart Importark'!$B$23)>0,'1 - Opstart Importark'!$B$23,\"\")","v":""},{"$nulls":14},"",{"$nulls":8},0,"","","objektnogle_"]
[229,null,{"$f":"IF('1 - Opstart Importark'!$B$6=\"\",\"\",(IF('1 - Opstart Importark'!$B$15=\"\",CONCATENATE(LEFT('1 - Opstart Importark'!$B$3,1),(LEFT('1 - Opstart Importark'!$B$20,5)),MID('1 - Opstart Importark'!$B$20,5,2),LEFT('1 - Opstart Importark'!$B$28,3),IF(I241=\"\",\"\",\"-\"),I241,IF(K241=\"\",\"\",\"-\"),K241,IF(M241=\"\",\"\",\"-\"),M241),CONCATENATE(LEFT('1 - Opstart Importark'!$B$3,1),(LEFT('1 - Opstart Importark'!$B$15,5)),(LEFT('1 - Opstart Importark'!$B$18,3)),IF(I241=\"\",\"\",\"-\"),I241,IF(K241=\"\",\"\",\"-\"),K241,IF(M241=\"\",\"\",\"-\"),M241))))","v":""},null," ",{"$nulls":9},{"$f":"IF(LEN('1 - Opstart Importark'!$B$6)>0,'1 - Opstart Importark'!$B$6,\"\")","v":""},{"$f":"IF(LEN('1 - Opstart Importark'!$B$9)>0,'1 - Opstart Importark'!$B$9,\"\")","v":""},{"$f":"IF(LEN('1 - Opstart Importark'!$B$23)>0,'1 - Opstart Importark'!$B$23,\"\")","v":""},{"$nulls":14},"",{"$nulls":8},0,"","","objektnogle_"]
[230,null,{"$f":"IF('1 - Opstart Importark'!$B$6=\"\",\"\",(IF('1 - Opstart Importark'!$B$15=\"\",CONCATENATE(LEFT('1 - Opstart Importark'!$B$3,1),(LEFT('1 - Opstart Importark'!$B$20,5)),MID('1 - Opstart Importark'!$B$20,5,2),LEFT('1 - Opstart Importark'!$B$28,3),IF(I242=\"\",\"\",\"-\"),I242,IF(K242=\"\",\"\",\"-\"),K242,IF(M242=\"\",\"\",\"-\"),M242),CONCATENATE(LEFT('1 - Opstart Importark'!$B$3,1),(LEFT('1 - Opstart Importark'!$B$15,5)),(LEFT('1 - Opstart Importark'!$B$18,3)),IF(I242=\"\",\"\",\"-\"),I242,IF(K242=\"\",\"\",\"-\"),K242,IF(M242=\"\",\"\",\"-\"),M242))))","v":""},null," ",{"$nulls":9},{"$f":"IF(LEN('1 - Opstart Importark'!$B$6)>0,'1 - Opstart Importark'!$B$6,\"\")","v":""},{"$f":"IF(LEN('1 - Opstart Importark'!$B$9)>0,'1 - Opstart Importark'!$B$9,\"\")","v":""},{"$f":"IF(LEN('1 - Opstart Importark'!$B$23)>0,'1 - Opstart Importark'!$B$23,\"\")","v":""},{"$nulls":14},"",{"$nulls":8},0,"","","objektnogle_"]
[231,null,{"$f":"IF('1 - Opstart Importark'!$B$6=\"\",\"\",(IF('1 - Opstart Importark'!$B$15=\"\",CONCATENATE(LEFT('1 - Opstart Importark'!$B$3,1),(LEFT('1 - Opstart Importark'!$B$20,5)),MID('1 - Opstart Importark'!$B$20,5,2),LEFT('1 - Opstart Importark'!$B$28,3),IF(I243=\"\",\"\",\"-\"),I243,IF(K243=\"\",\"\",\"-\"),K243,IF(M243=\"\",\"\",\"-\"),M243),CONCATENATE(LEFT('1 - Opstart Importark'!$B$3,1),(LEFT('1 - Opstart Importark'!$B$15,5)),(LEFT('1 - Opstart Importark'!$B$18,3)),IF(I243=\"\",\"\",\"-\"),I243,IF(K243=\"\",\"\",\"-\"),K243,IF(M243=\"\",\"\",\"-\"),M243))))","v":""},null," ",{"$nulls":9},{"$f":"IF(LEN('1 - Opstart Importark'!$B$6)>0,'1 - Opstart Importark'!$B$6,\"\")","v":""},{"$f":"IF(LEN('1 - Opstart Importark'!$B$9)>0,'1 - Opstart Importark'!$B$9,\"\")","v":""},{"$f":"IF(LEN('1 - Opstart Importark'!$B$23)>0,'1 - Opstart Importark'!$B$23,\"\")","v":""},{"$nulls":14},"",{"$nulls":8},0,"","","objektnogle_"]
[232,null,{"$f":"IF('1 - Opstart Importark'!$B$6=\"\",\"\",(IF('1 - Opstart Importark'!$B$15=\"\",CONCATENATE(LEFT('1 - Opstart Importark'!$B$3,1),(LEFT('1 - Opstart Importark'!$B$20,5)),MID('1 - Opstart Importark'!$B$20,5,2),LEFT('1 - Opstart Importark'!$B$28,3),IF(I244=\"\",\"\",\"-\"),I244,IF(K244=\"\",\"\",\"-\"),K244,IF(M244=\"\",\"\",\"-\"),M244),CONCATENATE(LEFT('1 - Opstart Importark'!$B$3,1),(LEFT('1 - Opstart Importark'!$B$15,5)),(LEFT('1 - Opstart Importark'!$B$18,3)),IF(I244=\"\",\"\",\"-\"),I244,IF(K244=\"\",\"\",\"-\"),K244,IF(M244=\"\",\"\",\"-\"),M244))))","v":""},null," ",{"$nulls":9},{"$f":"IF(LEN('1 - Opstart Importark'!$B$6)>0,'1 - Opstart Importark'!$B$6,\"\")","v":""},{"$f":"IF(LEN('1 - Opstart Importark'!$B$9)>0,'1 - Opstart Importark'!$B$9,\"\")","v":""},{"$f":"IF(LEN('1 - Opstart Importark'!$B$23)>0,'1 - Opstart Importark'!$B$23,\"\")","v":""},{"$nulls":14},"",{"$nulls":8},0,"","","objektnogle_"]
[233,null,{"$f":"IF('1 - Opstart Importark'!$B$6=\"\",\"\",(IF('1 - Opstart Importark'!$B$15=\"\",CONCATENATE(LEFT('1 - Opstart Importark'!$B$3,1),(LEFT('1 - Opstart Importark'!$B$20,5)),MID('1 - Opstart Importark'!$B$20,5,2),LEFT('1 - Opstart Importark'!$B$28,3),IF(I245=\"\",\"\",\"-\"),I245,IF(K245=\"\",\"\",\"-\"),K245,IF(M245=\"\",\"\",\"-\"),M245),CONCATENATE(LEFT('1 - Opstart Importark'!$B$3,1),(LEFT('1 - Opstart Importark'!$B$15,5)),(LEFT('1 - Opstart Importark'!$B$18,3)),IF(I245=\"\",\"\",\"-\"),I245,IF(K245=\"\",\"\",\"-\"),K245,IF(M245=\"\",\"\",\"-\"),M245))))","v":""},null," ",{"$nulls":9},{"$f":"IF(LEN('1 - Opstart Importark'!$B$6)>0,'1 - Opstart Importark'!$B$6,\"\")","v":""},{"$f":"IF(LEN('1 - Opstart Importark'!$B$9)>0,'1 - Opstart Importark'!$B$9,\"\")","v":""},{"$f":"IF(LEN('1 - Opstart Importark'!$B$23)>0,'1 - Opstart Importark'!$B$23,\"\")","v":""},{"$nulls":14},"",{"$nulls":8},0,"","","objektnogle_"]
[234,null,{"$f":"IF('1 - Opstart Importark'!$B$6=\"\",\"\",(IF('1 - Opstart Importark'!$B$15=\"\",CONCATENATE(LEFT('1 - Opstart Importark'!$B$3,1),(LEFT('1 - Opstart Importark'!$B$20,5)),MID('1 - Opstart Importark'!$B$20,5,2),LEFT('1 - Opstart Importark'!$B$28,3),IF(I246=\"\",\"\",\"-\"),I246,IF(K246=\"\",\"\",\"-\"),K246,IF(M246=\"\",\"\",\"-\"),M246),CONCATENATE(LEFT('1 - Opstart Importark'!$B$3,1),(LEFT('1 - Opstart Importark'!$B$15,5)),(LEFT('1 - Opstart Importark'!$B$18,3)),IF(I246=\"\",\"\",\"-\"),I246,IF(K246=\"\",\"\",\"-\"),K246,IF(M246=\"\",\"\",\"-\"),M246))))","v":""},null," ",{"$nulls":9},{"$f":"IF(LEN('1 - Opstart Importark'!$B$6)>0,'1 - Opstart Importark'!$B$6,\"\")","v":""},{"$f":"IF(LEN('1 - Opstart Importark'!$B$9)>0,'1 - Opstart Importark'!$B$9,\"\")","v":""},{"$f":"IF(LEN('1 - Opstart Importark'!$B$23)>0,'1 - Opstart Importark'!$B$23,\"\")","v":""},{"$nulls":14},"",{"$nulls":8},0,"","","objektnogle_"]
[235,null,{"$f":"IF('1 - Opstart Importark'!$B$6=\"\",\"\",(IF('1 - Opstart Importark'!$B$15=\"\",CONCATENATE(LEFT('1 - Opstart Importark'!$B$3,1),(LEFT('1 - Opstart Importark'!$B$20,5)),MID('1 - Opstart Importark'!$B$20,5,2),LEFT('1 - Opstart Importark'!$B$28,3),IF(I247=\"\",\"\",\"-\"),I247,IF(K247=\"\",\"\",\"-\"),K247,IF(M247=\"\",\"\",\"-\"),M247),CONCATENATE(LEFT('1 - Opstart Importark'!$B$3,1),(LEFT('1 - Opstart Importark'!$B$15,5)),(LEFT('1 - Opstart Importark'!$B$18,3)),IF(I247=\"\",\"\",\"-\"),I247,IF(K247=\"\",\"\",\"-\"),K247,IF(M247=\"\",\"\",\"-\"),M247))))","v":""},null," ",{"$nulls":9},{"$f":"IF(LEN('1 - Opstart Importark'!$B$6)>0,'1 - Opstart Importark'!$B$6,\"\")","v":""},{"$f":"IF(LEN('1 - Opstart Importark'!$B$9)>0,'1 - Opstart Importark'!$B$9,\"\")","v":""},{"$f":"IF(LEN('1 - Opstart Importark'!$B$23)>0,'1 - Opstart Importark'!$B$23,\"\")","v":""},{"$nulls":14},"",{"$nulls":8},0,"","","objektnogle_"]
[236,null,{"$f":"IF('1 - Opstart Importark'!$B$6=\"\",\"\",(IF('1 - Opstart Importark'!$B$15=\"\",CONCATENATE(LEFT('1 - Opstart Importark'!$B$3,1),(LEFT('1 - Opstart Importark'!$B$20,5)),MID('1 - Opstart Importark'!$B$20,5,2),LEFT('1 - Opstart Importark'!$B$28,3),IF(I248=\"\",\"\",\"-\"),I248,IF(K248=\"\",\"\",\"-\"),K248,IF(M248=\"\",\"\",\"-\"),M248),CONCATENATE(LEFT('1 - Opstart Importark'!$B$3,1),(LEFT('1 - Opstart Importark'!$B$15,5)),(LEFT('1 - Opstart Importark'!$B$18,3)),IF(I248=\"\",\"\",\"-\"),I248,IF(K248=\"\",\"\",\"-\"),K248,IF(M248=\"\",\"\",\"-\"),M248))))","v":""},null," ",{"$nulls":9},{"$f":"IF(LEN('1 - Opstart Importark'!$B$6)>0,'1 - Opstart Importark'!$B$6,\"\")","v":""},{"$f":"IF(LEN('1 - Opstart Importark'!$B$9)>0,'1 - Opstart Importark'!$B$9,\"\")","v":""},{"$f":"IF(LEN('1 - Opstart Importark'!$B$23)>0,'1 - Opstart Importark'!$B$23,\"\")","v":""},{"$nulls":14},"",{"$nulls":8},0,"","","objektnogle_"]
[237,null,{"$f":"IF('1 - Opstart Importark'!$B$6=\"\",\"\",(IF('1 - Opstart Importark'!$B$15=\"\",CONCATENATE(LEFT('1 - Opstart Importark'!$B$3,1),(LEFT('1 - Opstart Importark'!$B$20,5)),MID('1 - Opstart Importark'!$B$20,5,2),LEFT('1 - Opstart Importark'!$B$28,3),IF(I249=\"\",\"\",\"-\"),I249,IF(K249=\"\",\"\",\"-\"),K249,IF(M249=\"\",\"\",\"-\"),M249),CONCATENATE(LEFT('1 - Opstart Importark'!$B$3,1),(LEFT('1 - Opstart Importark'!$B$15,5)),(LEFT('1 - Opstart Importark'!$B$18,3)),IF(I249=\"\",\"\",\"-\"),I249,IF(K249=\"\",\"\",\"-\"),K249,IF(M249=\"\",\"\",\"-\"),M249))))","v":""},null," ",{"$nulls":9},{"$f":"IF(LEN('1 - Opstart Importark'!$B$6)>0,'1 - Opstart Importark'!$B$6,\"\")","v":""},{"$f":"IF(LEN('1 - Opstart Importark'!$B$9)>0,'1 - Opstart Importark'!$B$9,\"\")","v":""},{"$f":"IF(LEN('1 - Opstart Importark'!$B$23)>0,'1 - Opstart Importark'!$B$23,\"\")","v":""},{"$nulls":14},"",{"$nulls":8},0,"","","objektnogle_"]
[238,null,{"$f":"IF('1 - Opstart Importark'!$B$6=\"\",\"\",(IF('1 - Opstart Importark'!$B$15=\"\",CONCATENATE(LEFT('1 - Opstart Importark'!$B$3,1),(LEFT('1 - Opstart Importark'!$B$20,5)),MID('1 - Opstart Importark'!$B$20,5,2),LEFT('1 - Opstart Importark'!$B$28,3),IF(I250=\"\",\"\",\"-\"),I250,IF(K250=\"\",\"\",\"-\"),K250,IF(M250=\"\",\"\",\"-\"),M250),CONCATENATE(LEFT('1 - Opstart Importark'!$B$3,1),(LEFT('1 - Opstart Importark'!$B$15,5)),(LEFT('1 - Opstart Importark'!$B$18,3)),IF(I250=\"\",\"\",\"-\"),I250,IF(K250=\"\",\"\",\"-\"),K250,IF(M250=\"\",\"\",\"-\"),M250))))","v":""},null," ",{"$nulls":9},{"$f":"IF(LEN('1 - Opstart Importark'!$B$6)>0,'1 - Opstart Importark'!$B$6,\"\")","v":""},{"$f":"IF(LEN('1 - Opstart Importark'!$B$9)>0,'1 - Opstart Importark'!$B$9,\"\")","v":""},{"$f":"IF(LEN('1 - Opstart Importark'!$B$23)>0,'1 - Opstart Importark'!$B$23,\"\")","v":""},{"$nulls":14},"",{"$nulls":8},0,"","","objektnogle_"]
[239,null,{"$f":"IF('1 - Opstart Importark'!$B$6=\"\",\"\",(IF('1 - Opstart Importark'!$B$15=\"\",CONCATENATE(LEFT('1 - Opstart Importark'!$B$3,1),(LEFT('1 - Opstart Importark'!$B$20,5)),MID('1 - Opstart Importark'!$B$20,5,2),LEFT('1 - Opstart Importark'!$B$28,3),IF(I251=\"\",\"\",\"-\"),I251,IF(K251=\"\",\"\",\"-\"),K251,IF(M251=\"\",\"\",\"-\"),M251),CONCATENATE(LEFT('1 - Opstart Importark'!$B$3,1),(LEFT('1 - Opstart Importark'!$B$15,5)),(LEFT('1 - Opstart Importark'!$B$18,3)),IF(I251=\"\",\"\",\"-\"),I251,IF(K251=\"\",\"\",\"-\"),K251,IF(M251=\"\",\"\",\"-\"),M251))))","v":""},null," ",{"$nulls":9},{"$f":"IF(LEN('1 - Opstart Importark'!$B$6)>0,'1 - Opstart Importark'!$B$6,\"\")","v":""},{"$f":"IF(LEN('1 - Opstart Importark'!$B$9)>0,'1 - Opstart Importark'!$B$9,\"\")","v":""},{"$f":"IF(LEN('1 - Opstart Importark'!$B$23)>0,'1 - Opstart Importark'!$B$23,\"\")","v":""},{"$nulls":14},"",{"$nulls":8},0,"","","objektnogle_"]
[240,null,{"$f":"IF('1 - Opstart Importark'!$B$6=\"\",\"\",(IF('1 - Opstart Importark'!$B$15=\"\",CONCATENATE(LEFT('1 - Opstart Importark'!$B$3,1),(LEFT('1 - Opstart Importark'!$B$20,5)),MID('1 - Opstart Importark'!$B$20,5,2),LEFT('1 - Opstart Importark'!$B$28,3),IF(I252=\"\",\"\",\"-\"),I252,IF(K252=\"\",\"\",\"-\"),K252,IF(M252=\"\",\"\",\"-\"),M252),CONCATENATE(LEFT('1 - Opstart Importark'!$B$3,1),(LEFT('1 - Opstart Importark'!$B$15,5)),(LEFT('1 - Opstart Importark'!$B$18,3)),IF(I252=\"\",\"\",\"-\"),I252,IF(K252=\"\",\"\",\"-\"),K252,IF(M252=\"\",\"\",\"-\"),M252))))","v":""},null," ",{"$nulls":9},{"$f":"IF(LEN('1 - Opstart Importark'!$B$6)>0,'1 - Opstart Importark'!$B$6,\"\")","v":""},{"$f":"IF(LEN('1 - Opstart Importark'!$B$9)>0,'1 - Opstart Importark'!$B$9,\"\")","v":""},{"$f":"IF(LEN('1 - Opstart Importark'!$B$23)>0,'1 - Opstart Importark'!$B$23,\"\")","v":""},{"$nulls":14},"",{"$nulls":8},0,"","","objektnogle_"]
[241,null,{"$f":"IF('1 - Opstart Importark'!$B$6=\"\",\"\",(IF('1 - Opstart Importark'!$B$15=\"\",CONCATENATE(LEFT('1 - Opstart Importark'!$B$3,1),(LEFT('1 - Opstart Importark'!$B$20,5)),MID('1 - Opstart Importark'!$B$20,5,2),LEFT('1 - Opstart Importark'!$B$28,3),IF(I253=\"\",\"\",\"-\"),I253,IF(K253=\"\",\"\",\"-\"),K253,IF(M253=\"\",\"\",\"-\"),M253),CONCATENATE(LEFT('1 - Opstart Importark'!$B$3,1),(LEFT('1 - Opstart Importark'!$B$15,5)),(LEFT('1 - Opstart Importark'!$B$18,3)),IF(I253=\"\",\"\",\"-\"),I253,IF(K253=\"\",\"\",\"-\"),K253,IF(M253=\"\",\"\",\"-\"),M253))))","v":""},null," ",{"$nulls":9},{"$f":"IF(LEN('1 - Opstart Importark'!$B$6)>0,'1 - Opstart Importark'!$B$6,\"\")","v":""},{"$f":"IF(LEN('1 - Opstart Importark'!$B$9)>0,'1 - Opstart Importark'!$B$9,\"\")","v":""},{"$f":"IF(LEN('1 - Opstart Importark'!$B$23)>0,'1 - Opstart Importark'!$B$23,\"\")","v":""},{"$nulls":14},"",{"$nulls":8},0,"","","objektnogle_"]
[242,null,{"$f":"IF('1 - Opstart Importark'!$B$6=\"\",\"\",(IF('1 - Opstart Importark'!$B$15=\"\",CONCATENATE(LEFT('1 - Opstart Importark'!$B$3,1),(LEFT('1 - Opstart Importark'!$B$20,5)),MID('1 - Opstart Importark'!$B$20,5,2),LEFT('1 - Opstart Importark'!$B$28,3),IF(I254=\"\",\"\",\"-\"),I254,IF(K254=\"\",\"\",\"-\"),K254,IF(M254=\"\",\"\",\"-\"),M254),CONCATENATE(LEFT('1 - Opstart Importark'!$B$3,1),(LEFT('1 - Opstart Importark'!$B$15,5)),(LEFT('1 - Opstart Importark'!$B$18,3)),IF(I254=\"\",\"\",\"-\"),I254,IF(K254=\"\",\"\",\"-\"),K254,IF(M254=\"\",\"\",\"-\"),M254))))","v":""},null," ",{"$nulls":9},{"$f":"IF(LEN('1 - Opstart Importark'!$B$6)>0,'1 - Opstart Importark'!$B$6,\"\")","v":""},{"$f":"IF(LEN('1 - Opstart Importark'!$B$9)>0,'1 - Opstart Importark'!$B$9,\"\")","v":""},{"$f":"IF(LEN('1 - Opstart Importark'!$B$23)>0,'1 - Opstart Importark'!$B$23,\"\")","v":""},{"$nulls":14},"",{"$nulls":8},0,"","","objektnogle_"]
[243,null,{"$f":"IF('1 - Opstart Importark'!$B$6=\"\",\"\",(IF('1 - Opstart Importark'!$B$15=\"\",CONCATENATE(LEFT('1 - Opstart Importark'!$B$3,1),(LEFT('1 - Opstart Importark'!$B$20,5)),MID('1 - Opstart Importark'!$B$20,5,2),LEFT('1 - Opstart Importark'!$B$28,3),IF(I255=\"\",\"\",\"-\"),I255,IF(K255=\"\",\"\",\"-\"),K255,IF(M255=\"\",\"\",\"-\"),M255),CONCATENATE(LEFT('1 - Opstart Importark'!$B$3,1),(LEFT('1 - Opstart Importark'!$B$15,5)),(LEFT('1 - Opstart Importark'!$B$18,3)),IF(I255=\"\",\"\",\"-\"),I255,IF(K255=\"\",\"\",\"-\"),K255,IF(M255=\"\",\"\",\"-\"),M255))))","v":""},null," ",{"$nulls":9},{"$f":"IF(LEN('1 - Opstart Importark'!$B$6)>0,'1 - Opstart Importark'!$B$6,\"\")","v":""},{"$f":"IF(LEN('1 - Opstart Importark'!$B$9)>0,'1 - Opstart Importark'!$B$9,\"\")","v":""},{"$f":"IF(LEN('1 - Opstart Importark'!$B$23)>0,'1 - Opstart Importark'!$B$23,\"\")","v":""},{"$nulls":14},"",{"$nulls":8},0,"","","objektnogle_"]
[244,null,{"$f":"IF('1 - Opstart Importark'!$B$6=\"\",\"\",(IF('1 - Opstart Importark'!$B$15=\"\",CONCATENATE(LEFT('1 - Opstart Importark'!$B$3,1),(LEFT('1 - Opstart Importark'!$B$20,5)),MID('1 - Opstart Importark'!$B$20,5,2),LEFT('1 - Opstart Importark'!$B$28,3),IF(I256=\"\",\"\",\"-\"),I256,IF(K256=\"\",\"\",\"-\"),K256,IF(M256=\"\",\"\",\"-\"),M256),CONCATENATE(LEFT('1 - Opstart Importark'!$B$3,1),(LEFT('1 - Opstart Importark'!$B$15,5)),(LEFT('1 - Opstart Importark'!$B$18,3)),IF(I256=\"\",\"\",\"-\"),I256,IF(K256=\"\",\"\",\"-\"),K256,IF(M256=\"\",\"\",\"-\"),M256))))","v":""},null," ",{"$nulls":9},{"$f":"IF(LEN('1 - Opstart Importark'!$B$6)>0,'1 - Opstart Importark'!$B$6,\"\")","v":""},{"$f":"IF(LEN('1 - Opstart Importark'!$B$9)>0,'1 - Opstart Importark'!$B$9,\"\")","v":""},{"$f":"IF(LEN('1 - Opstart Importark'!$B$23)>0,'1 - Opstart Importark'!$B$23,\"\")","v":""},{"$nulls":14},"",{"$nulls":8},0,"","","objektnogle_"]
[245,null,{"$f":"IF('1 - Opstart Importark'!$B$6=\"\",\"\",(IF('1 - Opstart Importark'!$B$15=\"\",CONCATENATE(LEFT('1 - Opstart Importark'!$B$3,1),(LEFT('1 - Opstart Importark'!$B$20,5)),MID('1 - Opstart Importark'!$B$20,5,2),LEFT('1 - Opstart Importark'!$B$28,3),IF(I257=\"\",\"\",\"-\"),I257,IF(K257=\"\",\"\",\"-\"),K257,IF(M257=\"\",\"\",\"-\"),M257),CONCATENATE(LEFT('1 - Opstart Importark'!$B$3,1),(LEFT('1 - Opstart Importark'!$B$15,5)),(LEFT('1 - Opstart Importark'!$B$18,3)),IF(I257=\"\",\"\",\"-\"),I257,IF(K257=\"\",\"\",\"-\"),K257,IF(M257=\"\",\"\",\"-\"),M257))))","v":""},null," ",{"$nulls":9},{"$f":"IF(LEN('1 - Opstart Importark'!$B$6)>0,'1 - Opstart Importark'!$B$6,\"\")","v":""},{"$f":"IF(LEN('1 - Opstart Importark'!$B$9)>0,'1 - Opstart Importark'!$B$9,\"\")","v":""},{"$f":"IF(LEN('1 - Opstart Importark'!$B$23)>0,'1 - Opstart Importark'!$B$23,\"\")","v":""},{"$nulls":14},"",{"$nulls":8},0,"","","objektnogle_"]
[246,null,{"$f":"IF('1 - Opstart Importark'!$B$6=\"\",\"\",(IF('1 - Opstart Importark'!$B$15=\"\",CONCATENATE(LEFT('1 - Opstart Importark'!$B$3,1),(LEFT('1 - Opstart Importark'!$B$20,5)),MID('1 - Opstart Importark'!$B$20,5,2),LEFT('1 - Opstart Importark'!$B$28,3),IF(I258=\"\",\"\",\"-\"),I258,IF(K258=\"\",\"\",\"-\"),K258,IF(M258=\"\",\"\",\"-\"),M258),CONCATENATE(LEFT('1 - Opstart Importark'!$B$3,1),(LEFT('1 - Opstart Importark'!$B$15,5)),(LEFT('1 - Opstart Importark'!$B$18,3)),IF(I258=\"\",\"\",\"-\"),I258,IF(K258=\"\",\"\",\"-\"),K258,IF(M258=\"\",\"\",\"-\"),M258))))","v":""},null," ",{"$nulls":9},{"$f":"IF(LEN('1 - Opstart Importark'!$B$6)>0,'1 - Opstart Importark'!$B$6,\"\")","v":""},{"$f":"IF(LEN('1 - Opstart Importark'!$B$9)>0,'1 - Opstart Importark'!$B$9,\"\")","v":""},{"$f":"IF(LEN('1 - Opstart Importark'!$B$23)>0,'1 - Opstart Importark'!$B$23,\"\")","v":""},{"$nulls":14},"",{"$nulls":8},0,"","","objektnogle_"]
[247,null,{"$f":"IF('1 - Opstart Importark'!$B$6=\"\",\"\",(IF('1 - Opstart Importark'!$B$15=\"\",CONCATENATE(LEFT('1 - Opstart Importark'!$B$3,1),(LEFT('1 - Opstart Importark'!$B$20,5)),MID('1 - Opstart Importark'!$B$20,5,2),LEFT('1 - Opstart Importark'!$B$28,3),IF(I259=\"\",\"\",\"-\"),I259,IF(K259=\"\",\"\",\"-\"),K259,IF(M259=\"\",\"\",\"-\"),M259),CONCATENATE(LEFT('1 - Opstart Importark'!$B$3,1),(LEFT('1 - Opstart Importark'!$B$15,5)),(LEFT('1 - Opstart Importark'!$B$18,3)),IF(I259=\"\",\"\",\"-\"),I259,IF(K259=\"\",\"\",\"-\"),K259,IF(M259=\"\",\"\",\"-\"),M259))))","v":""},null," ",{"$nulls":9},{"$f":"IF(LEN('1 - Opstart Importark'!$B$6)>0,'1 - Opstart Importark'!$B$6,\"\")","v":""},{"$f":"IF(LEN('1 - Opstart Importark'!$B$9)>0,'1 - Opstart Importark'!$B$9,\"\")","v":""},{"$f":"IF(LEN('1 - Opstart Importark'!$B$23)>0,'1 - Opstart Importark'!$B$23,\"\")","v":""},{"$nulls":14},"",{"$nulls":8},0,"","","objektnogle_"]
[248,null,{"$f":"IF('1 - Opstart Importark'!$B$6=\"\",\"\",(IF('1 - Opstart Importark'!$B$15=\"\",CONCATENATE(LEFT('1 - Opstart Importark'!$B$3,1),(LEFT('1 - Opstart Importark'!$B$20,5)),MID('1 - Opstart Importark'!$B$20,5,2),LEFT('1 - Opstart Importark'!$B$28,3),IF(I260=\"\",\"\",\"-\"),I260,IF(K260=\"\",\"\",\"-\"),K260,IF(M260=\"\",\"\",\"-\"),M260),CONCATENATE(LEFT('1 - Opstart Importark'!$B$3,1),(LEFT('1 - Opstart Importark'!$B$15,5)),(LEFT('1 - Opstart Importark'!$B$18,3)),IF(I260=\"\",\"\",\"-\"),I260,IF(K260=\"\",\"\",\"-\"),K260,IF(M260=\"\",\"\",\"-\"),M260))))","v":""},null," ",{"$nulls":9},{"$f":"IF(LEN('1 - Opstart Importark'!$B$6)>0,'1 - Opstart Importark'!$B$6,\"\")","v":""},{"$f":"IF(LEN('1 - Opstart Importark'!$B$9)>0,'1 - Opstart Importark'!$B$9,\"\")","v":""},{"$f":"IF(LEN('1 - Opstart Importark'!$B$23)>0,'1 - Opstart Importark'!$B$23,\"\")","v":""},{"$nulls":14},"",{"$nulls":8},0,"","","objektnogle_"]
[249,null,{"$f":"IF('1 - Opstart Importark'!$B$6=\"\",\"\",(IF('1 - Opstart Importark'!$B$15=\"\",CONCATENATE(LEFT('1 - Opstart Importark'!$B$3,1),(LEFT('1 - Opstart Importark'!$B$20,5)),MID('1 - Opstart Importark'!$B$20,5,2),LEFT('1 - Opstart Importark'!$B$28,3),IF(I261=\"\",\"\",\"-\"),I261,IF(K261=\"\",\"\",\"-\"),K261,IF(M261=\"\",\"\",\"-\"),M261),CONCATENATE(LEFT('1 - Opstart Importark'!$B$3,1),(LEFT('1 - Opstart Importark'!$B$15,5)),(LEFT('1 - Opstart Importark'!$B$18,3)),IF(I261=\"\",\"\",\"-\"),I261,IF(K261=\"\",\"\",\"-\"),K261,IF(M261=\"\",\"\",\"-\"),M261))))","v":""},null," ",{"$nulls":9},{"$f":"IF(LEN('1 - Opstart Importark'!$B$6)>0,'1 - Opstart Importark'!$B$6,\"\")","v":""},{"$f":"IF(LEN('1 - Opstart Importark'!$B$9)>0,'1 - Opstart Importark'!$B$9,\"\")","v":""},{"$f":"IF(LEN('1 - Opstart Importark'!$B$23)>0,'1 - Opstart Importark'!$B$23,\"\")","v":""},{"$nulls":14},"",{"$nulls":8},0,"","","objektnogle_"]
[250,null,{"$f":"IF('1 - Opstart Importark'!$B$6=\"\",\"\",(IF('1 - Opstart Importark'!$B$15=\"\",CONCATENATE(LEFT('1 - Opstart Importark'!$B$3,1),(LEFT('1 - Opstart Importark'!$B$20,5)),MID('1 - Opstart Importark'!$B$20,5,2),LEFT('1 - Opstart Importark'!$B$28,3),IF(I262=\"\",\"\",\"-\"),I262,IF(K262=\"\",\"\",\"-\"),K262,IF(M262=\"\",\"\",\"-\"),M262),CONCATENATE(LEFT('1 - Opstart Importark'!$B$3,1),(LEFT('1 - Opstart Importark'!$B$15,5)),(LEFT('1 - Opstart Importark'!$B$18,3)),IF(I262=\"\",\"\",\"-\"),I262,IF(K262=\"\",\"\",\"-\"),K262,IF(M262=\"\",\"\",\"-\"),M262))))","v":""},null," ",{"$nulls":9},{"$f":"IF(LEN('1 - Opstart Importark'!$B$6)>0,'1 - Opstart Importark'!$B$6,\"\")","v":""},{"$f":"IF(LEN('1 - Opstart Importark'!$B$9)>0,'1 - Opstart Importark'!$B$9,\"\")","v":""},{"$f":"IF(LEN('1 - Opstart Importark'!$B$23)>0,'1 - Opstart Importark'!$B$23,\"\")","v":""},{"$nulls":14},"",{"$nulls":8},0,"","","objektnogle_"]
[251,null,{"$f":"IF('1 - Opstart Importark'!$B$6=\"\",\"\",(IF('1 - Opstart Importark'!$B$15=\"\",CONCATENATE(LEFT('1 - Opstart Importark'!$B$3,1),(LEFT('1 - Opstart Importark'!$B$20,5)),MID('1 - Opstart Importark'!$B$20,5,2),LEFT('1 - Opstart Importark'!$B$28,3),IF(I263=\"\",\"\",\"-\"),I263,IF(K263=\"\",\"\",\"-\"),K263,IF(M263=\"\",\"\",\"-\"),M263),CONCATENATE(LEFT('1 - Opstart Importark'!$B$3,1),(LEFT('1 - Opstart Importark'!$B$15,5)),(LEFT('1 - Opstart Importark'!$B$18,3)),IF(I263=\"\",\"\",\"-\"),I263,IF(K263=\"\",\"\",\"-\"),K263,IF(M263=\"\",\"\",\"-\"),M263))))","v":""},null," ",{"$nulls":9},{"$f":"IF(LEN('1 - Opstart Importark'!$B$6)>0,'1 - Opstart Importark'!$B$6,\"\")","v":""},{"$f":"IF(LEN('1 - Opstart Importark'!$B$9)>0,'1 - Opstart Importark'!$B$9,\"\")","v":""},{"$f":"IF(LEN('1 - Opstart Importark'!$B$23)>0,'1 - Opstart Importark'!$B$23,\"\")","v":""},{"$nulls":14},"",{"$nulls":8},0,"","","objektnogle_"]
[252,null,{"$f":"IF('1 - Opstart Importark'!$B$6=\"\",\"\",(IF('1 - Opstart Importark'!$B$15=\"\",CONCATENATE(LEFT('1 - Opstart Importark'!$B$3,1),(LEFT('1 - Opstart Importark'!$B$20,5)),MID('1 - Opstart Importark'!$B$20,5,2),LEFT('1 - Opstart Importark'!$B$28,3),IF(I264=\"\",\"\",\"-\"),I264,IF(K264=\"\",\"\",\"-\"),K264,IF(M264=\"\",\"\",\"-\"),M264),CONCATENATE(LEFT('1 - Opstart Importark'!$B$3,1),(LEFT('1 - Opstart Importark'!$B$15,5)),(LEFT('1 - Opstart Importark'!$B$18,3)),IF(I264=\"\",\"\",\"-\"),I264,IF(K264=\"\",\"\",\"-\"),K264,IF(M264=\"\",\"\",\"-\"),M264))))","v":""},null," ",{"$nulls":9},{"$f":"IF(LEN('1 - Opstart Importark'!$B$6)>0,'1 - Opstart Importark'!$B$6,\"\")","v":""},{"$f":"IF(LEN('1 - Opstart Importark'!$B$9)>0,'1 - Opstart Importark'!$B$9,\"\")","v":""},{"$f":"IF(LEN('1 - Opstart Importark'!$B$23)>0,'1 - Opstart Importark'!$B$23,\"\")","v":""},{"$nulls":14},"",{"$nulls":8},0,"","","objektnogle_"]
[253,null,{"$f":"IF('1 - Opstart Importark'!$B$6=\"\",\"\",(IF('1 - Opstart Importark'!$B$15=\"\",CONCATENATE(LEFT('1 - Opstart Importark'!$B$3,1),(LEFT('1 - Opstart Importark'!$B$20,5)),MID('1 - Opstart Importark'!$B$20,5,2),LEFT('1 - Opstart Importark'!$B$28,3),IF(I265=\"\",\"\",\"-\"),I265,IF(K265=\"\",\"\",\"-\"),K265,IF(M265=\"\",\"\",\"-\"),M265),CONCATENATE(LEFT('1 - Opstart Importark'!$B$3,1),(LEFT('1 - Opstart Importark'!$B$15,5)),(LEFT('1 - Opstart Importark'!$B$18,3)),IF(I265=\"\",\"\",\"-\"),I265,IF(K265=\"\",\"\",\"-\"),K265,IF(M265=\"\",\"\",\"-\"),M265))))","v":""},null," ",{"$nulls":9},{"$f":"IF(LEN('1 - Opstart Importark'!$B$6)>0,'1 - Opstart Importark'!$B$6,\"\")","v":""},{"$f":"IF(LEN('1 - Opstart Importark'!$B$9)>0,'1 - Opstart Importark'!$B$9,\"\")","v":""},{"$f":"IF(LEN('1 - Opstart Importark'!$B$23)>0,'1 - Opstart Importark'!$B$23,\"\")","v":""},{"$nulls":14},"",{"$nulls":8},0,"","","objektnogle_"]
[254,null,{"$f":"IF('1 - Opstart Importark'!$B$6=\"\",\"\",(IF('1 - Opstart Importark'!$B$15=\"\",CONCATENATE(LEFT('1 - Opstart Importark'!$B$3,1),(LEFT('1 - Opstart Importark'!$B$20,5)),MID('1 - Opstart Importark'!$B$20,5,2),LEFT('1 - Opstart Importark'!$B$28,3),IF(I266=\"\",\"\",\"-\"),I266,IF(K266=\"\",\"\",\"-\"),K266,IF(M266=\"\",\"\",\"-\"),M266),CONCATENATE(LEFT('1 - Opstart Importark'!$B$3,1),(LEFT('1 - Opstart Importark'!$B$15,5)),(LEFT('1 - Opstart Importark'!$B$18,3)),IF(I266=\"\",\"\",\"-\"),I266,IF(K266=\"\",\"\",\"-\"),K266,IF(M266=\"\",\"\",\"-\"),M266))))","v":""},null," ",{"$nulls":9},{"$f":"IF(LEN('1 - Opstart Importark'!$B$6)>0,'1 - Opstart Importark'!$B$6,\"\")","v":""},{"$f":"IF(LEN('1 - Opstart Importark'!$B$9)>0,'1 - Opstart Importark'!$B$9,\"\")","v":""},{"$f":"IF(LEN('1 - Opstart Importark'!$B$23)>0,'1 - Opstart Importark'!$B$23,\"\")","v":""},{"$nulls":14},"",{"$nulls":8},0,"","","objektnogle_"]
[255,null,{"$f":"IF('1 - Opstart Importark'!$B$6=\"\",\"\",(IF('1 - Opstart Importark'!$B$15=\"\",CONCATENATE(LEFT('1 - Opstart Importark'!$B$3,1),(LEFT('1 - Opstart Importark'!$B$20,5)),MID('1 - Opstart Importark'!$B$20,5,2),LEFT('1 - Opstart Importark'!$B$28,3),IF(I267=\"\",\"\",\"-\"),I267,IF(K267=\"\",\"\",\"-\"),K267,IF(M267=\"\",\"\",\"-\"),M267),CONCATENATE(LEFT('1 - Opstart Importark'!$B$3,1),(LEFT('1 - Opstart Importark'!$B$15,5)),(LEFT('1 - Opstart Importark'!$B$18,3)),IF(I267=\"\",\"\",\"-\"),I267,IF(K267=\"\",\"\",\"-\"),K267,IF(M267=\"\",\"\",\"-\"),M267))))","v":""},null," ",{"$nulls":9},{"$f":"IF(LEN('1 - Opstart Importark'!$B$6)>0,'1 - Opstart Importark'!$B$6,\"\")","v":""},{"$f":"IF(LEN('1 - Opstart Importark'!$B$9)>0,'1 - Opstart Importark'!$B$9,\"\")","v":""},{"$f":"IF(LEN('1 - Opstart Importark'!$B$23)>0,'1 - Opstart Importark'!$B$23,\"\")","v":""},{"$nulls":14},"",{"$nulls":8},0,"","","objektnogle_"]
[256,null,{"$f":"IF('1 - Opstart Importark'!$B$6=\"\",\"\",(IF('1 - Opstart Importark'!$B$15=\"\",CONCATENATE(LEFT('1 - Opstart Importark'!$B$3,1),(LEFT('1 - Opstart Importark'!$B$20,5)),MID('1 - Opstart Importark'!$B$20,5,2),LEFT('1 - Opstart Importark'!$B$28,3),IF(I268=\"\",\"\",\"-\"),I268,IF(K268=\"\",\"\",\"-\"),K268,IF(M268=\"\",\"\",\"-\"),M268),CONCATENATE(LEFT('1 - Opstart Importark'!$B$3,1),(LEFT('1 - Opstart Importark'!$B$15,5)),(LEFT('1 - Opstart Importark'!$B$18,3)),IF(I268=\"\",\"\",\"-\"),I268,IF(K268=\"\",\"\",\"-\"),K268,IF(M268=\"\",\"\",\"-\"),M268))))","v":""},null," ",{"$nulls":9},{"$f":"IF(LEN('1 - Opstart Importark'!$B$6)>0,'1 - Opstart Importark'!$B$6,\"\")","v":""},{"$f":"IF(LEN('1 - Opstart Importark'!$B$9)>0,'1 - Opstart Importark'!$B$9,\"\")","v":""},{"$f":"IF(LEN('1 - Opstart Importark'!$B$23)>0,'1 - Opstart Importark'!$B$23,\"\")","v":""},{"$nulls":14},"",{"$nulls":8},0,"","","objektnogle_"]
[257,null,{"$f":"IF('1 - Opstart Importark'!$B$6=\"\",\"\",(IF('1 - Opstart Importark'!$B$15=\"\",CONCATENATE(LEFT('1 - Opstart Importark'!$B$3,1),(LEFT('1 - Opstart Importark'!$B$20,5)),MID('1 - Opstart Importark'!$B$20,5,2),LEFT('1 - Opstart Importark'!$B$28,3),IF(I269=\"\",\"\",\"-\"),I269,IF(K269=\"\",\"\",\"-\"),K269,IF(M269=\"\",\"\",\"-\"),M269),CONCATENATE(LEFT('1 - Opstart Importark'!$B$3,1),(LEFT('1 - Opstart Importark'!$B$15,5)),(LEFT('1 - Opstart Importark'!$B$18,3)),IF(I269=\"\",\"\",\"-\"),I269,IF(K269=\"\",\"\",\"-\"),K269,IF(M269=\"\",\"\",\"-\"),M269))))","v":""},null," ",{"$nulls":9},{"$f":"IF(LEN('1 - Opstart Importark'!$B$6)>0,'1 - Opstart Importark'!$B$6,\"\")","v":""},{"$f":"IF(LEN('1 - Opstart Importark'!$B$9)>0,'1 - Opstart Importark'!$B$9,\"\")","v":""},{"$f":"IF(LEN('1 - Opstart Importark'!$B$23)>0,'1 - Opstart Importark'!$B$23,\"\")","v":""},{"$nulls":14},{"$f":"IF(K269=\"\",\"\",VLOOKUP(LEFT(K269,1),objektfilter,2))","v":""},{"$nulls":8},{"$f":"IFERROR(FIND(\".\",F269),)","v":0},"","","objektnogle_"]
[258,null,{"$f":"IF('1 - Opstart Importark'!$B$6=\"\",\"\",(IF('1 - Opstart Importark'!$B$15=\"\",CONCATENATE(LEFT('1 - Opstart Importark'!$B$3,1),(LEFT('1 - Opstart Importark'!$B$20,5)),MID('1 - Opstart Importark'!$B$20,5,2),LEFT('1 - Opstart Importark'!$B$28,3),IF(I270=\"\",\"\",\"-\"),I270,IF(K270=\"\",\"\",\"-\"),K270,IF(M270=\"\",\"\",\"-\"),M270),CONCATENATE(LEFT('1 - Opstart Importark'!$B$3,1),(LEFT('1 - Opstart Importark'!$B$15,5)),(LEFT('1 - Opstart Importark'!$B$18,3)),IF(I270=\"\",\"\",\"-\"),I270,IF(K270=\"\",\"\",\"-\"),K270,IF(M270=\"\",\"\",\"-\"),M270))))","v":""},null," ",{"$nulls":9},{"$f":"IF(LEN('1 - Opstart Importark'!$B$6)>0,'1 - Opstart Importark'!$B$6,\"\")","v":""},{"$f":"IF(LEN('1 - Opstart Importark'!$B$9)>0,'1 - Opstart Importark'!$B$9,\"\")","v":""},{"$f":"IF(LEN('1 - Opstart Importark'!$B$23)>0,'1 - Opstart Importark'!$B$23,\"\")","v":""},{"$nulls":14},"",{"$nulls":8},0,{"$f":"IF(K270=\"\",\"\",IF(LEFT(K270,1)=\"E\",0,1))","v":""},{"$f":"IF(K270=\"\",\"\",IF(LEFT(K270,1)=\"E\",0,1))","v":""},{"$f":"IF(W270=\"\", CONCATENATE(\"objektnogle_\",LEFT(AF270,1)),CONCATENATE(\"objektnogle_\",LEFT(W270,1)))","v":"objektnogle_"}]
[259,null,{"$f":"IF('1 - Opstart Importark'!$B$6=\"\",\"\",(IF('1 - Opstart Importark'!$B$15=\"\",CONCATENATE(LEFT('1 - Opstart Importark'!$B$3,1),(LEFT('1 - Opstart Importark'!$B$20,5)),MID('1 - Opstart Importark'!$B$20,5,2),LEFT('1 - Opstart Importark'!$B$28,3),IF(I271=\"\",\"\",\"-\"),I271,IF(K271=\"\",\"\",\"-\"),K271,IF(M271=\"\",\"\",\"-\"),M271),CONCATENATE(LEFT('1 - Opstart Importark'!$B$3,1),(LEFT('1 - Opstart Importark'!$B$15,5)),(LEFT('1 - Opstart Importark'!$B$18,3)),IF(I271=\"\",\"\",\"-\"),I271,IF(K271=\"\",\"\",\"-\"),K271,IF(M271=\"\",\"\",\"-\"),M271))))","v":""},null," ",{"$nulls":9},{"$f":"IF(LEN('1 - Opstart Importark'!$B$6)>0,'1 - Opstart Importark'!$B$6,\"\")","v":""},{"$f":"IF(LEN('1 - Opstart Importark'!$B$9)>0,'1 - Opstart Importark'!$B$9,\"\")","v":""},{"$f":"IF(LEN('1 - Opstart Importark'!$B$23)>0,'1 - Opstart Importark'!$B$23,\"\")","v":""},{"$nulls":14},"",{"$nulls":8},0,"","","objektnogle_"]
[260,null,{"$f":"IF('1 - Opstart Importark'!$B$6=\"\",\"\",(IF('1 - Opstart Importark'!$B$15=\"\",CONCATENATE(LEFT('1 - Opstart Importark'!$B$3,1),(LEFT('1 - Opstart Importark'!$B$20,5)),MID('1 - Opstart Importark'!$B$20,5,2),LEFT('1 - Opstart Importark'!$B$28,3),IF(I272=\"\",\"\",\"-\"),I272,IF(K272=\"\",\"\",\"-\"),K272,IF(M272=\"\",\"\",\"-\"),M272),CONCATENATE(LEFT('1 - Opstart Importark'!$B$3,1),(LEFT('1 - Opstart Importark'!$B$15,5)),(LEFT('1 - Opstart Importark'!$B$18,3)),IF(I272=\"\",\"\",\"-\"),I272,IF(K272=\"\",\"\",\"-\"),K272,IF(M272=\"\",\"\",\"-\"),M272))))","v":""},null," ",{"$nulls":9},{"$f":"IF(LEN('1 - Opstart Importark'!$B$6)>0,'1 - Opstart Importark'!$B$6,\"\")","v":""},{"$f":"IF(LEN('1 - Opstart Importark'!$B$9)>0,'1 - Opstart Importark'!$B$9,\"\")","v":""},{"$f":"IF(LEN('1 - Opstart Importark'!$B$23)>0,'1 - Opstart Importark'!$B$23,\"\")","v":""},{"$nulls":14},"",{"$nulls":8},0,"","","objektnogle_"]
[261,null,{"$f":"IF('1 - Opstart Importark'!$B$6=\"\",\"\",(IF('1 - Opstart Importark'!$B$15=\"\",CONCATENATE(LEFT('1 - Opstart Importark'!$B$3,1),(LEFT('1 - Opstart Importark'!$B$20,5)),MID('1 - Opstart Importark'!$B$20,5,2),LEFT('1 - Opstart Importark'!$B$28,3),IF(I273=\"\",\"\",\"-\"),I273,IF(K273=\"\",\"\",\"-\"),K273,IF(M273=\"\",\"\",\"-\"),M273),CONCATENATE(LEFT('1 - Opstart Importark'!$B$3,1),(LEFT('1 - Opstart Importark'!$B$15,5)),(LEFT('1 - Opstart Importark'!$B$18,3)),IF(I273=\"\",\"\",\"-\"),I273,IF(K273=\"\",\"\",\"-\"),K273,IF(M273=\"\",\"\",\"-\"),M273))))","v":""},null," ",{"$nulls":9},{"$f":"IF(LEN('1 - Opstart Importark'!$B$6)>0,'1 - Opstart Importark'!$B$6,\"\")","v":""},{"$f":"IF(LEN('1 - Opstart Importark'!$B$9)>0,'1 - Opstart Importark'!$B$9,\"\")","v":""},{"$f":"IF(LEN('1 - Opstart Importark'!$B$23)>0,'1 - Opstart Importark'!$B$23,\"\")","v":""},{"$nulls":14},"",{"$nulls":8},0,"","","objektnogle_"]
[262,null,{"$f":"IF('1 - Opstart Importark'!$B$6=\"\",\"\",(IF('1 - Opstart Importark'!$B$15=\"\",CONCATENATE(LEFT('1 - Opstart Importark'!$B$3,1),(LEFT('1 - Opstart Importark'!$B$20,5)),MID('1 - Opstart Importark'!$B$20,5,2),LEFT('1 - Opstart Importark'!$B$28,3),IF(I274=\"\",\"\",\"-\"),I274,IF(K274=\"\",\"\",\"-\"),K274,IF(M274=\"\",\"\",\"-\"),M274),CONCATENATE(LEFT('1 - Opstart Importark'!$B$3,1),(LEFT('1 - Opstart Importark'!$B$15,5)),(LEFT('1 - Opstart Importark'!$B$18,3)),IF(I274=\"\",\"\",\"-\"),I274,IF(K274=\"\",\"\",\"-\"),K274,IF(M274=\"\",\"\",\"-\"),M274))))","v":""},null," ",{"$nulls":9},{"$f":"IF(LEN('1 - Opstart Importark'!$B$6)>0,'1 - Opstart Importark'!$B$6,\"\")","v":""},{"$f":"IF(LEN('1 - Opstart Importark'!$B$9)>0,'1 - Opstart Importark'!$B$9,\"\")","v":""},{"$f":"IF(LEN('1 - Opstart Importark'!$B$23)>0,'1 - Opstart Importark'!$B$23,\"\")","v":""},{"$nulls":14},"",{"$nulls":8},0,"","","objektnogle_"]
[263,null,{"$f":"IF('1 - Opstart Importark'!$B$6=\"\",\"\",(IF('1 - Opstart Importark'!$B$15=\"\",CONCATENATE(LEFT('1 - Opstart Importark'!$B$3,1),(LEFT('1 - Opstart Importark'!$B$20,5)),MID('1 - Opstart Importark'!$B$20,5,2),LEFT('1 - Opstart Importark'!$B$28,3),IF(I275=\"\",\"\",\"-\"),I275,IF(K275=\"\",\"\",\"-\"),K275,IF(M275=\"\",\"\",\"-\"),M275),CONCATENATE(LEFT('1 - Opstart Importark'!$B$3,1),(LEFT('1 - Opstart Importark'!$B$15,5)),(LEFT('1 - Opstart Importark'!$B$18,3)),IF(I275=\"\",\"\",\"-\"),I275,IF(K275=\"\",\"\",\"-\"),K275,IF(M275=\"\",\"\",\"-\"),M275))))","v":""},null," ",{"$nulls":9},{"$f":"IF(LEN('1 - Opstart Importark'!$B$6)>0,'1 - Opstart Importark'!$B$6,\"\")","v":""},{"$f":"IF(LEN('1 - Opstart Importark'!$B$9)>0,'1 - Opstart Importark'!$B$9,\"\")","v":""},{"$f":"IF(LEN('1 - Opstart Importark'!$B$23)>0,'1 - Opstart Importark'!$B$23,\"\")","v":""},{"$nulls":14},"",{"$nulls":8},0,"","","objektnogle_"]
[264,null,{"$f":"IF('1 - Opstart Importark'!$B$6=\"\",\"\",(IF('1 - Opstart Importark'!$B$15=\"\",CONCATENATE(LEFT('1 - Opstart Importark'!$B$3,1),(LEFT('1 - Opstart Importark'!$B$20,5)),MID('1 - Opstart Importark'!$B$20,5,2),LEFT('1 - Opstart Importark'!$B$28,3),IF(I276=\"\",\"\",\"-\"),I276,IF(K276=\"\",\"\",\"-\"),K276,IF(M276=\"\",\"\",\"-\"),M276),CONCATENATE(LEFT('1 - Opstart Importark'!$B$3,1),(LEFT('1 - Opstart Importark'!$B$15,5)),(LEFT('1 - Opstart Importark'!$B$18,3)),IF(I276=\"\",\"\",\"-\"),I276,IF(K276=\"\",\"\",\"-\"),K276,IF(M276=\"\",\"\",\"-\"),M276))))","v":""},null," ",{"$nulls":9},{"$f":"IF(LEN('1 - Opstart Importark'!$B$6)>0,'1 - Opstart Importark'!$B$6,\"\")","v":""},{"$f":"IF(LEN('1 - Opstart Importark'!$B$9)>0,'1 - Opstart Importark'!$B$9,\"\")","v":""},{"$f":"IF(LEN('1 - Opstart Importark'!$B$23)>0,'1 - Opstart Importark'!$B$23,\"\")","v":""},{"$nulls":14},"",{"$nulls":8},0,"","","objektnogle_"]
[265,null,{"$f":"IF('1 - Opstart Importark'!$B$6=\"\",\"\",(IF('1 - Opstart Importark'!$B$15=\"\",CONCATENATE(LEFT('1 - Opstart Importark'!$B$3,1),(LEFT('1 - Opstart Importark'!$B$20,5)),MID('1 - Opstart Importark'!$B$20,5,2),LEFT('1 - Opstart Importark'!$B$28,3),IF(I277=\"\",\"\",\"-\"),I277,IF(K277=\"\",\"\",\"-\"),K277,IF(M277=\"\",\"\",\"-\"),M277),CONCATENATE(LEFT('1 - Opstart Importark'!$B$3,1),(LEFT('1 - Opstart Importark'!$B$15,5)),(LEFT('1 - Opstart Importark'!$B$18,3)),IF(I277=\"\",\"\",\"-\"),I277,IF(K277=\"\",\"\",\"-\"),K277,IF(M277=\"\",\"\",\"-\"),M277))))","v":""},null," ",{"$nulls":9},{"$f":"IF(LEN('1 - Opstart Importark'!$B$6)>0,'1 - Opstart Importark'!$B$6,\"\")","v":""},{"$f":"IF(LEN('1 - Opstart Importark'!$B$9)>0,'1 - Opstart Importark'!$B$9,\"\")","v":""},{"$f":"IF(LEN('1 - Opstart Importark'!$B$23)>0,'1 - Opstart Importark'!$B$23,\"\")","v":""},{"$nulls":14},"",{"$nulls":8},0,"","","objektnogle_"]
[266,null,{"$f":"IF('1 - Opstart Importark'!$B$6=\"\",\"\",(IF('1 - Opstart Importark'!$B$15=\"\",CONCATENATE(LEFT('1 - Opstart Importark'!$B$3,1),(LEFT('1 - Opstart Importark'!$B$20,5)),MID('1 - Opstart Importark'!$B$20,5,2),LEFT('1 - Opstart Importark'!$B$28,3),IF(I278=\"\",\"\",\"-\"),I278,IF(K278=\"\",\"\",\"-\"),K278,IF(M278=\"\",\"\",\"-\"),M278),CONCATENATE(LEFT('1 - Opstart Importark'!$B$3,1),(LEFT('1 - Opstart Importark'!$B$15,5)),(LEFT('1 - Opstart Importark'!$B$18,3)),IF(I278=\"\",\"\",\"-\"),I278,IF(K278=\"\",\"\",\"-\"),K278,IF(M278=\"\",\"\",\"-\"),M278))))","v":""},null," ",{"$nulls":9},{"$f":"IF(LEN('1 - Opstart Importark'!$B$6)>0,'1 - Opstart Importark'!$B$6,\"\")","v":""},{"$f":"IF(LEN('1 - Opstart Importark'!$B$9)>0,'1 - Opstart Importark'!$B$9,\"\")","v":""},{"$f":"IF(LEN('1 - Opstart Importark'!$B$23)>0,'1 - Opstart Importark'!$B$23,\"\")","v":""},{"$nulls":14},"",{"$nulls":8},0,"","","objektnogle_"]
[267,null,{"$f":"IF('1 - Opstart Importark'!$B$6=\"\",\"\",(IF('1 - Opstart Importark'!$B$15=\"\",CONCATENATE(LEFT('1 - Opstart Importark'!$B$3,1),(LEFT('1 - Opstart Importark'!$B$20,5)),MID('1 - Opstart Importark'!$B$20,5,2),LEFT('1 - Opstart Importark'!$B$28,3),IF(I279=\"\",\"\",\"-\"),I279,IF(K279=\"\",\"\",\"-\"),K279,IF(M279=\"\",\"\",\"-\"),M279),CONCATENATE(LEFT('1 - Opstart Importark'!$B$3,1),(LEFT('1 - Opstart Importark'!$B$15,5)),(LEFT('1 - Opstart Importark'!$B$18,3)),IF(I279=\"\",\"\",\"-\"),I279,IF(K279=\"\",\"\",\"-\"),K279,IF(M279=\"\",\"\",\"-\"),M279))))","v":""},null," ",{"$nulls":9},{"$f":"IF(LEN('1 - Opstart Importark'!$B$6)>0,'1 - Opstart Importark'!$B$6,\"\")","v":""},{"$f":"IF(LEN('1 - Opstart Importark'!$B$9)>0,'1 - Opstart Importark'!$B$9,\"\")","v":""},{"$f":"IF(LEN('1 - Opstart Importark'!$B$23)>0,'1 - Opstart Importark'!$B$23,\"\")","v":""},{"$nulls":14},"",{"$nulls":8},0,"","","objektnogle_"]
[268,null,{"$f":"IF('1 - Opstart Importark'!$B$6=\"\",\"\",(IF('1 - Opstart Importark'!$B$15=\"\",CONCATENATE(LEFT('1 - Opstart Importark'!$B$3,1),(LEFT('1 - Opstart Importark'!$B$20,5)),MID('1 - Opstart Importark'!$B$20,5,2),LEFT('1 - Opstart Importark'!$B$28,3),IF(I280=\"\",\"\",\"-\"),I280,IF(K280=\"\",\"\",\"-\"),K280,IF(M280=\"\",\"\",\"-\"),M280),CONCATENATE(LEFT('1 - Opstart Importark'!$B$3,1),(LEFT('1 - Opstart Importark'!$B$15,5)),(LEFT('1 - Opstart Importark'!$B$18,3)),IF(I280=\"\",\"\",\"-\"),I280,IF(K280=\"\",\"\",\"-\"),K280,IF(M280=\"\",\"\",\"-\"),M280))))","v":""},null," ",{"$nulls":9},{"$f":"IF(LEN('1 - Opstart Importark'!$B$6)>0,'1 - Opstart Importark'!$B$6,\"\")","v":""},{"$f":"IF(LEN('1 - Opstart Importark'!$B$9)>0,'1 - Opstart Importark'!$B$9,\"\")","v":""},{"$f":"IF(LEN('1 - Opstart Importark'!$B$23)>0,'1 - Opstart Importark'!$B$23,\"\")","v":""},{"$nulls":14},"",{"$nulls":8},0,"","","objektnogle_"]
[269,null,{"$f":"IF('1 - Opstart Importark'!$B$6=\"\",\"\",(IF('1 - Opstart Importark'!$B$15=\"\",CONCATENATE(LEFT('1 - Opstart Importark'!$B$3,1),(LEFT('1 - Opstart Importark'!$B$20,5)),MID('1 - Opstart Importark'!$B$20,5,2),LEFT('1 - Opstart Importark'!$B$28,3),IF(I281=\"\",\"\",\"-\"),I281,IF(K281=\"\",\"\",\"-\"),K281,IF(M281=\"\",\"\",\"-\"),M281),CONCATENATE(LEFT('1 - Opstart Importark'!$B$3,1),(LEFT('1 - Opstart Importark'!$B$15,5)),(LEFT('1 - Opstart Importark'!$B$18,3)),IF(I281=\"\",\"\",\"-\"),I281,IF(K281=\"\",\"\",\"-\"),K281,IF(M281=\"\",\"\",\"-\"),M281))))","v":""},null," ",{"$nulls":9},{"$f":"IF(LEN('1 - Opstart Importark'!$B$6)>0,'1 - Opstart Importark'!$B$6,\"\")","v":""},{"$f":"IF(LEN('1 - Opstart Importark'!$B$9)>0,'1 - Opstart Importark'!$B$9,\"\")","v":""},{"$f":"IF(LEN('1 - Opstart Importark'!$B$23)>0,'1 - Opstart Importark'!$B$23,\"\")","v":""},{"$nulls":14},"",{"$nulls":8},0,"","","objektnogle_"]
[270,null,{"$f":"IF('1 - Opstart Importark'!$B$6=\"\",\"\",(IF('1 - Opstart Importark'!$B$15=\"\",CONCATENATE(LEFT('1 - Opstart Importark'!$B$3,1),(LEFT('1 - Opstart Importark'!$B$20,5)),MID('1 - Opstart Importark'!$B$20,5,2),LEFT('1 - Opstart Importark'!$B$28,3),IF(I282=\"\",\"\",\"-\"),I282,IF(K282=\"\",\"\",\"-\"),K282,IF(M282=\"\",\"\",\"-\"),M282),CONCATENATE(LEFT('1 - Opstart Importark'!$B$3,1),(LEFT('1 - Opstart Importark'!$B$15,5)),(LEFT('1 - Opstart Importark'!$B$18,3)),IF(I282=\"\",\"\",\"-\"),I282,IF(K282=\"\",\"\",\"-\"),K282,IF(M282=\"\",\"\",\"-\"),M282))))","v":""},null," ",{"$nulls":9},{"$f":"IF(LEN('1 - Opstart Importark'!$B$6)>0,'1 - Opstart Importark'!$B$6,\"\")","v":""},{"$f":"IF(LEN('1 - Opstart Importark'!$B$9)>0,'1 - Opstart Importark'!$B$9,\"\")","v":""},{"$f":"IF(LEN('1 - Opstart Importark'!$B$23)>0,'1 - Opstart Importark'!$B$23,\"\")","v":""},{"$nulls":14},"",{"$nulls":8},0,"","","objektnogle_"]
[271,null,{"$f":"IF('1 - Opstart Importark'!$B$6=\"\",\"\",(IF('1 - Opstart Importark'!$B$15=\"\",CONCATENATE(LEFT('1 - Opstart Importark'!$B$3,1),(LEFT('1 - Opstart Importark'!$B$20,5)),MID('1 - Opstart Importark'!$B$20,5,2),LEFT('1 - Opstart Importark'!$B$28,3),IF(I283=\"\",\"\",\"-\"),I283,IF(K283=\"\",\"\",\"-\"),K283,IF(M283=\"\",\"\",\"-\"),M283),CONCATENATE(LEFT('1 - Opstart Importark'!$B$3,1),(LEFT('1 - Opstart Importark'!$B$15,5)),(LEFT('1 - Opstart Importark'!$B$18,3)),IF(I283=\"\",\"\",\"-\"),I283,IF(K283=\"\",\"\",\"-\"),K283,IF(M283=\"\",\"\",\"-\"),M283))))","v":""},null," ",{"$nulls":9},{"$f":"IF(LEN('1 - Opstart Importark'!$B$6)>0,'1 - Opstart Importark'!$B$6,\"\")","v":""},{"$f":"IF(LEN('1 - Opstart Importark'!$B$9)>0,'1 - Opstart Importark'!$B$9,\"\")","v":""},{"$f":"IF(LEN('1 - Opstart Importark'!$B$23)>0,'1 - Opstart Importark'!$B$23,\"\")","v":""},{"$nulls":14},"",{"$nulls":8},0,"","","objektnogle_"]
[272,null,{"$f":"IF('1 - Opstart Importark'!$B$6=\"\",\"\",(IF('1 - Opstart Importark'!$B$15=\"\",CONCATENATE(LEFT('1 - Opstart Importark'!$B$3,1),(LEFT('1 - Opstart Importark'!$B$20,5)),MID('1 - Opstart Importark'!$B$20,5,2),LEFT('1 - Opstart Importark'!$B$28,3),IF(I284=\"\",\"\",\"-\"),I284,IF(K284=\"\",\"\",\"-\"),K284,IF(M284=\"\",\"\",\"-\"),M284),CONCATENATE(LEFT('1 - Opstart Importark'!$B$3,1),(LEFT('1 - Opstart Importark'!$B$15,5)),(LEFT('1 - Opstart Importark'!$B$18,3)),IF(I284=\"\",\"\",\"-\"),I284,IF(K284=\"\",\"\",\"-\"),K284,IF(M284=\"\",\"\",\"-\"),M284))))","v":""},null," ",{"$nulls":9},{"$f":"IF(LEN('1 - Opstart Importark'!$B$6)>0,'1 - Opstart Importark'!$B$6,\"\")","v":""},{"$f":"IF(LEN('1 - Opstart Importark'!$B$9)>0,'1 - Opstart Importark'!$B$9,\"\")","v":""},{"$f":"IF(LEN('1 - Opstart Importark'!$B$23)>0,'1 - Opstart Importark'!$B$23,\"\")","v":""},{"$nulls":14},"",{"$nulls":8},0,"","","objektnogle_"]
[273,null,{"$f":"IF('1 - Opstart Importark'!$B$6=\"\",\"\",(IF('1 - Opstart Importark'!$B$15=\"\",CONCATENATE(LEFT('1 - Opstart Importark'!$B$3,1),(LEFT('1 - Opstart Importark'!$B$20,5)),MID('1 - Opstart Importark'!$B$20,5,2),LEFT('1 - Opstart Importark'!$B$28,3),IF(I285=\"\",\"\",\"-\"),I285,IF(K285=\"\",\"\",\"-\"),K285,IF(M285=\"\",\"\",\"-\"),M285),CONCATENATE(LEFT('1 - Opstart Importark'!$B$3,1),(LEFT('1 - Opstart Importark'!$B$15,5)),(LEFT('1 - Opstart Importark'!$B$18,3)),IF(I285=\"\",\"\",\"-\"),I285,IF(K285=\"\",\"\",\"-\"),K285,IF(M285=\"\",\"\",\"-\"),M285))))","v":""},null," ",{"$nulls":9},{"$f":"IF(LEN('1 - Opstart Importark'!$B$6)>0,'1 - Opstart Importark'!$B$6,\"\")","v":""},{"$f":"IF(LEN('1 - Opstart Importark'!$B$9)>0,'1 - Opstart Importark'!$B$9,\"\")","v":""},{"$f":"IF(LEN('1 - Opstart Importark'!$B$23)>0,'1 - Opstart Importark'!$B$23,\"\")","v":""},{"$nulls":14},"",{"$nulls":8},0,"","","objektnogle_"]
[274,null,{"$f":"IF('1 - Opstart Importark'!$B$6=\"\",\"\",(IF('1 - Opstart Importark'!$B$15=\"\",CONCATENATE(LEFT('1 - Opstart Importark'!$B$3,1),(LEFT('1 - Opstart Importark'!$B$20,5)),MID('1 - Opstart Importark'!$B$20,5,2),LEFT('1 - Opstart Importark'!$B$28,3),IF(I286=\"\",\"\",\"-\"),I286,IF(K286=\"\",\"\",\"-\"),K286,IF(M286=\"\",\"\",\"-\"),M286),CONCATENATE(LEFT('1 - Opstart Importark'!$B$3,1),(LEFT('1 - Opstart Importark'!$B$15,5)),(LEFT('1 - Opstart Importark'!$B$18,3)),IF(I286=\"\",\"\",\"-\"),I286,IF(K286=\"\",\"\",\"-\"),K286,IF(M286=\"\",\"\",\"-\"),M286))))","v":""},null," ",{"$nulls":9},{"$f":"IF(LEN('1 - Opstart Importark'!$B$6)>0,'1 - Opstart Importark'!$B$6,\"\")","v":""},{"$f":"IF(LEN('1 - Opstart Importark'!$B$9)>0,'1 - Opstart Importark'!$B$9,\"\")","v":""},{"$f":"IF(LEN('1 - Opstart Importark'!$B$23)>0,'1 - Opstart Importark'!$B$23,\"\")","v":""},{"$nulls":14},"",{"$nulls":8},0,"","","objektnogle_"]
[275,null,{"$f":"IF('1 - Opstart Importark'!$B$6=\"\",\"\",(IF('1 - Opstart Importark'!$B$15=\"\",CONCATENATE(LEFT('1 - Opstart Importark'!$B$3,1),(LEFT('1 - Opstart Importark'!$B$20,5)),MID('1 - Opstart Importark'!$B$20,5,2),LEFT('1 - Opstart Importark'!$B$28,3),IF(I287=\"\",\"\",\"-\"),I287,IF(K287=\"\",\"\",\"-\"),K287,IF(M287=\"\",\"\",\"-\"),M287),CONCATENATE(LEFT('1 - Opstart Importark'!$B$3,1),(LEFT('1 - Opstart Importark'!$B$15,5)),(LEFT('1 - Opstart Importark'!$B$18,3)),IF(I287=\"\",\"\",\"-\"),I287,IF(K287=\"\",\"\",\"-\"),K287,IF(M287=\"\",\"\",\"-\"),M287))))","v":""},null," ",{"$nulls":9},{"$f":"IF(LEN('1 - Opstart Importark'!$B$6)>0,'1 - Opstart Importark'!$B$6,\"\")","v":""},{"$f":"IF(LEN('1 - Opstart Importark'!$B$9)>0,'1 - Opstart Importark'!$B$9,\"\")","v":""},{"$f":"IF(LEN('1 - Opstart Importark'!$B$23)>0,'1 - Opstart Importark'!$B$23,\"\")","v":""},{"$nulls":14},"",{"$nulls":8},0,"","","objektnogle_"]
[276,null,{"$f":"IF('1 - Opstart Importark'!$B$6=\"\",\"\",(IF('1 - Opstart Importark'!$B$15=\"\",CONCATENATE(LEFT('1 - Opstart Importark'!$B$3,1),(LEFT('1 - Opstart Importark'!$B$20,5)),MID('1 - Opstart Importark'!$B$20,5,2),LEFT('1 - Opstart Importark'!$B$28,3),IF(I288=\"\",\"\",\"-\"),I288,IF(K288=\"\",\"\",\"-\"),K288,IF(M288=\"\",\"\",\"-\"),M288),CONCATENATE(LEFT('1 - Opstart Importark'!$B$3,1),(LEFT('1 - Opstart Importark'!$B$15,5)),(LEFT('1 - Opstart Importark'!$B$18,3)),IF(I288=\"\",\"\",\"-\"),I288,IF(K288=\"\",\"\",\"-\"),K288,IF(M288=\"\",\"\",\"-\"),M288))))","v":""},null," ",{"$nulls":9},{"$f":"IF(LEN('1 - Opstart Importark'!$B$6)>0,'1 - Opstart Importark'!$B$6,\"\")","v":""},{"$f":"IF(LEN('1 - Opstart Importark'!$B$9)>0,'1 - Opstart Importark'!$B$9,\"\")","v":""},{"$f":"IF(LEN('1 - Opstart Importark'!$B$23)>0,'1 - Opstart Importark'!$B$23,\"\")","v":""},{"$nulls":14},"",{"$nulls":8},0,"","","objektnogle_"]
[277,null,{"$f":"IF('1 - Opstart Importark'!$B$6=\"\",\"\",(IF('1 - Opstart Importark'!$B$15=\"\",CONCATENATE(LEFT('1 - Opstart Importark'!$B$3,1),(LEFT('1 - Opstart Importark'!$B$20,5)),MID('1 - Opstart Importark'!$B$20,5,2),LEFT('1 - Opstart Importark'!$B$28,3),IF(I289=\"\",\"\",\"-\"),I289,IF(K289=\"\",\"\",\"-\"),K289,IF(M289=\"\",\"\",\"-\"),M289),CONCATENATE(LEFT('1 - Opstart Importark'!$B$3,1),(LEFT('1 - Opstart Importark'!$B$15,5)),(LEFT('1 - Opstart Importark'!$B$18,3)),IF(I289=\"\",\"\",\"-\"),I289,IF(K289=\"\",\"\",\"-\"),K289,IF(M289=\"\",\"\",\"-\"),M289))))","v":""},null," ",{"$nulls":9},{"$f":"IF(LEN('1 - Opstart Importark'!$B$6)>0,'1 - Opstart Importark'!$B$6,\"\")","v":""},{"$f":"IF(LEN('1 - Opstart Importark'!$B$9)>0,'1 - Opstart Importark'!$B$9,\"\")","v":""},{"$f":"IF(LEN('1 - Opstart Importark'!$B$23)>0,'1 - Opstart Importark'!$B$23,\"\")","v":""},{"$nulls":14},"",{"$nulls":8},0,"","","objektnogle_"]
[278,null,{"$f":"IF('1 - Opstart Importark'!$B$6=\"\",\"\",(IF('1 - Opstart Importark'!$B$15=\"\",CONCATENATE(LEFT('1 - Opstart Importark'!$B$3,1),(LEFT('1 - Opstart Importark'!$B$20,5)),MID('1 - Opstart Importark'!$B$20,5,2),LEFT('1 - Opstart Importark'!$B$28,3),IF(I290=\"\",\"\",\"-\"),I290,IF(K290=\"\",\"\",\"-\"),K290,IF(M290=\"\",\"\",\"-\"),M290),CONCATENATE(LEFT('1 - Opstart Importark'!$B$3,1),(LEFT('1 - Opstart Importark'!$B$15,5)),(LEFT('1 - Opstart Importark'!$B$18,3)),IF(I290=\"\",\"\",\"-\"),I290,IF(K290=\"\",\"\",\"-\"),K290,IF(M290=\"\",\"\",\"-\"),M290))))","v":""},null," ",{"$nulls":9},{"$f":"IF(LEN('1 - Opstart Importark'!$B$6)>0,'1 - Opstart Importark'!$B$6,\"\")","v":""},{"$f":"IF(LEN('1 - Opstart Importark'!$B$9)>0,'1 - Opstart Importark'!$B$9,\"\")","v":""},{"$f":"IF(LEN('1 - Opstart Importark'!$B$23)>0,'1 - Opstart Importark'!$B$23,\"\")","v":""},{"$nulls":14},"",{"$nulls":8},0,"","","objektnogle_"]
[279,null,{"$f":"IF('1 - Opstart Importark'!$B$6=\"\",\"\",(IF('1 - Opstart Importark'!$B$15=\"\",CONCATENATE(LEFT('1 - Opstart Importark'!$B$3,1),(LEFT('1 - Opstart Importark'!$B$20,5)),MID('1 - Opstart Importark'!$B$20,5,2),LEFT('1 - Opstart Importark'!$B$28,3),IF(I291=\"\",\"\",\"-\"),I291,IF(K291=\"\",\"\",\"-\"),K291,IF(M291=\"\",\"\",\"-\"),M291),CONCATENATE(LEFT('1 - Opstart Importark'!$B$3,1),(LEFT('1 - Opstart Importark'!$B$15,5)),(LEFT('1 - Opstart Importark'!$B$18,3)),IF(I291=\"\",\"\",\"-\"),I291,IF(K291=\"\",\"\",\"-\"),K291,IF(M291=\"\",\"\",\"-\"),M291))))","v":""},null," ",{"$nulls":9},{"$f":"IF(LEN('1 - Opstart Importark'!$B$6)>0,'1 - Opstart Importark'!$B$6,\"\")","v":""},{"$f":"IF(LEN('1 - Opstart Importark'!$B$9)>0,'1 - Opstart Importark'!$B$9,\"\")","v":""},{"$f":"IF(LEN('1 - Opstart Importark'!$B$23)>0,'1 - Opstart Importark'!$B$23,\"\")","v":""},{"$nulls":14},"",{"$nulls":8},0,"","","objektnogle_"]
[280,null,{"$f":"IF('1 - Opstart Importark'!$B$6=\"\",\"\",(IF('1 - Opstart Importark'!$B$15=\"\",CONCATENATE(LEFT('1 - Opstart Importark'!$B$3,1),(LEFT('1 - Opstart Importark'!$B$20,5)),MID('1 - Opstart Importark'!$B$20,5,2),LEFT('1 - Opstart Importark'!$B$28,3),IF(I292=\"\",\"\",\"-\"),I292,IF(K292=\"\",\"\",\"-\"),K292,IF(M292=\"\",\"\",\"-\"),M292),CONCATENATE(LEFT('1 - Opstart Importark'!$B$3,1),(LEFT('1 - Opstart Importark'!$B$15,5)),(LEFT('1 - Opstart Importark'!$B$18,3)),IF(I292=\"\",\"\",\"-\"),I292,IF(K292=\"\",\"\",\"-\"),K292,IF(M292=\"\",\"\",\"-\"),M292))))","v":""},null," ",{"$nulls":9},{"$f":"IF(LEN('1 - Opstart Importark'!$B$6)>0,'1 - Opstart Importark'!$B$6,\"\")","v":""},{"$f":"IF(LEN('1 - Opstart Importark'!$B$9)>0,'1 - Opstart Importark'!$B$9,\"\")","v":""},{"$f":"IF(LEN('1 - Opstart Importark'!$B$23)>0,'1 - Opstart Importark'!$B$23,\"\")","v":""},{"$nulls":14},"",{"$nulls":8},0,"","","objektnogle_"]
[281,null,{"$f":"IF('1 - Opstart Importark'!$B$6=\"\",\"\",(IF('1 - Opstart Importark'!$B$15=\"\",CONCATENATE(LEFT('1 - Opstart Importark'!$B$3,1),(LEFT('1 - Opstart Importark'!$B$20,5)),MID('1 - Opstart Importark'!$B$20,5,2),LEFT('1 - Opstart Importark'!$B$28,3),IF(I293=\"\",\"\",\"-\"),I293,IF(K293=\"\",\"\",\"-\"),K293,IF(M293=\"\",\"\",\"-\"),M293),CONCATENATE(LEFT('1 - Opstart Importark'!$B$3,1),(LEFT('1 - Opstart Importark'!$B$15,5)),(LEFT('1 - Opstart Importark'!$B$18,3)),IF(I293=\"\",\"\",\"-\"),I293,IF(K293=\"\",\"\",\"-\"),K293,IF(M293=\"\",\"\",\"-\"),M293))))","v":""},null," ",{"$nulls":9},{"$f":"IF(LEN('1 - Opstart Importark'!$B$6)>0,'1 - Opstart Importark'!$B$6,\"\")","v":""},{"$f":"IF(LEN('1 - Opstart Importark'!$B$9)>0,'1 - Opstart Importark'!$B$9,\"\")","v":""},{"$f":"IF(LEN('1 - Opstart Importark'!$B$23)>0,'1 - Opstart Importark'!$B$23,\"\")","v":""},{"$nulls":14},"",{"$nulls":8},0,"","","objektnogle_"]
[282,null,{"$f":"IF('1 - Opstart Importark'!$B$6=\"\",\"\",(IF('1 - Opstart Importark'!$B$15=\"\",CONCATENATE(LEFT('1 - Opstart Importark'!$B$3,1),(LEFT('1 - Opstart Importark'!$B$20,5)),MID('1 - Opstart Importark'!$B$20,5,2),LEFT('1 - Opstart Importark'!$B$28,3),IF(I294=\"\",\"\",\"-\"),I294,IF(K294=\"\",\"\",\"-\"),K294,IF(M294=\"\",\"\",\"-\"),M294),CONCATENATE(LEFT('1 - Opstart Importark'!$B$3,1),(LEFT('1 - Opstart Importark'!$B$15,5)),(LEFT('1 - Opstart Importark'!$B$18,3)),IF(I294=\"\",\"\",\"-\"),I294,IF(K294=\"\",\"\",\"-\"),K294,IF(M294=\"\",\"\",\"-\"),M294))))","v":""},null," ",{"$nulls":9},{"$f":"IF(LEN('1 - Opstart Importark'!$B$6)>0,'1 - Opstart Importark'!$B$6,\"\")","v":""},{"$f":"IF(LEN('1 - Opstart Importark'!$B$9)>0,'1 - Opstart Importark'!$B$9,\"\")","v":""},{"$f":"IF(LEN('1 - Opstart Importark'!$B$23)>0,'1 - Opstart Importark'!$B$23,\"\")","v":""},{"$nulls":14},"",{"$nulls":8},0,"","","objektnogle_"]
[283,null,{"$f":"IF('1 - Opstart Importark'!$B$6=\"\",\"\",(IF('1 - Opstart Importark'!$B$15=\"\",CONCATENATE(LEFT('1 - Opstart Importark'!$B$3,1),(LEFT('1 - Opstart Importark'!$B$20,5)),MID('1 - Opstart Importark'!$B$20,5,2),LEFT('1 - Opstart Importark'!$B$28,3),IF(I295=\"\",\"\",\"-\"),I295,IF(K295=\"\",\"\",\"-\"),K295,IF(M295=\"\",\"\",\"-\"),M295),CONCATENATE(LEFT('1 - Opstart Importark'!$B$3,1),(LEFT('1 - Opstart Importark'!$B$15,5)),(LEFT('1 - Opstart Importark'!$B$18,3)),IF(I295=\"\",\"\",\"-\"),I295,IF(K295=\"\",\"\",\"-\"),K295,IF(M295=\"\",\"\",\"-\"),M295))))","v":""},null," ",{"$nulls":9},{"$f":"IF(LEN('1 - Opstart Importark'!$B$6)>0,'1 - Opstart Importark'!$B$6,\"\")","v":""},{"$f":"IF(LEN('1 - Opstart Importark'!$B$9)>0,'1 - Opstart Importark'!$B$9,\"\")","v":""},{"$f":"IF(LEN('1 - Opstart Importark'!$B$23)>0,'1 - Opstart Importark'!$B$23,\"\")","v":""},{"$nulls":14},"",{"$nulls":8},0,"","","objektnogle_"]
[284,null,{"$f":"IF('1 - Opstart Importark'!$B$6=\"\",\"\",(IF('1 - Opstart Importark'!$B$15=\"\",CONCATENATE(LEFT('1 - Opstart Importark'!$B$3,1),(LEFT('1 - Opstart Importark'!$B$20,5)),MID('1 - Opstart Importark'!$B$20,5,2),LEFT('1 - Opstart Importark'!$B$28,3),IF(I296=\"\",\"\",\"-\"),I296,IF(K296=\"\",\"\",\"-\"),K296,IF(M296=\"\",\"\",\"-\"),M296),CONCATENATE(LEFT('1 - Opstart Importark'!$B$3,1),(LEFT('1 - Opstart Importark'!$B$15,5)),(LEFT('1 - Opstart Importark'!$B$18,3)),IF(I296=\"\",\"\",\"-\"),I296,IF(K296=\"\",\"\",\"-\"),K296,IF(M296=\"\",\"\",\"-\"),M296))))","v":""},null," ",{"$nulls":9},{"$f":"IF(LEN('1 - Opstart Importark'!$B$6)>0,'1 - Opstart Importark'!$B$6,\"\")","v":""},{"$f":"IF(LEN('1 - Opstart Importark'!$B$9)>0,'1 - Opstart Importark'!$B$9,\"\")","v":""},{"$f":"IF(LEN('1 - Opstart Importark'!$B$23)>0,'1 - Opstart Importark'!$B$23,\"\")","v":""},{"$nulls":14},"",{"$nulls":8},0,"","","objektnogle_"]
[285,null,{"$f":"IF('1 - Opstart Importark'!$B$6=\"\",\"\",(IF('1 - Opstart Importark'!$B$15=\"\",CONCATENATE(LEFT('1 - Opstart Importark'!$B$3,1),(LEFT('1 - Opstart Importark'!$B$20,5)),MID('1 - Opstart Importark'!$B$20,5,2),LEFT('1 - Opstart Importark'!$B$28,3),IF(I297=\"\",\"\",\"-\"),I297,IF(K297=\"\",\"\",\"-\"),K297,IF(M297=\"\",\"\",\"-\"),M297),CONCATENATE(LEFT('1 - Opstart Importark'!$B$3,1),(LEFT('1 - Opstart Importark'!$B$15,5)),(LEFT('1 - Opstart Importark'!$B$18,3)),IF(I297=\"\",\"\",\"-\"),I297,IF(K297=\"\",\"\",\"-\"),K297,IF(M297=\"\",\"\",\"-\"),M297))))","v":""},null," ",{"$nulls":9},{"$f":"IF(LEN('1 - Opstart Importark'!$B$6)>0,'1 - Opstart Importark'!$B$6,\"\")","v":""},{"$f":"IF(LEN('1 - Opstart Importark'!$B$9)>0,'1 - Opstart Importark'!$B$9,\"\")","v":""},{"$f":"IF(LEN('1 - Opstart Importark'!$B$23)>0,'1 - Opstart Importark'!$B$23,\"\")","v":""},{"$nulls":14},"",{"$nulls":8},0,"","","objektnogle_"]
[286,null,{"$f":"IF('1 - Opstart Importark'!$B$6=\"\",\"\",(IF('1 - Opstart Importark'!$B$15=\"\",CONCATENATE(LEFT('1 - Opstart Importark'!$B$3,1),(LEFT('1 - Opstart Importark'!$B$20,5)),MID('1 - Opstart Importark'!$B$20,5,2),LEFT('1 - Opstart Importark'!$B$28,3),IF(I298=\"\",\"\",\"-\"),I298,IF(K298=\"\",\"\",\"-\"),K298,IF(M298=\"\",\"\",\"-\"),M298),CONCATENATE(LEFT('1 - Opstart Importark'!$B$3,1),(LEFT('1 - Opstart Importark'!$B$15,5)),(LEFT('1 - Opstart Importark'!$B$18,3)),IF(I298=\"\",\"\",\"-\"),I298,IF(K298=\"\",\"\",\"-\"),K298,IF(M298=\"\",\"\",\"-\"),M298))))","v":""},null," ",{"$nulls":9},{"$f":"IF(LEN('1 - Opstart Importark'!$B$6)>0,'1 - Opstart Importark'!$B$6,\"\")","v":""},{"$f":"IF(LEN('1 - Opstart Importark'!$B$9)>0,'1 - Opstart Importark'!$B$9,\"\")","v":""},{"$f":"IF(LEN('1 - Opstart Importark'!$B$23)>0,'1 - Opstart Importark'!$B$23,\"\")","v":""},{"$nulls":14},"",{"$nulls":8},0,"","","objektnogle_"]
[287,null,{"$f":"IF('1 - Opstart Importark'!$B$6=\"\",\"\",(IF('1 - Opstart Importark'!$B$15=\"\",CONCATENATE(LEFT('1 - Opstart Importark'!$B$3,1),(LEFT('1 - Opstart Importark'!$B$20,5)),MID('1 - Opstart Importark'!$B$20,5,2),LEFT('1 - Opstart Importark'!$B$28,3),IF(I299=\"\",\"\",\"-\"),I299,IF(K299=\"\",\"\",\"-\"),K299,IF(M299=\"\",\"\",\"-\"),M299),CONCATENATE(LEFT('1 - Opstart Importark'!$B$3,1),(LEFT('1 - Opstart Importark'!$B$15,5)),(LEFT('1 - Opstart Importark'!$B$18,3)),IF(I299=\"\",\"\",\"-\"),I299,IF(K299=\"\",\"\",\"-\"),K299,IF(M299=\"\",\"\",\"-\"),M299))))","v":""},null," ",{"$nulls":9},{"$f":"IF(LEN('1 - Opstart Importark'!$B$6)>0,'1 - Opstart Importark'!$B$6,\"\")","v":""},{"$f":"IF(LEN('1 - Opstart Importark'!$B$9)>0,'1 - Opstart Importark'!$B$9,\"\")","v":""},{"$f":"IF(LEN('1 - Opstart Importark'!$B$23)>0,'1 - Opstart Importark'!$B$23,\"\")","v":""},{"$nulls":14},"",{"$nulls":8},0,"","","objektnogle_"]
[288,null,{"$f":"IF('1 - Opstart Importark'!$B$6=\"\",\"\",(IF('1 - Opstart Importark'!$B$15=\"\",CONCATENATE(LEFT('1 - Opstart Importark'!$B$3,1),(LEFT('1 - Opstart Importark'!$B$20,5)),MID('1 - Opstart Importark'!$B$20,5,2),LEFT('1 - Opstart Importark'!$B$28,3),IF(I300=\"\",\"\",\"-\"),I300,IF(K300=\"\",\"\",\"-\"),K300,IF(M300=\"\",\"\",\"-\"),M300),CONCATENATE(LEFT('1 - Opstart Importark'!$B$3,1),(LEFT('1 - Opstart Importark'!$B$15,5)),(LEFT('1 - Opstart Importark'!$B$18,3)),IF(I300=\"\",\"\",\"-\"),I300,IF(K300=\"\",\"\",\"-\"),K300,IF(M300=\"\",\"\",\"-\"),M300))))","v":""},null," ",{"$nulls":9},{"$f":"IF(LEN('1 - Opstart Importark'!$B$6)>0,'1 - Opstart Importark'!$B$6,\"\")","v":""},{"$f":"IF(LEN('1 - Opstart Importark'!$B$9)>0,'1 - Opstart Importark'!$B$9,\"\")","v":""},{"$f":"IF(LEN('1 - Opstart Importark'!$B$23)>0,'1 - Opstart Importark'!$B$23,\"\")","v":""},{"$nulls":14},"",{"$nulls":8},0,"","","objektnogle_"]
[289,null,{"$f":"IF('1 - Opstart Importark'!$B$6=\"\",\"\",(IF('1 - Opstart Importark'!$B$15=\"\",CONCATENATE(LEFT('1 - Opstart Importark'!$B$3,1),(LEFT('1 - Opstart Importark'!$B$20,5)),MID('1 - Opstart Importark'!$B$20,5,2),LEFT('1 - Opstart Importark'!$B$28,3),IF(I301=\"\",\"\",\"-\"),I301,IF(K301=\"\",\"\",\"-\"),K301,IF(M301=\"\",\"\",\"-\"),M301),CONCATENATE(LEFT('1 - Opstart Importark'!$B$3,1),(LEFT('1 - Opstart Importark'!$B$15,5)),(LEFT('1 - Opstart Importark'!$B$18,3)),IF(I301=\"\",\"\",\"-\"),I301,IF(K301=\"\",\"\",\"-\"),K301,IF(M301=\"\",\"\",\"-\"),M301))))","v":""},null," ",{"$nulls":9},{"$f":"IF(LEN('1 - Opstart Importark'!$B$6)>0,'1 - Opstart Importark'!$B$6,\"\")","v":""},{"$f":"IF(LEN('1 - Opstart Importark'!$B$9)>0,'1 - Opstart Importark'!$B$9,\"\")","v":""},{"$f":"IF(LEN('1 - Opstart Importark'!$B$23)>0,'1 - Opstart Importark'!$B$23,\"\")","v":""},{"$nulls":14},"",{"$nulls":8},0,"","","objektnogle_"]
[290,null,{"$f":"IF('1 - Opstart Importark'!$B$6=\"\",\"\",(IF('1 - Opstart Importark'!$B$15=\"\",CONCATENATE(LEFT('1 - Opstart Importark'!$B$3,1),(LEFT('1 - Opstart Importark'!$B$20,5)),MID('1 - Opstart Importark'!$B$20,5,2),LEFT('1 - Opstart Importark'!$B$28,3),IF(I302=\"\",\"\",\"-\"),I302,IF(K302=\"\",\"\",\"-\"),K302,IF(M302=\"\",\"\",\"-\"),M302),CONCATENATE(LEFT('1 - Opstart Importark'!$B$3,1),(LEFT('1 - Opstart Importark'!$B$15,5)),(LEFT('1 - Opstart Importark'!$B$18,3)),IF(I302=\"\",\"\",\"-\"),I302,IF(K302=\"\",\"\",\"-\"),K302,IF(M302=\"\",\"\",\"-\"),M302))))","v":""},null," ",{"$nulls":9},{"$f":"IF(LEN('1 - Opstart Importark'!$B$6)>0,'1 - Opstart Importark'!$B$6,\"\")","v":""},{"$f":"IF(LEN('1 - Opstart Importark'!$B$9)>0,'1 - Opstart Importark'!$B$9,\"\")","v":""},{"$f":"IF(LEN('1 - Opstart Importark'!$B$23)>0,'1 - Opstart Importark'!$B$23,\"\")","v":""},{"$nulls":14},"",{"$nulls":8},0,"","","objektnogle_"]
[291,null,{"$f":"IF('1 - Opstart Importark'!$B$6=\"\",\"\",(IF('1 - Opstart Importark'!$B$15=\"\",CONCATENATE(LEFT('1 - Opstart Importark'!$B$3,1),(LEFT('1 - Opstart Importark'!$B$20,5)),MID('1 - Opstart Importark'!$B$20,5,2),LEFT('1 - Opstart Importark'!$B$28,3),IF(I303=\"\",\"\",\"-\"),I303,IF(K303=\"\",\"\",\"-\"),K303,IF(M303=\"\",\"\",\"-\"),M303),CONCATENATE(LEFT('1 - Opstart Importark'!$B$3,1),(LEFT('1 - Opstart Importark'!$B$15,5)),(LEFT('1 - Opstart Importark'!$B$18,3)),IF(I303=\"\",\"\",\"-\"),I303,IF(K303=\"\",\"\",\"-\"),K303,IF(M303=\"\",\"\",\"-\"),M303))))","v":""},null," ",{"$nulls":9},{"$f":"IF(LEN('1 - Opstart Importark'!$B$6)>0,'1 - Opstart Importark'!$B$6,\"\")","v":""},{"$f":"IF(LEN('1 - Opstart Importark'!$B$9)>0,'1 - Opstart Importark'!$B$9,\"\")","v":""},{"$f":"IF(LEN('1 - Opstart Importark'!$B$23)>0,'1 - Opstart Importark'!$B$23,\"\")","v":""},{"$nulls":14},"",{"$nulls":8},0,"","","objektnogle_"]
[292,null,{"$f":"IF('1 - Opstart Importark'!$B$6=\"\",\"\",(IF('1 - Opstart Importark'!$B$15=\"\",CONCATENATE(LEFT('1 - Opstart Importark'!$B$3,1),(LEFT('1 - Opstart Importark'!$B$20,5)),MID('1 - Opstart Importark'!$B$20,5,2),LEFT('1 - Opstart Importark'!$B$28,3),IF(I304=\"\",\"\",\"-\"),I304,IF(K304=\"\",\"\",\"-\"),K304,IF(M304=\"\",\"\",\"-\"),M304),CONCATENATE(LEFT('1 - Opstart Importark'!$B$3,1),(LEFT('1 - Opstart Importark'!$B$15,5)),(LEFT('1 - Opstart Importark'!$B$18,3)),IF(I304=\"\",\"\",\"-\"),I304,IF(K304=\"\",\"\",\"-\"),K304,IF(M304=\"\",\"\",\"-\"),M304))))","v":""},null," ",{"$nulls":9},{"$f":"IF(LEN('1 - Opstart Importark'!$B$6)>0,'1 - Opstart Importark'!$B$6,\"\")","v":""},{"$f":"IF(LEN('1 - Opstart Importark'!$B$9)>0,'1 - Opstart Importark'!$B$9,\"\")","v":""},{"$f":"IF(LEN('1 - Opstart Importark'!$B$23)>0,'1 - Opstart Importark'!$B$23,\"\")","v":""},{"$nulls":14},"",{"$nulls":8},0,"","","objektnogle_"]
[293,null,{"$f":"IF('1 - Opstart Importark'!$B$6=\"\",\"\",(IF('1 - Opstart Importark'!$B$15=\"\",CONCATENATE(LEFT('1 - Opstart Importark'!$B$3,1),(LEFT('1 - Opstart Importark'!$B$20,5)),MID('1 - Opstart Importark'!$B$20,5,2),LEFT('1 - Opstart Importark'!$B$28,3),IF(I305=\"\",\"\",\"-\"),I305,IF(K305=\"\",\"\",\"-\"),K305,IF(M305=\"\",\"\",\"-\"),M305),CONCATENATE(LEFT('1 - Opstart Importark'!$B$3,1),(LEFT('1 - Opstart Importark'!$B$15,5)),(LEFT('1 - Opstart Importark'!$B$18,3)),IF(I305=\"\",\"\",\"-\"),I305,IF(K305=\"\",\"\",\"-\"),K305,IF(M305=\"\",\"\",\"-\"),M305))))","v":""},null," ",{"$nulls":9},{"$f":"IF(LEN('1 - Opstart Importark'!$B$6)>0,'1 - Opstart Importark'!$B$6,\"\")","v":""},{"$f":"IF(LEN('1 - Opstart Importark'!$B$9)>0,'1 - Opstart Importark'!$B$9,\"\")","v":""},{"$f":"IF(LEN('1 - Opstart Importark'!$B$23)>0,'1 - Opstart Importark'!$B$23,\"\")","v":""},{"$nulls":14},"",{"$nulls":8},0,"","","objektnogle_"]
[294,null,{"$f":"IF('1 - Opstart Importark'!$B$6=\"\",\"\",(IF('1 - Opstart Importark'!$B$15=\"\",CONCATENATE(LEFT('1 - Opstart Importark'!$B$3,1),(LEFT('1 - Opstart Importark'!$B$20,5)),MID('1 - Opstart Importark'!$B$20,5,2),LEFT('1 - Opstart Importark'!$B$28,3),IF(I306=\"\",\"\",\"-\"),I306,IF(K306=\"\",\"\",\"-\"),K306,IF(M306=\"\",\"\",\"-\"),M306),CONCATENATE(LEFT('1 - Opstart Importark'!$B$3,1),(LEFT('1 - Opstart Importark'!$B$15,5)),(LEFT('1 - Opstart Importark'!$B$18,3)),IF(I306=\"\",\"\",\"-\"),I306,IF(K306=\"\",\"\",\"-\"),K306,IF(M306=\"\",\"\",\"-\"),M306))))","v":""},null," ",{"$nulls":9},{"$f":"IF(LEN('1 - Opstart Importark'!$B$6)>0,'1 - Opstart Importark'!$B$6,\"\")","v":""},{"$f":"IF(LEN('1 - Opstart Importark'!$B$9)>0,'1 - Opstart Importark'!$B$9,\"\")","v":""},{"$f":"IF(LEN('1 - Opstart Importark'!$B$23)>0,'1 - Opstart Importark'!$B$23,\"\")","v":""},{"$nulls":14},"",{"$nulls":8},0,"","","objektnogle_"]
[295,null,{"$f":"IF('1 - Opstart Importark'!$B$6=\"\",\"\",(IF('1 - Opstart Importark'!$B$15=\"\",CONCATENATE(LEFT('1 - Opstart Importark'!$B$3,1),(LEFT('1 - Opstart Importark'!$B$20,5)),MID('1 - Opstart Importark'!$B$20,5,2),LEFT('1 - Opstart Importark'!$B$28,3),IF(I307=\"\",\"\",\"-\"),I307,IF(K307=\"\",\"\",\"-\"),K307,IF(M307=\"\",\"\",\"-\"),M307),CONCATENATE(LEFT('1 - Opstart Importark'!$B$3,1),(LEFT('1 - Opstart Importark'!$B$15,5)),(LEFT('1 - Opstart Importark'!$B$18,3)),IF(I307=\"\",\"\",\"-\"),I307,IF(K307=\"\",\"\",\"-\"),K307,IF(M307=\"\",\"\",\"-\"),M307))))","v":""},null," ",{"$nulls":9},{"$f":"IF(LEN('1 - Opstart Importark'!$B$6)>0,'1 - Opstart Importark'!$B$6,\"\")","v":""},{"$f":"IF(LEN('1 - Opstart Importark'!$B$9)>0,'1 - Opstart Importark'!$B$9,\"\")","v":""},{"$f":"IF(LEN('1 - Opstart Importark'!$B$23)>0,'1 - Opstart Importark'!$B$23,\"\")","v":""},{"$nulls":14},"",{"$nulls":8},0,"","","objektnogle_"]
[296,null,{"$f":"IF('1 - Opstart Importark'!$B$6=\"\",\"\",(IF('1 - Opstart Importark'!$B$15=\"\",CONCATENATE(LEFT('1 - Opstart Importark'!$B$3,1),(LEFT('1 - Opstart Importark'!$B$20,5)),MID('1 - Opstart Importark'!$B$20,5,2),LEFT('1 - Opstart Importark'!$B$28,3),IF(I308=\"\",\"\",\"-\"),I308,IF(K308=\"\",\"\",\"-\"),K308,IF(M308=\"\",\"\",\"-\"),M308),CONCATENATE(LEFT('1 - Opstart Importark'!$B$3,1),(LEFT('1 - Opstart Importark'!$B$15,5)),(LEFT('1 - Opstart Importark'!$B$18,3)),IF(I308=\"\",\"\",\"-\"),I308,IF(K308=\"\",\"\",\"-\"),K308,IF(M308=\"\",\"\",\"-\"),M308))))","v":""},null," ",{"$nulls":9},{"$f":"IF(LEN('1 - Opstart Importark'!$B$6)>0,'1 - Opstart Importark'!$B$6,\"\")","v":""},{"$f":"IF(LEN('1 - Opstart Importark'!$B$9)>0,'1 - Opstart Importark'!$B$9,\"\")","v":""},{"$f":"IF(LEN('1 - Opstart Importark'!$B$23)>0,'1 - Opstart Importark'!$B$23,\"\")","v":""},{"$nulls":14},"",{"$nulls":8},0,"","","objektnogle_"]
[297,null,{"$f":"IF('1 - Opstart Importark'!$B$6=\"\",\"\",(IF('1 - Opstart Importark'!$B$15=\"\",CONCATENATE(LEFT('1 - Opstart Importark'!$B$3,1),(LEFT('1 - Opstart Importark'!$B$20,5)),MID('1 - Opstart Importark'!$B$20,5,2),LEFT('1 - Opstart Importark'!$B$28,3),IF(I309=\"\",\"\",\"-\"),I309,IF(K309=\"\",\"\",\"-\"),K309,IF(M309=\"\",\"\",\"-\"),M309),CONCATENATE(LEFT('1 - Opstart Importark'!$B$3,1),(LEFT('1 - Opstart Importark'!$B$15,5)),(LEFT('1 - Opstart Importark'!$B$18,3)),IF(I309=\"\",\"\",\"-\"),I309,IF(K309=\"\",\"\",\"-\"),K309,IF(M309=\"\",\"\",\"-\"),M309))))","v":""},null," ",{"$nulls":9},{"$f":"IF(LEN('1 - Opstart Importark'!$B$6)>0,'1 - Opstart Importark'!$B$6,\"\")","v":""},{"$f":"IF(LEN('1 - Opstart Importark'!$B$9)>0,'1 - Opstart Importark'!$B$9,\"\")","v":""},{"$f":"IF(LEN('1 - Opstart Importark'!$B$23)>0,'1 - Opstart Importark'!$B$23,\"\")","v":""},{"$nulls":14},"",{"$nulls":8},0,"","","objektnogle_"]
[298,null,{"$f":"IF('1 - Opstart Importark'!$B$6=\"\",\"\",(IF('1 - Opstart Importark'!$B$15=\"\",CONCATENATE(LEFT('1 - Opstart Importark'!$B$3,1),(LEFT('1 - Opstart Importark'!$B$20,5)),MID('1 - Opstart Importark'!$B$20,5,2),LEFT('1 - Opstart Importark'!$B$28,3),IF(I310=\"\",\"\",\"-\"),I310,IF(K310=\"\",\"\",\"-\"),K310,IF(M310=\"\",\"\",\"-\"),M310),CONCATENATE(LEFT('1 - Opstart Importark'!$B$3,1),(LEFT('1 - Opstart Importark'!$B$15,5)),(LEFT('1 - Opstart Importark'!$B$18,3)),IF(I310=\"\",\"\",\"-\"),I310,IF(K310=\"\",\"\",\"-\"),K310,IF(M310=\"\",\"\",\"-\"),M310))))","v":""},null," ",{"$nulls":9},{"$f":"IF(LEN('1 - Opstart Importark'!$B$6)>0,'1 - Opstart Importark'!$B$6,\"\")","v":""},{"$f":"IF(LEN('1 - Opstart Importark'!$B$9)>0,'1 - Opstart Importark'!$B$9,\"\")","v":""},{"$f":"IF(LEN('1 - Opstart Importark'!$B$23)>0,'1 - Opstart Importark'!$B$23,\"\")","v":""},{"$nulls":14},"",{"$nulls":8},0,"","","objektnogle_"]
[299,null,{"$f":"IF('1 - Opstart Importark'!$B$6=\"\",\"\",(IF('1 - Opstart Importark'!$B$15=\"\",CONCATENATE(LEFT('1 - Opstart Importark'!$B$3,1),(LEFT('1 - Opstart Importark'!$B$20,5)),MID('1 - Opstart Importark'!$B$20,5,2),LEFT('1 - Opstart Importark'!$B$28,3),IF(I311=\"\",\"\",\"-\"),I311,IF(K311=\"\",\"\",\"-\"),K311,IF(M311=\"\",\"\",\"-\"),M311),CONCATENATE(LEFT('1 - Opstart Importark'!$B$3,1),(LEFT('1 - Opstart Importark'!$B$15,5)),(LEFT('1 - Opstart Importark'!$B$18,3)),IF(I311=\"\",\"\",\"-\"),I311,IF(K311=\"\",\"\",\"-\"),K311,IF(M311=\"\",\"\",\"-\"),M311))))","v":""},null," ",{"$nulls":9},{"$f":"IF(LEN('1 - Opstart Importark'!$B$6)>0,'1 - Opstart Importark'!$B$6,\"\")","v":""},{"$f":"IF(LEN('1 - Opstart Importark'!$B$9)>0,'1 - Opstart Importark'!$B$9,\"\")","v":""},{"$f":"IF(LEN('1 - Opstart Importark'!$B$23)>0,'1 - Opstart Importark'!$B$23,\"\")","v":""},{"$nulls":14},"",{"$nulls":8},0,"","","objektnogle_"]
[300,null,{"$f":"IF('1 - Opstart Importark'!$B$6=\"\",\"\",(IF('1 - Opstart Importark'!$B$15=\"\",CONCATENATE(LEFT('1 - Opstart Importark'!$B$3,1),(LEFT('1 - Opstart Importark'!$B$20,5)),MID('1 - Opstart Importark'!$B$20,5,2),LEFT('1 - Opstart Importark'!$B$28,3),IF(I312=\"\",\"\",\"-\"),I312,IF(K312=\"\",\"\",\"-\"),K312,IF(M312=\"\",\"\",\"-\"),M312),CONCATENATE(LEFT('1 - Opstart Importark'!$B$3,1),(LEFT('1 - Opstart Importark'!$B$15,5)),(LEFT('1 - Opstart Importark'!$B$18,3)),IF(I312=\"\",\"\",\"-\"),I312,IF(K312=\"\",\"\",\"-\"),K312,IF(M312=\"\",\"\",\"-\"),M312))))","v":""},null," ",{"$nulls":9},{"$f":"IF(LEN('1 - Opstart Importark'!$B$6)>0,'1 - Opstart Importark'!$B$6,\"\")","v":""},{"$f":"IF(LEN('1 - Opstart Importark'!$B$9)>0,'1 - Opstart Importark'!$B$9,\"\")","v":""},{"$f":"IF(LEN('1 - Opstart Importark'!$B$23)>0,'1 - Opstart Importark'!$B$23,\"\")","v":""},{"$nulls":14},"",{"$nulls":8},0,"","","objektnogle_"]
[301,null,{"$f":"IF('1 - Opstart Importark'!$B$6=\"\",\"\",(IF('1 - Opstart Importark'!$B$15=\"\",CONCATENATE(LEFT('1 - Opstart Importark'!$B$3,1),(LEFT('1 - Opstart Importark'!$B$20,5)),MID('1 - Opstart Importark'!$B$20,5,2),LEFT('1 - Opstart Importark'!$B$28,3),IF(I313=\"\",\"\",\"-\"),I313,IF(K313=\"\",\"\",\"-\"),K313,IF(M313=\"\",\"\",\"-\"),M313),CONCATENATE(LEFT('1 - Opstart Importark'!$B$3,1),(LEFT('1 - Opstart Importark'!$B$15,5)),(LEFT('1 - Opstart Importark'!$B$18,3)),IF(I313=\"\",\"\",\"-\"),I313,IF(K313=\"\",\"\",\"-\"),K313,IF(M313=\"\",\"\",\"-\"),M313))))","v":""},null," ",{"$nulls":9},{"$f":"IF(LEN('1 - Opstart Importark'!$B$6)>0,'1 - Opstart Importark'!$B$6,\"\")","v":""},{"$f":"IF(LEN('1 - Opstart Importark'!$B$9)>0,'1 - Opstart Importark'!$B$9,\"\")","v":""},{"$f":"IF(LEN('1 - Opstart Importark'!$B$23)>0,'1 - Opstart Importark'!$B$23,\"\")","v":""},{"$nulls":14},"",{"$nulls":8},0,"","","objektnogle_"]
[302,null,{"$f":"IF('1 - Opstart Importark'!$B$6=\"\",\"\",(IF('1 - Opstart Importark'!$B$15=\"\",CONCATENATE(LEFT('1 - Opstart Importark'!$B$3,1),(LEFT('1 - Opstart Importark'!$B$20,5)),MID('1 - Opstart Importark'!$B$20,5,2),LEFT('1 - Opstart Importark'!$B$28,3),IF(I314=\"\",\"\",\"-\"),I314,IF(K314=\"\",\"\",\"-\"),K314,IF(M314=\"\",\"\",\"-\"),M314),CONCATENATE(LEFT('1 - Opstart Importark'!$B$3,1),(LEFT('1 - Opstart Importark'!$B$15,5)),(LEFT('1 - Opstart Importark'!$B$18,3)),IF(I314=\"\",\"\",\"-\"),I314,IF(K314=\"\",\"\",\"-\"),K314,IF(M314=\"\",\"\",\"-\"),M314))))","v":""},null," ",{"$nulls":9},{"$f":"IF(LEN('1 - Opstart Importark'!$B$6)>0,'1 - Opstart Importark'!$B$6,\"\")","v":""},{"$f":"IF(LEN('1 - Opstart Importark'!$B$9)>0,'1 - Opstart Importark'!$B$9,\"\")","v":""},{"$f":"IF(LEN('1 - Opstart Importark'!$B$23)>0,'1 - Opstart Importark'!$B$23,\"\")","v":""},{"$nulls":14},"",{"$nulls":8},0,"","","objektnogle_"]
[303,null,{"$f":"IF('1 - Opstart Importark'!$B$6=\"\",\"\",(IF('1 - Opstart Importark'!$B$15=\"\",CONCATENATE(LEFT('1 - Opstart Importark'!$B$3,1),(LEFT('1 - Opstart Importark'!$B$20,5)),MID('1 - Opstart Importark'!$B$20,5,2),LEFT('1 - Opstart Importark'!$B$28,3),IF(I315=\"\",\"\",\"-\"),I315,IF(K315=\"\",\"\",\"-\"),K315,IF(M315=\"\",\"\",\"-\"),M315),CONCATENATE(LEFT('1 - Opstart Importark'!$B$3,1),(LEFT('1 - Opstart Importark'!$B$15,5)),(LEFT('1 - Opstart Importark'!$B$18,3)),IF(I315=\"\",\"\",\"-\"),I315,IF(K315=\"\",\"\",\"-\"),K315,IF(M315=\"\",\"\",\"-\"),M315))))","v":""},null," ",{"$nulls":9},{"$f":"IF(LEN('1 - Opstart Importark'!$B$6)>0,'1 - Opstart Importark'!$B$6,\"\")","v":""},{"$f":"IF(LEN('1 - Opstart Importark'!$B$9)>0,'1 - Opstart Importark'!$B$9,\"\")","v":""},{"$f":"IF(LEN('1 - Opstart Importark'!$B$23)>0,'1 - Opstart Importark'!$B$23,\"\")","v":""},{"$nulls":14},"",{"$nulls":8},0,"","","objektnogle_"]
[304,null,{"$f":"IF('1 - Opstart Importark'!$B$6=\"\",\"\",(IF('1 - Opstart Importark'!$B$15=\"\",CONCATENATE(LEFT('1 - Opstart Importark'!$B$3,1),(LEFT('1 - Opstart Importark'!$B$20,5)),MID('1 - Opstart Importark'!$B$20,5,2),LEFT('1 - Opstart Importark'!$B$28,3),IF(I316=\"\",\"\",\"-\"),I316,IF(K316=\"\",\"\",\"-\"),K316,IF(M316=\"\",\"\",\"-\"),M316),CONCATENATE(LEFT('1 - Opstart Importark'!$B$3,1),(LEFT('1 - Opstart Importark'!$B$15,5)),(LEFT('1 - Opstart Importark'!$B$18,3)),IF(I316=\"\",\"\",\"-\"),I316,IF(K316=\"\",\"\",\"-\"),K316,IF(M316=\"\",\"\",\"-\"),M316))))","v":""},null," ",{"$nulls":9},{"$f":"IF(LEN('1 - Opstart Importark'!$B$6)>0,'1 - Opstart Importark'!$B$6,\"\")","v":""},{"$f":"IF(LEN('1 - Opstart Importark'!$B$9)>0,'1 - Opstart Importark'!$B$9,\"\")","v":""},{"$f":"IF(LEN('1 - Opstart Importark'!$B$23)>0,'1 - Opstart Importark'!$B$23,\"\")","v":""},{"$nulls":14},"",{"$nulls":8},0,"","","objektnogle_"]
[305,null,{"$f":"IF('1 - Opstart Importark'!$B$6=\"\",\"\",(IF('1 - Opstart Importark'!$B$15=\"\",CONCATENATE(LEFT('1 - Opstart Importark'!$B$3,1),(LEFT('1 - Opstart Importark'!$B$20,5)),MID('1 - Opstart Importark'!$B$20,5,2),LEFT('1 - Opstart Importark'!$B$28,3),IF(I317=\"\",\"\",\"-\"),I317,IF(K317=\"\",\"\",\"-\"),K317,IF(M317=\"\",\"\",\"-\"),M317),CONCATENATE(LEFT('1 - Opstart Importark'!$B$3,1),(LEFT('1 - Opstart Importark'!$B$15,5)),(LEFT('1 - Opstart Importark'!$B$18,3)),IF(I317=\"\",\"\",\"-\"),I317,IF(K317=\"\",\"\",\"-\"),K317,IF(M317=\"\",\"\",\"-\"),M317))))","v":""},null," ",{"$nulls":9},{"$f":"IF(LEN('1 - Opstart Importark'!$B$6)>0,'1 - Opstart Importark'!$B$6,\"\")","v":""},{"$f":"IF(LEN('1 - Opstart Importark'!$B$9)>0,'1 - Opstart Importark'!$B$9,\"\")","v":""},{"$f":"IF(LEN('1 - Opstart Importark'!$B$23)>0,'1 - Opstart Importark'!$B$23,\"\")","v":""},{"$nulls":14},"",{"$nulls":8},0,"","","objektnogle_"]
[306,null,{"$f":"IF('1 - Opstart Importark'!$B$6=\"\",\"\",(IF('1 - Opstart Importark'!$B$15=\"\",CONCATENATE(LEFT('1 - Opstart Importark'!$B$3,1),(LEFT('1 - Opstart Importark'!$B$20,5)),MID('1 - Opstart Importark'!$B$20,5,2),LEFT('1 - Opstart Importark'!$B$28,3),IF(I318=\"\",\"\",\"-\"),I318,IF(K318=\"\",\"\",\"-\"),K318,IF(M318=\"\",\"\",\"-\"),M318),CONCATENATE(LEFT('1 - Opstart Importark'!$B$3,1),(LEFT('1 - Opstart Importark'!$B$15,5)),(LEFT('1 - Opstart Importark'!$B$18,3)),IF(I318=\"\",\"\",\"-\"),I318,IF(K318=\"\",\"\",\"-\"),K318,IF(M318=\"\",\"\",\"-\"),M318))))","v":""},null," ",{"$nulls":9},{"$f":"IF(LEN('1 - Opstart Importark'!$B$6)>0,'1 - Opstart Importark'!$B$6,\"\")","v":""},{"$f":"IF(LEN('1 - Opstart Importark'!$B$9)>0,'1 - Opstart Importark'!$B$9,\"\")","v":""},{"$f":"IF(LEN('1 - Opstart Importark'!$B$23)>0,'1 - Opstart Importark'!$B$23,\"\")","v":""},{"$nulls":14},"",{"$nulls":8},0,"","","objektnogle_"]
[307,null,{"$f":"IF('1 - Opstart Importark'!$B$6=\"\",\"\",(IF('1 - Opstart Importark'!$B$15=\"\",CONCATENATE(LEFT('1 - Opstart Importark'!$B$3,1),(LEFT('1 - Opstart Importark'!$B$20,5)),MID('1 - Opstart Importark'!$B$20,5,2),LEFT('1 - Opstart Importark'!$B$28,3),IF(I319=\"\",\"\",\"-\"),I319,IF(K319=\"\",\"\",\"-\"),K319,IF(M319=\"\",\"\",\"-\"),M319),CONCATENATE(LEFT('1 - Opstart Importark'!$B$3,1),(LEFT('1 - Opstart Importark'!$B$15,5)),(LEFT('1 - Opstart Importark'!$B$18,3)),IF(I319=\"\",\"\",\"-\"),I319,IF(K319=\"\",\"\",\"-\"),K319,IF(M319=\"\",\"\",\"-\"),M319))))","v":""},null," ",{"$nulls":9},{"$f":"IF(LEN('1 - Opstart Importark'!$B$6)>0,'1 - Opstart Importark'!$B$6,\"\")","v":""},{"$f":"IF(LEN('1 - Opstart Importark'!$B$9)>0,'1 - Opstart Importark'!$B$9,\"\")","v":""},{"$f":"IF(LEN('1 - Opstart Importark'!$B$23)>0,'1 - Opstart Importark'!$B$23,\"\")","v":""},{"$nulls":14},"",{"$nulls":8},0,"","","objektnogle_"]
[308,null,{"$f":"IF('1 - Opstart Importark'!$B$6=\"\",\"\",(IF('1 - Opstart Importark'!$B$15=\"\",CONCATENATE(LEFT('1 - Opstart Importark'!$B$3,1),(LEFT('1 - Opstart Importark'!$B$20,5)),MID('1 - Opstart Importark'!$B$20,5,2),LEFT('1 - Opstart Importark'!$B$28,3),IF(I320=\"\",\"\",\"-\"),I320,IF(K320=\"\",\"\",\"-\"),K320,IF(M320=\"\",\"\",\"-\"),M320),CONCATENATE(LEFT('1 - Opstart Importark'!$B$3,1),(LEFT('1 - Opstart Importark'!$B$15,5)),(LEFT('1 - Opstart Importark'!$B$18,3)),IF(I320=\"\",\"\",\"-\"),I320,IF(K320=\"\",\"\",\"-\"),K320,IF(M320=\"\",\"\",\"-\"),M320))))","v":""},null," ",{"$nulls":9},{"$f":"IF(LEN('1 - Opstart Importark'!$B$6)>0,'1 - Opstart Importark'!$B$6,\"\")","v":""},{"$f":"IF(LEN('1 - Opstart Importark'!$B$9)>0,'1 - Opstart Importark'!$B$9,\"\")","v":""},{"$f":"IF(LEN('1 - Opstart Importark'!$B$23)>0,'1 - Opstart Importark'!$B$23,\"\")","v":""},{"$nulls":14},"",{"$nulls":8},0,"","","objektnogle_"]
[309,null,{"$f":"IF('1 - Opstart Importark'!$B$6=\"\",\"\",(IF('1 - Opstart Importark'!$B$15=\"\",CONCATENATE(LEFT('1 - Opstart Importark'!$B$3,1),(LEFT('1 - Opstart Importark'!$B$20,5)),MID('1 - Opstart Importark'!$B$20,5,2),LEFT('1 - Opstart Importark'!$B$28,3),IF(I321=\"\",\"\",\"-\"),I321,IF(K321=\"\",\"\",\"-\"),K321,IF(M321=\"\",\"\",\"-\"),M321),CONCATENATE(LEFT('1 - Opstart Importark'!$B$3,1),(LEFT('1 - Opstart Importark'!$B$15,5)),(LEFT('1 - Opstart Importark'!$B$18,3)),IF(I321=\"\",\"\",\"-\"),I321,IF(K321=\"\",\"\",\"-\"),K321,IF(M321=\"\",\"\",\"-\"),M321))))","v":""},null," ",{"$nulls":9},{"$f":"IF(LEN('1 - Opstart Importark'!$B$6)>0,'1 - Opstart Importark'!$B$6,\"\")","v":""},{"$f":"IF(LEN('1 - Opstart Importark'!$B$9)>0,'1 - Opstart Importark'!$B$9,\"\")","v":""},{"$f":"IF(LEN('1 - Opstart Importark'!$B$23)>0,'1 - Opstart Importark'!$B$23,\"\")","v":""},{"$nulls":14},"",{"$nulls":8},0,"","","objektnogle_"]
[310,null,{"$f":"IF('1 - Opstart Importark'!$B$6=\"\",\"\",(IF('1 - Opstart Importark'!$B$15=\"\",CONCATENATE(LEFT('1 - Opstart Importark'!$B$3,1),(LEFT('1 - Opstart Importark'!$B$20,5)),MID('1 - Opstart Importark'!$B$20,5,2),LEFT('1 - Opstart Importark'!$B$28,3),IF(I322=\"\",\"\",\"-\"),I322,IF(K322=\"\",\"\",\"-\"),K322,IF(M322=\"\",\"\",\"-\"),M322),CONCATENATE(LEFT('1 - Opstart Importark'!$B$3,1),(LEFT('1 - Opstart Importark'!$B$15,5)),(LEFT('1 - Opstart Importark'!$B$18,3)),IF(I322=\"\",\"\",\"-\"),I322,IF(K322=\"\",\"\",\"-\"),K322,IF(M322=\"\",\"\",\"-\"),M322))))","v":""},null," ",{"$nulls":9},{"$f":"IF(LEN('1 - Opstart Importark'!$B$6)>0,'1 - Opstart Importark'!$B$6,\"\")","v":""},{"$f":"IF(LEN('1 - Opstart Importark'!$B$9)>0,'1 - Opstart Importark'!$B$9,\"\")","v":""},{"$f":"IF(LEN('1 - Opstart Importark'!$B$23)>0,'1 - Opstart Importark'!$B$23,\"\")","v":""},{"$nulls":14},"",{"$nulls":8},0,"","","objektnogle_"]
[311,null,{"$f":"IF('1 - Opstart Importark'!$B$6=\"\",\"\",(IF('1 - Opstart Importark'!$B$15=\"\",CONCATENATE(LEFT('1 - Opstart Importark'!$B$3,1),(LEFT('1 - Opstart Importark'!$B$20,5)),MID('1 - Opstart Importark'!$B$20,5,2),LEFT('1 - Opstart Importark'!$B$28,3),IF(I323=\"\",\"\",\"-\"),I323,IF(K323=\"\",\"\",\"-\"),K323,IF(M323=\"\",\"\",\"-\"),M323),CONCATENATE(LEFT('1 - Opstart Importark'!$B$3,1),(LEFT('1 - Opstart Importark'!$B$15,5)),(LEFT('1 - Opstart Importark'!$B$18,3)),IF(I323=\"\",\"\",\"-\"),I323,IF(K323=\"\",\"\",\"-\"),K323,IF(M323=\"\",\"\",\"-\"),M323))))","v":""},null," ",{"$nulls":9},{"$f":"IF(LEN('1 - Opstart Importark'!$B$6)>0,'1 - Opstart Importark'!$B$6,\"\")","v":""},{"$f":"IF(LEN('1 - Opstart Importark'!$B$9)>0,'1 - Opstart Importark'!$B$9,\"\")","v":""},{"$f":"IF(LEN('1 - Opstart Importark'!$B$23)>0,'1 - Opstart Importark'!$B$23,\"\")","v":""},{"$nulls":14},"",{"$nulls":8},0,"","","objektnogle_"]
[312,null,{"$f":"IF('1 - Opstart Importark'!$B$6=\"\",\"\",(IF('1 - Opstart Importark'!$B$15=\"\",CONCATENATE(LEFT('1 - Opstart Importark'!$B$3,1),(LEFT('1 - Opstart Importark'!$B$20,5)),MID('1 - Opstart Importark'!$B$20,5,2),LEFT('1 - Opstart Importark'!$B$28,3),IF(I324=\"\",\"\",\"-\"),I324,IF(K324=\"\",\"\",\"-\"),K324,IF(M324=\"\",\"\",\"-\"),M324),CONCATENATE(LEFT('1 - Opstart Importark'!$B$3,1),(LEFT('1 - Opstart Importark'!$B$15,5)),(LEFT('1 - Opstart Importark'!$B$18,3)),IF(I324=\"\",\"\",\"-\"),I324,IF(K324=\"\",\"\",\"-\"),K324,IF(M324=\"\",\"\",\"-\"),M324))))","v":""},null," ",{"$nulls":9},{"$f":"IF(LEN('1 - Opstart Importark'!$B$6)>0,'1 - Opstart Importark'!$B$6,\"\")","v":""},{"$f":"IF(LEN('1 - Opstart Importark'!$B$9)>0,'1 - Opstart Importark'!$B$9,\"\")","v":""},{"$f":"IF(LEN('1 - Opstart Importark'!$B$23)>0,'1 - Opstart Importark'!$B$23,\"\")","v":""},{"$nulls":14},"",{"$nulls":8},0,"","","objektnogle_"]
[313,null,{"$f":"IF('1 - Opstart Importark'!$B$6=\"\",\"\",(IF('1 - Opstart Importark'!$B$15=\"\",CONCATENATE(LEFT('1 - Opstart Importark'!$B$3,1),(LEFT('1 - Opstart Importark'!$B$20,5)),MID('1 - Opstart Importark'!$B$20,5,2),LEFT('1 - Opstart Importark'!$B$28,3),IF(I325=\"\",\"\",\"-\"),I325,IF(K325=\"\",\"\",\"-\"),K325,IF(M325=\"\",\"\",\"-\"),M325),CONCATENATE(LEFT('1 - Opstart Importark'!$B$3,1),(LEFT('1 - Opstart Importark'!$B$15,5)),(LEFT('1 - Opstart Importark'!$B$18,3)),IF(I325=\"\",\"\",\"-\"),I325,IF(K325=\"\",\"\",\"-\"),K325,IF(M325=\"\",\"\",\"-\"),M325))))","v":""},null," ",{"$nulls":9},{"$f":"IF(LEN('1 - Opstart Importark'!$B$6)>0,'1 - Opstart Importark'!$B$6,\"\")","v":""},{"$f":"IF(LEN('1 - Opstart Importark'!$B$9)>0,'1 - Opstart Importark'!$B$9,\"\")","v":""},{"$f":"IF(LEN('1 - Opstart Importark'!$B$23)>0,'1 - Opstart Importark'!$B$23,\"\")","v":""},{"$nulls":14},"",{"$nulls":8},0,"","","objektnogle_"]
[314,null,{"$f":"IF('1 - Opstart Importark'!$B$6=\"\",\"\",(IF('1 - Opstart Importark'!$B$15=\"\",CONCATENATE(LEFT('1 - Opstart Importark'!$B$3,1),(LEFT('1 - Opstart Importark'!$B$20,5)),MID('1 - Opstart Importark'!$B$20,5,2),LEFT('1 - Opstart Importark'!$B$28,3),IF(I326=\"\",\"\",\"-\"),I326,IF(K326=\"\",\"\",\"-\"),K326,IF(M326=\"\",\"\",\"-\"),M326),CONCATENATE(LEFT('1 - Opstart Importark'!$B$3,1),(LEFT('1 - Opstart Importark'!$B$15,5)),(LEFT('1 - Opstart Importark'!$B$18,3)),IF(I326=\"\",\"\",\"-\"),I326,IF(K326=\"\",\"\",\"-\"),K326,IF(M326=\"\",\"\",\"-\"),M326))))","v":""},null," ",{"$nulls":9},{"$f":"IF(LEN('1 - Opstart Importark'!$B$6)>0,'1 - Opstart Importark'!$B$6,\"\")","v":""},{"$f":"IF(LEN('1 - Opstart Importark'!$B$9)>0,'1 - Opstart Importark'!$B$9,\"\")","v":""},{"$f":"IF(LEN('1 - Opstart Importark'!$B$23)>0,'1 - Opstart Importark'!$B$23,\"\")","v":""},{"$nulls":14},"",{"$nulls":8},0,"","","objektnogle_"]
[315,null,{"$f":"IF('1 - Opstart Importark'!$B$6=\"\",\"\",(IF('1 - Opstart Importark'!$B$15=\"\",CONCATENATE(LEFT('1 - Opstart Importark'!$B$3,1),(LEFT('1 - Opstart Importark'!$B$20,5)),MID('1 - Opstart Importark'!$B$20,5,2),LEFT('1 - Opstart Importark'!$B$28,3),IF(I327=\"\",\"\",\"-\"),I327,IF(K327=\"\",\"\",\"-\"),K327,IF(M327=\"\",\"\",\"-\"),M327),CONCATENATE(LEFT('1 - Opstart Importark'!$B$3,1),(LEFT('1 - Opstart Importark'!$B$15,5)),(LEFT('1 - Opstart Importark'!$B$18,3)),IF(I327=\"\",\"\",\"-\"),I327,IF(K327=\"\",\"\",\"-\"),K327,IF(M327=\"\",\"\",\"-\"),M327))))","v":""},null," ",{"$nulls":9},{"$f":"IF(LEN('1 - Opstart Importark'!$B$6)>0,'1 - Opstart Importark'!$B$6,\"\")","v":""},{"$f":"IF(LEN('1 - Opstart Importark'!$B$9)>0,'1 - Opstart Importark'!$B$9,\"\")","v":""},{"$f":"IF(LEN('1 - Opstart Importark'!$B$23)>0,'1 - Opstart Importark'!$B$23,\"\")","v":""},{"$nulls":14},"",{"$nulls":8},0,"","","objektnogle_"]
[316,null,{"$f":"IF('1 - Opstart Importark'!$B$6=\"\",\"\",(IF('1 - Opstart Importark'!$B$15=\"\",CONCATENATE(LEFT('1 - Opstart Importark'!$B$3,1),(LEFT('1 - Opstart Importark'!$B$20,5)),MID('1 - Opstart Importark'!$B$20,5,2),LEFT('1 - Opstart Importark'!$B$28,3),IF(I328=\"\",\"\",\"-\"),I328,IF(K328=\"\",\"\",\"-\"),K328,IF(M328=\"\",\"\",\"-\"),M328),CONCATENATE(LEFT('1 - Opstart Importark'!$B$3,1),(LEFT('1 - Opstart Importark'!$B$15,5)),(LEFT('1 - Opstart Importark'!$B$18,3)),IF(I328=\"\",\"\",\"-\"),I328,IF(K328=\"\",\"\",\"-\"),K328,IF(M328=\"\",\"\",\"-\"),M328))))","v":""},null," ",{"$nulls":9},{"$f":"IF(LEN('1 - Opstart Importark'!$B$6)>0,'1 - Opstart Importark'!$B$6,\"\")","v":""},{"$f":"IF(LEN('1 - Opstart Importark'!$B$9)>0,'1 - Opstart Importark'!$B$9,\"\")","v":""},{"$f":"IF(LEN('1 - Opstart Importark'!$B$23)>0,'1 - Opstart Importark'!$B$23,\"\")","v":""},{"$nulls":14},"",{"$nulls":8},0,"","","objektnogle_"]
[317,null,{"$f":"IF('1 - Opstart Importark'!$B$6=\"\",\"\",(IF('1 - Opstart Importark'!$B$15=\"\",CONCATENATE(LEFT('1 - Opstart Importark'!$B$3,1),(LEFT('1 - Opstart Importark'!$B$20,5)),MID('1 - Opstart Importark'!$B$20,5,2),LEFT('1 - Opstart Importark'!$B$28,3),IF(I329=\"\",\"\",\"-\"),I329,IF(K329=\"\",\"\",\"-\"),K329,IF(M329=\"\",\"\",\"-\"),M329),CONCATENATE(LEFT('1 - Opstart Importark'!$B$3,1),(LEFT('1 - Opstart Importark'!$B$15,5)),(LEFT('1 - Opstart Importark'!$B$18,3)),IF(I329=\"\",\"\",\"-\"),I329,IF(K329=\"\",\"\",\"-\"),K329,IF(M329=\"\",\"\",\"-\"),M329))))","v":""},null," ",{"$nulls":9},{"$f":"IF(LEN('1 - Opstart Importark'!$B$6)>0,'1 - Opstart Importark'!$B$6,\"\")","v":""},{"$f":"IF(LEN('1 - Opstart Importark'!$B$9)>0,'1 - Opstart Importark'!$B$9,\"\")","v":""},{"$f":"IF(LEN('1 - Opstart Importark'!$B$23)>0,'1 - Opstart Importark'!$B$23,\"\")","v":""},{"$nulls":14},"",{"$nulls":8},0,"","","objektnogle_"]
[318,null,{"$f":"IF('1 - Opstart Importark'!$B$6=\"\",\"\",(IF('1 - Opstart Importark'!$B$15=\"\",CONCATENATE(LEFT('1 - Opstart Importark'!$B$3,1),(LEFT('1 - Opstart Importark'!$B$20,5)),MID('1 - Opstart Importark'!$B$20,5,2),LEFT('1 - Opstart Importark'!$B$28,3),IF(I330=\"\",\"\",\"-\"),I330,IF(K330=\"\",\"\",\"-\"),K330,IF(M330=\"\",\"\",\"-\"),M330),CONCATENATE(LEFT('1 - Opstart Importark'!$B$3,1),(LEFT('1 - Opstart Importark'!$B$15,5)),(LEFT('1 - Opstart Importark'!$B$18,3)),IF(I330=\"\",\"\",\"-\"),I330,IF(K330=\"\",\"\",\"-\"),K330,IF(M330=\"\",\"\",\"-\"),M330))))","v":""},null," ",{"$nulls":9},{"$f":"IF(LEN('1 - Opstart Importark'!$B$6)>0,'1 - Opstart Importark'!$B$6,\"\")","v":""},{"$f":"IF(LEN('1 - Opstart Importark'!$B$9)>0,'1 - Opstart Importark'!$B$9,\"\")","v":""},{"$f":"IF(LEN('1 - Opstart Importark'!$B$23)>0,'1 - Opstart Importark'!$B$23,\"\")","v":""},{"$nulls":14},"",{"$nulls":8},0,"","","objektnogle_"]
[319,null,{"$f":"IF('1 - Opstart Importark'!$B$6=\"\",\"\",(IF('1 - Opstart Importark'!$B$15=\"\",CONCATENATE(LEFT('1 - Opstart Importark'!$B$3,1),(LEFT('1 - Opstart Importark'!$B$20,5)),MID('1 - Opstart Importark'!$B$20,5,2),LEFT('1 - Opstart Importark'!$B$28,3),IF(I331=\"\",\"\",\"-\"),I331,IF(K331=\"\",\"\",\"-\"),K331,IF(M331=\"\",\"\",\"-\"),M331),CONCATENATE(LEFT('1 - Opstart Importark'!$B$3,1),(LEFT('1 - Opstart Importark'!$B$15,5)),(LEFT('1 - Opstart Importark'!$B$18,3)),IF(I331=\"\",\"\",\"-\"),I331,IF(K331=\"\",\"\",\"-\"),K331,IF(M331=\"\",\"\",\"-\"),M331))))","v":""},null," ",{"$nulls":9},{"$f":"IF(LEN('1 - Opstart Importark'!$B$6)>0,'1 - Opstart Importark'!$B$6,\"\")","v":""},{"$f":"IF(LEN('1 - Opstart Importark'!$B$9)>0,'1 - Opstart Importark'!$B$9,\"\")","v":""},{"$f":"IF(LEN('1 - Opstart Importark'!$B$23)>0,'1 - Opstart Importark'!$B$23,\"\")","v":""},{"$nulls":14},"",{"$nulls":8},0,"","","objektnogle_"]
[320,null,{"$f":"IF('1 - Opstart Importark'!$B$6=\"\",\"\",(IF('1 - Opstart Importark'!$B$15=\"\",CONCATENATE(LEFT('1 - Opstart Importark'!$B$3,1),(LEFT('1 - Opstart Importark'!$B$20,5)),MID('1 - Opstart Importark'!$B$20,5,2),LEFT('1 - Opstart Importark'!$B$28,3),IF(I332=\"\",\"\",\"-\"),I332,IF(K332=\"\",\"\",\"-\"),K332,IF(M332=\"\",\"\",\"-\"),M332),CONCATENATE(LEFT('1 - Opstart Importark'!$B$3,1),(LEFT('1 - Opstart Importark'!$B$15,5)),(LEFT('1 - Opstart Importark'!$B$18,3)),IF(I332=\"\",\"\",\"-\"),I332,IF(K332=\"\",\"\",\"-\"),K332,IF(M332=\"\",\"\",\"-\"),M332))))","v":""},null," ",{"$nulls":9},{"$f":"IF(LEN('1 - Opstart Importark'!$B$6)>0,'1 - Opstart Importark'!$B$6,\"\")","v":""},{"$f":"IF(LEN('1 - Opstart Importark'!$B$9)>0,'1 - Opstart Importark'!$B$9,\"\")","v":""},{"$f":"IF(LEN('1 - Opstart Importark'!$B$23)>0,'1 - Opstart Importark'!$B$23,\"\")","v":""},{"$nulls":14},"",{"$nulls":8},0,"","","objektnogle_"]
[321,null,{"$f":"IF('1 - Opstart Importark'!$B$6=\"\",\"\",(IF('1 - Opstart Importark'!$B$15=\"\",CONCATENATE(LEFT('1 - Opstart Importark'!$B$3,1),(LEFT('1 - Opstart Importark'!$B$20,5)),MID('1 - Opstart Importark'!$B$20,5,2),LEFT('1 - Opstart Importark'!$B$28,3),IF(I333=\"\",\"\",\"-\"),I333,IF(K333=\"\",\"\",\"-\"),K333,IF(M333=\"\",\"\",\"-\"),M333),CONCATENATE(LEFT('1 - Opstart Importark'!$B$3,1),(LEFT('1 - Opstart Importark'!$B$15,5)),(LEFT('1 - Opstart Importark'!$B$18,3)),IF(I333=\"\",\"\",\"-\"),I333,IF(K333=\"\",\"\",\"-\"),K333,IF(M333=\"\",\"\",\"-\"),M333))))","v":""},null," ",{"$nulls":9},{"$f":"IF(LEN('1 - Opstart Importark'!$B$6)>0,'1 - Opstart Importark'!$B$6,\"\")","v":""},{"$f":"IF(LEN('1 - Opstart Importark'!$B$9)>0,'1 - Opstart Importark'!$B$9,\"\")","v":""},{"$f":"IF(LEN('1 - Opstart Importark'!$B$23)>0,'1 - Opstart Importark'!$B$23,\"\")","v":""},{"$nulls":14},{"$f":"IF(K333=\"\",\"\",VLOOKUP(LEFT(K333,1),objektfilter,2))","v":""},{"$nulls":8},{"$f":"IFERROR(FIND(\".\",F333),)","v":0},"","","objektnogle_"]
[322,null,{"$f":"IF('1 - Opstart Importark'!$B$6=\"\",\"\",(IF('1 - Opstart Importark'!$B$15=\"\",CONCATENATE(LEFT('1 - Opstart Importark'!$B$3,1),(LEFT('1 - Opstart Importark'!$B$20,5)),MID('1 - Opstart Importark'!$B$20,5,2),LEFT('1 - Opstart Importark'!$B$28,3),IF(I334=\"\",\"\",\"-\"),I334,IF(K334=\"\",\"\",\"-\"),K334,IF(M334=\"\",\"\",\"-\"),M334),CONCATENATE(LEFT('1 - Opstart Importark'!$B$3,1),(LEFT('1 - Opstart Importark'!$B$15,5)),(LEFT('1 - Opstart Importark'!$B$18,3)),IF(I334=\"\",\"\",\"-\"),I334,IF(K334=\"\",\"\",\"-\"),K334,IF(M334=\"\",\"\",\"-\"),M334))))","v":""},null," ",{"$nulls":9},{"$f":"IF(LEN('1 - Opstart Importark'!$B$6)>0,'1 - Opstart Importark'!$B$6,\"\")","v":""},{"$f":"IF(LEN('1 - Opstart Importark'!$B$9)>0,'1 - Opstart Importark'!$B$9,\"\")","v":""},{"$f":"IF(LEN('1 - Opstart Importark'!$B$23)>0,'1 - Opstart Importark'!$B$23,\"\")","v":""},{"$nulls":14},"",{"$nulls":8},0,{"$f":"IF(K334=\"\",\"\",IF(LEFT(K334,1)=\"E\",0,1))","v":""},{"$f":"IF(K334=\"\",\"\",IF(LEFT(K334,1)=\"E\",0,1))","v":""},{"$f":"IF(W334=\"\", CONCATENATE(\"objektnogle_\",LEFT(AF334,1)),CONCATENATE(\"objektnogle_\",LEFT(W334,1)))","v":"objektnogle_"}]
[323,null,{"$f":"IF('1 - Opstart Importark'!$B$6=\"\",\"\",(IF('1 - Opstart Importark'!$B$15=\"\",CONCATENATE(LEFT('1 - Opstart Importark'!$B$3,1),(LEFT('1 - Opstart Importark'!$B$20,5)),MID('1 - Opstart Importark'!$B$20,5,2),LEFT('1 - Opstart Importark'!$B$28,3),IF(I335=\"\",\"\",\"-\"),I335,IF(K335=\"\",\"\",\"-\"),K335,IF(M335=\"\",\"\",\"-\"),M335),CONCATENATE(LEFT('1 - Opstart Importark'!$B$3,1),(LEFT('1 - Opstart Importark'!$B$15,5)),(LEFT('1 - Opstart Importark'!$B$18,3)),IF(I335=\"\",\"\",\"-\"),I335,IF(K335=\"\",\"\",\"-\"),K335,IF(M335=\"\",\"\",\"-\"),M335))))","v":""},null," ",{"$nulls":9},{"$f":"IF(LEN('1 - Opstart Importark'!$B$6)>0,'1 - Opstart Importark'!$B$6,\"\")","v":""},{"$f":"IF(LEN('1 - Opstart Importark'!$B$9)>0,'1 - Opstart Importark'!$B$9,\"\")","v":""},{"$f":"IF(LEN('1 - Opstart Importark'!$B$23)>0,'1 - Opstart Importark'!$B$23,\"\")","v":""},{"$nulls":14},"",{"$nulls":8},0,"","","objektnogle_"]
[324,null,{"$f":"IF('1 - Opstart Importark'!$B$6=\"\",\"\",(IF('1 - Opstart Importark'!$B$15=\"\",CONCATENATE(LEFT('1 - Opstart Importark'!$B$3,1),(LEFT('1 - Opstart Importark'!$B$20,5)),MID('1 - Opstart Importark'!$B$20,5,2),LEFT('1 - Opstart Importark'!$B$28,3),IF(I336=\"\",\"\",\"-\"),I336,IF(K336=\"\",\"\",\"-\"),K336,IF(M336=\"\",\"\",\"-\"),M336),CONCATENATE(LEFT('1 - Opstart Importark'!$B$3,1),(LEFT('1 - Opstart Importark'!$B$15,5)),(LEFT('1 - Opstart Importark'!$B$18,3)),IF(I336=\"\",\"\",\"-\"),I336,IF(K336=\"\",\"\",\"-\"),K336,IF(M336=\"\",\"\",\"-\"),M336))))","v":""},null," ",{"$nulls":9},{"$f":"IF(LEN('1 - Opstart Importark'!$B$6)>0,'1 - Opstart Importark'!$B$6,\"\")","v":""},{"$f":"IF(LEN('1 - Opstart Importark'!$B$9)>0,'1 - Opstart Importark'!$B$9,\"\")","v":""},{"$f":"IF(LEN('1 - Opstart Importark'!$B$23)>0,'1 - Opstart Importark'!$B$23,\"\")","v":""},{"$nulls":14},"",{"$nulls":8},0,"","","objektnogle_"]
[325,null,{"$f":"IF('1 - Opstart Importark'!$B$6=\"\",\"\",(IF('1 - Opstart Importark'!$B$15=\"\",CONCATENATE(LEFT('1 - Opstart Importark'!$B$3,1),(LEFT('1 - Opstart Importark'!$B$20,5)),MID('1 - Opstart Importark'!$B$20,5,2),LEFT('1 - Opstart Importark'!$B$28,3),IF(I337=\"\",\"\",\"-\"),I337,IF(K337=\"\",\"\",\"-\"),K337,IF(M337=\"\",\"\",\"-\"),M337),CONCATENATE(LEFT('1 - Opstart Importark'!$B$3,1),(LEFT('1 - Opstart Importark'!$B$15,5)),(LEFT('1 - Opstart Importark'!$B$18,3)),IF(I337=\"\",\"\",\"-\"),I337,IF(K337=\"\",\"\",\"-\"),K337,IF(M337=\"\",\"\",\"-\"),M337))))","v":""},null," ",{"$nulls":9},{"$f":"IF(LEN('1 - Opstart Importark'!$B$6)>0,'1 - Opstart Importark'!$B$6,\"\")","v":""},{"$f":"IF(LEN('1 - Opstart Importark'!$B$9)>0,'1 - Opstart Importark'!$B$9,\"\")","v":""},{"$f":"IF(LEN('1 - Opstart Importark'!$B$23)>0,'1 - Opstart Importark'!$B$23,\"\")","v":""},{"$nulls":14},"",{"$nulls":8},0,"","","objektnogle_"]
[326,null,{"$f":"IF('1 - Opstart Importark'!$B$6=\"\",\"\",(IF('1 - Opstart Importark'!$B$15=\"\",CONCATENATE(LEFT('1 - Opstart Importark'!$B$3,1),(LEFT('1 - Opstart Importark'!$B$20,5)),MID('1 - Opstart Importark'!$B$20,5,2),LEFT('1 - Opstart Importark'!$B$28,3),IF(I338=\"\",\"\",\"-\"),I338,IF(K338=\"\",\"\",\"-\"),K338,IF(M338=\"\",\"\",\"-\"),M338),CONCATENATE(LEFT('1 - Opstart Importark'!$B$3,1),(LEFT('1 - Opstart Importark'!$B$15,5)),(LEFT('1 - Opstart Importark'!$B$18,3)),IF(I338=\"\",\"\",\"-\"),I338,IF(K338=\"\",\"\",\"-\"),K338,IF(M338=\"\",\"\",\"-\"),M338))))","v":""},null," ",{"$nulls":9},{"$f":"IF(LEN('1 - Opstart Importark'!$B$6)>0,'1 - Opstart Importark'!$B$6,\"\")","v":""},{"$f":"IF(LEN('1 - Opstart Importark'!$B$9)>0,'1 - Opstart Importark'!$B$9,\"\")","v":""},{"$f":"IF(LEN('1 - Opstart Importark'!$B$23)>0,'1 - Opstart Importark'!$B$23,\"\")","v":""},{"$nulls":14},"",{"$nulls":8},0,"","","objektnogle_"]
[327,null,{"$f":"IF('1 - Opstart Importark'!$B$6=\"\",\"\",(IF('1 - Opstart Importark'!$B$15=\"\",CONCATENATE(LEFT('1 - Opstart Importark'!$B$3,1),(LEFT('1 - Opstart Importark'!$B$20,5)),MID('1 - Opstart Importark'!$B$20,5,2),LEFT('1 - Opstart Importark'!$B$28,3),IF(I339=\"\",\"\",\"-\"),I339,IF(K339=\"\",\"\",\"-\"),K339,IF(M339=\"\",\"\",\"-\"),M339),CONCATENATE(LEFT('1 - Opstart Importark'!$B$3,1),(LEFT('1 - Opstart Importark'!$B$15,5)),(LEFT('1 - Opstart Importark'!$B$18,3)),IF(I339=\"\",\"\",\"-\"),I339,IF(K339=\"\",\"\",\"-\"),K339,IF(M339=\"\",\"\",\"-\"),M339))))","v":""},null," ",{"$nulls":9},{"$f":"IF(LEN('1 - Opstart Importark'!$B$6)>0,'1 - Opstart Importark'!$B$6,\"\")","v":""},{"$f":"IF(LEN('1 - Opstart Importark'!$B$9)>0,'1 - Opstart Importark'!$B$9,\"\")","v":""},{"$f":"IF(LEN('1 - Opstart Importark'!$B$23)>0,'1 - Opstart Importark'!$B$23,\"\")","v":""},{"$nulls":14},"",{"$nulls":8},0,"","","objektnogle_"]
[328,null,{"$f":"IF('1 - Opstart Importark'!$B$6=\"\",\"\",(IF('1 - Opstart Importark'!$B$15=\"\",CONCATENATE(LEFT('1 - Opstart Importark'!$B$3,1),(LEFT('1 - Opstart Importark'!$B$20,5)),MID('1 - Opstart Importark'!$B$20,5,2),LEFT('1 - Opstart Importark'!$B$28,3),IF(I340=\"\",\"\",\"-\"),I340,IF(K340=\"\",\"\",\"-\"),K340,IF(M340=\"\",\"\",\"-\"),M340),CONCATENATE(LEFT('1 - Opstart Importark'!$B$3,1),(LEFT('1 - Opstart Importark'!$B$15,5)),(LEFT('1 - Opstart Importark'!$B$18,3)),IF(I340=\"\",\"\",\"-\"),I340,IF(K340=\"\",\"\",\"-\"),K340,IF(M340=\"\",\"\",\"-\"),M340))))","v":""},null," ",{"$nulls":9},{"$f":"IF(LEN('1 - Opstart Importark'!$B$6)>0,'1 - Opstart Importark'!$B$6,\"\")","v":""},{"$f":"IF(LEN('1 - Opstart Importark'!$B$9)>0,'1 - Opstart Importark'!$B$9,\"\")","v":""},{"$f":"IF(LEN('1 - Opstart Importark'!$B$23)>0,'1 - Opstart Importark'!$B$23,\"\")","v":""},{"$nulls":14},"",{"$nulls":8},0,"","","objektnogle_"]
[329,null,{"$f":"IF('1 - Opstart Importark'!$B$6=\"\",\"\",(IF('1 - Opstart Importark'!$B$15=\"\",CONCATENATE(LEFT('1 - Opstart Importark'!$B$3,1),(LEFT('1 - Opstart Importark'!$B$20,5)),MID('1 - Opstart Importark'!$B$20,5,2),LEFT('1 - Opstart Importark'!$B$28,3),IF(I341=\"\",\"\",\"-\"),I341,IF(K341=\"\",\"\",\"-\"),K341,IF(M341=\"\",\"\",\"-\"),M341),CONCATENATE(LEFT('1 - Opstart Importark'!$B$3,1),(LEFT('1 - Opstart Importark'!$B$15,5)),(LEFT('1 - Opstart Importark'!$B$18,3)),IF(I341=\"\",\"\",\"-\"),I341,IF(K341=\"\",\"\",\"-\"),K341,IF(M341=\"\",\"\",\"-\"),M341))))","v":""},null," ",{"$nulls":9},{"$f":"IF(LEN('1 - Opstart Importark'!$B$6)>0,'1 - Opstart Importark'!$B$6,\"\")","v":""},{"$f":"IF(LEN('1 - Opstart Importark'!$B$9)>0,'1 - Opstart Importark'!$B$9,\"\")","v":""},{"$f":"IF(LEN('1 - Opstart Importark'!$B$23)>0,'1 - Opstart Importark'!$B$23,\"\")","v":""},{"$nulls":14},"",{"$nulls":8},0,"","","objektnogle_"]
[330,null,{"$f":"IF('1 - Opstart Importark'!$B$6=\"\",\"\",(IF('1 - Opstart Importark'!$B$15=\"\",CONCATENATE(LEFT('1 - Opstart Importark'!$B$3,1),(LEFT('1 - Opstart Importark'!$B$20,5)),MID('1 - Opstart Importark'!$B$20,5,2),LEFT('1 - Opstart Importark'!$B$28,3),IF(I342=\"\",\"\",\"-\"),I342,IF(K342=\"\",\"\",\"-\"),K342,IF(M342=\"\",\"\",\"-\"),M342),CONCATENATE(LEFT('1 - Opstart Importark'!$B$3,1),(LEFT('1 - Opstart Importark'!$B$15,5)),(LEFT('1 - Opstart Importark'!$B$18,3)),IF(I342=\"\",\"\",\"-\"),I342,IF(K342=\"\",\"\",\"-\"),K342,IF(M342=\"\",\"\",\"-\"),M342))))","v":""},null," ",{"$nulls":9},{"$f":"IF(LEN('1 - Opstart Importark'!$B$6)>0,'1 - Opstart Importark'!$B$6,\"\")","v":""},{"$f":"IF(LEN('1 - Opstart Importark'!$B$9)>0,'1 - Opstart Importark'!$B$9,\"\")","v":""},{"$f":"IF(LEN('1 - Opstart Importark'!$B$23)>0,'1 - Opstart Importark'!$B$23,\"\")","v":""},{"$nulls":14},"",{"$nulls":8},0,"","","objektnogle_"]
[331,null,{"$f":"IF('1 - Opstart Importark'!$B$6=\"\",\"\",(IF('1 - Opstart Importark'!$B$15=\"\",CONCATENATE(LEFT('1 - Opstart Importark'!$B$3,1),(LEFT('1 - Opstart Importark'!$B$20,5)),MID('1 - Opstart Importark'!$B$20,5,2),LEFT('1 - Opstart Importark'!$B$28,3),IF(I343=\"\",\"\",\"-\"),I343,IF(K343=\"\",\"\",\"-\"),K343,IF(M343=\"\",\"\",\"-\"),M343),CONCATENATE(LEFT('1 - Opstart Importark'!$B$3,1),(LEFT('1 - Opstart Importark'!$B$15,5)),(LEFT('1 - Opstart Importark'!$B$18,3)),IF(I343=\"\",\"\",\"-\"),I343,IF(K343=\"\",\"\",\"-\"),K343,IF(M343=\"\",\"\",\"-\"),M343))))","v":""},null," ",{"$nulls":9},{"$f":"IF(LEN('1 - Opstart Importark'!$B$6)>0,'1 - Opstart Importark'!$B$6,\"\")","v":""},{"$f":"IF(LEN('1 - Opstart Importark'!$B$9)>0,'1 - Opstart Importark'!$B$9,\"\")","v":""},{"$f":"IF(LEN('1 - Opstart Importark'!$B$23)>0,'1 - Opstart Importark'!$B$23,\"\")","v":""},{"$nulls":14},"",{"$nulls":8},0,"","","objektnogle_"]
[332,null,{"$f":"IF('1 - Opstart Importark'!$B$6=\"\",\"\",(IF('1 - Opstart Importark'!$B$15=\"\",CONCATENATE(LEFT('1 - Opstart Importark'!$B$3,1),(LEFT('1 - Opstart Importark'!$B$20,5)),MID('1 - Opstart Importark'!$B$20,5,2),LEFT('1 - Opstart Importark'!$B$28,3),IF(I344=\"\",\"\",\"-\"),I344,IF(K344=\"\",\"\",\"-\"),K344,IF(M344=\"\",\"\",\"-\"),M344),CONCATENATE(LEFT('1 - Opstart Importark'!$B$3,1),(LEFT('1 - Opstart Importark'!$B$15,5)),(LEFT('1 - Opstart Importark'!$B$18,3)),IF(I344=\"\",\"\",\"-\"),I344,IF(K344=\"\",\"\",\"-\"),K344,IF(M344=\"\",\"\",\"-\"),M344))))","v":""},null," ",{"$nulls":9},{"$f":"IF(LEN('1 - Opstart Importark'!$B$6)>0,'1 - Opstart Importark'!$B$6,\"\")","v":""},{"$f":"IF(LEN('1 - Opstart Importark'!$B$9)>0,'1 - Opstart Importark'!$B$9,\"\")","v":""},{"$f":"IF(LEN('1 - Opstart Importark'!$B$23)>0,'1 - Opstart Importark'!$B$23,\"\")","v":""},{"$nulls":14},"",{"$nulls":8},0,"","","objektnogle_"]
[333,null,{"$f":"IF('1 - Opstart Importark'!$B$6=\"\",\"\",(IF('1 - Opstart Importark'!$B$15=\"\",CONCATENATE(LEFT('1 - Opstart Importark'!$B$3,1),(LEFT('1 - Opstart Importark'!$B$20,5)),MID('1 - Opstart Importark'!$B$20,5,2),LEFT('1 - Opstart Importark'!$B$28,3),IF(I345=\"\",\"\",\"-\"),I345,IF(K345=\"\",\"\",\"-\"),K345,IF(M345=\"\",\"\",\"-\"),M345),CONCATENATE(LEFT('1 - Opstart Importark'!$B$3,1),(LEFT('1 - Opstart Importark'!$B$15,5)),(LEFT('1 - Opstart Importark'!$B$18,3)),IF(I345=\"\",\"\",\"-\"),I345,IF(K345=\"\",\"\",\"-\"),K345,IF(M345=\"\",\"\",\"-\"),M345))))","v":""},null," ",{"$nulls":9},{"$f":"IF(LEN('1 - Opstart Importark'!$B$6)>0,'1 - Opstart Importark'!$B$6,\"\")","v":""},{"$f":"IF(LEN('1 - Opstart Importark'!$B$9)>0,'1 - Opstart Importark'!$B$9,\"\")","v":""},{"$f":"IF(LEN('1 - Opstart Importark'!$B$23)>0,'1 - Opstart Importark'!$B$23,\"\")","v":""},{"$nulls":14},"",{"$nulls":8},0,"","","objektnogle_"]
[334,null,{"$f":"IF('1 - Opstart Importark'!$B$6=\"\",\"\",(IF('1 - Opstart Importark'!$B$15=\"\",CONCATENATE(LEFT('1 - Opstart Importark'!$B$3,1),(LEFT('1 - Opstart Importark'!$B$20,5)),MID('1 - Opstart Importark'!$B$20,5,2),LEFT('1 - Opstart Importark'!$B$28,3),IF(I346=\"\",\"\",\"-\"),I346,IF(K346=\"\",\"\",\"-\"),K346,IF(M346=\"\",\"\",\"-\"),M346),CONCATENATE(LEFT('1 - Opstart Importark'!$B$3,1),(LEFT('1 - Opstart Importark'!$B$15,5)),(LEFT('1 - Opstart Importark'!$B$18,3)),IF(I346=\"\",\"\",\"-\"),I346,IF(K346=\"\",\"\",\"-\"),K346,IF(M346=\"\",\"\",\"-\"),M346))))","v":""},null," ",{"$nulls":9},{"$f":"IF(LEN('1 - Opstart Importark'!$B$6)>0,'1 - Opstart Importark'!$B$6,\"\")","v":""},{"$f":"IF(LEN('1 - Opstart Importark'!$B$9)>0,'1 - Opstart Importark'!$B$9,\"\")","v":""},{"$f":"IF(LEN('1 - Opstart Importark'!$B$23)>0,'1 - Opstart Importark'!$B$23,\"\")","v":""},{"$nulls":14},"",{"$nulls":8},0,"","","objektnogle_"]
[335,null,{"$f":"IF('1 - Opstart Importark'!$B$6=\"\",\"\",(IF('1 - Opstart Importark'!$B$15=\"\",CONCATENATE(LEFT('1 - Opstart Importark'!$B$3,1),(LEFT('1 - Opstart Importark'!$B$20,5)),MID('1 - Opstart Importark'!$B$20,5,2),LEFT('1 - Opstart Importark'!$B$28,3),IF(I347=\"\",\"\",\"-\"),I347,IF(K347=\"\",\"\",\"-\"),K347,IF(M347=\"\",\"\",\"-\"),M347),CONCATENATE(LEFT('1 - Opstart Importark'!$B$3,1),(LEFT('1 - Opstart Importark'!$B$15,5)),(LEFT('1 - Opstart Importark'!$B$18,3)),IF(I347=\"\",\"\",\"-\"),I347,IF(K347=\"\",\"\",\"-\"),K347,IF(M347=\"\",\"\",\"-\"),M347))))","v":""},null," ",{"$nulls":9},{"$f":"IF(LEN('1 - Opstart Importark'!$B$6)>0,'1 - Opstart Importark'!$B$6,\"\")","v":""},{"$f":"IF(LEN('1 - Opstart Importark'!$B$9)>0,'1 - Opstart Importark'!$B$9,\"\")","v":""},{"$f":"IF(LEN('1 - Opstart Importark'!$B$23)>0,'1 - Opstart Importark'!$B$23,\"\")","v":""},{"$nulls":14},"",{"$nulls":8},0,"","","objektnogle_"]
[336,null,{"$f":"IF('1 - Opstart Importark'!$B$6=\"\",\"\",(IF('1 - Opstart Importark'!$B$15=\"\",CONCATENATE(LEFT('1 - Opstart Importark'!$B$3,1),(LEFT('1 - Opstart Importark'!$B$20,5)),MID('1 - Opstart Importark'!$B$20,5,2),LEFT('1 - Opstart Importark'!$B$28,3),IF(I348=\"\",\"\",\"-\"),I348,IF(K348=\"\",\"\",\"-\"),K348,IF(M348=\"\",\"\",\"-\"),M348),CONCATENATE(LEFT('1 - Opstart Importark'!$B$3,1),(LEFT('1 - Opstart Importark'!$B$15,5)),(LEFT('1 - Opstart Importark'!$B$18,3)),IF(I348=\"\",\"\",\"-\"),I348,IF(K348=\"\",\"\",\"-\"),K348,IF(M348=\"\",\"\",\"-\"),M348))))","v":""},null," ",{"$nulls":9},{"$f":"IF(LEN('1 - Opstart Importark'!$B$6)>0,'1 - Opstart Importark'!$B$6,\"\")","v":""},{"$f":"IF(LEN('1 - Opstart Importark'!$B$9)>0,'1 - Opstart Importark'!$B$9,\"\")","v":""},{"$f":"IF(LEN('1 - Opstart Importark'!$B$23)>0,'1 - Opstart Importark'!$B$23,\"\")","v":""},{"$nulls":14},"",{"$nulls":8},0,"","","objektnogle_"]
[337,null,{"$f":"IF('1 - Opstart Importark'!$B$6=\"\",\"\",(IF('1 - Opstart Importark'!$B$15=\"\",CONCATENATE(LEFT('1 - Opstart Importark'!$B$3,1),(LEFT('1 - Opstart Importark'!$B$20,5)),MID('1 - Opstart Importark'!$B$20,5,2),LEFT('1 - Opstart Importark'!$B$28,3),IF(I349=\"\",\"\",\"-\"),I349,IF(K349=\"\",\"\",\"-\"),K349,IF(M349=\"\",\"\",\"-\"),M349),CONCATENATE(LEFT('1 - Opstart Importark'!$B$3,1),(LEFT('1 - Opstart Importark'!$B$15,5)),(LEFT('1 - Opstart Importark'!$B$18,3)),IF(I349=\"\",\"\",\"-\"),I349,IF(K349=\"\",\"\",\"-\"),K349,IF(M349=\"\",\"\",\"-\"),M349))))","v":""},null," ",{"$nulls":9},{"$f":"IF(LEN('1 - Opstart Importark'!$B$6)>0,'1 - Opstart Importark'!$B$6,\"\")","v":""},{"$f":"IF(LEN('1 - Opstart Importark'!$B$9)>0,'1 - Opstart Importark'!$B$9,\"\")","v":""},{"$f":"IF(LEN('1 - Opstart Importark'!$B$23)>0,'1 - Opstart Importark'!$B$23,\"\")","v":""},{"$nulls":14},"",{"$nulls":8},0,"","","objektnogle_"]
[338,null,{"$f":"IF('1 - Opstart Importark'!$B$6=\"\",\"\",(IF('1 - Opstart Importark'!$B$15=\"\",CONCATENATE(LEFT('1 - Opstart Importark'!$B$3,1),(LEFT('1 - Opstart Importark'!$B$20,5)),MID('1 - Opstart Importark'!$B$20,5,2),LEFT('1 - Opstart Importark'!$B$28,3),IF(I350=\"\",\"\",\"-\"),I350,IF(K350=\"\",\"\",\"-\"),K350,IF(M350=\"\",\"\",\"-\"),M350),CONCATENATE(LEFT('1 - Opstart Importark'!$B$3,1),(LEFT('1 - Opstart Importark'!$B$15,5)),(LEFT('1 - Opstart Importark'!$B$18,3)),IF(I350=\"\",\"\",\"-\"),I350,IF(K350=\"\",\"\",\"-\"),K350,IF(M350=\"\",\"\",\"-\"),M350))))","v":""},null," ",{"$nulls":9},{"$f":"IF(LEN('1 - Opstart Importark'!$B$6)>0,'1 - Opstart Importark'!$B$6,\"\")","v":""},{"$f":"IF(LEN('1 - Opstart Importark'!$B$9)>0,'1 - Opstart Importark'!$B$9,\"\")","v":""},{"$f":"IF(LEN('1 - Opstart Importark'!$B$23)>0,'1 - Opstart Importark'!$B$23,\"\")","v":""},{"$nulls":14},"",{"$nulls":8},0,"","","objektnogle_"]
[339,null,{"$f":"IF('1 - Opstart Importark'!$B$6=\"\",\"\",(IF('1 - Opstart Importark'!$B$15=\"\",CONCATENATE(LEFT('1 - Opstart Importark'!$B$3,1),(LEFT('1 - Opstart Importark'!$B$20,5)),MID('1 - Opstart Importark'!$B$20,5,2),LEFT('1 - Opstart Importark'!$B$28,3),IF(I351=\"\",\"\",\"-\"),I351,IF(K351=\"\",\"\",\"-\"),K351,IF(M351=\"\",\"\",\"-\"),M351),CONCATENATE(LEFT('1 - Opstart Importark'!$B$3,1),(LEFT('1 - Opstart Importark'!$B$15,5)),(LEFT('1 - Opstart Importark'!$B$18,3)),IF(I351=\"\",\"\",\"-\"),I351,IF(K351=\"\",\"\",\"-\"),K351,IF(M351=\"\",\"\",\"-\"),M351))))","v":""},null," ",{"$nulls":9},{"$f":"IF(LEN('1 - Opstart Importark'!$B$6)>0,'1 - Opstart Importark'!$B$6,\"\")","v":""},{"$f":"IF(LEN('1 - Opstart Importark'!$B$9)>0,'1 - Opstart Importark'!$B$9,\"\")","v":""},{"$f":"IF(LEN('1 - Opstart Importark'!$B$23)>0,'1 - Opstart Importark'!$B$23,\"\")","v":""},{"$nulls":14},"",{"$nulls":8},0,"","","objektnogle_"]
[340,null,{"$f":"IF('1 - Opstart Importark'!$B$6=\"\",\"\",(IF('1 - Opstart Importark'!$B$15=\"\",CONCATENATE(LEFT('1 - Opstart Importark'!$B$3,1),(LEFT('1 - Opstart Importark'!$B$20,5)),MID('1 - Opstart Importark'!$B$20,5,2),LEFT('1 - Opstart Importark'!$B$28,3),IF(I352=\"\",\"\",\"-\"),I352,IF(K352=\"\",\"\",\"-\"),K352,IF(M352=\"\",\"\",\"-\"),M352),CONCATENATE(LEFT('1 - Opstart Importark'!$B$3,1),(LEFT('1 - Opstart Importark'!$B$15,5)),(LEFT('1 - Opstart Importark'!$B$18,3)),IF(I352=\"\",\"\",\"-\"),I352,IF(K352=\"\",\"\",\"-\"),K352,IF(M352=\"\",\"\",\"-\"),M352))))","v":""},null," ",{"$nulls":9},{"$f":"IF(LEN('1 - Opstart Importark'!$B$6)>0,'1 - Opstart Importark'!$B$6,\"\")","v":""},{"$f":"IF(LEN('1 - Opstart Importark'!$B$9)>0,'1 - Opstart Importark'!$B$9,\"\")","v":""},{"$f":"IF(LEN('1 - Opstart Importark'!$B$23)>0,'1 - Opstart Importark'!$B$23,\"\")","v":""},{"$nulls":14},"",{"$nulls":8},0,"","","objektnogle_"]
[341,null,{"$f":"IF('1 - Opstart Importark'!$B$6=\"\",\"\",(IF('1 - Opstart Importark'!$B$15=\"\",CONCATENATE(LEFT('1 - Opstart Importark'!$B$3,1),(LEFT('1 - Opstart Importark'!$B$20,5)),MID('1 - Opstart Importark'!$B$20,5,2),LEFT('1 - Opstart Importark'!$B$28,3),IF(I353=\"\",\"\",\"-\"),I353,IF(K353=\"\",\"\",\"-\"),K353,IF(M353=\"\",\"\",\"-\"),M353),CONCATENATE(LEFT('1 - Opstart Importark'!$B$3,1),(LEFT('1 - Opstart Importark'!$B$15,5)),(LEFT('1 - Opstart Importark'!$B$18,3)),IF(I353=\"\",\"\",\"-\"),I353,IF(K353=\"\",\"\",\"-\"),K353,IF(M353=\"\",\"\",\"-\"),M353))))","v":""},null," ",{"$nulls":9},{"$f":"IF(LEN('1 - Opstart Importark'!$B$6)>0,'1 - Opstart Importark'!$B$6,\"\")","v":""},{"$f":"IF(LEN('1 - Opstart Importark'!$B$9)>0,'1 - Opstart Importark'!$B$9,\"\")","v":""},{"$f":"IF(LEN('1 - Opstart Importark'!$B$23)>0,'1 - Opstart Importark'!$B$23,\"\")","v":""},{"$nulls":14},"",{"$nulls":8},0,"","","objektnogle_"]
[342,null,{"$f":"IF('1 - Opstart Importark'!$B$6=\"\",\"\",(IF('1 - Opstart Importark'!$B$15=\"\",CONCATENATE(LEFT('1 - Opstart Importark'!$B$3,1),(LEFT('1 - Opstart Importark'!$B$20,5)),MID('1 - Opstart Importark'!$B$20,5,2),LEFT('1 - Opstart Importark'!$B$28,3),IF(I354=\"\",\"\",\"-\"),I354,IF(K354=\"\",\"\",\"-\"),K354,IF(M354=\"\",\"\",\"-\"),M354),CONCATENATE(LEFT('1 - Opstart Importark'!$B$3,1),(LEFT('1 - Opstart Importark'!$B$15,5)),(LEFT('1 - Opstart Importark'!$B$18,3)),IF(I354=\"\",\"\",\"-\"),I354,IF(K354=\"\",\"\",\"-\"),K354,IF(M354=\"\",\"\",\"-\"),M354))))","v":""},null," ",{"$nulls":9},{"$f":"IF(LEN('1 - Opstart Importark'!$B$6)>0,'1 - Opstart Importark'!$B$6,\"\")","v":""},{"$f":"IF(LEN('1 - Opstart Importark'!$B$9)>0,'1 - Opstart Importark'!$B$9,\"\")","v":""},{"$f":"IF(LEN('1 - Opstart Importark'!$B$23)>0,'1 - Opstart Importark'!$B$23,\"\")","v":""},{"$nulls":14},"",{"$nulls":8},0,"","","objektnogle_"]
[343,null,{"$f":"IF('1 - Opstart Importark'!$B$6=\"\",\"\",(IF('1 - Opstart Importark'!$B$15=\"\",CONCATENATE(LEFT('1 - Opstart Importark'!$B$3,1),(LEFT('1 - Opstart Importark'!$B$20,5)),MID('1 - Opstart Importark'!$B$20,5,2),LEFT('1 - Opstart Importark'!$B$28,3),IF(I355=\"\",\"\",\"-\"),I355,IF(K355=\"\",\"\",\"-\"),K355,IF(M355=\"\",\"\",\"-\"),M355),CONCATENATE(LEFT('1 - Opstart Importark'!$B$3,1),(LEFT('1 - Opstart Importark'!$B$15,5)),(LEFT('1 - Opstart Importark'!$B$18,3)),IF(I355=\"\",\"\",\"-\"),I355,IF(K355=\"\",\"\",\"-\"),K355,IF(M355=\"\",\"\",\"-\"),M355))))","v":""},null," ",{"$nulls":9},{"$f":"IF(LEN('1 - Opstart Importark'!$B$6)>0,'1 - Opstart Importark'!$B$6,\"\")","v":""},{"$f":"IF(LEN('1 - Opstart Importark'!$B$9)>0,'1 - Opstart Importark'!$B$9,\"\")","v":""},{"$f":"IF(LEN('1 - Opstart Importark'!$B$23)>0,'1 - Opstart Importark'!$B$23,\"\")","v":""},{"$nulls":14},"",{"$nulls":8},0,"","","objektnogle_"]
[344,null,{"$f":"IF('1 - Opstart Importark'!$B$6=\"\",\"\",(IF('1 - Opstart Importark'!$B$15=\"\",CONCATENATE(LEFT('1 - Opstart Importark'!$B$3,1),(LEFT('1 - Opstart Importark'!$B$20,5)),MID('1 - Opstart Importark'!$B$20,5,2),LEFT('1 - Opstart Importark'!$B$28,3),IF(I356=\"\",\"\",\"-\"),I356,IF(K356=\"\",\"\",\"-\"),K356,IF(M356=\"\",\"\",\"-\"),M356),CONCATENATE(LEFT('1 - Opstart Importark'!$B$3,1),(LEFT('1 - Opstart Importark'!$B$15,5)),(LEFT('1 - Opstart Importark'!$B$18,3)),IF(I356=\"\",\"\",\"-\"),I356,IF(K356=\"\",\"\",\"-\"),K356,IF(M356=\"\",\"\",\"-\"),M356))))","v":""},null," ",{"$nulls":9},{"$f":"IF(LEN('1 - Opstart Importark'!$B$6)>0,'1 - Opstart Importark'!$B$6,\"\")","v":""},{"$f":"IF(LEN('1 - Opstart Importark'!$B$9)>0,'1 - Opstart Importark'!$B$9,\"\")","v":""},{"$f":"IF(LEN('1 - Opstart Importark'!$B$23)>0,'1 - Opstart Importark'!$B$23,\"\")","v":""},{"$nulls":14},"",{"$nulls":8},0,"","","objektnogle_"]
[345,null,{"$f":"IF('1 - Opstart Importark'!$B$6=\"\",\"\",(IF('1 - Opstart Importark'!$B$15=\"\",CONCATENATE(LEFT('1 - Opstart Importark'!$B$3,1),(LEFT('1 - Opstart Importark'!$B$20,5)),MID('1 - Opstart Importark'!$B$20,5,2),LEFT('1 - Opstart Importark'!$B$28,3),IF(I357=\"\",\"\",\"-\"),I357,IF(K357=\"\",\"\",\"-\"),K357,IF(M357=\"\",\"\",\"-\"),M357),CONCATENATE(LEFT('1 - Opstart Importark'!$B$3,1),(LEFT('1 - Opstart Importark'!$B$15,5)),(LEFT('1 - Opstart Importark'!$B$18,3)),IF(I357=\"\",\"\",\"-\"),I357,IF(K357=\"\",\"\",\"-\"),K357,IF(M357=\"\",\"\",\"-\"),M357))))","v":""},null," ",{"$nulls":9},{"$f":"IF(LEN('1 - Opstart Importark'!$B$6)>0,'1 - Opstart Importark'!$B$6,\"\")","v":""},{"$f":"IF(LEN('1 - Opstart Importark'!$B$9)>0,'1 - Opstart Importark'!$B$9,\"\")","v":""},{"$f":"IF(LEN('1 - Opstart Importark'!$B$23)>0,'1 - Opstart Importark'!$B$23,\"\")","v":""},{"$nulls":14},"",{"$nulls":8},0,"","","objektnogle_"]
[346,null,{"$f":"IF('1 - Opstart Importark'!$B$6=\"\",\"\",(IF('1 - Opstart Importark'!$B$15=\"\",CONCATENATE(LEFT('1 - Opstart Importark'!$B$3,1),(LEFT('1 - Opstart Importark'!$B$20,5)),MID('1 - Opstart Importark'!$B$20,5,2),LEFT('1 - Opstart Importark'!$B$28,3),IF(I358=\"\",\"\",\"-\"),I358,IF(K358=\"\",\"\",\"-\"),K358,IF(M358=\"\",\"\",\"-\"),M358),CONCATENATE(LEFT('1 - Opstart Importark'!$B$3,1),(LEFT('1 - Opstart Importark'!$B$15,5)),(LEFT('1 - Opstart Importark'!$B$18,3)),IF(I358=\"\",\"\",\"-\"),I358,IF(K358=\"\",\"\",\"-\"),K358,IF(M358=\"\",\"\",\"-\"),M358))))","v":""},null," ",{"$nulls":9},{"$f":"IF(LEN('1 - Opstart Importark'!$B$6)>0,'1 - Opstart Importark'!$B$6,\"\")","v":""},{"$f":"IF(LEN('1 - Opstart Importark'!$B$9)>0,'1 - Opstart Importark'!$B$9,\"\")","v":""},{"$f":"IF(LEN('1 - Opstart Importark'!$B$23)>0,'1 - Opstart Importark'!$B$23,\"\")","v":""},{"$nulls":14},"",{"$nulls":8},0,"","","objektnogle_"]
[347,null,{"$f":"IF('1 - Opstart Importark'!$B$6=\"\",\"\",(IF('1 - Opstart Importark'!$B$15=\"\",CONCATENATE(LEFT('1 - Opstart Importark'!$B$3,1),(LEFT('1 - Opstart Importark'!$B$20,5)),MID('1 - Opstart Importark'!$B$20,5,2),LEFT('1 - Opstart Importark'!$B$28,3),IF(I359=\"\",\"\",\"-\"),I359,IF(K359=\"\",\"\",\"-\"),K359,IF(M359=\"\",\"\",\"-\"),M359),CONCATENATE(LEFT('1 - Opstart Importark'!$B$3,1),(LEFT('1 - Opstart Importark'!$B$15,5)),(LEFT('1 - Opstart Importark'!$B$18,3)),IF(I359=\"\",\"\",\"-\"),I359,IF(K359=\"\",\"\",\"-\"),K359,IF(M359=\"\",\"\",\"-\"),M359))))","v":""},null," ",{"$nulls":9},{"$f":"IF(LEN('1 - Opstart Importark'!$B$6)>0,'1 - Opstart Importark'!$B$6,\"\")","v":""},{"$f":"IF(LEN('1 - Opstart Importark'!$B$9)>0,'1 - Opstart Importark'!$B$9,\"\")","v":""},{"$f":"IF(LEN('1 - Opstart Importark'!$B$23)>0,'1 - Opstart Importark'!$B$23,\"\")","v":""},{"$nulls":14},"",{"$nulls":8},0,"","","objektnogle_"]
[348,null,{"$f":"IF('1 - Opstart Importark'!$B$6=\"\",\"\",(IF('1 - Opstart Importark'!$B$15=\"\",CONCATENATE(LEFT('1 - Opstart Importark'!$B$3,1),(LEFT('1 - Opstart Importark'!$B$20,5)),MID('1 - Opstart Importark'!$B$20,5,2),LEFT('1 - Opstart Importark'!$B$28,3),IF(I360=\"\",\"\",\"-\"),I360,IF(K360=\"\",\"\",\"-\"),K360,IF(M360=\"\",\"\",\"-\"),M360),CONCATENATE(LEFT('1 - Opstart Importark'!$B$3,1),(LEFT('1 - Opstart Importark'!$B$15,5)),(LEFT('1 - Opstart Importark'!$B$18,3)),IF(I360=\"\",\"\",\"-\"),I360,IF(K360=\"\",\"\",\"-\"),K360,IF(M360=\"\",\"\",\"-\"),M360))))","v":""},null," ",{"$nulls":9},{"$f":"IF(LEN('1 - Opstart Importark'!$B$6)>0,'1 - Opstart Importark'!$B$6,\"\")","v":""},{"$f":"IF(LEN('1 - Opstart Importark'!$B$9)>0,'1 - Opstart Importark'!$B$9,\"\")","v":""},{"$f":"IF(LEN('1 - Opstart Importark'!$B$23)>0,'1 - Opstart Importark'!$B$23,\"\")","v":""},{"$nulls":14},"",{"$nulls":8},0,"","","objektnogle_"]
[349,null,{"$f":"IF('1 - Opstart Importark'!$B$6=\"\",\"\",(IF('1 - Opstart Importark'!$B$15=\"\",CONCATENATE(LEFT('1 - Opstart Importark'!$B$3,1),(LEFT('1 - Opstart Importark'!$B$20,5)),MID('1 - Opstart Importark'!$B$20,5,2),LEFT('1 - Opstart Importark'!$B$28,3),IF(I361=\"\",\"\",\"-\"),I361,IF(K361=\"\",\"\",\"-\"),K361,IF(M361=\"\",\"\",\"-\"),M361),CONCATENATE(LEFT('1 - Opstart Importark'!$B$3,1),(LEFT('1 - Opstart Importark'!$B$15,5)),(LEFT('1 - Opstart Importark'!$B$18,3)),IF(I361=\"\",\"\",\"-\"),I361,IF(K361=\"\",\"\",\"-\"),K361,IF(M361=\"\",\"\",\"-\"),M361))))","v":""},null," ",{"$nulls":9},{"$f":"IF(LEN('1 - Opstart Importark'!$B$6)>0,'1 - Opstart Importark'!$B$6,\"\")","v":""},{"$f":"IF(LEN('1 - Opstart Importark'!$B$9)>0,'1 - Opstart Importark'!$B$9,\"\")","v":""},{"$f":"IF(LEN('1 - Opstart Importark'!$B$23)>0,'1 - Opstart Importark'!$B$23,\"\")","v":""},{"$nulls":14},"",{"$nulls":8},0,"","","objektnogle_"]
[350,null,{"$f":"IF('1 - Opstart Importark'!$B$6=\"\",\"\",(IF('1 - Opstart Importark'!$B$15=\"\",CONCATENATE(LEFT('1 - Opstart Importark'!$B$3,1),(LEFT('1 - Opstart Importark'!$B$20,5)),MID('1 - Opstart Importark'!$B$20,5,2),LEFT('1 - Opstart Importark'!$B$28,3),IF(I362=\"\",\"\",\"-\"),I362,IF(K362=\"\",\"\",\"-\"),K362,IF(M362=\"\",\"\",\"-\"),M362),CONCATENATE(LEFT('1 - Opstart Importark'!$B$3,1),(LEFT('1 - Opstart Importark'!$B$15,5)),(LEFT('1 - Opstart Importark'!$B$18,3)),IF(I362=\"\",\"\",\"-\"),I362,IF(K362=\"\",\"\",\"-\"),K362,IF(M362=\"\",\"\",\"-\"),M362))))","v":""},null," ",{"$nulls":9},{"$f":"IF(LEN('1 - Opstart Importark'!$B$6)>0,'1 - Opstart Importark'!$B$6,\"\")","v":""},{"$f":"IF(LEN('1 - Opstart Importark'!$B$9)>0,'1 - Opstart Importark'!$B$9,\"\")","v":""},{"$f":"IF(LEN('1 - Opstart Importark'!$B$23)>0,'1 - Opstart Importark'!$B$23,\"\")","v":""},{"$nulls":14},"",{"$nulls":8},0,"","","objektnogle_"]
[351,null,{"$f":"IF('1 - Opstart Importark'!$B$6=\"\",\"\",(IF('1 - Opstart Importark'!$B$15=\"\",CONCATENATE(LEFT('1 - Opstart Importark'!$B$3,1),(LEFT('1 - Opstart Importark'!$B$20,5)),MID('1 - Opstart Importark'!$B$20,5,2),LEFT('1 - Opstart Importark'!$B$28,3),IF(I363=\"\",\"\",\"-\"),I363,IF(K363=\"\",\"\",\"-\"),K363,IF(M363=\"\",\"\",\"-\"),M363),CONCATENATE(LEFT('1 - Opstart Importark'!$B$3,1),(LEFT('1 - Opstart Importark'!$B$15,5)),(LEFT('1 - Opstart Importark'!$B$18,3)),IF(I363=\"\",\"\",\"-\"),I363,IF(K363=\"\",\"\",\"-\"),K363,IF(M363=\"\",\"\",\"-\"),M363))))","v":""},null," ",{"$nulls":9},{"$f":"IF(LEN('1 - Opstart Importark'!$B$6)>0,'1 - Opstart Importark'!$B$6,\"\")","v":""},{"$f":"IF(LEN('1 - Opstart Importark'!$B$9)>0,'1 - Opstart Importark'!$B$9,\"\")","v":""},{"$f":"IF(LEN('1 - Opstart Importark'!$B$23)>0,'1 - Opstart Importark'!$B$23,\"\")","v":""},{"$nulls":14},"",{"$nulls":8},0,"","","objektnogle_"]
[352,null,{"$f":"IF('1 - Opstart Importark'!$B$6=\"\",\"\",(IF('1 - Opstart Importark'!$B$15=\"\",CONCATENATE(LEFT('1 - Opstart Importark'!$B$3,1),(LEFT('1 - Opstart Importark'!$B$20,5)),MID('1 - Opstart Importark'!$B$20,5,2),LEFT('1 - Opstart Importark'!$B$28,3),IF(I364=\"\",\"\",\"-\"),I364,IF(K364=\"\",\"\",\"-\"),K364,IF(M364=\"\",\"\",\"-\"),M364),CONCATENATE(LEFT('1 - Opstart Importark'!$B$3,1),(LEFT('1 - Opstart Importark'!$B$15,5)),(LEFT('1 - Opstart Importark'!$B$18,3)),IF(I364=\"\",\"\",\"-\"),I364,IF(K364=\"\",\"\",\"-\"),K364,IF(M364=\"\",\"\",\"-\"),M364))))","v":""},null," ",{"$nulls":9},{"$f":"IF(LEN('1 - Opstart Importark'!$B$6)>0,'1 - Opstart Importark'!$B$6,\"\")","v":""},{"$f":"IF(LEN('1 - Opstart Importark'!$B$9)>0,'1 - Opstart Importark'!$B$9,\"\")","v":""},{"$f":"IF(LEN('1 - Opstart Importark'!$B$23)>0,'1 - Opstart Importark'!$B$23,\"\")","v":""},{"$nulls":14},"",{"$nulls":8},0,"","","objektnogle_"]
[353,null,{"$f":"IF('1 - Opstart Importark'!$B$6=\"\",\"\",(IF('1 - Opstart Importark'!$B$15=\"\",CONCATENATE(LEFT('1 - Opstart Importark'!$B$3,1),(LEFT('1 - Opstart Importark'!$B$20,5)),MID('1 - Opstart Importark'!$B$20,5,2),LEFT('1 - Opstart Importark'!$B$28,3),IF(I365=\"\",\"\",\"-\"),I365,IF(K365=\"\",\"\",\"-\"),K365,IF(M365=\"\",\"\",\"-\"),M365),CONCATENATE(LEFT('1 - Opstart Importark'!$B$3,1),(LEFT('1 - Opstart Importark'!$B$15,5)),(LEFT('1 - Opstart Importark'!$B$18,3)),IF(I365=\"\",\"\",\"-\"),I365,IF(K365=\"\",\"\",\"-\"),K365,IF(M365=\"\",\"\",\"-\"),M365))))","v":""},null," ",{"$nulls":9},{"$f":"IF(LEN('1 - Opstart Importark'!$B$6)>0,'1 - Opstart Importark'!$B$6,\"\")","v":""},{"$f":"IF(LEN('1 - Opstart Importark'!$B$9)>0,'1 - Opstart Importark'!$B$9,\"\")","v":""},{"$f":"IF(LEN('1 - Opstart Importark'!$B$23)>0,'1 - Opstart Importark'!$B$23,\"\")","v":""},{"$nulls":14},"",{"$nulls":8},0,"","","objektnogle_"]
[354,null,{"$f":"IF('1 - Opstart Importark'!$B$6=\"\",\"\",(IF('1 - Opstart Importark'!$B$15=\"\",CONCATENATE(LEFT('1 - Opstart Importark'!$B$3,1),(LEFT('1 - Opstart Importark'!$B$20,5)),MID('1 - Opstart Importark'!$B$20,5,2),LEFT('1 - Opstart Importark'!$B$28,3),IF(I366=\"\",\"\",\"-\"),I366,IF(K366=\"\",\"\",\"-\"),K366,IF(M366=\"\",\"\",\"-\"),M366),CONCATENATE(LEFT('1 - Opstart Importark'!$B$3,1),(LEFT('1 - Opstart Importark'!$B$15,5)),(LEFT('1 - Opstart Importark'!$B$18,3)),IF(I366=\"\",\"\",\"-\"),I366,IF(K366=\"\",\"\",\"-\"),K366,IF(M366=\"\",\"\",\"-\"),M366))))","v":""},null," ",{"$nulls":9},{"$f":"IF(LEN('1 - Opstart Importark'!$B$6)>0,'1 - Opstart Importark'!$B$6,\"\")","v":""},{"$f":"IF(LEN('1 - Opstart Importark'!$B$9)>0,'1 - Opstart Importark'!$B$9,\"\")","v":""},{"$f":"IF(LEN('1 - Opstart Importark'!$B$23)>0,'1 - Opstart Importark'!$B$23,\"\")","v":""},{"$nulls":14},"",{"$nulls":8},0,"","","objektnogle_"]
[355,null,{"$f":"IF('1 - Opstart Importark'!$B$6=\"\",\"\",(IF('1 - Opstart Importark'!$B$15=\"\",CONCATENATE(LEFT('1 - Opstart Importark'!$B$3,1),(LEFT('1 - Opstart Importark'!$B$20,5)),MID('1 - Opstart Importark'!$B$20,5,2),LEFT('1 - Opstart Importark'!$B$28,3),IF(I367=\"\",\"\",\"-\"),I367,IF(K367=\"\",\"\",\"-\"),K367,IF(M367=\"\",\"\",\"-\"),M367),CONCATENATE(LEFT('1 - Opstart Importark'!$B$3,1),(LEFT('1 - Opstart Importark'!$B$15,5)),(LEFT('1 - Opstart Importark'!$B$18,3)),IF(I367=\"\",\"\",\"-\"),I367,IF(K367=\"\",\"\",\"-\"),K367,IF(M367=\"\",\"\",\"-\"),M367))))","v":""},null," ",{"$nulls":9},{"$f":"IF(LEN('1 - Opstart Importark'!$B$6)>0,'1 - Opstart Importark'!$B$6,\"\")","v":""},{"$f":"IF(LEN('1 - Opstart Importark'!$B$9)>0,'1 - Opstart Importark'!$B$9,\"\")","v":""},{"$f":"IF(LEN('1 - Opstart Importark'!$B$23)>0,'1 - Opstart Importark'!$B$23,\"\")","v":""},{"$nulls":14},"",{"$nulls":8},0,"","","objektnogle_"]
[356,null,{"$f":"IF('1 - Opstart Importark'!$B$6=\"\",\"\",(IF('1 - Opstart Importark'!$B$15=\"\",CONCATENATE(LEFT('1 - Opstart Importark'!$B$3,1),(LEFT('1 - Opstart Importark'!$B$20,5)),MID('1 - Opstart Importark'!$B$20,5,2),LEFT('1 - Opstart Importark'!$B$28,3),IF(I368=\"\",\"\",\"-\"),I368,IF(K368=\"\",\"\",\"-\"),K368,IF(M368=\"\",\"\",\"-\"),M368),CONCATENATE(LEFT('1 - Opstart Importark'!$B$3,1),(LEFT('1 - Opstart Importark'!$B$15,5)),(LEFT('1 - Opstart Importark'!$B$18,3)),IF(I368=\"\",\"\",\"-\"),I368,IF(K368=\"\",\"\",\"-\"),K368,IF(M368=\"\",\"\",\"-\"),M368))))","v":""},null," ",{"$nulls":9},{"$f":"IF(LEN('1 - Opstart Importark'!$B$6)>0,'1 - Opstart Importark'!$B$6,\"\")","v":""},{"$f":"IF(LEN('1 - Opstart Importark'!$B$9)>0,'1 - Opstart Importark'!$B$9,\"\")","v":""},{"$f":"IF(LEN('1 - Opstart Importark'!$B$23)>0,'1 - Opstart Importark'!$B$23,\"\")","v":""},{"$nulls":14},"",{"$nulls":8},0,"","","objektnogle_"]
[357,null,{"$f":"IF('1 - Opstart Importark'!$B$6=\"\",\"\",(IF('1 - Opstart Importark'!$B$15=\"\",CONCATENATE(LEFT('1 - Opstart Importark'!$B$3,1),(LEFT('1 - Opstart Importark'!$B$20,5)),MID('1 - Opstart Importark'!$B$20,5,2),LEFT('1 - Opstart Importark'!$B$28,3),IF(I369=\"\",\"\",\"-\"),I369,IF(K369=\"\",\"\",\"-\"),K369,IF(M369=\"\",\"\",\"-\"),M369),CONCATENATE(LEFT('1 - Opstart Importark'!$B$3,1),(LEFT('1 - Opstart Importark'!$B$15,5)),(LEFT('1 - Opstart Importark'!$B$18,3)),IF(I369=\"\",\"\",\"-\"),I369,IF(K369=\"\",\"\",\"-\"),K369,IF(M369=\"\",\"\",\"-\"),M369))))","v":""},null," ",{"$nulls":9},{"$f":"IF(LEN('1 - Opstart Importark'!$B$6)>0,'1 - Opstart Importark'!$B$6,\"\")","v":""},{"$f":"IF(LEN('1 - Opstart Importark'!$B$9)>0,'1 - Opstart Importark'!$B$9,\"\")","v":""},{"$f":"IF(LEN('1 - Opstart Importark'!$B$23)>0,'1 - Opstart Importark'!$B$23,\"\")","v":""},{"$nulls":14},"",{"$nulls":8},0,"","","objektnogle_"]
[358,null,{"$f":"IF('1 - Opstart Importark'!$B$6=\"\",\"\",(IF('1 - Opstart Importark'!$B$15=\"\",CONCATENATE(LEFT('1 - Opstart Importark'!$B$3,1),(LEFT('1 - Opstart Importark'!$B$20,5)),MID('1 - Opstart Importark'!$B$20,5,2),LEFT('1 - Opstart Importark'!$B$28,3),IF(I370=\"\",\"\",\"-\"),I370,IF(K370=\"\",\"\",\"-\"),K370,IF(M370=\"\",\"\",\"-\"),M370),CONCATENATE(LEFT('1 - Opstart Importark'!$B$3,1),(LEFT('1 - Opstart Importark'!$B$15,5)),(LEFT('1 - Opstart Importark'!$B$18,3)),IF(I370=\"\",\"\",\"-\"),I370,IF(K370=\"\",\"\",\"-\"),K370,IF(M370=\"\",\"\",\"-\"),M370))))","v":""},null," ",{"$nulls":9},{"$f":"IF(LEN('1 - Opstart Importark'!$B$6)>0,'1 - Opstart Importark'!$B$6,\"\")","v":""},{"$f":"IF(LEN('1 - Opstart Importark'!$B$9)>0,'1 - Opstart Importark'!$B$9,\"\")","v":""},{"$f":"IF(LEN('1 - Opstart Importark'!$B$23)>0,'1 - Opstart Importark'!$B$23,\"\")","v":""},{"$nulls":14},"",{"$nulls":8},0,"","","objektnogle_"]
[359,null,{"$f":"IF('1 - Opstart Importark'!$B$6=\"\",\"\",(IF('1 - Opstart Importark'!$B$15=\"\",CONCATENATE(LEFT('1 - Opstart Importark'!$B$3,1),(LEFT('1 - Opstart Importark'!$B$20,5)),MID('1 - Opstart Importark'!$B$20,5,2),LEFT('1 - Opstart Importark'!$B$28,3),IF(I371=\"\",\"\",\"-\"),I371,IF(K371=\"\",\"\",\"-\"),K371,IF(M371=\"\",\"\",\"-\"),M371),CONCATENATE(LEFT('1 - Opstart Importark'!$B$3,1),(LEFT('1 - Opstart Importark'!$B$15,5)),(LEFT('1 - Opstart Importark'!$B$18,3)),IF(I371=\"\",\"\",\"-\"),I371,IF(K371=\"\",\"\",\"-\"),K371,IF(M371=\"\",\"\",\"-\"),M371))))","v":""},null," ",{"$nulls":9},{"$f":"IF(LEN('1 - Opstart Importark'!$B$6)>0,'1 - Opstart Importark'!$B$6,\"\")","v":""},{"$f":"IF(LEN('1 - Opstart Importark'!$B$9)>0,'1 - Opstart Importark'!$B$9,\"\")","v":""},{"$f":"IF(LEN('1 - Opstart Importark'!$B$23)>0,'1 - Opstart Importark'!$B$23,\"\")","v":""},{"$nulls":14},"",{"$nulls":8},0,"","","objektnogle_"]
[360,null,{"$f":"IF('1 - Opstart Importark'!$B$6=\"\",\"\",(IF('1 - Opstart Importark'!$B$15=\"\",CONCATENATE(LEFT('1 - Opstart Importark'!$B$3,1),(LEFT('1 - Opstart Importark'!$B$20,5)),MID('1 - Opstart Importark'!$B$20,5,2),LEFT('1 - Opstart Importark'!$B$28,3),IF(I372=\"\",\"\",\"-\"),I372,IF(K372=\"\",\"\",\"-\"),K372,IF(M372=\"\",\"\",\"-\"),M372),CONCATENATE(LEFT('1 - Opstart Importark'!$B$3,1),(LEFT('1 - Opstart Importark'!$B$15,5)),(LEFT('1 - Opstart Importark'!$B$18,3)),IF(I372=\"\",\"\",\"-\"),I372,IF(K372=\"\",\"\",\"-\"),K372,IF(M372=\"\",\"\",\"-\"),M372))))","v":""},null," ",{"$nulls":9},{"$f":"IF(LEN('1 - Opstart Importark'!$B$6)>0,'1 - Opstart Importark'!$B$6,\"\")","v":""},{"$f":"IF(LEN('1 - Opstart Importark'!$B$9)>0,'1 - Opstart Importark'!$B$9,\"\")","v":""},{"$f":"IF(LEN('1 - Opstart Importark'!$B$23)>0,'1 - Opstart Importark'!$B$23,\"\")","v":""},{"$nulls":14},"",{"$nulls":8},0,"","","objektnogle_"]
[361,null,{"$f":"IF('1 - Opstart Importark'!$B$6=\"\",\"\",(IF('1 - Opstart Importark'!$B$15=\"\",CONCATENATE(LEFT('1 - Opstart Importark'!$B$3,1),(LEFT('1 - Opstart Importark'!$B$20,5)),MID('1 - Opstart Importark'!$B$20,5,2),LEFT('1 - Opstart Importark'!$B$28,3),IF(I373=\"\",\"\",\"-\"),I373,IF(K373=\"\",\"\",\"-\"),K373,IF(M373=\"\",\"\",\"-\"),M373),CONCATENATE(LEFT('1 - Opstart Importark'!$B$3,1),(LEFT('1 - Opstart Importark'!$B$15,5)),(LEFT('1 - Opstart Importark'!$B$18,3)),IF(I373=\"\",\"\",\"-\"),I373,IF(K373=\"\",\"\",\"-\"),K373,IF(M373=\"\",\"\",\"-\"),M373))))","v":""},null," ",{"$nulls":9},{"$f":"IF(LEN('1 - Opstart Importark'!$B$6)>0,'1 - Opstart Importark'!$B$6,\"\")","v":""},{"$f":"IF(LEN('1 - Opstart Importark'!$B$9)>0,'1 - Opstart Importark'!$B$9,\"\")","v":""},{"$f":"IF(LEN('1 - Opstart Importark'!$B$23)>0,'1 - Opstart Importark'!$B$23,\"\")","v":""},{"$nulls":14},"",{"$nulls":8},0,"","","objektnogle_"]
[362,null,{"$f":"IF('1 - Opstart Importark'!$B$6=\"\",\"\",(IF('1 - Opstart Importark'!$B$15=\"\",CONCATENATE(LEFT('1 - Opstart Importark'!$B$3,1),(LEFT('1 - Opstart Importark'!$B$20,5)),MID('1 - Opstart Importark'!$B$20,5,2),LEFT('1 - Opstart Importark'!$B$28,3),IF(I374=\"\",\"\",\"-\"),I374,IF(K374=\"\",\"\",\"-\"),K374,IF(M374=\"\",\"\",\"-\"),M374),CONCATENATE(LEFT('1 - Opstart Importark'!$B$3,1),(LEFT('1 - Opstart Importark'!$B$15,5)),(LEFT('1 - Opstart Importark'!$B$18,3)),IF(I374=\"\",\"\",\"-\"),I374,IF(K374=\"\",\"\",\"-\"),K374,IF(M374=\"\",\"\",\"-\"),M374))))","v":""},null," ",{"$nulls":9},{"$f":"IF(LEN('1 - Opstart Importark'!$B$6)>0,'1 - Opstart Importark'!$B$6,\"\")","v":""},{"$f":"IF(LEN('1 - Opstart Importark'!$B$9)>0,'1 - Opstart Importark'!$B$9,\"\")","v":""},{"$f":"IF(LEN('1 - Opstart Importark'!$B$23)>0,'1 - Opstart Importark'!$B$23,\"\")","v":""},{"$nulls":14},"",{"$nulls":8},0,"","","objektnogle_"]
[363,null,{"$f":"IF('1 - Opstart Importark'!$B$6=\"\",\"\",(IF('1 - Opstart Importark'!$B$15=\"\",CONCATENATE(LEFT('1 - Opstart Importark'!$B$3,1),(LEFT('1 - Opstart Importark'!$B$20,5)),MID('1 - Opstart Importark'!$B$20,5,2),LEFT('1 - Opstart Importark'!$B$28,3),IF(I375=\"\",\"\",\"-\"),I375,IF(K375=\"\",\"\",\"-\"),K375,IF(M375=\"\",\"\",\"-\"),M375),CONCATENATE(LEFT('1 - Opstart Importark'!$B$3,1),(LEFT('1 - Opstart Importark'!$B$15,5)),(LEFT('1 - Opstart Importark'!$B$18,3)),IF(I375=\"\",\"\",\"-\"),I375,IF(K375=\"\",\"\",\"-\"),K375,IF(M375=\"\",\"\",\"-\"),M375))))","v":""},null," ",{"$nulls":9},{"$f":"IF(LEN('1 - Opstart Importark'!$B$6)>0,'1 - Opstart Importark'!$B$6,\"\")","v":""},{"$f":"IF(LEN('1 - Opstart Importark'!$B$9)>0,'1 - Opstart Importark'!$B$9,\"\")","v":""},{"$f":"IF(LEN('1 - Opstart Importark'!$B$23)>0,'1 - Opstart Importark'!$B$23,\"\")","v":""},{"$nulls":14},"",{"$nulls":8},0,"","","objektnogle_"]
[364,null,{"$f":"IF('1 - Opstart Importark'!$B$6=\"\",\"\",(IF('1 - Opstart Importark'!$B$15=\"\",CONCATENATE(LEFT('1 - Opstart Importark'!$B$3,1),(LEFT('1 - Opstart Importark'!$B$20,5)),MID('1 - Opstart Importark'!$B$20,5,2),LEFT('1 - Opstart Importark'!$B$28,3),IF(I376=\"\",\"\",\"-\"),I376,IF(K376=\"\",\"\",\"-\"),K376,IF(M376=\"\",\"\",\"-\"),M376),CONCATENATE(LEFT('1 - Opstart Importark'!$B$3,1),(LEFT('1 - Opstart Importark'!$B$15,5)),(LEFT('1 - Opstart Importark'!$B$18,3)),IF(I376=\"\",\"\",\"-\"),I376,IF(K376=\"\",\"\",\"-\"),K376,IF(M376=\"\",\"\",\"-\"),M376))))","v":""},null," ",{"$nulls":9},{"$f":"IF(LEN('1 - Opstart Importark'!$B$6)>0,'1 - Opstart Importark'!$B$6,\"\")","v":""},{"$f":"IF(LEN('1 - Opstart Importark'!$B$9)>0,'1 - Opstart Importark'!$B$9,\"\")","v":""},{"$f":"IF(LEN('1 - Opstart Importark'!$B$23)>0,'1 - Opstart Importark'!$B$23,\"\")","v":""},{"$nulls":14},"",{"$nulls":8},0,"","","objektnogle_"]
[365,null,{"$f":"IF('1 - Opstart Importark'!$B$6=\"\",\"\",(IF('1 - Opstart Importark'!$B$15=\"\",CONCATENATE(LEFT('1 - Opstart Importark'!$B$3,1),(LEFT('1 - Opstart Importark'!$B$20,5)),MID('1 - Opstart Importark'!$B$20,5,2),LEFT('1 - Opstart Importark'!$B$28,3),IF(I377=\"\",\"\",\"-\"),I377,IF(K377=\"\",\"\",\"-\"),K377,IF(M377=\"\",\"\",\"-\"),M377),CONCATENATE(LEFT('1 - Opstart Importark'!$B$3,1),(LEFT('1 - Opstart Importark'!$B$15,5)),(LEFT('1 - Opstart Importark'!$B$18,3)),IF(I377=\"\",\"\",\"-\"),I377,IF(K377=\"\",\"\",\"-\"),K377,IF(M377=\"\",\"\",\"-\"),M377))))","v":""},null," ",{"$nulls":9},{"$f":"IF(LEN('1 - Opstart Importark'!$B$6)>0,'1 - Opstart Importark'!$B$6,\"\")","v":""},{"$f":"IF(LEN('1 - Opstart Importark'!$B$9)>0,'1 - Opstart Importark'!$B$9,\"\")","v":""},{"$f":"IF(LEN('1 - Opstart Importark'!$B$23)>0,'1 - Opstart Importark'!$B$23,\"\")","v":""},{"$nulls":14},"",{"$nulls":8},0,"","","objektnogle_"]
[366,null,{"$f":"IF('1 - Opstart Importark'!$B$6=\"\",\"\",(IF('1 - Opstart Importark'!$B$15=\"\",CONCATENATE(LEFT('1 - Opstart Importark'!$B$3,1),(LEFT('1 - Opstart Importark'!$B$20,5)),MID('1 - Opstart Importark'!$B$20,5,2),LEFT('1 - Opstart Importark'!$B$28,3),IF(I378=\"\",\"\",\"-\"),I378,IF(K378=\"\",\"\",\"-\"),K378,IF(M378=\"\",\"\",\"-\"),M378),CONCATENATE(LEFT('1 - Opstart Importark'!$B$3,1),(LEFT('1 - Opstart Importark'!$B$15,5)),(LEFT('1 - Opstart Importark'!$B$18,3)),IF(I378=\"\",\"\",\"-\"),I378,IF(K378=\"\",\"\",\"-\"),K378,IF(M378=\"\",\"\",\"-\"),M378))))","v":""},null," ",{"$nulls":9},{"$f":"IF(LEN('1 - Opstart Importark'!$B$6)>0,'1 - Opstart Importark'!$B$6,\"\")","v":""},{"$f":"IF(LEN('1 - Opstart Importark'!$B$9)>0,'1 - Opstart Importark'!$B$9,\"\")","v":""},{"$f":"IF(LEN('1 - Opstart Importark'!$B$23)>0,'1 - Opstart Importark'!$B$23,\"\")","v":""},{"$nulls":14},"",{"$nulls":8},0,"","","objektnogle_"]
[367,null,{"$f":"IF('1 - Opstart Importark'!$B$6=\"\",\"\",(IF('1 - Opstart Importark'!$B$15=\"\",CONCATENATE(LEFT('1 - Opstart Importark'!$B$3,1),(LEFT('1 - Opstart Importark'!$B$20,5)),MID('1 - Opstart Importark'!$B$20,5,2),LEFT('1 - Opstart Importark'!$B$28,3),IF(I379=\"\",\"\",\"-\"),I379,IF(K379=\"\",\"\",\"-\"),K379,IF(M379=\"\",\"\",\"-\"),M379),CONCATENATE(LEFT('1 - Opstart Importark'!$B$3,1),(LEFT('1 - Opstart Importark'!$B$15,5)),(LEFT('1 - Opstart Importark'!$B$18,3)),IF(I379=\"\",\"\",\"-\"),I379,IF(K379=\"\",\"\",\"-\"),K379,IF(M379=\"\",\"\",\"-\"),M379))))","v":""},null," ",{"$nulls":9},{"$f":"IF(LEN('1 - Opstart Importark'!$B$6)>0,'1 - Opstart Importark'!$B$6,\"\")","v":""},{"$f":"IF(LEN('1 - Opstart Importark'!$B$9)>0,'1 - Opstart Importark'!$B$9,\"\")","v":""},{"$f":"IF(LEN('1 - Opstart Importark'!$B$23)>0,'1 - Opstart Importark'!$B$23,\"\")","v":""},{"$nulls":14},"",{"$nulls":8},0,"","","objektnogle_"]
[368,null,{"$f":"IF('1 - Opstart Importark'!$B$6=\"\",\"\",(IF('1 - Opstart Importark'!$B$15=\"\",CONCATENATE(LEFT('1 - Opstart Importark'!$B$3,1),(LEFT('1 - Opstart Importark'!$B$20,5)),MID('1 - Opstart Importark'!$B$20,5,2),LEFT('1 - Opstart Importark'!$B$28,3),IF(I380=\"\",\"\",\"-\"),I380,IF(K380=\"\",\"\",\"-\"),K380,IF(M380=\"\",\"\",\"-\"),M380),CONCATENATE(LEFT('1 - Opstart Importark'!$B$3,1),(LEFT('1 - Opstart Importark'!$B$15,5)),(LEFT('1 - Opstart Importark'!$B$18,3)),IF(I380=\"\",\"\",\"-\"),I380,IF(K380=\"\",\"\",\"-\"),K380,IF(M380=\"\",\"\",\"-\"),M380))))","v":""},null," ",{"$nulls":9},{"$f":"IF(LEN('1 - Opstart Importark'!$B$6)>0,'1 - Opstart Importark'!$B$6,\"\")","v":""},{"$f":"IF(LEN('1 - Opstart Importark'!$B$9)>0,'1 - Opstart Importark'!$B$9,\"\")","v":""},{"$f":"IF(LEN('1 - Opstart Importark'!$B$23)>0,'1 - Opstart Importark'!$B$23,\"\")","v":""},{"$nulls":14},"",{"$nulls":8},0,"","","objektnogle_"]
[369,null,{"$f":"IF('1 - Opstart Importark'!$B$6=\"\",\"\",(IF('1 - Opstart Importark'!$B$15=\"\",CONCATENATE(LEFT('1 - Opstart Importark'!$B$3,1),(LEFT('1 - Opstart Importark'!$B$20,5)),MID('1 - Opstart Importark'!$B$20,5,2),LEFT('1 - Opstart Importark'!$B$28,3),IF(I381=\"\",\"\",\"-\"),I381,IF(K381=\"\",\"\",\"-\"),K381,IF(M381=\"\",\"\",\"-\"),M381),CONCATENATE(LEFT('1 - Opstart Importark'!$B$3,1),(LEFT('1 - Opstart Importark'!$B$15,5)),(LEFT('1 - Opstart Importark'!$B$18,3)),IF(I381=\"\",\"\",\"-\"),I381,IF(K381=\"\",\"\",\"-\"),K381,IF(M381=\"\",\"\",\"-\"),M381))))","v":""},null," ",{"$nulls":9},{"$f":"IF(LEN('1 - Opstart Importark'!$B$6)>0,'1 - Opstart Importark'!$B$6,\"\")","v":""},{"$f":"IF(LEN('1 - Opstart Importark'!$B$9)>0,'1 - Opstart Importark'!$B$9,\"\")","v":""},{"$f":"IF(LEN('1 - Opstart Importark'!$B$23)>0,'1 - Opstart Importark'!$B$23,\"\")","v":""},{"$nulls":14},"",{"$nulls":8},0,"","","objektnogle_"]
[370,null,{"$f":"IF('1 - Opstart Importark'!$B$6=\"\",\"\",(IF('1 - Opstart Importark'!$B$15=\"\",CONCATENATE(LEFT('1 - Opstart Importark'!$B$3,1),(LEFT('1 - Opstart Importark'!$B$20,5)),MID('1 - Opstart Importark'!$B$20,5,2),LEFT('1 - Opstart Importark'!$B$28,3),IF(I382=\"\",\"\",\"-\"),I382,IF(K382=\"\",\"\",\"-\"),K382,IF(M382=\"\",\"\",\"-\"),M382),CONCATENATE(LEFT('1 - Opstart Importark'!$B$3,1),(LEFT('1 - Opstart Importark'!$B$15,5)),(LEFT('1 - Opstart Importark'!$B$18,3)),IF(I382=\"\",\"\",\"-\"),I382,IF(K382=\"\",\"\",\"-\"),K382,IF(M382=\"\",\"\",\"-\"),M382))))","v":""},null," ",{"$nulls":9},{"$f":"IF(LEN('1 - Opstart Importark'!$B$6)>0,'1 - Opstart Importark'!$B$6,\"\")","v":""},{"$f":"IF(LEN('1 - Opstart Importark'!$B$9)>0,'1 - Opstart Importark'!$B$9,\"\")","v":""},{"$f":"IF(LEN('1 - Opstart Importark'!$B$23)>0,'1 - Opstart Importark'!$B$23,\"\")","v":""},{"$nulls":14},"",{"$nulls":8},0,"","","objektnogle_"]
[371,null,{"$f":"IF('1 - Opstart Importark'!$B$6=\"\",\"\",(IF('1 - Opstart Importark'!$B$15=\"\",CONCATENATE(LEFT('1 - Opstart Importark'!$B$3,1),(LEFT('1 - Opstart Importark'!$B$20,5)),MID('1 - Opstart Importark'!$B$20,5,2),LEFT('1 - Opstart Importark'!$B$28,3),IF(I383=\"\",\"\",\"-\"),I383,IF(K383=\"\",\"\",\"-\"),K383,IF(M383=\"\",\"\",\"-\"),M383),CONCATENATE(LEFT('1 - Opstart Importark'!$B$3,1),(LEFT('1 - Opstart Importark'!$B$15,5)),(LEFT('1 - Opstart Importark'!$B$18,3)),IF(I383=\"\",\"\",\"-\"),I383,IF(K383=\"\",\"\",\"-\"),K383,IF(M383=\"\",\"\",\"-\"),M383))))","v":""},null," ",{"$nulls":9},{"$f":"IF(LEN('1 - Opstart Importark'!$B$6)>0,'1 - Opstart Importark'!$B$6,\"\")","v":""},{"$f":"IF(LEN('1 - Opstart Importark'!$B$9)>0,'1 - Opstart Importark'!$B$9,\"\")","v":""},{"$f":"IF(LEN('1 - Opstart Importark'!$B$23)>0,'1 - Opstart Importark'!$B$23,\"\")","v":""},{"$nulls":14},"",{"$nulls":8},0,"","","objektnogle_"]
[372,null,{"$f":"IF('1 - Opstart Importark'!$B$6=\"\",\"\",(IF('1 - Opstart Importark'!$B$15=\"\",CONCATENATE(LEFT('1 - Opstart Importark'!$B$3,1),(LEFT('1 - Opstart Importark'!$B$20,5)),MID('1 - Opstart Importark'!$B$20,5,2),LEFT('1 - Opstart Importark'!$B$28,3),IF(I384=\"\",\"\",\"-\"),I384,IF(K384=\"\",\"\",\"-\"),K384,IF(M384=\"\",\"\",\"-\"),M384),CONCATENATE(LEFT('1 - Opstart Importark'!$B$3,1),(LEFT('1 - Opstart Importark'!$B$15,5)),(LEFT('1 - Opstart Importark'!$B$18,3)),IF(I384=\"\",\"\",\"-\"),I384,IF(K384=\"\",\"\",\"-\"),K384,IF(M384=\"\",\"\",\"-\"),M384))))","v":""},null," ",{"$nulls":9},{"$f":"IF(LEN('1 - Opstart Importark'!$B$6)>0,'1 - Opstart Importark'!$B$6,\"\")","v":""},{"$f":"IF(LEN('1 - Opstart Importark'!$B$9)>0,'1 - Opstart Importark'!$B$9,\"\")","v":""},{"$f":"IF(LEN('1 - Opstart Importark'!$B$23)>0,'1 - Opstart Importark'!$B$23,\"\")","v":""},{"$nulls":14},"",{"$nulls":8},0,"","","objektnogle_"]
[373,null,{"$f":"IF('1 - Opstart Importark'!$B$6=\"\",\"\",(IF('1 - Opstart Importark'!$B$15=\"\",CONCATENATE(LEFT('1 - Opstart Importark'!$B$3,1),(LEFT('1 - Opstart Importark'!$B$20,5)),MID('1 - Opstart Importark'!$B$20,5,2),LEFT('1 - Opstart Importark'!$B$28,3),IF(I385=\"\",\"\",\"-\"),I385,IF(K385=\"\",\"\",\"-\"),K385,IF(M385=\"\",\"\",\"-\"),M385),CONCATENATE(LEFT('1 - Opstart Importark'!$B$3,1),(LEFT('1 - Opstart Importark'!$B$15,5)),(LEFT('1 - Opstart Importark'!$B$18,3)),IF(I385=\"\",\"\",\"-\"),I385,IF(K385=\"\",\"\",\"-\"),K385,IF(M385=\"\",\"\",\"-\"),M385))))","v":""},null," ",{"$nulls":9},{"$f":"IF(LEN('1 - Opstart Importark'!$B$6)>0,'1 - Opstart Importark'!$B$6,\"\")","v":""},{"$f":"IF(LEN('1 - Opstart Importark'!$B$9)>0,'1 - Opstart Importark'!$B$9,\"\")","v":""},{"$f":"IF(LEN('1 - Opstart Importark'!$B$23)>0,'1 - Opstart Importark'!$B$23,\"\")","v":""},{"$nulls":14},"",{"$nulls":8},0,"","","objektnogle_"]
[374,null,{"$f":"IF('1 - Opstart Importark'!$B$6=\"\",\"\",(IF('1 - Opstart Importark'!$B$15=\"\",CONCATENATE(LEFT('1 - Opstart Importark'!$B$3,1),(LEFT('1 - Opstart Importark'!$B$20,5)),MID('1 - Opstart Importark'!$B$20,5,2),LEFT('1 - Opstart Importark'!$B$28,3),IF(I386=\"\",\"\",\"-\"),I386,IF(K386=\"\",\"\",\"-\"),K386,IF(M386=\"\",\"\",\"-\"),M386),CONCATENATE(LEFT('1 - Opstart Importark'!$B$3,1),(LEFT('1 - Opstart Importark'!$B$15,5)),(LEFT('1 - Opstart Importark'!$B$18,3)),IF(I386=\"\",\"\",\"-\"),I386,IF(K386=\"\",\"\",\"-\"),K386,IF(M386=\"\",\"\",\"-\"),M386))))","v":""},null," ",{"$nulls":9},{"$f":"IF(LEN('1 - Opstart Importark'!$B$6)>0,'1 - Opstart Importark'!$B$6,\"\")","v":""},{"$f":"IF(LEN('1 - Opstart Importark'!$B$9)>0,'1 - Opstart Importark'!$B$9,\"\")","v":""},{"$f":"IF(LEN('1 - Opstart Importark'!$B$23)>0,'1 - Opstart Importark'!$B$23,\"\")","v":""},{"$nulls":14},"",{"$nulls":8},0,"","","objektnogle_"]
[375,null,{"$f":"IF('1 - Opstart Importark'!$B$6=\"\",\"\",(IF('1 - Opstart Importark'!$B$15=\"\",CONCATENATE(LEFT('1 - Opstart Importark'!$B$3,1),(LEFT('1 - Opstart Importark'!$B$20,5)),MID('1 - Opstart Importark'!$B$20,5,2),LEFT('1 - Opstart Importark'!$B$28,3),IF(I387=\"\",\"\",\"-\"),I387,IF(K387=\"\",\"\",\"-\"),K387,IF(M387=\"\",\"\",\"-\"),M387),CONCATENATE(LEFT('1 - Opstart Importark'!$B$3,1),(LEFT('1 - Opstart Importark'!$B$15,5)),(LEFT('1 - Opstart Importark'!$B$18,3)),IF(I387=\"\",\"\",\"-\"),I387,IF(K387=\"\",\"\",\"-\"),K387,IF(M387=\"\",\"\",\"-\"),M387))))","v":""},null," ",{"$nulls":9},{"$f":"IF(LEN('1 - Opstart Importark'!$B$6)>0,'1 - Opstart Importark'!$B$6,\"\")","v":""},{"$f":"IF(LEN('1 - Opstart Importark'!$B$9)>0,'1 - Opstart Importark'!$B$9,\"\")","v":""},{"$f":"IF(LEN('1 - Opstart Importark'!$B$23)>0,'1 - Opstart Importark'!$B$23,\"\")","v":""},{"$nulls":14},"",{"$nulls":8},0,"","","objektnogle_"]
[376,null,{"$f":"IF('1 - Opstart Importark'!$B$6=\"\",\"\",(IF('1 - Opstart Importark'!$B$15=\"\",CONCATENATE(LEFT('1 - Opstart Importark'!$B$3,1),(LEFT('1 - Opstart Importark'!$B$20,5)),MID('1 - Opstart Importark'!$B$20,5,2),LEFT('1 - Opstart Importark'!$B$28,3),IF(I388=\"\",\"\",\"-\"),I388,IF(K388=\"\",\"\",\"-\"),K388,IF(M388=\"\",\"\",\"-\"),M388),CONCATENATE(LEFT('1 - Opstart Importark'!$B$3,1),(LEFT('1 - Opstart Importark'!$B$15,5)),(LEFT('1 - Opstart Importark'!$B$18,3)),IF(I388=\"\",\"\",\"-\"),I388,IF(K388=\"\",\"\",\"-\"),K388,IF(M388=\"\",\"\",\"-\"),M388))))","v":""},null," ",{"$nulls":9},{"$f":"IF(LEN('1 - Opstart Importark'!$B$6)>0,'1 - Opstart Importark'!$B$6,\"\")","v":""},{"$f":"IF(LEN('1 - Opstart Importark'!$B$9)>0,'1 - Opstart Importark'!$B$9,\"\")","v":""},{"$f":"IF(LEN('1 - Opstart Importark'!$B$23)>0,'1 - Opstart Importark'!$B$23,\"\")","v":""},{"$nulls":14},"",{"$nulls":8},0,"","","objektnogle_"]
[377,null,{"$f":"IF('1 - Opstart Importark'!$B$6=\"\",\"\",(IF('1 - Opstart Importark'!$B$15=\"\",CONCATENATE(LEFT('1 - Opstart Importark'!$B$3,1),(LEFT('1 - Opstart Importark'!$B$20,5)),MID('1 - Opstart Importark'!$B$20,5,2),LEFT('1 - Opstart Importark'!$B$28,3),IF(I389=\"\",\"\",\"-\"),I389,IF(K389=\"\",\"\",\"-\"),K389,IF(M389=\"\",\"\",\"-\"),M389),CONCATENATE(LEFT('1 - Opstart Importark'!$B$3,1),(LEFT('1 - Opstart Importark'!$B$15,5)),(LEFT('1 - Opstart Importark'!$B$18,3)),IF(I389=\"\",\"\",\"-\"),I389,IF(K389=\"\",\"\",\"-\"),K389,IF(M389=\"\",\"\",\"-\"),M389))))","v":""},null," ",{"$nulls":9},{"$f":"IF(LEN('1 - Opstart Importark'!$B$6)>0,'1 - Opstart Importark'!$B$6,\"\")","v":""},{"$f":"IF(LEN('1 - Opstart Importark'!$B$9)>0,'1 - Opstart Importark'!$B$9,\"\")","v":""},{"$f":"IF(LEN('1 - Opstart Importark'!$B$23)>0,'1 - Opstart Importark'!$B$23,\"\")","v":""},{"$nulls":14},"",{"$nulls":8},0,"","","objektnogle_"]
[378,null,{"$f":"IF('1 - Opstart Importark'!$B$6=\"\",\"\",(IF('1 - Opstart Importark'!$B$15=\"\",CONCATENATE(LEFT('1 - Opstart Importark'!$B$3,1),(LEFT('1 - Opstart Importark'!$B$20,5)),MID('1 - Opstart Importark'!$B$20,5,2),LEFT('1 - Opstart Importark'!$B$28,3),IF(I390=\"\",\"\",\"-\"),I390,IF(K390=\"\",\"\",\"-\"),K390,IF(M390=\"\",\"\",\"-\"),M390),CONCATENATE(LEFT('1 - Opstart Importark'!$B$3,1),(LEFT('1 - Opstart Importark'!$B$15,5)),(LEFT('1 - Opstart Importark'!$B$18,3)),IF(I390=\"\",\"\",\"-\"),I390,IF(K390=\"\",\"\",\"-\"),K390,IF(M390=\"\",\"\",\"-\"),M390))))","v":""},null," ",{"$nulls":9},{"$f":"IF(LEN('1 - Opstart Importark'!$B$6)>0,'1 - Opstart Importark'!$B$6,\"\")","v":""},{"$f":"IF(LEN('1 - Opstart Importark'!$B$9)>0,'1 - Opstart Importark'!$B$9,\"\")","v":""},{"$f":"IF(LEN('1 - Opstart Importark'!$B$23)>0,'1 - Opstart Importark'!$B$23,\"\")","v":""},{"$nulls":14},"",{"$nulls":8},0,"","","objektnogle_"]
[379,null,{"$f":"IF('1 - Opstart Importark'!$B$6=\"\",\"\",(IF('1 - Opstart Importark'!$B$15=\"\",CONCATENATE(LEFT('1 - Opstart Importark'!$B$3,1),(LEFT('1 - Opstart Importark'!$B$20,5)),MID('1 - Opstart Importark'!$B$20,5,2),LEFT('1 - Opstart Importark'!$B$28,3),IF(I391=\"\",\"\",\"-\"),I391,IF(K391=\"\",\"\",\"-\"),K391,IF(M391=\"\",\"\",\"-\"),M391),CONCATENATE(LEFT('1 - Opstart Importark'!$B$3,1),(LEFT('1 - Opstart Importark'!$B$15,5)),(LEFT('1 - Opstart Importark'!$B$18,3)),IF(I391=\"\",\"\",\"-\"),I391,IF(K391=\"\",\"\",\"-\"),K391,IF(M391=\"\",\"\",\"-\"),M391))))","v":""},null," ",{"$nulls":9},{"$f":"IF(LEN('1 - Opstart Importark'!$B$6)>0,'1 - Opstart Importark'!$B$6,\"\")","v":""},{"$f":"IF(LEN('1 - Opstart Importark'!$B$9)>0,'1 - Opstart Importark'!$B$9,\"\")","v":""},{"$f":"IF(LEN('1 - Opstart Importark'!$B$23)>0,'1 - Opstart Importark'!$B$23,\"\")","v":""},{"$nulls":14},"",{"$nulls":8},0,"","","objektnogle_"]
[380,null,{"$f":"IF('1 - Opstart Importark'!$B$6=\"\",\"\",(IF('1 - Opstart Importark'!$B$15=\"\",CONCATENATE(LEFT('1 - Opstart Importark'!$B$3,1),(LEFT('1 - Opstart Importark'!$B$20,5)),MID('1 - Opstart Importark'!$B$20,5,2),LEFT('1 - Opstart Importark'!$B$28,3),IF(I392=\"\",\"\",\"-\"),I392,IF(K392=\"\",\"\",\"-\"),K392,IF(M392=\"\",\"\",\"-\"),M392),CONCATENATE(LEFT('1 - Opstart Importark'!$B$3,1),(LEFT('1 - Opstart Importark'!$B$15,5)),(LEFT('1 - Opstart Importark'!$B$18,3)),IF(I392=\"\",\"\",\"-\"),I392,IF(K392=\"\",\"\",\"-\"),K392,IF(M392=\"\",\"\",\"-\"),M392))))","v":""},null," ",{"$nulls":9},{"$f":"IF(LEN('1 - Opstart Importark'!$B$6)>0,'1 - Opstart Importark'!$B$6,\"\")","v":""},{"$f":"IF(LEN('1 - Opstart Importark'!$B$9)>0,'1 - Opstart Importark'!$B$9,\"\")","v":""},{"$f":"IF(LEN('1 - Opstart Importark'!$B$23)>0,'1 - Opstart Importark'!$B$23,\"\")","v":""},{"$nulls":14},"",{"$nulls":8},0,"","","objektnogle_"]
[381,null,{"$f":"IF('1 - Opstart Importark'!$B$6=\"\",\"\",(IF('1 - Opstart Importark'!$B$15=\"\",CONCATENATE(LEFT('1 - Opstart Importark'!$B$3,1),(LEFT('1 - Opstart Importark'!$B$20,5)),MID('1 - Opstart Importark'!$B$20,5,2),LEFT('1 - Opstart Importark'!$B$28,3),IF(I393=\"\",\"\",\"-\"),I393,IF(K393=\"\",\"\",\"-\"),K393,IF(M393=\"\",\"\",\"-\"),M393),CONCATENATE(LEFT('1 - Opstart Importark'!$B$3,1),(LEFT('1 - Opstart Importark'!$B$15,5)),(LEFT('1 - Opstart Importark'!$B$18,3)),IF(I393=\"\",\"\",\"-\"),I393,IF(K393=\"\",\"\",\"-\"),K393,IF(M393=\"\",\"\",\"-\"),M393))))","v":""},null," ",{"$nulls":9},{"$f":"IF(LEN('1 - Opstart Importark'!$B$6)>0,'1 - Opstart Importark'!$B$6,\"\")","v":""},{"$f":"IF(LEN('1 - Opstart Importark'!$B$9)>0,'1 - Opstart Importark'!$B$9,\"\")","v":""},{"$f":"IF(LEN('1 - Opstart Importark'!$B$23)>0,'1 - Opstart Importark'!$B$23,\"\")","v":""},{"$nulls":14},"",{"$nulls":8},0,"","","objektnogle_"]
[382,null,{"$f":"IF('1 - Opstart Importark'!$B$6=\"\",\"\",(IF('1 - Opstart Importark'!$B$15=\"\",CONCATENATE(LEFT('1 - Opstart Importark'!$B$3,1),(LEFT('1 - Opstart Importark'!$B$20,5)),MID('1 - Opstart Importark'!$B$20,5,2),LEFT('1 - Opstart Importark'!$B$28,3),IF(I394=\"\",\"\",\"-\"),I394,IF(K394=\"\",\"\",\"-\"),K394,IF(M394=\"\",\"\",\"-\"),M394),CONCATENATE(LEFT('1 - Opstart Importark'!$B$3,1),(LEFT('1 - Opstart Importark'!$B$15,5)),(LEFT('1 - Opstart Importark'!$B$18,3)),IF(I394=\"\",\"\",\"-\"),I394,IF(K394=\"\",\"\",\"-\"),K394,IF(M394=\"\",\"\",\"-\"),M394))))","v":""},null," ",{"$nulls":9},{"$f":"IF(LEN('1 - Opstart Importark'!$B$6)>0,'1 - Opstart Importark'!$B$6,\"\")","v":""},{"$f":"IF(LEN('1 - Opstart Importark'!$B$9)>0,'1 - Opstart Importark'!$B$9,\"\")","v":""},{"$f":"IF(LEN('1 - Opstart Importark'!$B$23)>0,'1 - Opstart Importark'!$B$23,\"\")","v":""},{"$nulls":14},"",{"$nulls":8},0,"","","objektnogle_"]
[383,null,{"$f":"IF('1 - Opstart Importark'!$B$6=\"\",\"\",(IF('1 - Opstart Importark'!$B$15=\"\",CONCATENATE(LEFT('1 - Opstart Importark'!$B$3,1),(LEFT('1 - Opstart Importark'!$B$20,5)),MID('1 - Opstart Importark'!$B$20,5,2),LEFT('1 - Opstart Importark'!$B$28,3),IF(I395=\"\",\"\",\"-\"),I395,IF(K395=\"\",\"\",\"-\"),K395,IF(M395=\"\",\"\",\"-\"),M395),CONCATENATE(LEFT('1 - Opstart Importark'!$B$3,1),(LEFT('1 - Opstart Importark'!$B$15,5)),(LEFT('1 - Opstart Importark'!$B$18,3)),IF(I395=\"\",\"\",\"-\"),I395,IF(K395=\"\",\"\",\"-\"),K395,IF(M395=\"\",\"\",\"-\"),M395))))","v":""},null," ",{"$nulls":9},{"$f":"IF(LEN('1 - Opstart Importark'!$B$6)>0,'1 - Opstart Importark'!$B$6,\"\")","v":""},{"$f":"IF(LEN('1 - Opstart Importark'!$B$9)>0,'1 - Opstart Importark'!$B$9,\"\")","v":""},{"$f":"IF(LEN('1 - Opstart Importark'!$B$23)>0,'1 - Opstart Importark'!$B$23,\"\")","v":""},{"$nulls":14},"",{"$nulls":8},0,"","","objektnogle_"]
[384,null,{"$f":"IF('1 - Opstart Importark'!$B$6=\"\",\"\",(IF('1 - Opstart Importark'!$B$15=\"\",CONCATENATE(LEFT('1 - Opstart Importark'!$B$3,1),(LEFT('1 - Opstart Importark'!$B$20,5)),MID('1 - Opstart Importark'!$B$20,5,2),LEFT('1 - Opstart Importark'!$B$28,3),IF(I396=\"\",\"\",\"-\"),I396,IF(K396=\"\",\"\",\"-\"),K396,IF(M396=\"\",\"\",\"-\"),M396),CONCATENATE(LEFT('1 - Opstart Importark'!$B$3,1),(LEFT('1 - Opstart Importark'!$B$15,5)),(LEFT('1 - Opstart Importark'!$B$18,3)),IF(I396=\"\",\"\",\"-\"),I396,IF(K396=\"\",\"\",\"-\"),K396,IF(M396=\"\",\"\",\"-\"),M396))))","v":""},null," ",{"$nulls":9},{"$f":"IF(LEN('1 - Opstart Importark'!$B$6)>0,'1 - Opstart Importark'!$B$6,\"\")","v":""},{"$f":"IF(LEN('1 - Opstart Importark'!$B$9)>0,'1 - Opstart Importark'!$B$9,\"\")","v":""},{"$f":"IF(LEN('1 - Opstart Importark'!$B$23)>0,'1 - Opstart Importark'!$B$23,\"\")","v":""},{"$nulls":14},"",{"$nulls":8},0,"","","objektnogle_"]
[385,null,{"$f":"IF('1 - Opstart Importark'!$B$6=\"\",\"\",(IF('1 - Opstart Importark'!$B$15=\"\",CONCATENATE(LEFT('1 - Opstart Importark'!$B$3,1),(LEFT('1 - Opstart Importark'!$B$20,5)),MID('1 - Opstart Importark'!$B$20,5,2),LEFT('1 - Opstart Importark'!$B$28,3),IF(I397=\"\",\"\",\"-\"),I397,IF(K397=\"\",\"\",\"-\"),K397,IF(M397=\"\",\"\",\"-\"),M397),CONCATENATE(LEFT('1 - Opstart Importark'!$B$3,1),(LEFT('1 - Opstart Importark'!$B$15,5)),(LEFT('1 - Opstart Importark'!$B$18,3)),IF(I397=\"\",\"\",\"-\"),I397,IF(K397=\"\",\"\",\"-\"),K397,IF(M397=\"\",\"\",\"-\"),M397))))","v":""},null," ",{"$nulls":9},{"$f":"IF(LEN('1 - Opstart Importark'!$B$6)>0,'1 - Opstart Importark'!$B$6,\"\")","v":""},{"$f":"IF(LEN('1 - Opstart Importark'!$B$9)>0,'1 - Opstart Importark'!$B$9,\"\")","v":""},{"$f":"IF(LEN('1 - Opstart Importark'!$B$23)>0,'1 - Opstart Importark'!$B$23,\"\")","v":""},{"$nulls":14},{"$f":"IF(K397=\"\",\"\",VLOOKUP(LEFT(K397,1),objektfilter,2))","v":""},{"$nulls":8},{"$f":"IFERROR(FIND(\".\",F397),)","v":0},"","","objektnogle_"]
[386,null,{"$f":"IF('1 - Opstart Importark'!$B$6=\"\",\"\",(IF('1 - Opstart Importark'!$B$15=\"\",CONCATENATE(LEFT('1 - Opstart Importark'!$B$3,1),(LEFT('1 - Opstart Importark'!$B$20,5)),MID('1 - Opstart Importark'!$B$20,5,2),LEFT('1 - Opstart Importark'!$B$28,3),IF(I398=\"\",\"\",\"-\"),I398,IF(K398=\"\",\"\",\"-\"),K398,IF(M398=\"\",\"\",\"-\"),M398),CONCATENATE(LEFT('1 - Opstart Importark'!$B$3,1),(LEFT('1 - Opstart Importark'!$B$15,5)),(LEFT('1 - Opstart Importark'!$B$18,3)),IF(I398=\"\",\"\",\"-\"),I398,IF(K398=\"\",\"\",\"-\"),K398,IF(M398=\"\",\"\",\"-\"),M398))))","v":""},null," ",{"$nulls":9},{"$f":"IF(LEN('1 - Opstart Importark'!$B$6)>0,'1 - Opstart Importark'!$B$6,\"\")","v":""},{"$f":"IF(LEN('1 - Opstart Importark'!$B$9)>0,'1 - Opstart Importark'!$B$9,\"\")","v":""},{"$f":"IF(LEN('1 - Opstart Importark'!$B$23)>0,'1 - Opstart Importark'!$B$23,\"\")","v":""},{"$nulls":14},"",{"$nulls":8},0,{"$f":"IF(K398=\"\",\"\",IF(LEFT(K398,1)=\"E\",0,1))","v":""},{"$f":"IF(K398=\"\",\"\",IF(LEFT(K398,1)=\"E\",0,1))","v":""},{"$f":"IF(W398=\"\", CONCATENATE(\"objektnogle_\",LEFT(AF398,1)),CONCATENATE(\"objektnogle_\",LEFT(W398,1)))","v":"objektnogle_"}]
[387,null,{"$f":"IF('1 - Opstart Importark'!$B$6=\"\",\"\",(IF('1 - Opstart Importark'!$B$15=\"\",CONCATENATE(LEFT('1 - Opstart Importark'!$B$3,1),(LEFT('1 - Opstart Importark'!$B$20,5)),MID('1 - Opstart Importark'!$B$20,5,2),LEFT('1 - Opstart Importark'!$B$28,3),IF(I399=\"\",\"\",\"-\"),I399,IF(K399=\"\",\"\",\"-\"),K399,IF(M399=\"\",\"\",\"-\"),M399),CONCATENATE(LEFT('1 - Opstart Importark'!$B$3,1),(LEFT('1 - Opstart Importark'!$B$15,5)),(LEFT('1 - Opstart Importark'!$B$18,3)),IF(I399=\"\",\"\",\"-\"),I399,IF(K399=\"\",\"\",\"-\"),K399,IF(M399=\"\",\"\",\"-\"),M399))))","v":""},null," ",{"$nulls":9},{"$f":"IF(LEN('1 - Opstart Importark'!$B$6)>0,'1 - Opstart Importark'!$B$6,\"\")","v":""},{"$f":"IF(LEN('1 - Opstart Importark'!$B$9)>0,'1 - Opstart Importark'!$B$9,\"\")","v":""},{"$f":"IF(LEN('1 - Opstart Importark'!$B$23)>0,'1 - Opstart Importark'!$B$23,\"\")","v":""},{"$nulls":14},"",{"$nulls":8},0,"","","objektnogle_"]
[388,null,{"$f":"IF('1 - Opstart Importark'!$B$6=\"\",\"\",(IF('1 - Opstart Importark'!$B$15=\"\",CONCATENATE(LEFT('1 - Opstart Importark'!$B$3,1),(LEFT('1 - Opstart Importark'!$B$20,5)),MID('1 - Opstart Importark'!$B$20,5,2),LEFT('1 - Opstart Importark'!$B$28,3),IF(I400=\"\",\"\",\"-\"),I400,IF(K400=\"\",\"\",\"-\"),K400,IF(M400=\"\",\"\",\"-\"),M400),CONCATENATE(LEFT('1 - Opstart Importark'!$B$3,1),(LEFT('1 - Opstart Importark'!$B$15,5)),(LEFT('1 - Opstart Importark'!$B$18,3)),IF(I400=\"\",\"\",\"-\"),I400,IF(K400=\"\",\"\",\"-\"),K400,IF(M400=\"\",\"\",\"-\"),M400))))","v":""},null," ",{"$nulls":9},{"$f":"IF(LEN('1 - Opstart Importark'!$B$6)>0,'1 - Opstart Importark'!$B$6,\"\")","v":""},{"$f":"IF(LEN('1 - Opstart Importark'!$B$9)>0,'1 - Opstart Importark'!$B$9,\"\")","v":""},{"$f":"IF(LEN('1 - Opstart Importark'!$B$23)>0,'1 - Opstart Importark'!$B$23,\"\")","v":""},{"$nulls":14},"",{"$nulls":8},0,"","","objektnogle_"]
[389,null,{"$f":"IF('1 - Opstart Importark'!$B$6=\"\",\"\",(IF('1 - Opstart Importark'!$B$15=\"\",CONCATENATE(LEFT('1 - Opstart Importark'!$B$3,1),(LEFT('1 - Opstart Importark'!$B$20,5)),MID('1 - Opstart Importark'!$B$20,5,2),LEFT('1 - Opstart Importark'!$B$28,3),IF(I401=\"\",\"\",\"-\"),I401,IF(K401=\"\",\"\",\"-\"),K401,IF(M401=\"\",\"\",\"-\"),M401),CONCATENATE(LEFT('1 - Opstart Importark'!$B$3,1),(LEFT('1 - Opstart Importark'!$B$15,5)),(LEFT('1 - Opstart Importark'!$B$18,3)),IF(I401=\"\",\"\",\"-\"),I401,IF(K401=\"\",\"\",\"-\"),K401,IF(M401=\"\",\"\",\"-\"),M401))))","v":""},null," ",{"$nulls":9},{"$f":"IF(LEN('1 - Opstart Importark'!$B$6)>0,'1 - Opstart Importark'!$B$6,\"\")","v":""},{"$f":"IF(LEN('1 - Opstart Importark'!$B$9)>0,'1 - Opstart Importark'!$B$9,\"\")","v":""},{"$f":"IF(LEN('1 - Opstart Importark'!$B$23)>0,'1 - Opstart Importark'!$B$23,\"\")","v":""},{"$nulls":14},"",{"$nulls":8},0,"","","objektnogle_"]
[390,null,{"$f":"IF('1 - Opstart Importark'!$B$6=\"\",\"\",(IF('1 - Opstart Importark'!$B$15=\"\",CONCATENATE(LEFT('1 - Opstart Importark'!$B$3,1),(LEFT('1 - Opstart Importark'!$B$20,5)),MID('1 - Opstart Importark'!$B$20,5,2),LEFT('1 - Opstart Importark'!$B$28,3),IF(I402=\"\",\"\",\"-\"),I402,IF(K402=\"\",\"\",\"-\"),K402,IF(M402=\"\",\"\",\"-\"),M402),CONCATENATE(LEFT('1 - Opstart Importark'!$B$3,1),(LEFT('1 - Opstart Importark'!$B$15,5)),(LEFT('1 - Opstart Importark'!$B$18,3)),IF(I402=\"\",\"\",\"-\"),I402,IF(K402=\"\",\"\",\"-\"),K402,IF(M402=\"\",\"\",\"-\"),M402))))","v":""},null," ",{"$nulls":9},{"$f":"IF(LEN('1 - Opstart Importark'!$B$6)>0,'1 - Opstart Importark'!$B$6,\"\")","v":""},{"$f":"IF(LEN('1 - Opstart Importark'!$B$9)>0,'1 - Opstart Importark'!$B$9,\"\")","v":""},{"$f":"IF(LEN('1 - Opstart Importark'!$B$23)>0,'1 - Opstart Importark'!$B$23,\"\")","v":""},{"$nulls":14},"",{"$nulls":8},0,"","","objektnogle_"]
[391,null,{"$f":"IF('1 - Opstart Importark'!$B$6=\"\",\"\",(IF('1 - Opstart Importark'!$B$15=\"\",CONCATENATE(LEFT('1 - Opstart Importark'!$B$3,1),(LEFT('1 - Opstart Importark'!$B$20,5)),MID('1 - Opstart Importark'!$B$20,5,2),LEFT('1 - Opstart Importark'!$B$28,3),IF(I403=\"\",\"\",\"-\"),I403,IF(K403=\"\",\"\",\"-\"),K403,IF(M403=\"\",\"\",\"-\"),M403),CONCATENATE(LEFT('1 - Opstart Importark'!$B$3,1),(LEFT('1 - Opstart Importark'!$B$15,5)),(LEFT('1 - Opstart Importark'!$B$18,3)),IF(I403=\"\",\"\",\"-\"),I403,IF(K403=\"\",\"\",\"-\"),K403,IF(M403=\"\",\"\",\"-\"),M403))))","v":""},null," ",{"$nulls":9},{"$f":"IF(LEN('1 - Opstart Importark'!$B$6)>0,'1 - Opstart Importark'!$B$6,\"\")","v":""},{"$f":"IF(LEN('1 - Opstart Importark'!$B$9)>0,'1 - Opstart Importark'!$B$9,\"\")","v":""},{"$f":"IF(LEN('1 - Opstart Importark'!$B$23)>0,'1 - Opstart Importark'!$B$23,\"\")","v":""},{"$nulls":14},"",{"$nulls":8},0,"","","objektnogle_"]
[392,null,{"$f":"IF('1 - Opstart Importark'!$B$6=\"\",\"\",(IF('1 - Opstart Importark'!$B$15=\"\",CONCATENATE(LEFT('1 - Opstart Importark'!$B$3,1),(LEFT('1 - Opstart Importark'!$B$20,5)),MID('1 - Opstart Importark'!$B$20,5,2),LEFT('1 - Opstart Importark'!$B$28,3),IF(I404=\"\",\"\",\"-\"),I404,IF(K404=\"\",\"\",\"-\"),K404,IF(M404=\"\",\"\",\"-\"),M404),CONCATENATE(LEFT('1 - Opstart Importark'!$B$3,1),(LEFT('1 - Opstart Importark'!$B$15,5)),(LEFT('1 - Opstart Importark'!$B$18,3)),IF(I404=\"\",\"\",\"-\"),I404,IF(K404=\"\",\"\",\"-\"),K404,IF(M404=\"\",\"\",\"-\"),M404))))","v":""},null," ",{"$nulls":9},{"$f":"IF(LEN('1 - Opstart Importark'!$B$6)>0,'1 - Opstart Importark'!$B$6,\"\")","v":""},{"$f":"IF(LEN('1 - Opstart Importark'!$B$9)>0,'1 - Opstart Importark'!$B$9,\"\")","v":""},{"$f":"IF(LEN('1 - Opstart Importark'!$B$23)>0,'1 - Opstart Importark'!$B$23,\"\")","v":""},{"$nulls":14},"",{"$nulls":8},0,"","","objektnogle_"]
[393,null,{"$f":"IF('1 - Opstart Importark'!$B$6=\"\",\"\",(IF('1 - Opstart Importark'!$B$15=\"\",CONCATENATE(LEFT('1 - Opstart Importark'!$B$3,1),(LEFT('1 - Opstart Importark'!$B$20,5)),MID('1 - Opstart Importark'!$B$20,5,2),LEFT('1 - Opstart Importark'!$B$28,3),IF(I405=\"\",\"\",\"-\"),I405,IF(K405=\"\",\"\",\"-\"),K405,IF(M405=\"\",\"\",\"-\"),M405),CONCATENATE(LEFT('1 - Opstart Importark'!$B$3,1),(LEFT('1 - Opstart Importark'!$B$15,5)),(LEFT('1 - Opstart Importark'!$B$18,3)),IF(I405=\"\",\"\",\"-\"),I405,IF(K405=\"\",\"\",\"-\"),K405,IF(M405=\"\",\"\",\"-\"),M405))))","v":""},null," ",{"$nulls":9},{"$f":"IF(LEN('1 - Opstart Importark'!$B$6)>0,'1 - Opstart Importark'!$B$6,\"\")","v":""},{"$f":"IF(LEN('1 - Opstart Importark'!$B$9)>0,'1 - Opstart Importark'!$B$9,\"\")","v":""},{"$f":"IF(LEN('1 - Opstart Importark'!$B$23)>0,'1 - Opstart Importark'!$B$23,\"\")","v":""},{"$nulls":14},"",{"$nulls":8},0,"","","objektnogle_"]
[394,null,{"$f":"IF('1 - Opstart Importark'!$B$6=\"\",\"\",(IF('1 - Opstart Importark'!$B$15=\"\",CONCATENATE(LEFT('1 - Opstart Importark'!$B$3,1),(LEFT('1 - Opstart Importark'!$B$20,5)),MID('1 - Opstart Importark'!$B$20,5,2),LEFT('1 - Opstart Importark'!$B$28,3),IF(I406=\"\",\"\",\"-\"),I406,IF(K406=\"\",\"\",\"-\"),K406,IF(M406=\"\",\"\",\"-\"),M406),CONCATENATE(LEFT('1 - Opstart Importark'!$B$3,1),(LEFT('1 - Opstart Importark'!$B$15,5)),(LEFT('1 - Opstart Importark'!$B$18,3)),IF(I406=\"\",\"\",\"-\"),I406,IF(K406=\"\",\"\",\"-\"),K406,IF(M406=\"\",\"\",\"-\"),M406))))","v":""},null," ",{"$nulls":9},{"$f":"IF(LEN('1 - Opstart Importark'!$B$6)>0,'1 - Opstart Importark'!$B$6,\"\")","v":""},{"$f":"IF(LEN('1 - Opstart Importark'!$B$9)>0,'1 - Opstart Importark'!$B$9,\"\")","v":""},{"$f":"IF(LEN('1 - Opstart Importark'!$B$23)>0,'1 - Opstart Importark'!$B$23,\"\")","v":""},{"$nulls":14},"",{"$nulls":8},0,"","","objektnogle_"]
[395,null,{"$f":"IF('1 - Opstart Importark'!$B$6=\"\",\"\",(IF('1 - Opstart Importark'!$B$15=\"\",CONCATENATE(LEFT('1 - Opstart Importark'!$B$3,1),(LEFT('1 - Opstart Importark'!$B$20,5)),MID('1 - Opstart Importark'!$B$20,5,2),LEFT('1 - Opstart Importark'!$B$28,3),IF(I407=\"\",\"\",\"-\"),I407,IF(K407=\"\",\"\",\"-\"),K407,IF(M407=\"\",\"\",\"-\"),M407),CONCATENATE(LEFT('1 - Opstart Importark'!$B$3,1),(LEFT('1 - Opstart Importark'!$B$15,5)),(LEFT('1 - Opstart Importark'!$B$18,3)),IF(I407=\"\",\"\",\"-\"),I407,IF(K407=\"\",\"\",\"-\"),K407,IF(M407=\"\",\"\",\"-\"),M407))))","v":""},null," ",{"$nulls":9},{"$f":"IF(LEN('1 - Opstart Importark'!$B$6)>0,'1 - Opstart Importark'!$B$6,\"\")","v":""},{"$f":"IF(LEN('1 - Opstart Importark'!$B$9)>0,'1 - Opstart Importark'!$B$9,\"\")","v":""},{"$f":"IF(LEN('1 - Opstart Importark'!$B$23)>0,'1 - Opstart Importark'!$B$23,\"\")","v":""},{"$nulls":14},"",{"$nulls":8},0,"","","objektnogle_"]
[396,null,{"$f":"IF('1 - Opstart Importark'!$B$6=\"\",\"\",(IF('1 - Opstart Importark'!$B$15=\"\",CONCATENATE(LEFT('1 - Opstart Importark'!$B$3,1),(LEFT('1 - Opstart Importark'!$B$20,5)),MID('1 - Opstart Importark'!$B$20,5,2),LEFT('1 - Opstart Importark'!$B$28,3),IF(I408=\"\",\"\",\"-\"),I408,IF(K408=\"\",\"\",\"-\"),K408,IF(M408=\"\",\"\",\"-\"),M408),CONCATENATE(LEFT('1 - Opstart Importark'!$B$3,1),(LEFT('1 - Opstart Importark'!$B$15,5)),(LEFT('1 - Opstart Importark'!$B$18,3)),IF(I408=\"\",\"\",\"-\"),I408,IF(K408=\"\",\"\",\"-\"),K408,IF(M408=\"\",\"\",\"-\"),M408))))","v":""},null," ",{"$nulls":9},{"$f":"IF(LEN('1 - Opstart Importark'!$B$6)>0,'1 - Opstart Importark'!$B$6,\"\")","v":""},{"$f":"IF(LEN('1 - Opstart Importark'!$B$9)>0,'1 - Opstart Importark'!$B$9,\"\")","v":""},{"$f":"IF(LEN('1 - Opstart Importark'!$B$23)>0,'1 - Opstart Importark'!$B$23,\"\")","v":""},{"$nulls":14},"",{"$nulls":8},0,"","","objektnogle_"]
[397,null,{"$f":"IF('1 - Opstart Importark'!$B$6=\"\",\"\",(IF('1 - Opstart Importark'!$B$15=\"\",CONCATENATE(LEFT('1 - Opstart Importark'!$B$3,1),(LEFT('1 - Opstart Importark'!$B$20,5)),MID('1 - Opstart Importark'!$B$20,5,2),LEFT('1 - Opstart Importark'!$B$28,3),IF(I409=\"\",\"\",\"-\"),I409,IF(K409=\"\",\"\",\"-\"),K409,IF(M409=\"\",\"\",\"-\"),M409),CONCATENATE(LEFT('1 - Opstart Importark'!$B$3,1),(LEFT('1 - Opstart Importark'!$B$15,5)),(LEFT('1 - Opstart Importark'!$B$18,3)),IF(I409=\"\",\"\",\"-\"),I409,IF(K409=\"\",\"\",\"-\"),K409,IF(M409=\"\",\"\",\"-\"),M409))))","v":""},null," ",{"$nulls":9},{"$f":"IF(LEN('1 - Opstart Importark'!$B$6)>0,'1 - Opstart Importark'!$B$6,\"\")","v":""},{"$f":"IF(LEN('1 - Opstart Importark'!$B$9)>0,'1 - Opstart Importark'!$B$9,\"\")","v":""},{"$f":"IF(LEN('1 - Opstart Importark'!$B$23)>0,'1 - Opstart Importark'!$B$23,\"\")","v":""},{"$nulls":14},"",{"$nulls":8},0,"","","objektnogle_"]
[398,null,{"$f":"IF('1 - Opstart Importark'!$B$6=\"\",\"\",(IF('1 - Opstart Importark'!$B$15=\"\",CONCATENATE(LEFT('1 - Opstart Importark'!$B$3,1),(LEFT('1 - Opstart Importark'!$B$20,5)),MID('1 - Opstart Importark'!$B$20,5,2),LEFT('1 - Opstart Importark'!$B$28,3),IF(I410=\"\",\"\",\"-\"),I410,IF(K410=\"\",\"\",\"-\"),K410,IF(M410=\"\",\"\",\"-\"),M410),CONCATENATE(LEFT('1 - Opstart Importark'!$B$3,1),(LEFT('1 - Opstart Importark'!$B$15,5)),(LEFT('1 - Opstart Importark'!$B$18,3)),IF(I410=\"\",\"\",\"-\"),I410,IF(K410=\"\",\"\",\"-\"),K410,IF(M410=\"\",\"\",\"-\"),M410))))","v":""},null," ",{"$nulls":9},{"$f":"IF(LEN('1 - Opstart Importark'!$B$6)>0,'1 - Opstart Importark'!$B$6,\"\")","v":""},{"$f":"IF(LEN('1 - Opstart Importark'!$B$9)>0,'1 - Opstart Importark'!$B$9,\"\")","v":""},{"$f":"IF(LEN('1 - Opstart Importark'!$B$23)>0,'1 - Opstart Importark'!$B$23,\"\")","v":""},{"$nulls":14},"",{"$nulls":8},0,"","","objektnogle_"]
[399,null,{"$f":"IF('1 - Opstart Importark'!$B$6=\"\",\"\",(IF('1 - Opstart Importark'!$B$15=\"\",CONCATENATE(LEFT('1 - Opstart Importark'!$B$3,1),(LEFT('1 - Opstart Importark'!$B$20,5)),MID('1 - Opstart Importark'!$B$20,5,2),LEFT('1 - Opstart Importark'!$B$28,3),IF(I411=\"\",\"\",\"-\"),I411,IF(K411=\"\",\"\",\"-\"),K411,IF(M411=\"\",\"\",\"-\"),M411),CONCATENATE(LEFT('1 - Opstart Importark'!$B$3,1),(LEFT('1 - Opstart Importark'!$B$15,5)),(LEFT('1 - Opstart Importark'!$B$18,3)),IF(I411=\"\",\"\",\"-\"),I411,IF(K411=\"\",\"\",\"-\"),K411,IF(M411=\"\",\"\",\"-\"),M411))))","v":""},null," ",{"$nulls":9},{"$f":"IF(LEN('1 - Opstart Importark'!$B$6)>0,'1 - Opstart Importark'!$B$6,\"\")","v":""},{"$f":"IF(LEN('1 - Opstart Importark'!$B$9)>0,'1 - Opstart Importark'!$B$9,\"\")","v":""},{"$f":"IF(LEN('1 - Opstart Importark'!$B$23)>0,'1 - Opstart Importark'!$B$23,\"\")","v":""},{"$nulls":14},"",{"$nulls":8},0,"","","objektnogle_"]
[400,null,{"$f":"IF('1 - Opstart Importark'!$B$6=\"\",\"\",(IF('1 - Opstart Importark'!$B$15=\"\",CONCATENATE(LEFT('1 - Opstart Importark'!$B$3,1),(LEFT('1 - Opstart Importark'!$B$20,5)),MID('1 - Opstart Importark'!$B$20,5,2),LEFT('1 - Opstart Importark'!$B$28,3),IF(I412=\"\",\"\",\"-\"),I412,IF(K412=\"\",\"\",\"-\"),K412,IF(M412=\"\",\"\",\"-\"),M412),CONCATENATE(LEFT('1 - Opstart Importark'!$B$3,1),(LEFT('1 - Opstart Importark'!$B$15,5)),(LEFT('1 - Opstart Importark'!$B$18,3)),IF(I412=\"\",\"\",\"-\"),I412,IF(K412=\"\",\"\",\"-\"),K412,IF(M412=\"\",\"\",\"-\"),M412))))","v":""},null," ",{"$nulls":9},{"$f":"IF(LEN('1 - Opstart Importark'!$B$6)>0,'1 - Opstart Importark'!$B$6,\"\")","v":""},{"$f":"IF(LEN('1 - Opstart Importark'!$B$9)>0,'1 - Opstart Importark'!$B$9,\"\")","v":""},{"$f":"IF(LEN('1 - Opstart Importark'!$B$23)>0,'1 - Opstart Importark'!$B$23,\"\")","v":""},{"$nulls":14},"",{"$nulls":8},0,"","","objektnogle_"]
[401,null,{"$f":"IF('1 - Opstart Importark'!$B$6=\"\",\"\",(IF('1 - Opstart Importark'!$B$15=\"\",CONCATENATE(LEFT('1 - Opstart Importark'!$B$3,1),(LEFT('1 - Opstart Importark'!$B$20,5)),MID('1 - Opstart Importark'!$B$20,5,2),LEFT('1 - Opstart Importark'!$B$28,3),IF(I413=\"\",\"\",\"-\"),I413,IF(K413=\"\",\"\",\"-\"),K413,IF(M413=\"\",\"\",\"-\"),M413),CONCATENATE(LEFT('1 - Opstart Importark'!$B$3,1),(LEFT('1 - Opstart Importark'!$B$15,5)),(LEFT('1 - Opstart Importark'!$B$18,3)),IF(I413=\"\",\"\",\"-\"),I413,IF(K413=\"\",\"\",\"-\"),K413,IF(M413=\"\",\"\",\"-\"),M413))))","v":""},null," ",{"$nulls":9},{"$f":"IF(LEN('1 - Opstart Importark'!$B$6)>0,'1 - Opstart Importark'!$B$6,\"\")","v":""},{"$f":"IF(LEN('1 - Opstart Importark'!$B$9)>0,'1 - Opstart Importark'!$B$9,\"\")","v":""},{"$f":"IF(LEN('1 - Opstart Importark'!$B$23)>0,'1 - Opstart Importark'!$B$23,\"\")","v":""},{"$nulls":14},"",{"$nulls":8},0,"","","objektnogle_"]
[402,null,{"$f":"IF('1 - Opstart Importark'!$B$6=\"\",\"\",(IF('1 - Opstart Importark'!$B$15=\"\",CONCATENATE(LEFT('1 - Opstart Importark'!$B$3,1),(LEFT('1 - Opstart Importark'!$B$20,5)),MID('1 - Opstart Importark'!$B$20,5,2),LEFT('1 - Opstart Importark'!$B$28,3),IF(I414=\"\",\"\",\"-\"),I414,IF(K414=\"\",\"\",\"-\"),K414,IF(M414=\"\",\"\",\"-\"),M414),CONCATENATE(LEFT('1 - Opstart Importark'!$B$3,1),(LEFT('1 - Opstart Importark'!$B$15,5)),(LEFT('1 - Opstart Importark'!$B$18,3)),IF(I414=\"\",\"\",\"-\"),I414,IF(K414=\"\",\"\",\"-\"),K414,IF(M414=\"\",\"\",\"-\"),M414))))","v":""},null," ",{"$nulls":9},{"$f":"IF(LEN('1 - Opstart Importark'!$B$6)>0,'1 - Opstart Importark'!$B$6,\"\")","v":""},{"$f":"IF(LEN('1 - Opstart Importark'!$B$9)>0,'1 - Opstart Importark'!$B$9,\"\")","v":""},{"$f":"IF(LEN('1 - Opstart Importark'!$B$23)>0,'1 - Opstart Importark'!$B$23,\"\")","v":""},{"$nulls":14},"",{"$nulls":8},0,"","","objektnogle_"]
[403,null,{"$f":"IF('1 - Opstart Importark'!$B$6=\"\",\"\",(IF('1 - Opstart Importark'!$B$15=\"\",CONCATENATE(LEFT('1 - Opstart Importark'!$B$3,1),(LEFT('1 - Opstart Importark'!$B$20,5)),MID('1 - Opstart Importark'!$B$20,5,2),LEFT('1 - Opstart Importark'!$B$28,3),IF(I415=\"\",\"\",\"-\"),I415,IF(K415=\"\",\"\",\"-\"),K415,IF(M415=\"\",\"\",\"-\"),M415),CONCATENATE(LEFT('1 - Opstart Importark'!$B$3,1),(LEFT('1 - Opstart Importark'!$B$15,5)),(LEFT('1 - Opstart Importark'!$B$18,3)),IF(I415=\"\",\"\",\"-\"),I415,IF(K415=\"\",\"\",\"-\"),K415,IF(M415=\"\",\"\",\"-\"),M415))))","v":""},null," ",{"$nulls":9},{"$f":"IF(LEN('1 - Opstart Importark'!$B$6)>0,'1 - Opstart Importark'!$B$6,\"\")","v":""},{"$f":"IF(LEN('1 - Opstart Importark'!$B$9)>0,'1 - Opstart Importark'!$B$9,\"\")","v":""},{"$f":"IF(LEN('1 - Opstart Importark'!$B$23)>0,'1 - Opstart Importark'!$B$23,\"\")","v":""},{"$nulls":14},"",{"$nulls":8},0,"","","objektnogle_"]
[404,null,{"$f":"IF('1 - Opstart Importark'!$B$6=\"\",\"\",(IF('1 - Opstart Importark'!$B$15=\"\",CONCATENATE(LEFT('1 - Opstart Importark'!$B$3,1),(LEFT('1 - Opstart Importark'!$B$20,5)),MID('1 - Opstart Importark'!$B$20,5,2),LEFT('1 - Opstart Importark'!$B$28,3),IF(I416=\"\",\"\",\"-\"),I416,IF(K416=\"\",\"\",\"-\"),K416,IF(M416=\"\",\"\",\"-\"),M416),CONCATENATE(LEFT('1 - Opstart Importark'!$B$3,1),(LEFT('1 - Opstart Importark'!$B$15,5)),(LEFT('1 - Opstart Importark'!$B$18,3)),IF(I416=\"\",\"\",\"-\"),I416,IF(K416=\"\",\"\",\"-\"),K416,IF(M416=\"\",\"\",\"-\"),M416))))","v":""},null," ",{"$nulls":9},{"$f":"IF(LEN('1 - Opstart Importark'!$B$6)>0,'1 - Opstart Importark'!$B$6,\"\")","v":""},{"$f":"IF(LEN('1 - Opstart Importark'!$B$9)>0,'1 - Opstart Importark'!$B$9,\"\")","v":""},{"$f":"IF(LEN('1 - Opstart Importark'!$B$23)>0,'1 - Opstart Importark'!$B$23,\"\")","v":""},{"$nulls":14},"",{"$nulls":8},0,"","","objektnogle_"]
[405,null,{"$f":"IF('1 - Opstart Importark'!$B$6=\"\",\"\",(IF('1 - Opstart Importark'!$B$15=\"\",CONCATENATE(LEFT('1 - Opstart Importark'!$B$3,1),(LEFT('1 - Opstart Importark'!$B$20,5)),MID('1 - Opstart Importark'!$B$20,5,2),LEFT('1 - Opstart Importark'!$B$28,3),IF(I417=\"\",\"\",\"-\"),I417,IF(K417=\"\",\"\",\"-\"),K417,IF(M417=\"\",\"\",\"-\"),M417),CONCATENATE(LEFT('1 - Opstart Importark'!$B$3,1),(LEFT('1 - Opstart Importark'!$B$15,5)),(LEFT('1 - Opstart Importark'!$B$18,3)),IF(I417=\"\",\"\",\"-\"),I417,IF(K417=\"\",\"\",\"-\"),K417,IF(M417=\"\",\"\",\"-\"),M417))))","v":""},null," ",{"$nulls":9},{"$f":"IF(LEN('1 - Opstart Importark'!$B$6)>0,'1 - Opstart Importark'!$B$6,\"\")","v":""},{"$f":"IF(LEN('1 - Opstart Importark'!$B$9)>0,'1 - Opstart Importark'!$B$9,\"\")","v":""},{"$f":"IF(LEN('1 - Opstart Importark'!$B$23)>0,'1 - Opstart Importark'!$B$23,\"\")","v":""},{"$nulls":14},"",{"$nulls":8},0,"","","objektnogle_"]
[406,null,{"$f":"IF('1 - Opstart Importark'!$B$6=\"\",\"\",(IF('1 - Opstart Importark'!$B$15=\"\",CONCATENATE(LEFT('1 - Opstart Importark'!$B$3,1),(LEFT('1 - Opstart Importark'!$B$20,5)),MID('1 - Opstart Importark'!$B$20,5,2),LEFT('1 - Opstart Importark'!$B$28,3),IF(I418=\"\",\"\",\"-\"),I418,IF(K418=\"\",\"\",\"-\"),K418,IF(M418=\"\",\"\",\"-\"),M418),CONCATENATE(LEFT('1 - Opstart Importark'!$B$3,1),(LEFT('1 - Opstart Importark'!$B$15,5)),(LEFT('1 - Opstart Importark'!$B$18,3)),IF(I418=\"\",\"\",\"-\"),I418,IF(K418=\"\",\"\",\"-\"),K418,IF(M418=\"\",\"\",\"-\"),M418))))","v":""},null," ",{"$nulls":9},{"$f":"IF(LEN('1 - Opstart Importark'!$B$6)>0,'1 - Opstart Importark'!$B$6,\"\")","v":""},{"$f":"IF(LEN('1 - Opstart Importark'!$B$9)>0,'1 - Opstart Importark'!$B$9,\"\")","v":""},{"$f":"IF(LEN('1 - Opstart Importark'!$B$23)>0,'1 - Opstart Importark'!$B$23,\"\")","v":""},{"$nulls":14},"",{"$nulls":8},0,"","","objektnogle_"]
[407,null,{"$f":"IF('1 - Opstart Importark'!$B$6=\"\",\"\",(IF('1 - Opstart Importark'!$B$15=\"\",CONCATENATE(LEFT('1 - Opstart Importark'!$B$3,1),(LEFT('1 - Opstart Importark'!$B$20,5)),MID('1 - Opstart Importark'!$B$20,5,2),LEFT('1 - Opstart Importark'!$B$28,3),IF(I419=\"\",\"\",\"-\"),I419,IF(K419=\"\",\"\",\"-\"),K419,IF(M419=\"\",\"\",\"-\"),M419),CONCATENATE(LEFT('1 - Opstart Importark'!$B$3,1),(LEFT('1 - Opstart Importark'!$B$15,5)),(LEFT('1 - Opstart Importark'!$B$18,3)),IF(I419=\"\",\"\",\"-\"),I419,IF(K419=\"\",\"\",\"-\"),K419,IF(M419=\"\",\"\",\"-\"),M419))))","v":""},null," ",{"$nulls":9},{"$f":"IF(LEN('1 - Opstart Importark'!$B$6)>0,'1 - Opstart Importark'!$B$6,\"\")","v":""},{"$f":"IF(LEN('1 - Opstart Importark'!$B$9)>0,'1 - Opstart Importark'!$B$9,\"\")","v":""},{"$f":"IF(LEN('1 - Opstart Importark'!$B$23)>0,'1 - Opstart Importark'!$B$23,\"\")","v":""},{"$nulls":14},"",{"$nulls":8},0,"","","objektnogle_"]
[408,null,{"$f":"IF('1 - Opstart Importark'!$B$6=\"\",\"\",(IF('1 - Opstart Importark'!$B$15=\"\",CONCATENATE(LEFT('1 - Opstart Importark'!$B$3,1),(LEFT('1 - Opstart Importark'!$B$20,5)),MID('1 - Opstart Importark'!$B$20,5,2),LEFT('1 - Opstart Importark'!$B$28,3),IF(I420=\"\",\"\",\"-\"),I420,IF(K420=\"\",\"\",\"-\"),K420,IF(M420=\"\",\"\",\"-\"),M420),CONCATENATE(LEFT('1 - Opstart Importark'!$B$3,1),(LEFT('1 - Opstart Importark'!$B$15,5)),(LEFT('1 - Opstart Importark'!$B$18,3)),IF(I420=\"\",\"\",\"-\"),I420,IF(K420=\"\",\"\",\"-\"),K420,IF(M420=\"\",\"\",\"-\"),M420))))","v":""},null," ",{"$nulls":9},{"$f":"IF(LEN('1 - Opstart Importark'!$B$6)>0,'1 - Opstart Importark'!$B$6,\"\")","v":""},{"$f":"IF(LEN('1 - Opstart Importark'!$B$9)>0,'1 - Opstart Importark'!$B$9,\"\")","v":""},{"$f":"IF(LEN('1 - Opstart Importark'!$B$23)>0,'1 - Opstart Importark'!$B$23,\"\")","v":""},{"$nulls":14},"",{"$nulls":8},0,"","","objektnogle_"]
[409,null,{"$f":"IF('1 - Opstart Importark'!$B$6=\"\",\"\",(IF('1 - Opstart Importark'!$B$15=\"\",CONCATENATE(LEFT('1 - Opstart Importark'!$B$3,1),(LEFT('1 - Opstart Importark'!$B$20,5)),MID('1 - Opstart Importark'!$B$20,5,2),LEFT('1 - Opstart Importark'!$B$28,3),IF(I421=\"\",\"\",\"-\"),I421,IF(K421=\"\",\"\",\"-\"),K421,IF(M421=\"\",\"\",\"-\"),M421),CONCATENATE(LEFT('1 - Opstart Importark'!$B$3,1),(LEFT('1 - Opstart Importark'!$B$15,5)),(LEFT('1 - Opstart Importark'!$B$18,3)),IF(I421=\"\",\"\",\"-\"),I421,IF(K421=\"\",\"\",\"-\"),K421,IF(M421=\"\",\"\",\"-\"),M421))))","v":""},null," ",{"$nulls":9},{"$f":"IF(LEN('1 - Opstart Importark'!$B$6)>0,'1 - Opstart Importark'!$B$6,\"\")","v":""},{"$f":"IF(LEN('1 - Opstart Importark'!$B$9)>0,'1 - Opstart Importark'!$B$9,\"\")","v":""},{"$f":"IF(LEN('1 - Opstart Importark'!$B$23)>0,'1 - Opstart Importark'!$B$23,\"\")","v":""},{"$nulls":14},"",{"$nulls":8},0,"","","objektnogle_"]
[410,null,{"$f":"IF('1 - Opstart Importark'!$B$6=\"\",\"\",(IF('1 - Opstart Importark'!$B$15=\"\",CONCATENATE(LEFT('1 - Opstart Importark'!$B$3,1),(LEFT('1 - Opstart Importark'!$B$20,5)),MID('1 - Opstart Importark'!$B$20,5,2),LEFT('1 - Opstart Importark'!$B$28,3),IF(I422=\"\",\"\",\"-\"),I422,IF(K422=\"\",\"\",\"-\"),K422,IF(M422=\"\",\"\",\"-\"),M422),CONCATENATE(LEFT('1 - Opstart Importark'!$B$3,1),(LEFT('1 - Opstart Importark'!$B$15,5)),(LEFT('1 - Opstart Importark'!$B$18,3)),IF(I422=\"\",\"\",\"-\"),I422,IF(K422=\"\",\"\",\"-\"),K422,IF(M422=\"\",\"\",\"-\"),M422))))","v":""},null," ",{"$nulls":9},{"$f":"IF(LEN('1 - Opstart Importark'!$B$6)>0,'1 - Opstart Importark'!$B$6,\"\")","v":""},{"$f":"IF(LEN('1 - Opstart Importark'!$B$9)>0,'1 - Opstart Importark'!$B$9,\"\")","v":""},{"$f":"IF(LEN('1 - Opstart Importark'!$B$23)>0,'1 - Opstart Importark'!$B$23,\"\")","v":""},{"$nulls":14},"",{"$nulls":8},0,"","","objektnogle_"]
[411,null,{"$f":"IF('1 - Opstart Importark'!$B$6=\"\",\"\",(IF('1 - Opstart Importark'!$B$15=\"\",CONCATENATE(LEFT('1 - Opstart Importark'!$B$3,1),(LEFT('1 - Opstart Importark'!$B$20,5)),MID('1 - Opstart Importark'!$B$20,5,2),LEFT('1 - Opstart Importark'!$B$28,3),IF(I423=\"\",\"\",\"-\"),I423,IF(K423=\"\",\"\",\"-\"),K423,IF(M423=\"\",\"\",\"-\"),M423),CONCATENATE(LEFT('1 - Opstart Importark'!$B$3,1),(LEFT('1 - Opstart Importark'!$B$15,5)),(LEFT('1 - Opstart Importark'!$B$18,3)),IF(I423=\"\",\"\",\"-\"),I423,IF(K423=\"\",\"\",\"-\"),K423,IF(M423=\"\",\"\",\"-\"),M423))))","v":""},null," ",{"$nulls":9},{"$f":"IF(LEN('1 - Opstart Importark'!$B$6)>0,'1 - Opstart Importark'!$B$6,\"\")","v":""},{"$f":"IF(LEN('1 - Opstart Importark'!$B$9)>0,'1 - Opstart Importark'!$B$9,\"\")","v":""},{"$f":"IF(LEN('1 - Opstart Importark'!$B$23)>0,'1 - Opstart Importark'!$B$23,\"\")","v":""},{"$nulls":14},"",{"$nulls":8},0,"","","objektnogle_"]
[412,null,{"$f":"IF('1 - Opstart Importark'!$B$6=\"\",\"\",(IF('1 - Opstart Importark'!$B$15=\"\",CONCATENATE(LEFT('1 - Opstart Importark'!$B$3,1),(LEFT('1 - Opstart Importark'!$B$20,5)),MID('1 - Opstart Importark'!$B$20,5,2),LEFT('1 - Opstart Importark'!$B$28,3),IF(I424=\"\",\"\",\"-\"),I424,IF(K424=\"\",\"\",\"-\"),K424,IF(M424=\"\",\"\",\"-\"),M424),CONCATENATE(LEFT('1 - Opstart Importark'!$B$3,1),(LEFT('1 - Opstart Importark'!$B$15,5)),(LEFT('1 - Opstart Importark'!$B$18,3)),IF(I424=\"\",\"\",\"-\"),I424,IF(K424=\"\",\"\",\"-\"),K424,IF(M424=\"\",\"\",\"-\"),M424))))","v":""},null," ",{"$nulls":9},{"$f":"IF(LEN('1 - Opstart Importark'!$B$6)>0,'1 - Opstart Importark'!$B$6,\"\")","v":""},{"$f":"IF(LEN('1 - Opstart Importark'!$B$9)>0,'1 - Opstart Importark'!$B$9,\"\")","v":""},{"$f":"IF(LEN('1 - Opstart Importark'!$B$23)>0,'1 - Opstart Importark'!$B$23,\"\")","v":""},{"$nulls":14},"",{"$nulls":8},0,"","","objektnogle_"]
[413,null,{"$f":"IF('1 - Opstart Importark'!$B$6=\"\",\"\",(IF('1 - Opstart Importark'!$B$15=\"\",CONCATENATE(LEFT('1 - Opstart Importark'!$B$3,1),(LEFT('1 - Opstart Importark'!$B$20,5)),MID('1 - Opstart Importark'!$B$20,5,2),LEFT('1 - Opstart Importark'!$B$28,3),IF(I425=\"\",\"\",\"-\"),I425,IF(K425=\"\",\"\",\"-\"),K425,IF(M425=\"\",\"\",\"-\"),M425),CONCATENATE(LEFT('1 - Opstart Importark'!$B$3,1),(LEFT('1 - Opstart Importark'!$B$15,5)),(LEFT('1 - Opstart Importark'!$B$18,3)),IF(I425=\"\",\"\",\"-\"),I425,IF(K425=\"\",\"\",\"-\"),K425,IF(M425=\"\",\"\",\"-\"),M425))))","v":""},null," ",{"$nulls":9},{"$f":"IF(LEN('1 - Opstart Importark'!$B$6)>0,'1 - Opstart Importark'!$B$6,\"\")","v":""},{"$f":"IF(LEN('1 - Opstart Importark'!$B$9)>0,'1 - Opstart Importark'!$B$9,\"\")","v":""},{"$f":"IF(LEN('1 - Opstart Importark'!$B$23)>0,'1 - Opstart Importark'!$B$23,\"\")","v":""},{"$nulls":14},"",{"$nulls":8},0,"","","objektnogle_"]
[414,null,{"$f":"IF('1 - Opstart Importark'!$B$6=\"\",\"\",(IF('1 - Opstart Importark'!$B$15=\"\",CONCATENATE(LEFT('1 - Opstart Importark'!$B$3,1),(LEFT('1 - Opstart Importark'!$B$20,5)),MID('1 - Opstart Importark'!$B$20,5,2),LEFT('1 - Opstart Importark'!$B$28,3),IF(I426=\"\",\"\",\"-\"),I426,IF(K426=\"\",\"\",\"-\"),K426,IF(M426=\"\",\"\",\"-\"),M426),CONCATENATE(LEFT('1 - Opstart Importark'!$B$3,1),(LEFT('1 - Opstart Importark'!$B$15,5)),(LEFT('1 - Opstart Importark'!$B$18,3)),IF(I426=\"\",\"\",\"-\"),I426,IF(K426=\"\",\"\",\"-\"),K426,IF(M426=\"\",\"\",\"-\"),M426))))","v":""},null," ",{"$nulls":9},{"$f":"IF(LEN('1 - Opstart Importark'!$B$6)>0,'1 - Opstart Importark'!$B$6,\"\")","v":""},{"$f":"IF(LEN('1 - Opstart Importark'!$B$9)>0,'1 - Opstart Importark'!$B$9,\"\")","v":""},{"$f":"IF(LEN('1 - Opstart Importark'!$B$23)>0,'1 - Opstart Importark'!$B$23,\"\")","v":""},{"$nulls":14},"",{"$nulls":8},0,"","","objektnogle_"]
[415,null,{"$f":"IF('1 - Opstart Importark'!$B$6=\"\",\"\",(IF('1 - Opstart Importark'!$B$15=\"\",CONCATENATE(LEFT('1 - Opstart Importark'!$B$3,1),(LEFT('1 - Opstart Importark'!$B$20,5)),MID('1 - Opstart Importark'!$B$20,5,2),LEFT('1 - Opstart Importark'!$B$28,3),IF(I427=\"\",\"\",\"-\"),I427,IF(K427=\"\",\"\",\"-\"),K427,IF(M427=\"\",\"\",\"-\"),M427),CONCATENATE(LEFT('1 - Opstart Importark'!$B$3,1),(LEFT('1 - Opstart Importark'!$B$15,5)),(LEFT('1 - Opstart Importark'!$B$18,3)),IF(I427=\"\",\"\",\"-\"),I427,IF(K427=\"\",\"\",\"-\"),K427,IF(M427=\"\",\"\",\"-\"),M427))))","v":""},null," ",{"$nulls":9},{"$f":"IF(LEN('1 - Opstart Importark'!$B$6)>0,'1 - Opstart Importark'!$B$6,\"\")","v":""},{"$f":"IF(LEN('1 - Opstart Importark'!$B$9)>0,'1 - Opstart Importark'!$B$9,\"\")","v":""},{"$f":"IF(LEN('1 - Opstart Importark'!$B$23)>0,'1 - Opstart Importark'!$B$23,\"\")","v":""},{"$nulls":14},"",{"$nulls":8},0,"","","objektnogle_"]
[416,null,{"$f":"IF('1 - Opstart Importark'!$B$6=\"\",\"\",(IF('1 - Opstart Importark'!$B$15=\"\",CONCATENATE(LEFT('1 - Opstart Importark'!$B$3,1),(LEFT('1 - Opstart Importark'!$B$20,5)),MID('1 - Opstart Importark'!$B$20,5,2),LEFT('1 - Opstart Importark'!$B$28,3),IF(I428=\"\",\"\",\"-\"),I428,IF(K428=\"\",\"\",\"-\"),K428,IF(M428=\"\",\"\",\"-\"),M428),CONCATENATE(LEFT('1 - Opstart Importark'!$B$3,1),(LEFT('1 - Opstart Importark'!$B$15,5)),(LEFT('1 - Opstart Importark'!$B$18,3)),IF(I428=\"\",\"\",\"-\"),I428,IF(K428=\"\",\"\",\"-\"),K428,IF(M428=\"\",\"\",\"-\"),M428))))","v":""},null," ",{"$nulls":9},{"$f":"IF(LEN('1 - Opstart Importark'!$B$6)>0,'1 - Opstart Importark'!$B$6,\"\")","v":""},{"$f":"IF(LEN('1 - Opstart Importark'!$B$9)>0,'1 - Opstart Importark'!$B$9,\"\")","v":""},{"$f":"IF(LEN('1 - Opstart Importark'!$B$23)>0,'1 - Opstart Importark'!$B$23,\"\")","v":""},{"$nulls":14},"",{"$nulls":8},0,"","","objektnogle_"]
[417,null,{"$f":"IF('1 - Opstart Importark'!$B$6=\"\",\"\",(IF('1 - Opstart Importark'!$B$15=\"\",CONCATENATE(LEFT('1 - Opstart Importark'!$B$3,1),(LEFT('1 - Opstart Importark'!$B$20,5)),MID('1 - Opstart Importark'!$B$20,5,2),LEFT('1 - Opstart Importark'!$B$28,3),IF(I429=\"\",\"\",\"-\"),I429,IF(K429=\"\",\"\",\"-\"),K429,IF(M429=\"\",\"\",\"-\"),M429),CONCATENATE(LEFT('1 - Opstart Importark'!$B$3,1),(LEFT('1 - Opstart Importark'!$B$15,5)),(LEFT('1 - Opstart Importark'!$B$18,3)),IF(I429=\"\",\"\",\"-\"),I429,IF(K429=\"\",\"\",\"-\"),K429,IF(M429=\"\",\"\",\"-\"),M429))))","v":""},null," ",{"$nulls":9},{"$f":"IF(LEN('1 - Opstart Importark'!$B$6)>0,'1 - Opstart Importark'!$B$6,\"\")","v":""},{"$f":"IF(LEN('1 - Opstart Importark'!$B$9)>0,'1 - Opstart Importark'!$B$9,\"\")","v":""},{"$f":"IF(LEN('1 - Opstart Importark'!$B$23)>0,'1 - Opstart Importark'!$B$23,\"\")","v":""},{"$nulls":14},"",{"$nulls":8},0,"","","objektnogle_"]
[418,null,{"$f":"IF('1 - Opstart Importark'!$B$6=\"\",\"\",(IF('1 - Opstart Importark'!$B$15=\"\",CONCATENATE(LEFT('1 - Opstart Importark'!$B$3,1),(LEFT('1 - Opstart Importark'!$B$20,5)),MID('1 - Opstart Importark'!$B$20,5,2),LEFT('1 - Opstart Importark'!$B$28,3),IF(I430=\"\",\"\",\"-\"),I430,IF(K430=\"\",\"\",\"-\"),K430,IF(M430=\"\",\"\",\"-\"),M430),CONCATENATE(LEFT('1 - Opstart Importark'!$B$3,1),(LEFT('1 - Opstart Importark'!$B$15,5)),(LEFT('1 - Opstart Importark'!$B$18,3)),IF(I430=\"\",\"\",\"-\"),I430,IF(K430=\"\",\"\",\"-\"),K430,IF(M430=\"\",\"\",\"-\"),M430))))","v":""},null," ",{"$nulls":9},{"$f":"IF(LEN('1 - Opstart Importark'!$B$6)>0,'1 - Opstart Importark'!$B$6,\"\")","v":""},{"$f":"IF(LEN('1 - Opstart Importark'!$B$9)>0,'1 - Opstart Importark'!$B$9,\"\")","v":""},{"$f":"IF(LEN('1 - Opstart Importark'!$B$23)>0,'1 - Opstart Importark'!$B$23,\"\")","v":""},{"$nulls":14},"",{"$nulls":8},0,"","","objektnogle_"]
[419,null,{"$f":"IF('1 - Opstart Importark'!$B$6=\"\",\"\",(IF('1 - Opstart Importark'!$B$15=\"\",CONCATENATE(LEFT('1 - Opstart Importark'!$B$3,1),(LEFT('1 - Opstart Importark'!$B$20,5)),MID('1 - Opstart Importark'!$B$20,5,2),LEFT('1 - Opstart Importark'!$B$28,3),IF(I431=\"\",\"\",\"-\"),I431,IF(K431=\"\",\"\",\"-\"),K431,IF(M431=\"\",\"\",\"-\"),M431),CONCATENATE(LEFT('1 - Opstart Importark'!$B$3,1),(LEFT('1 - Opstart Importark'!$B$15,5)),(LEFT('1 - Opstart Importark'!$B$18,3)),IF(I431=\"\",\"\",\"-\"),I431,IF(K431=\"\",\"\",\"-\"),K431,IF(M431=\"\",\"\",\"-\"),M431))))","v":""},null," ",{"$nulls":9},{"$f":"IF(LEN('1 - Opstart Importark'!$B$6)>0,'1 - Opstart Importark'!$B$6,\"\")","v":""},{"$f":"IF(LEN('1 - Opstart Importark'!$B$9)>0,'1 - Opstart Importark'!$B$9,\"\")","v":""},{"$f":"IF(LEN('1 - Opstart Importark'!$B$23)>0,'1 - Opstart Importark'!$B$23,\"\")","v":""},{"$nulls":14},"",{"$nulls":8},0,"","","objektnogle_"]
[420,null,{"$f":"IF('1 - Opstart Importark'!$B$6=\"\",\"\",(IF('1 - Opstart Importark'!$B$15=\"\",CONCATENATE(LEFT('1 - Opstart Importark'!$B$3,1),(LEFT('1 - Opstart Importark'!$B$20,5)),MID('1 - Opstart Importark'!$B$20,5,2),LEFT('1 - Opstart Importark'!$B$28,3),IF(I432=\"\",\"\",\"-\"),I432,IF(K432=\"\",\"\",\"-\"),K432,IF(M432=\"\",\"\",\"-\"),M432),CONCATENATE(LEFT('1 - Opstart Importark'!$B$3,1),(LEFT('1 - Opstart Importark'!$B$15,5)),(LEFT('1 - Opstart Importark'!$B$18,3)),IF(I432=\"\",\"\",\"-\"),I432,IF(K432=\"\",\"\",\"-\"),K432,IF(M432=\"\",\"\",\"-\"),M432))))","v":""},null," ",{"$nulls":9},{"$f":"IF(LEN('1 - Opstart Importark'!$B$6)>0,'1 - Opstart Importark'!$B$6,\"\")","v":""},{"$f":"IF(LEN('1 - Opstart Importark'!$B$9)>0,'1 - Opstart Importark'!$B$9,\"\")","v":""},{"$f":"IF(LEN('1 - Opstart Importark'!$B$23)>0,'1 - Opstart Importark'!$B$23,\"\")","v":""},{"$nulls":14},"",{"$nulls":8},0,"","","objektnogle_"]
[421,null,{"$f":"IF('1 - Opstart Importark'!$B$6=\"\",\"\",(IF('1 - Opstart Importark'!$B$15=\"\",CONCATENATE(LEFT('1 - Opstart Importark'!$B$3,1),(LEFT('1 - Opstart Importark'!$B$20,5)),MID('1 - Opstart Importark'!$B$20,5,2),LEFT('1 - Opstart Importark'!$B$28,3),IF(I433=\"\",\"\",\"-\"),I433,IF(K433=\"\",\"\",\"-\"),K433,IF(M433=\"\",\"\",\"-\"),M433),CONCATENATE(LEFT('1 - Opstart Importark'!$B$3,1),(LEFT('1 - Opstart Importark'!$B$15,5)),(LEFT('1 - Opstart Importark'!$B$18,3)),IF(I433=\"\",\"\",\"-\"),I433,IF(K433=\"\",\"\",\"-\"),K433,IF(M433=\"\",\"\",\"-\"),M433))))","v":""},null," ",{"$nulls":9},{"$f":"IF(LEN('1 - Opstart Importark'!$B$6)>0,'1 - Opstart Importark'!$B$6,\"\")","v":""},{"$f":"IF(LEN('1 - Opstart Importark'!$B$9)>0,'1 - Opstart Importark'!$B$9,\"\")","v":""},{"$f":"IF(LEN('1 - Opstart Importark'!$B$23)>0,'1 - Opstart Importark'!$B$23,\"\")","v":""},{"$nulls":14},"",{"$nulls":8},0,"","","objektnogle_"]
[422,null,{"$f":"IF('1 - Opstart Importark'!$B$6=\"\",\"\",(IF('1 - Opstart Importark'!$B$15=\"\",CONCATENATE(LEFT('1 - Opstart Importark'!$B$3,1),(LEFT('1 - Opstart Importark'!$B$20,5)),MID('1 - Opstart Importark'!$B$20,5,2),LEFT('1 - Opstart Importark'!$B$28,3),IF(I434=\"\",\"\",\"-\"),I434,IF(K434=\"\",\"\",\"-\"),K434,IF(M434=\"\",\"\",\"-\"),M434),CONCATENATE(LEFT('1 - Opstart Importark'!$B$3,1),(LEFT('1 - Opstart Importark'!$B$15,5)),(LEFT('1 - Opstart Importark'!$B$18,3)),IF(I434=\"\",\"\",\"-\"),I434,IF(K434=\"\",\"\",\"-\"),K434,IF(M434=\"\",\"\",\"-\"),M434))))","v":""},null," ",{"$nulls":9},{"$f":"IF(LEN('1 - Opstart Importark'!$B$6)>0,'1 - Opstart Importark'!$B$6,\"\")","v":""},{"$f":"IF(LEN('1 - Opstart Importark'!$B$9)>0,'1 - Opstart Importark'!$B$9,\"\")","v":""},{"$f":"IF(LEN('1 - Opstart Importark'!$B$23)>0,'1 - Opstart Importark'!$B$23,\"\")","v":""},{"$nulls":14},"",{"$nulls":8},0,"","","objektnogle_"]
[423,null,{"$f":"IF('1 - Opstart Importark'!$B$6=\"\",\"\",(IF('1 - Opstart Importark'!$B$15=\"\",CONCATENATE(LEFT('1 - Opstart Importark'!$B$3,1),(LEFT('1 - Opstart Importark'!$B$20,5)),MID('1 - Opstart Importark'!$B$20,5,2),LEFT('1 - Opstart Importark'!$B$28,3),IF(I435=\"\",\"\",\"-\"),I435,IF(K435=\"\",\"\",\"-\"),K435,IF(M435=\"\",\"\",\"-\"),M435),CONCATENATE(LEFT('1 - Opstart Importark'!$B$3,1),(LEFT('1 - Opstart Importark'!$B$15,5)),(LEFT('1 - Opstart Importark'!$B$18,3)),IF(I435=\"\",\"\",\"-\"),I435,IF(K435=\"\",\"\",\"-\"),K435,IF(M435=\"\",\"\",\"-\"),M435))))","v":""},null," ",{"$nulls":9},{"$f":"IF(LEN('1 - Opstart Importark'!$B$6)>0,'1 - Opstart Importark'!$B$6,\"\")","v":""},{"$f":"IF(LEN('1 - Opstart Importark'!$B$9)>0,'1 - Opstart Importark'!$B$9,\"\")","v":""},{"$f":"IF(LEN('1 - Opstart Importark'!$B$23)>0,'1 - Opstart Importark'!$B$23,\"\")","v":""},{"$nulls":14},"",{"$nulls":8},0,"","","objektnogle_"]
[424,null,{"$f":"IF('1 - Opstart Importark'!$B$6=\"\",\"\",(IF('1 - Opstart Importark'!$B$15=\"\",CONCATENATE(LEFT('1 - Opstart Importark'!$B$3,1),(LEFT('1 - Opstart Importark'!$B$20,5)),MID('1 - Opstart Importark'!$B$20,5,2),LEFT('1 - Opstart Importark'!$B$28,3),IF(I436=\"\",\"\",\"-\"),I436,IF(K436=\"\",\"\",\"-\"),K436,IF(M436=\"\",\"\",\"-\"),M436),CONCATENATE(LEFT('1 - Opstart Importark'!$B$3,1),(LEFT('1 - Opstart Importark'!$B$15,5)),(LEFT('1 - Opstart Importark'!$B$18,3)),IF(I436=\"\",\"\",\"-\"),I436,IF(K436=\"\",\"\",\"-\"),K436,IF(M436=\"\",\"\",\"-\"),M436))))","v":""},null," ",{"$nulls":9},{"$f":"IF(LEN('1 - Opstart Importark'!$B$6)>0,'1 - Opstart Importark'!$B$6,\"\")","v":""},{"$f":"IF(LEN('1 - Opstart Importark'!$B$9)>0,'1 - Opstart Importark'!$B$9,\"\")","v":""},{"$f":"IF(LEN('1 - Opstart Importark'!$B$23)>0,'1 - Opstart Importark'!$B$23,\"\")","v":""},{"$nulls":14},"",{"$nulls":8},0,"","","objektnogle_"]
[425,null,{"$f":"IF('1 - Opstart Importark'!$B$6=\"\",\"\",(IF('1 - Opstart Importark'!$B$15=\"\",CONCATENATE(LEFT('1 - Opstart Importark'!$B$3,1),(LEFT('1 - Opstart Importark'!$B$20,5)),MID('1 - Opstart Importark'!$B$20,5,2),LEFT('1 - Opstart Importark'!$B$28,3),IF(I437=\"\",\"\",\"-\"),I437,IF(K437=\"\",\"\",\"-\"),K437,IF(M437=\"\",\"\",\"-\"),M437),CONCATENATE(LEFT('1 - Opstart Importark'!$B$3,1),(LEFT('1 - Opstart Importark'!$B$15,5)),(LEFT('1 - Opstart Importark'!$B$18,3)),IF(I437=\"\",\"\",\"-\"),I437,IF(K437=\"\",\"\",\"-\"),K437,IF(M437=\"\",\"\",\"-\"),M437))))","v":""},null," ",{"$nulls":9},{"$f":"IF(LEN('1 - Opstart Importark'!$B$6)>0,'1 - Opstart Importark'!$B$6,\"\")","v":""},{"$f":"IF(LEN('1 - Opstart Importark'!$B$9)>0,'1 - Opstart Importark'!$B$9,\"\")","v":""},{"$f":"IF(LEN('1 - Opstart Importark'!$B$23)>0,'1 - Opstart Importark'!$B$23,\"\")","v":""},{"$nulls":14},"",{"$nulls":8},0,"","","objektnogle_"]
[426,null,{"$f":"IF('1 - Opstart Importark'!$B$6=\"\",\"\",(IF('1 - Opstart Importark'!$B$15=\"\",CONCATENATE(LEFT('1 - Opstart Importark'!$B$3,1),(LEFT('1 - Opstart Importark'!$B$20,5)),MID('1 - Opstart Importark'!$B$20,5,2),LEFT('1 - Opstart Importark'!$B$28,3),IF(I438=\"\",\"\",\"-\"),I438,IF(K438=\"\",\"\",\"-\"),K438,IF(M438=\"\",\"\",\"-\"),M438),CONCATENATE(LEFT('1 - Opstart Importark'!$B$3,1),(LEFT('1 - Opstart Importark'!$B$15,5)),(LEFT('1 - Opstart Importark'!$B$18,3)),IF(I438=\"\",\"\",\"-\"),I438,IF(K438=\"\",\"\",\"-\"),K438,IF(M438=\"\",\"\",\"-\"),M438))))","v":""},null," ",{"$nulls":9},{"$f":"IF(LEN('1 - Opstart Importark'!$B$6)>0,'1 - Opstart Importark'!$B$6,\"\")","v":""},{"$f":"IF(LEN('1 - Opstart Importark'!$B$9)>0,'1 - Opstart Importark'!$B$9,\"\")","v":""},{"$f":"IF(LEN('1 - Opstart Importark'!$B$23)>0,'1 - Opstart Importark'!$B$23,\"\")","v":""},{"$nulls":14},"",{"$nulls":8},0,"","","objektnogle_"]
[427,null,{"$f":"IF('1 - Opstart Importark'!$B$6=\"\",\"\",(IF('1 - Opstart Importark'!$B$15=\"\",CONCATENATE(LEFT('1 - Opstart Importark'!$B$3,1),(LEFT('1 - Opstart Importark'!$B$20,5)),MID('1 - Opstart Importark'!$B$20,5,2),LEFT('1 - Opstart Importark'!$B$28,3),IF(I439=\"\",\"\",\"-\"),I439,IF(K439=\"\",\"\",\"-\"),K439,IF(M439=\"\",\"\",\"-\"),M439),CONCATENATE(LEFT('1 - Opstart Importark'!$B$3,1),(LEFT('1 - Opstart Importark'!$B$15,5)),(LEFT('1 - Opstart Importark'!$B$18,3)),IF(I439=\"\",\"\",\"-\"),I439,IF(K439=\"\",\"\",\"-\"),K439,IF(M439=\"\",\"\",\"-\"),M439))))","v":""},null," ",{"$nulls":9},{"$f":"IF(LEN('1 - Opstart Importark'!$B$6)>0,'1 - Opstart Importark'!$B$6,\"\")","v":""},{"$f":"IF(LEN('1 - Opstart Importark'!$B$9)>0,'1 - Opstart Importark'!$B$9,\"\")","v":""},{"$f":"IF(LEN('1 - Opstart Importark'!$B$23)>0,'1 - Opstart Importark'!$B$23,\"\")","v":""},{"$nulls":14},"",{"$nulls":8},0,"","","objektnogle_"]
[428,null,{"$f":"IF('1 - Opstart Importark'!$B$6=\"\",\"\",(IF('1 - Opstart Importark'!$B$15=\"\",CONCATENATE(LEFT('1 - Opstart Importark'!$B$3,1),(LEFT('1 - Opstart Importark'!$B$20,5)),MID('1 - Opstart Importark'!$B$20,5,2),LEFT('1 - Opstart Importark'!$B$28,3),IF(I440=\"\",\"\",\"-\"),I440,IF(K440=\"\",\"\",\"-\"),K440,IF(M440=\"\",\"\",\"-\"),M440),CONCATENATE(LEFT('1 - Opstart Importark'!$B$3,1),(LEFT('1 - Opstart Importark'!$B$15,5)),(LEFT('1 - Opstart Importark'!$B$18,3)),IF(I440=\"\",\"\",\"-\"),I440,IF(K440=\"\",\"\",\"-\"),K440,IF(M440=\"\",\"\",\"-\"),M440))))","v":""},null," ",{"$nulls":9},{"$f":"IF(LEN('1 - Opstart Importark'!$B$6)>0,'1 - Opstart Importark'!$B$6,\"\")","v":""},{"$f":"IF(LEN('1 - Opstart Importark'!$B$9)>0,'1 - Opstart Importark'!$B$9,\"\")","v":""},{"$f":"IF(LEN('1 - Opstart Importark'!$B$23)>0,'1 - Opstart Importark'!$B$23,\"\")","v":""},{"$nulls":14},"",{"$nulls":8},0,"","","objektnogle_"]
[429,null,{"$f":"IF('1 - Opstart Importark'!$B$6=\"\",\"\",(IF('1 - Opstart Importark'!$B$15=\"\",CONCATENATE(LEFT('1 - Opstart Importark'!$B$3,1),(LEFT('1 - Opstart Importark'!$B$20,5)),MID('1 - Opstart Importark'!$B$20,5,2),LEFT('1 - Opstart Importark'!$B$28,3),IF(I441=\"\",\"\",\"-\"),I441,IF(K441=\"\",\"\",\"-\"),K441,IF(M441=\"\",\"\",\"-\"),M441),CONCATENATE(LEFT('1 - Opstart Importark'!$B$3,1),(LEFT('1 - Opstart Importark'!$B$15,5)),(LEFT('1 - Opstart Importark'!$B$18,3)),IF(I441=\"\",\"\",\"-\"),I441,IF(K441=\"\",\"\",\"-\"),K441,IF(M441=\"\",\"\",\"-\"),M441))))","v":""},null," ",{"$nulls":9},{"$f":"IF(LEN('1 - Opstart Importark'!$B$6)>0,'1 - Opstart Importark'!$B$6,\"\")","v":""},{"$f":"IF(LEN('1 - Opstart Importark'!$B$9)>0,'1 - Opstart Importark'!$B$9,\"\")","v":""},{"$f":"IF(LEN('1 - Opstart Importark'!$B$23)>0,'1 - Opstart Importark'!$B$23,\"\")","v":""},{"$nulls":14},"",{"$nulls":8},0,"","","objektnogle_"]
[430,null,{"$f":"IF('1 - Opstart Importark'!$B$6=\"\",\"\",(IF('1 - Opstart Importark'!$B$15=\"\",CONCATENATE(LEFT('1 - Opstart Importark'!$B$3,1),(LEFT('1 - Opstart Importark'!$B$20,5)),MID('1 - Opstart Importark'!$B$20,5,2),LEFT('1 - Opstart Importark'!$B$28,3),IF(I442=\"\",\"\",\"-\"),I442,IF(K442=\"\",\"\",\"-\"),K442,IF(M442=\"\",\"\",\"-\"),M442),CONCATENATE(LEFT('1 - Opstart Importark'!$B$3,1),(LEFT('1 - Opstart Importark'!$B$15,5)),(LEFT('1 - Opstart Importark'!$B$18,3)),IF(I442=\"\",\"\",\"-\"),I442,IF(K442=\"\",\"\",\"-\"),K442,IF(M442=\"\",\"\",\"-\"),M442))))","v":""},null," ",{"$nulls":9},{"$f":"IF(LEN('1 - Opstart Importark'!$B$6)>0,'1 - Opstart Importark'!$B$6,\"\")","v":""},{"$f":"IF(LEN('1 - Opstart Importark'!$B$9)>0,'1 - Opstart Importark'!$B$9,\"\")","v":""},{"$f":"IF(LEN('1 - Opstart Importark'!$B$23)>0,'1 - Opstart Importark'!$B$23,\"\")","v":""},{"$nulls":14},"",{"$nulls":8},0,"","","objektnogle_"]
[431,null,{"$f":"IF('1 - Opstart Importark'!$B$6=\"\",\"\",(IF('1 - Opstart Importark'!$B$15=\"\",CONCATENATE(LEFT('1 - Opstart Importark'!$B$3,1),(LEFT('1 - Opstart Importark'!$B$20,5)),MID('1 - Opstart Importark'!$B$20,5,2),LEFT('1 - Opstart Importark'!$B$28,3),IF(I443=\"\",\"\",\"-\"),I443,IF(K443=\"\",\"\",\"-\"),K443,IF(M443=\"\",\"\",\"-\"),M443),CONCATENATE(LEFT('1 - Opstart Importark'!$B$3,1),(LEFT('1 - Opstart Importark'!$B$15,5)),(LEFT('1 - Opstart Importark'!$B$18,3)),IF(I443=\"\",\"\",\"-\"),I443,IF(K443=\"\",\"\",\"-\"),K443,IF(M443=\"\",\"\",\"-\"),M443))))","v":""},null," ",{"$nulls":9},{"$f":"IF(LEN('1 - Opstart Importark'!$B$6)>0,'1 - Opstart Importark'!$B$6,\"\")","v":""},{"$f":"IF(LEN('1 - Opstart Importark'!$B$9)>0,'1 - Opstart Importark'!$B$9,\"\")","v":""},{"$f":"IF(LEN('1 - Opstart Importark'!$B$23)>0,'1 - Opstart Importark'!$B$23,\"\")","v":""},{"$nulls":14},"",{"$nulls":8},0,"","","objektnogle_"]
[432,null,{"$f":"IF('1 - Opstart Importark'!$B$6=\"\",\"\",(IF('1 - Opstart Importark'!$B$15=\"\",CONCATENATE(LEFT('1 - Opstart Importark'!$B$3,1),(LEFT('1 - Opstart Importark'!$B$20,5)),MID('1 - Opstart Importark'!$B$20,5,2),LEFT('1 - Opstart Importark'!$B$28,3),IF(I444=\"\",\"\",\"-\"),I444,IF(K444=\"\",\"\",\"-\"),K444,IF(M444=\"\",\"\",\"-\"),M444),CONCATENATE(LEFT('1 - Opstart Importark'!$B$3,1),(LEFT('1 - Opstart Importark'!$B$15,5)),(LEFT('1 - Opstart Importark'!$B$18,3)),IF(I444=\"\",\"\",\"-\"),I444,IF(K444=\"\",\"\",\"-\"),K444,IF(M444=\"\",\"\",\"-\"),M444))))","v":""},null," ",{"$nulls":9},{"$f":"IF(LEN('1 - Opstart Importark'!$B$6)>0,'1 - Opstart Importark'!$B$6,\"\")","v":""},{"$f":"IF(LEN('1 - Opstart Importark'!$B$9)>0,'1 - Opstart Importark'!$B$9,\"\")","v":""},{"$f":"IF(LEN('1 - Opstart Importark'!$B$23)>0,'1 - Opstart Importark'!$B$23,\"\")","v":""},{"$nulls":14},"",{"$nulls":8},0,"","","objektnogle_"]
[433,null,{"$f":"IF('1 - Opstart Importark'!$B$6=\"\",\"\",(IF('1 - Opstart Importark'!$B$15=\"\",CONCATENATE(LEFT('1 - Opstart Importark'!$B$3,1),(LEFT('1 - Opstart Importark'!$B$20,5)),MID('1 - Opstart Importark'!$B$20,5,2),LEFT('1 - Opstart Importark'!$B$28,3),IF(I445=\"\",\"\",\"-\"),I445,IF(K445=\"\",\"\",\"-\"),K445,IF(M445=\"\",\"\",\"-\"),M445),CONCATENATE(LEFT('1 - Opstart Importark'!$B$3,1),(LEFT('1 - Opstart Importark'!$B$15,5)),(LEFT('1 - Opstart Importark'!$B$18,3)),IF(I445=\"\",\"\",\"-\"),I445,IF(K445=\"\",\"\",\"-\"),K445,IF(M445=\"\",\"\",\"-\"),M445))))","v":""},null," ",{"$nulls":9},{"$f":"IF(LEN('1 - Opstart Importark'!$B$6)>0,'1 - Opstart Importark'!$B$6,\"\")","v":""},{"$f":"IF(LEN('1 - Opstart Importark'!$B$9)>0,'1 - Opstart Importark'!$B$9,\"\")","v":""},{"$f":"IF(LEN('1 - Opstart Importark'!$B$23)>0,'1 - Opstart Importark'!$B$23,\"\")","v":""},{"$nulls":14},"",{"$nulls":8},0,"","","objektnogle_"]
[434,null,{"$f":"IF('1 - Opstart Importark'!$B$6=\"\",\"\",(IF('1 - Opstart Importark'!$B$15=\"\",CONCATENATE(LEFT('1 - Opstart Importark'!$B$3,1),(LEFT('1 - Opstart Importark'!$B$20,5)),MID('1 - Opstart Importark'!$B$20,5,2),LEFT('1 - Opstart Importark'!$B$28,3),IF(I446=\"\",\"\",\"-\"),I446,IF(K446=\"\",\"\",\"-\"),K446,IF(M446=\"\",\"\",\"-\"),M446),CONCATENATE(LEFT('1 - Opstart Importark'!$B$3,1),(LEFT('1 - Opstart Importark'!$B$15,5)),(LEFT('1 - Opstart Importark'!$B$18,3)),IF(I446=\"\",\"\",\"-\"),I446,IF(K446=\"\",\"\",\"-\"),K446,IF(M446=\"\",\"\",\"-\"),M446))))","v":""},null," ",{"$nulls":9},{"$f":"IF(LEN('1 - Opstart Importark'!$B$6)>0,'1 - Opstart Importark'!$B$6,\"\")","v":""},{"$f":"IF(LEN('1 - Opstart Importark'!$B$9)>0,'1 - Opstart Importark'!$B$9,\"\")","v":""},{"$f":"IF(LEN('1 - Opstart Importark'!$B$23)>0,'1 - Opstart Importark'!$B$23,\"\")","v":""},{"$nulls":14},"",{"$nulls":8},0,"","","objektnogle_"]
[435,null,{"$f":"IF('1 - Opstart Importark'!$B$6=\"\",\"\",(IF('1 - Opstart Importark'!$B$15=\"\",CONCATENATE(LEFT('1 - Opstart Importark'!$B$3,1),(LEFT('1 - Opstart Importark'!$B$20,5)),MID('1 - Opstart Importark'!$B$20,5,2),LEFT('1 - Opstart Importark'!$B$28,3),IF(I447=\"\",\"\",\"-\"),I447,IF(K447=\"\",\"\",\"-\"),K447,IF(M447=\"\",\"\",\"-\"),M447),CONCATENATE(LEFT('1 - Opstart Importark'!$B$3,1),(LEFT('1 - Opstart Importark'!$B$15,5)),(LEFT('1 - Opstart Importark'!$B$18,3)),IF(I447=\"\",\"\",\"-\"),I447,IF(K447=\"\",\"\",\"-\"),K447,IF(M447=\"\",\"\",\"-\"),M447))))","v":""},null," ",{"$nulls":9},{"$f":"IF(LEN('1 - Opstart Importark'!$B$6)>0,'1 - Opstart Importark'!$B$6,\"\")","v":""},{"$f":"IF(LEN('1 - Opstart Importark'!$B$9)>0,'1 - Opstart Importark'!$B$9,\"\")","v":""},{"$f":"IF(LEN('1 - Opstart Importark'!$B$23)>0,'1 - Opstart Importark'!$B$23,\"\")","v":""},{"$nulls":14},"",{"$nulls":8},0,"","","objektnogle_"]
[436,null,{"$f":"IF('1 - Opstart Importark'!$B$6=\"\",\"\",(IF('1 - Opstart Importark'!$B$15=\"\",CONCATENATE(LEFT('1 - Opstart Importark'!$B$3,1),(LEFT('1 - Opstart Importark'!$B$20,5)),MID('1 - Opstart Importark'!$B$20,5,2),LEFT('1 - Opstart Importark'!$B$28,3),IF(I448=\"\",\"\",\"-\"),I448,IF(K448=\"\",\"\",\"-\"),K448,IF(M448=\"\",\"\",\"-\"),M448),CONCATENATE(LEFT('1 - Opstart Importark'!$B$3,1),(LEFT('1 - Opstart Importark'!$B$15,5)),(LEFT('1 - Opstart Importark'!$B$18,3)),IF(I448=\"\",\"\",\"-\"),I448,IF(K448=\"\",\"\",\"-\"),K448,IF(M448=\"\",\"\",\"-\"),M448))))","v":""},null," ",{"$nulls":9},{"$f":"IF(LEN('1 - Opstart Importark'!$B$6)>0,'1 - Opstart Importark'!$B$6,\"\")","v":""},{"$f":"IF(LEN('1 - Opstart Importark'!$B$9)>0,'1 - Opstart Importark'!$B$9,\"\")","v":""},{"$f":"IF(LEN('1 - Opstart Importark'!$B$23)>0,'1 - Opstart Importark'!$B$23,\"\")","v":""},{"$nulls":14},"",{"$nulls":8},0,"","","objektnogle_"]
[437,null,{"$f":"IF('1 - Opstart Importark'!$B$6=\"\",\"\",(IF('1 - Opstart Importark'!$B$15=\"\",CONCATENATE(LEFT('1 - Opstart Importark'!$B$3,1),(LEFT('1 - Opstart Importark'!$B$20,5)),MID('1 - Opstart Importark'!$B$20,5,2),LEFT('1 - Opstart Importark'!$B$28,3),IF(I449=\"\",\"\",\"-\"),I449,IF(K449=\"\",\"\",\"-\"),K449,IF(M449=\"\",\"\",\"-\"),M449),CONCATENATE(LEFT('1 - Opstart Importark'!$B$3,1),(LEFT('1 - Opstart Importark'!$B$15,5)),(LEFT('1 - Opstart Importark'!$B$18,3)),IF(I449=\"\",\"\",\"-\"),I449,IF(K449=\"\",\"\",\"-\"),K449,IF(M449=\"\",\"\",\"-\"),M449))))","v":""},null," ",{"$nulls":9},{"$f":"IF(LEN('1 - Opstart Importark'!$B$6)>0,'1 - Opstart Importark'!$B$6,\"\")","v":""},{"$f":"IF(LEN('1 - Opstart Importark'!$B$9)>0,'1 - Opstart Importark'!$B$9,\"\")","v":""},{"$f":"IF(LEN('1 - Opstart Importark'!$B$23)>0,'1 - Opstart Importark'!$B$23,\"\")","v":""},{"$nulls":14},"",{"$nulls":8},0,"","","objektnogle_"]
[438,null,{"$f":"IF('1 - Opstart Importark'!$B$6=\"\",\"\",(IF('1 - Opstart Importark'!$B$15=\"\",CONCATENATE(LEFT('1 - Opstart Importark'!$B$3,1),(LEFT('1 - Opstart Importark'!$B$20,5)),MID('1 - Opstart Importark'!$B$20,5,2),LEFT('1 - Opstart Importark'!$B$28,3),IF(I450=\"\",\"\",\"-\"),I450,IF(K450=\"\",\"\",\"-\"),K450,IF(M450=\"\",\"\",\"-\"),M450),CONCATENATE(LEFT('1 - Opstart Importark'!$B$3,1),(LEFT('1 - Opstart Importark'!$B$15,5)),(LEFT('1 - Opstart Importark'!$B$18,3)),IF(I450=\"\",\"\",\"-\"),I450,IF(K450=\"\",\"\",\"-\"),K450,IF(M450=\"\",\"\",\"-\"),M450))))","v":""},null," ",{"$nulls":9},{"$f":"IF(LEN('1 - Opstart Importark'!$B$6)>0,'1 - Opstart Importark'!$B$6,\"\")","v":""},{"$f":"IF(LEN('1 - Opstart Importark'!$B$9)>0,'1 - Opstart Importark'!$B$9,\"\")","v":""},{"$f":"IF(LEN('1 - Opstart Importark'!$B$23)>0,'1 - Opstart Importark'!$B$23,\"\")","v":""},{"$nulls":14},"",{"$nulls":8},0,"","","objektnogle_"]
[439,null,{"$f":"IF('1 - Opstart Importark'!$B$6=\"\",\"\",(IF('1 - Opstart Importark'!$B$15=\"\",CONCATENATE(LEFT('1 - Opstart Importark'!$B$3,1),(LEFT('1 - Opstart Importark'!$B$20,5)),MID('1 - Opstart Importark'!$B$20,5,2),LEFT('1 - Opstart Importark'!$B$28,3),IF(I451=\"\",\"\",\"-\"),I451,IF(K451=\"\",\"\",\"-\"),K451,IF(M451=\"\",\"\",\"-\"),M451),CONCATENATE(LEFT('1 - Opstart Importark'!$B$3,1),(LEFT('1 - Opstart Importark'!$B$15,5)),(LEFT('1 - Opstart Importark'!$B$18,3)),IF(I451=\"\",\"\",\"-\"),I451,IF(K451=\"\",\"\",\"-\"),K451,IF(M451=\"\",\"\",\"-\"),M451))))","v":""},null," ",{"$nulls":9},{"$f":"IF(LEN('1 - Opstart Importark'!$B$6)>0,'1 - Opstart Importark'!$B$6,\"\")","v":""},{"$f":"IF(LEN('1 - Opstart Importark'!$B$9)>0,'1 - Opstart Importark'!$B$9,\"\")","v":""},{"$f":"IF(LEN('1 - Opstart Importark'!$B$23)>0,'1 - Opstart Importark'!$B$23,\"\")","v":""},{"$nulls":14},"",{"$nulls":8},0,"","","objektnogle_"]
[440,null,{"$f":"IF('1 - Opstart Importark'!$B$6=\"\",\"\",(IF('1 - Opstart Importark'!$B$15=\"\",CONCATENATE(LEFT('1 - Opstart Importark'!$B$3,1),(LEFT('1 - Opstart Importark'!$B$20,5)),MID('1 - Opstart Importark'!$B$20,5,2),LEFT('1 - Opstart Importark'!$B$28,3),IF(I452=\"\",\"\",\"-\"),I452,IF(K452=\"\",\"\",\"-\"),K452,IF(M452=\"\",\"\",\"-\"),M452),CONCATENATE(LEFT('1 - Opstart Importark'!$B$3,1),(LEFT('1 - Opstart Importark'!$B$15,5)),(LEFT('1 - Opstart Importark'!$B$18,3)),IF(I452=\"\",\"\",\"-\"),I452,IF(K452=\"\",\"\",\"-\"),K452,IF(M452=\"\",\"\",\"-\"),M452))))","v":""},null," ",{"$nulls":9},{"$f":"IF(LEN('1 - Opstart Importark'!$B$6)>0,'1 - Opstart Importark'!$B$6,\"\")","v":""},{"$f":"IF(LEN('1 - Opstart Importark'!$B$9)>0,'1 - Opstart Importark'!$B$9,\"\")","v":""},{"$f":"IF(LEN('1 - Opstart Importark'!$B$23)>0,'1 - Opstart Importark'!$B$23,\"\")","v":""},{"$nulls":14},"",{"$nulls":8},0,"","","objektnogle_"]
[441,null,{"$f":"IF('1 - Opstart Importark'!$B$6=\"\",\"\",(IF('1 - Opstart Importark'!$B$15=\"\",CONCATENATE(LEFT('1 - Opstart Importark'!$B$3,1),(LEFT('1 - Opstart Importark'!$B$20,5)),MID('1 - Opstart Importark'!$B$20,5,2),LEFT('1 - Opstart Importark'!$B$28,3),IF(I453=\"\",\"\",\"-\"),I453,IF(K453=\"\",\"\",\"-\"),K453,IF(M453=\"\",\"\",\"-\"),M453),CONCATENATE(LEFT('1 - Opstart Importark'!$B$3,1),(LEFT('1 - Opstart Importark'!$B$15,5)),(LEFT('1 - Opstart Importark'!$B$18,3)),IF(I453=\"\",\"\",\"-\"),I453,IF(K453=\"\",\"\",\"-\"),K453,IF(M453=\"\",\"\",\"-\"),M453))))","v":""},null," ",{"$nulls":9},{"$f":"IF(LEN('1 - Opstart Importark'!$B$6)>0,'1 - Opstart Importark'!$B$6,\"\")","v":""},{"$f":"IF(LEN('1 - Opstart Importark'!$B$9)>0,'1 - Opstart Importark'!$B$9,\"\")","v":""},{"$f":"IF(LEN('1 - Opstart Importark'!$B$23)>0,'1 - Opstart Importark'!$B$23,\"\")","v":""},{"$nulls":14},"",{"$nulls":8},0,"","","objektnogle_"]
[442,null,{"$f":"IF('1 - Opstart Importark'!$B$6=\"\",\"\",(IF('1 - Opstart Importark'!$B$15=\"\",CONCATENATE(LEFT('1 - Opstart Importark'!$B$3,1),(LEFT('1 - Opstart Importark'!$B$20,5)),MID('1 - Opstart Importark'!$B$20,5,2),LEFT('1 - Opstart Importark'!$B$28,3),IF(I454=\"\",\"\",\"-\"),I454,IF(K454=\"\",\"\",\"-\"),K454,IF(M454=\"\",\"\",\"-\"),M454),CONCATENATE(LEFT('1 - Opstart Importark'!$B$3,1),(LEFT('1 - Opstart Importark'!$B$15,5)),(LEFT('1 - Opstart Importark'!$B$18,3)),IF(I454=\"\",\"\",\"-\"),I454,IF(K454=\"\",\"\",\"-\"),K454,IF(M454=\"\",\"\",\"-\"),M454))))","v":""},null," ",{"$nulls":9},{"$f":"IF(LEN('1 - Opstart Importark'!$B$6)>0,'1 - Opstart Importark'!$B$6,\"\")","v":""},{"$f":"IF(LEN('1 - Opstart Importark'!$B$9)>0,'1 - Opstart Importark'!$B$9,\"\")","v":""},{"$f":"IF(LEN('1 - Opstart Importark'!$B$23)>0,'1 - Opstart Importark'!$B$23,\"\")","v":""},{"$nulls":14},"",{"$nulls":8},0,"","","objektnogle_"]
[443,null,{"$f":"IF('1 - Opstart Importark'!$B$6=\"\",\"\",(IF('1 - Opstart Importark'!$B$15=\"\",CONCATENATE(LEFT('1 - Opstart Importark'!$B$3,1),(LEFT('1 - Opstart Importark'!$B$20,5)),MID('1 - Opstart Importark'!$B$20,5,2),LEFT('1 - Opstart Importark'!$B$28,3),IF(I455=\"\",\"\",\"-\"),I455,IF(K455=\"\",\"\",\"-\"),K455,IF(M455=\"\",\"\",\"-\"),M455),CONCATENATE(LEFT('1 - Opstart Importark'!$B$3,1),(LEFT('1 - Opstart Importark'!$B$15,5)),(LEFT('1 - Opstart Importark'!$B$18,3)),IF(I455=\"\",\"\",\"-\"),I455,IF(K455=\"\",\"\",\"-\"),K455,IF(M455=\"\",\"\",\"-\"),M455))))","v":""},null," ",{"$nulls":9},{"$f":"IF(LEN('1 - Opstart Importark'!$B$6)>0,'1 - Opstart Importark'!$B$6,\"\")","v":""},{"$f":"IF(LEN('1 - Opstart Importark'!$B$9)>0,'1 - Opstart Importark'!$B$9,\"\")","v":""},{"$f":"IF(LEN('1 - Opstart Importark'!$B$23)>0,'1 - Opstart Importark'!$B$23,\"\")","v":""},{"$nulls":14},"",{"$nulls":8},0,"","","objektnogle_"]
[444,null,{"$f":"IF('1 - Opstart Importark'!$B$6=\"\",\"\",(IF('1 - Opstart Importark'!$B$15=\"\",CONCATENATE(LEFT('1 - Opstart Importark'!$B$3,1),(LEFT('1 - Opstart Importark'!$B$20,5)),MID('1 - Opstart Importark'!$B$20,5,2),LEFT('1 - Opstart Importark'!$B$28,3),IF(I456=\"\",\"\",\"-\"),I456,IF(K456=\"\",\"\",\"-\"),K456,IF(M456=\"\",\"\",\"-\"),M456),CONCATENATE(LEFT('1 - Opstart Importark'!$B$3,1),(LEFT('1 - Opstart Importark'!$B$15,5)),(LEFT('1 - Opstart Importark'!$B$18,3)),IF(I456=\"\",\"\",\"-\"),I456,IF(K456=\"\",\"\",\"-\"),K456,IF(M456=\"\",\"\",\"-\"),M456))))","v":""},null," ",{"$nulls":9},{"$f":"IF(LEN('1 - Opstart Importark'!$B$6)>0,'1 - Opstart Importark'!$B$6,\"\")","v":""},{"$f":"IF(LEN('1 - Opstart Importark'!$B$9)>0,'1 - Opstart Importark'!$B$9,\"\")","v":""},{"$f":"IF(LEN('1 - Opstart Importark'!$B$23)>0,'1 - Opstart Importark'!$B$23,\"\")","v":""},{"$nulls":14},"",{"$nulls":8},0,"","","objektnogle_"]
[445,null,{"$f":"IF('1 - Opstart Importark'!$B$6=\"\",\"\",(IF('1 - Opstart Importark'!$B$15=\"\",CONCATENATE(LEFT('1 - Opstart Importark'!$B$3,1),(LEFT('1 - Opstart Importark'!$B$20,5)),MID('1 - Opstart Importark'!$B$20,5,2),LEFT('1 - Opstart Importark'!$B$28,3),IF(I457=\"\",\"\",\"-\"),I457,IF(K457=\"\",\"\",\"-\"),K457,IF(M457=\"\",\"\",\"-\"),M457),CONCATENATE(LEFT('1 - Opstart Importark'!$B$3,1),(LEFT('1 - Opstart Importark'!$B$15,5)),(LEFT('1 - Opstart Importark'!$B$18,3)),IF(I457=\"\",\"\",\"-\"),I457,IF(K457=\"\",\"\",\"-\"),K457,IF(M457=\"\",\"\",\"-\"),M457))))","v":""},null," ",{"$nulls":9},{"$f":"IF(LEN('1 - Opstart Importark'!$B$6)>0,'1 - Opstart Importark'!$B$6,\"\")","v":""},{"$f":"IF(LEN('1 - Opstart Importark'!$B$9)>0,'1 - Opstart Importark'!$B$9,\"\")","v":""},{"$f":"IF(LEN('1 - Opstart Importark'!$B$23)>0,'1 - Opstart Importark'!$B$23,\"\")","v":""},{"$nulls":14},"",{"$nulls":8},0,"","","objektnogle_"]
[446,null,{"$f":"IF('1 - Opstart Importark'!$B$6=\"\",\"\",(IF('1 - Opstart Importark'!$B$15=\"\",CONCATENATE(LEFT('1 - Opstart Importark'!$B$3,1),(LEFT('1 - Opstart Importark'!$B$20,5)),MID('1 - Opstart Importark'!$B$20,5,2),LEFT('1 - Opstart Importark'!$B$28,3),IF(I458=\"\",\"\",\"-\"),I458,IF(K458=\"\",\"\",\"-\"),K458,IF(M458=\"\",\"\",\"-\"),M458),CONCATENATE(LEFT('1 - Opstart Importark'!$B$3,1),(LEFT('1 - Opstart Importark'!$B$15,5)),(LEFT('1 - Opstart Importark'!$B$18,3)),IF(I458=\"\",\"\",\"-\"),I458,IF(K458=\"\",\"\",\"-\"),K458,IF(M458=\"\",\"\",\"-\"),M458))))","v":""},null," ",{"$nulls":9},{"$f":"IF(LEN('1 - Opstart Importark'!$B$6)>0,'1 - Opstart Importark'!$B$6,\"\")","v":""},{"$f":"IF(LEN('1 - Opstart Importark'!$B$9)>0,'1 - Opstart Importark'!$B$9,\"\")","v":""},{"$f":"IF(LEN('1 - Opstart Importark'!$B$23)>0,'1 - Opstart Importark'!$B$23,\"\")","v":""},{"$nulls":14},"",{"$nulls":8},0,"","","objektnogle_"]
[447,null,{"$f":"IF('1 - Opstart Importark'!$B$6=\"\",\"\",(IF('1 - Opstart Importark'!$B$15=\"\",CONCATENATE(LEFT('1 - Opstart Importark'!$B$3,1),(LEFT('1 - Opstart Importark'!$B$20,5)),MID('1 - Opstart Importark'!$B$20,5,2),LEFT('1 - Opstart Importark'!$B$28,3),IF(I459=\"\",\"\",\"-\"),I459,IF(K459=\"\",\"\",\"-\"),K459,IF(M459=\"\",\"\",\"-\"),M459),CONCATENATE(LEFT('1 - Opstart Importark'!$B$3,1),(LEFT('1 - Opstart Importark'!$B$15,5)),(LEFT('1 - Opstart Importark'!$B$18,3)),IF(I459=\"\",\"\",\"-\"),I459,IF(K459=\"\",\"\",\"-\"),K459,IF(M459=\"\",\"\",\"-\"),M459))))","v":""},null," ",{"$nulls":9},{"$f":"IF(LEN('1 - Opstart Importark'!$B$6)>0,'1 - Opstart Importark'!$B$6,\"\")","v":""},{"$f":"IF(LEN('1 - Opstart Importark'!$B$9)>0,'1 - Opstart Importark'!$B$9,\"\")","v":""},{"$f":"IF(LEN('1 - Opstart Importark'!$B$23)>0,'1 - Opstart Importark'!$B$23,\"\")","v":""},{"$nulls":14},"",{"$nulls":8},0,"","","objektnogle_"]
[448,null,{"$f":"IF('1 - Opstart Importark'!$B$6=\"\",\"\",(IF('1 - Opstart Importark'!$B$15=\"\",CONCATENATE(LEFT('1 - Opstart Importark'!$B$3,1),(LEFT('1 - Opstart Importark'!$B$20,5)),MID('1 - Opstart Importark'!$B$20,5,2),LEFT('1 - Opstart Importark'!$B$28,3),IF(I460=\"\",\"\",\"-\"),I460,IF(K460=\"\",\"\",\"-\"),K460,IF(M460=\"\",\"\",\"-\"),M460),CONCATENATE(LEFT('1 - Opstart Importark'!$B$3,1),(LEFT('1 - Opstart Importark'!$B$15,5)),(LEFT('1 - Opstart Importark'!$B$18,3)),IF(I460=\"\",\"\",\"-\"),I460,IF(K460=\"\",\"\",\"-\"),K460,IF(M460=\"\",\"\",\"-\"),M460))))","v":""},null," ",{"$nulls":9},{"$f":"IF(LEN('1 - Opstart Importark'!$B$6)>0,'1 - Opstart Importark'!$B$6,\"\")","v":""},{"$f":"IF(LEN('1 - Opstart Importark'!$B$9)>0,'1 - Opstart Importark'!$B$9,\"\")","v":""},{"$f":"IF(LEN('1 - Opstart Importark'!$B$23)>0,'1 - Opstart Importark'!$B$23,\"\")","v":""},{"$nulls":14},"",{"$nulls":8},0,"","","objektnogle_"]
[449,null,{"$f":"IF('1 - Opstart Importark'!$B$6=\"\",\"\",(IF('1 - Opstart Importark'!$B$15=\"\",CONCATENATE(LEFT('1 - Opstart Importark'!$B$3,1),(LEFT('1 - Opstart Importark'!$B$20,5)),MID('1 - Opstart Importark'!$B$20,5,2),LEFT('1 - Opstart Importark'!$B$28,3),IF(I461=\"\",\"\",\"-\"),I461,IF(K461=\"\",\"\",\"-\"),K461,IF(M461=\"\",\"\",\"-\"),M461),CONCATENATE(LEFT('1 - Opstart Importark'!$B$3,1),(LEFT('1 - Opstart Importark'!$B$15,5)),(LEFT('1 - Opstart Importark'!$B$18,3)),IF(I461=\"\",\"\",\"-\"),I461,IF(K461=\"\",\"\",\"-\"),K461,IF(M461=\"\",\"\",\"-\"),M461))))","v":""},null," ",{"$nulls":9},{"$f":"IF(LEN('1 - Opstart Importark'!$B$6)>0,'1 - Opstart Importark'!$B$6,\"\")","v":""},{"$f":"IF(LEN('1 - Opstart Importark'!$B$9)>0,'1 - Opstart Importark'!$B$9,\"\")","v":""},{"$f":"IF(LEN('1 - Opstart Importark'!$B$23)>0,'1 - Opstart Importark'!$B$23,\"\")","v":""},{"$nulls":14},{"$f":"IF(K461=\"\",\"\",VLOOKUP(LEFT(K461,1),objektfilter,2))","v":""},{"$nulls":8},{"$f":"IFERROR(FIND(\".\",F461),)","v":0},"","","objektnogle_"]
[450,null,{"$f":"IF('1 - Opstart Importark'!$B$6=\"\",\"\",(IF('1 - Opstart Importark'!$B$15=\"\",CONCATENATE(LEFT('1 - Opstart Importark'!$B$3,1),(LEFT('1 - Opstart Importark'!$B$20,5)),MID('1 - Opstart Importark'!$B$20,5,2),LEFT('1 - Opstart Importark'!$B$28,3),IF(I462=\"\",\"\",\"-\"),I462,IF(K462=\"\",\"\",\"-\"),K462,IF(M462=\"\",\"\",\"-\"),M462),CONCATENATE(LEFT('1 - Opstart Importark'!$B$3,1),(LEFT('1 - Opstart Importark'!$B$15,5)),(LEFT('1 - Opstart Importark'!$B$18,3)),IF(I462=\"\",\"\",\"-\"),I462,IF(K462=\"\",\"\",\"-\"),K462,IF(M462=\"\",\"\",\"-\"),M462))))","v":""},null," ",{"$nulls":9},{"$f":"IF(LEN('1 - Opstart Importark'!$B$6)>0,'1 - Opstart Importark'!$B$6,\"\")","v":""},{"$f":"IF(LEN('1 - Opstart Importark'!$B$9)>0,'1 - Opstart Importark'!$B$9,\"\")","v":""},{"$f":"IF(LEN('1 - Opstart Importark'!$B$23)>0,'1 - Opstart Importark'!$B$23,\"\")","v":""},{"$nulls":14},"",{"$nulls":8},0,{"$f":"IF(K462=\"\",\"\",IF(LEFT(K462,1)=\"E\",0,1))","v":""},{"$f":"IF(K462=\"\",\"\",IF(LEFT(K462,1)=\"E\",0,1))","v":""},{"$f":"IF(W462=\"\", CONCATENATE(\"objektnogle_\",LEFT(AF462,1)),CONCATENATE(\"objektnogle_\",LEFT(W462,1)))","v":"objektnogle_"}]
[451,null,{"$f":"IF('1 - Opstart Importark'!$B$6=\"\",\"\",(IF('1 - Opstart Importark'!$B$15=\"\",CONCATENATE(LEFT('1 - Opstart Importark'!$B$3,1),(LEFT('1 - Opstart Importark'!$B$20,5)),MID('1 - Opstart Importark'!$B$20,5,2),LEFT('1 - Opstart Importark'!$B$28,3),IF(I463=\"\",\"\",\"-\"),I463,IF(K463=\"\",\"\",\"-\"),K463,IF(M463=\"\",\"\",\"-\"),M463),CONCATENATE(LEFT('1 - Opstart Importark'!$B$3,1),(LEFT('1 - Opstart Importark'!$B$15,5)),(LEFT('1 - Opstart Importark'!$B$18,3)),IF(I463=\"\",\"\",\"-\"),I463,IF(K463=\"\",\"\",\"-\"),K463,IF(M463=\"\",\"\",\"-\"),M463))))","v":""},null," ",{"$nulls":9},{"$f":"IF(LEN('1 - Opstart Importark'!$B$6)>0,'1 - Opstart Importark'!$B$6,\"\")","v":""},{"$f":"IF(LEN('1 - Opstart Importark'!$B$9)>0,'1 - Opstart Importark'!$B$9,\"\")","v":""},{"$f":"IF(LEN('1 - Opstart Importark'!$B$23)>0,'1 - Opstart Importark'!$B$23,\"\")","v":""},{"$nulls":14},"",{"$nulls":8},0,"","","objektnogle_"]
[452,null,{"$f":"IF('1 - Opstart Importark'!$B$6=\"\",\"\",(IF('1 - Opstart Importark'!$B$15=\"\",CONCATENATE(LEFT('1 - Opstart Importark'!$B$3,1),(LEFT('1 - Opstart Importark'!$B$20,5)),MID('1 - Opstart Importark'!$B$20,5,2),LEFT('1 - Opstart Importark'!$B$28,3),IF(I464=\"\",\"\",\"-\"),I464,IF(K464=\"\",\"\",\"-\"),K464,IF(M464=\"\",\"\",\"-\"),M464),CONCATENATE(LEFT('1 - Opstart Importark'!$B$3,1),(LEFT('1 - Opstart Importark'!$B$15,5)),(LEFT('1 - Opstart Importark'!$B$18,3)),IF(I464=\"\",\"\",\"-\"),I464,IF(K464=\"\",\"\",\"-\"),K464,IF(M464=\"\",\"\",\"-\"),M464))))","v":""},null," ",{"$nulls":9},{"$f":"IF(LEN('1 - Opstart Importark'!$B$6)>0,'1 - Opstart Importark'!$B$6,\"\")","v":""},{"$f":"IF(LEN('1 - Opstart Importark'!$B$9)>0,'1 - Opstart Importark'!$B$9,\"\")","v":""},{"$f":"IF(LEN('1 - Opstart Importark'!$B$23)>0,'1 - Opstart Importark'!$B$23,\"\")","v":""},{"$nulls":14},"",{"$nulls":8},0,"","","objektnogle_"]
[453,null,{"$f":"IF('1 - Opstart Importark'!$B$6=\"\",\"\",(IF('1 - Opstart Importark'!$B$15=\"\",CONCATENATE(LEFT('1 - Opstart Importark'!$B$3,1),(LEFT('1 - Opstart Importark'!$B$20,5)),MID('1 - Opstart Importark'!$B$20,5,2),LEFT('1 - Opstart Importark'!$B$28,3),IF(I465=\"\",\"\",\"-\"),I465,IF(K465=\"\",\"\",\"-\"),K465,IF(M465=\"\",\"\",\"-\"),M465),CONCATENATE(LEFT('1 - Opstart Importark'!$B$3,1),(LEFT('1 - Opstart Importark'!$B$15,5)),(LEFT('1 - Opstart Importark'!$B$18,3)),IF(I465=\"\",\"\",\"-\"),I465,IF(K465=\"\",\"\",\"-\"),K465,IF(M465=\"\",\"\",\"-\"),M465))))","v":""},null," ",{"$nulls":9},{"$f":"IF(LEN('1 - Opstart Importark'!$B$6)>0,'1 - Opstart Importark'!$B$6,\"\")","v":""},{"$f":"IF(LEN('1 - Opstart Importark'!$B$9)>0,'1 - Opstart Importark'!$B$9,\"\")","v":""},{"$f":"IF(LEN('1 - Opstart Importark'!$B$23)>0,'1 - Opstart Importark'!$B$23,\"\")","v":""},{"$nulls":14},"",{"$nulls":8},0,"","","objektnogle_"]
[454,null,{"$f":"IF('1 - Opstart Importark'!$B$6=\"\",\"\",(IF('1 - Opstart Importark'!$B$15=\"\",CONCATENATE(LEFT('1 - Opstart Importark'!$B$3,1),(LEFT('1 - Opstart Importark'!$B$20,5)),MID('1 - Opstart Importark'!$B$20,5,2),LEFT('1 - Opstart Importark'!$B$28,3),IF(I466=\"\",\"\",\"-\"),I466,IF(K466=\"\",\"\",\"-\"),K466,IF(M466=\"\",\"\",\"-\"),M466),CONCATENATE(LEFT('1 - Opstart Importark'!$B$3,1),(LEFT('1 - Opstart Importark'!$B$15,5)),(LEFT('1 - Opstart Importark'!$B$18,3)),IF(I466=\"\",\"\",\"-\"),I466,IF(K466=\"\",\"\",\"-\"),K466,IF(M466=\"\",\"\",\"-\"),M466))))","v":""},null," ",{"$nulls":9},{"$f":"IF(LEN('1 - Opstart Importark'!$B$6)>0,'1 - Opstart Importark'!$B$6,\"\")","v":""},{"$f":"IF(LEN('1 - Opstart Importark'!$B$9)>0,'1 - Opstart Importark'!$B$9,\"\")","v":""},{"$f":"IF(LEN('1 - Opstart Importark'!$B$23)>0,'1 - Opstart Importark'!$B$23,\"\")","v":""},{"$nulls":14},"",{"$nulls":8},0,"","","objektnogle_"]
[455,null,{"$f":"IF('1 - Opstart Importark'!$B$6=\"\",\"\",(IF('1 - Opstart Importark'!$B$15=\"\",CONCATENATE(LEFT('1 - Opstart Importark'!$B$3,1),(LEFT('1 - Opstart Importark'!$B$20,5)),MID('1 - Opstart Importark'!$B$20,5,2),LEFT('1 - Opstart Importark'!$B$28,3),IF(I467=\"\",\"\",\"-\"),I467,IF(K467=\"\",\"\",\"-\"),K467,IF(M467=\"\",\"\",\"-\"),M467),CONCATENATE(LEFT('1 - Opstart Importark'!$B$3,1),(LEFT('1 - Opstart Importark'!$B$15,5)),(LEFT('1 - Opstart Importark'!$B$18,3)),IF(I467=\"\",\"\",\"-\"),I467,IF(K467=\"\",\"\",\"-\"),K467,IF(M467=\"\",\"\",\"-\"),M467))))","v":""},null," ",{"$nulls":9},{"$f":"IF(LEN('1 - Opstart Importark'!$B$6)>0,'1 - Opstart Importark'!$B$6,\"\")","v":""},{"$f":"IF(LEN('1 - Opstart Importark'!$B$9)>0,'1 - Opstart Importark'!$B$9,\"\")","v":""},{"$f":"IF(LEN('1 - Opstart Importark'!$B$23)>0,'1 - Opstart Importark'!$B$23,\"\")","v":""},{"$nulls":14},"",{"$nulls":8},0,"","","objektnogle_"]
[456,null,{"$f":"IF('1 - Opstart Importark'!$B$6=\"\",\"\",(IF('1 - Opstart Importark'!$B$15=\"\",CONCATENATE(LEFT('1 - Opstart Importark'!$B$3,1),(LEFT('1 - Opstart Importark'!$B$20,5)),MID('1 - Opstart Importark'!$B$20,5,2),LEFT('1 - Opstart Importark'!$B$28,3),IF(I468=\"\",\"\",\"-\"),I468,IF(K468=\"\",\"\",\"-\"),K468,IF(M468=\"\",\"\",\"-\"),M468),CONCATENATE(LEFT('1 - Opstart Importark'!$B$3,1),(LEFT('1 - Opstart Importark'!$B$15,5)),(LEFT('1 - Opstart Importark'!$B$18,3)),IF(I468=\"\",\"\",\"-\"),I468,IF(K468=\"\",\"\",\"-\"),K468,IF(M468=\"\",\"\",\"-\"),M468))))","v":""},null," ",{"$nulls":9},{"$f":"IF(LEN('1 - Opstart Importark'!$B$6)>0,'1 - Opstart Importark'!$B$6,\"\")","v":""},{"$f":"IF(LEN('1 - Opstart Importark'!$B$9)>0,'1 - Opstart Importark'!$B$9,\"\")","v":""},{"$f":"IF(LEN('1 - Opstart Importark'!$B$23)>0,'1 - Opstart Importark'!$B$23,\"\")","v":""},{"$nulls":14},"",{"$nulls":8},0,"","","objektnogle_"]
[457,null,{"$f":"IF('1 - Opstart Importark'!$B$6=\"\",\"\",(IF('1 - Opstart Importark'!$B$15=\"\",CONCATENATE(LEFT('1 - Opstart Importark'!$B$3,1),(LEFT('1 - Opstart Importark'!$B$20,5)),MID('1 - Opstart Importark'!$B$20,5,2),LEFT('1 - Opstart Importark'!$B$28,3),IF(I469=\"\",\"\",\"-\"),I469,IF(K469=\"\",\"\",\"-\"),K469,IF(M469=\"\",\"\",\"-\"),M469),CONCATENATE(LEFT('1 - Opstart Importark'!$B$3,1),(LEFT('1 - Opstart Importark'!$B$15,5)),(LEFT('1 - Opstart Importark'!$B$18,3)),IF(I469=\"\",\"\",\"-\"),I469,IF(K469=\"\",\"\",\"-\"),K469,IF(M469=\"\",\"\",\"-\"),M469))))","v":""},null," ",{"$nulls":9},{"$f":"IF(LEN('1 - Opstart Importark'!$B$6)>0,'1 - Opstart Importark'!$B$6,\"\")","v":""},{"$f":"IF(LEN('1 - Opstart Importark'!$B$9)>0,'1 - Opstart Importark'!$B$9,\"\")","v":""},{"$f":"IF(LEN('1 - Opstart Importark'!$B$23)>0,'1 - Opstart Importark'!$B$23,\"\")","v":""},{"$nulls":14},"",{"$nulls":8},0,"","","objektnogle_"]
[458,null,{"$f":"IF('1 - Opstart Importark'!$B$6=\"\",\"\",(IF('1 - Opstart Importark'!$B$15=\"\",CONCATENATE(LEFT('1 - Opstart Importark'!$B$3,1),(LEFT('1 - Opstart Importark'!$B$20,5)),MID('1 - Opstart Importark'!$B$20,5,2),LEFT('1 - Opstart Importark'!$B$28,3),IF(I470=\"\",\"\",\"-\"),I470,IF(K470=\"\",\"\",\"-\"),K470,IF(M470=\"\",\"\",\"-\"),M470),CONCATENATE(LEFT('1 - Opstart Importark'!$B$3,1),(LEFT('1 - Opstart Importark'!$B$15,5)),(LEFT('1 - Opstart Importark'!$B$18,3)),IF(I470=\"\",\"\",\"-\"),I470,IF(K470=\"\",\"\",\"-\"),K470,IF(M470=\"\",\"\",\"-\"),M470))))","v":""},null," ",{"$nulls":9},{"$f":"IF(LEN('1 - Opstart Importark'!$B$6)>0,'1 - Opstart Importark'!$B$6,\"\")","v":""},{"$f":"IF(LEN('1 - Opstart Importark'!$B$9)>0,'1 - Opstart Importark'!$B$9,\"\")","v":""},{"$f":"IF(LEN('1 - Opstart Importark'!$B$23)>0,'1 - Opstart Importark'!$B$23,\"\")","v":""},{"$nulls":14},"",{"$nulls":8},0,"","","objektnogle_"]
[459,null,{"$f":"IF('1 - Opstart Importark'!$B$6=\"\",\"\",(IF('1 - Opstart Importark'!$B$15=\"\",CONCATENATE(LEFT('1 - Opstart Importark'!$B$3,1),(LEFT('1 - Opstart Importark'!$B$20,5)),MID('1 - Opstart Importark'!$B$20,5,2),LEFT('1 - Opstart Importark'!$B$28,3),IF(I471=\"\",\"\",\"-\"),I471,IF(K471=\"\",\"\",\"-\"),K471,IF(M471=\"\",\"\",\"-\"),M471),CONCATENATE(LEFT('1 - Opstart Importark'!$B$3,1),(LEFT('1 - Opstart Importark'!$B$15,5)),(LEFT('1 - Opstart Importark'!$B$18,3)),IF(I471=\"\",\"\",\"-\"),I471,IF(K471=\"\",\"\",\"-\"),K471,IF(M471=\"\",\"\",\"-\"),M471))))","v":""},null," ",{"$nulls":9},{"$f":"IF(LEN('1 - Opstart Importark'!$B$6)>0,'1 - Opstart Importark'!$B$6,\"\")","v":""},{"$f":"IF(LEN('1 - Opstart Importark'!$B$9)>0,'1 - Opstart Importark'!$B$9,\"\")","v":""},{"$f":"IF(LEN('1 - Opstart Importark'!$B$23)>0,'1 - Opstart Importark'!$B$23,\"\")","v":""},{"$nulls":14},"",{"$nulls":8},0,"","","objektnogle_"]
[460,null,{"$f":"IF('1 - Opstart Importark'!$B$6=\"\",\"\",(IF('1 - Opstart Importark'!$B$15=\"\",CONCATENATE(LEFT('1 - Opstart Importark'!$B$3,1),(LEFT('1 - Opstart Importark'!$B$20,5)),MID('1 - Opstart Importark'!$B$20,5,2),LEFT('1 - Opstart Importark'!$B$28,3),IF(I472=\"\",\"\",\"-\"),I472,IF(K472=\"\",\"\",\"-\"),K472,IF(M472=\"\",\"\",\"-\"),M472),CONCATENATE(LEFT('1 - Opstart Importark'!$B$3,1),(LEFT('1 - Opstart Importark'!$B$15,5)),(LEFT('1 - Opstart Importark'!$B$18,3)),IF(I472=\"\",\"\",\"-\"),I472,IF(K472=\"\",\"\",\"-\"),K472,IF(M472=\"\",\"\",\"-\"),M472))))","v":""},null," ",{"$nulls":9},{"$f":"IF(LEN('1 - Opstart Importark'!$B$6)>0,'1 - Opstart Importark'!$B$6,\"\")","v":""},{"$f":"IF(LEN('1 - Opstart Importark'!$B$9)>0,'1 - Opstart Importark'!$B$9,\"\")","v":""},{"$f":"IF(LEN('1 - Opstart Importark'!$B$23)>0,'1 - Opstart Importark'!$B$23,\"\")","v":""},{"$nulls":14},"",{"$nulls":8},0,"","","objektnogle_"]
[461,null,{"$f":"IF('1 - Opstart Importark'!$B$6=\"\",\"\",(IF('1 - Opstart Importark'!$B$15=\"\",CONCATENATE(LEFT('1 - Opstart Importark'!$B$3,1),(LEFT('1 - Opstart Importark'!$B$20,5)),MID('1 - Opstart Importark'!$B$20,5,2),LEFT('1 - Opstart Importark'!$B$28,3),IF(I473=\"\",\"\",\"-\"),I473,IF(K473=\"\",\"\",\"-\"),K473,IF(M473=\"\",\"\",\"-\"),M473),CONCATENATE(LEFT('1 - Opstart Importark'!$B$3,1),(LEFT('1 - Opstart Importark'!$B$15,5)),(LEFT('1 - Opstart Importark'!$B$18,3)),IF(I473=\"\",\"\",\"-\"),I473,IF(K473=\"\",\"\",\"-\"),K473,IF(M473=\"\",\"\",\"-\"),M473))))","v":""},null," ",{"$nulls":9},{"$f":"IF(LEN('1 - Opstart Importark'!$B$6)>0,'1 - Opstart Importark'!$B$6,\"\")","v":""},{"$f":"IF(LEN('1 - Opstart Importark'!$B$9)>0,'1 - Opstart Importark'!$B$9,\"\")","v":""},{"$f":"IF(LEN('1 - Opstart Importark'!$B$23)>0,'1 - Opstart Importark'!$B$23,\"\")","v":""},{"$nulls":14},"",{"$nulls":8},0,"","","objektnogle_"]
[462,null,{"$f":"IF('1 - Opstart Importark'!$B$6=\"\",\"\",(IF('1 - Opstart Importark'!$B$15=\"\",CONCATENATE(LEFT('1 - Opstart Importark'!$B$3,1),(LEFT('1 - Opstart Importark'!$B$20,5)),MID('1 - Opstart Importark'!$B$20,5,2),LEFT('1 - Opstart Importark'!$B$28,3),IF(I474=\"\",\"\",\"-\"),I474,IF(K474=\"\",\"\",\"-\"),K474,IF(M474=\"\",\"\",\"-\"),M474),CONCATENATE(LEFT('1 - Opstart Importark'!$B$3,1),(LEFT('1 - Opstart Importark'!$B$15,5)),(LEFT('1 - Opstart Importark'!$B$18,3)),IF(I474=\"\",\"\",\"-\"),I474,IF(K474=\"\",\"\",\"-\"),K474,IF(M474=\"\",\"\",\"-\"),M474))))","v":""},null," ",{"$nulls":9},{"$f":"IF(LEN('1 - Opstart Importark'!$B$6)>0,'1 - Opstart Importark'!$B$6,\"\")","v":""},{"$f":"IF(LEN('1 - Opstart Importark'!$B$9)>0,'1 - Opstart Importark'!$B$9,\"\")","v":""},{"$f":"IF(LEN('1 - Opstart Importark'!$B$23)>0,'1 - Opstart Importark'!$B$23,\"\")","v":""},{"$nulls":14},"",{"$nulls":8},0,"","","objektnogle_"]
[463,null,{"$f":"IF('1 - Opstart Importark'!$B$6=\"\",\"\",(IF('1 - Opstart Importark'!$B$15=\"\",CONCATENATE(LEFT('1 - Opstart Importark'!$B$3,1),(LEFT('1 - Opstart Importark'!$B$20,5)),MID('1 - Opstart Importark'!$B$20,5,2),LEFT('1 - Opstart Importark'!$B$28,3),IF(I475=\"\",\"\",\"-\"),I475,IF(K475=\"\",\"\",\"-\"),K475,IF(M475=\"\",\"\",\"-\"),M475),CONCATENATE(LEFT('1 - Opstart Importark'!$B$3,1),(LEFT('1 - Opstart Importark'!$B$15,5)),(LEFT('1 - Opstart Importark'!$B$18,3)),IF(I475=\"\",\"\",\"-\"),I475,IF(K475=\"\",\"\",\"-\"),K475,IF(M475=\"\",\"\",\"-\"),M475))))","v":""},null," ",{"$nulls":9},{"$f":"IF(LEN('1 - Opstart Importark'!$B$6)>0,'1 - Opstart Importark'!$B$6,\"\")","v":""},{"$f":"IF(LEN('1 - Opstart Importark'!$B$9)>0,'1 - Opstart Importark'!$B$9,\"\")","v":""},{"$f":"IF(LEN('1 - Opstart Importark'!$B$23)>0,'1 - Opstart Importark'!$B$23,\"\")","v":""},{"$nulls":14},"",{"$nulls":8},0,"","","objektnogle_"]
[464,null,{"$f":"IF('1 - Opstart Importark'!$B$6=\"\",\"\",(IF('1 - Opstart Importark'!$B$15=\"\",CONCATENATE(LEFT('1 - Opstart Importark'!$B$3,1),(LEFT('1 - Opstart Importark'!$B$20,5)),MID('1 - Opstart Importark'!$B$20,5,2),LEFT('1 - Opstart Importark'!$B$28,3),IF(I476=\"\",\"\",\"-\"),I476,IF(K476=\"\",\"\",\"-\"),K476,IF(M476=\"\",\"\",\"-\"),M476),CONCATENATE(LEFT('1 - Opstart Importark'!$B$3,1),(LEFT('1 - Opstart Importark'!$B$15,5)),(LEFT('1 - Opstart Importark'!$B$18,3)),IF(I476=\"\",\"\",\"-\"),I476,IF(K476=\"\",\"\",\"-\"),K476,IF(M476=\"\",\"\",\"-\"),M476))))","v":""},null," ",{"$nulls":9},{"$f":"IF(LEN('1 - Opstart Importark'!$B$6)>0,'1 - Opstart Importark'!$B$6,\"\")","v":""},{"$f":"IF(LEN('1 - Opstart Importark'!$B$9)>0,'1 - Opstart Importark'!$B$9,\"\")","v":""},{"$f":"IF(LEN('1 - Opstart Importark'!$B$23)>0,'1 - Opstart Importark'!$B$23,\"\")","v":""},{"$nulls":14},"",{"$nulls":8},0,"","","objektnogle_"]
[465,null,{"$f":"IF('1 - Opstart Importark'!$B$6=\"\",\"\",(IF('1 - Opstart Importark'!$B$15=\"\",CONCATENATE(LEFT('1 - Opstart Importark'!$B$3,1),(LEFT('1 - Opstart Importark'!$B$20,5)),MID('1 - Opstart Importark'!$B$20,5,2),LEFT('1 - Opstart Importark'!$B$28,3),IF(I477=\"\",\"\",\"-\"),I477,IF(K477=\"\",\"\",\"-\"),K477,IF(M477=\"\",\"\",\"-\"),M477),CONCATENATE(LEFT('1 - Opstart Importark'!$B$3,1),(LEFT('1 - Opstart Importark'!$B$15,5)),(LEFT('1 - Opstart Importark'!$B$18,3)),IF(I477=\"\",\"\",\"-\"),I477,IF(K477=\"\",\"\",\"-\"),K477,IF(M477=\"\",\"\",\"-\"),M477))))","v":""},null," ",{"$nulls":9},{"$f":"IF(LEN('1 - Opstart Importark'!$B$6)>0,'1 - Opstart Importark'!$B$6,\"\")","v":""},{"$f":"IF(LEN('1 - Opstart Importark'!$B$9)>0,'1 - Opstart Importark'!$B$9,\"\")","v":""},{"$f":"IF(LEN('1 - Opstart Importark'!$B$23)>0,'1 - Opstart Importark'!$B$23,\"\")","v":""},{"$nulls":14},"",{"$nulls":8},0,"","","objektnogle_"]
[466,null,{"$f":"IF('1 - Opstart Importark'!$B$6=\"\",\"\",(IF('1 - Opstart Importark'!$B$15=\"\",CONCATENATE(LEFT('1 - Opstart Importark'!$B$3,1),(LEFT('1 - Opstart Importark'!$B$20,5)),MID('1 - Opstart Importark'!$B$20,5,2),LEFT('1 - Opstart Importark'!$B$28,3),IF(I478=\"\",\"\",\"-\"),I478,IF(K478=\"\",\"\",\"-\"),K478,IF(M478=\"\",\"\",\"-\"),M478),CONCATENATE(LEFT('1 - Opstart Importark'!$B$3,1),(LEFT('1 - Opstart Importark'!$B$15,5)),(LEFT('1 - Opstart Importark'!$B$18,3)),IF(I478=\"\",\"\",\"-\"),I478,IF(K478=\"\",\"\",\"-\"),K478,IF(M478=\"\",\"\",\"-\"),M478))))","v":""},null," ",{"$nulls":9},{"$f":"IF(LEN('1 - Opstart Importark'!$B$6)>0,'1 - Opstart Importark'!$B$6,\"\")","v":""},{"$f":"IF(LEN('1 - Opstart Importark'!$B$9)>0,'1 - Opstart Importark'!$B$9,\"\")","v":""},{"$f":"IF(LEN('1 - Opstart Importark'!$B$23)>0,'1 - Opstart Importark'!$B$23,\"\")","v":""},{"$nulls":14},"",{"$nulls":8},0,"","","objektnogle_"]
[467,null,{"$f":"IF('1 - Opstart Importark'!$B$6=\"\",\"\",(IF('1 - Opstart Importark'!$B$15=\"\",CONCATENATE(LEFT('1 - Opstart Importark'!$B$3,1),(LEFT('1 - Opstart Importark'!$B$20,5)),MID('1 - Opstart Importark'!$B$20,5,2),LEFT('1 - Opstart Importark'!$B$28,3),IF(I479=\"\",\"\",\"-\"),I479,IF(K479=\"\",\"\",\"-\"),K479,IF(M479=\"\",\"\",\"-\"),M479),CONCATENATE(LEFT('1 - Opstart Importark'!$B$3,1),(LEFT('1 - Opstart Importark'!$B$15,5)),(LEFT('1 - Opstart Importark'!$B$18,3)),IF(I479=\"\",\"\",\"-\"),I479,IF(K479=\"\",\"\",\"-\"),K479,IF(M479=\"\",\"\",\"-\"),M479))))","v":""},null," ",{"$nulls":9},{"$f":"IF(LEN('1 - Opstart Importark'!$B$6)>0,'1 - Opstart Importark'!$B$6,\"\")","v":""},{"$f":"IF(LEN('1 - Opstart Importark'!$B$9)>0,'1 - Opstart Importark'!$B$9,\"\")","v":""},{"$f":"IF(LEN('1 - Opstart Importark'!$B$23)>0,'1 - Opstart Importark'!$B$23,\"\")","v":""},{"$nulls":14},"",{"$nulls":8},0,"","","objektnogle_"]
[468,null,{"$f":"IF('1 - Opstart Importark'!$B$6=\"\",\"\",(IF('1 - Opstart Importark'!$B$15=\"\",CONCATENATE(LEFT('1 - Opstart Importark'!$B$3,1),(LEFT('1 - Opstart Importark'!$B$20,5)),MID('1 - Opstart Importark'!$B$20,5,2),LEFT('1 - Opstart Importark'!$B$28,3),IF(I480=\"\",\"\",\"-\"),I480,IF(K480=\"\",\"\",\"-\"),K480,IF(M480=\"\",\"\",\"-\"),M480),CONCATENATE(LEFT('1 - Opstart Importark'!$B$3,1),(LEFT('1 - Opstart Importark'!$B$15,5)),(LEFT('1 - Opstart Importark'!$B$18,3)),IF(I480=\"\",\"\",\"-\"),I480,IF(K480=\"\",\"\",\"-\"),K480,IF(M480=\"\",\"\",\"-\"),M480))))","v":""},null," ",{"$nulls":9},{"$f":"IF(LEN('1 - Opstart Importark'!$B$6)>0,'1 - Opstart Importark'!$B$6,\"\")","v":""},{"$f":"IF(LEN('1 - Opstart Importark'!$B$9)>0,'1 - Opstart Importark'!$B$9,\"\")","v":""},{"$f":"IF(LEN('1 - Opstart Importark'!$B$23)>0,'1 - Opstart Importark'!$B$23,\"\")","v":""},{"$nulls":14},"",{"$nulls":8},0,"","","objektnogle_"]
[469,null,{"$f":"IF('1 - Opstart Importark'!$B$6=\"\",\"\",(IF('1 - Opstart Importark'!$B$15=\"\",CONCATENATE(LEFT('1 - Opstart Importark'!$B$3,1),(LEFT('1 - Opstart Importark'!$B$20,5)),MID('1 - Opstart Importark'!$B$20,5,2),LEFT('1 - Opstart Importark'!$B$28,3),IF(I481=\"\",\"\",\"-\"),I481,IF(K481=\"\",\"\",\"-\"),K481,IF(M481=\"\",\"\",\"-\"),M481),CONCATENATE(LEFT('1 - Opstart Importark'!$B$3,1),(LEFT('1 - Opstart Importark'!$B$15,5)),(LEFT('1 - Opstart Importark'!$B$18,3)),IF(I481=\"\",\"\",\"-\"),I481,IF(K481=\"\",\"\",\"-\"),K481,IF(M481=\"\",\"\",\"-\"),M481))))","v":""},null," ",{"$nulls":9},{"$f":"IF(LEN('1 - Opstart Importark'!$B$6)>0,'1 - Opstart Importark'!$B$6,\"\")","v":""},{"$f":"IF(LEN('1 - Opstart Importark'!$B$9)>0,'1 - Opstart Importark'!$B$9,\"\")","v":""},{"$f":"IF(LEN('1 - Opstart Importark'!$B$23)>0,'1 - Opstart Importark'!$B$23,\"\")","v":""},{"$nulls":14},"",{"$nulls":8},0,"","","objektnogle_"]
[470,null,{"$f":"IF('1 - Opstart Importark'!$B$6=\"\",\"\",(IF('1 - Opstart Importark'!$B$15=\"\",CONCATENATE(LEFT('1 - Opstart Importark'!$B$3,1),(LEFT('1 - Opstart Importark'!$B$20,5)),MID('1 - Opstart Importark'!$B$20,5,2),LEFT('1 - Opstart Importark'!$B$28,3),IF(I482=\"\",\"\",\"-\"),I482,IF(K482=\"\",\"\",\"-\"),K482,IF(M482=\"\",\"\",\"-\"),M482),CONCATENATE(LEFT('1 - Opstart Importark'!$B$3,1),(LEFT('1 - Opstart Importark'!$B$15,5)),(LEFT('1 - Opstart Importark'!$B$18,3)),IF(I482=\"\",\"\",\"-\"),I482,IF(K482=\"\",\"\",\"-\"),K482,IF(M482=\"\",\"\",\"-\"),M482))))","v":""},null," ",{"$nulls":9},{"$f":"IF(LEN('1 - Opstart Importark'!$B$6)>0,'1 - Opstart Importark'!$B$6,\"\")","v":""},{"$f":"IF(LEN('1 - Opstart Importark'!$B$9)>0,'1 - Opstart Importark'!$B$9,\"\")","v":""},{"$f":"IF(LEN('1 - Opstart Importark'!$B$23)>0,'1 - Opstart Importark'!$B$23,\"\")","v":""},{"$nulls":14},"",{"$nulls":8},0,"","","objektnogle_"]
[471,null,{"$f":"IF('1 - Opstart Importark'!$B$6=\"\",\"\",(IF('1 - Opstart Importark'!$B$15=\"\",CONCATENATE(LEFT('1 - Opstart Importark'!$B$3,1),(LEFT('1 - Opstart Importark'!$B$20,5)),MID('1 - Opstart Importark'!$B$20,5,2),LEFT('1 - Opstart Importark'!$B$28,3),IF(I483=\"\",\"\",\"-\"),I483,IF(K483=\"\",\"\",\"-\"),K483,IF(M483=\"\",\"\",\"-\"),M483),CONCATENATE(LEFT('1 - Opstart Importark'!$B$3,1),(LEFT('1 - Opstart Importark'!$B$15,5)),(LEFT('1 - Opstart Importark'!$B$18,3)),IF(I483=\"\",\"\",\"-\"),I483,IF(K483=\"\",\"\",\"-\"),K483,IF(M483=\"\",\"\",\"-\"),M483))))","v":""},null," ",{"$nulls":9},{"$f":"IF(LEN('1 - Opstart Importark'!$B$6)>0,'1 - Opstart Importark'!$B$6,\"\")","v":""},{"$f":"IF(LEN('1 - Opstart Importark'!$B$9)>0,'1 - Opstart Importark'!$B$9,\"\")","v":""},{"$f":"IF(LEN('1 - Opstart Importark'!$B$23)>0,'1 - Opstart Importark'!$B$23,\"\")","v":""},{"$nulls":14},"",{"$nulls":8},0,"","","objektnogle_"]
[472,null,{"$f":"IF('1 - Opstart Importark'!$B$6=\"\",\"\",(IF('1 - Opstart Importark'!$B$15=\"\",CONCATENATE(LEFT('1 - Opstart Importark'!$B$3,1),(LEFT('1 - Opstart Importark'!$B$20,5)),MID('1 - Opstart Importark'!$B$20,5,2),LEFT('1 - Opstart Importark'!$B$28,3),IF(I484=\"\",\"\",\"-\"),I484,IF(K484=\"\",\"\",\"-\"),K484,IF(M484=\"\",\"\",\"-\"),M484),CONCATENATE(LEFT('1 - Opstart Importark'!$B$3,1),(LEFT('1 - Opstart Importark'!$B$15,5)),(LEFT('1 - Opstart Importark'!$B$18,3)),IF(I484=\"\",\"\",\"-\"),I484,IF(K484=\"\",\"\",\"-\"),K484,IF(M484=\"\",\"\",\"-\"),M484))))","v":""},null," ",{"$nulls":9},{"$f":"IF(LEN('1 - Opstart Importark'!$B$6)>0,'1 - Opstart Importark'!$B$6,\"\")","v":""},{"$f":"IF(LEN('1 - Opstart Importark'!$B$9)>0,'1 - Opstart Importark'!$B$9,\"\")","v":""},{"$f":"IF(LEN('1 - Opstart Importark'!$B$23)>0,'1 - Opstart Importark'!$B$23,\"\")","v":""},{"$nulls":14},"",{"$nulls":8},0,"","","objektnogle_"]
[473,null,{"$f":"IF('1 - Opstart Importark'!$B$6=\"\",\"\",(IF('1 - Opstart Importark'!$B$15=\"\",CONCATENATE(LEFT('1 - Opstart Importark'!$B$3,1),(LEFT('1 - Opstart Importark'!$B$20,5)),MID('1 - Opstart Importark'!$B$20,5,2),LEFT('1 - Opstart Importark'!$B$28,3),IF(I485=\"\",\"\",\"-\"),I485,IF(K485=\"\",\"\",\"-\"),K485,IF(M485=\"\",\"\",\"-\"),M485),CONCATENATE(LEFT('1 - Opstart Importark'!$B$3,1),(LEFT('1 - Opstart Importark'!$B$15,5)),(LEFT('1 - Opstart Importark'!$B$18,3)),IF(I485=\"\",\"\",\"-\"),I485,IF(K485=\"\",\"\",\"-\"),K485,IF(M485=\"\",\"\",\"-\"),M485))))","v":""},null," ",{"$nulls":9},{"$f":"IF(LEN('1 - Opstart Importark'!$B$6)>0,'1 - Opstart Importark'!$B$6,\"\")","v":""},{"$f":"IF(LEN('1 - Opstart Importark'!$B$9)>0,'1 - Opstart Importark'!$B$9,\"\")","v":""},{"$f":"IF(LEN('1 - Opstart Importark'!$B$23)>0,'1 - Opstart Importark'!$B$23,\"\")","v":""},{"$nulls":14},"",{"$nulls":8},0,"","","objektnogle_"]
[474,null,{"$f":"IF('1 - Opstart Importark'!$B$6=\"\",\"\",(IF('1 - Opstart Importark'!$B$15=\"\",CONCATENATE(LEFT('1 - Opstart Importark'!$B$3,1),(LEFT('1 - Opstart Importark'!$B$20,5)),MID('1 - Opstart Importark'!$B$20,5,2),LEFT('1 - Opstart Importark'!$B$28,3),IF(I486=\"\",\"\",\"-\"),I486,IF(K486=\"\",\"\",\"-\"),K486,IF(M486=\"\",\"\",\"-\"),M486),CONCATENATE(LEFT('1 - Opstart Importark'!$B$3,1),(LEFT('1 - Opstart Importark'!$B$15,5)),(LEFT('1 - Opstart Importark'!$B$18,3)),IF(I486=\"\",\"\",\"-\"),I486,IF(K486=\"\",\"\",\"-\"),K486,IF(M486=\"\",\"\",\"-\"),M486))))","v":""},null," ",{"$nulls":9},{"$f":"IF(LEN('1 - Opstart Importark'!$B$6)>0,'1 - Opstart Importark'!$B$6,\"\")","v":""},{"$f":"IF(LEN('1 - Opstart Importark'!$B$9)>0,'1 - Opstart Importark'!$B$9,\"\")","v":""},{"$f":"IF(LEN('1 - Opstart Importark'!$B$23)>0,'1 - Opstart Importark'!$B$23,\"\")","v":""},{"$nulls":14},"",{"$nulls":8},0,"","","objektnogle_"]
[475,null,{"$f":"IF('1 - Opstart Importark'!$B$6=\"\",\"\",(IF('1 - Opstart Importark'!$B$15=\"\",CONCATENATE(LEFT('1 - Opstart Importark'!$B$3,1),(LEFT('1 - Opstart Importark'!$B$20,5)),MID('1 - Opstart Importark'!$B$20,5,2),LEFT('1 - Opstart Importark'!$B$28,3),IF(I487=\"\",\"\",\"-\"),I487,IF(K487=\"\",\"\",\"-\"),K487,IF(M487=\"\",\"\",\"-\"),M487),CONCATENATE(LEFT('1 - Opstart Importark'!$B$3,1),(LEFT('1 - Opstart Importark'!$B$15,5)),(LEFT('1 - Opstart Importark'!$B$18,3)),IF(I487=\"\",\"\",\"-\"),I487,IF(K487=\"\",\"\",\"-\"),K487,IF(M487=\"\",\"\",\"-\"),M487))))","v":""},null," ",{"$nulls":9},{"$f":"IF(LEN('1 - Opstart Importark'!$B$6)>0,'1 - Opstart Importark'!$B$6,\"\")","v":""},{"$f":"IF(LEN('1 - Opstart Importark'!$B$9)>0,'1 - Opstart Importark'!$B$9,\"\")","v":""},{"$f":"IF(LEN('1 - Opstart Importark'!$B$23)>0,'1 - Opstart Importark'!$B$23,\"\")","v":""},{"$nulls":14},"",{"$nulls":8},0,"","","objektnogle_"]
[476,null,{"$f":"IF('1 - Opstart Importark'!$B$6=\"\",\"\",(IF('1 - Opstart Importark'!$B$15=\"\",CONCATENATE(LEFT('1 - Opstart Importark'!$B$3,1),(LEFT('1 - Opstart Importark'!$B$20,5)),MID('1 - Opstart Importark'!$B$20,5,2),LEFT('1 - Opstart Importark'!$B$28,3),IF(I488=\"\",\"\",\"-\"),I488,IF(K488=\"\",\"\",\"-\"),K488,IF(M488=\"\",\"\",\"-\"),M488),CONCATENATE(LEFT('1 - Opstart Importark'!$B$3,1),(LEFT('1 - Opstart Importark'!$B$15,5)),(LEFT('1 - Opstart Importark'!$B$18,3)),IF(I488=\"\",\"\",\"-\"),I488,IF(K488=\"\",\"\",\"-\"),K488,IF(M488=\"\",\"\",\"-\"),M488))))","v":""},null," ",{"$nulls":9},{"$f":"IF(LEN('1 - Opstart Importark'!$B$6)>0,'1 - Opstart Importark'!$B$6,\"\")","v":""},{"$f":"IF(LEN('1 - Opstart Importark'!$B$9)>0,'1 - Opstart Importark'!$B$9,\"\")","v":""},{"$f":"IF(LEN('1 - Opstart Importark'!$B$23)>0,'1 - Opstart Importark'!$B$23,\"\")","v":""},{"$nulls":14},"",{"$nulls":8},0,"","","objektnogle_"]
[477,null,{"$f":"IF('1 - Opstart Importark'!$B$6=\"\",\"\",(IF('1 - Opstart Importark'!$B$15=\"\",CONCATENATE(LEFT('1 - Opstart Importark'!$B$3,1),(LEFT('1 - Opstart Importark'!$B$20,5)),MID('1 - Opstart Importark'!$B$20,5,2),LEFT('1 - Opstart Importark'!$B$28,3),IF(I489=\"\",\"\",\"-\"),I489,IF(K489=\"\",\"\",\"-\"),K489,IF(M489=\"\",\"\",\"-\"),M489),CONCATENATE(LEFT('1 - Opstart Importark'!$B$3,1),(LEFT('1 - Opstart Importark'!$B$15,5)),(LEFT('1 - Opstart Importark'!$B$18,3)),IF(I489=\"\",\"\",\"-\"),I489,IF(K489=\"\",\"\",\"-\"),K489,IF(M489=\"\",\"\",\"-\"),M489))))","v":""},null," ",{"$nulls":9},{"$f":"IF(LEN('1 - Opstart Importark'!$B$6)>0,'1 - Opstart Importark'!$B$6,\"\")","v":""},{"$f":"IF(LEN('1 - Opstart Importark'!$B$9)>0,'1 - Opstart Importark'!$B$9,\"\")","v":""},{"$f":"IF(LEN('1 - Opstart Importark'!$B$23)>0,'1 - Opstart Importark'!$B$23,\"\")","v":""},{"$nulls":14},"",{"$nulls":8},0,"","","objektnogle_"]
[478,null,{"$f":"IF('1 - Opstart Importark'!$B$6=\"\",\"\",(IF('1 - Opstart Importark'!$B$15=\"\",CONCATENATE(LEFT('1 - Opstart Importark'!$B$3,1),(LEFT('1 - Opstart Importark'!$B$20,5)),MID('1 - Opstart Importark'!$B$20,5,2),LEFT('1 - Opstart Importark'!$B$28,3),IF(I490=\"\",\"\",\"-\"),I490,IF(K490=\"\",\"\",\"-\"),K490,IF(M490=\"\",\"\",\"-\"),M490),CONCATENATE(LEFT('1 - Opstart Importark'!$B$3,1),(LEFT('1 - Opstart Importark'!$B$15,5)),(LEFT('1 - Opstart Importark'!$B$18,3)),IF(I490=\"\",\"\",\"-\"),I490,IF(K490=\"\",\"\",\"-\"),K490,IF(M490=\"\",\"\",\"-\"),M490))))","v":""},null," ",{"$nulls":9},{"$f":"IF(LEN('1 - Opstart Importark'!$B$6)>0,'1 - Opstart Importark'!$B$6,\"\")","v":""},{"$f":"IF(LEN('1 - Opstart Importark'!$B$9)>0,'1 - Opstart Importark'!$B$9,\"\")","v":""},{"$f":"IF(LEN('1 - Opstart Importark'!$B$23)>0,'1 - Opstart Importark'!$B$23,\"\")","v":""},{"$nulls":14},"",{"$nulls":8},0,"","","objektnogle_"]
[479,null,{"$f":"IF('1 - Opstart Importark'!$B$6=\"\",\"\",(IF('1 - Opstart Importark'!$B$15=\"\",CONCATENATE(LEFT('1 - Opstart Importark'!$B$3,1),(LEFT('1 - Opstart Importark'!$B$20,5)),MID('1 - Opstart Importark'!$B$20,5,2),LEFT('1 - Opstart Importark'!$B$28,3),IF(I491=\"\",\"\",\"-\"),I491,IF(K491=\"\",\"\",\"-\"),K491,IF(M491=\"\",\"\",\"-\"),M491),CONCATENATE(LEFT('1 - Opstart Importark'!$B$3,1),(LEFT('1 - Opstart Importark'!$B$15,5)),(LEFT('1 - Opstart Importark'!$B$18,3)),IF(I491=\"\",\"\",\"-\"),I491,IF(K491=\"\",\"\",\"-\"),K491,IF(M491=\"\",\"\",\"-\"),M491))))","v":""},null," ",{"$nulls":9},{"$f":"IF(LEN('1 - Opstart Importark'!$B$6)>0,'1 - Opstart Importark'!$B$6,\"\")","v":""},{"$f":"IF(LEN('1 - Opstart Importark'!$B$9)>0,'1 - Opstart Importark'!$B$9,\"\")","v":""},{"$f":"IF(LEN('1 - Opstart Importark'!$B$23)>0,'1 - Opstart Importark'!$B$23,\"\")","v":""},{"$nulls":14},"",{"$nulls":8},0,"","","objektnogle_"]
[480,null,{"$f":"IF('1 - Opstart Importark'!$B$6=\"\",\"\",(IF('1 - Opstart Importark'!$B$15=\"\",CONCATENATE(LEFT('1 - Opstart Importark'!$B$3,1),(LEFT('1 - Opstart Importark'!$B$20,5)),MID('1 - Opstart Importark'!$B$20,5,2),LEFT('1 - Opstart Importark'!$B$28,3),IF(I492=\"\",\"\",\"-\"),I492,IF(K492=\"\",\"\",\"-\"),K492,IF(M492=\"\",\"\",\"-\"),M492),CONCATENATE(LEFT('1 - Opstart Importark'!$B$3,1),(LEFT('1 - Opstart Importark'!$B$15,5)),(LEFT('1 - Opstart Importark'!$B$18,3)),IF(I492=\"\",\"\",\"-\"),I492,IF(K492=\"\",\"\",\"-\"),K492,IF(M492=\"\",\"\",\"-\"),M492))))","v":""},null," ",{"$nulls":9},{"$f":"IF(LEN('1 - Opstart Importark'!$B$6)>0,'1 - Opstart Importark'!$B$6,\"\")","v":""},{"$f":"IF(LEN('1 - Opstart Importark'!$B$9)>0,'1 - Opstart Importark'!$B$9,\"\")","v":""},{"$f":"IF(LEN('1 - Opstart Importark'!$B$23)>0,'1 - Opstart Importark'!$B$23,\"\")","v":""},{"$nulls":14},"",{"$nulls":8},0,"","","objektnogle_"]
[481,null,{"$f":"IF('1 - Opstart Importark'!$B$6=\"\",\"\",(IF('1 - Opstart Importark'!$B$15=\"\",CONCATENATE(LEFT('1 - Opstart Importark'!$B$3,1),(LEFT('1 - Opstart Importark'!$B$20,5)),MID('1 - Opstart Importark'!$B$20,5,2),LEFT('1 - Opstart Importark'!$B$28,3),IF(I493=\"\",\"\",\"-\"),I493,IF(K493=\"\",\"\",\"-\"),K493,IF(M493=\"\",\"\",\"-\"),M493),CONCATENATE(LEFT('1 - Opstart Importark'!$B$3,1),(LEFT('1 - Opstart Importark'!$B$15,5)),(LEFT('1 - Opstart Importark'!$B$18,3)),IF(I493=\"\",\"\",\"-\"),I493,IF(K493=\"\",\"\",\"-\"),K493,IF(M493=\"\",\"\",\"-\"),M493))))","v":""},null," ",{"$nulls":9},{"$f":"IF(LEN('1 - Opstart Importark'!$B$6)>0,'1 - Opstart Importark'!$B$6,\"\")","v":""},{"$f":"IF(LEN('1 - Opstart Importark'!$B$9)>0,'1 - Opstart Importark'!$B$9,\"\")","v":""},{"$f":"IF(LEN('1 - Opstart Importark'!$B$23)>0,'1 - Opstart Importark'!$B$23,\"\")","v":""},{"$nulls":14},"",{"$nulls":8},0,"","","objektnogle_"]
[482,null,{"$f":"IF('1 - Opstart Importark'!$B$6=\"\",\"\",(IF('1 - Opstart Importark'!$B$15=\"\",CONCATENATE(LEFT('1 - Opstart Importark'!$B$3,1),(LEFT('1 - Opstart Importark'!$B$20,5)),MID('1 - Opstart Importark'!$B$20,5,2),LEFT('1 - Opstart Importark'!$B$28,3),IF(I494=\"\",\"\",\"-\"),I494,IF(K494=\"\",\"\",\"-\"),K494,IF(M494=\"\",\"\",\"-\"),M494),CONCATENATE(LEFT('1 - Opstart Importark'!$B$3,1),(LEFT('1 - Opstart Importark'!$B$15,5)),(LEFT('1 - Opstart Importark'!$B$18,3)),IF(I494=\"\",\"\",\"-\"),I494,IF(K494=\"\",\"\",\"-\"),K494,IF(M494=\"\",\"\",\"-\"),M494))))","v":""},null," ",{"$nulls":9},{"$f":"IF(LEN('1 - Opstart Importark'!$B$6)>0,'1 - Opstart Importark'!$B$6,\"\")","v":""},{"$f":"IF(LEN('1 - Opstart Importark'!$B$9)>0,'1 - Opstart Importark'!$B$9,\"\")","v":""},{"$f":"IF(LEN('1 - Opstart Importark'!$B$23)>0,'1 - Opstart Importark'!$B$23,\"\")","v":""},{"$nulls":14},"",{"$nulls":8},0,"","","objektnogle_"]
[483,null,{"$f":"IF('1 - Opstart Importark'!$B$6=\"\",\"\",(IF('1 - Opstart Importark'!$B$15=\"\",CONCATENATE(LEFT('1 - Opstart Importark'!$B$3,1),(LEFT('1 - Opstart Importark'!$B$20,5)),MID('1 - Opstart Importark'!$B$20,5,2),LEFT('1 - Opstart Importark'!$B$28,3),IF(I495=\"\",\"\",\"-\"),I495,IF(K495=\"\",\"\",\"-\"),K495,IF(M495=\"\",\"\",\"-\"),M495),CONCATENATE(LEFT('1 - Opstart Importark'!$B$3,1),(LEFT('1 - Opstart Importark'!$B$15,5)),(LEFT('1 - Opstart Importark'!$B$18,3)),IF(I495=\"\",\"\",\"-\"),I495,IF(K495=\"\",\"\",\"-\"),K495,IF(M495=\"\",\"\",\"-\"),M495))))","v":""},null," ",{"$nulls":9},{"$f":"IF(LEN('1 - Opstart Importark'!$B$6)>0,'1 - Opstart Importark'!$B$6,\"\")","v":""},{"$f":"IF(LEN('1 - Opstart Importark'!$B$9)>0,'1 - Opstart Importark'!$B$9,\"\")","v":""},{"$f":"IF(LEN('1 - Opstart Importark'!$B$23)>0,'1 - Opstart Importark'!$B$23,\"\")","v":""},{"$nulls":14},"",{"$nulls":8},0,"","","objektnogle_"]
[484,null,{"$f":"IF('1 - Opstart Importark'!$B$6=\"\",\"\",(IF('1 - Opstart Importark'!$B$15=\"\",CONCATENATE(LEFT('1 - Opstart Importark'!$B$3,1),(LEFT('1 - Opstart Importark'!$B$20,5)),MID('1 - Opstart Importark'!$B$20,5,2),LEFT('1 - Opstart Importark'!$B$28,3),IF(I496=\"\",\"\",\"-\"),I496,IF(K496=\"\",\"\",\"-\"),K496,IF(M496=\"\",\"\",\"-\"),M496),CONCATENATE(LEFT('1 - Opstart Importark'!$B$3,1),(LEFT('1 - Opstart Importark'!$B$15,5)),(LEFT('1 - Opstart Importark'!$B$18,3)),IF(I496=\"\",\"\",\"-\"),I496,IF(K496=\"\",\"\",\"-\"),K496,IF(M496=\"\",\"\",\"-\"),M496))))","v":""},null," ",{"$nulls":9},{"$f":"IF(LEN('1 - Opstart Importark'!$B$6)>0,'1 - Opstart Importark'!$B$6,\"\")","v":""},{"$f":"IF(LEN('1 - Opstart Importark'!$B$9)>0,'1 - Opstart Importark'!$B$9,\"\")","v":""},{"$f":"IF(LEN('1 - Opstart Importark'!$B$23)>0,'1 - Opstart Importark'!$B$23,\"\")","v":""},{"$nulls":14},"",{"$nulls":8},0,"","","objektnogle_"]
[485,null,{"$f":"IF('1 - Opstart Importark'!$B$6=\"\",\"\",(IF('1 - Opstart Importark'!$B$15=\"\",CONCATENATE(LEFT('1 - Opstart Importark'!$B$3,1),(LEFT('1 - Opstart Importark'!$B$20,5)),MID('1 - Opstart Importark'!$B$20,5,2),LEFT('1 - Opstart Importark'!$B$28,3),IF(I497=\"\",\"\",\"-\"),I497,IF(K497=\"\",\"\",\"-\"),K497,IF(M497=\"\",\"\",\"-\"),M497),CONCATENATE(LEFT('1 - Opstart Importark'!$B$3,1),(LEFT('1 - Opstart Importark'!$B$15,5)),(LEFT('1 - Opstart Importark'!$B$18,3)),IF(I497=\"\",\"\",\"-\"),I497,IF(K497=\"\",\"\",\"-\"),K497,IF(M497=\"\",\"\",\"-\"),M497))))","v":""},null," ",{"$nulls":9},{"$f":"IF(LEN('1 - Opstart Importark'!$B$6)>0,'1 - Opstart Importark'!$B$6,\"\")","v":""},{"$f":"IF(LEN('1 - Opstart Importark'!$B$9)>0,'1 - Opstart Importark'!$B$9,\"\")","v":""},{"$f":"IF(LEN('1 - Opstart Importark'!$B$23)>0,'1 - Opstart Importark'!$B$23,\"\")","v":""},{"$nulls":14},"",{"$nulls":8},0,"","","objektnogle_"]
[486,null,{"$f":"IF('1 - Opstart Importark'!$B$6=\"\",\"\",(IF('1 - Opstart Importark'!$B$15=\"\",CONCATENATE(LEFT('1 - Opstart Importark'!$B$3,1),(LEFT('1 - Opstart Importark'!$B$20,5)),MID('1 - Opstart Importark'!$B$20,5,2),LEFT('1 - Opstart Importark'!$B$28,3),IF(I498=\"\",\"\",\"-\"),I498,IF(K498=\"\",\"\",\"-\"),K498,IF(M498=\"\",\"\",\"-\"),M498),CONCATENATE(LEFT('1 - Opstart Importark'!$B$3,1),(LEFT('1 - Opstart Importark'!$B$15,5)),(LEFT('1 - Opstart Importark'!$B$18,3)),IF(I498=\"\",\"\",\"-\"),I498,IF(K498=\"\",\"\",\"-\"),K498,IF(M498=\"\",\"\",\"-\"),M498))))","v":""},null," ",{"$nulls":9},{"$f":"IF(LEN('1 - Opstart Importark'!$B$6)>0,'1 - Opstart Importark'!$B$6,\"\")","v":""},{"$f":"IF(LEN('1 - Opstart Importark'!$B$9)>0,'1 - Opstart Importark'!$B$9,\"\")","v":""},{"$f":"IF(LEN('1 - Opstart Importark'!$B$23)>0,'1 - Opstart Importark'!$B$23,\"\")","v":""},{"$nulls":14},"",{"$nulls":8},0,"","","objektnogle_"]
[487,null,{"$f":"IF('1 - Opstart Importark'!$B$6=\"\",\"\",(IF('1 - Opstart Importark'!$B$15=\"\",CONCATENATE(LEFT('1 - Opstart Importark'!$B$3,1),(LEFT('1 - Opstart Importark'!$B$20,5)),MID('1 - Opstart Importark'!$B$20,5,2),LEFT('1 - Opstart Importark'!$B$28,3),IF(I499=\"\",\"\",\"-\"),I499,IF(K499=\"\",\"\",\"-\"),K499,IF(M499=\"\",\"\",\"-\"),M499),CONCATENATE(LEFT('1 - Opstart Importark'!$B$3,1),(LEFT('1 - Opstart Importark'!$B$15,5)),(LEFT('1 - Opstart Importark'!$B$18,3)),IF(I499=\"\",\"\",\"-\"),I499,IF(K499=\"\",\"\",\"-\"),K499,IF(M499=\"\",\"\",\"-\"),M499))))","v":""},null," ",{"$nulls":9},{"$f":"IF(LEN('1 - Opstart Importark'!$B$6)>0,'1 - Opstart Importark'!$B$6,\"\")","v":""},{"$f":"IF(LEN('1 - Opstart Importark'!$B$9)>0,'1 - Opstart Importark'!$B$9,\"\")","v":""},{"$f":"IF(LEN('1 - Opstart Importark'!$B$23)>0,'1 - Opstart Importark'!$B$23,\"\")","v":""},{"$nulls":14},"",{"$nulls":8},0,"","","objektnogle_"]
[488,null,{"$f":"IF('1 - Opstart Importark'!$B$6=\"\",\"\",(IF('1 - Opstart Importark'!$B$15=\"\",CONCATENATE(LEFT('1 - Opstart Importark'!$B$3,1),(LEFT('1 - Opstart Importark'!$B$20,5)),MID('1 - Opstart Importark'!$B$20,5,2),LEFT('1 - Opstart Importark'!$B$28,3),IF(I500=\"\",\"\",\"-\"),I500,IF(K500=\"\",\"\",\"-\"),K500,IF(M500=\"\",\"\",\"-\"),M500),CONCATENATE(LEFT('1 - Opstart Importark'!$B$3,1),(LEFT('1 - Opstart Importark'!$B$15,5)),(LEFT('1 - Opstart Importark'!$B$18,3)),IF(I500=\"\",\"\",\"-\"),I500,IF(K500=\"\",\"\",\"-\"),K500,IF(M500=\"\",\"\",\"-\"),M500))))","v":""},null," ",{"$nulls":9},{"$f":"IF(LEN('1 - Opstart Importark'!$B$6)>0,'1 - Opstart Importark'!$B$6,\"\")","v":""},{"$f":"IF(LEN('1 - Opstart Importark'!$B$9)>0,'1 - Opstart Importark'!$B$9,\"\")","v":""},{"$f":"IF(LEN('1 - Opstart Importark'!$B$23)>0,'1 - Opstart Importark'!$B$23,\"\")","v":""},{"$nulls":14},"",{"$nulls":8},0,"","","objektnogle_"]
[489,null,{"$f":"IF('1 - Opstart Importark'!$B$6=\"\",\"\",(IF('1 - Opstart Importark'!$B$15=\"\",CONCATENATE(LEFT('1 - Opstart Importark'!$B$3,1),(LEFT('1 - Opstart Importark'!$B$20,5)),MID('1 - Opstart Importark'!$B$20,5,2),LEFT('1 - Opstart Importark'!$B$28,3),IF(I501=\"\",\"\",\"-\"),I501,IF(K501=\"\",\"\",\"-\"),K501,IF(M501=\"\",\"\",\"-\"),M501),CONCATENATE(LEFT('1 - Opstart Importark'!$B$3,1),(LEFT('1 - Opstart Importark'!$B$15,5)),(LEFT('1 - Opstart Importark'!$B$18,3)),IF(I501=\"\",\"\",\"-\"),I501,IF(K501=\"\",\"\",\"-\"),K501,IF(M501=\"\",\"\",\"-\"),M501))))","v":""},null," ",{"$nulls":9},{"$f":"IF(LEN('1 - Opstart Importark'!$B$6)>0,'1 - Opstart Importark'!$B$6,\"\")","v":""},{"$f":"IF(LEN('1 - Opstart Importark'!$B$9)>0,'1 - Opstart Importark'!$B$9,\"\")","v":""},{"$f":"IF(LEN('1 - Opstart Importark'!$B$23)>0,'1 - Opstart Importark'!$B$23,\"\")","v":""},{"$nulls":14},"",{"$nulls":8},0,"","","objektnogle_"]
[490,null,{"$f":"IF('1 - Opstart Importark'!$B$6=\"\",\"\",(IF('1 - Opstart Importark'!$B$15=\"\",CONCATENATE(LEFT('1 - Opstart Importark'!$B$3,1),(LEFT('1 - Opstart Importark'!$B$20,5)),MID('1 - Opstart Importark'!$B$20,5,2),LEFT('1 - Opstart Importark'!$B$28,3),IF(I502=\"\",\"\",\"-\"),I502,IF(K502=\"\",\"\",\"-\"),K502,IF(M502=\"\",\"\",\"-\"),M502),CONCATENATE(LEFT('1 - Opstart Importark'!$B$3,1),(LEFT('1 - Opstart Importark'!$B$15,5)),(LEFT('1 - Opstart Importark'!$B$18,3)),IF(I502=\"\",\"\",\"-\"),I502,IF(K502=\"\",\"\",\"-\"),K502,IF(M502=\"\",\"\",\"-\"),M502))))","v":""},null," ",{"$nulls":9},{"$f":"IF(LEN('1 - Opstart Importark'!$B$6)>0,'1 - Opstart Importark'!$B$6,\"\")","v":""},{"$f":"IF(LEN('1 - Opstart Importark'!$B$9)>0,'1 - Opstart Importark'!$B$9,\"\")","v":""},{"$f":"IF(LEN('1 - Opstart Importark'!$B$23)>0,'1 - Opstart Importark'!$B$23,\"\")","v":""},{"$nulls":14},"",{"$nulls":8},0,"","","objektnogle_"]
[491,null,{"$f":"IF('1 - Opstart Importark'!$B$6=\"\",\"\",(IF('1 - Opstart Importark'!$B$15=\"\",CONCATENATE(LEFT('1 - Opstart Importark'!$B$3,1),(LEFT('1 - Opstart Importark'!$B$20,5)),MID('1 - Opstart Importark'!$B$20,5,2),LEFT('1 - Opstart Importark'!$B$28,3),IF(I503=\"\",\"\",\"-\"),I503,IF(K503=\"\",\"\",\"-\"),K503,IF(M503=\"\",\"\",\"-\"),M503),CONCATENATE(LEFT('1 - Opstart Importark'!$B$3,1),(LEFT('1 - Opstart Importark'!$B$15,5)),(LEFT('1 - Opstart Importark'!$B$18,3)),IF(I503=\"\",\"\",\"-\"),I503,IF(K503=\"\",\"\",\"-\"),K503,IF(M503=\"\",\"\",\"-\"),M503))))","v":""},null," ",{"$nulls":9},{"$f":"IF(LEN('1 - Opstart Importark'!$B$6)>0,'1 - Opstart Importark'!$B$6,\"\")","v":""},{"$f":"IF(LEN('1 - Opstart Importark'!$B$9)>0,'1 - Opstart Importark'!$B$9,\"\")","v":""},{"$f":"IF(LEN('1 - Opstart Importark'!$B$23)>0,'1 - Opstart Importark'!$B$23,\"\")","v":""},{"$nulls":14},"",{"$nulls":8},0,"","","objektnogle_"]
[492,null,{"$f":"IF('1 - Opstart Importark'!$B$6=\"\",\"\",(IF('1 - Opstart Importark'!$B$15=\"\",CONCATENATE(LEFT('1 - Opstart Importark'!$B$3,1),(LEFT('1 - Opstart Importark'!$B$20,5)),MID('1 - Opstart Importark'!$B$20,5,2),LEFT('1 - Opstart Importark'!$B$28,3),IF(I504=\"\",\"\",\"-\"),I504,IF(K504=\"\",\"\",\"-\"),K504,IF(M504=\"\",\"\",\"-\"),M504),CONCATENATE(LEFT('1 - Opstart Importark'!$B$3,1),(LEFT('1 - Opstart Importark'!$B$15,5)),(LEFT('1 - Opstart Importark'!$B$18,3)),IF(I504=\"\",\"\",\"-\"),I504,IF(K504=\"\",\"\",\"-\"),K504,IF(M504=\"\",\"\",\"-\"),M504))))","v":""},null," ",{"$nulls":9},{"$f":"IF(LEN('1 - Opstart Importark'!$B$6)>0,'1 - Opstart Importark'!$B$6,\"\")","v":""},{"$f":"IF(LEN('1 - Opstart Importark'!$B$9)>0,'1 - Opstart Importark'!$B$9,\"\")","v":""},{"$f":"IF(LEN('1 - Opstart Importark'!$B$23)>0,'1 - Opstart Importark'!$B$23,\"\")","v":""},{"$nulls":14},"",{"$nulls":8},0,"","","objektnogle_"]
[493,null,{"$f":"IF('1 - Opstart Importark'!$B$6=\"\",\"\",(IF('1 - Opstart Importark'!$B$15=\"\",CONCATENATE(LEFT('1 - Opstart Importark'!$B$3,1),(LEFT('1 - Opstart Importark'!$B$20,5)),MID('1 - Opstart Importark'!$B$20,5,2),LEFT('1 - Opstart Importark'!$B$28,3),IF(I505=\"\",\"\",\"-\"),I505,IF(K505=\"\",\"\",\"-\"),K505,IF(M505=\"\",\"\",\"-\"),M505),CONCATENATE(LEFT('1 - Opstart Importark'!$B$3,1),(LEFT('1 - Opstart Importark'!$B$15,5)),(LEFT('1 - Opstart Importark'!$B$18,3)),IF(I505=\"\",\"\",\"-\"),I505,IF(K505=\"\",\"\",\"-\"),K505,IF(M505=\"\",\"\",\"-\"),M505))))","v":""},null," ",{"$nulls":9},{"$f":"IF(LEN('1 - Opstart Importark'!$B$6)>0,'1 - Opstart Importark'!$B$6,\"\")","v":""},{"$f":"IF(LEN('1 - Opstart Importark'!$B$9)>0,'1 - Opstart Importark'!$B$9,\"\")","v":""},{"$f":"IF(LEN('1 - Opstart Importark'!$B$23)>0,'1 - Opstart Importark'!$B$23,\"\")","v":""},{"$nulls":14},"",{"$nulls":8},0,"","","objektnogle_"]
[494,null,{"$f":"IF('1 - Opstart Importark'!$B$6=\"\",\"\",(IF('1 - Opstart Importark'!$B$15=\"\",CONCATENATE(LEFT('1 - Opstart Importark'!$B$3,1),(LEFT('1 - Opstart Importark'!$B$20,5)),MID('1 - Opstart Importark'!$B$20,5,2),LEFT('1 - Opstart Importark'!$B$28,3),IF(I506=\"\",\"\",\"-\"),I506,IF(K506=\"\",\"\",\"-\"),K506,IF(M506=\"\",\"\",\"-\"),M506),CONCATENATE(LEFT('1 - Opstart Importark'!$B$3,1),(LEFT('1 - Opstart Importark'!$B$15,5)),(LEFT('1 - Opstart Importark'!$B$18,3)),IF(I506=\"\",\"\",\"-\"),I506,IF(K506=\"\",\"\",\"-\"),K506,IF(M506=\"\",\"\",\"-\"),M506))))","v":""},null," ",{"$nulls":9},{"$f":"IF(LEN('1 - Opstart Importark'!$B$6)>0,'1 - Opstart Importark'!$B$6,\"\")","v":""},{"$f":"IF(LEN('1 - Opstart Importark'!$B$9)>0,'1 - Opstart Importark'!$B$9,\"\")","v":""},{"$f":"IF(LEN('1 - Opstart Importark'!$B$23)>0,'1 - Opstart Importark'!$B$23,\"\")","v":""},{"$nulls":14},"",{"$nulls":8},0,"","","objektnogle_"]
[495,null,{"$f":"IF('1 - Opstart Importark'!$B$6=\"\",\"\",(IF('1 - Opstart Importark'!$B$15=\"\",CONCATENATE(LEFT('1 - Opstart Importark'!$B$3,1),(LEFT('1 - Opstart Importark'!$B$20,5)),MID('1 - Opstart Importark'!$B$20,5,2),LEFT('1 - Opstart Importark'!$B$28,3),IF(I507=\"\",\"\",\"-\"),I507,IF(K507=\"\",\"\",\"-\"),K507,IF(M507=\"\",\"\",\"-\"),M507),CONCATENATE(LEFT('1 - Opstart Importark'!$B$3,1),(LEFT('1 - Opstart Importark'!$B$15,5)),(LEFT('1 - Opstart Importark'!$B$18,3)),IF(I507=\"\",\"\",\"-\"),I507,IF(K507=\"\",\"\",\"-\"),K507,IF(M507=\"\",\"\",\"-\"),M507))))","v":""},null," ",{"$nulls":9},{"$f":"IF(LEN('1 - Opstart Importark'!$B$6)>0,'1 - Opstart Importark'!$B$6,\"\")","v":""},{"$f":"IF(LEN('1 - Opstart Importark'!$B$9)>0,'1 - Opstart Importark'!$B$9,\"\")","v":""},{"$f":"IF(LEN('1 - Opstart Importark'!$B$23)>0,'1 - Opstart Importark'!$B$23,\"\")","v":""},{"$nulls":14},"",{"$nulls":8},0,"","","objektnogle_"]
[496,null,{"$f":"IF('1 - Opstart Importark'!$B$6=\"\",\"\",(IF('1 - Opstart Importark'!$B$15=\"\",CONCATENATE(LEFT('1 - Opstart Importark'!$B$3,1),(LEFT('1 - Opstart Importark'!$B$20,5)),MID('1 - Opstart Importark'!$B$20,5,2),LEFT('1 - Opstart Importark'!$B$28,3),IF(I508=\"\",\"\",\"-\"),I508,IF(K508=\"\",\"\",\"-\"),K508,IF(M508=\"\",\"\",\"-\"),M508),CONCATENATE(LEFT('1 - Opstart Importark'!$B$3,1),(LEFT('1 - Opstart Importark'!$B$15,5)),(LEFT('1 - Opstart Importark'!$B$18,3)),IF(I508=\"\",\"\",\"-\"),I508,IF(K508=\"\",\"\",\"-\"),K508,IF(M508=\"\",\"\",\"-\"),M508))))","v":""},null," ",{"$nulls":9},{"$f":"IF(LEN('1 - Opstart Importark'!$B$6)>0,'1 - Opstart Importark'!$B$6,\"\")","v":""},{"$f":"IF(LEN('1 - Opstart Importark'!$B$9)>0,'1 - Opstart Importark'!$B$9,\"\")","v":""},{"$f":"IF(LEN('1 - Opstart Importark'!$B$23)>0,'1 - Opstart Importark'!$B$23,\"\")","v":""},{"$nulls":14},"",{"$nulls":8},0,"","","objektnogle_"]
[497,null,{"$f":"IF('1 - Opstart Importark'!$B$6=\"\",\"\",(IF('1 - Opstart Importark'!$B$15=\"\",CONCATENATE(LEFT('1 - Opstart Importark'!$B$3,1),(LEFT('1 - Opstart Importark'!$B$20,5)),MID('1 - Opstart Importark'!$B$20,5,2),LEFT('1 - Opstart Importark'!$B$28,3),IF(I509=\"\",\"\",\"-\"),I509,IF(K509=\"\",\"\",\"-\"),K509,IF(M509=\"\",\"\",\"-\"),M509),CONCATENATE(LEFT('1 - Opstart Importark'!$B$3,1),(LEFT('1 - Opstart Importark'!$B$15,5)),(LEFT('1 - Opstart Importark'!$B$18,3)),IF(I509=\"\",\"\",\"-\"),I509,IF(K509=\"\",\"\",\"-\"),K509,IF(M509=\"\",\"\",\"-\"),M509))))","v":""},null," ",{"$nulls":9},{"$f":"IF(LEN('1 - Opstart Importark'!$B$6)>0,'1 - Opstart Importark'!$B$6,\"\")","v":""},{"$f":"IF(LEN('1 - Opstart Importark'!$B$9)>0,'1 - Opstart Importark'!$B$9,\"\")","v":""},{"$f":"IF(LEN('1 - Opstart Importark'!$B$23)>0,'1 - Opstart Importark'!$B$23,\"\")","v":""},{"$nulls":14},"",{"$nulls":8},0,"","","objektnogle_"]
[498,null,{"$f":"IF('1 - Opstart Importark'!$B$6=\"\",\"\",(IF('1 - Opstart Importark'!$B$15=\"\",CONCATENATE(LEFT('1 - Opstart Importark'!$B$3,1),(LEFT('1 - Opstart Importark'!$B$20,5)),MID('1 - Opstart Importark'!$B$20,5,2),LEFT('1 - Opstart Importark'!$B$28,3),IF(I510=\"\",\"\",\"-\"),I510,IF(K510=\"\",\"\",\"-\"),K510,IF(M510=\"\",\"\",\"-\"),M510),CONCATENATE(LEFT('1 - Opstart Importark'!$B$3,1),(LEFT('1 - Opstart Importark'!$B$15,5)),(LEFT('1 - Opstart Importark'!$B$18,3)),IF(I510=\"\",\"\",\"-\"),I510,IF(K510=\"\",\"\",\"-\"),K510,IF(M510=\"\",\"\",\"-\"),M510))))","v":""},null," ",{"$nulls":9},{"$f":"IF(LEN('1 - Opstart Importark'!$B$6)>0,'1 - Opstart Importark'!$B$6,\"\")","v":""},{"$f":"IF(LEN('1 - Opstart Importark'!$B$9)>0,'1 - Opstart Importark'!$B$9,\"\")","v":""},{"$f":"IF(LEN('1 - Opstart Importark'!$B$23)>0,'1 - Opstart Importark'!$B$23,\"\")","v":""},{"$nulls":14},"",{"$nulls":8},0,"","","objektnogle_"]
[499,null,{"$f":"IF('1 - Opstart Importark'!$B$6=\"\",\"\",(IF('1 - Opstart Importark'!$B$15=\"\",CONCATENATE(LEFT('1 - Opstart Importark'!$B$3,1),(LEFT('1 - Opstart Importark'!$B$20,5)),MID('1 - Opstart Importark'!$B$20,5,2),LEFT('1 - Opstart Importark'!$B$28,3),IF(I511=\"\",\"\",\"-\"),I511,IF(K511=\"\",\"\",\"-\"),K511,IF(M511=\"\",\"\",\"-\"),M511),CONCATENATE(LEFT('1 - Opstart Importark'!$B$3,1),(LEFT('1 - Opstart Importark'!$B$15,5)),(LEFT('1 - Opstart Importark'!$B$18,3)),IF(I511=\"\",\"\",\"-\"),I511,IF(K511=\"\",\"\",\"-\"),K511,IF(M511=\"\",\"\",\"-\"),M511))))","v":""},null," ",{"$nulls":9},{"$f":"IF(LEN('1 - Opstart Importark'!$B$6)>0,'1 - Opstart Importark'!$B$6,\"\")","v":""},{"$f":"IF(LEN('1 - Opstart Importark'!$B$9)>0,'1 - Opstart Importark'!$B$9,\"\")","v":""},{"$f":"IF(LEN('1 - Opstart Importark'!$B$23)>0,'1 - Opstart Importark'!$B$23,\"\")","v":""},{"$nulls":14},"",{"$nulls":8},0,"","","objektnogle_"]
[500,null,{"$f":"IF('1 - Opstart Importark'!$B$6=\"\",\"\",(IF('1 - Opstart Importark'!$B$15=\"\",CONCATENATE(LEFT('1 - Opstart Importark'!$B$3,1),(LEFT('1 - Opstart Importark'!$B$20,5)),MID('1 - Opstart Importark'!$B$20,5,2),LEFT('1 - Opstart Importark'!$B$28,3),IF(I512=\"\",\"\",\"-\"),I512,IF(K512=\"\",\"\",\"-\"),K512,IF(M512=\"\",\"\",\"-\"),M512),CONCATENATE(LEFT('1 - Opstart Importark'!$B$3,1),(LEFT('1 - Opstart Importark'!$B$15,5)),(LEFT('1 - Opstart Importark'!$B$18,3)),IF(I512=\"\",\"\",\"-\"),I512,IF(K512=\"\",\"\",\"-\"),K512,IF(M512=\"\",\"\",\"-\"),M512))))","v":""},null," ",{"$nulls":9},{"$f":"IF(LEN('1 - Opstart Importark'!$B$6)>0,'1 - Opstart Importark'!$B$6,\"\")","v":""},{"$f":"IF(LEN('1 - Opstart Importark'!$B$9)>0,'1 - Opstart Importark'!$B$9,\"\")","v":""},{"$f":"IF(LEN('1 - Opstart Importark'!$B$23)>0,'1 - Opstart Importark'!$B$23,\"\")","v":""},{"$nulls":14},"",{"$nulls":8},0,"","","objektnogle_"]
[501,null,{"$f":"IF('1 - Opstart Importark'!$B$6=\"\",\"\",(IF('1 - Opstart Importark'!$B$15=\"\",CONCATENATE(LEFT('1 - Opstart Importark'!$B$3,1),(LEFT('1 - Opstart Importark'!$B$20,5)),MID('1 - Opstart Importark'!$B$20,5,2),LEFT('1 - Opstart Importark'!$B$28,3),IF(I513=\"\",\"\",\"-\"),I513,IF(K513=\"\",\"\",\"-\"),K513,IF(M513=\"\",\"\",\"-\"),M513),CONCATENATE(LEFT('1 - Opstart Importark'!$B$3,1),(LEFT('1 - Opstart Importark'!$B$15,5)),(LEFT('1 - Opstart Importark'!$B$18,3)),IF(I513=\"\",\"\",\"-\"),I513,IF(K513=\"\",\"\",\"-\"),K513,IF(M513=\"\",\"\",\"-\"),M513))))","v":""},null," ",{"$nulls":9},{"$f":"IF(LEN('1 - Opstart Importark'!$B$6)>0,'1 - Opstart Importark'!$B$6,\"\")","v":""},{"$f":"IF(LEN('1 - Opstart Importark'!$B$9)>0,'1 - Opstart Importark'!$B$9,\"\")","v":""},{"$f":"IF(LEN('1 - Opstart Importark'!$B$23)>0,'1 - Opstart Importark'!$B$23,\"\")","v":""},{"$nulls":14},"",{"$nulls":8},0,"","","objektnogle_"]
[502,null,{"$f":"IF('1 - Opstart Importark'!$B$6=\"\",\"\",(IF('1 - Opstart Importark'!$B$15=\"\",CONCATENATE(LEFT('1 - Opstart Importark'!$B$3,1),(LEFT('1 - Opstart Importark'!$B$20,5)),MID('1 - Opstart Importark'!$B$20,5,2),LEFT('1 - Opstart Importark'!$B$28,3),IF(I514=\"\",\"\",\"-\"),I514,IF(K514=\"\",\"\",\"-\"),K514,IF(M514=\"\",\"\",\"-\"),M514),CONCATENATE(LEFT('1 - Opstart Importark'!$B$3,1),(LEFT('1 - Opstart Importark'!$B$15,5)),(LEFT('1 - Opstart Importark'!$B$18,3)),IF(I514=\"\",\"\",\"-\"),I514,IF(K514=\"\",\"\",\"-\"),K514,IF(M514=\"\",\"\",\"-\"),M514))))","v":""},null," ",{"$nulls":9},{"$f":"IF(LEN('1 - Opstart Importark'!$B$6)>0,'1 - Opstart Importark'!$B$6,\"\")","v":""},{"$f":"IF(LEN('1 - Opstart Importark'!$B$9)>0,'1 - Opstart Importark'!$B$9,\"\")","v":""},{"$f":"IF(LEN('1 - Opstart Importark'!$B$23)>0,'1 - Opstart Importark'!$B$23,\"\")","v":""},{"$nulls":14},"",{"$nulls":8},0,"","","objektnogle_"]
[503,null,{"$f":"IF('1 - Opstart Importark'!$B$6=\"\",\"\",(IF('1 - Opstart Importark'!$B$15=\"\",CONCATENATE(LEFT('1 - Opstart Importark'!$B$3,1),(LEFT('1 - Opstart Importark'!$B$20,5)),MID('1 - Opstart Importark'!$B$20,5,2),LEFT('1 - Opstart Importark'!$B$28,3),IF(I515=\"\",\"\",\"-\"),I515,IF(K515=\"\",\"\",\"-\"),K515,IF(M515=\"\",\"\",\"-\"),M515),CONCATENATE(LEFT('1 - Opstart Importark'!$B$3,1),(LEFT('1 - Opstart Importark'!$B$15,5)),(LEFT('1 - Opstart Importark'!$B$18,3)),IF(I515=\"\",\"\",\"-\"),I515,IF(K515=\"\",\"\",\"-\"),K515,IF(M515=\"\",\"\",\"-\"),M515))))","v":""},null," ",{"$nulls":9},{"$f":"IF(LEN('1 - Opstart Importark'!$B$6)>0,'1 - Opstart Importark'!$B$6,\"\")","v":""},{"$f":"IF(LEN('1 - Opstart Importark'!$B$9)>0,'1 - Opstart Importark'!$B$9,\"\")","v":""},{"$f":"IF(LEN('1 - Opstart Importark'!$B$23)>0,'1 - Opstart Importark'!$B$23,\"\")","v":""},{"$nulls":14},"",{"$nulls":8},0,"","","objektnogle_"]
[504,null,{"$f":"IF('1 - Opstart Importark'!$B$6=\"\",\"\",(IF('1 - Opstart Importark'!$B$15=\"\",CONCATENATE(LEFT('1 - Opstart Importark'!$B$3,1),(LEFT('1 - Opstart Importark'!$B$20,5)),MID('1 - Opstart Importark'!$B$20,5,2),LEFT('1 - Opstart Importark'!$B$28,3),IF(I516=\"\",\"\",\"-\"),I516,IF(K516=\"\",\"\",\"-\"),K516,IF(M516=\"\",\"\",\"-\"),M516),CONCATENATE(LEFT('1 - Opstart Importark'!$B$3,1),(LEFT('1 - Opstart Importark'!$B$15,5)),(LEFT('1 - Opstart Importark'!$B$18,3)),IF(I516=\"\",\"\",\"-\"),I516,IF(K516=\"\",\"\",\"-\"),K516,IF(M516=\"\",\"\",\"-\"),M516))))","v":""},null," ",{"$nulls":9},{"$f":"IF(LEN('1 - Opstart Importark'!$B$6)>0,'1 - Opstart Importark'!$B$6,\"\")","v":""},{"$f":"IF(LEN('1 - Opstart Importark'!$B$9)>0,'1 - Opstart Importark'!$B$9,\"\")","v":""},{"$f":"IF(LEN('1 - Opstart Importark'!$B$23)>0,'1 - Opstart Importark'!$B$23,\"\")","v":""},{"$nulls":14},"",{"$nulls":8},0,"","","objektnogle_"]
[505,null,{"$f":"IF('1 - Opstart Importark'!$B$6=\"\",\"\",(IF('1 - Opstart Importark'!$B$15=\"\",CONCATENATE(LEFT('1 - Opstart Importark'!$B$3,1),(LEFT('1 - Opstart Importark'!$B$20,5)),MID('1 - Opstart Importark'!$B$20,5,2),LEFT('1 - Opstart Importark'!$B$28,3),IF(I517=\"\",\"\",\"-\"),I517,IF(K517=\"\",\"\",\"-\"),K517,IF(M517=\"\",\"\",\"-\"),M517),CONCATENATE(LEFT('1 - Opstart Importark'!$B$3,1),(LEFT('1 - Opstart Importark'!$B$15,5)),(LEFT('1 - Opstart Importark'!$B$18,3)),IF(I517=\"\",\"\",\"-\"),I517,IF(K517=\"\",\"\",\"-\"),K517,IF(M517=\"\",\"\",\"-\"),M517))))","v":""},null," ",{"$nulls":9},{"$f":"IF(LEN('1 - Opstart Importark'!$B$6)>0,'1 - Opstart Importark'!$B$6,\"\")","v":""},{"$f":"IF(LEN('1 - Opstart Importark'!$B$9)>0,'1 - Opstart Importark'!$B$9,\"\")","v":""},{"$f":"IF(LEN('1 - Opstart Importark'!$B$23)>0,'1 - Opstart Importark'!$B$23,\"\")","v":""},{"$nulls":14},"",{"$nulls":8},0,"","","objektnogle_"]
[506,null,{"$f":"IF('1 - Opstart Importark'!$B$6=\"\",\"\",(IF('1 - Opstart Importark'!$B$15=\"\",CONCATENATE(LEFT('1 - Opstart Importark'!$B$3,1),(LEFT('1 - Opstart Importark'!$B$20,5)),MID('1 - Opstart Importark'!$B$20,5,2),LEFT('1 - Opstart Importark'!$B$28,3),IF(I518=\"\",\"\",\"-\"),I518,IF(K518=\"\",\"\",\"-\"),K518,IF(M518=\"\",\"\",\"-\"),M518),CONCATENATE(LEFT('1 - Opstart Importark'!$B$3,1),(LEFT('1 - Opstart Importark'!$B$15,5)),(LEFT('1 - Opstart Importark'!$B$18,3)),IF(I518=\"\",\"\",\"-\"),I518,IF(K518=\"\",\"\",\"-\"),K518,IF(M518=\"\",\"\",\"-\"),M518))))","v":""},null," ",{"$nulls":9},{"$f":"IF(LEN('1 - Opstart Importark'!$B$6)>0,'1 - Opstart Importark'!$B$6,\"\")","v":""},{"$f":"IF(LEN('1 - Opstart Importark'!$B$9)>0,'1 - Opstart Importark'!$B$9,\"\")","v":""},{"$f":"IF(LEN('1 - Opstart Importark'!$B$23)>0,'1 - Opstart Importark'!$B$23,\"\")","v":""},{"$nulls":14},"",{"$nulls":8},0,"","","objektnogle_"]
[507,null,{"$f":"IF('1 - Opstart Importark'!$B$6=\"\",\"\",(IF('1 - Opstart Importark'!$B$15=\"\",CONCATENATE(LEFT('1 - Opstart Importark'!$B$3,1),(LEFT('1 - Opstart Importark'!$B$20,5)),MID('1 - Opstart Importark'!$B$20,5,2),LEFT('1 - Opstart Importark'!$B$28,3),IF(I519=\"\",\"\",\"-\"),I519,IF(K519=\"\",\"\",\"-\"),K519,IF(M519=\"\",\"\",\"-\"),M519),CONCATENATE(LEFT('1 - Opstart Importark'!$B$3,1),(LEFT('1 - Opstart Importark'!$B$15,5)),(LEFT('1 - Opstart Importark'!$B$18,3)),IF(I519=\"\",\"\",\"-\"),I519,IF(K519=\"\",\"\",\"-\"),K519,IF(M519=\"\",\"\",\"-\"),M519))))","v":""},null," ",{"$nulls":9},{"$f":"IF(LEN('1 - Opstart Importark'!$B$6)>0,'1 - Opstart Importark'!$B$6,\"\")","v":""},{"$f":"IF(LEN('1 - Opstart Importark'!$B$9)>0,'1 - Opstart Importark'!$B$9,\"\")","v":""},{"$f":"IF(LEN('1 - Opstart Importark'!$B$23)>0,'1 - Opstart Importark'!$B$23,\"\")","v":""},{"$nulls":14},"",{"$nulls":8},0,"","","objektnogle_"]
[508,null,{"$f":"IF('1 - Opstart Importark'!$B$6=\"\",\"\",(IF('1 - Opstart Importark'!$B$15=\"\",CONCATENATE(LEFT('1 - Opstart Importark'!$B$3,1),(LEFT('1 - Opstart Importark'!$B$20,5)),MID('1 - Opstart Importark'!$B$20,5,2),LEFT('1 - Opstart Importark'!$B$28,3),IF(I520=\"\",\"\",\"-\"),I520,IF(K520=\"\",\"\",\"-\"),K520,IF(M520=\"\",\"\",\"-\"),M520),CONCATENATE(LEFT('1 - Opstart Importark'!$B$3,1),(LEFT('1 - Opstart Importark'!$B$15,5)),(LEFT('1 - Opstart Importark'!$B$18,3)),IF(I520=\"\",\"\",\"-\"),I520,IF(K520=\"\",\"\",\"-\"),K520,IF(M520=\"\",\"\",\"-\"),M520))))","v":""},null," ",{"$nulls":9},{"$f":"IF(LEN('1 - Opstart Importark'!$B$6)>0,'1 - Opstart Importark'!$B$6,\"\")","v":""},{"$f":"IF(LEN('1 - Opstart Importark'!$B$9)>0,'1 - Opstart Importark'!$B$9,\"\")","v":""},{"$f":"IF(LEN('1 - Opstart Importark'!$B$23)>0,'1 - Opstart Importark'!$B$23,\"\")","v":""},{"$nulls":14},"",{"$nulls":8},0,"","","objektnogle_"]
[509,null,{"$f":"IF('1 - Opstart Importark'!$B$6=\"\",\"\",(IF('1 - Opstart Importark'!$B$15=\"\",CONCATENATE(LEFT('1 - Opstart Importark'!$B$3,1),(LEFT('1 - Opstart Importark'!$B$20,5)),MID('1 - Opstart Importark'!$B$20,5,2),LEFT('1 - Opstart Importark'!$B$28,3),IF(I521=\"\",\"\",\"-\"),I521,IF(K521=\"\",\"\",\"-\"),K521,IF(M521=\"\",\"\",\"-\"),M521),CONCATENATE(LEFT('1 - Opstart Importark'!$B$3,1),(LEFT('1 - Opstart Importark'!$B$15,5)),(LEFT('1 - Opstart Importark'!$B$18,3)),IF(I521=\"\",\"\",\"-\"),I521,IF(K521=\"\",\"\",\"-\"),K521,IF(M521=\"\",\"\",\"-\"),M521))))","v":""},null," ",{"$nulls":9},{"$f":"IF(LEN('1 - Opstart Importark'!$B$6)>0,'1 - Opstart Importark'!$B$6,\"\")","v":""},{"$f":"IF(LEN('1 - Opstart Importark'!$B$9)>0,'1 - Opstart Importark'!$B$9,\"\")","v":""},{"$f":"IF(LEN('1 - Opstart Importark'!$B$23)>0,'1 - Opstart Importark'!$B$23,\"\")","v":""},{"$nulls":14},"",{"$nulls":8},0,"","","objektnogle_"]
[510,null,{"$f":"IF('1 - Opstart Importark'!$B$6=\"\",\"\",(IF('1 - Opstart Importark'!$B$15=\"\",CONCATENATE(LEFT('1 - Opstart Importark'!$B$3,1),(LEFT('1 - Opstart Importark'!$B$20,5)),MID('1 - Opstart Importark'!$B$20,5,2),LEFT('1 - Opstart Importark'!$B$28,3),IF(I522=\"\",\"\",\"-\"),I522,IF(K522=\"\",\"\",\"-\"),K522,IF(M522=\"\",\"\",\"-\"),M522),CONCATENATE(LEFT('1 - Opstart Importark'!$B$3,1),(LEFT('1 - Opstart Importark'!$B$15,5)),(LEFT('1 - Opstart Importark'!$B$18,3)),IF(I522=\"\",\"\",\"-\"),I522,IF(K522=\"\",\"\",\"-\"),K522,IF(M522=\"\",\"\",\"-\"),M522))))","v":""},null," ",{"$nulls":9},{"$f":"IF(LEN('1 - Opstart Importark'!$B$6)>0,'1 - Opstart Importark'!$B$6,\"\")","v":""},{"$f":"IF(LEN('1 - Opstart Importark'!$B$9)>0,'1 - Opstart Importark'!$B$9,\"\")","v":""},{"$f":"IF(LEN('1 - Opstart Importark'!$B$23)>0,'1 - Opstart Importark'!$B$23,\"\")","v":""},{"$nulls":14},"",{"$nulls":8},0,"","","objektnogle_"]
[511,null,{"$f":"IF('1 - Opstart Importark'!$B$6=\"\",\"\",(IF('1 - Opstart Importark'!$B$15=\"\",CONCATENATE(LEFT('1 - Opstart Importark'!$B$3,1),(LEFT('1 - Opstart Importark'!$B$20,5)),MID('1 - Opstart Importark'!$B$20,5,2),LEFT('1 - Opstart Importark'!$B$28,3),IF(I523=\"\",\"\",\"-\"),I523,IF(K523=\"\",\"\",\"-\"),K523,IF(M523=\"\",\"\",\"-\"),M523),CONCATENATE(LEFT('1 - Opstart Importark'!$B$3,1),(LEFT('1 - Opstart Importark'!$B$15,5)),(LEFT('1 - Opstart Importark'!$B$18,3)),IF(I523=\"\",\"\",\"-\"),I523,IF(K523=\"\",\"\",\"-\"),K523,IF(M523=\"\",\"\",\"-\"),M523))))","v":""},null," ",{"$nulls":9},{"$f":"IF(LEN('1 - Opstart Importark'!$B$6)>0,'1 - Opstart Importark'!$B$6,\"\")","v":""},{"$f":"IF(LEN('1 - Opstart Importark'!$B$9)>0,'1 - Opstart Importark'!$B$9,\"\")","v":""},{"$f":"IF(LEN('1 - Opstart Importark'!$B$23)>0,'1 - Opstart Importark'!$B$23,\"\")","v":""},{"$nulls":14},"",{"$nulls":8},0,"","","objektnogle_"]
[512,null,{"$f":"IF('1 - Opstart Importark'!$B$6=\"\",\"\",(IF('1 - Opstart Importark'!$B$15=\"\",CONCATENATE(LEFT('1 - Opstart Importark'!$B$3,1),(LEFT('1 - Opstart Importark'!$B$20,5)),MID('1 - Opstart Importark'!$B$20,5,2),LEFT('1 - Opstart Importark'!$B$28,3),IF(I524=\"\",\"\",\"-\"),I524,IF(K524=\"\",\"\",\"-\"),K524,IF(M524=\"\",\"\",\"-\"),M524),CONCATENATE(LEFT('1 - Opstart Importark'!$B$3,1),(LEFT('1 - Opstart Importark'!$B$15,5)),(LEFT('1 - Opstart Importark'!$B$18,3)),IF(I524=\"\",\"\",\"-\"),I524,IF(K524=\"\",\"\",\"-\"),K524,IF(M524=\"\",\"\",\"-\"),M524))))","v":""},null," ",{"$nulls":9},{"$f":"IF(LEN('1 - Opstart Importark'!$B$6)>0,'1 - Opstart Importark'!$B$6,\"\")","v":""},{"$f":"IF(LEN('1 - Opstart Importark'!$B$9)>0,'1 - Opstart Importark'!$B$9,\"\")","v":""},{"$f":"IF(LEN('1 - Opstart Importark'!$B$23)>0,'1 - Opstart Importark'!$B$23,\"\")","v":""},{"$nulls":14},"",{"$nulls":8},0,"","","objektnogle_"]
[513,null,{"$f":"IF('1 - Opstart Importark'!$B$6=\"\",\"\",(IF('1 - Opstart Importark'!$B$15=\"\",CONCATENATE(LEFT('1 - Opstart Importark'!$B$3,1),(LEFT('1 - Opstart Importark'!$B$20,5)),MID('1 - Opstart Importark'!$B$20,5,2),LEFT('1 - Opstart Importark'!$B$28,3),IF(I525=\"\",\"\",\"-\"),I525,IF(K525=\"\",\"\",\"-\"),K525,IF(M525=\"\",\"\",\"-\"),M525),CONCATENATE(LEFT('1 - Opstart Importark'!$B$3,1),(LEFT('1 - Opstart Importark'!$B$15,5)),(LEFT('1 - Opstart Importark'!$B$18,3)),IF(I525=\"\",\"\",\"-\"),I525,IF(K525=\"\",\"\",\"-\"),K525,IF(M525=\"\",\"\",\"-\"),M525))))","v":""},null," ",{"$nulls":9},{"$f":"IF(LEN('1 - Opstart Importark'!$B$6)>0,'1 - Opstart Importark'!$B$6,\"\")","v":""},{"$f":"IF(LEN('1 - Opstart Importark'!$B$9)>0,'1 - Opstart Importark'!$B$9,\"\")","v":""},{"$f":"IF(LEN('1 - Opstart Importark'!$B$23)>0,'1 - Opstart Importark'!$B$23,\"\")","v":""},{"$nulls":14},{"$f":"IF(K525=\"\",\"\",VLOOKUP(LEFT(K525,1),objektfilter,2))","v":""},{"$nulls":8},{"$f":"IFERROR(FIND(\".\",F525),)","v":0},"","","objektnogle_"]
[514,null,{"$f":"IF('1 - Opstart Importark'!$B$6=\"\",\"\",(IF('1 - Opstart Importark'!$B$15=\"\",CONCATENATE(LEFT('1 - Opstart Importark'!$B$3,1),(LEFT('1 - Opstart Importark'!$B$20,5)),MID('1 - Opstart Importark'!$B$20,5,2),LEFT('1 - Opstart Importark'!$B$28,3),IF(I526=\"\",\"\",\"-\"),I526,IF(K526=\"\",\"\",\"-\"),K526,IF(M526=\"\",\"\",\"-\"),M526),CONCATENATE(LEFT('1 - Opstart Importark'!$B$3,1),(LEFT('1 - Opstart Importark'!$B$15,5)),(LEFT('1 - Opstart Importark'!$B$18,3)),IF(I526=\"\",\"\",\"-\"),I526,IF(K526=\"\",\"\",\"-\"),K526,IF(M526=\"\",\"\",\"-\"),M526))))","v":""},null," ",{"$nulls":9},{"$f":"IF(LEN('1 - Opstart Importark'!$B$6)>0,'1 - Opstart Importark'!$B$6,\"\")","v":""},{"$f":"IF(LEN('1 - Opstart Importark'!$B$9)>0,'1 - Opstart Importark'!$B$9,\"\")","v":""},{"$f":"IF(LEN('1 - Opstart Importark'!$B$23)>0,'1 - Opstart Importark'!$B$23,\"\")","v":""},{"$nulls":14},"",{"$nulls":8},0,{"$f":"IF(K526=\"\",\"\",IF(LEFT(K526,1)=\"E\",0,1))","v":""},{"$f":"IF(K526=\"\",\"\",IF(LEFT(K526,1)=\"E\",0,1))","v":""},{"$f":"IF(W526=\"\", CONCATENATE(\"objektnogle_\",LEFT(AF526,1)),CONCATENATE(\"objektnogle_\",LEFT(W526,1)))","v":"objektnogle_"}]
[515,null,{"$f":"IF('1 - Opstart Importark'!$B$6=\"\",\"\",(IF('1 - Opstart Importark'!$B$15=\"\",CONCATENATE(LEFT('1 - Opstart Importark'!$B$3,1),(LEFT('1 - Opstart Importark'!$B$20,5)),MID('1 - Opstart Importark'!$B$20,5,2),LEFT('1 - Opstart Importark'!$B$28,3),IF(I527=\"\",\"\",\"-\"),I527,IF(K527=\"\",\"\",\"-\"),K527,IF(M527=\"\",\"\",\"-\"),M527),CONCATENATE(LEFT('1 - Opstart Importark'!$B$3,1),(LEFT('1 - Opstart Importark'!$B$15,5)),(LEFT('1 - Opstart Importark'!$B$18,3)),IF(I527=\"\",\"\",\"-\"),I527,IF(K527=\"\",\"\",\"-\"),K527,IF(M527=\"\",\"\",\"-\"),M527))))","v":""},null," ",{"$nulls":9},{"$f":"IF(LEN('1 - Opstart Importark'!$B$6)>0,'1 - Opstart Importark'!$B$6,\"\")","v":""},{"$f":"IF(LEN('1 - Opstart Importark'!$B$9)>0,'1 - Opstart Importark'!$B$9,\"\")","v":""},{"$f":"IF(LEN('1 - Opstart Importark'!$B$23)>0,'1 - Opstart Importark'!$B$23,\"\")","v":""},{"$nulls":14},"",{"$nulls":8},0,"","","objektnogle_"]
[516,null,{"$f":"IF('1 - Opstart Importark'!$B$6=\"\",\"\",(IF('1 - Opstart Importark'!$B$15=\"\",CONCATENATE(LEFT('1 - Opstart Importark'!$B$3,1),(LEFT('1 - Opstart Importark'!$B$20,5)),MID('1 - Opstart Importark'!$B$20,5,2),LEFT('1 - Opstart Importark'!$B$28,3),IF(I528=\"\",\"\",\"-\"),I528,IF(K528=\"\",\"\",\"-\"),K528,IF(M528=\"\",\"\",\"-\"),M528),CONCATENATE(LEFT('1 - Opstart Importark'!$B$3,1),(LEFT('1 - Opstart Importark'!$B$15,5)),(LEFT('1 - Opstart Importark'!$B$18,3)),IF(I528=\"\",\"\",\"-\"),I528,IF(K528=\"\",\"\",\"-\"),K528,IF(M528=\"\",\"\",\"-\"),M528))))","v":""},null," ",{"$nulls":9},{"$f":"IF(LEN('1 - Opstart Importark'!$B$6)>0,'1 - Opstart Importark'!$B$6,\"\")","v":""},{"$f":"IF(LEN('1 - Opstart Importark'!$B$9)>0,'1 - Opstart Importark'!$B$9,\"\")","v":""},{"$f":"IF(LEN('1 - Opstart Importark'!$B$23)>0,'1 - Opstart Importark'!$B$23,\"\")","v":""},{"$nulls":14},"",{"$nulls":8},0,"","","objektnogle_"]
[517,null,{"$f":"IF('1 - Opstart Importark'!$B$6=\"\",\"\",(IF('1 - Opstart Importark'!$B$15=\"\",CONCATENATE(LEFT('1 - Opstart Importark'!$B$3,1),(LEFT('1 - Opstart Importark'!$B$20,5)),MID('1 - Opstart Importark'!$B$20,5,2),LEFT('1 - Opstart Importark'!$B$28,3),IF(I529=\"\",\"\",\"-\"),I529,IF(K529=\"\",\"\",\"-\"),K529,IF(M529=\"\",\"\",\"-\"),M529),CONCATENATE(LEFT('1 - Opstart Importark'!$B$3,1),(LEFT('1 - Opstart Importark'!$B$15,5)),(LEFT('1 - Opstart Importark'!$B$18,3)),IF(I529=\"\",\"\",\"-\"),I529,IF(K529=\"\",\"\",\"-\"),K529,IF(M529=\"\",\"\",\"-\"),M529))))","v":""},null," ",{"$nulls":9},{"$f":"IF(LEN('1 - Opstart Importark'!$B$6)>0,'1 - Opstart Importark'!$B$6,\"\")","v":""},{"$f":"IF(LEN('1 - Opstart Importark'!$B$9)>0,'1 - Opstart Importark'!$B$9,\"\")","v":""},{"$f":"IF(LEN('1 - Opstart Importark'!$B$23)>0,'1 - Opstart Importark'!$B$23,\"\")","v":""},{"$nulls":14},"",{"$nulls":8},0,"","","objektnogle_"]
[518,null,{"$f":"IF('1 - Opstart Importark'!$B$6=\"\",\"\",(IF('1 - Opstart Importark'!$B$15=\"\",CONCATENATE(LEFT('1 - Opstart Importark'!$B$3,1),(LEFT('1 - Opstart Importark'!$B$20,5)),MID('1 - Opstart Importark'!$B$20,5,2),LEFT('1 - Opstart Importark'!$B$28,3),IF(I530=\"\",\"\",\"-\"),I530,IF(K530=\"\",\"\",\"-\"),K530,IF(M530=\"\",\"\",\"-\"),M530),CONCATENATE(LEFT('1 - Opstart Importark'!$B$3,1),(LEFT('1 - Opstart Importark'!$B$15,5)),(LEFT('1 - Opstart Importark'!$B$18,3)),IF(I530=\"\",\"\",\"-\"),I530,IF(K530=\"\",\"\",\"-\"),K530,IF(M530=\"\",\"\",\"-\"),M530))))","v":""},null," ",{"$nulls":9},{"$f":"IF(LEN('1 - Opstart Importark'!$B$6)>0,'1 - Opstart Importark'!$B$6,\"\")","v":""},{"$f":"IF(LEN('1 - Opstart Importark'!$B$9)>0,'1 - Opstart Importark'!$B$9,\"\")","v":""},{"$f":"IF(LEN('1 - Opstart Importark'!$B$23)>0,'1 - Opstart Importark'!$B$23,\"\")","v":""},{"$nulls":14},"",{"$nulls":8},0,"","","objektnogle_"]
[519,null,{"$f":"IF('1 - Opstart Importark'!$B$6=\"\",\"\",(IF('1 - Opstart Importark'!$B$15=\"\",CONCATENATE(LEFT('1 - Opstart Importark'!$B$3,1),(LEFT('1 - Opstart Importark'!$B$20,5)),MID('1 - Opstart Importark'!$B$20,5,2),LEFT('1 - Opstart Importark'!$B$28,3),IF(I531=\"\",\"\",\"-\"),I531,IF(K531=\"\",\"\",\"-\"),K531,IF(M531=\"\",\"\",\"-\"),M531),CONCATENATE(LEFT('1 - Opstart Importark'!$B$3,1),(LEFT('1 - Opstart Importark'!$B$15,5)),(LEFT('1 - Opstart Importark'!$B$18,3)),IF(I531=\"\",\"\",\"-\"),I531,IF(K531=\"\",\"\",\"-\"),K531,IF(M531=\"\",\"\",\"-\"),M531))))","v":""},null," ",{"$nulls":9},{"$f":"IF(LEN('1 - Opstart Importark'!$B$6)>0,'1 - Opstart Importark'!$B$6,\"\")","v":""},{"$f":"IF(LEN('1 - Opstart Importark'!$B$9)>0,'1 - Opstart Importark'!$B$9,\"\")","v":""},{"$f":"IF(LEN('1 - Opstart Importark'!$B$23)>0,'1 - Opstart Importark'!$B$23,\"\")","v":""},{"$nulls":14},"",{"$nulls":8},0,"","","objektnogle_"]
[520,null,{"$f":"IF('1 - Opstart Importark'!$B$6=\"\",\"\",(IF('1 - Opstart Importark'!$B$15=\"\",CONCATENATE(LEFT('1 - Opstart Importark'!$B$3,1),(LEFT('1 - Opstart Importark'!$B$20,5)),MID('1 - Opstart Importark'!$B$20,5,2),LEFT('1 - Opstart Importark'!$B$28,3),IF(I532=\"\",\"\",\"-\"),I532,IF(K532=\"\",\"\",\"-\"),K532,IF(M532=\"\",\"\",\"-\"),M532),CONCATENATE(LEFT('1 - Opstart Importark'!$B$3,1),(LEFT('1 - Opstart Importark'!$B$15,5)),(LEFT('1 - Opstart Importark'!$B$18,3)),IF(I532=\"\",\"\",\"-\"),I532,IF(K532=\"\",\"\",\"-\"),K532,IF(M532=\"\",\"\",\"-\"),M532))))","v":""},null," ",{"$nulls":9},{"$f":"IF(LEN('1 - Opstart Importark'!$B$6)>0,'1 - Opstart Importark'!$B$6,\"\")","v":""},{"$f":"IF(LEN('1 - Opstart Importark'!$B$9)>0,'1 - Opstart Importark'!$B$9,\"\")","v":""},{"$f":"IF(LEN('1 - Opstart Importark'!$B$23)>0,'1 - Opstart Importark'!$B$23,\"\")","v":""},{"$nulls":14},"",{"$nulls":8},0,"","","objektnogle_"]
[521,null,{"$f":"IF('1 - Opstart Importark'!$B$6=\"\",\"\",(IF('1 - Opstart Importark'!$B$15=\"\",CONCATENATE(LEFT('1 - Opstart Importark'!$B$3,1),(LEFT('1 - Opstart Importark'!$B$20,5)),MID('1 - Opstart Importark'!$B$20,5,2),LEFT('1 - Opstart Importark'!$B$28,3),IF(I533=\"\",\"\",\"-\"),I533,IF(K533=\"\",\"\",\"-\"),K533,IF(M533=\"\",\"\",\"-\"),M533),CONCATENATE(LEFT('1 - Opstart Importark'!$B$3,1),(LEFT('1 - Opstart Importark'!$B$15,5)),(LEFT('1 - Opstart Importark'!$B$18,3)),IF(I533=\"\",\"\",\"-\"),I533,IF(K533=\"\",\"\",\"-\"),K533,IF(M533=\"\",\"\",\"-\"),M533))))","v":""},null," ",{"$nulls":9},{"$f":"IF(LEN('1 - Opstart Importark'!$B$6)>0,'1 - Opstart Importark'!$B$6,\"\")","v":""},{"$f":"IF(LEN('1 - Opstart Importark'!$B$9)>0,'1 - Opstart Importark'!$B$9,\"\")","v":""},{"$f":"IF(LEN('1 - Opstart Importark'!$B$23)>0,'1 - Opstart Importark'!$B$23,\"\")","v":""},{"$nulls":14},"",{"$nulls":8},0,"","","objektnogle_"]
[522,null,{"$f":"IF('1 - Opstart Importark'!$B$6=\"\",\"\",(IF('1 - Opstart Importark'!$B$15=\"\",CONCATENATE(LEFT('1 - Opstart Importark'!$B$3,1),(LEFT('1 - Opstart Importark'!$B$20,5)),MID('1 - Opstart Importark'!$B$20,5,2),LEFT('1 - Opstart Importark'!$B$28,3),IF(I534=\"\",\"\",\"-\"),I534,IF(K534=\"\",\"\",\"-\"),K534,IF(M534=\"\",\"\",\"-\"),M534),CONCATENATE(LEFT('1 - Opstart Importark'!$B$3,1),(LEFT('1 - Opstart Importark'!$B$15,5)),(LEFT('1 - Opstart Importark'!$B$18,3)),IF(I534=\"\",\"\",\"-\"),I534,IF(K534=\"\",\"\",\"-\"),K534,IF(M534=\"\",\"\",\"-\"),M534))))","v":""},null," ",{"$nulls":9},{"$f":"IF(LEN('1 - Opstart Importark'!$B$6)>0,'1 - Opstart Importark'!$B$6,\"\")","v":""},{"$f":"IF(LEN('1 - Opstart Importark'!$B$9)>0,'1 - Opstart Importark'!$B$9,\"\")","v":""},{"$f":"IF(LEN('1 - Opstart Importark'!$B$23)>0,'1 - Opstart Importark'!$B$23,\"\")","v":""},{"$nulls":14},"",{"$nulls":8},0,"","","objektnogle_"]
[523,null,{"$f":"IF('1 - Opstart Importark'!$B$6=\"\",\"\",(IF('1 - Opstart Importark'!$B$15=\"\",CONCATENATE(LEFT('1 - Opstart Importark'!$B$3,1),(LEFT('1 - Opstart Importark'!$B$20,5)),MID('1 - Opstart Importark'!$B$20,5,2),LEFT('1 - Opstart Importark'!$B$28,3),IF(I535=\"\",\"\",\"-\"),I535,IF(K535=\"\",\"\",\"-\"),K535,IF(M535=\"\",\"\",\"-\"),M535),CONCATENATE(LEFT('1 - Opstart Importark'!$B$3,1),(LEFT('1 - Opstart Importark'!$B$15,5)),(LEFT('1 - Opstart Importark'!$B$18,3)),IF(I535=\"\",\"\",\"-\"),I535,IF(K535=\"\",\"\",\"-\"),K535,IF(M535=\"\",\"\",\"-\"),M535))))","v":""},null," ",{"$nulls":9},{"$f":"IF(LEN('1 - Opstart Importark'!$B$6)>0,'1 - Opstart Importark'!$B$6,\"\")","v":""},{"$f":"IF(LEN('1 - Opstart Importark'!$B$9)>0,'1 - Opstart Importark'!$B$9,\"\")","v":""},{"$f":"IF(LEN('1 - Opstart Importark'!$B$23)>0,'1 - Opstart Importark'!$B$23,\"\")","v":""},{"$nulls":14},"",{"$nulls":8},0,"","","objektnogle_"]
[524,null,{"$f":"IF('1 - Opstart Importark'!$B$6=\"\",\"\",(IF('1 - Opstart Importark'!$B$15=\"\",CONCATENATE(LEFT('1 - Opstart Importark'!$B$3,1),(LEFT('1 - Opstart Importark'!$B$20,5)),MID('1 - Opstart Importark'!$B$20,5,2),LEFT('1 - Opstart Importark'!$B$28,3),IF(I536=\"\",\"\",\"-\"),I536,IF(K536=\"\",\"\",\"-\"),K536,IF(M536=\"\",\"\",\"-\"),M536),CONCATENATE(LEFT('1 - Opstart Importark'!$B$3,1),(LEFT('1 - Opstart Importark'!$B$15,5)),(LEFT('1 - Opstart Importark'!$B$18,3)),IF(I536=\"\",\"\",\"-\"),I536,IF(K536=\"\",\"\",\"-\"),K536,IF(M536=\"\",\"\",\"-\"),M536))))","v":""},null," ",{"$nulls":9},{"$f":"IF(LEN('1 - Opstart Importark'!$B$6)>0,'1 - Opstart Importark'!$B$6,\"\")","v":""},{"$f":"IF(LEN('1 - Opstart Importark'!$B$9)>0,'1 - Opstart Importark'!$B$9,\"\")","v":""},{"$f":"IF(LEN('1 - Opstart Importark'!$B$23)>0,'1 - Opstart Importark'!$B$23,\"\")","v":""},{"$nulls":14},"",{"$nulls":8},0,"","","objektnogle_"]
[525,null,{"$f":"IF('1 - Opstart Importark'!$B$6=\"\",\"\",(IF('1 - Opstart Importark'!$B$15=\"\",CONCATENATE(LEFT('1 - Opstart Importark'!$B$3,1),(LEFT('1 - Opstart Importark'!$B$20,5)),MID('1 - Opstart Importark'!$B$20,5,2),LEFT('1 - Opstart Importark'!$B$28,3),IF(I537=\"\",\"\",\"-\"),I537,IF(K537=\"\",\"\",\"-\"),K537,IF(M537=\"\",\"\",\"-\"),M537),CONCATENATE(LEFT('1 - Opstart Importark'!$B$3,1),(LEFT('1 - Opstart Importark'!$B$15,5)),(LEFT('1 - Opstart Importark'!$B$18,3)),IF(I537=\"\",\"\",\"-\"),I537,IF(K537=\"\",\"\",\"-\"),K537,IF(M537=\"\",\"\",\"-\"),M537))))","v":""},null," ",{"$nulls":9},{"$f":"IF(LEN('1 - Opstart Importark'!$B$6)>0,'1 - Opstart Importark'!$B$6,\"\")","v":""},{"$f":"IF(LEN('1 - Opstart Importark'!$B$9)>0,'1 - Opstart Importark'!$B$9,\"\")","v":""},{"$f":"IF(LEN('1 - Opstart Importark'!$B$23)>0,'1 - Opstart Importark'!$B$23,\"\")","v":""},{"$nulls":14},"",{"$nulls":8},0,"","","objektnogle_"]
[526,null,{"$f":"IF('1 - Opstart Importark'!$B$6=\"\",\"\",(IF('1 - Opstart Importark'!$B$15=\"\",CONCATENATE(LEFT('1 - Opstart Importark'!$B$3,1),(LEFT('1 - Opstart Importark'!$B$20,5)),MID('1 - Opstart Importark'!$B$20,5,2),LEFT('1 - Opstart Importark'!$B$28,3),IF(I538=\"\",\"\",\"-\"),I538,IF(K538=\"\",\"\",\"-\"),K538,IF(M538=\"\",\"\",\"-\"),M538),CONCATENATE(LEFT('1 - Opstart Importark'!$B$3,1),(LEFT('1 - Opstart Importark'!$B$15,5)),(LEFT('1 - Opstart Importark'!$B$18,3)),IF(I538=\"\",\"\",\"-\"),I538,IF(K538=\"\",\"\",\"-\"),K538,IF(M538=\"\",\"\",\"-\"),M538))))","v":""},null," ",{"$nulls":9},{"$f":"IF(LEN('1 - Opstart Importark'!$B$6)>0,'1 - Opstart Importark'!$B$6,\"\")","v":""},{"$f":"IF(LEN('1 - Opstart Importark'!$B$9)>0,'1 - Opstart Importark'!$B$9,\"\")","v":""},{"$f":"IF(LEN('1 - Opstart Importark'!$B$23)>0,'1 - Opstart Importark'!$B$23,\"\")","v":""},{"$nulls":14},"",{"$nulls":8},0,"","","objektnogle_"]
[527,null,{"$f":"IF('1 - Opstart Importark'!$B$6=\"\",\"\",(IF('1 - Opstart Importark'!$B$15=\"\",CONCATENATE(LEFT('1 - Opstart Importark'!$B$3,1),(LEFT('1 - Opstart Importark'!$B$20,5)),MID('1 - Opstart Importark'!$B$20,5,2),LEFT('1 - Opstart Importark'!$B$28,3),IF(I539=\"\",\"\",\"-\"),I539,IF(K539=\"\",\"\",\"-\"),K539,IF(M539=\"\",\"\",\"-\"),M539),CONCATENATE(LEFT('1 - Opstart Importark'!$B$3,1),(LEFT('1 - Opstart Importark'!$B$15,5)),(LEFT('1 - Opstart Importark'!$B$18,3)),IF(I539=\"\",\"\",\"-\"),I539,IF(K539=\"\",\"\",\"-\"),K539,IF(M539=\"\",\"\",\"-\"),M539))))","v":""},null," ",{"$nulls":9},{"$f":"IF(LEN('1 - Opstart Importark'!$B$6)>0,'1 - Opstart Importark'!$B$6,\"\")","v":""},{"$f":"IF(LEN('1 - Opstart Importark'!$B$9)>0,'1 - Opstart Importark'!$B$9,\"\")","v":""},{"$f":"IF(LEN('1 - Opstart Importark'!$B$23)>0,'1 - Opstart Importark'!$B$23,\"\")","v":""},{"$nulls":14},"",{"$nulls":8},0,"","","objektnogle_"]
[528,null,{"$f":"IF('1 - Opstart Importark'!$B$6=\"\",\"\",(IF('1 - Opstart Importark'!$B$15=\"\",CONCATENATE(LEFT('1 - Opstart Importark'!$B$3,1),(LEFT('1 - Opstart Importark'!$B$20,5)),MID('1 - Opstart Importark'!$B$20,5,2),LEFT('1 - Opstart Importark'!$B$28,3),IF(I540=\"\",\"\",\"-\"),I540,IF(K540=\"\",\"\",\"-\"),K540,IF(M540=\"\",\"\",\"-\"),M540),CONCATENATE(LEFT('1 - Opstart Importark'!$B$3,1),(LEFT('1 - Opstart Importark'!$B$15,5)),(LEFT('1 - Opstart Importark'!$B$18,3)),IF(I540=\"\",\"\",\"-\"),I540,IF(K540=\"\",\"\",\"-\"),K540,IF(M540=\"\",\"\",\"-\"),M540))))","v":""},null," ",{"$nulls":9},{"$f":"IF(LEN('1 - Opstart Importark'!$B$6)>0,'1 - Opstart Importark'!$B$6,\"\")","v":""},{"$f":"IF(LEN('1 - Opstart Importark'!$B$9)>0,'1 - Opstart Importark'!$B$9,\"\")","v":""},{"$f":"IF(LEN('1 - Opstart Importark'!$B$23)>0,'1 - Opstart Importark'!$B$23,\"\")","v":""},{"$nulls":14},"",{"$nulls":8},0,"","","objektnogle_"]
[529,null,{"$f":"IF('1 - Opstart Importark'!$B$6=\"\",\"\",(IF('1 - Opstart Importark'!$B$15=\"\",CONCATENATE(LEFT('1 - Opstart Importark'!$B$3,1),(LEFT('1 - Opstart Importark'!$B$20,5)),MID('1 - Opstart Importark'!$B$20,5,2),LEFT('1 - Opstart Importark'!$B$28,3),IF(I541=\"\",\"\",\"-\"),I541,IF(K541=\"\",\"\",\"-\"),K541,IF(M541=\"\",\"\",\"-\"),M541),CONCATENATE(LEFT('1 - Opstart Importark'!$B$3,1),(LEFT('1 - Opstart Importark'!$B$15,5)),(LEFT('1 - Opstart Importark'!$B$18,3)),IF(I541=\"\",\"\",\"-\"),I541,IF(K541=\"\",\"\",\"-\"),K541,IF(M541=\"\",\"\",\"-\"),M541))))","v":""},null," ",{"$nulls":9},{"$f":"IF(LEN('1 - Opstart Importark'!$B$6)>0,'1 - Opstart Importark'!$B$6,\"\")","v":""},{"$f":"IF(LEN('1 - Opstart Importark'!$B$9)>0,'1 - Opstart Importark'!$B$9,\"\")","v":""},{"$f":"IF(LEN('1 - Opstart Importark'!$B$23)>0,'1 - Opstart Importark'!$B$23,\"\")","v":""},{"$nulls":14},"",{"$nulls":8},0,"","","objektnogle_"]
[530,null,{"$f":"IF('1 - Opstart Importark'!$B$6=\"\",\"\",(IF('1 - Opstart Importark'!$B$15=\"\",CONCATENATE(LEFT('1 - Opstart Importark'!$B$3,1),(LEFT('1 - Opstart Importark'!$B$20,5)),MID('1 - Opstart Importark'!$B$20,5,2),LEFT('1 - Opstart Importark'!$B$28,3),IF(I542=\"\",\"\",\"-\"),I542,IF(K542=\"\",\"\",\"-\"),K542,IF(M542=\"\",\"\",\"-\"),M542),CONCATENATE(LEFT('1 - Opstart Importark'!$B$3,1),(LEFT('1 - Opstart Importark'!$B$15,5)),(LEFT('1 - Opstart Importark'!$B$18,3)),IF(I542=\"\",\"\",\"-\"),I542,IF(K542=\"\",\"\",\"-\"),K542,IF(M542=\"\",\"\",\"-\"),M542))))","v":""},null," ",{"$nulls":9},{"$f":"IF(LEN('1 - Opstart Importark'!$B$6)>0,'1 - Opstart Importark'!$B$6,\"\")","v":""},{"$f":"IF(LEN('1 - Opstart Importark'!$B$9)>0,'1 - Opstart Importark'!$B$9,\"\")","v":""},{"$f":"IF(LEN('1 - Opstart Importark'!$B$23)>0,'1 - Opstart Importark'!$B$23,\"\")","v":""},{"$nulls":14},"",{"$nulls":8},0,"","","objektnogle_"]
[531,null,{"$f":"IF('1 - Opstart Importark'!$B$6=\"\",\"\",(IF('1 - Opstart Importark'!$B$15=\"\",CONCATENATE(LEFT('1 - Opstart Importark'!$B$3,1),(LEFT('1 - Opstart Importark'!$B$20,5)),MID('1 - Opstart Importark'!$B$20,5,2),LEFT('1 - Opstart Importark'!$B$28,3),IF(I543=\"\",\"\",\"-\"),I543,IF(K543=\"\",\"\",\"-\"),K543,IF(M543=\"\",\"\",\"-\"),M543),CONCATENATE(LEFT('1 - Opstart Importark'!$B$3,1),(LEFT('1 - Opstart Importark'!$B$15,5)),(LEFT('1 - Opstart Importark'!$B$18,3)),IF(I543=\"\",\"\",\"-\"),I543,IF(K543=\"\",\"\",\"-\"),K543,IF(M543=\"\",\"\",\"-\"),M543))))","v":""},null," ",{"$nulls":9},{"$f":"IF(LEN('1 - Opstart Importark'!$B$6)>0,'1 - Opstart Importark'!$B$6,\"\")","v":""},{"$f":"IF(LEN('1 - Opstart Importark'!$B$9)>0,'1 - Opstart Importark'!$B$9,\"\")","v":""},{"$f":"IF(LEN('1 - Opstart Importark'!$B$23)>0,'1 - Opstart Importark'!$B$23,\"\")","v":""},{"$nulls":14},"",{"$nulls":8},0,"","","objektnogle_"]
[532,null,{"$f":"IF('1 - Opstart Importark'!$B$6=\"\",\"\",(IF('1 - Opstart Importark'!$B$15=\"\",CONCATENATE(LEFT('1 - Opstart Importark'!$B$3,1),(LEFT('1 - Opstart Importark'!$B$20,5)),MID('1 - Opstart Importark'!$B$20,5,2),LEFT('1 - Opstart Importark'!$B$28,3),IF(I544=\"\",\"\",\"-\"),I544,IF(K544=\"\",\"\",\"-\"),K544,IF(M544=\"\",\"\",\"-\"),M544),CONCATENATE(LEFT('1 - Opstart Importark'!$B$3,1),(LEFT('1 - Opstart Importark'!$B$15,5)),(LEFT('1 - Opstart Importark'!$B$18,3)),IF(I544=\"\",\"\",\"-\"),I544,IF(K544=\"\",\"\",\"-\"),K544,IF(M544=\"\",\"\",\"-\"),M544))))","v":""},null," ",{"$nulls":9},{"$f":"IF(LEN('1 - Opstart Importark'!$B$6)>0,'1 - Opstart Importark'!$B$6,\"\")","v":""},{"$f":"IF(LEN('1 - Opstart Importark'!$B$9)>0,'1 - Opstart Importark'!$B$9,\"\")","v":""},{"$f":"IF(LEN('1 - Opstart Importark'!$B$23)>0,'1 - Opstart Importark'!$B$23,\"\")","v":""},{"$nulls":14},"",{"$nulls":8},0,"","","objektnogle_"]
[533,null,{"$f":"IF('1 - Opstart Importark'!$B$6=\"\",\"\",(IF('1 - Opstart Importark'!$B$15=\"\",CONCATENATE(LEFT('1 - Opstart Importark'!$B$3,1),(LEFT('1 - Opstart Importark'!$B$20,5)),MID('1 - Opstart Importark'!$B$20,5,2),LEFT('1 - Opstart Importark'!$B$28,3),IF(I545=\"\",\"\",\"-\"),I545,IF(K545=\"\",\"\",\"-\"),K545,IF(M545=\"\",\"\",\"-\"),M545),CONCATENATE(LEFT('1 - Opstart Importark'!$B$3,1),(LEFT('1 - Opstart Importark'!$B$15,5)),(LEFT('1 - Opstart Importark'!$B$18,3)),IF(I545=\"\",\"\",\"-\"),I545,IF(K545=\"\",\"\",\"-\"),K545,IF(M545=\"\",\"\",\"-\"),M545))))","v":""},null," ",{"$nulls":9},{"$f":"IF(LEN('1 - Opstart Importark'!$B$6)>0,'1 - Opstart Importark'!$B$6,\"\")","v":""},{"$f":"IF(LEN('1 - Opstart Importark'!$B$9)>0,'1 - Opstart Importark'!$B$9,\"\")","v":""},{"$f":"IF(LEN('1 - Opstart Importark'!$B$23)>0,'1 - Opstart Importark'!$B$23,\"\")","v":""},{"$nulls":14},"",{"$nulls":8},0,"","","objektnogle_"]
[534,null,{"$f":"IF('1 - Opstart Importark'!$B$6=\"\",\"\",(IF('1 - Opstart Importark'!$B$15=\"\",CONCATENATE(LEFT('1 - Opstart Importark'!$B$3,1),(LEFT('1 - Opstart Importark'!$B$20,5)),MID('1 - Opstart Importark'!$B$20,5,2),LEFT('1 - Opstart Importark'!$B$28,3),IF(I546=\"\",\"\",\"-\"),I546,IF(K546=\"\",\"\",\"-\"),K546,IF(M546=\"\",\"\",\"-\"),M546),CONCATENATE(LEFT('1 - Opstart Importark'!$B$3,1),(LEFT('1 - Opstart Importark'!$B$15,5)),(LEFT('1 - Opstart Importark'!$B$18,3)),IF(I546=\"\",\"\",\"-\"),I546,IF(K546=\"\",\"\",\"-\"),K546,IF(M546=\"\",\"\",\"-\"),M546))))","v":""},null," ",{"$nulls":9},{"$f":"IF(LEN('1 - Opstart Importark'!$B$6)>0,'1 - Opstart Importark'!$B$6,\"\")","v":""},{"$f":"IF(LEN('1 - Opstart Importark'!$B$9)>0,'1 - Opstart Importark'!$B$9,\"\")","v":""},{"$f":"IF(LEN('1 - Opstart Importark'!$B$23)>0,'1 - Opstart Importark'!$B$23,\"\")","v":""},{"$nulls":14},"",{"$nulls":8},0,"","","objektnogle_"]
[535,null,{"$f":"IF('1 - Opstart Importark'!$B$6=\"\",\"\",(IF('1 - Opstart Importark'!$B$15=\"\",CONCATENATE(LEFT('1 - Opstart Importark'!$B$3,1),(LEFT('1 - Opstart Importark'!$B$20,5)),MID('1 - Opstart Importark'!$B$20,5,2),LEFT('1 - Opstart Importark'!$B$28,3),IF(I547=\"\",\"\",\"-\"),I547,IF(K547=\"\",\"\",\"-\"),K547,IF(M547=\"\",\"\",\"-\"),M547),CONCATENATE(LEFT('1 - Opstart Importark'!$B$3,1),(LEFT('1 - Opstart Importark'!$B$15,5)),(LEFT('1 - Opstart Importark'!$B$18,3)),IF(I547=\"\",\"\",\"-\"),I547,IF(K547=\"\",\"\",\"-\"),K547,IF(M547=\"\",\"\",\"-\"),M547))))","v":""},null," ",{"$nulls":9},{"$f":"IF(LEN('1 - Opstart Importark'!$B$6)>0,'1 - Opstart Importark'!$B$6,\"\")","v":""},{"$f":"IF(LEN('1 - Opstart Importark'!$B$9)>0,'1 - Opstart Importark'!$B$9,\"\")","v":""},{"$f":"IF(LEN('1 - Opstart Importark'!$B$23)>0,'1 - Opstart Importark'!$B$23,\"\")","v":""},{"$nulls":14},"",{"$nulls":8},0,"","","objektnogle_"]
[536,null,{"$f":"IF('1 - Opstart Importark'!$B$6=\"\",\"\",(IF('1 - Opstart Importark'!$B$15=\"\",CONCATENATE(LEFT('1 - Opstart Importark'!$B$3,1),(LEFT('1 - Opstart Importark'!$B$20,5)),MID('1 - Opstart Importark'!$B$20,5,2),LEFT('1 - Opstart Importark'!$B$28,3),IF(I548=\"\",\"\",\"-\"),I548,IF(K548=\"\",\"\",\"-\"),K548,IF(M548=\"\",\"\",\"-\"),M548),CONCATENATE(LEFT('1 - Opstart Importark'!$B$3,1),(LEFT('1 - Opstart Importark'!$B$15,5)),(LEFT('1 - Opstart Importark'!$B$18,3)),IF(I548=\"\",\"\",\"-\"),I548,IF(K548=\"\",\"\",\"-\"),K548,IF(M548=\"\",\"\",\"-\"),M548))))","v":""},null," ",{"$nulls":9},{"$f":"IF(LEN('1 - Opstart Importark'!$B$6)>0,'1 - Opstart Importark'!$B$6,\"\")","v":""},{"$f":"IF(LEN('1 - Opstart Importark'!$B$9)>0,'1 - Opstart Importark'!$B$9,\"\")","v":""},{"$f":"IF(LEN('1 - Opstart Importark'!$B$23)>0,'1 - Opstart Importark'!$B$23,\"\")","v":""},{"$nulls":14},"",{"$nulls":8},0,"","","objektnogle_"]
[537,null,{"$f":"IF('1 - Opstart Importark'!$B$6=\"\",\"\",(IF('1 - Opstart Importark'!$B$15=\"\",CONCATENATE(LEFT('1 - Opstart Importark'!$B$3,1),(LEFT('1 - Opstart Importark'!$B$20,5)),MID('1 - Opstart Importark'!$B$20,5,2),LEFT('1 - Opstart Importark'!$B$28,3),IF(I549=\"\",\"\",\"-\"),I549,IF(K549=\"\",\"\",\"-\"),K549,IF(M549=\"\",\"\",\"-\"),M549),CONCATENATE(LEFT('1 - Opstart Importark'!$B$3,1),(LEFT('1 - Opstart Importark'!$B$15,5)),(LEFT('1 - Opstart Importark'!$B$18,3)),IF(I549=\"\",\"\",\"-\"),I549,IF(K549=\"\",\"\",\"-\"),K549,IF(M549=\"\",\"\",\"-\"),M549))))","v":""},null," ",{"$nulls":9},{"$f":"IF(LEN('1 - Opstart Importark'!$B$6)>0,'1 - Opstart Importark'!$B$6,\"\")","v":""},{"$f":"IF(LEN('1 - Opstart Importark'!$B$9)>0,'1 - Opstart Importark'!$B$9,\"\")","v":""},{"$f":"IF(LEN('1 - Opstart Importark'!$B$23)>0,'1 - Opstart Importark'!$B$23,\"\")","v":""},{"$nulls":14},"",{"$nulls":8},0,"","","objektnogle_"]
[538,null,{"$f":"IF('1 - Opstart Importark'!$B$6=\"\",\"\",(IF('1 - Opstart Importark'!$B$15=\"\",CONCATENATE(LEFT('1 - Opstart Importark'!$B$3,1),(LEFT('1 - Opstart Importark'!$B$20,5)),MID('1 - Opstart Importark'!$B$20,5,2),LEFT('1 - Opstart Importark'!$B$28,3),IF(I550=\"\",\"\",\"-\"),I550,IF(K550=\"\",\"\",\"-\"),K550,IF(M550=\"\",\"\",\"-\"),M550),CONCATENATE(LEFT('1 - Opstart Importark'!$B$3,1),(LEFT('1 - Opstart Importark'!$B$15,5)),(LEFT('1 - Opstart Importark'!$B$18,3)),IF(I550=\"\",\"\",\"-\"),I550,IF(K550=\"\",\"\",\"-\"),K550,IF(M550=\"\",\"\",\"-\"),M550))))","v":""},null," ",{"$nulls":9},{"$f":"IF(LEN('1 - Opstart Importark'!$B$6)>0,'1 - Opstart Importark'!$B$6,\"\")","v":""},{"$f":"IF(LEN('1 - Opstart Importark'!$B$9)>0,'1 - Opstart Importark'!$B$9,\"\")","v":""},{"$f":"IF(LEN('1 - Opstart Importark'!$B$23)>0,'1 - Opstart Importark'!$B$23,\"\")","v":""},{"$nulls":14},"",{"$nulls":8},0,"","","objektnogle_"]
[539,null,{"$f":"IF('1 - Opstart Importark'!$B$6=\"\",\"\",(IF('1 - Opstart Importark'!$B$15=\"\",CONCATENATE(LEFT('1 - Opstart Importark'!$B$3,1),(LEFT('1 - Opstart Importark'!$B$20,5)),MID('1 - Opstart Importark'!$B$20,5,2),LEFT('1 - Opstart Importark'!$B$28,3),IF(I551=\"\",\"\",\"-\"),I551,IF(K551=\"\",\"\",\"-\"),K551,IF(M551=\"\",\"\",\"-\"),M551),CONCATENATE(LEFT('1 - Opstart Importark'!$B$3,1),(LEFT('1 - Opstart Importark'!$B$15,5)),(LEFT('1 - Opstart Importark'!$B$18,3)),IF(I551=\"\",\"\",\"-\"),I551,IF(K551=\"\",\"\",\"-\"),K551,IF(M551=\"\",\"\",\"-\"),M551))))","v":""},null," ",{"$nulls":9},{"$f":"IF(LEN('1 - Opstart Importark'!$B$6)>0,'1 - Opstart Importark'!$B$6,\"\")","v":""},{"$f":"IF(LEN('1 - Opstart Importark'!$B$9)>0,'1 - Opstart Importark'!$B$9,\"\")","v":""},{"$f":"IF(LEN('1 - Opstart Importark'!$B$23)>0,'1 - Opstart Importark'!$B$23,\"\")","v":""},{"$nulls":14},"",{"$nulls":8},0,"","","objektnogle_"]
[540,null,{"$f":"IF('1 - Opstart Importark'!$B$6=\"\",\"\",(IF('1 - Opstart Importark'!$B$15=\"\",CONCATENATE(LEFT('1 - Opstart Importark'!$B$3,1),(LEFT('1 - Opstart Importark'!$B$20,5)),MID('1 - Opstart Importark'!$B$20,5,2),LEFT('1 - Opstart Importark'!$B$28,3),IF(I552=\"\",\"\",\"-\"),I552,IF(K552=\"\",\"\",\"-\"),K552,IF(M552=\"\",\"\",\"-\"),M552),CONCATENATE(LEFT('1 - Opstart Importark'!$B$3,1),(LEFT('1 - Opstart Importark'!$B$15,5)),(LEFT('1 - Opstart Importark'!$B$18,3)),IF(I552=\"\",\"\",\"-\"),I552,IF(K552=\"\",\"\",\"-\"),K552,IF(M552=\"\",\"\",\"-\"),M552))))","v":""},null," ",{"$nulls":9},{"$f":"IF(LEN('1 - Opstart Importark'!$B$6)>0,'1 - Opstart Importark'!$B$6,\"\")","v":""},{"$f":"IF(LEN('1 - Opstart Importark'!$B$9)>0,'1 - Opstart Importark'!$B$9,\"\")","v":""},{"$f":"IF(LEN('1 - Opstart Importark'!$B$23)>0,'1 - Opstart Importark'!$B$23,\"\")","v":""},{"$nulls":14},"",{"$nulls":8},0,"","","objektnogle_"]
[541,null,{"$f":"IF('1 - Opstart Importark'!$B$6=\"\",\"\",(IF('1 - Opstart Importark'!$B$15=\"\",CONCATENATE(LEFT('1 - Opstart Importark'!$B$3,1),(LEFT('1 - Opstart Importark'!$B$20,5)),MID('1 - Opstart Importark'!$B$20,5,2),LEFT('1 - Opstart Importark'!$B$28,3),IF(I553=\"\",\"\",\"-\"),I553,IF(K553=\"\",\"\",\"-\"),K553,IF(M553=\"\",\"\",\"-\"),M553),CONCATENATE(LEFT('1 - Opstart Importark'!$B$3,1),(LEFT('1 - Opstart Importark'!$B$15,5)),(LEFT('1 - Opstart Importark'!$B$18,3)),IF(I553=\"\",\"\",\"-\"),I553,IF(K553=\"\",\"\",\"-\"),K553,IF(M553=\"\",\"\",\"-\"),M553))))","v":""},null," ",{"$nulls":9},{"$f":"IF(LEN('1 - Opstart Importark'!$B$6)>0,'1 - Opstart Importark'!$B$6,\"\")","v":""},{"$f":"IF(LEN('1 - Opstart Importark'!$B$9)>0,'1 - Opstart Importark'!$B$9,\"\")","v":""},{"$f":"IF(LEN('1 - Opstart Importark'!$B$23)>0,'1 - Opstart Importark'!$B$23,\"\")","v":""},{"$nulls":14},"",{"$nulls":8},0,"","","objektnogle_"]
[542,null,{"$f":"IF('1 - Opstart Importark'!$B$6=\"\",\"\",(IF('1 - Opstart Importark'!$B$15=\"\",CONCATENATE(LEFT('1 - Opstart Importark'!$B$3,1),(LEFT('1 - Opstart Importark'!$B$20,5)),MID('1 - Opstart Importark'!$B$20,5,2),LEFT('1 - Opstart Importark'!$B$28,3),IF(I554=\"\",\"\",\"-\"),I554,IF(K554=\"\",\"\",\"-\"),K554,IF(M554=\"\",\"\",\"-\"),M554),CONCATENATE(LEFT('1 - Opstart Importark'!$B$3,1),(LEFT('1 - Opstart Importark'!$B$15,5)),(LEFT('1 - Opstart Importark'!$B$18,3)),IF(I554=\"\",\"\",\"-\"),I554,IF(K554=\"\",\"\",\"-\"),K554,IF(M554=\"\",\"\",\"-\"),M554))))","v":""},null," ",{"$nulls":9},{"$f":"IF(LEN('1 - Opstart Importark'!$B$6)>0,'1 - Opstart Importark'!$B$6,\"\")","v":""},{"$f":"IF(LEN('1 - Opstart Importark'!$B$9)>0,'1 - Opstart Importark'!$B$9,\"\")","v":""},{"$f":"IF(LEN('1 - Opstart Importark'!$B$23)>0,'1 - Opstart Importark'!$B$23,\"\")","v":""},{"$nulls":14},"",{"$nulls":8},0,"","","objektnogle_"]
[543,null,{"$f":"IF('1 - Opstart Importark'!$B$6=\"\",\"\",(IF('1 - Opstart Importark'!$B$15=\"\",CONCATENATE(LEFT('1 - Opstart Importark'!$B$3,1),(LEFT('1 - Opstart Importark'!$B$20,5)),MID('1 - Opstart Importark'!$B$20,5,2),LEFT('1 - Opstart Importark'!$B$28,3),IF(I555=\"\",\"\",\"-\"),I555,IF(K555=\"\",\"\",\"-\"),K555,IF(M555=\"\",\"\",\"-\"),M555),CONCATENATE(LEFT('1 - Opstart Importark'!$B$3,1),(LEFT('1 - Opstart Importark'!$B$15,5)),(LEFT('1 - Opstart Importark'!$B$18,3)),IF(I555=\"\",\"\",\"-\"),I555,IF(K555=\"\",\"\",\"-\"),K555,IF(M555=\"\",\"\",\"-\"),M555))))","v":""},null," ",{"$nulls":9},{"$f":"IF(LEN('1 - Opstart Importark'!$B$6)>0,'1 - Opstart Importark'!$B$6,\"\")","v":""},{"$f":"IF(LEN('1 - Opstart Importark'!$B$9)>0,'1 - Opstart Importark'!$B$9,\"\")","v":""},{"$f":"IF(LEN('1 - Opstart Importark'!$B$23)>0,'1 - Opstart Importark'!$B$23,\"\")","v":""},{"$nulls":14},"",{"$nulls":8},0,"","","objektnogle_"]
[544,null,{"$f":"IF('1 - Opstart Importark'!$B$6=\"\",\"\",(IF('1 - Opstart Importark'!$B$15=\"\",CONCATENATE(LEFT('1 - Opstart Importark'!$B$3,1),(LEFT('1 - Opstart Importark'!$B$20,5)),MID('1 - Opstart Importark'!$B$20,5,2),LEFT('1 - Opstart Importark'!$B$28,3),IF(I556=\"\",\"\",\"-\"),I556,IF(K556=\"\",\"\",\"-\"),K556,IF(M556=\"\",\"\",\"-\"),M556),CONCATENATE(LEFT('1 - Opstart Importark'!$B$3,1),(LEFT('1 - Opstart Importark'!$B$15,5)),(LEFT('1 - Opstart Importark'!$B$18,3)),IF(I556=\"\",\"\",\"-\"),I556,IF(K556=\"\",\"\",\"-\"),K556,IF(M556=\"\",\"\",\"-\"),M556))))","v":""},null," ",{"$nulls":9},{"$f":"IF(LEN('1 - Opstart Importark'!$B$6)>0,'1 - Opstart Importark'!$B$6,\"\")","v":""},{"$f":"IF(LEN('1 - Opstart Importark'!$B$9)>0,'1 - Opstart Importark'!$B$9,\"\")","v":""},{"$f":"IF(LEN('1 - Opstart Importark'!$B$23)>0,'1 - Opstart Importark'!$B$23,\"\")","v":""},{"$nulls":14},"",{"$nulls":8},0,"","","objektnogle_"]
[545,null,{"$f":"IF('1 - Opstart Importark'!$B$6=\"\",\"\",(IF('1 - Opstart Importark'!$B$15=\"\",CONCATENATE(LEFT('1 - Opstart Importark'!$B$3,1),(LEFT('1 - Opstart Importark'!$B$20,5)),MID('1 - Opstart Importark'!$B$20,5,2),LEFT('1 - Opstart Importark'!$B$28,3),IF(I557=\"\",\"\",\"-\"),I557,IF(K557=\"\",\"\",\"-\"),K557,IF(M557=\"\",\"\",\"-\"),M557),CONCATENATE(LEFT('1 - Opstart Importark'!$B$3,1),(LEFT('1 - Opstart Importark'!$B$15,5)),(LEFT('1 - Opstart Importark'!$B$18,3)),IF(I557=\"\",\"\",\"-\"),I557,IF(K557=\"\",\"\",\"-\"),K557,IF(M557=\"\",\"\",\"-\"),M557))))","v":""},null," ",{"$nulls":9},{"$f":"IF(LEN('1 - Opstart Importark'!$B$6)>0,'1 - Opstart Importark'!$B$6,\"\")","v":""},{"$f":"IF(LEN('1 - Opstart Importark'!$B$9)>0,'1 - Opstart Importark'!$B$9,\"\")","v":""},{"$f":"IF(LEN('1 - Opstart Importark'!$B$23)>0,'1 - Opstart Importark'!$B$23,\"\")","v":""},{"$nulls":14},"",{"$nulls":8},0,"","","objektnogle_"]
[546,null,{"$f":"IF('1 - Opstart Importark'!$B$6=\"\",\"\",(IF('1 - Opstart Importark'!$B$15=\"\",CONCATENATE(LEFT('1 - Opstart Importark'!$B$3,1),(LEFT('1 - Opstart Importark'!$B$20,5)),MID('1 - Opstart Importark'!$B$20,5,2),LEFT('1 - Opstart Importark'!$B$28,3),IF(I558=\"\",\"\",\"-\"),I558,IF(K558=\"\",\"\",\"-\"),K558,IF(M558=\"\",\"\",\"-\"),M558),CONCATENATE(LEFT('1 - Opstart Importark'!$B$3,1),(LEFT('1 - Opstart Importark'!$B$15,5)),(LEFT('1 - Opstart Importark'!$B$18,3)),IF(I558=\"\",\"\",\"-\"),I558,IF(K558=\"\",\"\",\"-\"),K558,IF(M558=\"\",\"\",\"-\"),M558))))","v":""},null," ",{"$nulls":9},{"$f":"IF(LEN('1 - Opstart Importark'!$B$6)>0,'1 - Opstart Importark'!$B$6,\"\")","v":""},{"$f":"IF(LEN('1 - Opstart Importark'!$B$9)>0,'1 - Opstart Importark'!$B$9,\"\")","v":""},{"$f":"IF(LEN('1 - Opstart Importark'!$B$23)>0,'1 - Opstart Importark'!$B$23,\"\")","v":""},{"$nulls":14},"",{"$nulls":8},0,"","","objektnogle_"]
[547,null,{"$f":"IF('1 - Opstart Importark'!$B$6=\"\",\"\",(IF('1 - Opstart Importark'!$B$15=\"\",CONCATENATE(LEFT('1 - Opstart Importark'!$B$3,1),(LEFT('1 - Opstart Importark'!$B$20,5)),MID('1 - Opstart Importark'!$B$20,5,2),LEFT('1 - Opstart Importark'!$B$28,3),IF(I559=\"\",\"\",\"-\"),I559,IF(K559=\"\",\"\",\"-\"),K559,IF(M559=\"\",\"\",\"-\"),M559),CONCATENATE(LEFT('1 - Opstart Importark'!$B$3,1),(LEFT('1 - Opstart Importark'!$B$15,5)),(LEFT('1 - Opstart Importark'!$B$18,3)),IF(I559=\"\",\"\",\"-\"),I559,IF(K559=\"\",\"\",\"-\"),K559,IF(M559=\"\",\"\",\"-\"),M559))))","v":""},null," ",{"$nulls":9},{"$f":"IF(LEN('1 - Opstart Importark'!$B$6)>0,'1 - Opstart Importark'!$B$6,\"\")","v":""},{"$f":"IF(LEN('1 - Opstart Importark'!$B$9)>0,'1 - Opstart Importark'!$B$9,\"\")","v":""},{"$f":"IF(LEN('1 - Opstart Importark'!$B$23)>0,'1 - Opstart Importark'!$B$23,\"\")","v":""},{"$nulls":14},"",{"$nulls":8},0,"","","objektnogle_"]
[548,null,{"$f":"IF('1 - Opstart Importark'!$B$6=\"\",\"\",(IF('1 - Opstart Importark'!$B$15=\"\",CONCATENATE(LEFT('1 - Opstart Importark'!$B$3,1),(LEFT('1 - Opstart Importark'!$B$20,5)),MID('1 - Opstart Importark'!$B$20,5,2),LEFT('1 - Opstart Importark'!$B$28,3),IF(I560=\"\",\"\",\"-\"),I560,IF(K560=\"\",\"\",\"-\"),K560,IF(M560=\"\",\"\",\"-\"),M560),CONCATENATE(LEFT('1 - Opstart Importark'!$B$3,1),(LEFT('1 - Opstart Importark'!$B$15,5)),(LEFT('1 - Opstart Importark'!$B$18,3)),IF(I560=\"\",\"\",\"-\"),I560,IF(K560=\"\",\"\",\"-\"),K560,IF(M560=\"\",\"\",\"-\"),M560))))","v":""},null," ",{"$nulls":9},{"$f":"IF(LEN('1 - Opstart Importark'!$B$6)>0,'1 - Opstart Importark'!$B$6,\"\")","v":""},{"$f":"IF(LEN('1 - Opstart Importark'!$B$9)>0,'1 - Opstart Importark'!$B$9,\"\")","v":""},{"$f":"IF(LEN('1 - Opstart Importark'!$B$23)>0,'1 - Opstart Importark'!$B$23,\"\")","v":""},{"$nulls":14},"",{"$nulls":8},0,"","","objektnogle_"]
[549,null,{"$f":"IF('1 - Opstart Importark'!$B$6=\"\",\"\",(IF('1 - Opstart Importark'!$B$15=\"\",CONCATENATE(LEFT('1 - Opstart Importark'!$B$3,1),(LEFT('1 - Opstart Importark'!$B$20,5)),MID('1 - Opstart Importark'!$B$20,5,2),LEFT('1 - Opstart Importark'!$B$28,3),IF(I561=\"\",\"\",\"-\"),I561,IF(K561=\"\",\"\",\"-\"),K561,IF(M561=\"\",\"\",\"-\"),M561),CONCATENATE(LEFT('1 - Opstart Importark'!$B$3,1),(LEFT('1 - Opstart Importark'!$B$15,5)),(LEFT('1 - Opstart Importark'!$B$18,3)),IF(I561=\"\",\"\",\"-\"),I561,IF(K561=\"\",\"\",\"-\"),K561,IF(M561=\"\",\"\",\"-\"),M561))))","v":""},null," ",{"$nulls":9},{"$f":"IF(LEN('1 - Opstart Importark'!$B$6)>0,'1 - Opstart Importark'!$B$6,\"\")","v":""},{"$f":"IF(LEN('1 - Opstart Importark'!$B$9)>0,'1 - Opstart Importark'!$B$9,\"\")","v":""},{"$f":"IF(LEN('1 - Opstart Importark'!$B$23)>0,'1 - Opstart Importark'!$B$23,\"\")","v":""},{"$nulls":14},"",{"$nulls":8},0,"","","objektnogle_"]
[550,null,{"$f":"IF('1 - Opstart Importark'!$B$6=\"\",\"\",(IF('1 - Opstart Importark'!$B$15=\"\",CONCATENATE(LEFT('1 - Opstart Importark'!$B$3,1),(LEFT('1 - Opstart Importark'!$B$20,5)),MID('1 - Opstart Importark'!$B$20,5,2),LEFT('1 - Opstart Importark'!$B$28,3),IF(I562=\"\",\"\",\"-\"),I562,IF(K562=\"\",\"\",\"-\"),K562,IF(M562=\"\",\"\",\"-\"),M562),CONCATENATE(LEFT('1 - Opstart Importark'!$B$3,1),(LEFT('1 - Opstart Importark'!$B$15,5)),(LEFT('1 - Opstart Importark'!$B$18,3)),IF(I562=\"\",\"\",\"-\"),I562,IF(K562=\"\",\"\",\"-\"),K562,IF(M562=\"\",\"\",\"-\"),M562))))","v":""},null," ",{"$nulls":9},{"$f":"IF(LEN('1 - Opstart Importark'!$B$6)>0,'1 - Opstart Importark'!$B$6,\"\")","v":""},{"$f":"IF(LEN('1 - Opstart Importark'!$B$9)>0,'1 - Opstart Importark'!$B$9,\"\")","v":""},{"$f":"IF(LEN('1 - Opstart Importark'!$B$23)>0,'1 - Opstart Importark'!$B$23,\"\")","v":""},{"$nulls":14},"",{"$nulls":8},0,"","","objektnogle_"]
[551,null,{"$f":"IF('1 - Opstart Importark'!$B$6=\"\",\"\",(IF('1 - Opstart Importark'!$B$15=\"\",CONCATENATE(LEFT('1 - Opstart Importark'!$B$3,1),(LEFT('1 - Opstart Importark'!$B$20,5)),MID('1 - Opstart Importark'!$B$20,5,2),LEFT('1 - Opstart Importark'!$B$28,3),IF(I563=\"\",\"\",\"-\"),I563,IF(K563=\"\",\"\",\"-\"),K563,IF(M563=\"\",\"\",\"-\"),M563),CONCATENATE(LEFT('1 - Opstart Importark'!$B$3,1),(LEFT('1 - Opstart Importark'!$B$15,5)),(LEFT('1 - Opstart Importark'!$B$18,3)),IF(I563=\"\",\"\",\"-\"),I563,IF(K563=\"\",\"\",\"-\"),K563,IF(M563=\"\",\"\",\"-\"),M563))))","v":""},null," ",{"$nulls":9},{"$f":"IF(LEN('1 - Opstart Importark'!$B$6)>0,'1 - Opstart Importark'!$B$6,\"\")","v":""},{"$f":"IF(LEN('1 - Opstart Importark'!$B$9)>0,'1 - Opstart Importark'!$B$9,\"\")","v":""},{"$f":"IF(LEN('1 - Opstart Importark'!$B$23)>0,'1 - Opstart Importark'!$B$23,\"\")","v":""},{"$nulls":14},"",{"$nulls":8},0,"","","objektnogle_"]
[552,null,{"$f":"IF('1 - Opstart Importark'!$B$6=\"\",\"\",(IF('1 - Opstart Importark'!$B$15=\"\",CONCATENATE(LEFT('1 - Opstart Importark'!$B$3,1),(LEFT('1 - Opstart Importark'!$B$20,5)),MID('1 - Opstart Importark'!$B$20,5,2),LEFT('1 - Opstart Importark'!$B$28,3),IF(I564=\"\",\"\",\"-\"),I564,IF(K564=\"\",\"\",\"-\"),K564,IF(M564=\"\",\"\",\"-\"),M564),CONCATENATE(LEFT('1 - Opstart Importark'!$B$3,1),(LEFT('1 - Opstart Importark'!$B$15,5)),(LEFT('1 - Opstart Importark'!$B$18,3)),IF(I564=\"\",\"\",\"-\"),I564,IF(K564=\"\",\"\",\"-\"),K564,IF(M564=\"\",\"\",\"-\"),M564))))","v":""},null," ",{"$nulls":9},{"$f":"IF(LEN('1 - Opstart Importark'!$B$6)>0,'1 - Opstart Importark'!$B$6,\"\")","v":""},{"$f":"IF(LEN('1 - Opstart Importark'!$B$9)>0,'1 - Opstart Importark'!$B$9,\"\")","v":""},{"$f":"IF(LEN('1 - Opstart Importark'!$B$23)>0,'1 - Opstart Importark'!$B$23,\"\")","v":""},{"$nulls":14},"",{"$nulls":8},0,"","","objektnogle_"]
[553,null,{"$f":"IF('1 - Opstart Importark'!$B$6=\"\",\"\",(IF('1 - Opstart Importark'!$B$15=\"\",CONCATENATE(LEFT('1 - Opstart Importark'!$B$3,1),(LEFT('1 - Opstart Importark'!$B$20,5)),MID('1 - Opstart Importark'!$B$20,5,2),LEFT('1 - Opstart Importark'!$B$28,3),IF(I565=\"\",\"\",\"-\"),I565,IF(K565=\"\",\"\",\"-\"),K565,IF(M565=\"\",\"\",\"-\"),M565),CONCATENATE(LEFT('1 - Opstart Importark'!$B$3,1),(LEFT('1 - Opstart Importark'!$B$15,5)),(LEFT('1 - Opstart Importark'!$B$18,3)),IF(I565=\"\",\"\",\"-\"),I565,IF(K565=\"\",\"\",\"-\"),K565,IF(M565=\"\",\"\",\"-\"),M565))))","v":""},null," ",{"$nulls":9},{"$f":"IF(LEN('1 - Opstart Importark'!$B$6)>0,'1 - Opstart Importark'!$B$6,\"\")","v":""},{"$f":"IF(LEN('1 - Opstart Importark'!$B$9)>0,'1 - Opstart Importark'!$B$9,\"\")","v":""},{"$f":"IF(LEN('1 - Opstart Importark'!$B$23)>0,'1 - Opstart Importark'!$B$23,\"\")","v":""},{"$nulls":14},"",{"$nulls":8},0,"","","objektnogle_"]
[554,null,{"$f":"IF('1 - Opstart Importark'!$B$6=\"\",\"\",(IF('1 - Opstart Importark'!$B$15=\"\",CONCATENATE(LEFT('1 - Opstart Importark'!$B$3,1),(LEFT('1 - Opstart Importark'!$B$20,5)),MID('1 - Opstart Importark'!$B$20,5,2),LEFT('1 - Opstart Importark'!$B$28,3),IF(I566=\"\",\"\",\"-\"),I566,IF(K566=\"\",\"\",\"-\"),K566,IF(M566=\"\",\"\",\"-\"),M566),CONCATENATE(LEFT('1 - Opstart Importark'!$B$3,1),(LEFT('1 - Opstart Importark'!$B$15,5)),(LEFT('1 - Opstart Importark'!$B$18,3)),IF(I566=\"\",\"\",\"-\"),I566,IF(K566=\"\",\"\",\"-\"),K566,IF(M566=\"\",\"\",\"-\"),M566))))","v":""},null," ",{"$nulls":9},{"$f":"IF(LEN('1 - Opstart Importark'!$B$6)>0,'1 - Opstart Importark'!$B$6,\"\")","v":""},{"$f":"IF(LEN('1 - Opstart Importark'!$B$9)>0,'1 - Opstart Importark'!$B$9,\"\")","v":""},{"$f":"IF(LEN('1 - Opstart Importark'!$B$23)>0,'1 - Opstart Importark'!$B$23,\"\")","v":""},{"$nulls":14},"",{"$nulls":8},0,"","","objektnogle_"]
[555,null,{"$f":"IF('1 - Opstart Importark'!$B$6=\"\",\"\",(IF('1 - Opstart Importark'!$B$15=\"\",CONCATENATE(LEFT('1 - Opstart Importark'!$B$3,1),(LEFT('1 - Opstart Importark'!$B$20,5)),MID('1 - Opstart Importark'!$B$20,5,2),LEFT('1 - Opstart Importark'!$B$28,3),IF(I567=\"\",\"\",\"-\"),I567,IF(K567=\"\",\"\",\"-\"),K567,IF(M567=\"\",\"\",\"-\"),M567),CONCATENATE(LEFT('1 - Opstart Importark'!$B$3,1),(LEFT('1 - Opstart Importark'!$B$15,5)),(LEFT('1 - Opstart Importark'!$B$18,3)),IF(I567=\"\",\"\",\"-\"),I567,IF(K567=\"\",\"\",\"-\"),K567,IF(M567=\"\",\"\",\"-\"),M567))))","v":""},null," ",{"$nulls":9},{"$f":"IF(LEN('1 - Opstart Importark'!$B$6)>0,'1 - Opstart Importark'!$B$6,\"\")","v":""},{"$f":"IF(LEN('1 - Opstart Importark'!$B$9)>0,'1 - Opstart Importark'!$B$9,\"\")","v":""},{"$f":"IF(LEN('1 - Opstart Importark'!$B$23)>0,'1 - Opstart Importark'!$B$23,\"\")","v":""},{"$nulls":14},"",{"$nulls":8},0,"","","objektnogle_"]
[556,null,{"$f":"IF('1 - Opstart Importark'!$B$6=\"\",\"\",(IF('1 - Opstart Importark'!$B$15=\"\",CONCATENATE(LEFT('1 - Opstart Importark'!$B$3,1),(LEFT('1 - Opstart Importark'!$B$20,5)),MID('1 - Opstart Importark'!$B$20,5,2),LEFT('1 - Opstart Importark'!$B$28,3),IF(I568=\"\",\"\",\"-\"),I568,IF(K568=\"\",\"\",\"-\"),K568,IF(M568=\"\",\"\",\"-\"),M568),CONCATENATE(LEFT('1 - Opstart Importark'!$B$3,1),(LEFT('1 - Opstart Importark'!$B$15,5)),(LEFT('1 - Opstart Importark'!$B$18,3)),IF(I568=\"\",\"\",\"-\"),I568,IF(K568=\"\",\"\",\"-\"),K568,IF(M568=\"\",\"\",\"-\"),M568))))","v":""},null," ",{"$nulls":9},{"$f":"IF(LEN('1 - Opstart Importark'!$B$6)>0,'1 - Opstart Importark'!$B$6,\"\")","v":""},{"$f":"IF(LEN('1 - Opstart Importark'!$B$9)>0,'1 - Opstart Importark'!$B$9,\"\")","v":""},{"$f":"IF(LEN('1 - Opstart Importark'!$B$23)>0,'1 - Opstart Importark'!$B$23,\"\")","v":""},{"$nulls":14},"",{"$nulls":8},0,"","","objektnogle_"]
[557,null,{"$f":"IF('1 - Opstart Importark'!$B$6=\"\",\"\",(IF('1 - Opstart Importark'!$B$15=\"\",CONCATENATE(LEFT('1 - Opstart Importark'!$B$3,1),(LEFT('1 - Opstart Importark'!$B$20,5)),MID('1 - Opstart Importark'!$B$20,5,2),LEFT('1 - Opstart Importark'!$B$28,3),IF(I569=\"\",\"\",\"-\"),I569,IF(K569=\"\",\"\",\"-\"),K569,IF(M569=\"\",\"\",\"-\"),M569),CONCATENATE(LEFT('1 - Opstart Importark'!$B$3,1),(LEFT('1 - Opstart Importark'!$B$15,5)),(LEFT('1 - Opstart Importark'!$B$18,3)),IF(I569=\"\",\"\",\"-\"),I569,IF(K569=\"\",\"\",\"-\"),K569,IF(M569=\"\",\"\",\"-\"),M569))))","v":""},null," ",{"$nulls":9},{"$f":"IF(LEN('1 - Opstart Importark'!$B$6)>0,'1 - Opstart Importark'!$B$6,\"\")","v":""},{"$f":"IF(LEN('1 - Opstart Importark'!$B$9)>0,'1 - Opstart Importark'!$B$9,\"\")","v":""},{"$f":"IF(LEN('1 - Opstart Importark'!$B$23)>0,'1 - Opstart Importark'!$B$23,\"\")","v":""},{"$nulls":14},"",{"$nulls":8},0,"","","objektnogle_"]
[558,null,{"$f":"IF('1 - Opstart Importark'!$B$6=\"\",\"\",(IF('1 - Opstart Importark'!$B$15=\"\",CONCATENATE(LEFT('1 - Opstart Importark'!$B$3,1),(LEFT('1 - Opstart Importark'!$B$20,5)),MID('1 - Opstart Importark'!$B$20,5,2),LEFT('1 - Opstart Importark'!$B$28,3),IF(I570=\"\",\"\",\"-\"),I570,IF(K570=\"\",\"\",\"-\"),K570,IF(M570=\"\",\"\",\"-\"),M570),CONCATENATE(LEFT('1 - Opstart Importark'!$B$3,1),(LEFT('1 - Opstart Importark'!$B$15,5)),(LEFT('1 - Opstart Importark'!$B$18,3)),IF(I570=\"\",\"\",\"-\"),I570,IF(K570=\"\",\"\",\"-\"),K570,IF(M570=\"\",\"\",\"-\"),M570))))","v":""},null," ",{"$nulls":9},{"$f":"IF(LEN('1 - Opstart Importark'!$B$6)>0,'1 - Opstart Importark'!$B$6,\"\")","v":""},{"$f":"IF(LEN('1 - Opstart Importark'!$B$9)>0,'1 - Opstart Importark'!$B$9,\"\")","v":""},{"$f":"IF(LEN('1 - Opstart Importark'!$B$23)>0,'1 - Opstart Importark'!$B$23,\"\")","v":""},{"$nulls":14},"",{"$nulls":8},0,"","","objektnogle_"]
[559,null,{"$f":"IF('1 - Opstart Importark'!$B$6=\"\",\"\",(IF('1 - Opstart Importark'!$B$15=\"\",CONCATENATE(LEFT('1 - Opstart Importark'!$B$3,1),(LEFT('1 - Opstart Importark'!$B$20,5)),MID('1 - Opstart Importark'!$B$20,5,2),LEFT('1 - Opstart Importark'!$B$28,3),IF(I571=\"\",\"\",\"-\"),I571,IF(K571=\"\",\"\",\"-\"),K571,IF(M571=\"\",\"\",\"-\"),M571),CONCATENATE(LEFT('1 - Opstart Importark'!$B$3,1),(LEFT('1 - Opstart Importark'!$B$15,5)),(LEFT('1 - Opstart Importark'!$B$18,3)),IF(I571=\"\",\"\",\"-\"),I571,IF(K571=\"\",\"\",\"-\"),K571,IF(M571=\"\",\"\",\"-\"),M571))))","v":""},null," ",{"$nulls":9},{"$f":"IF(LEN('1 - Opstart Importark'!$B$6)>0,'1 - Opstart Importark'!$B$6,\"\")","v":""},{"$f":"IF(LEN('1 - Opstart Importark'!$B$9)>0,'1 - Opstart Importark'!$B$9,\"\")","v":""},{"$f":"IF(LEN('1 - Opstart Importark'!$B$23)>0,'1 - Opstart Importark'!$B$23,\"\")","v":""},{"$nulls":14},"",{"$nulls":8},0,"","","objektnogle_"]
[560,null,{"$f":"IF('1 - Opstart Importark'!$B$6=\"\",\"\",(IF('1 - Opstart Importark'!$B$15=\"\",CONCATENATE(LEFT('1 - Opstart Importark'!$B$3,1),(LEFT('1 - Opstart Importark'!$B$20,5)),MID('1 - Opstart Importark'!$B$20,5,2),LEFT('1 - Opstart Importark'!$B$28,3),IF(I572=\"\",\"\",\"-\"),I572,IF(K572=\"\",\"\",\"-\"),K572,IF(M572=\"\",\"\",\"-\"),M572),CONCATENATE(LEFT('1 - Opstart Importark'!$B$3,1),(LEFT('1 - Opstart Importark'!$B$15,5)),(LEFT('1 - Opstart Importark'!$B$18,3)),IF(I572=\"\",\"\",\"-\"),I572,IF(K572=\"\",\"\",\"-\"),K572,IF(M572=\"\",\"\",\"-\"),M572))))","v":""},null," ",{"$nulls":9},{"$f":"IF(LEN('1 - Opstart Importark'!$B$6)>0,'1 - Opstart Importark'!$B$6,\"\")","v":""},{"$f":"IF(LEN('1 - Opstart Importark'!$B$9)>0,'1 - Opstart Importark'!$B$9,\"\")","v":""},{"$f":"IF(LEN('1 - Opstart Importark'!$B$23)>0,'1 - Opstart Importark'!$B$23,\"\")","v":""},{"$nulls":14},"",{"$nulls":8},0,"","","objektnogle_"]
[561,null,{"$f":"IF('1 - Opstart Importark'!$B$6=\"\",\"\",(IF('1 - Opstart Importark'!$B$15=\"\",CONCATENATE(LEFT('1 - Opstart Importark'!$B$3,1),(LEFT('1 - Opstart Importark'!$B$20,5)),MID('1 - Opstart Importark'!$B$20,5,2),LEFT('1 - Opstart Importark'!$B$28,3),IF(I573=\"\",\"\",\"-\"),I573,IF(K573=\"\",\"\",\"-\"),K573,IF(M573=\"\",\"\",\"-\"),M573),CONCATENATE(LEFT('1 - Opstart Importark'!$B$3,1),(LEFT('1 - Opstart Importark'!$B$15,5)),(LEFT('1 - Opstart Importark'!$B$18,3)),IF(I573=\"\",\"\",\"-\"),I573,IF(K573=\"\",\"\",\"-\"),K573,IF(M573=\"\",\"\",\"-\"),M573))))","v":""},null," ",{"$nulls":9},{"$f":"IF(LEN('1 - Opstart Importark'!$B$6)>0,'1 - Opstart Importark'!$B$6,\"\")","v":""},{"$f":"IF(LEN('1 - Opstart Importark'!$B$9)>0,'1 - Opstart Importark'!$B$9,\"\")","v":""},{"$f":"IF(LEN('1 - Opstart Importark'!$B$23)>0,'1 - Opstart Importark'!$B$23,\"\")","v":""},{"$nulls":14},"",{"$nulls":8},0,"","","objektnogle_"]
[562,null,{"$f":"IF('1 - Opstart Importark'!$B$6=\"\",\"\",(IF('1 - Opstart Importark'!$B$15=\"\",CONCATENATE(LEFT('1 - Opstart Importark'!$B$3,1),(LEFT('1 - Opstart Importark'!$B$20,5)),MID('1 - Opstart Importark'!$B$20,5,2),LEFT('1 - Opstart Importark'!$B$28,3),IF(I574=\"\",\"\",\"-\"),I574,IF(K574=\"\",\"\",\"-\"),K574,IF(M574=\"\",\"\",\"-\"),M574),CONCATENATE(LEFT('1 - Opstart Importark'!$B$3,1),(LEFT('1 - Opstart Importark'!$B$15,5)),(LEFT('1 - Opstart Importark'!$B$18,3)),IF(I574=\"\",\"\",\"-\"),I574,IF(K574=\"\",\"\",\"-\"),K574,IF(M574=\"\",\"\",\"-\"),M574))))","v":""},null," ",{"$nulls":9},{"$f":"IF(LEN('1 - Opstart Importark'!$B$6)>0,'1 - Opstart Importark'!$B$6,\"\")","v":""},{"$f":"IF(LEN('1 - Opstart Importark'!$B$9)>0,'1 - Opstart Importark'!$B$9,\"\")","v":""},{"$f":"IF(LEN('1 - Opstart Importark'!$B$23)>0,'1 - Opstart Importark'!$B$23,\"\")","v":""},{"$nulls":14},"",{"$nulls":8},0,"","","objektnogle_"]
[563,null,{"$f":"IF('1 - Opstart Importark'!$B$6=\"\",\"\",(IF('1 - Opstart Importark'!$B$15=\"\",CONCATENATE(LEFT('1 - Opstart Importark'!$B$3,1),(LEFT('1 - Opstart Importark'!$B$20,5)),MID('1 - Opstart Importark'!$B$20,5,2),LEFT('1 - Opstart Importark'!$B$28,3),IF(I575=\"\",\"\",\"-\"),I575,IF(K575=\"\",\"\",\"-\"),K575,IF(M575=\"\",\"\",\"-\"),M575),CONCATENATE(LEFT('1 - Opstart Importark'!$B$3,1),(LEFT('1 - Opstart Importark'!$B$15,5)),(LEFT('1 - Opstart Importark'!$B$18,3)),IF(I575=\"\",\"\",\"-\"),I575,IF(K575=\"\",\"\",\"-\"),K575,IF(M575=\"\",\"\",\"-\"),M575))))","v":""},null," ",{"$nulls":9},{"$f":"IF(LEN('1 - Opstart Importark'!$B$6)>0,'1 - Opstart Importark'!$B$6,\"\")","v":""},{"$f":"IF(LEN('1 - Opstart Importark'!$B$9)>0,'1 - Opstart Importark'!$B$9,\"\")","v":""},{"$f":"IF(LEN('1 - Opstart Importark'!$B$23)>0,'1 - Opstart Importark'!$B$23,\"\")","v":""},{"$nulls":14},"",{"$nulls":8},0,"","","objektnogle_"]
[564,null,{"$f":"IF('1 - Opstart Importark'!$B$6=\"\",\"\",(IF('1 - Opstart Importark'!$B$15=\"\",CONCATENATE(LEFT('1 - Opstart Importark'!$B$3,1),(LEFT('1 - Opstart Importark'!$B$20,5)),MID('1 - Opstart Importark'!$B$20,5,2),LEFT('1 - Opstart Importark'!$B$28,3),IF(I576=\"\",\"\",\"-\"),I576,IF(K576=\"\",\"\",\"-\"),K576,IF(M576=\"\",\"\",\"-\"),M576),CONCATENATE(LEFT('1 - Opstart Importark'!$B$3,1),(LEFT('1 - Opstart Importark'!$B$15,5)),(LEFT('1 - Opstart Importark'!$B$18,3)),IF(I576=\"\",\"\",\"-\"),I576,IF(K576=\"\",\"\",\"-\"),K576,IF(M576=\"\",\"\",\"-\"),M576))))","v":""},null," ",{"$nulls":9},{"$f":"IF(LEN('1 - Opstart Importark'!$B$6)>0,'1 - Opstart Importark'!$B$6,\"\")","v":""},{"$f":"IF(LEN('1 - Opstart Importark'!$B$9)>0,'1 - Opstart Importark'!$B$9,\"\")","v":""},{"$f":"IF(LEN('1 - Opstart Importark'!$B$23)>0,'1 - Opstart Importark'!$B$23,\"\")","v":""},{"$nulls":14},"",{"$nulls":8},0,"","","objektnogle_"]
[565,null,{"$f":"IF('1 - Opstart Importark'!$B$6=\"\",\"\",(IF('1 - Opstart Importark'!$B$15=\"\",CONCATENATE(LEFT('1 - Opstart Importark'!$B$3,1),(LEFT('1 - Opstart Importark'!$B$20,5)),MID('1 - Opstart Importark'!$B$20,5,2),LEFT('1 - Opstart Importark'!$B$28,3),IF(I577=\"\",\"\",\"-\"),I577,IF(K577=\"\",\"\",\"-\"),K577,IF(M577=\"\",\"\",\"-\"),M577),CONCATENATE(LEFT('1 - Opstart Importark'!$B$3,1),(LEFT('1 - Opstart Importark'!$B$15,5)),(LEFT('1 - Opstart Importark'!$B$18,3)),IF(I577=\"\",\"\",\"-\"),I577,IF(K577=\"\",\"\",\"-\"),K577,IF(M577=\"\",\"\",\"-\"),M577))))","v":""},null," ",{"$nulls":9},{"$f":"IF(LEN('1 - Opstart Importark'!$B$6)>0,'1 - Opstart Importark'!$B$6,\"\")","v":""},{"$f":"IF(LEN('1 - Opstart Importark'!$B$9)>0,'1 - Opstart Importark'!$B$9,\"\")","v":""},{"$f":"IF(LEN('1 - Opstart Importark'!$B$23)>0,'1 - Opstart Importark'!$B$23,\"\")","v":""},{"$nulls":14},"",{"$nulls":8},0,"","","objektnogle_"]
[566,null,{"$f":"IF('1 - Opstart Importark'!$B$6=\"\",\"\",(IF('1 - Opstart Importark'!$B$15=\"\",CONCATENATE(LEFT('1 - Opstart Importark'!$B$3,1),(LEFT('1 - Opstart Importark'!$B$20,5)),MID('1 - Opstart Importark'!$B$20,5,2),LEFT('1 - Opstart Importark'!$B$28,3),IF(I578=\"\",\"\",\"-\"),I578,IF(K578=\"\",\"\",\"-\"),K578,IF(M578=\"\",\"\",\"-\"),M578),CONCATENATE(LEFT('1 - Opstart Importark'!$B$3,1),(LEFT('1 - Opstart Importark'!$B$15,5)),(LEFT('1 - Opstart Importark'!$B$18,3)),IF(I578=\"\",\"\",\"-\"),I578,IF(K578=\"\",\"\",\"-\"),K578,IF(M578=\"\",\"\",\"-\"),M578))))","v":""},null," ",{"$nulls":9},{"$f":"IF(LEN('1 - Opstart Importark'!$B$6)>0,'1 - Opstart Importark'!$B$6,\"\")","v":""},{"$f":"IF(LEN('1 - Opstart Importark'!$B$9)>0,'1 - Opstart Importark'!$B$9,\"\")","v":""},{"$f":"IF(LEN('1 - Opstart Importark'!$B$23)>0,'1 - Opstart Importark'!$B$23,\"\")","v":""},{"$nulls":14},"",{"$nulls":8},0,"","","objektnogle_"]
[567,null,{"$f":"IF('1 - Opstart Importark'!$B$6=\"\",\"\",(IF('1 - Opstart Importark'!$B$15=\"\",CONCATENATE(LEFT('1 - Opstart Importark'!$B$3,1),(LEFT('1 - Opstart Importark'!$B$20,5)),MID('1 - Opstart Importark'!$B$20,5,2),LEFT('1 - Opstart Importark'!$B$28,3),IF(I579=\"\",\"\",\"-\"),I579,IF(K579=\"\",\"\",\"-\"),K579,IF(M579=\"\",\"\",\"-\"),M579),CONCATENATE(LEFT('1 - Opstart Importark'!$B$3,1),(LEFT('1 - Opstart Importark'!$B$15,5)),(LEFT('1 - Opstart Importark'!$B$18,3)),IF(I579=\"\",\"\",\"-\"),I579,IF(K579=\"\",\"\",\"-\"),K579,IF(M579=\"\",\"\",\"-\"),M579))))","v":""},null," ",{"$nulls":9},{"$f":"IF(LEN('1 - Opstart Importark'!$B$6)>0,'1 - Opstart Importark'!$B$6,\"\")","v":""},{"$f":"IF(LEN('1 - Opstart Importark'!$B$9)>0,'1 - Opstart Importark'!$B$9,\"\")","v":""},{"$f":"IF(LEN('1 - Opstart Importark'!$B$23)>0,'1 - Opstart Importark'!$B$23,\"\")","v":""},{"$nulls":14},"",{"$nulls":8},0,"","","objektnogle_"]
[568,null,{"$f":"IF('1 - Opstart Importark'!$B$6=\"\",\"\",(IF('1 - Opstart Importark'!$B$15=\"\",CONCATENATE(LEFT('1 - Opstart Importark'!$B$3,1),(LEFT('1 - Opstart Importark'!$B$20,5)),MID('1 - Opstart Importark'!$B$20,5,2),LEFT('1 - Opstart Importark'!$B$28,3),IF(I580=\"\",\"\",\"-\"),I580,IF(K580=\"\",\"\",\"-\"),K580,IF(M580=\"\",\"\",\"-\"),M580),CONCATENATE(LEFT('1 - Opstart Importark'!$B$3,1),(LEFT('1 - Opstart Importark'!$B$15,5)),(LEFT('1 - Opstart Importark'!$B$18,3)),IF(I580=\"\",\"\",\"-\"),I580,IF(K580=\"\",\"\",\"-\"),K580,IF(M580=\"\",\"\",\"-\"),M580))))","v":""},null," ",{"$nulls":9},{"$f":"IF(LEN('1 - Opstart Importark'!$B$6)>0,'1 - Opstart Importark'!$B$6,\"\")","v":""},{"$f":"IF(LEN('1 - Opstart Importark'!$B$9)>0,'1 - Opstart Importark'!$B$9,\"\")","v":""},{"$f":"IF(LEN('1 - Opstart Importark'!$B$23)>0,'1 - Opstart Importark'!$B$23,\"\")","v":""},{"$nulls":14},"",{"$nulls":8},0,"","","objektnogle_"]
[569,null,{"$f":"IF('1 - Opstart Importark'!$B$6=\"\",\"\",(IF('1 - Opstart Importark'!$B$15=\"\",CONCATENATE(LEFT('1 - Opstart Importark'!$B$3,1),(LEFT('1 - Opstart Importark'!$B$20,5)),MID('1 - Opstart Importark'!$B$20,5,2),LEFT('1 - Opstart Importark'!$B$28,3),IF(I581=\"\",\"\",\"-\"),I581,IF(K581=\"\",\"\",\"-\"),K581,IF(M581=\"\",\"\",\"-\"),M581),CONCATENATE(LEFT('1 - Opstart Importark'!$B$3,1),(LEFT('1 - Opstart Importark'!$B$15,5)),(LEFT('1 - Opstart Importark'!$B$18,3)),IF(I581=\"\",\"\",\"-\"),I581,IF(K581=\"\",\"\",\"-\"),K581,IF(M581=\"\",\"\",\"-\"),M581))))","v":""},null," ",{"$nulls":9},{"$f":"IF(LEN('1 - Opstart Importark'!$B$6)>0,'1 - Opstart Importark'!$B$6,\"\")","v":""},{"$f":"IF(LEN('1 - Opstart Importark'!$B$9)>0,'1 - Opstart Importark'!$B$9,\"\")","v":""},{"$f":"IF(LEN('1 - Opstart Importark'!$B$23)>0,'1 - Opstart Importark'!$B$23,\"\")","v":""},{"$nulls":14},"",{"$nulls":8},0,"","","objektnogle_"]
[570,null,{"$f":"IF('1 - Opstart Importark'!$B$6=\"\",\"\",(IF('1 - Opstart Importark'!$B$15=\"\",CONCATENATE(LEFT('1 - Opstart Importark'!$B$3,1),(LEFT('1 - Opstart Importark'!$B$20,5)),MID('1 - Opstart Importark'!$B$20,5,2),LEFT('1 - Opstart Importark'!$B$28,3),IF(I582=\"\",\"\",\"-\"),I582,IF(K582=\"\",\"\",\"-\"),K582,IF(M582=\"\",\"\",\"-\"),M582),CONCATENATE(LEFT('1 - Opstart Importark'!$B$3,1),(LEFT('1 - Opstart Importark'!$B$15,5)),(LEFT('1 - Opstart Importark'!$B$18,3)),IF(I582=\"\",\"\",\"-\"),I582,IF(K582=\"\",\"\",\"-\"),K582,IF(M582=\"\",\"\",\"-\"),M582))))","v":""},null," ",{"$nulls":9},{"$f":"IF(LEN('1 - Opstart Importark'!$B$6)>0,'1 - Opstart Importark'!$B$6,\"\")","v":""},{"$f":"IF(LEN('1 - Opstart Importark'!$B$9)>0,'1 - Opstart Importark'!$B$9,\"\")","v":""},{"$f":"IF(LEN('1 - Opstart Importark'!$B$23)>0,'1 - Opstart Importark'!$B$23,\"\")","v":""},{"$nulls":14},"",{"$nulls":8},0,"","","objektnogle_"]
[571,null,{"$f":"IF('1 - Opstart Importark'!$B$6=\"\",\"\",(IF('1 - Opstart Importark'!$B$15=\"\",CONCATENATE(LEFT('1 - Opstart Importark'!$B$3,1),(LEFT('1 - Opstart Importark'!$B$20,5)),MID('1 - Opstart Importark'!$B$20,5,2),LEFT('1 - Opstart Importark'!$B$28,3),IF(I583=\"\",\"\",\"-\"),I583,IF(K583=\"\",\"\",\"-\"),K583,IF(M583=\"\",\"\",\"-\"),M583),CONCATENATE(LEFT('1 - Opstart Importark'!$B$3,1),(LEFT('1 - Opstart Importark'!$B$15,5)),(LEFT('1 - Opstart Importark'!$B$18,3)),IF(I583=\"\",\"\",\"-\"),I583,IF(K583=\"\",\"\",\"-\"),K583,IF(M583=\"\",\"\",\"-\"),M583))))","v":""},null," ",{"$nulls":9},{"$f":"IF(LEN('1 - Opstart Importark'!$B$6)>0,'1 - Opstart Importark'!$B$6,\"\")","v":""},{"$f":"IF(LEN('1 - Opstart Importark'!$B$9)>0,'1 - Opstart Importark'!$B$9,\"\")","v":""},{"$f":"IF(LEN('1 - Opstart Importark'!$B$23)>0,'1 - Opstart Importark'!$B$23,\"\")","v":""},{"$nulls":14},"",{"$nulls":8},0,"","","objektnogle_"]
[572,null,{"$f":"IF('1 - Opstart Importark'!$B$6=\"\",\"\",(IF('1 - Opstart Importark'!$B$15=\"\",CONCATENATE(LEFT('1 - Opstart Importark'!$B$3,1),(LEFT('1 - Opstart Importark'!$B$20,5)),MID('1 - Opstart Importark'!$B$20,5,2),LEFT('1 - Opstart Importark'!$B$28,3),IF(I584=\"\",\"\",\"-\"),I584,IF(K584=\"\",\"\",\"-\"),K584,IF(M584=\"\",\"\",\"-\"),M584),CONCATENATE(LEFT('1 - Opstart Importark'!$B$3,1),(LEFT('1 - Opstart Importark'!$B$15,5)),(LEFT('1 - Opstart Importark'!$B$18,3)),IF(I584=\"\",\"\",\"-\"),I584,IF(K584=\"\",\"\",\"-\"),K584,IF(M584=\"\",\"\",\"-\"),M584))))","v":""},null," ",{"$nulls":9},{"$f":"IF(LEN('1 - Opstart Importark'!$B$6)>0,'1 - Opstart Importark'!$B$6,\"\")","v":""},{"$f":"IF(LEN('1 - Opstart Importark'!$B$9)>0,'1 - Opstart Importark'!$B$9,\"\")","v":""},{"$f":"IF(LEN('1 - Opstart Importark'!$B$23)>0,'1 - Opstart Importark'!$B$23,\"\")","v":""},{"$nulls":14},"",{"$nulls":8},0,"","","objektnogle_"]
[573,null,{"$f":"IF('1 - Opstart Importark'!$B$6=\"\",\"\",(IF('1 - Opstart Importark'!$B$15=\"\",CONCATENATE(LEFT('1 - Opstart Importark'!$B$3,1),(LEFT('1 - Opstart Importark'!$B$20,5)),MID('1 - Opstart Importark'!$B$20,5,2),LEFT('1 - Opstart Importark'!$B$28,3),IF(I585=\"\",\"\",\"-\"),I585,IF(K585=\"\",\"\",\"-\"),K585,IF(M585=\"\",\"\",\"-\"),M585),CONCATENATE(LEFT('1 - Opstart Importark'!$B$3,1),(LEFT('1 - Opstart Importark'!$B$15,5)),(LEFT('1 - Opstart Importark'!$B$18,3)),IF(I585=\"\",\"\",\"-\"),I585,IF(K585=\"\",\"\",\"-\"),K585,IF(M585=\"\",\"\",\"-\"),M585))))","v":""},null," ",{"$nulls":9},{"$f":"IF(LEN('1 - Opstart Importark'!$B$6)>0,'1 - Opstart Importark'!$B$6,\"\")","v":""},{"$f":"IF(LEN('1 - Opstart Importark'!$B$9)>0,'1 - Opstart Importark'!$B$9,\"\")","v":""},{"$f":"IF(LEN('1 - Opstart Importark'!$B$23)>0,'1 - Opstart Importark'!$B$23,\"\")","v":""},{"$nulls":14},"",{"$nulls":8},0,"","","objektnogle_"]
[574,null,{"$f":"IF('1 - Opstart Importark'!$B$6=\"\",\"\",(IF('1 - Opstart Importark'!$B$15=\"\",CONCATENATE(LEFT('1 - Opstart Importark'!$B$3,1),(LEFT('1 - Opstart Importark'!$B$20,5)),MID('1 - Opstart Importark'!$B$20,5,2),LEFT('1 - Opstart Importark'!$B$28,3),IF(I586=\"\",\"\",\"-\"),I586,IF(K586=\"\",\"\",\"-\"),K586,IF(M586=\"\",\"\",\"-\"),M586),CONCATENATE(LEFT('1 - Opstart Importark'!$B$3,1),(LEFT('1 - Opstart Importark'!$B$15,5)),(LEFT('1 - Opstart Importark'!$B$18,3)),IF(I586=\"\",\"\",\"-\"),I586,IF(K586=\"\",\"\",\"-\"),K586,IF(M586=\"\",\"\",\"-\"),M586))))","v":""},null," ",{"$nulls":9},{"$f":"IF(LEN('1 - Opstart Importark'!$B$6)>0,'1 - Opstart Importark'!$B$6,\"\")","v":""},{"$f":"IF(LEN('1 - Opstart Importark'!$B$9)>0,'1 - Opstart Importark'!$B$9,\"\")","v":""},{"$f":"IF(LEN('1 - Opstart Importark'!$B$23)>0,'1 - Opstart Importark'!$B$23,\"\")","v":""},{"$nulls":14},"",{"$nulls":8},0,"","","objektnogle_"]
[575,null,{"$f":"IF('1 - Opstart Importark'!$B$6=\"\",\"\",(IF('1 - Opstart Importark'!$B$15=\"\",CONCATENATE(LEFT('1 - Opstart Importark'!$B$3,1),(LEFT('1 - Opstart Importark'!$B$20,5)),MID('1 - Opstart Importark'!$B$20,5,2),LEFT('1 - Opstart Importark'!$B$28,3),IF(I587=\"\",\"\",\"-\"),I587,IF(K587=\"\",\"\",\"-\"),K587,IF(M587=\"\",\"\",\"-\"),M587),CONCATENATE(LEFT('1 - Opstart Importark'!$B$3,1),(LEFT('1 - Opstart Importark'!$B$15,5)),(LEFT('1 - Opstart Importark'!$B$18,3)),IF(I587=\"\",\"\",\"-\"),I587,IF(K587=\"\",\"\",\"-\"),K587,IF(M587=\"\",\"\",\"-\"),M587))))","v":""},null," ",{"$nulls":9},{"$f":"IF(LEN('1 - Opstart Importark'!$B$6)>0,'1 - Opstart Importark'!$B$6,\"\")","v":""},{"$f":"IF(LEN('1 - Opstart Importark'!$B$9)>0,'1 - Opstart Importark'!$B$9,\"\")","v":""},{"$f":"IF(LEN('1 - Opstart Importark'!$B$23)>0,'1 - Opstart Importark'!$B$23,\"\")","v":""},{"$nulls":14},"",{"$nulls":8},0,"","","objektnogle_"]
[576,null,{"$f":"IF('1 - Opstart Importark'!$B$6=\"\",\"\",(IF('1 - Opstart Importark'!$B$15=\"\",CONCATENATE(LEFT('1 - Opstart Importark'!$B$3,1),(LEFT('1 - Opstart Importark'!$B$20,5)),MID('1 - Opstart Importark'!$B$20,5,2),LEFT('1 - Opstart Importark'!$B$28,3),IF(I588=\"\",\"\",\"-\"),I588,IF(K588=\"\",\"\",\"-\"),K588,IF(M588=\"\",\"\",\"-\"),M588),CONCATENATE(LEFT('1 - Opstart Importark'!$B$3,1),(LEFT('1 - Opstart Importark'!$B$15,5)),(LEFT('1 - Opstart Importark'!$B$18,3)),IF(I588=\"\",\"\",\"-\"),I588,IF(K588=\"\",\"\",\"-\"),K588,IF(M588=\"\",\"\",\"-\"),M588))))","v":""},null," ",{"$nulls":9},{"$f":"IF(LEN('1 - Opstart Importark'!$B$6)>0,'1 - Opstart Importark'!$B$6,\"\")","v":""},{"$f":"IF(LEN('1 - Opstart Importark'!$B$9)>0,'1 - Opstart Importark'!$B$9,\"\")","v":""},{"$f":"IF(LEN('1 - Opstart Importark'!$B$23)>0,'1 - Opstart Importark'!$B$23,\"\")","v":""},{"$nulls":14},"",{"$nulls":8},0,"","","objektnogle_"]
[577,null,{"$f":"IF('1 - Opstart Importark'!$B$6=\"\",\"\",(IF('1 - Opstart Importark'!$B$15=\"\",CONCATENATE(LEFT('1 - Opstart Importark'!$B$3,1),(LEFT('1 - Opstart Importark'!$B$20,5)),MID('1 - Opstart Importark'!$B$20,5,2),LEFT('1 - Opstart Importark'!$B$28,3),IF(I589=\"\",\"\",\"-\"),I589,IF(K589=\"\",\"\",\"-\"),K589,IF(M589=\"\",\"\",\"-\"),M589),CONCATENATE(LEFT('1 - Opstart Importark'!$B$3,1),(LEFT('1 - Opstart Importark'!$B$15,5)),(LEFT('1 - Opstart Importark'!$B$18,3)),IF(I589=\"\",\"\",\"-\"),I589,IF(K589=\"\",\"\",\"-\"),K589,IF(M589=\"\",\"\",\"-\"),M589))))","v":""},null," ",{"$nulls":9},{"$f":"IF(LEN('1 - Opstart Importark'!$B$6)>0,'1 - Opstart Importark'!$B$6,\"\")","v":""},{"$f":"IF(LEN('1 - Opstart Importark'!$B$9)>0,'1 - Opstart Importark'!$B$9,\"\")","v":""},{"$f":"IF(LEN('1 - Opstart Importark'!$B$23)>0,'1 - Opstart Importark'!$B$23,\"\")","v":""},{"$nulls":14},{"$f":"IF(K589=\"\",\"\",VLOOKUP(LEFT(K589,1),objektfilter,2))","v":""},{"$nulls":8},{"$f":"IFERROR(FIND(\".\",F589),)","v":0},"","","objektnogle_"]
[578,null,{"$f":"IF('1 - Opstart Importark'!$B$6=\"\",\"\",(IF('1 - Opstart Importark'!$B$15=\"\",CONCATENATE(LEFT('1 - Opstart Importark'!$B$3,1),(LEFT('1 - Opstart Importark'!$B$20,5)),MID('1 - Opstart Importark'!$B$20,5,2),LEFT('1 - Opstart Importark'!$B$28,3),IF(I590=\"\",\"\",\"-\"),I590,IF(K590=\"\",\"\",\"-\"),K590,IF(M590=\"\",\"\",\"-\"),M590),CONCATENATE(LEFT('1 - Opstart Importark'!$B$3,1),(LEFT('1 - Opstart Importark'!$B$15,5)),(LEFT('1 - Opstart Importark'!$B$18,3)),IF(I590=\"\",\"\",\"-\"),I590,IF(K590=\"\",\"\",\"-\"),K590,IF(M590=\"\",\"\",\"-\"),M590))))","v":""},null," ",{"$nulls":9},{"$f":"IF(LEN('1 - Opstart Importark'!$B$6)>0,'1 - Opstart Importark'!$B$6,\"\")","v":""},{"$f":"IF(LEN('1 - Opstart Importark'!$B$9)>0,'1 - Opstart Importark'!$B$9,\"\")","v":""},{"$f":"IF(LEN('1 - Opstart Importark'!$B$23)>0,'1 - Opstart Importark'!$B$23,\"\")","v":""},{"$nulls":14},"",{"$nulls":8},0,{"$f":"IF(K590=\"\",\"\",IF(LEFT(K590,1)=\"E\",0,1))","v":""},{"$f":"IF(K590=\"\",\"\",IF(LEFT(K590,1)=\"E\",0,1))","v":""},{"$f":"IF(W590=\"\", CONCATENATE(\"objektnogle_\",LEFT(AF590,1)),CONCATENATE(\"objektnogle_\",LEFT(W590,1)))","v":"objektnogle_"}]
[579,null,{"$f":"IF('1 - Opstart Importark'!$B$6=\"\",\"\",(IF('1 - Opstart Importark'!$B$15=\"\",CONCATENATE(LEFT('1 - Opstart Importark'!$B$3,1),(LEFT('1 - Opstart Importark'!$B$20,5)),MID('1 - Opstart Importark'!$B$20,5,2),LEFT('1 - Opstart Importark'!$B$28,3),IF(I591=\"\",\"\",\"-\"),I591,IF(K591=\"\",\"\",\"-\"),K591,IF(M591=\"\",\"\",\"-\"),M591),CONCATENATE(LEFT('1 - Opstart Importark'!$B$3,1),(LEFT('1 - Opstart Importark'!$B$15,5)),(LEFT('1 - Opstart Importark'!$B$18,3)),IF(I591=\"\",\"\",\"-\"),I591,IF(K591=\"\",\"\",\"-\"),K591,IF(M591=\"\",\"\",\"-\"),M591))))","v":""},null," ",{"$nulls":9},{"$f":"IF(LEN('1 - Opstart Importark'!$B$6)>0,'1 - Opstart Importark'!$B$6,\"\")","v":""},{"$f":"IF(LEN('1 - Opstart Importark'!$B$9)>0,'1 - Opstart Importark'!$B$9,\"\")","v":""},{"$f":"IF(LEN('1 - Opstart Importark'!$B$23)>0,'1 - Opstart Importark'!$B$23,\"\")","v":""},{"$nulls":14},"",{"$nulls":8},0,"","","objektnogle_"]
[580,null,{"$f":"IF('1 - Opstart Importark'!$B$6=\"\",\"\",(IF('1 - Opstart Importark'!$B$15=\"\",CONCATENATE(LEFT('1 - Opstart Importark'!$B$3,1),(LEFT('1 - Opstart Importark'!$B$20,5)),MID('1 - Opstart Importark'!$B$20,5,2),LEFT('1 - Opstart Importark'!$B$28,3),IF(I592=\"\",\"\",\"-\"),I592,IF(K592=\"\",\"\",\"-\"),K592,IF(M592=\"\",\"\",\"-\"),M592),CONCATENATE(LEFT('1 - Opstart Importark'!$B$3,1),(LEFT('1 - Opstart Importark'!$B$15,5)),(LEFT('1 - Opstart Importark'!$B$18,3)),IF(I592=\"\",\"\",\"-\"),I592,IF(K592=\"\",\"\",\"-\"),K592,IF(M592=\"\",\"\",\"-\"),M592))))","v":""},null," ",{"$nulls":9},{"$f":"IF(LEN('1 - Opstart Importark'!$B$6)>0,'1 - Opstart Importark'!$B$6,\"\")","v":""},{"$f":"IF(LEN('1 - Opstart Importark'!$B$9)>0,'1 - Opstart Importark'!$B$9,\"\")","v":""},{"$f":"IF(LEN('1 - Opstart Importark'!$B$23)>0,'1 - Opstart Importark'!$B$23,\"\")","v":""},{"$nulls":14},"",{"$nulls":8},0,"","","objektnogle_"]
[581,null,{"$f":"IF('1 - Opstart Importark'!$B$6=\"\",\"\",(IF('1 - Opstart Importark'!$B$15=\"\",CONCATENATE(LEFT('1 - Opstart Importark'!$B$3,1),(LEFT('1 - Opstart Importark'!$B$20,5)),MID('1 - Opstart Importark'!$B$20,5,2),LEFT('1 - Opstart Importark'!$B$28,3),IF(I593=\"\",\"\",\"-\"),I593,IF(K593=\"\",\"\",\"-\"),K593,IF(M593=\"\",\"\",\"-\"),M593),CONCATENATE(LEFT('1 - Opstart Importark'!$B$3,1),(LEFT('1 - Opstart Importark'!$B$15,5)),(LEFT('1 - Opstart Importark'!$B$18,3)),IF(I593=\"\",\"\",\"-\"),I593,IF(K593=\"\",\"\",\"-\"),K593,IF(M593=\"\",\"\",\"-\"),M593))))","v":""},null," ",{"$nulls":9},{"$f":"IF(LEN('1 - Opstart Importark'!$B$6)>0,'1 - Opstart Importark'!$B$6,\"\")","v":""},{"$f":"IF(LEN('1 - Opstart Importark'!$B$9)>0,'1 - Opstart Importark'!$B$9,\"\")","v":""},{"$f":"IF(LEN('1 - Opstart Importark'!$B$23)>0,'1 - Opstart Importark'!$B$23,\"\")","v":""},{"$nulls":14},"",{"$nulls":8},0,"","","objektnogle_"]
[582,null,{"$f":"IF('1 - Opstart Importark'!$B$6=\"\",\"\",(IF('1 - Opstart Importark'!$B$15=\"\",CONCATENATE(LEFT('1 - Opstart Importark'!$B$3,1),(LEFT('1 - Opstart Importark'!$B$20,5)),MID('1 - Opstart Importark'!$B$20,5,2),LEFT('1 - Opstart Importark'!$B$28,3),IF(I594=\"\",\"\",\"-\"),I594,IF(K594=\"\",\"\",\"-\"),K594,IF(M594=\"\",\"\",\"-\"),M594),CONCATENATE(LEFT('1 - Opstart Importark'!$B$3,1),(LEFT('1 - Opstart Importark'!$B$15,5)),(LEFT('1 - Opstart Importark'!$B$18,3)),IF(I594=\"\",\"\",\"-\"),I594,IF(K594=\"\",\"\",\"-\"),K594,IF(M594=\"\",\"\",\"-\"),M594))))","v":""},null," ",{"$nulls":9},{"$f":"IF(LEN('1 - Opstart Importark'!$B$6)>0,'1 - Opstart Importark'!$B$6,\"\")","v":""},{"$f":"IF(LEN('1 - Opstart Importark'!$B$9)>0,'1 - Opstart Importark'!$B$9,\"\")","v":""},{"$f":"IF(LEN('1 - Opstart Importark'!$B$23)>0,'1 - Opstart Importark'!$B$23,\"\")","v":""},{"$nulls":14},"",{"$nulls":8},0,"","","objektnogle_"]
[583,null,{"$f":"IF('1 - Opstart Importark'!$B$6=\"\",\"\",(IF('1 - Opstart Importark'!$B$15=\"\",CONCATENATE(LEFT('1 - Opstart Importark'!$B$3,1),(LEFT('1 - Opstart Importark'!$B$20,5)),MID('1 - Opstart Importark'!$B$20,5,2),LEFT('1 - Opstart Importark'!$B$28,3),IF(I595=\"\",\"\",\"-\"),I595,IF(K595=\"\",\"\",\"-\"),K595,IF(M595=\"\",\"\",\"-\"),M595),CONCATENATE(LEFT('1 - Opstart Importark'!$B$3,1),(LEFT('1 - Opstart Importark'!$B$15,5)),(LEFT('1 - Opstart Importark'!$B$18,3)),IF(I595=\"\",\"\",\"-\"),I595,IF(K595=\"\",\"\",\"-\"),K595,IF(M595=\"\",\"\",\"-\"),M595))))","v":""},null," ",{"$nulls":9},{"$f":"IF(LEN('1 - Opstart Importark'!$B$6)>0,'1 - Opstart Importark'!$B$6,\"\")","v":""},{"$f":"IF(LEN('1 - Opstart Importark'!$B$9)>0,'1 - Opstart Importark'!$B$9,\"\")","v":""},{"$f":"IF(LEN('1 - Opstart Importark'!$B$23)>0,'1 - Opstart Importark'!$B$23,\"\")","v":""},{"$nulls":14},"",{"$nulls":8},0,"","","objektnogle_"]
[584,null,{"$f":"IF('1 - Opstart Importark'!$B$6=\"\",\"\",(IF('1 - Opstart Importark'!$B$15=\"\",CONCATENATE(LEFT('1 - Opstart Importark'!$B$3,1),(LEFT('1 - Opstart Importark'!$B$20,5)),MID('1 - Opstart Importark'!$B$20,5,2),LEFT('1 - Opstart Importark'!$B$28,3),IF(I596=\"\",\"\",\"-\"),I596,IF(K596=\"\",\"\",\"-\"),K596,IF(M596=\"\",\"\",\"-\"),M596),CONCATENATE(LEFT('1 - Opstart Importark'!$B$3,1),(LEFT('1 - Opstart Importark'!$B$15,5)),(LEFT('1 - Opstart Importark'!$B$18,3)),IF(I596=\"\",\"\",\"-\"),I596,IF(K596=\"\",\"\",\"-\"),K596,IF(M596=\"\",\"\",\"-\"),M596))))","v":""},null," ",{"$nulls":9},{"$f":"IF(LEN('1 - Opstart Importark'!$B$6)>0,'1 - Opstart Importark'!$B$6,\"\")","v":""},{"$f":"IF(LEN('1 - Opstart Importark'!$B$9)>0,'1 - Opstart Importark'!$B$9,\"\")","v":""},{"$f":"IF(LEN('1 - Opstart Importark'!$B$23)>0,'1 - Opstart Importark'!$B$23,\"\")","v":""},{"$nulls":14},"",{"$nulls":8},0,"","","objektnogle_"]
[585,null,{"$f":"IF('1 - Opstart Importark'!$B$6=\"\",\"\",(IF('1 - Opstart Importark'!$B$15=\"\",CONCATENATE(LEFT('1 - Opstart Importark'!$B$3,1),(LEFT('1 - Opstart Importark'!$B$20,5)),MID('1 - Opstart Importark'!$B$20,5,2),LEFT('1 - Opstart Importark'!$B$28,3),IF(I597=\"\",\"\",\"-\"),I597,IF(K597=\"\",\"\",\"-\"),K597,IF(M597=\"\",\"\",\"-\"),M597),CONCATENATE(LEFT('1 - Opstart Importark'!$B$3,1),(LEFT('1 - Opstart Importark'!$B$15,5)),(LEFT('1 - Opstart Importark'!$B$18,3)),IF(I597=\"\",\"\",\"-\"),I597,IF(K597=\"\",\"\",\"-\"),K597,IF(M597=\"\",\"\",\"-\"),M597))))","v":""},null," ",{"$nulls":9},{"$f":"IF(LEN('1 - Opstart Importark'!$B$6)>0,'1 - Opstart Importark'!$B$6,\"\")","v":""},{"$f":"IF(LEN('1 - Opstart Importark'!$B$9)>0,'1 - Opstart Importark'!$B$9,\"\")","v":""},{"$f":"IF(LEN('1 - Opstart Importark'!$B$23)>0,'1 - Opstart Importark'!$B$23,\"\")","v":""},{"$nulls":14},"",{"$nulls":8},0,"","","objektnogle_"]
[586,null,{"$f":"IF('1 - Opstart Importark'!$B$6=\"\",\"\",(IF('1 - Opstart Importark'!$B$15=\"\",CONCATENATE(LEFT('1 - Opstart Importark'!$B$3,1),(LEFT('1 - Opstart Importark'!$B$20,5)),MID('1 - Opstart Importark'!$B$20,5,2),LEFT('1 - Opstart Importark'!$B$28,3),IF(I598=\"\",\"\",\"-\"),I598,IF(K598=\"\",\"\",\"-\"),K598,IF(M598=\"\",\"\",\"-\"),M598),CONCATENATE(LEFT('1 - Opstart Importark'!$B$3,1),(LEFT('1 - Opstart Importark'!$B$15,5)),(LEFT('1 - Opstart Importark'!$B$18,3)),IF(I598=\"\",\"\",\"-\"),I598,IF(K598=\"\",\"\",\"-\"),K598,IF(M598=\"\",\"\",\"-\"),M598))))","v":""},null," ",{"$nulls":9},{"$f":"IF(LEN('1 - Opstart Importark'!$B$6)>0,'1 - Opstart Importark'!$B$6,\"\")","v":""},{"$f":"IF(LEN('1 - Opstart Importark'!$B$9)>0,'1 - Opstart Importark'!$B$9,\"\")","v":""},{"$f":"IF(LEN('1 - Opstart Importark'!$B$23)>0,'1 - Opstart Importark'!$B$23,\"\")","v":""},{"$nulls":14},"",{"$nulls":8},0,"","","objektnogle_"]
[587,null,{"$f":"IF('1 - Opstart Importark'!$B$6=\"\",\"\",(IF('1 - Opstart Importark'!$B$15=\"\",CONCATENATE(LEFT('1 - Opstart Importark'!$B$3,1),(LEFT('1 - Opstart Importark'!$B$20,5)),MID('1 - Opstart Importark'!$B$20,5,2),LEFT('1 - Opstart Importark'!$B$28,3),IF(I599=\"\",\"\",\"-\"),I599,IF(K599=\"\",\"\",\"-\"),K599,IF(M599=\"\",\"\",\"-\"),M599),CONCATENATE(LEFT('1 - Opstart Importark'!$B$3,1),(LEFT('1 - Opstart Importark'!$B$15,5)),(LEFT('1 - Opstart Importark'!$B$18,3)),IF(I599=\"\",\"\",\"-\"),I599,IF(K599=\"\",\"\",\"-\"),K599,IF(M599=\"\",\"\",\"-\"),M599))))","v":""},null," ",{"$nulls":9},{"$f":"IF(LEN('1 - Opstart Importark'!$B$6)>0,'1 - Opstart Importark'!$B$6,\"\")","v":""},{"$f":"IF(LEN('1 - Opstart Importark'!$B$9)>0,'1 - Opstart Importark'!$B$9,\"\")","v":""},{"$f":"IF(LEN('1 - Opstart Importark'!$B$23)>0,'1 - Opstart Importark'!$B$23,\"\")","v":""},{"$nulls":14},"",{"$nulls":8},0,"","","objektnogle_"]
[588,null,{"$f":"IF('1 - Opstart Importark'!$B$6=\"\",\"\",(IF('1 - Opstart Importark'!$B$15=\"\",CONCATENATE(LEFT('1 - Opstart Importark'!$B$3,1),(LEFT('1 - Opstart Importark'!$B$20,5)),MID('1 - Opstart Importark'!$B$20,5,2),LEFT('1 - Opstart Importark'!$B$28,3),IF(I600=\"\",\"\",\"-\"),I600,IF(K600=\"\",\"\",\"-\"),K600,IF(M600=\"\",\"\",\"-\"),M600),CONCATENATE(LEFT('1 - Opstart Importark'!$B$3,1),(LEFT('1 - Opstart Importark'!$B$15,5)),(LEFT('1 - Opstart Importark'!$B$18,3)),IF(I600=\"\",\"\",\"-\"),I600,IF(K600=\"\",\"\",\"-\"),K600,IF(M600=\"\",\"\",\"-\"),M600))))","v":""},null," ",{"$nulls":9},{"$f":"IF(LEN('1 - Opstart Importark'!$B$6)>0,'1 - Opstart Importark'!$B$6,\"\")","v":""},{"$f":"IF(LEN('1 - Opstart Importark'!$B$9)>0,'1 - Opstart Importark'!$B$9,\"\")","v":""},{"$f":"IF(LEN('1 - Opstart Importark'!$B$23)>0,'1 - Opstart Importark'!$B$23,\"\")","v":""},{"$nulls":14},"",{"$nulls":8},0,"","","objektnogle_"]
[589,null,{"$f":"IF('1 - Opstart Importark'!$B$6=\"\",\"\",(IF('1 - Opstart Importark'!$B$15=\"\",CONCATENATE(LEFT('1 - Opstart Importark'!$B$3,1),(LEFT('1 - Opstart Importark'!$B$20,5)),MID('1 - Opstart Importark'!$B$20,5,2),LEFT('1 - Opstart Importark'!$B$28,3),IF(I601=\"\",\"\",\"-\"),I601,IF(K601=\"\",\"\",\"-\"),K601,IF(M601=\"\",\"\",\"-\"),M601),CONCATENATE(LEFT('1 - Opstart Importark'!$B$3,1),(LEFT('1 - Opstart Importark'!$B$15,5)),(LEFT('1 - Opstart Importark'!$B$18,3)),IF(I601=\"\",\"\",\"-\"),I601,IF(K601=\"\",\"\",\"-\"),K601,IF(M601=\"\",\"\",\"-\"),M601))))","v":""},null," ",{"$nulls":9},{"$f":"IF(LEN('1 - Opstart Importark'!$B$6)>0,'1 - Opstart Importark'!$B$6,\"\")","v":""},{"$f":"IF(LEN('1 - Opstart Importark'!$B$9)>0,'1 - Opstart Importark'!$B$9,\"\")","v":""},{"$f":"IF(LEN('1 - Opstart Importark'!$B$23)>0,'1 - Opstart Importark'!$B$23,\"\")","v":""},{"$nulls":14},"",{"$nulls":8},0,"","","objektnogle_"]
[590,null,{"$f":"IF('1 - Opstart Importark'!$B$6=\"\",\"\",(IF('1 - Opstart Importark'!$B$15=\"\",CONCATENATE(LEFT('1 - Opstart Importark'!$B$3,1),(LEFT('1 - Opstart Importark'!$B$20,5)),MID('1 - Opstart Importark'!$B$20,5,2),LEFT('1 - Opstart Importark'!$B$28,3),IF(I602=\"\",\"\",\"-\"),I602,IF(K602=\"\",\"\",\"-\"),K602,IF(M602=\"\",\"\",\"-\"),M602),CONCATENATE(LEFT('1 - Opstart Importark'!$B$3,1),(LEFT('1 - Opstart Importark'!$B$15,5)),(LEFT('1 - Opstart Importark'!$B$18,3)),IF(I602=\"\",\"\",\"-\"),I602,IF(K602=\"\",\"\",\"-\"),K602,IF(M602=\"\",\"\",\"-\"),M602))))","v":""},null," ",{"$nulls":9},{"$f":"IF(LEN('1 - Opstart Importark'!$B$6)>0,'1 - Opstart Importark'!$B$6,\"\")","v":""},{"$f":"IF(LEN('1 - Opstart Importark'!$B$9)>0,'1 - Opstart Importark'!$B$9,\"\")","v":""},{"$f":"IF(LEN('1 - Opstart Importark'!$B$23)>0,'1 - Opstart Importark'!$B$23,\"\")","v":""},{"$nulls":14},"",{"$nulls":8},0,"","","objektnogle_"]
[591,null,{"$f":"IF('1 - Opstart Importark'!$B$6=\"\",\"\",(IF('1 - Opstart Importark'!$B$15=\"\",CONCATENATE(LEFT('1 - Opstart Importark'!$B$3,1),(LEFT('1 - Opstart Importark'!$B$20,5)),MID('1 - Opstart Importark'!$B$20,5,2),LEFT('1 - Opstart Importark'!$B$28,3),IF(I603=\"\",\"\",\"-\"),I603,IF(K603=\"\",\"\",\"-\"),K603,IF(M603=\"\",\"\",\"-\"),M603),CONCATENATE(LEFT('1 - Opstart Importark'!$B$3,1),(LEFT('1 - Opstart Importark'!$B$15,5)),(LEFT('1 - Opstart Importark'!$B$18,3)),IF(I603=\"\",\"\",\"-\"),I603,IF(K603=\"\",\"\",\"-\"),K603,IF(M603=\"\",\"\",\"-\"),M603))))","v":""},null," ",{"$nulls":9},{"$f":"IF(LEN('1 - Opstart Importark'!$B$6)>0,'1 - Opstart Importark'!$B$6,\"\")","v":""},{"$f":"IF(LEN('1 - Opstart Importark'!$B$9)>0,'1 - Opstart Importark'!$B$9,\"\")","v":""},{"$f":"IF(LEN('1 - Opstart Importark'!$B$23)>0,'1 - Opstart Importark'!$B$23,\"\")","v":""},{"$nulls":14},"",{"$nulls":8},0,"","","objektnogle_"]
[592,null,{"$f":"IF('1 - Opstart Importark'!$B$6=\"\",\"\",(IF('1 - Opstart Importark'!$B$15=\"\",CONCATENATE(LEFT('1 - Opstart Importark'!$B$3,1),(LEFT('1 - Opstart Importark'!$B$20,5)),MID('1 - Opstart Importark'!$B$20,5,2),LEFT('1 - Opstart Importark'!$B$28,3),IF(I604=\"\",\"\",\"-\"),I604,IF(K604=\"\",\"\",\"-\"),K604,IF(M604=\"\",\"\",\"-\"),M604),CONCATENATE(LEFT('1 - Opstart Importark'!$B$3,1),(LEFT('1 - Opstart Importark'!$B$15,5)),(LEFT('1 - Opstart Importark'!$B$18,3)),IF(I604=\"\",\"\",\"-\"),I604,IF(K604=\"\",\"\",\"-\"),K604,IF(M604=\"\",\"\",\"-\"),M604))))","v":""},null," ",{"$nulls":9},{"$f":"IF(LEN('1 - Opstart Importark'!$B$6)>0,'1 - Opstart Importark'!$B$6,\"\")","v":""},{"$f":"IF(LEN('1 - Opstart Importark'!$B$9)>0,'1 - Opstart Importark'!$B$9,\"\")","v":""},{"$f":"IF(LEN('1 - Opstart Importark'!$B$23)>0,'1 - Opstart Importark'!$B$23,\"\")","v":""},{"$nulls":14},"",{"$nulls":8},0,"","","objektnogle_"]
[593,null,{"$f":"IF('1 - Opstart Importark'!$B$6=\"\",\"\",(IF('1 - Opstart Importark'!$B$15=\"\",CONCATENATE(LEFT('1 - Opstart Importark'!$B$3,1),(LEFT('1 - Opstart Importark'!$B$20,5)),MID('1 - Opstart Importark'!$B$20,5,2),LEFT('1 - Opstart Importark'!$B$28,3),IF(I605=\"\",\"\",\"-\"),I605,IF(K605=\"\",\"\",\"-\"),K605,IF(M605=\"\",\"\",\"-\"),M605),CONCATENATE(LEFT('1 - Opstart Importark'!$B$3,1),(LEFT('1 - Opstart Importark'!$B$15,5)),(LEFT('1 - Opstart Importark'!$B$18,3)),IF(I605=\"\",\"\",\"-\"),I605,IF(K605=\"\",\"\",\"-\"),K605,IF(M605=\"\",\"\",\"-\"),M605))))","v":""},null," ",{"$nulls":9},{"$f":"IF(LEN('1 - Opstart Importark'!$B$6)>0,'1 - Opstart Importark'!$B$6,\"\")","v":""},{"$f":"IF(LEN('1 - Opstart Importark'!$B$9)>0,'1 - Opstart Importark'!$B$9,\"\")","v":""},{"$f":"IF(LEN('1 - Opstart Importark'!$B$23)>0,'1 - Opstart Importark'!$B$23,\"\")","v":""},{"$nulls":14},"",{"$nulls":8},0,"","","objektnogle_"]
[594,null,{"$f":"IF('1 - Opstart Importark'!$B$6=\"\",\"\",(IF('1 - Opstart Importark'!$B$15=\"\",CONCATENATE(LEFT('1 - Opstart Importark'!$B$3,1),(LEFT('1 - Opstart Importark'!$B$20,5)),MID('1 - Opstart Importark'!$B$20,5,2),LEFT('1 - Opstart Importark'!$B$28,3),IF(I606=\"\",\"\",\"-\"),I606,IF(K606=\"\",\"\",\"-\"),K606,IF(M606=\"\",\"\",\"-\"),M606),CONCATENATE(LEFT('1 - Opstart Importark'!$B$3,1),(LEFT('1 - Opstart Importark'!$B$15,5)),(LEFT('1 - Opstart Importark'!$B$18,3)),IF(I606=\"\",\"\",\"-\"),I606,IF(K606=\"\",\"\",\"-\"),K606,IF(M606=\"\",\"\",\"-\"),M606))))","v":""},null," ",{"$nulls":9},{"$f":"IF(LEN('1 - Opstart Importark'!$B$6)>0,'1 - Opstart Importark'!$B$6,\"\")","v":""},{"$f":"IF(LEN('1 - Opstart Importark'!$B$9)>0,'1 - Opstart Importark'!$B$9,\"\")","v":""},{"$f":"IF(LEN('1 - Opstart Importark'!$B$23)>0,'1 - Opstart Importark'!$B$23,\"\")","v":""},{"$nulls":14},"",{"$nulls":8},0,"","","objektnogle_"]
[595,null,{"$f":"IF('1 - Opstart Importark'!$B$6=\"\",\"\",(IF('1 - Opstart Importark'!$B$15=\"\",CONCATENATE(LEFT('1 - Opstart Importark'!$B$3,1),(LEFT('1 - Opstart Importark'!$B$20,5)),MID('1 - Opstart Importark'!$B$20,5,2),LEFT('1 - Opstart Importark'!$B$28,3),IF(I607=\"\",\"\",\"-\"),I607,IF(K607=\"\",\"\",\"-\"),K607,IF(M607=\"\",\"\",\"-\"),M607),CONCATENATE(LEFT('1 - Opstart Importark'!$B$3,1),(LEFT('1 - Opstart Importark'!$B$15,5)),(LEFT('1 - Opstart Importark'!$B$18,3)),IF(I607=\"\",\"\",\"-\"),I607,IF(K607=\"\",\"\",\"-\"),K607,IF(M607=\"\",\"\",\"-\"),M607))))","v":""},null," ",{"$nulls":9},{"$f":"IF(LEN('1 - Opstart Importark'!$B$6)>0,'1 - Opstart Importark'!$B$6,\"\")","v":""},{"$f":"IF(LEN('1 - Opstart Importark'!$B$9)>0,'1 - Opstart Importark'!$B$9,\"\")","v":""},{"$f":"IF(LEN('1 - Opstart Importark'!$B$23)>0,'1 - Opstart Importark'!$B$23,\"\")","v":""},{"$nulls":14},"",{"$nulls":8},0,"","","objektnogle_"]
[596,null,{"$f":"IF('1 - Opstart Importark'!$B$6=\"\",\"\",(IF('1 - Opstart Importark'!$B$15=\"\",CONCATENATE(LEFT('1 - Opstart Importark'!$B$3,1),(LEFT('1 - Opstart Importark'!$B$20,5)),MID('1 - Opstart Importark'!$B$20,5,2),LEFT('1 - Opstart Importark'!$B$28,3),IF(I608=\"\",\"\",\"-\"),I608,IF(K608=\"\",\"\",\"-\"),K608,IF(M608=\"\",\"\",\"-\"),M608),CONCATENATE(LEFT('1 - Opstart Importark'!$B$3,1),(LEFT('1 - Opstart Importark'!$B$15,5)),(LEFT('1 - Opstart Importark'!$B$18,3)),IF(I608=\"\",\"\",\"-\"),I608,IF(K608=\"\",\"\",\"-\"),K608,IF(M608=\"\",\"\",\"-\"),M608))))","v":""},null," ",{"$nulls":9},{"$f":"IF(LEN('1 - Opstart Importark'!$B$6)>0,'1 - Opstart Importark'!$B$6,\"\")","v":""},{"$f":"IF(LEN('1 - Opstart Importark'!$B$9)>0,'1 - Opstart Importark'!$B$9,\"\")","v":""},{"$f":"IF(LEN('1 - Opstart Importark'!$B$23)>0,'1 - Opstart Importark'!$B$23,\"\")","v":""},{"$nulls":14},"",{"$nulls":8},0,"","","objektnogle_"]
[597,null,{"$f":"IF('1 - Opstart Importark'!$B$6=\"\",\"\",(IF('1 - Opstart Importark'!$B$15=\"\",CONCATENATE(LEFT('1 - Opstart Importark'!$B$3,1),(LEFT('1 - Opstart Importark'!$B$20,5)),MID('1 - Opstart Importark'!$B$20,5,2),LEFT('1 - Opstart Importark'!$B$28,3),IF(I609=\"\",\"\",\"-\"),I609,IF(K609=\"\",\"\",\"-\"),K609,IF(M609=\"\",\"\",\"-\"),M609),CONCATENATE(LEFT('1 - Opstart Importark'!$B$3,1),(LEFT('1 - Opstart Importark'!$B$15,5)),(LEFT('1 - Opstart Importark'!$B$18,3)),IF(I609=\"\",\"\",\"-\"),I609,IF(K609=\"\",\"\",\"-\"),K609,IF(M609=\"\",\"\",\"-\"),M609))))","v":""},null," ",{"$nulls":9},{"$f":"IF(LEN('1 - Opstart Importark'!$B$6)>0,'1 - Opstart Importark'!$B$6,\"\")","v":""},{"$f":"IF(LEN('1 - Opstart Importark'!$B$9)>0,'1 - Opstart Importark'!$B$9,\"\")","v":""},{"$f":"IF(LEN('1 - Opstart Importark'!$B$23)>0,'1 - Opstart Importark'!$B$23,\"\")","v":""},{"$nulls":14},"",{"$nulls":8},0,"","","objektnogle_"]
[598,null,{"$f":"IF('1 - Opstart Importark'!$B$6=\"\",\"\",(IF('1 - Opstart Importark'!$B$15=\"\",CONCATENATE(LEFT('1 - Opstart Importark'!$B$3,1),(LEFT('1 - Opstart Importark'!$B$20,5)),MID('1 - Opstart Importark'!$B$20,5,2),LEFT('1 - Opstart Importark'!$B$28,3),IF(I610=\"\",\"\",\"-\"),I610,IF(K610=\"\",\"\",\"-\"),K610,IF(M610=\"\",\"\",\"-\"),M610),CONCATENATE(LEFT('1 - Opstart Importark'!$B$3,1),(LEFT('1 - Opstart Importark'!$B$15,5)),(LEFT('1 - Opstart Importark'!$B$18,3)),IF(I610=\"\",\"\",\"-\"),I610,IF(K610=\"\",\"\",\"-\"),K610,IF(M610=\"\",\"\",\"-\"),M610))))","v":""},null," ",{"$nulls":9},{"$f":"IF(LEN('1 - Opstart Importark'!$B$6)>0,'1 - Opstart Importark'!$B$6,\"\")","v":""},{"$f":"IF(LEN('1 - Opstart Importark'!$B$9)>0,'1 - Opstart Importark'!$B$9,\"\")","v":""},{"$f":"IF(LEN('1 - Opstart Importark'!$B$23)>0,'1 - Opstart Importark'!$B$23,\"\")","v":""},{"$nulls":14},"",{"$nulls":8},0,"","","objektnogle_"]
[599,null,{"$f":"IF('1 - Opstart Importark'!$B$6=\"\",\"\",(IF('1 - Opstart Importark'!$B$15=\"\",CONCATENATE(LEFT('1 - Opstart Importark'!$B$3,1),(LEFT('1 - Opstart Importark'!$B$20,5)),MID('1 - Opstart Importark'!$B$20,5,2),LEFT('1 - Opstart Importark'!$B$28,3),IF(I611=\"\",\"\",\"-\"),I611,IF(K611=\"\",\"\",\"-\"),K611,IF(M611=\"\",\"\",\"-\"),M611),CONCATENATE(LEFT('1 - Opstart Importark'!$B$3,1),(LEFT('1 - Opstart Importark'!$B$15,5)),(LEFT('1 - Opstart Importark'!$B$18,3)),IF(I611=\"\",\"\",\"-\"),I611,IF(K611=\"\",\"\",\"-\"),K611,IF(M611=\"\",\"\",\"-\"),M611))))","v":""},null," ",{"$nulls":9},{"$f":"IF(LEN('1 - Opstart Importark'!$B$6)>0,'1 - Opstart Importark'!$B$6,\"\")","v":""},{"$f":"IF(LEN('1 - Opstart Importark'!$B$9)>0,'1 - Opstart Importark'!$B$9,\"\")","v":""},{"$f":"IF(LEN('1 - Opstart Importark'!$B$23)>0,'1 - Opstart Importark'!$B$23,\"\")","v":""},{"$nulls":14},"",{"$nulls":8},0,"","","objektnogle_"]
[600,null,{"$f":"IF('1 - Opstart Importark'!$B$6=\"\",\"\",(IF('1 - Opstart Importark'!$B$15=\"\",CONCATENATE(LEFT('1 - Opstart Importark'!$B$3,1),(LEFT('1 - Opstart Importark'!$B$20,5)),MID('1 - Opstart Importark'!$B$20,5,2),LEFT('1 - Opstart Importark'!$B$28,3),IF(I612=\"\",\"\",\"-\"),I612,IF(K612=\"\",\"\",\"-\"),K612,IF(M612=\"\",\"\",\"-\"),M612),CONCATENATE(LEFT('1 - Opstart Importark'!$B$3,1),(LEFT('1 - Opstart Importark'!$B$15,5)),(LEFT('1 - Opstart Importark'!$B$18,3)),IF(I612=\"\",\"\",\"-\"),I612,IF(K612=\"\",\"\",\"-\"),K612,IF(M612=\"\",\"\",\"-\"),M612))))","v":""},null," ",{"$nulls":9},{"$f":"IF(LEN('1 - Opstart Importark'!$B$6)>0,'1 - Opstart Importark'!$B$6,\"\")","v":""},{"$f":"IF(LEN('1 - Opstart Importark'!$B$9)>0,'1 - Opstart Importark'!$B$9,\"\")","v":""},{"$f":"IF(LEN('1 - Opstart Importark'!$B$23)>0,'1 - Opstart Importark'!$B$23,\"\")","v":""},{"$nulls":14},"",{"$nulls":8},0,"","","objektnogle_"]
[601,null,{"$f":"IF('1 - Opstart Importark'!$B$6=\"\",\"\",(IF('1 - Opstart Importark'!$B$15=\"\",CONCATENATE(LEFT('1 - Opstart Importark'!$B$3,1),(LEFT('1 - Opstart Importark'!$B$20,5)),MID('1 - Opstart Importark'!$B$20,5,2),LEFT('1 - Opstart Importark'!$B$28,3),IF(I613=\"\",\"\",\"-\"),I613,IF(K613=\"\",\"\",\"-\"),K613,IF(M613=\"\",\"\",\"-\"),M613),CONCATENATE(LEFT('1 - Opstart Importark'!$B$3,1),(LEFT('1 - Opstart Importark'!$B$15,5)),(LEFT('1 - Opstart Importark'!$B$18,3)),IF(I613=\"\",\"\",\"-\"),I613,IF(K613=\"\",\"\",\"-\"),K613,IF(M613=\"\",\"\",\"-\"),M613))))","v":""},null," ",{"$nulls":9},{"$f":"IF(LEN('1 - Opstart Importark'!$B$6)>0,'1 - Opstart Importark'!$B$6,\"\")","v":""},{"$f":"IF(LEN('1 - Opstart Importark'!$B$9)>0,'1 - Opstart Importark'!$B$9,\"\")","v":""},{"$f":"IF(LEN('1 - Opstart Importark'!$B$23)>0,'1 - Opstart Importark'!$B$23,\"\")","v":""},{"$nulls":14},"",{"$nulls":8},0,"","","objektnogle_"]
[602,null,{"$f":"IF('1 - Opstart Importark'!$B$6=\"\",\"\",(IF('1 - Opstart Importark'!$B$15=\"\",CONCATENATE(LEFT('1 - Opstart Importark'!$B$3,1),(LEFT('1 - Opstart Importark'!$B$20,5)),MID('1 - Opstart Importark'!$B$20,5,2),LEFT('1 - Opstart Importark'!$B$28,3),IF(I614=\"\",\"\",\"-\"),I614,IF(K614=\"\",\"\",\"-\"),K614,IF(M614=\"\",\"\",\"-\"),M614),CONCATENATE(LEFT('1 - Opstart Importark'!$B$3,1),(LEFT('1 - Opstart Importark'!$B$15,5)),(LEFT('1 - Opstart Importark'!$B$18,3)),IF(I614=\"\",\"\",\"-\"),I614,IF(K614=\"\",\"\",\"-\"),K614,IF(M614=\"\",\"\",\"-\"),M614))))","v":""},null," ",{"$nulls":9},{"$f":"IF(LEN('1 - Opstart Importark'!$B$6)>0,'1 - Opstart Importark'!$B$6,\"\")","v":""},{"$f":"IF(LEN('1 - Opstart Importark'!$B$9)>0,'1 - Opstart Importark'!$B$9,\"\")","v":""},{"$f":"IF(LEN('1 - Opstart Importark'!$B$23)>0,'1 - Opstart Importark'!$B$23,\"\")","v":""},{"$nulls":14},"",{"$nulls":8},0,"","","objektnogle_"]
[603,null,{"$f":"IF('1 - Opstart Importark'!$B$6=\"\",\"\",(IF('1 - Opstart Importark'!$B$15=\"\",CONCATENATE(LEFT('1 - Opstart Importark'!$B$3,1),(LEFT('1 - Opstart Importark'!$B$20,5)),MID('1 - Opstart Importark'!$B$20,5,2),LEFT('1 - Opstart Importark'!$B$28,3),IF(I615=\"\",\"\",\"-\"),I615,IF(K615=\"\",\"\",\"-\"),K615,IF(M615=\"\",\"\",\"-\"),M615),CONCATENATE(LEFT('1 - Opstart Importark'!$B$3,1),(LEFT('1 - Opstart Importark'!$B$15,5)),(LEFT('1 - Opstart Importark'!$B$18,3)),IF(I615=\"\",\"\",\"-\"),I615,IF(K615=\"\",\"\",\"-\"),K615,IF(M615=\"\",\"\",\"-\"),M615))))","v":""},null," ",{"$nulls":9},{"$f":"IF(LEN('1 - Opstart Importark'!$B$6)>0,'1 - Opstart Importark'!$B$6,\"\")","v":""},{"$f":"IF(LEN('1 - Opstart Importark'!$B$9)>0,'1 - Opstart Importark'!$B$9,\"\")","v":""},{"$f":"IF(LEN('1 - Opstart Importark'!$B$23)>0,'1 - Opstart Importark'!$B$23,\"\")","v":""},{"$nulls":14},"",{"$nulls":8},0,"","","objektnogle_"]
[604,null,{"$f":"IF('1 - Opstart Importark'!$B$6=\"\",\"\",(IF('1 - Opstart Importark'!$B$15=\"\",CONCATENATE(LEFT('1 - Opstart Importark'!$B$3,1),(LEFT('1 - Opstart Importark'!$B$20,5)),MID('1 - Opstart Importark'!$B$20,5,2),LEFT('1 - Opstart Importark'!$B$28,3),IF(I616=\"\",\"\",\"-\"),I616,IF(K616=\"\",\"\",\"-\"),K616,IF(M616=\"\",\"\",\"-\"),M616),CONCATENATE(LEFT('1 - Opstart Importark'!$B$3,1),(LEFT('1 - Opstart Importark'!$B$15,5)),(LEFT('1 - Opstart Importark'!$B$18,3)),IF(I616=\"\",\"\",\"-\"),I616,IF(K616=\"\",\"\",\"-\"),K616,IF(M616=\"\",\"\",\"-\"),M616))))","v":""},null," ",{"$nulls":9},{"$f":"IF(LEN('1 - Opstart Importark'!$B$6)>0,'1 - Opstart Importark'!$B$6,\"\")","v":""},{"$f":"IF(LEN('1 - Opstart Importark'!$B$9)>0,'1 - Opstart Importark'!$B$9,\"\")","v":""},{"$f":"IF(LEN('1 - Opstart Importark'!$B$23)>0,'1 - Opstart Importark'!$B$23,\"\")","v":""},{"$nulls":14},"",{"$nulls":8},0,"","","objektnogle_"]
[605,null,{"$f":"IF('1 - Opstart Importark'!$B$6=\"\",\"\",(IF('1 - Opstart Importark'!$B$15=\"\",CONCATENATE(LEFT('1 - Opstart Importark'!$B$3,1),(LEFT('1 - Opstart Importark'!$B$20,5)),MID('1 - Opstart Importark'!$B$20,5,2),LEFT('1 - Opstart Importark'!$B$28,3),IF(I617=\"\",\"\",\"-\"),I617,IF(K617=\"\",\"\",\"-\"),K617,IF(M617=\"\",\"\",\"-\"),M617),CONCATENATE(LEFT('1 - Opstart Importark'!$B$3,1),(LEFT('1 - Opstart Importark'!$B$15,5)),(LEFT('1 - Opstart Importark'!$B$18,3)),IF(I617=\"\",\"\",\"-\"),I617,IF(K617=\"\",\"\",\"-\"),K617,IF(M617=\"\",\"\",\"-\"),M617))))","v":""},null," ",{"$nulls":9},{"$f":"IF(LEN('1 - Opstart Importark'!$B$6)>0,'1 - Opstart Importark'!$B$6,\"\")","v":""},{"$f":"IF(LEN('1 - Opstart Importark'!$B$9)>0,'1 - Opstart Importark'!$B$9,\"\")","v":""},{"$f":"IF(LEN('1 - Opstart Importark'!$B$23)>0,'1 - Opstart Importark'!$B$23,\"\")","v":""},{"$nulls":14},"",{"$nulls":8},0,"","","objektnogle_"]
[606,null,{"$f":"IF('1 - Opstart Importark'!$B$6=\"\",\"\",(IF('1 - Opstart Importark'!$B$15=\"\",CONCATENATE(LEFT('1 - Opstart Importark'!$B$3,1),(LEFT('1 - Opstart Importark'!$B$20,5)),MID('1 - Opstart Importark'!$B$20,5,2),LEFT('1 - Opstart Importark'!$B$28,3),IF(I618=\"\",\"\",\"-\"),I618,IF(K618=\"\",\"\",\"-\"),K618,IF(M618=\"\",\"\",\"-\"),M618),CONCATENATE(LEFT('1 - Opstart Importark'!$B$3,1),(LEFT('1 - Opstart Importark'!$B$15,5)),(LEFT('1 - Opstart Importark'!$B$18,3)),IF(I618=\"\",\"\",\"-\"),I618,IF(K618=\"\",\"\",\"-\"),K618,IF(M618=\"\",\"\",\"-\"),M618))))","v":""},null," ",{"$nulls":9},{"$f":"IF(LEN('1 - Opstart Importark'!$B$6)>0,'1 - Opstart Importark'!$B$6,\"\")","v":""},{"$f":"IF(LEN('1 - Opstart Importark'!$B$9)>0,'1 - Opstart Importark'!$B$9,\"\")","v":""},{"$f":"IF(LEN('1 - Opstart Importark'!$B$23)>0,'1 - Opstart Importark'!$B$23,\"\")","v":""},{"$nulls":14},"",{"$nulls":8},0,"","","objektnogle_"]
[607,null,{"$f":"IF('1 - Opstart Importark'!$B$6=\"\",\"\",(IF('1 - Opstart Importark'!$B$15=\"\",CONCATENATE(LEFT('1 - Opstart Importark'!$B$3,1),(LEFT('1 - Opstart Importark'!$B$20,5)),MID('1 - Opstart Importark'!$B$20,5,2),LEFT('1 - Opstart Importark'!$B$28,3),IF(I619=\"\",\"\",\"-\"),I619,IF(K619=\"\",\"\",\"-\"),K619,IF(M619=\"\",\"\",\"-\"),M619),CONCATENATE(LEFT('1 - Opstart Importark'!$B$3,1),(LEFT('1 - Opstart Importark'!$B$15,5)),(LEFT('1 - Opstart Importark'!$B$18,3)),IF(I619=\"\",\"\",\"-\"),I619,IF(K619=\"\",\"\",\"-\"),K619,IF(M619=\"\",\"\",\"-\"),M619))))","v":""},null," ",{"$nulls":9},{"$f":"IF(LEN('1 - Opstart Importark'!$B$6)>0,'1 - Opstart Importark'!$B$6,\"\")","v":""},{"$f":"IF(LEN('1 - Opstart Importark'!$B$9)>0,'1 - Opstart Importark'!$B$9,\"\")","v":""},{"$f":"IF(LEN('1 - Opstart Importark'!$B$23)>0,'1 - Opstart Importark'!$B$23,\"\")","v":""},{"$nulls":14},"",{"$nulls":8},0,"","","objektnogle_"]
[608,null,{"$f":"IF('1 - Opstart Importark'!$B$6=\"\",\"\",(IF('1 - Opstart Importark'!$B$15=\"\",CONCATENATE(LEFT('1 - Opstart Importark'!$B$3,1),(LEFT('1 - Opstart Importark'!$B$20,5)),MID('1 - Opstart Importark'!$B$20,5,2),LEFT('1 - Opstart Importark'!$B$28,3),IF(I620=\"\",\"\",\"-\"),I620,IF(K620=\"\",\"\",\"-\"),K620,IF(M620=\"\",\"\",\"-\"),M620),CONCATENATE(LEFT('1 - Opstart Importark'!$B$3,1),(LEFT('1 - Opstart Importark'!$B$15,5)),(LEFT('1 - Opstart Importark'!$B$18,3)),IF(I620=\"\",\"\",\"-\"),I620,IF(K620=\"\",\"\",\"-\"),K620,IF(M620=\"\",\"\",\"-\"),M620))))","v":""},null," ",{"$nulls":9},{"$f":"IF(LEN('1 - Opstart Importark'!$B$6)>0,'1 - Opstart Importark'!$B$6,\"\")","v":""},{"$f":"IF(LEN('1 - Opstart Importark'!$B$9)>0,'1 - Opstart Importark'!$B$9,\"\")","v":""},{"$f":"IF(LEN('1 - Opstart Importark'!$B$23)>0,'1 - Opstart Importark'!$B$23,\"\")","v":""},{"$nulls":14},"",{"$nulls":8},0,"","","objektnogle_"]
[609,null,{"$f":"IF('1 - Opstart Importark'!$B$6=\"\",\"\",(IF('1 - Opstart Importark'!$B$15=\"\",CONCATENATE(LEFT('1 - Opstart Importark'!$B$3,1),(LEFT('1 - Opstart Importark'!$B$20,5)),MID('1 - Opstart Importark'!$B$20,5,2),LEFT('1 - Opstart Importark'!$B$28,3),IF(I621=\"\",\"\",\"-\"),I621,IF(K621=\"\",\"\",\"-\"),K621,IF(M621=\"\",\"\",\"-\"),M621),CONCATENATE(LEFT('1 - Opstart Importark'!$B$3,1),(LEFT('1 - Opstart Importark'!$B$15,5)),(LEFT('1 - Opstart Importark'!$B$18,3)),IF(I621=\"\",\"\",\"-\"),I621,IF(K621=\"\",\"\",\"-\"),K621,IF(M621=\"\",\"\",\"-\"),M621))))","v":""},null," ",{"$nulls":9},{"$f":"IF(LEN('1 - Opstart Importark'!$B$6)>0,'1 - Opstart Importark'!$B$6,\"\")","v":""},{"$f":"IF(LEN('1 - Opstart Importark'!$B$9)>0,'1 - Opstart Importark'!$B$9,\"\")","v":""},{"$f":"IF(LEN('1 - Opstart Importark'!$B$23)>0,'1 - Opstart Importark'!$B$23,\"\")","v":""},{"$nulls":14},"",{"$nulls":8},0,"","","objektnogle_"]
[610,null,{"$f":"IF('1 - Opstart Importark'!$B$6=\"\",\"\",(IF('1 - Opstart Importark'!$B$15=\"\",CONCATENATE(LEFT('1 - Opstart Importark'!$B$3,1),(LEFT('1 - Opstart Importark'!$B$20,5)),MID('1 - Opstart Importark'!$B$20,5,2),LEFT('1 - Opstart Importark'!$B$28,3),IF(I622=\"\",\"\",\"-\"),I622,IF(K622=\"\",\"\",\"-\"),K622,IF(M622=\"\",\"\",\"-\"),M622),CONCATENATE(LEFT('1 - Opstart Importark'!$B$3,1),(LEFT('1 - Opstart Importark'!$B$15,5)),(LEFT('1 - Opstart Importark'!$B$18,3)),IF(I622=\"\",\"\",\"-\"),I622,IF(K622=\"\",\"\",\"-\"),K622,IF(M622=\"\",\"\",\"-\"),M622))))","v":""},null," ",{"$nulls":9},{"$f":"IF(LEN('1 - Opstart Importark'!$B$6)>0,'1 - Opstart Importark'!$B$6,\"\")","v":""},{"$f":"IF(LEN('1 - Opstart Importark'!$B$9)>0,'1 - Opstart Importark'!$B$9,\"\")","v":""},{"$f":"IF(LEN('1 - Opstart Importark'!$B$23)>0,'1 - Opstart Importark'!$B$23,\"\")","v":""},{"$nulls":14},"",{"$nulls":8},0,"","","objektnogle_"]
[611,null,{"$f":"IF('1 - Opstart Importark'!$B$6=\"\",\"\",(IF('1 - Opstart Importark'!$B$15=\"\",CONCATENATE(LEFT('1 - Opstart Importark'!$B$3,1),(LEFT('1 - Opstart Importark'!$B$20,5)),MID('1 - Opstart Importark'!$B$20,5,2),LEFT('1 - Opstart Importark'!$B$28,3),IF(I623=\"\",\"\",\"-\"),I623,IF(K623=\"\",\"\",\"-\"),K623,IF(M623=\"\",\"\",\"-\"),M623),CONCATENATE(LEFT('1 - Opstart Importark'!$B$3,1),(LEFT('1 - Opstart Importark'!$B$15,5)),(LEFT('1 - Opstart Importark'!$B$18,3)),IF(I623=\"\",\"\",\"-\"),I623,IF(K623=\"\",\"\",\"-\"),K623,IF(M623=\"\",\"\",\"-\"),M623))))","v":""},null," ",{"$nulls":9},{"$f":"IF(LEN('1 - Opstart Importark'!$B$6)>0,'1 - Opstart Importark'!$B$6,\"\")","v":""},{"$f":"IF(LEN('1 - Opstart Importark'!$B$9)>0,'1 - Opstart Importark'!$B$9,\"\")","v":""},{"$f":"IF(LEN('1 - Opstart Importark'!$B$23)>0,'1 - Opstart Importark'!$B$23,\"\")","v":""},{"$nulls":14},"",{"$nulls":8},0,"","","objektnogle_"]
[612,null,{"$f":"IF('1 - Opstart Importark'!$B$6=\"\",\"\",(IF('1 - Opstart Importark'!$B$15=\"\",CONCATENATE(LEFT('1 - Opstart Importark'!$B$3,1),(LEFT('1 - Opstart Importark'!$B$20,5)),MID('1 - Opstart Importark'!$B$20,5,2),LEFT('1 - Opstart Importark'!$B$28,3),IF(I624=\"\",\"\",\"-\"),I624,IF(K624=\"\",\"\",\"-\"),K624,IF(M624=\"\",\"\",\"-\"),M624),CONCATENATE(LEFT('1 - Opstart Importark'!$B$3,1),(LEFT('1 - Opstart Importark'!$B$15,5)),(LEFT('1 - Opstart Importark'!$B$18,3)),IF(I624=\"\",\"\",\"-\"),I624,IF(K624=\"\",\"\",\"-\"),K624,IF(M624=\"\",\"\",\"-\"),M624))))","v":""},null," ",{"$nulls":9},{"$f":"IF(LEN('1 - Opstart Importark'!$B$6)>0,'1 - Opstart Importark'!$B$6,\"\")","v":""},{"$f":"IF(LEN('1 - Opstart Importark'!$B$9)>0,'1 - Opstart Importark'!$B$9,\"\")","v":""},{"$f":"IF(LEN('1 - Opstart Importark'!$B$23)>0,'1 - Opstart Importark'!$B$23,\"\")","v":""},{"$nulls":14},"",{"$nulls":8},0,"","","objektnogle_"]
[613,null,{"$f":"IF('1 - Opstart Importark'!$B$6=\"\",\"\",(IF('1 - Opstart Importark'!$B$15=\"\",CONCATENATE(LEFT('1 - Opstart Importark'!$B$3,1),(LEFT('1 - Opstart Importark'!$B$20,5)),MID('1 - Opstart Importark'!$B$20,5,2),LEFT('1 - Opstart Importark'!$B$28,3),IF(I625=\"\",\"\",\"-\"),I625,IF(K625=\"\",\"\",\"-\"),K625,IF(M625=\"\",\"\",\"-\"),M625),CONCATENATE(LEFT('1 - Opstart Importark'!$B$3,1),(LEFT('1 - Opstart Importark'!$B$15,5)),(LEFT('1 - Opstart Importark'!$B$18,3)),IF(I625=\"\",\"\",\"-\"),I625,IF(K625=\"\",\"\",\"-\"),K625,IF(M625=\"\",\"\",\"-\"),M625))))","v":""},null," ",{"$nulls":9},{"$f":"IF(LEN('1 - Opstart Importark'!$B$6)>0,'1 - Opstart Importark'!$B$6,\"\")","v":""},{"$f":"IF(LEN('1 - Opstart Importark'!$B$9)>0,'1 - Opstart Importark'!$B$9,\"\")","v":""},{"$f":"IF(LEN('1 - Opstart Importark'!$B$23)>0,'1 - Opstart Importark'!$B$23,\"\")","v":""},{"$nulls":14},"",{"$nulls":8},0,"","","objektnogle_"]
[614,null,{"$f":"IF('1 - Opstart Importark'!$B$6=\"\",\"\",(IF('1 - Opstart Importark'!$B$15=\"\",CONCATENATE(LEFT('1 - Opstart Importark'!$B$3,1),(LEFT('1 - Opstart Importark'!$B$20,5)),MID('1 - Opstart Importark'!$B$20,5,2),LEFT('1 - Opstart Importark'!$B$28,3),IF(I626=\"\",\"\",\"-\"),I626,IF(K626=\"\",\"\",\"-\"),K626,IF(M626=\"\",\"\",\"-\"),M626),CONCATENATE(LEFT('1 - Opstart Importark'!$B$3,1),(LEFT('1 - Opstart Importark'!$B$15,5)),(LEFT('1 - Opstart Importark'!$B$18,3)),IF(I626=\"\",\"\",\"-\"),I626,IF(K626=\"\",\"\",\"-\"),K626,IF(M626=\"\",\"\",\"-\"),M626))))","v":""},null," ",{"$nulls":9},{"$f":"IF(LEN('1 - Opstart Importark'!$B$6)>0,'1 - Opstart Importark'!$B$6,\"\")","v":""},{"$f":"IF(LEN('1 - Opstart Importark'!$B$9)>0,'1 - Opstart Importark'!$B$9,\"\")","v":""},{"$f":"IF(LEN('1 - Opstart Importark'!$B$23)>0,'1 - Opstart Importark'!$B$23,\"\")","v":""},{"$nulls":14},"",{"$nulls":8},0,"","","objektnogle_"]
[615,null,{"$f":"IF('1 - Opstart Importark'!$B$6=\"\",\"\",(IF('1 - Opstart Importark'!$B$15=\"\",CONCATENATE(LEFT('1 - Opstart Importark'!$B$3,1),(LEFT('1 - Opstart Importark'!$B$20,5)),MID('1 - Opstart Importark'!$B$20,5,2),LEFT('1 - Opstart Importark'!$B$28,3),IF(I627=\"\",\"\",\"-\"),I627,IF(K627=\"\",\"\",\"-\"),K627,IF(M627=\"\",\"\",\"-\"),M627),CONCATENATE(LEFT('1 - Opstart Importark'!$B$3,1),(LEFT('1 - Opstart Importark'!$B$15,5)),(LEFT('1 - Opstart Importark'!$B$18,3)),IF(I627=\"\",\"\",\"-\"),I627,IF(K627=\"\",\"\",\"-\"),K627,IF(M627=\"\",\"\",\"-\"),M627))))","v":""},null," ",{"$nulls":9},{"$f":"IF(LEN('1 - Opstart Importark'!$B$6)>0,'1 - Opstart Importark'!$B$6,\"\")","v":""},{"$f":"IF(LEN('1 - Opstart Importark'!$B$9)>0,'1 - Opstart Importark'!$B$9,\"\")","v":""},{"$f":"IF(LEN('1 - Opstart Importark'!$B$23)>0,'1 - Opstart Importark'!$B$23,\"\")","v":""},{"$nulls":14},"",{"$nulls":8},0,"","","objektnogle_"]
[616,null,{"$f":"IF('1 - Opstart Importark'!$B$6=\"\",\"\",(IF('1 - Opstart Importark'!$B$15=\"\",CONCATENATE(LEFT('1 - Opstart Importark'!$B$3,1),(LEFT('1 - Opstart Importark'!$B$20,5)),MID('1 - Opstart Importark'!$B$20,5,2),LEFT('1 - Opstart Importark'!$B$28,3),IF(I628=\"\",\"\",\"-\"),I628,IF(K628=\"\",\"\",\"-\"),K628,IF(M628=\"\",\"\",\"-\"),M628),CONCATENATE(LEFT('1 - Opstart Importark'!$B$3,1),(LEFT('1 - Opstart Importark'!$B$15,5)),(LEFT('1 - Opstart Importark'!$B$18,3)),IF(I628=\"\",\"\",\"-\"),I628,IF(K628=\"\",\"\",\"-\"),K628,IF(M628=\"\",\"\",\"-\"),M628))))","v":""},null," ",{"$nulls":9},{"$f":"IF(LEN('1 - Opstart Importark'!$B$6)>0,'1 - Opstart Importark'!$B$6,\"\")","v":""},{"$f":"IF(LEN('1 - Opstart Importark'!$B$9)>0,'1 - Opstart Importark'!$B$9,\"\")","v":""},{"$f":"IF(LEN('1 - Opstart Importark'!$B$23)>0,'1 - Opstart Importark'!$B$23,\"\")","v":""},{"$nulls":14},"",{"$nulls":8},0,"","","objektnogle_"]
[617,null,{"$f":"IF('1 - Opstart Importark'!$B$6=\"\",\"\",(IF('1 - Opstart Importark'!$B$15=\"\",CONCATENATE(LEFT('1 - Opstart Importark'!$B$3,1),(LEFT('1 - Opstart Importark'!$B$20,5)),MID('1 - Opstart Importark'!$B$20,5,2),LEFT('1 - Opstart Importark'!$B$28,3),IF(I629=\"\",\"\",\"-\"),I629,IF(K629=\"\",\"\",\"-\"),K629,IF(M629=\"\",\"\",\"-\"),M629),CONCATENATE(LEFT('1 - Opstart Importark'!$B$3,1),(LEFT('1 - Opstart Importark'!$B$15,5)),(LEFT('1 - Opstart Importark'!$B$18,3)),IF(I629=\"\",\"\",\"-\"),I629,IF(K629=\"\",\"\",\"-\"),K629,IF(M629=\"\",\"\",\"-\"),M629))))","v":""},null," ",{"$nulls":9},{"$f":"IF(LEN('1 - Opstart Importark'!$B$6)>0,'1 - Opstart Importark'!$B$6,\"\")","v":""},{"$f":"IF(LEN('1 - Opstart Importark'!$B$9)>0,'1 - Opstart Importark'!$B$9,\"\")","v":""},{"$f":"IF(LEN('1 - Opstart Importark'!$B$23)>0,'1 - Opstart Importark'!$B$23,\"\")","v":""},{"$nulls":14},"",{"$nulls":8},0,"","","objektnogle_"]
[618,null,{"$f":"IF('1 - Opstart Importark'!$B$6=\"\",\"\",(IF('1 - Opstart Importark'!$B$15=\"\",CONCATENATE(LEFT('1 - Opstart Importark'!$B$3,1),(LEFT('1 - Opstart Importark'!$B$20,5)),MID('1 - Opstart Importark'!$B$20,5,2),LEFT('1 - Opstart Importark'!$B$28,3),IF(I630=\"\",\"\",\"-\"),I630,IF(K630=\"\",\"\",\"-\"),K630,IF(M630=\"\",\"\",\"-\"),M630),CONCATENATE(LEFT('1 - Opstart Importark'!$B$3,1),(LEFT('1 - Opstart Importark'!$B$15,5)),(LEFT('1 - Opstart Importark'!$B$18,3)),IF(I630=\"\",\"\",\"-\"),I630,IF(K630=\"\",\"\",\"-\"),K630,IF(M630=\"\",\"\",\"-\"),M630))))","v":""},null," ",{"$nulls":9},{"$f":"IF(LEN('1 - Opstart Importark'!$B$6)>0,'1 - Opstart Importark'!$B$6,\"\")","v":""},{"$f":"IF(LEN('1 - Opstart Importark'!$B$9)>0,'1 - Opstart Importark'!$B$9,\"\")","v":""},{"$f":"IF(LEN('1 - Opstart Importark'!$B$23)>0,'1 - Opstart Importark'!$B$23,\"\")","v":""},{"$nulls":14},"",{"$nulls":8},0,"","","objektnogle_"]
[619,null,{"$f":"IF('1 - Opstart Importark'!$B$6=\"\",\"\",(IF('1 - Opstart Importark'!$B$15=\"\",CONCATENATE(LEFT('1 - Opstart Importark'!$B$3,1),(LEFT('1 - Opstart Importark'!$B$20,5)),MID('1 - Opstart Importark'!$B$20,5,2),LEFT('1 - Opstart Importark'!$B$28,3),IF(I631=\"\",\"\",\"-\"),I631,IF(K631=\"\",\"\",\"-\"),K631,IF(M631=\"\",\"\",\"-\"),M631),CONCATENATE(LEFT('1 - Opstart Importark'!$B$3,1),(LEFT('1 - Opstart Importark'!$B$15,5)),(LEFT('1 - Opstart Importark'!$B$18,3)),IF(I631=\"\",\"\",\"-\"),I631,IF(K631=\"\",\"\",\"-\"),K631,IF(M631=\"\",\"\",\"-\"),M631))))","v":""},null," ",{"$nulls":9},{"$f":"IF(LEN('1 - Opstart Importark'!$B$6)>0,'1 - Opstart Importark'!$B$6,\"\")","v":""},{"$f":"IF(LEN('1 - Opstart Importark'!$B$9)>0,'1 - Opstart Importark'!$B$9,\"\")","v":""},{"$f":"IF(LEN('1 - Opstart Importark'!$B$23)>0,'1 - Opstart Importark'!$B$23,\"\")","v":""},{"$nulls":14},"",{"$nulls":8},0,"","","objektnogle_"]
[620,null,{"$f":"IF('1 - Opstart Importark'!$B$6=\"\",\"\",(IF('1 - Opstart Importark'!$B$15=\"\",CONCATENATE(LEFT('1 - Opstart Importark'!$B$3,1),(LEFT('1 - Opstart Importark'!$B$20,5)),MID('1 - Opstart Importark'!$B$20,5,2),LEFT('1 - Opstart Importark'!$B$28,3),IF(I632=\"\",\"\",\"-\"),I632,IF(K632=\"\",\"\",\"-\"),K632,IF(M632=\"\",\"\",\"-\"),M632),CONCATENATE(LEFT('1 - Opstart Importark'!$B$3,1),(LEFT('1 - Opstart Importark'!$B$15,5)),(LEFT('1 - Opstart Importark'!$B$18,3)),IF(I632=\"\",\"\",\"-\"),I632,IF(K632=\"\",\"\",\"-\"),K632,IF(M632=\"\",\"\",\"-\"),M632))))","v":""},null," ",{"$nulls":9},{"$f":"IF(LEN('1 - Opstart Importark'!$B$6)>0,'1 - Opstart Importark'!$B$6,\"\")","v":""},{"$f":"IF(LEN('1 - Opstart Importark'!$B$9)>0,'1 - Opstart Importark'!$B$9,\"\")","v":""},{"$f":"IF(LEN('1 - Opstart Importark'!$B$23)>0,'1 - Opstart Importark'!$B$23,\"\")","v":""},{"$nulls":14},"",{"$nulls":8},0,"","","objektnogle_"]
[621,null,{"$f":"IF('1 - Opstart Importark'!$B$6=\"\",\"\",(IF('1 - Opstart Importark'!$B$15=\"\",CONCATENATE(LEFT('1 - Opstart Importark'!$B$3,1),(LEFT('1 - Opstart Importark'!$B$20,5)),MID('1 - Opstart Importark'!$B$20,5,2),LEFT('1 - Opstart Importark'!$B$28,3),IF(I633=\"\",\"\",\"-\"),I633,IF(K633=\"\",\"\",\"-\"),K633,IF(M633=\"\",\"\",\"-\"),M633),CONCATENATE(LEFT('1 - Opstart Importark'!$B$3,1),(LEFT('1 - Opstart Importark'!$B$15,5)),(LEFT('1 - Opstart Importark'!$B$18,3)),IF(I633=\"\",\"\",\"-\"),I633,IF(K633=\"\",\"\",\"-\"),K633,IF(M633=\"\",\"\",\"-\"),M633))))","v":""},null," ",{"$nulls":9},{"$f":"IF(LEN('1 - Opstart Importark'!$B$6)>0,'1 - Opstart Importark'!$B$6,\"\")","v":""},{"$f":"IF(LEN('1 - Opstart Importark'!$B$9)>0,'1 - Opstart Importark'!$B$9,\"\")","v":""},{"$f":"IF(LEN('1 - Opstart Importark'!$B$23)>0,'1 - Opstart Importark'!$B$23,\"\")","v":""},{"$nulls":14},"",{"$nulls":8},0,"","","objektnogle_"]
[622,null,{"$f":"IF('1 - Opstart Importark'!$B$6=\"\",\"\",(IF('1 - Opstart Importark'!$B$15=\"\",CONCATENATE(LEFT('1 - Opstart Importark'!$B$3,1),(LEFT('1 - Opstart Importark'!$B$20,5)),MID('1 - Opstart Importark'!$B$20,5,2),LEFT('1 - Opstart Importark'!$B$28,3),IF(I634=\"\",\"\",\"-\"),I634,IF(K634=\"\",\"\",\"-\"),K634,IF(M634=\"\",\"\",\"-\"),M634),CONCATENATE(LEFT('1 - Opstart Importark'!$B$3,1),(LEFT('1 - Opstart Importark'!$B$15,5)),(LEFT('1 - Opstart Importark'!$B$18,3)),IF(I634=\"\",\"\",\"-\"),I634,IF(K634=\"\",\"\",\"-\"),K634,IF(M634=\"\",\"\",\"-\"),M634))))","v":""},null," ",{"$nulls":9},{"$f":"IF(LEN('1 - Opstart Importark'!$B$6)>0,'1 - Opstart Importark'!$B$6,\"\")","v":""},{"$f":"IF(LEN('1 - Opstart Importark'!$B$9)>0,'1 - Opstart Importark'!$B$9,\"\")","v":""},{"$f":"IF(LEN('1 - Opstart Importark'!$B$23)>0,'1 - Opstart Importark'!$B$23,\"\")","v":""},{"$nulls":14},"",{"$nulls":8},0,"","","objektnogle_"]
[623,null,{"$f":"IF('1 - Opstart Importark'!$B$6=\"\",\"\",(IF('1 - Opstart Importark'!$B$15=\"\",CONCATENATE(LEFT('1 - Opstart Importark'!$B$3,1),(LEFT('1 - Opstart Importark'!$B$20,5)),MID('1 - Opstart Importark'!$B$20,5,2),LEFT('1 - Opstart Importark'!$B$28,3),IF(I635=\"\",\"\",\"-\"),I635,IF(K635=\"\",\"\",\"-\"),K635,IF(M635=\"\",\"\",\"-\"),M635),CONCATENATE(LEFT('1 - Opstart Importark'!$B$3,1),(LEFT('1 - Opstart Importark'!$B$15,5)),(LEFT('1 - Opstart Importark'!$B$18,3)),IF(I635=\"\",\"\",\"-\"),I635,IF(K635=\"\",\"\",\"-\"),K635,IF(M635=\"\",\"\",\"-\"),M635))))","v":""},null," ",{"$nulls":9},{"$f":"IF(LEN('1 - Opstart Importark'!$B$6)>0,'1 - Opstart Importark'!$B$6,\"\")","v":""},{"$f":"IF(LEN('1 - Opstart Importark'!$B$9)>0,'1 - Opstart Importark'!$B$9,\"\")","v":""},{"$f":"IF(LEN('1 - Opstart Importark'!$B$23)>0,'1 - Opstart Importark'!$B$23,\"\")","v":""},{"$nulls":14},"",{"$nulls":8},0,"","","objektnogle_"]
[624,null,{"$f":"IF('1 - Opstart Importark'!$B$6=\"\",\"\",(IF('1 - Opstart Importark'!$B$15=\"\",CONCATENATE(LEFT('1 - Opstart Importark'!$B$3,1),(LEFT('1 - Opstart Importark'!$B$20,5)),MID('1 - Opstart Importark'!$B$20,5,2),LEFT('1 - Opstart Importark'!$B$28,3),IF(I636=\"\",\"\",\"-\"),I636,IF(K636=\"\",\"\",\"-\"),K636,IF(M636=\"\",\"\",\"-\"),M636),CONCATENATE(LEFT('1 - Opstart Importark'!$B$3,1),(LEFT('1 - Opstart Importark'!$B$15,5)),(LEFT('1 - Opstart Importark'!$B$18,3)),IF(I636=\"\",\"\",\"-\"),I636,IF(K636=\"\",\"\",\"-\"),K636,IF(M636=\"\",\"\",\"-\"),M636))))","v":""},null," ",{"$nulls":9},{"$f":"IF(LEN('1 - Opstart Importark'!$B$6)>0,'1 - Opstart Importark'!$B$6,\"\")","v":""},{"$f":"IF(LEN('1 - Opstart Importark'!$B$9)>0,'1 - Opstart Importark'!$B$9,\"\")","v":""},{"$f":"IF(LEN('1 - Opstart Importark'!$B$23)>0,'1 - Opstart Importark'!$B$23,\"\")","v":""},{"$nulls":14},"",{"$nulls":8},0,"","","objektnogle_"]
[625,null,{"$f":"IF('1 - Opstart Importark'!$B$6=\"\",\"\",(IF('1 - Opstart Importark'!$B$15=\"\",CONCATENATE(LEFT('1 - Opstart Importark'!$B$3,1),(LEFT('1 - Opstart Importark'!$B$20,5)),MID('1 - Opstart Importark'!$B$20,5,2),LEFT('1 - Opstart Importark'!$B$28,3),IF(I637=\"\",\"\",\"-\"),I637,IF(K637=\"\",\"\",\"-\"),K637,IF(M637=\"\",\"\",\"-\"),M637),CONCATENATE(LEFT('1 - Opstart Importark'!$B$3,1),(LEFT('1 - Opstart Importark'!$B$15,5)),(LEFT('1 - Opstart Importark'!$B$18,3)),IF(I637=\"\",\"\",\"-\"),I637,IF(K637=\"\",\"\",\"-\"),K637,IF(M637=\"\",\"\",\"-\"),M637))))","v":""},null," ",{"$nulls":9},{"$f":"IF(LEN('1 - Opstart Importark'!$B$6)>0,'1 - Opstart Importark'!$B$6,\"\")","v":""},{"$f":"IF(LEN('1 - Opstart Importark'!$B$9)>0,'1 - Opstart Importark'!$B$9,\"\")","v":""},{"$f":"IF(LEN('1 - Opstart Importark'!$B$23)>0,'1 - Opstart Importark'!$B$23,\"\")","v":""},{"$nulls":14},"",{"$nulls":8},0,"","","objektnogle_"]
[626,null,{"$f":"IF('1 - Opstart Importark'!$B$6=\"\",\"\",(IF('1 - Opstart Importark'!$B$15=\"\",CONCATENATE(LEFT('1 - Opstart Importark'!$B$3,1),(LEFT('1 - Opstart Importark'!$B$20,5)),MID('1 - Opstart Importark'!$B$20,5,2),LEFT('1 - Opstart Importark'!$B$28,3),IF(I638=\"\",\"\",\"-\"),I638,IF(K638=\"\",\"\",\"-\"),K638,IF(M638=\"\",\"\",\"-\"),M638),CONCATENATE(LEFT('1 - Opstart Importark'!$B$3,1),(LEFT('1 - Opstart Importark'!$B$15,5)),(LEFT('1 - Opstart Importark'!$B$18,3)),IF(I638=\"\",\"\",\"-\"),I638,IF(K638=\"\",\"\",\"-\"),K638,IF(M638=\"\",\"\",\"-\"),M638))))","v":""},null," ",{"$nulls":9},{"$f":"IF(LEN('1 - Opstart Importark'!$B$6)>0,'1 - Opstart Importark'!$B$6,\"\")","v":""},{"$f":"IF(LEN('1 - Opstart Importark'!$B$9)>0,'1 - Opstart Importark'!$B$9,\"\")","v":""},{"$f":"IF(LEN('1 - Opstart Importark'!$B$23)>0,'1 - Opstart Importark'!$B$23,\"\")","v":""},{"$nulls":14},"",{"$nulls":8},0,"","","objektnogle_"]
[627,null,{"$f":"IF('1 - Opstart Importark'!$B$6=\"\",\"\",(IF('1 - Opstart Importark'!$B$15=\"\",CONCATENATE(LEFT('1 - Opstart Importark'!$B$3,1),(LEFT('1 - Opstart Importark'!$B$20,5)),MID('1 - Opstart Importark'!$B$20,5,2),LEFT('1 - Opstart Importark'!$B$28,3),IF(I639=\"\",\"\",\"-\"),I639,IF(K639=\"\",\"\",\"-\"),K639,IF(M639=\"\",\"\",\"-\"),M639),CONCATENATE(LEFT('1 - Opstart Importark'!$B$3,1),(LEFT('1 - Opstart Importark'!$B$15,5)),(LEFT('1 - Opstart Importark'!$B$18,3)),IF(I639=\"\",\"\",\"-\"),I639,IF(K639=\"\",\"\",\"-\"),K639,IF(M639=\"\",\"\",\"-\"),M639))))","v":""},null," ",{"$nulls":9},{"$f":"IF(LEN('1 - Opstart Importark'!$B$6)>0,'1 - Opstart Importark'!$B$6,\"\")","v":""},{"$f":"IF(LEN('1 - Opstart Importark'!$B$9)>0,'1 - Opstart Importark'!$B$9,\"\")","v":""},{"$f":"IF(LEN('1 - Opstart Importark'!$B$23)>0,'1 - Opstart Importark'!$B$23,\"\")","v":""},{"$nulls":14},"",{"$nulls":8},0,"","","objektnogle_"]
[628,null,{"$f":"IF('1 - Opstart Importark'!$B$6=\"\",\"\",(IF('1 - Opstart Importark'!$B$15=\"\",CONCATENATE(LEFT('1 - Opstart Importark'!$B$3,1),(LEFT('1 - Opstart Importark'!$B$20,5)),MID('1 - Opstart Importark'!$B$20,5,2),LEFT('1 - Opstart Importark'!$B$28,3),IF(I640=\"\",\"\",\"-\"),I640,IF(K640=\"\",\"\",\"-\"),K640,IF(M640=\"\",\"\",\"-\"),M640),CONCATENATE(LEFT('1 - Opstart Importark'!$B$3,1),(LEFT('1 - Opstart Importark'!$B$15,5)),(LEFT('1 - Opstart Importark'!$B$18,3)),IF(I640=\"\",\"\",\"-\"),I640,IF(K640=\"\",\"\",\"-\"),K640,IF(M640=\"\",\"\",\"-\"),M640))))","v":""},null," ",{"$nulls":9},{"$f":"IF(LEN('1 - Opstart Importark'!$B$6)>0,'1 - Opstart Importark'!$B$6,\"\")","v":""},{"$f":"IF(LEN('1 - Opstart Importark'!$B$9)>0,'1 - Opstart Importark'!$B$9,\"\")","v":""},{"$f":"IF(LEN('1 - Opstart Importark'!$B$23)>0,'1 - Opstart Importark'!$B$23,\"\")","v":""},{"$nulls":14},"",{"$nulls":8},0,"","","objektnogle_"]
[629,null,{"$f":"IF('1 - Opstart Importark'!$B$6=\"\",\"\",(IF('1 - Opstart Importark'!$B$15=\"\",CONCATENATE(LEFT('1 - Opstart Importark'!$B$3,1),(LEFT('1 - Opstart Importark'!$B$20,5)),MID('1 - Opstart Importark'!$B$20,5,2),LEFT('1 - Opstart Importark'!$B$28,3),IF(I641=\"\",\"\",\"-\"),I641,IF(K641=\"\",\"\",\"-\"),K641,IF(M641=\"\",\"\",\"-\"),M641),CONCATENATE(LEFT('1 - Opstart Importark'!$B$3,1),(LEFT('1 - Opstart Importark'!$B$15,5)),(LEFT('1 - Opstart Importark'!$B$18,3)),IF(I641=\"\",\"\",\"-\"),I641,IF(K641=\"\",\"\",\"-\"),K641,IF(M641=\"\",\"\",\"-\"),M641))))","v":""},null," ",{"$nulls":9},{"$f":"IF(LEN('1 - Opstart Importark'!$B$6)>0,'1 - Opstart Importark'!$B$6,\"\")","v":""},{"$f":"IF(LEN('1 - Opstart Importark'!$B$9)>0,'1 - Opstart Importark'!$B$9,\"\")","v":""},{"$f":"IF(LEN('1 - Opstart Importark'!$B$23)>0,'1 - Opstart Importark'!$B$23,\"\")","v":""},{"$nulls":14},"",{"$nulls":8},0,"","","objektnogle_"]
[630,null,{"$f":"IF('1 - Opstart Importark'!$B$6=\"\",\"\",(IF('1 - Opstart Importark'!$B$15=\"\",CONCATENATE(LEFT('1 - Opstart Importark'!$B$3,1),(LEFT('1 - Opstart Importark'!$B$20,5)),MID('1 - Opstart Importark'!$B$20,5,2),LEFT('1 - Opstart Importark'!$B$28,3),IF(I642=\"\",\"\",\"-\"),I642,IF(K642=\"\",\"\",\"-\"),K642,IF(M642=\"\",\"\",\"-\"),M642),CONCATENATE(LEFT('1 - Opstart Importark'!$B$3,1),(LEFT('1 - Opstart Importark'!$B$15,5)),(LEFT('1 - Opstart Importark'!$B$18,3)),IF(I642=\"\",\"\",\"-\"),I642,IF(K642=\"\",\"\",\"-\"),K642,IF(M642=\"\",\"\",\"-\"),M642))))","v":""},null," ",{"$nulls":9},{"$f":"IF(LEN('1 - Opstart Importark'!$B$6)>0,'1 - Opstart Importark'!$B$6,\"\")","v":""},{"$f":"IF(LEN('1 - Opstart Importark'!$B$9)>0,'1 - Opstart Importark'!$B$9,\"\")","v":""},{"$f":"IF(LEN('1 - Opstart Importark'!$B$23)>0,'1 - Opstart Importark'!$B$23,\"\")","v":""},{"$nulls":14},"",{"$nulls":8},0,"","","objektnogle_"]
[631,null,{"$f":"IF('1 - Opstart Importark'!$B$6=\"\",\"\",(IF('1 - Opstart Importark'!$B$15=\"\",CONCATENATE(LEFT('1 - Opstart Importark'!$B$3,1),(LEFT('1 - Opstart Importark'!$B$20,5)),MID('1 - Opstart Importark'!$B$20,5,2),LEFT('1 - Opstart Importark'!$B$28,3),IF(I643=\"\",\"\",\"-\"),I643,IF(K643=\"\",\"\",\"-\"),K643,IF(M643=\"\",\"\",\"-\"),M643),CONCATENATE(LEFT('1 - Opstart Importark'!$B$3,1),(LEFT('1 - Opstart Importark'!$B$15,5)),(LEFT('1 - Opstart Importark'!$B$18,3)),IF(I643=\"\",\"\",\"-\"),I643,IF(K643=\"\",\"\",\"-\"),K643,IF(M643=\"\",\"\",\"-\"),M643))))","v":""},null," ",{"$nulls":9},{"$f":"IF(LEN('1 - Opstart Importark'!$B$6)>0,'1 - Opstart Importark'!$B$6,\"\")","v":""},{"$f":"IF(LEN('1 - Opstart Importark'!$B$9)>0,'1 - Opstart Importark'!$B$9,\"\")","v":""},{"$f":"IF(LEN('1 - Opstart Importark'!$B$23)>0,'1 - Opstart Importark'!$B$23,\"\")","v":""},{"$nulls":14},"",{"$nulls":8},0,"","","objektnogle_"]
[632,null,{"$f":"IF('1 - Opstart Importark'!$B$6=\"\",\"\",(IF('1 - Opstart Importark'!$B$15=\"\",CONCATENATE(LEFT('1 - Opstart Importark'!$B$3,1),(LEFT('1 - Opstart Importark'!$B$20,5)),MID('1 - Opstart Importark'!$B$20,5,2),LEFT('1 - Opstart Importark'!$B$28,3),IF(I644=\"\",\"\",\"-\"),I644,IF(K644=\"\",\"\",\"-\"),K644,IF(M644=\"\",\"\",\"-\"),M644),CONCATENATE(LEFT('1 - Opstart Importark'!$B$3,1),(LEFT('1 - Opstart Importark'!$B$15,5)),(LEFT('1 - Opstart Importark'!$B$18,3)),IF(I644=\"\",\"\",\"-\"),I644,IF(K644=\"\",\"\",\"-\"),K644,IF(M644=\"\",\"\",\"-\"),M644))))","v":""},null," ",{"$nulls":9},{"$f":"IF(LEN('1 - Opstart Importark'!$B$6)>0,'1 - Opstart Importark'!$B$6,\"\")","v":""},{"$f":"IF(LEN('1 - Opstart Importark'!$B$9)>0,'1 - Opstart Importark'!$B$9,\"\")","v":""},{"$f":"IF(LEN('1 - Opstart Importark'!$B$23)>0,'1 - Opstart Importark'!$B$23,\"\")","v":""},{"$nulls":14},"",{"$nulls":8},0,"","","objektnogle_"]
[633,null,{"$f":"IF('1 - Opstart Importark'!$B$6=\"\",\"\",(IF('1 - Opstart Importark'!$B$15=\"\",CONCATENATE(LEFT('1 - Opstart Importark'!$B$3,1),(LEFT('1 - Opstart Importark'!$B$20,5)),MID('1 - Opstart Importark'!$B$20,5,2),LEFT('1 - Opstart Importark'!$B$28,3),IF(I645=\"\",\"\",\"-\"),I645,IF(K645=\"\",\"\",\"-\"),K645,IF(M645=\"\",\"\",\"-\"),M645),CONCATENATE(LEFT('1 - Opstart Importark'!$B$3,1),(LEFT('1 - Opstart Importark'!$B$15,5)),(LEFT('1 - Opstart Importark'!$B$18,3)),IF(I645=\"\",\"\",\"-\"),I645,IF(K645=\"\",\"\",\"-\"),K645,IF(M645=\"\",\"\",\"-\"),M645))))","v":""},null," ",{"$nulls":9},{"$f":"IF(LEN('1 - Opstart Importark'!$B$6)>0,'1 - Opstart Importark'!$B$6,\"\")","v":""},{"$f":"IF(LEN('1 - Opstart Importark'!$B$9)>0,'1 - Opstart Importark'!$B$9,\"\")","v":""},{"$f":"IF(LEN('1 - Opstart Importark'!$B$23)>0,'1 - Opstart Importark'!$B$23,\"\")","v":""},{"$nulls":14},"",{"$nulls":8},0,"","","objektnogle_"]
[634,null,{"$f":"IF('1 - Opstart Importark'!$B$6=\"\",\"\",(IF('1 - Opstart Importark'!$B$15=\"\",CONCATENATE(LEFT('1 - Opstart Importark'!$B$3,1),(LEFT('1 - Opstart Importark'!$B$20,5)),MID('1 - Opstart Importark'!$B$20,5,2),LEFT('1 - Opstart Importark'!$B$28,3),IF(I646=\"\",\"\",\"-\"),I646,IF(K646=\"\",\"\",\"-\"),K646,IF(M646=\"\",\"\",\"-\"),M646),CONCATENATE(LEFT('1 - Opstart Importark'!$B$3,1),(LEFT('1 - Opstart Importark'!$B$15,5)),(LEFT('1 - Opstart Importark'!$B$18,3)),IF(I646=\"\",\"\",\"-\"),I646,IF(K646=\"\",\"\",\"-\"),K646,IF(M646=\"\",\"\",\"-\"),M646))))","v":""},null," ",{"$nulls":9},{"$f":"IF(LEN('1 - Opstart Importark'!$B$6)>0,'1 - Opstart Importark'!$B$6,\"\")","v":""},{"$f":"IF(LEN('1 - Opstart Importark'!$B$9)>0,'1 - Opstart Importark'!$B$9,\"\")","v":""},{"$f":"IF(LEN('1 - Opstart Importark'!$B$23)>0,'1 - Opstart Importark'!$B$23,\"\")","v":""},{"$nulls":14},"",{"$nulls":8},0,"","","objektnogle_"]
[635,null,{"$f":"IF('1 - Opstart Importark'!$B$6=\"\",\"\",(IF('1 - Opstart Importark'!$B$15=\"\",CONCATENATE(LEFT('1 - Opstart Importark'!$B$3,1),(LEFT('1 - Opstart Importark'!$B$20,5)),MID('1 - Opstart Importark'!$B$20,5,2),LEFT('1 - Opstart Importark'!$B$28,3),IF(I647=\"\",\"\",\"-\"),I647,IF(K647=\"\",\"\",\"-\"),K647,IF(M647=\"\",\"\",\"-\"),M647),CONCATENATE(LEFT('1 - Opstart Importark'!$B$3,1),(LEFT('1 - Opstart Importark'!$B$15,5)),(LEFT('1 - Opstart Importark'!$B$18,3)),IF(I647=\"\",\"\",\"-\"),I647,IF(K647=\"\",\"\",\"-\"),K647,IF(M647=\"\",\"\",\"-\"),M647))))","v":""},null," ",{"$nulls":9},{"$f":"IF(LEN('1 - Opstart Importark'!$B$6)>0,'1 - Opstart Importark'!$B$6,\"\")","v":""},{"$f":"IF(LEN('1 - Opstart Importark'!$B$9)>0,'1 - Opstart Importark'!$B$9,\"\")","v":""},{"$f":"IF(LEN('1 - Opstart Importark'!$B$23)>0,'1 - Opstart Importark'!$B$23,\"\")","v":""},{"$nulls":14},"",{"$nulls":8},0,"","","objektnogle_"]
[636,null,{"$f":"IF('1 - Opstart Importark'!$B$6=\"\",\"\",(IF('1 - Opstart Importark'!$B$15=\"\",CONCATENATE(LEFT('1 - Opstart Importark'!$B$3,1),(LEFT('1 - Opstart Importark'!$B$20,5)),MID('1 - Opstart Importark'!$B$20,5,2),LEFT('1 - Opstart Importark'!$B$28,3),IF(I648=\"\",\"\",\"-\"),I648,IF(K648=\"\",\"\",\"-\"),K648,IF(M648=\"\",\"\",\"-\"),M648),CONCATENATE(LEFT('1 - Opstart Importark'!$B$3,1),(LEFT('1 - Opstart Importark'!$B$15,5)),(LEFT('1 - Opstart Importark'!$B$18,3)),IF(I648=\"\",\"\",\"-\"),I648,IF(K648=\"\",\"\",\"-\"),K648,IF(M648=\"\",\"\",\"-\"),M648))))","v":""},null," ",{"$nulls":9},{"$f":"IF(LEN('1 - Opstart Importark'!$B$6)>0,'1 - Opstart Importark'!$B$6,\"\")","v":""},{"$f":"IF(LEN('1 - Opstart Importark'!$B$9)>0,'1 - Opstart Importark'!$B$9,\"\")","v":""},{"$f":"IF(LEN('1 - Opstart Importark'!$B$23)>0,'1 - Opstart Importark'!$B$23,\"\")","v":""},{"$nulls":14},"",{"$nulls":8},0,"","","objektnogle_"]
[637,null,{"$f":"IF('1 - Opstart Importark'!$B$6=\"\",\"\",(IF('1 - Opstart Importark'!$B$15=\"\",CONCATENATE(LEFT('1 - Opstart Importark'!$B$3,1),(LEFT('1 - Opstart Importark'!$B$20,5)),MID('1 - Opstart Importark'!$B$20,5,2),LEFT('1 - Opstart Importark'!$B$28,3),IF(I649=\"\",\"\",\"-\"),I649,IF(K649=\"\",\"\",\"-\"),K649,IF(M649=\"\",\"\",\"-\"),M649),CONCATENATE(LEFT('1 - Opstart Importark'!$B$3,1),(LEFT('1 - Opstart Importark'!$B$15,5)),(LEFT('1 - Opstart Importark'!$B$18,3)),IF(I649=\"\",\"\",\"-\"),I649,IF(K649=\"\",\"\",\"-\"),K649,IF(M649=\"\",\"\",\"-\"),M649))))","v":""},null," ",{"$nulls":9},{"$f":"IF(LEN('1 - Opstart Importark'!$B$6)>0,'1 - Opstart Importark'!$B$6,\"\")","v":""},{"$f":"IF(LEN('1 - Opstart Importark'!$B$9)>0,'1 - Opstart Importark'!$B$9,\"\")","v":""},{"$f":"IF(LEN('1 - Opstart Importark'!$B$23)>0,'1 - Opstart Importark'!$B$23,\"\")","v":""},{"$nulls":14},"",{"$nulls":8},0,"","","objektnogle_"]
[638,null,{"$f":"IF('1 - Opstart Importark'!$B$6=\"\",\"\",(IF('1 - Opstart Importark'!$B$15=\"\",CONCATENATE(LEFT('1 - Opstart Importark'!$B$3,1),(LEFT('1 - Opstart Importark'!$B$20,5)),MID('1 - Opstart Importark'!$B$20,5,2),LEFT('1 - Opstart Importark'!$B$28,3),IF(I650=\"\",\"\",\"-\"),I650,IF(K650=\"\",\"\",\"-\"),K650,IF(M650=\"\",\"\",\"-\"),M650),CONCATENATE(LEFT('1 - Opstart Importark'!$B$3,1),(LEFT('1 - Opstart Importark'!$B$15,5)),(LEFT('1 - Opstart Importark'!$B$18,3)),IF(I650=\"\",\"\",\"-\"),I650,IF(K650=\"\",\"\",\"-\"),K650,IF(M650=\"\",\"\",\"-\"),M650))))","v":""},null," ",{"$nulls":9},{"$f":"IF(LEN('1 - Opstart Importark'!$B$6)>0,'1 - Opstart Importark'!$B$6,\"\")","v":""},{"$f":"IF(LEN('1 - Opstart Importark'!$B$9)>0,'1 - Opstart Importark'!$B$9,\"\")","v":""},{"$f":"IF(LEN('1 - Opstart Importark'!$B$23)>0,'1 - Opstart Importark'!$B$23,\"\")","v":""},{"$nulls":14},"",{"$nulls":8},0,"","","objektnogle_"]
[639,null,{"$f":"IF('1 - Opstart Importark'!$B$6=\"\",\"\",(IF('1 - Opstart Importark'!$B$15=\"\",CONCATENATE(LEFT('1 - Opstart Importark'!$B$3,1),(LEFT('1 - Opstart Importark'!$B$20,5)),MID('1 - Opstart Importark'!$B$20,5,2),LEFT('1 - Opstart Importark'!$B$28,3),IF(I651=\"\",\"\",\"-\"),I651,IF(K651=\"\",\"\",\"-\"),K651,IF(M651=\"\",\"\",\"-\"),M651),CONCATENATE(LEFT('1 - Opstart Importark'!$B$3,1),(LEFT('1 - Opstart Importark'!$B$15,5)),(LEFT('1 - Opstart Importark'!$B$18,3)),IF(I651=\"\",\"\",\"-\"),I651,IF(K651=\"\",\"\",\"-\"),K651,IF(M651=\"\",\"\",\"-\"),M651))))","v":""},null," ",{"$nulls":9},{"$f":"IF(LEN('1 - Opstart Importark'!$B$6)>0,'1 - Opstart Importark'!$B$6,\"\")","v":""},{"$f":"IF(LEN('1 - Opstart Importark'!$B$9)>0,'1 - Opstart Importark'!$B$9,\"\")","v":""},{"$f":"IF(LEN('1 - Opstart Importark'!$B$23)>0,'1 - Opstart Importark'!$B$23,\"\")","v":""},{"$nulls":14},"",{"$nulls":8},0,"","","objektnogle_"]
[640,null,{"$f":"IF('1 - Opstart Importark'!$B$6=\"\",\"\",(IF('1 - Opstart Importark'!$B$15=\"\",CONCATENATE(LEFT('1 - Opstart Importark'!$B$3,1),(LEFT('1 - Opstart Importark'!$B$20,5)),MID('1 - Opstart Importark'!$B$20,5,2),LEFT('1 - Opstart Importark'!$B$28,3),IF(I652=\"\",\"\",\"-\"),I652,IF(K652=\"\",\"\",\"-\"),K652,IF(M652=\"\",\"\",\"-\"),M652),CONCATENATE(LEFT('1 - Opstart Importark'!$B$3,1),(LEFT('1 - Opstart Importark'!$B$15,5)),(LEFT('1 - Opstart Importark'!$B$18,3)),IF(I652=\"\",\"\",\"-\"),I652,IF(K652=\"\",\"\",\"-\"),K652,IF(M652=\"\",\"\",\"-\"),M652))))","v":""},null," ",{"$nulls":9},{"$f":"IF(LEN('1 - Opstart Importark'!$B$6)>0,'1 - Opstart Importark'!$B$6,\"\")","v":""},{"$f":"IF(LEN('1 - Opstart Importark'!$B$9)>0,'1 - Opstart Importark'!$B$9,\"\")","v":""},{"$f":"IF(LEN('1 - Opstart Importark'!$B$23)>0,'1 - Opstart Importark'!$B$23,\"\")","v":""},{"$nulls":14},"",{"$nulls":8},0,"","","objektnogle_"]
[641,null,{"$f":"IF('1 - Opstart Importark'!$B$6=\"\",\"\",(IF('1 - Opstart Importark'!$B$15=\"\",CONCATENATE(LEFT('1 - Opstart Importark'!$B$3,1),(LEFT('1 - Opstart Importark'!$B$20,5)),MID('1 - Opstart Importark'!$B$20,5,2),LEFT('1 - Opstart Importark'!$B$28,3),IF(I653=\"\",\"\",\"-\"),I653,IF(K653=\"\",\"\",\"-\"),K653,IF(M653=\"\",\"\",\"-\"),M653),CONCATENATE(LEFT('1 - Opstart Importark'!$B$3,1),(LEFT('1 - Opstart Importark'!$B$15,5)),(LEFT('1 - Opstart Importark'!$B$18,3)),IF(I653=\"\",\"\",\"-\"),I653,IF(K653=\"\",\"\",\"-\"),K653,IF(M653=\"\",\"\",\"-\"),M653))))","v":""},null," ",{"$nulls":9},{"$f":"IF(LEN('1 - Opstart Importark'!$B$6)>0,'1 - Opstart Importark'!$B$6,\"\")","v":""},{"$f":"IF(LEN('1 - Opstart Importark'!$B$9)>0,'1 - Opstart Importark'!$B$9,\"\")","v":""},{"$f":"IF(LEN('1 - Opstart Importark'!$B$23)>0,'1 - Opstart Importark'!$B$23,\"\")","v":""},{"$nulls":14},{"$f":"IF(K653=\"\",\"\",VLOOKUP(LEFT(K653,1),objektfilter,2))","v":""},{"$nulls":8},{"$f":"IFERROR(FIND(\".\",F653),)","v":0},"","","objektnogle_"]
[642,null,{"$f":"IF('1 - Opstart Importark'!$B$6=\"\",\"\",(IF('1 - Opstart Importark'!$B$15=\"\",CONCATENATE(LEFT('1 - Opstart Importark'!$B$3,1),(LEFT('1 - Opstart Importark'!$B$20,5)),MID('1 - Opstart Importark'!$B$20,5,2),LEFT('1 - Opstart Importark'!$B$28,3),IF(I654=\"\",\"\",\"-\"),I654,IF(K654=\"\",\"\",\"-\"),K654,IF(M654=\"\",\"\",\"-\"),M654),CONCATENATE(LEFT('1 - Opstart Importark'!$B$3,1),(LEFT('1 - Opstart Importark'!$B$15,5)),(LEFT('1 - Opstart Importark'!$B$18,3)),IF(I654=\"\",\"\",\"-\"),I654,IF(K654=\"\",\"\",\"-\"),K654,IF(M654=\"\",\"\",\"-\"),M654))))","v":""},null," ",{"$nulls":9},{"$f":"IF(LEN('1 - Opstart Importark'!$B$6)>0,'1 - Opstart Importark'!$B$6,\"\")","v":""},{"$f":"IF(LEN('1 - Opstart Importark'!$B$9)>0,'1 - Opstart Importark'!$B$9,\"\")","v":""},{"$f":"IF(LEN('1 - Opstart Importark'!$B$23)>0,'1 - Opstart Importark'!$B$23,\"\")","v":""},{"$nulls":14},"",{"$nulls":8},0,{"$f":"IF(K654=\"\",\"\",IF(LEFT(K654,1)=\"E\",0,1))","v":""},{"$f":"IF(K654=\"\",\"\",IF(LEFT(K654,1)=\"E\",0,1))","v":""},{"$f":"IF(W654=\"\", CONCATENATE(\"objektnogle_\",LEFT(AF654,1)),CONCATENATE(\"objektnogle_\",LEFT(W654,1)))","v":"objektnogle_"}]
[643,null,{"$f":"IF('1 - Opstart Importark'!$B$6=\"\",\"\",(IF('1 - Opstart Importark'!$B$15=\"\",CONCATENATE(LEFT('1 - Opstart Importark'!$B$3,1),(LEFT('1 - Opstart Importark'!$B$20,5)),MID('1 - Opstart Importark'!$B$20,5,2),LEFT('1 - Opstart Importark'!$B$28,3),IF(I655=\"\",\"\",\"-\"),I655,IF(K655=\"\",\"\",\"-\"),K655,IF(M655=\"\",\"\",\"-\"),M655),CONCATENATE(LEFT('1 - Opstart Importark'!$B$3,1),(LEFT('1 - Opstart Importark'!$B$15,5)),(LEFT('1 - Opstart Importark'!$B$18,3)),IF(I655=\"\",\"\",\"-\"),I655,IF(K655=\"\",\"\",\"-\"),K655,IF(M655=\"\",\"\",\"-\"),M655))))","v":""},null," ",{"$nulls":9},{"$f":"IF(LEN('1 - Opstart Importark'!$B$6)>0,'1 - Opstart Importark'!$B$6,\"\")","v":""},{"$f":"IF(LEN('1 - Opstart Importark'!$B$9)>0,'1 - Opstart Importark'!$B$9,\"\")","v":""},{"$f":"IF(LEN('1 - Opstart Importark'!$B$23)>0,'1 - Opstart Importark'!$B$23,\"\")","v":""},{"$nulls":14},"",{"$nulls":8},0,"","","objektnogle_"]
[644,null,{"$f":"IF('1 - Opstart Importark'!$B$6=\"\",\"\",(IF('1 - Opstart Importark'!$B$15=\"\",CONCATENATE(LEFT('1 - Opstart Importark'!$B$3,1),(LEFT('1 - Opstart Importark'!$B$20,5)),MID('1 - Opstart Importark'!$B$20,5,2),LEFT('1 - Opstart Importark'!$B$28,3),IF(I656=\"\",\"\",\"-\"),I656,IF(K656=\"\",\"\",\"-\"),K656,IF(M656=\"\",\"\",\"-\"),M656),CONCATENATE(LEFT('1 - Opstart Importark'!$B$3,1),(LEFT('1 - Opstart Importark'!$B$15,5)),(LEFT('1 - Opstart Importark'!$B$18,3)),IF(I656=\"\",\"\",\"-\"),I656,IF(K656=\"\",\"\",\"-\"),K656,IF(M656=\"\",\"\",\"-\"),M656))))","v":""},null," ",{"$nulls":9},{"$f":"IF(LEN('1 - Opstart Importark'!$B$6)>0,'1 - Opstart Importark'!$B$6,\"\")","v":""},{"$f":"IF(LEN('1 - Opstart Importark'!$B$9)>0,'1 - Opstart Importark'!$B$9,\"\")","v":""},{"$f":"IF(LEN('1 - Opstart Importark'!$B$23)>0,'1 - Opstart Importark'!$B$23,\"\")","v":""},{"$nulls":14},"",{"$nulls":8},0,"","","objektnogle_"]
[645,null,{"$f":"IF('1 - Opstart Importark'!$B$6=\"\",\"\",(IF('1 - Opstart Importark'!$B$15=\"\",CONCATENATE(LEFT('1 - Opstart Importark'!$B$3,1),(LEFT('1 - Opstart Importark'!$B$20,5)),MID('1 - Opstart Importark'!$B$20,5,2),LEFT('1 - Opstart Importark'!$B$28,3),IF(I657=\"\",\"\",\"-\"),I657,IF(K657=\"\",\"\",\"-\"),K657,IF(M657=\"\",\"\",\"-\"),M657),CONCATENATE(LEFT('1 - Opstart Importark'!$B$3,1),(LEFT('1 - Opstart Importark'!$B$15,5)),(LEFT('1 - Opstart Importark'!$B$18,3)),IF(I657=\"\",\"\",\"-\"),I657,IF(K657=\"\",\"\",\"-\"),K657,IF(M657=\"\",\"\",\"-\"),M657))))","v":""},null," ",{"$nulls":9},{"$f":"IF(LEN('1 - Opstart Importark'!$B$6)>0,'1 - Opstart Importark'!$B$6,\"\")","v":""},{"$f":"IF(LEN('1 - Opstart Importark'!$B$9)>0,'1 - Opstart Importark'!$B$9,\"\")","v":""},{"$f":"IF(LEN('1 - Opstart Importark'!$B$23)>0,'1 - Opstart Importark'!$B$23,\"\")","v":""},{"$nulls":14},"",{"$nulls":8},0,"","","objektnogle_"]
[646,null,{"$f":"IF('1 - Opstart Importark'!$B$6=\"\",\"\",(IF('1 - Opstart Importark'!$B$15=\"\",CONCATENATE(LEFT('1 - Opstart Importark'!$B$3,1),(LEFT('1 - Opstart Importark'!$B$20,5)),MID('1 - Opstart Importark'!$B$20,5,2),LEFT('1 - Opstart Importark'!$B$28,3),IF(I658=\"\",\"\",\"-\"),I658,IF(K658=\"\",\"\",\"-\"),K658,IF(M658=\"\",\"\",\"-\"),M658),CONCATENATE(LEFT('1 - Opstart Importark'!$B$3,1),(LEFT('1 - Opstart Importark'!$B$15,5)),(LEFT('1 - Opstart Importark'!$B$18,3)),IF(I658=\"\",\"\",\"-\"),I658,IF(K658=\"\",\"\",\"-\"),K658,IF(M658=\"\",\"\",\"-\"),M658))))","v":""},null," ",{"$nulls":9},{"$f":"IF(LEN('1 - Opstart Importark'!$B$6)>0,'1 - Opstart Importark'!$B$6,\"\")","v":""},{"$f":"IF(LEN('1 - Opstart Importark'!$B$9)>0,'1 - Opstart Importark'!$B$9,\"\")","v":""},{"$f":"IF(LEN('1 - Opstart Importark'!$B$23)>0,'1 - Opstart Importark'!$B$23,\"\")","v":""},{"$nulls":14},"",{"$nulls":8},0,"","","objektnogle_"]
[647,null,{"$f":"IF('1 - Opstart Importark'!$B$6=\"\",\"\",(IF('1 - Opstart Importark'!$B$15=\"\",CONCATENATE(LEFT('1 - Opstart Importark'!$B$3,1),(LEFT('1 - Opstart Importark'!$B$20,5)),MID('1 - Opstart Importark'!$B$20,5,2),LEFT('1 - Opstart Importark'!$B$28,3),IF(I659=\"\",\"\",\"-\"),I659,IF(K659=\"\",\"\",\"-\"),K659,IF(M659=\"\",\"\",\"-\"),M659),CONCATENATE(LEFT('1 - Opstart Importark'!$B$3,1),(LEFT('1 - Opstart Importark'!$B$15,5)),(LEFT('1 - Opstart Importark'!$B$18,3)),IF(I659=\"\",\"\",\"-\"),I659,IF(K659=\"\",\"\",\"-\"),K659,IF(M659=\"\",\"\",\"-\"),M659))))","v":""},null," ",{"$nulls":9},{"$f":"IF(LEN('1 - Opstart Importark'!$B$6)>0,'1 - Opstart Importark'!$B$6,\"\")","v":""},{"$f":"IF(LEN('1 - Opstart Importark'!$B$9)>0,'1 - Opstart Importark'!$B$9,\"\")","v":""},{"$f":"IF(LEN('1 - Opstart Importark'!$B$23)>0,'1 - Opstart Importark'!$B$23,\"\")","v":""},{"$nulls":14},"",{"$nulls":8},0,"","","objektnogle_"]
[648,null,{"$f":"IF('1 - Opstart Importark'!$B$6=\"\",\"\",(IF('1 - Opstart Importark'!$B$15=\"\",CONCATENATE(LEFT('1 - Opstart Importark'!$B$3,1),(LEFT('1 - Opstart Importark'!$B$20,5)),MID('1 - Opstart Importark'!$B$20,5,2),LEFT('1 - Opstart Importark'!$B$28,3),IF(I660=\"\",\"\",\"-\"),I660,IF(K660=\"\",\"\",\"-\"),K660,IF(M660=\"\",\"\",\"-\"),M660),CONCATENATE(LEFT('1 - Opstart Importark'!$B$3,1),(LEFT('1 - Opstart Importark'!$B$15,5)),(LEFT('1 - Opstart Importark'!$B$18,3)),IF(I660=\"\",\"\",\"-\"),I660,IF(K660=\"\",\"\",\"-\"),K660,IF(M660=\"\",\"\",\"-\"),M660))))","v":""},null," ",{"$nulls":9},{"$f":"IF(LEN('1 - Opstart Importark'!$B$6)>0,'1 - Opstart Importark'!$B$6,\"\")","v":""},{"$f":"IF(LEN('1 - Opstart Importark'!$B$9)>0,'1 - Opstart Importark'!$B$9,\"\")","v":""},{"$f":"IF(LEN('1 - Opstart Importark'!$B$23)>0,'1 - Opstart Importark'!$B$23,\"\")","v":""},{"$nulls":14},"",{"$nulls":8},0,"","","objektnogle_"]
[649,null,{"$f":"IF('1 - Opstart Importark'!$B$6=\"\",\"\",(IF('1 - Opstart Importark'!$B$15=\"\",CONCATENATE(LEFT('1 - Opstart Importark'!$B$3,1),(LEFT('1 - Opstart Importark'!$B$20,5)),MID('1 - Opstart Importark'!$B$20,5,2),LEFT('1 - Opstart Importark'!$B$28,3),IF(I661=\"\",\"\",\"-\"),I661,IF(K661=\"\",\"\",\"-\"),K661,IF(M661=\"\",\"\",\"-\"),M661),CONCATENATE(LEFT('1 - Opstart Importark'!$B$3,1),(LEFT('1 - Opstart Importark'!$B$15,5)),(LEFT('1 - Opstart Importark'!$B$18,3)),IF(I661=\"\",\"\",\"-\"),I661,IF(K661=\"\",\"\",\"-\"),K661,IF(M661=\"\",\"\",\"-\"),M661))))","v":""},null," ",{"$nulls":9},{"$f":"IF(LEN('1 - Opstart Importark'!$B$6)>0,'1 - Opstart Importark'!$B$6,\"\")","v":""},{"$f":"IF(LEN('1 - Opstart Importark'!$B$9)>0,'1 - Opstart Importark'!$B$9,\"\")","v":""},{"$f":"IF(LEN('1 - Opstart Importark'!$B$23)>0,'1 - Opstart Importark'!$B$23,\"\")","v":""},{"$nulls":14},"",{"$nulls":8},0,"","","objektnogle_"]
[650,null,{"$f":"IF('1 - Opstart Importark'!$B$6=\"\",\"\",(IF('1 - Opstart Importark'!$B$15=\"\",CONCATENATE(LEFT('1 - Opstart Importark'!$B$3,1),(LEFT('1 - Opstart Importark'!$B$20,5)),MID('1 - Opstart Importark'!$B$20,5,2),LEFT('1 - Opstart Importark'!$B$28,3),IF(I662=\"\",\"\",\"-\"),I662,IF(K662=\"\",\"\",\"-\"),K662,IF(M662=\"\",\"\",\"-\"),M662),CONCATENATE(LEFT('1 - Opstart Importark'!$B$3,1),(LEFT('1 - Opstart Importark'!$B$15,5)),(LEFT('1 - Opstart Importark'!$B$18,3)),IF(I662=\"\",\"\",\"-\"),I662,IF(K662=\"\",\"\",\"-\"),K662,IF(M662=\"\",\"\",\"-\"),M662))))","v":""},null," ",{"$nulls":9},{"$f":"IF(LEN('1 - Opstart Importark'!$B$6)>0,'1 - Opstart Importark'!$B$6,\"\")","v":""},{"$f":"IF(LEN('1 - Opstart Importark'!$B$9)>0,'1 - Opstart Importark'!$B$9,\"\")","v":""},{"$f":"IF(LEN('1 - Opstart Importark'!$B$23)>0,'1 - Opstart Importark'!$B$23,\"\")","v":""},{"$nulls":14},"",{"$nulls":8},0,"","","objektnogle_"]
[651,null,{"$f":"IF('1 - Opstart Importark'!$B$6=\"\",\"\",(IF('1 - Opstart Importark'!$B$15=\"\",CONCATENATE(LEFT('1 - Opstart Importark'!$B$3,1),(LEFT('1 - Opstart Importark'!$B$20,5)),MID('1 - Opstart Importark'!$B$20,5,2),LEFT('1 - Opstart Importark'!$B$28,3),IF(I663=\"\",\"\",\"-\"),I663,IF(K663=\"\",\"\",\"-\"),K663,IF(M663=\"\",\"\",\"-\"),M663),CONCATENATE(LEFT('1 - Opstart Importark'!$B$3,1),(LEFT('1 - Opstart Importark'!$B$15,5)),(LEFT('1 - Opstart Importark'!$B$18,3)),IF(I663=\"\",\"\",\"-\"),I663,IF(K663=\"\",\"\",\"-\"),K663,IF(M663=\"\",\"\",\"-\"),M663))))","v":""},null," ",{"$nulls":9},{"$f":"IF(LEN('1 - Opstart Importark'!$B$6)>0,'1 - Opstart Importark'!$B$6,\"\")","v":""},{"$f":"IF(LEN('1 - Opstart Importark'!$B$9)>0,'1 - Opstart Importark'!$B$9,\"\")","v":""},{"$f":"IF(LEN('1 - Opstart Importark'!$B$23)>0,'1 - Opstart Importark'!$B$23,\"\")","v":""},{"$nulls":14},"",{"$nulls":8},0,"","","objektnogle_"]
[652,null,{"$f":"IF('1 - Opstart Importark'!$B$6=\"\",\"\",(IF('1 - Opstart Importark'!$B$15=\"\",CONCATENATE(LEFT('1 - Opstart Importark'!$B$3,1),(LEFT('1 - Opstart Importark'!$B$20,5)),MID('1 - Opstart Importark'!$B$20,5,2),LEFT('1 - Opstart Importark'!$B$28,3),IF(I664=\"\",\"\",\"-\"),I664,IF(K664=\"\",\"\",\"-\"),K664,IF(M664=\"\",\"\",\"-\"),M664),CONCATENATE(LEFT('1 - Opstart Importark'!$B$3,1),(LEFT('1 - Opstart Importark'!$B$15,5)),(LEFT('1 - Opstart Importark'!$B$18,3)),IF(I664=\"\",\"\",\"-\"),I664,IF(K664=\"\",\"\",\"-\"),K664,IF(M664=\"\",\"\",\"-\"),M664))))","v":""},null," ",{"$nulls":9},{"$f":"IF(LEN('1 - Opstart Importark'!$B$6)>0,'1 - Opstart Importark'!$B$6,\"\")","v":""},{"$f":"IF(LEN('1 - Opstart Importark'!$B$9)>0,'1 - Opstart Importark'!$B$9,\"\")","v":""},{"$f":"IF(LEN('1 - Opstart Importark'!$B$23)>0,'1 - Opstart Importark'!$B$23,\"\")","v":""},{"$nulls":14},"",{"$nulls":8},0,"","","objektnogle_"]
[653,null,{"$f":"IF('1 - Opstart Importark'!$B$6=\"\",\"\",(IF('1 - Opstart Importark'!$B$15=\"\",CONCATENATE(LEFT('1 - Opstart Importark'!$B$3,1),(LEFT('1 - Opstart Importark'!$B$20,5)),MID('1 - Opstart Importark'!$B$20,5,2),LEFT('1 - Opstart Importark'!$B$28,3),IF(I665=\"\",\"\",\"-\"),I665,IF(K665=\"\",\"\",\"-\"),K665,IF(M665=\"\",\"\",\"-\"),M665),CONCATENATE(LEFT('1 - Opstart Importark'!$B$3,1),(LEFT('1 - Opstart Importark'!$B$15,5)),(LEFT('1 - Opstart Importark'!$B$18,3)),IF(I665=\"\",\"\",\"-\"),I665,IF(K665=\"\",\"\",\"-\"),K665,IF(M665=\"\",\"\",\"-\"),M665))))","v":""},null," ",{"$nulls":9},{"$f":"IF(LEN('1 - Opstart Importark'!$B$6)>0,'1 - Opstart Importark'!$B$6,\"\")","v":""},{"$f":"IF(LEN('1 - Opstart Importark'!$B$9)>0,'1 - Opstart Importark'!$B$9,\"\")","v":""},{"$f":"IF(LEN('1 - Opstart Importark'!$B$23)>0,'1 - Opstart Importark'!$B$23,\"\")","v":""},{"$nulls":14},"",{"$nulls":8},0,"","","objektnogle_"]
[654,null,{"$f":"IF('1 - Opstart Importark'!$B$6=\"\",\"\",(IF('1 - Opstart Importark'!$B$15=\"\",CONCATENATE(LEFT('1 - Opstart Importark'!$B$3,1),(LEFT('1 - Opstart Importark'!$B$20,5)),MID('1 - Opstart Importark'!$B$20,5,2),LEFT('1 - Opstart Importark'!$B$28,3),IF(I666=\"\",\"\",\"-\"),I666,IF(K666=\"\",\"\",\"-\"),K666,IF(M666=\"\",\"\",\"-\"),M666),CONCATENATE(LEFT('1 - Opstart Importark'!$B$3,1),(LEFT('1 - Opstart Importark'!$B$15,5)),(LEFT('1 - Opstart Importark'!$B$18,3)),IF(I666=\"\",\"\",\"-\"),I666,IF(K666=\"\",\"\",\"-\"),K666,IF(M666=\"\",\"\",\"-\"),M666))))","v":""},null," ",{"$nulls":9},{"$f":"IF(LEN('1 - Opstart Importark'!$B$6)>0,'1 - Opstart Importark'!$B$6,\"\")","v":""},{"$f":"IF(LEN('1 - Opstart Importark'!$B$9)>0,'1 - Opstart Importark'!$B$9,\"\")","v":""},{"$f":"IF(LEN('1 - Opstart Importark'!$B$23)>0,'1 - Opstart Importark'!$B$23,\"\")","v":""},{"$nulls":14},"",{"$nulls":8},0,"","","objektnogle_"]
[655,null,{"$f":"IF('1 - Opstart Importark'!$B$6=\"\",\"\",(IF('1 - Opstart Importark'!$B$15=\"\",CONCATENATE(LEFT('1 - Opstart Importark'!$B$3,1),(LEFT('1 - Opstart Importark'!$B$20,5)),MID('1 - Opstart Importark'!$B$20,5,2),LEFT('1 - Opstart Importark'!$B$28,3),IF(I667=\"\",\"\",\"-\"),I667,IF(K667=\"\",\"\",\"-\"),K667,IF(M667=\"\",\"\",\"-\"),M667),CONCATENATE(LEFT('1 - Opstart Importark'!$B$3,1),(LEFT('1 - Opstart Importark'!$B$15,5)),(LEFT('1 - Opstart Importark'!$B$18,3)),IF(I667=\"\",\"\",\"-\"),I667,IF(K667=\"\",\"\",\"-\"),K667,IF(M667=\"\",\"\",\"-\"),M667))))","v":""},null," ",{"$nulls":9},{"$f":"IF(LEN('1 - Opstart Importark'!$B$6)>0,'1 - Opstart Importark'!$B$6,\"\")","v":""},{"$f":"IF(LEN('1 - Opstart Importark'!$B$9)>0,'1 - Opstart Importark'!$B$9,\"\")","v":""},{"$f":"IF(LEN('1 - Opstart Importark'!$B$23)>0,'1 - Opstart Importark'!$B$23,\"\")","v":""},{"$nulls":14},"",{"$nulls":8},0,"","","objektnogle_"]
[656,null,{"$f":"IF('1 - Opstart Importark'!$B$6=\"\",\"\",(IF('1 - Opstart Importark'!$B$15=\"\",CONCATENATE(LEFT('1 - Opstart Importark'!$B$3,1),(LEFT('1 - Opstart Importark'!$B$20,5)),MID('1 - Opstart Importark'!$B$20,5,2),LEFT('1 - Opstart Importark'!$B$28,3),IF(I668=\"\",\"\",\"-\"),I668,IF(K668=\"\",\"\",\"-\"),K668,IF(M668=\"\",\"\",\"-\"),M668),CONCATENATE(LEFT('1 - Opstart Importark'!$B$3,1),(LEFT('1 - Opstart Importark'!$B$15,5)),(LEFT('1 - Opstart Importark'!$B$18,3)),IF(I668=\"\",\"\",\"-\"),I668,IF(K668=\"\",\"\",\"-\"),K668,IF(M668=\"\",\"\",\"-\"),M668))))","v":""},null," ",{"$nulls":9},{"$f":"IF(LEN('1 - Opstart Importark'!$B$6)>0,'1 - Opstart Importark'!$B$6,\"\")","v":""},{"$f":"IF(LEN('1 - Opstart Importark'!$B$9)>0,'1 - Opstart Importark'!$B$9,\"\")","v":""},{"$f":"IF(LEN('1 - Opstart Importark'!$B$23)>0,'1 - Opstart Importark'!$B$23,\"\")","v":""},{"$nulls":14},"",{"$nulls":8},0,"","","objektnogle_"]
[657,null,{"$f":"IF('1 - Opstart Importark'!$B$6=\"\",\"\",(IF('1 - Opstart Importark'!$B$15=\"\",CONCATENATE(LEFT('1 - Opstart Importark'!$B$3,1),(LEFT('1 - Opstart Importark'!$B$20,5)),MID('1 - Opstart Importark'!$B$20,5,2),LEFT('1 - Opstart Importark'!$B$28,3),IF(I669=\"\",\"\",\"-\"),I669,IF(K669=\"\",\"\",\"-\"),K669,IF(M669=\"\",\"\",\"-\"),M669),CONCATENATE(LEFT('1 - Opstart Importark'!$B$3,1),(LEFT('1 - Opstart Importark'!$B$15,5)),(LEFT('1 - Opstart Importark'!$B$18,3)),IF(I669=\"\",\"\",\"-\"),I669,IF(K669=\"\",\"\",\"-\"),K669,IF(M669=\"\",\"\",\"-\"),M669))))","v":""},null," ",{"$nulls":9},{"$f":"IF(LEN('1 - Opstart Importark'!$B$6)>0,'1 - Opstart Importark'!$B$6,\"\")","v":""},{"$f":"IF(LEN('1 - Opstart Importark'!$B$9)>0,'1 - Opstart Importark'!$B$9,\"\")","v":""},{"$f":"IF(LEN('1 - Opstart Importark'!$B$23)>0,'1 - Opstart Importark'!$B$23,\"\")","v":""},{"$nulls":14},"",{"$nulls":8},0,"","","objektnogle_"]
[658,null,{"$f":"IF('1 - Opstart Importark'!$B$6=\"\",\"\",(IF('1 - Opstart Importark'!$B$15=\"\",CONCATENATE(LEFT('1 - Opstart Importark'!$B$3,1),(LEFT('1 - Opstart Importark'!$B$20,5)),MID('1 - Opstart Importark'!$B$20,5,2),LEFT('1 - Opstart Importark'!$B$28,3),IF(I670=\"\",\"\",\"-\"),I670,IF(K670=\"\",\"\",\"-\"),K670,IF(M670=\"\",\"\",\"-\"),M670),CONCATENATE(LEFT('1 - Opstart Importark'!$B$3,1),(LEFT('1 - Opstart Importark'!$B$15,5)),(LEFT('1 - Opstart Importark'!$B$18,3)),IF(I670=\"\",\"\",\"-\"),I670,IF(K670=\"\",\"\",\"-\"),K670,IF(M670=\"\",\"\",\"-\"),M670))))","v":""},null," ",{"$nulls":9},{"$f":"IF(LEN('1 - Opstart Importark'!$B$6)>0,'1 - Opstart Importark'!$B$6,\"\")","v":""},{"$f":"IF(LEN('1 - Opstart Importark'!$B$9)>0,'1 - Opstart Importark'!$B$9,\"\")","v":""},{"$f":"IF(LEN('1 - Opstart Importark'!$B$23)>0,'1 - Opstart Importark'!$B$23,\"\")","v":""},{"$nulls":14},"",{"$nulls":8},0,"","","objektnogle_"]
[659,null,{"$f":"IF('1 - Opstart Importark'!$B$6=\"\",\"\",(IF('1 - Opstart Importark'!$B$15=\"\",CONCATENATE(LEFT('1 - Opstart Importark'!$B$3,1),(LEFT('1 - Opstart Importark'!$B$20,5)),MID('1 - Opstart Importark'!$B$20,5,2),LEFT('1 - Opstart Importark'!$B$28,3),IF(I671=\"\",\"\",\"-\"),I671,IF(K671=\"\",\"\",\"-\"),K671,IF(M671=\"\",\"\",\"-\"),M671),CONCATENATE(LEFT('1 - Opstart Importark'!$B$3,1),(LEFT('1 - Opstart Importark'!$B$15,5)),(LEFT('1 - Opstart Importark'!$B$18,3)),IF(I671=\"\",\"\",\"-\"),I671,IF(K671=\"\",\"\",\"-\"),K671,IF(M671=\"\",\"\",\"-\"),M671))))","v":""},null," ",{"$nulls":9},{"$f":"IF(LEN('1 - Opstart Importark'!$B$6)>0,'1 - Opstart Importark'!$B$6,\"\")","v":""},{"$f":"IF(LEN('1 - Opstart Importark'!$B$9)>0,'1 - Opstart Importark'!$B$9,\"\")","v":""},{"$f":"IF(LEN('1 - Opstart Importark'!$B$23)>0,'1 - Opstart Importark'!$B$23,\"\")","v":""},{"$nulls":14},"",{"$nulls":8},0,"","","objektnogle_"]
[660,null,{"$f":"IF('1 - Opstart Importark'!$B$6=\"\",\"\",(IF('1 - Opstart Importark'!$B$15=\"\",CONCATENATE(LEFT('1 - Opstart Importark'!$B$3,1),(LEFT('1 - Opstart Importark'!$B$20,5)),MID('1 - Opstart Importark'!$B$20,5,2),LEFT('1 - Opstart Importark'!$B$28,3),IF(I672=\"\",\"\",\"-\"),I672,IF(K672=\"\",\"\",\"-\"),K672,IF(M672=\"\",\"\",\"-\"),M672),CONCATENATE(LEFT('1 - Opstart Importark'!$B$3,1),(LEFT('1 - Opstart Importark'!$B$15,5)),(LEFT('1 - Opstart Importark'!$B$18,3)),IF(I672=\"\",\"\",\"-\"),I672,IF(K672=\"\",\"\",\"-\"),K672,IF(M672=\"\",\"\",\"-\"),M672))))","v":""},null," ",{"$nulls":9},{"$f":"IF(LEN('1 - Opstart Importark'!$B$6)>0,'1 - Opstart Importark'!$B$6,\"\")","v":""},{"$f":"IF(LEN('1 - Opstart Importark'!$B$9)>0,'1 - Opstart Importark'!$B$9,\"\")","v":""},{"$f":"IF(LEN('1 - Opstart Importark'!$B$23)>0,'1 - Opstart Importark'!$B$23,\"\")","v":""},{"$nulls":14},"",{"$nulls":8},0,"","","objektnogle_"]
[661,null,{"$f":"IF('1 - Opstart Importark'!$B$6=\"\",\"\",(IF('1 - Opstart Importark'!$B$15=\"\",CONCATENATE(LEFT('1 - Opstart Importark'!$B$3,1),(LEFT('1 - Opstart Importark'!$B$20,5)),MID('1 - Opstart Importark'!$B$20,5,2),LEFT('1 - Opstart Importark'!$B$28,3),IF(I673=\"\",\"\",\"-\"),I673,IF(K673=\"\",\"\",\"-\"),K673,IF(M673=\"\",\"\",\"-\"),M673),CONCATENATE(LEFT('1 - Opstart Importark'!$B$3,1),(LEFT('1 - Opstart Importark'!$B$15,5)),(LEFT('1 - Opstart Importark'!$B$18,3)),IF(I673=\"\",\"\",\"-\"),I673,IF(K673=\"\",\"\",\"-\"),K673,IF(M673=\"\",\"\",\"-\"),M673))))","v":""},null," ",{"$nulls":9},{"$f":"IF(LEN('1 - Opstart Importark'!$B$6)>0,'1 - Opstart Importark'!$B$6,\"\")","v":""},{"$f":"IF(LEN('1 - Opstart Importark'!$B$9)>0,'1 - Opstart Importark'!$B$9,\"\")","v":""},{"$f":"IF(LEN('1 - Opstart Importark'!$B$23)>0,'1 - Opstart Importark'!$B$23,\"\")","v":""},{"$nulls":14},"",{"$nulls":8},0,"","","objektnogle_"]
[662,null,{"$f":"IF('1 - Opstart Importark'!$B$6=\"\",\"\",(IF('1 - Opstart Importark'!$B$15=\"\",CONCATENATE(LEFT('1 - Opstart Importark'!$B$3,1),(LEFT('1 - Opstart Importark'!$B$20,5)),MID('1 - Opstart Importark'!$B$20,5,2),LEFT('1 - Opstart Importark'!$B$28,3),IF(I674=\"\",\"\",\"-\"),I674,IF(K674=\"\",\"\",\"-\"),K674,IF(M674=\"\",\"\",\"-\"),M674),CONCATENATE(LEFT('1 - Opstart Importark'!$B$3,1),(LEFT('1 - Opstart Importark'!$B$15,5)),(LEFT('1 - Opstart Importark'!$B$18,3)),IF(I674=\"\",\"\",\"-\"),I674,IF(K674=\"\",\"\",\"-\"),K674,IF(M674=\"\",\"\",\"-\"),M674))))","v":""},null," ",{"$nulls":9},{"$f":"IF(LEN('1 - Opstart Importark'!$B$6)>0,'1 - Opstart Importark'!$B$6,\"\")","v":""},{"$f":"IF(LEN('1 - Opstart Importark'!$B$9)>0,'1 - Opstart Importark'!$B$9,\"\")","v":""},{"$f":"IF(LEN('1 - Opstart Importark'!$B$23)>0,'1 - Opstart Importark'!$B$23,\"\")","v":""},{"$nulls":14},"",{"$nulls":8},0,"","","objektnogle_"]
[663,null,{"$f":"IF('1 - Opstart Importark'!$B$6=\"\",\"\",(IF('1 - Opstart Importark'!$B$15=\"\",CONCATENATE(LEFT('1 - Opstart Importark'!$B$3,1),(LEFT('1 - Opstart Importark'!$B$20,5)),MID('1 - Opstart Importark'!$B$20,5,2),LEFT('1 - Opstart Importark'!$B$28,3),IF(I675=\"\",\"\",\"-\"),I675,IF(K675=\"\",\"\",\"-\"),K675,IF(M675=\"\",\"\",\"-\"),M675),CONCATENATE(LEFT('1 - Opstart Importark'!$B$3,1),(LEFT('1 - Opstart Importark'!$B$15,5)),(LEFT('1 - Opstart Importark'!$B$18,3)),IF(I675=\"\",\"\",\"-\"),I675,IF(K675=\"\",\"\",\"-\"),K675,IF(M675=\"\",\"\",\"-\"),M675))))","v":""},null," ",{"$nulls":9},{"$f":"IF(LEN('1 - Opstart Importark'!$B$6)>0,'1 - Opstart Importark'!$B$6,\"\")","v":""},{"$f":"IF(LEN('1 - Opstart Importark'!$B$9)>0,'1 - Opstart Importark'!$B$9,\"\")","v":""},{"$f":"IF(LEN('1 - Opstart Importark'!$B$23)>0,'1 - Opstart Importark'!$B$23,\"\")","v":""},{"$nulls":14},"",{"$nulls":8},0,"","","objektnogle_"]
[664,null,{"$f":"IF('1 - Opstart Importark'!$B$6=\"\",\"\",(IF('1 - Opstart Importark'!$B$15=\"\",CONCATENATE(LEFT('1 - Opstart Importark'!$B$3,1),(LEFT('1 - Opstart Importark'!$B$20,5)),MID('1 - Opstart Importark'!$B$20,5,2),LEFT('1 - Opstart Importark'!$B$28,3),IF(I676=\"\",\"\",\"-\"),I676,IF(K676=\"\",\"\",\"-\"),K676,IF(M676=\"\",\"\",\"-\"),M676),CONCATENATE(LEFT('1 - Opstart Importark'!$B$3,1),(LEFT('1 - Opstart Importark'!$B$15,5)),(LEFT('1 - Opstart Importark'!$B$18,3)),IF(I676=\"\",\"\",\"-\"),I676,IF(K676=\"\",\"\",\"-\"),K676,IF(M676=\"\",\"\",\"-\"),M676))))","v":""},null," ",{"$nulls":9},{"$f":"IF(LEN('1 - Opstart Importark'!$B$6)>0,'1 - Opstart Importark'!$B$6,\"\")","v":""},{"$f":"IF(LEN('1 - Opstart Importark'!$B$9)>0,'1 - Opstart Importark'!$B$9,\"\")","v":""},{"$f":"IF(LEN('1 - Opstart Importark'!$B$23)>0,'1 - Opstart Importark'!$B$23,\"\")","v":""},{"$nulls":14},"",{"$nulls":8},0,"","","objektnogle_"]
[665,null,{"$f":"IF('1 - Opstart Importark'!$B$6=\"\",\"\",(IF('1 - Opstart Importark'!$B$15=\"\",CONCATENATE(LEFT('1 - Opstart Importark'!$B$3,1),(LEFT('1 - Opstart Importark'!$B$20,5)),MID('1 - Opstart Importark'!$B$20,5,2),LEFT('1 - Opstart Importark'!$B$28,3),IF(I677=\"\",\"\",\"-\"),I677,IF(K677=\"\",\"\",\"-\"),K677,IF(M677=\"\",\"\",\"-\"),M677),CONCATENATE(LEFT('1 - Opstart Importark'!$B$3,1),(LEFT('1 - Opstart Importark'!$B$15,5)),(LEFT('1 - Opstart Importark'!$B$18,3)),IF(I677=\"\",\"\",\"-\"),I677,IF(K677=\"\",\"\",\"-\"),K677,IF(M677=\"\",\"\",\"-\"),M677))))","v":""},null," ",{"$nulls":9},{"$f":"IF(LEN('1 - Opstart Importark'!$B$6)>0,'1 - Opstart Importark'!$B$6,\"\")","v":""},{"$f":"IF(LEN('1 - Opstart Importark'!$B$9)>0,'1 - Opstart Importark'!$B$9,\"\")","v":""},{"$f":"IF(LEN('1 - Opstart Importark'!$B$23)>0,'1 - Opstart Importark'!$B$23,\"\")","v":""},{"$nulls":14},"",{"$nulls":8},0,"","","objektnogle_"]
[666,null,{"$f":"IF('1 - Opstart Importark'!$B$6=\"\",\"\",(IF('1 - Opstart Importark'!$B$15=\"\",CONCATENATE(LEFT('1 - Opstart Importark'!$B$3,1),(LEFT('1 - Opstart Importark'!$B$20,5)),MID('1 - Opstart Importark'!$B$20,5,2),LEFT('1 - Opstart Importark'!$B$28,3),IF(I678=\"\",\"\",\"-\"),I678,IF(K678=\"\",\"\",\"-\"),K678,IF(M678=\"\",\"\",\"-\"),M678),CONCATENATE(LEFT('1 - Opstart Importark'!$B$3,1),(LEFT('1 - Opstart Importark'!$B$15,5)),(LEFT('1 - Opstart Importark'!$B$18,3)),IF(I678=\"\",\"\",\"-\"),I678,IF(K678=\"\",\"\",\"-\"),K678,IF(M678=\"\",\"\",\"-\"),M678))))","v":""},null," ",{"$nulls":9},{"$f":"IF(LEN('1 - Opstart Importark'!$B$6)>0,'1 - Opstart Importark'!$B$6,\"\")","v":""},{"$f":"IF(LEN('1 - Opstart Importark'!$B$9)>0,'1 - Opstart Importark'!$B$9,\"\")","v":""},{"$f":"IF(LEN('1 - Opstart Importark'!$B$23)>0,'1 - Opstart Importark'!$B$23,\"\")","v":""},{"$nulls":14},"",{"$nulls":8},0,"","","objektnogle_"]
[667,null,{"$f":"IF('1 - Opstart Importark'!$B$6=\"\",\"\",(IF('1 - Opstart Importark'!$B$15=\"\",CONCATENATE(LEFT('1 - Opstart Importark'!$B$3,1),(LEFT('1 - Opstart Importark'!$B$20,5)),MID('1 - Opstart Importark'!$B$20,5,2),LEFT('1 - Opstart Importark'!$B$28,3),IF(I679=\"\",\"\",\"-\"),I679,IF(K679=\"\",\"\",\"-\"),K679,IF(M679=\"\",\"\",\"-\"),M679),CONCATENATE(LEFT('1 - Opstart Importark'!$B$3,1),(LEFT('1 - Opstart Importark'!$B$15,5)),(LEFT('1 - Opstart Importark'!$B$18,3)),IF(I679=\"\",\"\",\"-\"),I679,IF(K679=\"\",\"\",\"-\"),K679,IF(M679=\"\",\"\",\"-\"),M679))))","v":""},null," ",{"$nulls":9},{"$f":"IF(LEN('1 - Opstart Importark'!$B$6)>0,'1 - Opstart Importark'!$B$6,\"\")","v":""},{"$f":"IF(LEN('1 - Opstart Importark'!$B$9)>0,'1 - Opstart Importark'!$B$9,\"\")","v":""},{"$f":"IF(LEN('1 - Opstart Importark'!$B$23)>0,'1 - Opstart Importark'!$B$23,\"\")","v":""},{"$nulls":14},"",{"$nulls":8},0,"","","objektnogle_"]
[668,null,{"$f":"IF('1 - Opstart Importark'!$B$6=\"\",\"\",(IF('1 - Opstart Importark'!$B$15=\"\",CONCATENATE(LEFT('1 - Opstart Importark'!$B$3,1),(LEFT('1 - Opstart Importark'!$B$20,5)),MID('1 - Opstart Importark'!$B$20,5,2),LEFT('1 - Opstart Importark'!$B$28,3),IF(I680=\"\",\"\",\"-\"),I680,IF(K680=\"\",\"\",\"-\"),K680,IF(M680=\"\",\"\",\"-\"),M680),CONCATENATE(LEFT('1 - Opstart Importark'!$B$3,1),(LEFT('1 - Opstart Importark'!$B$15,5)),(LEFT('1 - Opstart Importark'!$B$18,3)),IF(I680=\"\",\"\",\"-\"),I680,IF(K680=\"\",\"\",\"-\"),K680,IF(M680=\"\",\"\",\"-\"),M680))))","v":""},null," ",{"$nulls":9},{"$f":"IF(LEN('1 - Opstart Importark'!$B$6)>0,'1 - Opstart Importark'!$B$6,\"\")","v":""},{"$f":"IF(LEN('1 - Opstart Importark'!$B$9)>0,'1 - Opstart Importark'!$B$9,\"\")","v":""},{"$f":"IF(LEN('1 - Opstart Importark'!$B$23)>0,'1 - Opstart Importark'!$B$23,\"\")","v":""},{"$nulls":14},"",{"$nulls":8},0,"","","objektnogle_"]
[669,null,{"$f":"IF('1 - Opstart Importark'!$B$6=\"\",\"\",(IF('1 - Opstart Importark'!$B$15=\"\",CONCATENATE(LEFT('1 - Opstart Importark'!$B$3,1),(LEFT('1 - Opstart Importark'!$B$20,5)),MID('1 - Opstart Importark'!$B$20,5,2),LEFT('1 - Opstart Importark'!$B$28,3),IF(I681=\"\",\"\",\"-\"),I681,IF(K681=\"\",\"\",\"-\"),K681,IF(M681=\"\",\"\",\"-\"),M681),CONCATENATE(LEFT('1 - Opstart Importark'!$B$3,1),(LEFT('1 - Opstart Importark'!$B$15,5)),(LEFT('1 - Opstart Importark'!$B$18,3)),IF(I681=\"\",\"\",\"-\"),I681,IF(K681=\"\",\"\",\"-\"),K681,IF(M681=\"\",\"\",\"-\"),M681))))","v":""},null," ",{"$nulls":9},{"$f":"IF(LEN('1 - Opstart Importark'!$B$6)>0,'1 - Opstart Importark'!$B$6,\"\")","v":""},{"$f":"IF(LEN('1 - Opstart Importark'!$B$9)>0,'1 - Opstart Importark'!$B$9,\"\")","v":""},{"$f":"IF(LEN('1 - Opstart Importark'!$B$23)>0,'1 - Opstart Importark'!$B$23,\"\")","v":""},{"$nulls":14},"",{"$nulls":8},0,"","","objektnogle_"]
[670,null,{"$f":"IF('1 - Opstart Importark'!$B$6=\"\",\"\",(IF('1 - Opstart Importark'!$B$15=\"\",CONCATENATE(LEFT('1 - Opstart Importark'!$B$3,1),(LEFT('1 - Opstart Importark'!$B$20,5)),MID('1 - Opstart Importark'!$B$20,5,2),LEFT('1 - Opstart Importark'!$B$28,3),IF(I682=\"\",\"\",\"-\"),I682,IF(K682=\"\",\"\",\"-\"),K682,IF(M682=\"\",\"\",\"-\"),M682),CONCATENATE(LEFT('1 - Opstart Importark'!$B$3,1),(LEFT('1 - Opstart Importark'!$B$15,5)),(LEFT('1 - Opstart Importark'!$B$18,3)),IF(I682=\"\",\"\",\"-\"),I682,IF(K682=\"\",\"\",\"-\"),K682,IF(M682=\"\",\"\",\"-\"),M682))))","v":""},null," ",{"$nulls":9},{"$f":"IF(LEN('1 - Opstart Importark'!$B$6)>0,'1 - Opstart Importark'!$B$6,\"\")","v":""},{"$f":"IF(LEN('1 - Opstart Importark'!$B$9)>0,'1 - Opstart Importark'!$B$9,\"\")","v":""},{"$f":"IF(LEN('1 - Opstart Importark'!$B$23)>0,'1 - Opstart Importark'!$B$23,\"\")","v":""},{"$nulls":14},"",{"$nulls":8},0,"","","objektnogle_"]
[671,null,{"$f":"IF('1 - Opstart Importark'!$B$6=\"\",\"\",(IF('1 - Opstart Importark'!$B$15=\"\",CONCATENATE(LEFT('1 - Opstart Importark'!$B$3,1),(LEFT('1 - Opstart Importark'!$B$20,5)),MID('1 - Opstart Importark'!$B$20,5,2),LEFT('1 - Opstart Importark'!$B$28,3),IF(I683=\"\",\"\",\"-\"),I683,IF(K683=\"\",\"\",\"-\"),K683,IF(M683=\"\",\"\",\"-\"),M683),CONCATENATE(LEFT('1 - Opstart Importark'!$B$3,1),(LEFT('1 - Opstart Importark'!$B$15,5)),(LEFT('1 - Opstart Importark'!$B$18,3)),IF(I683=\"\",\"\",\"-\"),I683,IF(K683=\"\",\"\",\"-\"),K683,IF(M683=\"\",\"\",\"-\"),M683))))","v":""},null," ",{"$nulls":9},{"$f":"IF(LEN('1 - Opstart Importark'!$B$6)>0,'1 - Opstart Importark'!$B$6,\"\")","v":""},{"$f":"IF(LEN('1 - Opstart Importark'!$B$9)>0,'1 - Opstart Importark'!$B$9,\"\")","v":""},{"$f":"IF(LEN('1 - Opstart Importark'!$B$23)>0,'1 - Opstart Importark'!$B$23,\"\")","v":""},{"$nulls":14},"",{"$nulls":8},0,"","","objektnogle_"]
[672,null,{"$f":"IF('1 - Opstart Importark'!$B$6=\"\",\"\",(IF('1 - Opstart Importark'!$B$15=\"\",CONCATENATE(LEFT('1 - Opstart Importark'!$B$3,1),(LEFT('1 - Opstart Importark'!$B$20,5)),MID('1 - Opstart Importark'!$B$20,5,2),LEFT('1 - Opstart Importark'!$B$28,3),IF(I684=\"\",\"\",\"-\"),I684,IF(K684=\"\",\"\",\"-\"),K684,IF(M684=\"\",\"\",\"-\"),M684),CONCATENATE(LEFT('1 - Opstart Importark'!$B$3,1),(LEFT('1 - Opstart Importark'!$B$15,5)),(LEFT('1 - Opstart Importark'!$B$18,3)),IF(I684=\"\",\"\",\"-\"),I684,IF(K684=\"\",\"\",\"-\"),K684,IF(M684=\"\",\"\",\"-\"),M684))))","v":""},null," ",{"$nulls":9},{"$f":"IF(LEN('1 - Opstart Importark'!$B$6)>0,'1 - Opstart Importark'!$B$6,\"\")","v":""},{"$f":"IF(LEN('1 - Opstart Importark'!$B$9)>0,'1 - Opstart Importark'!$B$9,\"\")","v":""},{"$f":"IF(LEN('1 - Opstart Importark'!$B$23)>0,'1 - Opstart Importark'!$B$23,\"\")","v":""},{"$nulls":14},"",{"$nulls":8},0,"","","objektnogle_"]
[673,null,{"$f":"IF('1 - Opstart Importark'!$B$6=\"\",\"\",(IF('1 - Opstart Importark'!$B$15=\"\",CONCATENATE(LEFT('1 - Opstart Importark'!$B$3,1),(LEFT('1 - Opstart Importark'!$B$20,5)),MID('1 - Opstart Importark'!$B$20,5,2),LEFT('1 - Opstart Importark'!$B$28,3),IF(I685=\"\",\"\",\"-\"),I685,IF(K685=\"\",\"\",\"-\"),K685,IF(M685=\"\",\"\",\"-\"),M685),CONCATENATE(LEFT('1 - Opstart Importark'!$B$3,1),(LEFT('1 - Opstart Importark'!$B$15,5)),(LEFT('1 - Opstart Importark'!$B$18,3)),IF(I685=\"\",\"\",\"-\"),I685,IF(K685=\"\",\"\",\"-\"),K685,IF(M685=\"\",\"\",\"-\"),M685))))","v":""},null," ",{"$nulls":9},{"$f":"IF(LEN('1 - Opstart Importark'!$B$6)>0,'1 - Opstart Importark'!$B$6,\"\")","v":""},{"$f":"IF(LEN('1 - Opstart Importark'!$B$9)>0,'1 - Opstart Importark'!$B$9,\"\")","v":""},{"$f":"IF(LEN('1 - Opstart Importark'!$B$23)>0,'1 - Opstart Importark'!$B$23,\"\")","v":""},{"$nulls":14},"",{"$nulls":8},0,"","","objektnogle_"]
[674,null,{"$f":"IF('1 - Opstart Importark'!$B$6=\"\",\"\",(IF('1 - Opstart Importark'!$B$15=\"\",CONCATENATE(LEFT('1 - Opstart Importark'!$B$3,1),(LEFT('1 - Opstart Importark'!$B$20,5)),MID('1 - Opstart Importark'!$B$20,5,2),LEFT('1 - Opstart Importark'!$B$28,3),IF(I686=\"\",\"\",\"-\"),I686,IF(K686=\"\",\"\",\"-\"),K686,IF(M686=\"\",\"\",\"-\"),M686),CONCATENATE(LEFT('1 - Opstart Importark'!$B$3,1),(LEFT('1 - Opstart Importark'!$B$15,5)),(LEFT('1 - Opstart Importark'!$B$18,3)),IF(I686=\"\",\"\",\"-\"),I686,IF(K686=\"\",\"\",\"-\"),K686,IF(M686=\"\",\"\",\"-\"),M686))))","v":""},null," ",{"$nulls":9},{"$f":"IF(LEN('1 - Opstart Importark'!$B$6)>0,'1 - Opstart Importark'!$B$6,\"\")","v":""},{"$f":"IF(LEN('1 - Opstart Importark'!$B$9)>0,'1 - Opstart Importark'!$B$9,\"\")","v":""},{"$f":"IF(LEN('1 - Opstart Importark'!$B$23)>0,'1 - Opstart Importark'!$B$23,\"\")","v":""},{"$nulls":14},"",{"$nulls":8},0,"","","objektnogle_"]
[675,null,{"$f":"IF('1 - Opstart Importark'!$B$6=\"\",\"\",(IF('1 - Opstart Importark'!$B$15=\"\",CONCATENATE(LEFT('1 - Opstart Importark'!$B$3,1),(LEFT('1 - Opstart Importark'!$B$20,5)),MID('1 - Opstart Importark'!$B$20,5,2),LEFT('1 - Opstart Importark'!$B$28,3),IF(I687=\"\",\"\",\"-\"),I687,IF(K687=\"\",\"\",\"-\"),K687,IF(M687=\"\",\"\",\"-\"),M687),CONCATENATE(LEFT('1 - Opstart Importark'!$B$3,1),(LEFT('1 - Opstart Importark'!$B$15,5)),(LEFT('1 - Opstart Importark'!$B$18,3)),IF(I687=\"\",\"\",\"-\"),I687,IF(K687=\"\",\"\",\"-\"),K687,IF(M687=\"\",\"\",\"-\"),M687))))","v":""},null," ",{"$nulls":9},{"$f":"IF(LEN('1 - Opstart Importark'!$B$6)>0,'1 - Opstart Importark'!$B$6,\"\")","v":""},{"$f":"IF(LEN('1 - Opstart Importark'!$B$9)>0,'1 - Opstart Importark'!$B$9,\"\")","v":""},{"$f":"IF(LEN('1 - Opstart Importark'!$B$23)>0,'1 - Opstart Importark'!$B$23,\"\")","v":""},{"$nulls":14},"",{"$nulls":8},0,"","","objektnogle_"]
[676,null,{"$f":"IF('1 - Opstart Importark'!$B$6=\"\",\"\",(IF('1 - Opstart Importark'!$B$15=\"\",CONCATENATE(LEFT('1 - Opstart Importark'!$B$3,1),(LEFT('1 - Opstart Importark'!$B$20,5)),MID('1 - Opstart Importark'!$B$20,5,2),LEFT('1 - Opstart Importark'!$B$28,3),IF(I688=\"\",\"\",\"-\"),I688,IF(K688=\"\",\"\",\"-\"),K688,IF(M688=\"\",\"\",\"-\"),M688),CONCATENATE(LEFT('1 - Opstart Importark'!$B$3,1),(LEFT('1 - Opstart Importark'!$B$15,5)),(LEFT('1 - Opstart Importark'!$B$18,3)),IF(I688=\"\",\"\",\"-\"),I688,IF(K688=\"\",\"\",\"-\"),K688,IF(M688=\"\",\"\",\"-\"),M688))))","v":""},null," ",{"$nulls":9},{"$f":"IF(LEN('1 - Opstart Importark'!$B$6)>0,'1 - Opstart Importark'!$B$6,\"\")","v":""},{"$f":"IF(LEN('1 - Opstart Importark'!$B$9)>0,'1 - Opstart Importark'!$B$9,\"\")","v":""},{"$f":"IF(LEN('1 - Opstart Importark'!$B$23)>0,'1 - Opstart Importark'!$B$23,\"\")","v":""},{"$nulls":14},"",{"$nulls":8},0,"","","objektnogle_"]
[677,null,{"$f":"IF('1 - Opstart Importark'!$B$6=\"\",\"\",(IF('1 - Opstart Importark'!$B$15=\"\",CONCATENATE(LEFT('1 - Opstart Importark'!$B$3,1),(LEFT('1 - Opstart Importark'!$B$20,5)),MID('1 - Opstart Importark'!$B$20,5,2),LEFT('1 - Opstart Importark'!$B$28,3),IF(I689=\"\",\"\",\"-\"),I689,IF(K689=\"\",\"\",\"-\"),K689,IF(M689=\"\",\"\",\"-\"),M689),CONCATENATE(LEFT('1 - Opstart Importark'!$B$3,1),(LEFT('1 - Opstart Importark'!$B$15,5)),(LEFT('1 - Opstart Importark'!$B$18,3)),IF(I689=\"\",\"\",\"-\"),I689,IF(K689=\"\",\"\",\"-\"),K689,IF(M689=\"\",\"\",\"-\"),M689))))","v":""},null," ",{"$nulls":9},{"$f":"IF(LEN('1 - Opstart Importark'!$B$6)>0,'1 - Opstart Importark'!$B$6,\"\")","v":""},{"$f":"IF(LEN('1 - Opstart Importark'!$B$9)>0,'1 - Opstart Importark'!$B$9,\"\")","v":""},{"$f":"IF(LEN('1 - Opstart Importark'!$B$23)>0,'1 - Opstart Importark'!$B$23,\"\")","v":""},{"$nulls":14},"",{"$nulls":8},0,"","","objektnogle_"]
[678,null,{"$f":"IF('1 - Opstart Importark'!$B$6=\"\",\"\",(IF('1 - Opstart Importark'!$B$15=\"\",CONCATENATE(LEFT('1 - Opstart Importark'!$B$3,1),(LEFT('1 - Opstart Importark'!$B$20,5)),MID('1 - Opstart Importark'!$B$20,5,2),LEFT('1 - Opstart Importark'!$B$28,3),IF(I690=\"\",\"\",\"-\"),I690,IF(K690=\"\",\"\",\"-\"),K690,IF(M690=\"\",\"\",\"-\"),M690),CONCATENATE(LEFT('1 - Opstart Importark'!$B$3,1),(LEFT('1 - Opstart Importark'!$B$15,5)),(LEFT('1 - Opstart Importark'!$B$18,3)),IF(I690=\"\",\"\",\"-\"),I690,IF(K690=\"\",\"\",\"-\"),K690,IF(M690=\"\",\"\",\"-\"),M690))))","v":""},null," ",{"$nulls":9},{"$f":"IF(LEN('1 - Opstart Importark'!$B$6)>0,'1 - Opstart Importark'!$B$6,\"\")","v":""},{"$f":"IF(LEN('1 - Opstart Importark'!$B$9)>0,'1 - Opstart Importark'!$B$9,\"\")","v":""},{"$f":"IF(LEN('1 - Opstart Importark'!$B$23)>0,'1 - Opstart Importark'!$B$23,\"\")","v":""},{"$nulls":14},"",{"$nulls":8},0,"","","objektnogle_"]
[679,null,{"$f":"IF('1 - Opstart Importark'!$B$6=\"\",\"\",(IF('1 - Opstart Importark'!$B$15=\"\",CONCATENATE(LEFT('1 - Opstart Importark'!$B$3,1),(LEFT('1 - Opstart Importark'!$B$20,5)),MID('1 - Opstart Importark'!$B$20,5,2),LEFT('1 - Opstart Importark'!$B$28,3),IF(I691=\"\",\"\",\"-\"),I691,IF(K691=\"\",\"\",\"-\"),K691,IF(M691=\"\",\"\",\"-\"),M691),CONCATENATE(LEFT('1 - Opstart Importark'!$B$3,1),(LEFT('1 - Opstart Importark'!$B$15,5)),(LEFT('1 - Opstart Importark'!$B$18,3)),IF(I691=\"\",\"\",\"-\"),I691,IF(K691=\"\",\"\",\"-\"),K691,IF(M691=\"\",\"\",\"-\"),M691))))","v":""},null," ",{"$nulls":9},{"$f":"IF(LEN('1 - Opstart Importark'!$B$6)>0,'1 - Opstart Importark'!$B$6,\"\")","v":""},{"$f":"IF(LEN('1 - Opstart Importark'!$B$9)>0,'1 - Opstart Importark'!$B$9,\"\")","v":""},{"$f":"IF(LEN('1 - Opstart Importark'!$B$23)>0,'1 - Opstart Importark'!$B$23,\"\")","v":""},{"$nulls":14},"",{"$nulls":8},0,"","","objektnogle_"]
[680,null,{"$f":"IF('1 - Opstart Importark'!$B$6=\"\",\"\",(IF('1 - Opstart Importark'!$B$15=\"\",CONCATENATE(LEFT('1 - Opstart Importark'!$B$3,1),(LEFT('1 - Opstart Importark'!$B$20,5)),MID('1 - Opstart Importark'!$B$20,5,2),LEFT('1 - Opstart Importark'!$B$28,3),IF(I692=\"\",\"\",\"-\"),I692,IF(K692=\"\",\"\",\"-\"),K692,IF(M692=\"\",\"\",\"-\"),M692),CONCATENATE(LEFT('1 - Opstart Importark'!$B$3,1),(LEFT('1 - Opstart Importark'!$B$15,5)),(LEFT('1 - Opstart Importark'!$B$18,3)),IF(I692=\"\",\"\",\"-\"),I692,IF(K692=\"\",\"\",\"-\"),K692,IF(M692=\"\",\"\",\"-\"),M692))))","v":""},null," ",{"$nulls":9},{"$f":"IF(LEN('1 - Opstart Importark'!$B$6)>0,'1 - Opstart Importark'!$B$6,\"\")","v":""},{"$f":"IF(LEN('1 - Opstart Importark'!$B$9)>0,'1 - Opstart Importark'!$B$9,\"\")","v":""},{"$f":"IF(LEN('1 - Opstart Importark'!$B$23)>0,'1 - Opstart Importark'!$B$23,\"\")","v":""},{"$nulls":14},"",{"$nulls":8},0,"","","objektnogle_"]
[681,null,{"$f":"IF('1 - Opstart Importark'!$B$6=\"\",\"\",(IF('1 - Opstart Importark'!$B$15=\"\",CONCATENATE(LEFT('1 - Opstart Importark'!$B$3,1),(LEFT('1 - Opstart Importark'!$B$20,5)),MID('1 - Opstart Importark'!$B$20,5,2),LEFT('1 - Opstart Importark'!$B$28,3),IF(I693=\"\",\"\",\"-\"),I693,IF(K693=\"\",\"\",\"-\"),K693,IF(M693=\"\",\"\",\"-\"),M693),CONCATENATE(LEFT('1 - Opstart Importark'!$B$3,1),(LEFT('1 - Opstart Importark'!$B$15,5)),(LEFT('1 - Opstart Importark'!$B$18,3)),IF(I693=\"\",\"\",\"-\"),I693,IF(K693=\"\",\"\",\"-\"),K693,IF(M693=\"\",\"\",\"-\"),M693))))","v":""},null," ",{"$nulls":9},{"$f":"IF(LEN('1 - Opstart Importark'!$B$6)>0,'1 - Opstart Importark'!$B$6,\"\")","v":""},{"$f":"IF(LEN('1 - Opstart Importark'!$B$9)>0,'1 - Opstart Importark'!$B$9,\"\")","v":""},{"$f":"IF(LEN('1 - Opstart Importark'!$B$23)>0,'1 - Opstart Importark'!$B$23,\"\")","v":""},{"$nulls":14},"",{"$nulls":8},0,"","","objektnogle_"]
[682,null,{"$f":"IF('1 - Opstart Importark'!$B$6=\"\",\"\",(IF('1 - Opstart Importark'!$B$15=\"\",CONCATENATE(LEFT('1 - Opstart Importark'!$B$3,1),(LEFT('1 - Opstart Importark'!$B$20,5)),MID('1 - Opstart Importark'!$B$20,5,2),LEFT('1 - Opstart Importark'!$B$28,3),IF(I694=\"\",\"\",\"-\"),I694,IF(K694=\"\",\"\",\"-\"),K694,IF(M694=\"\",\"\",\"-\"),M694),CONCATENATE(LEFT('1 - Opstart Importark'!$B$3,1),(LEFT('1 - Opstart Importark'!$B$15,5)),(LEFT('1 - Opstart Importark'!$B$18,3)),IF(I694=\"\",\"\",\"-\"),I694,IF(K694=\"\",\"\",\"-\"),K694,IF(M694=\"\",\"\",\"-\"),M694))))","v":""},null," ",{"$nulls":9},{"$f":"IF(LEN('1 - Opstart Importark'!$B$6)>0,'1 - Opstart Importark'!$B$6,\"\")","v":""},{"$f":"IF(LEN('1 - Opstart Importark'!$B$9)>0,'1 - Opstart Importark'!$B$9,\"\")","v":""},{"$f":"IF(LEN('1 - Opstart Importark'!$B$23)>0,'1 - Opstart Importark'!$B$23,\"\")","v":""},{"$nulls":14},"",{"$nulls":8},0,"","","objektnogle_"]
[683,null,{"$f":"IF('1 - Opstart Importark'!$B$6=\"\",\"\",(IF('1 - Opstart Importark'!$B$15=\"\",CONCATENATE(LEFT('1 - Opstart Importark'!$B$3,1),(LEFT('1 - Opstart Importark'!$B$20,5)),MID('1 - Opstart Importark'!$B$20,5,2),LEFT('1 - Opstart Importark'!$B$28,3),IF(I695=\"\",\"\",\"-\"),I695,IF(K695=\"\",\"\",\"-\"),K695,IF(M695=\"\",\"\",\"-\"),M695),CONCATENATE(LEFT('1 - Opstart Importark'!$B$3,1),(LEFT('1 - Opstart Importark'!$B$15,5)),(LEFT('1 - Opstart Importark'!$B$18,3)),IF(I695=\"\",\"\",\"-\"),I695,IF(K695=\"\",\"\",\"-\"),K695,IF(M695=\"\",\"\",\"-\"),M695))))","v":""},null," ",{"$nulls":9},{"$f":"IF(LEN('1 - Opstart Importark'!$B$6)>0,'1 - Opstart Importark'!$B$6,\"\")","v":""},{"$f":"IF(LEN('1 - Opstart Importark'!$B$9)>0,'1 - Opstart Importark'!$B$9,\"\")","v":""},{"$f":"IF(LEN('1 - Opstart Importark'!$B$23)>0,'1 - Opstart Importark'!$B$23,\"\")","v":""},{"$nulls":14},"",{"$nulls":8},0,"","","objektnogle_"]
[684,null,{"$f":"IF('1 - Opstart Importark'!$B$6=\"\",\"\",(IF('1 - Opstart Importark'!$B$15=\"\",CONCATENATE(LEFT('1 - Opstart Importark'!$B$3,1),(LEFT('1 - Opstart Importark'!$B$20,5)),MID('1 - Opstart Importark'!$B$20,5,2),LEFT('1 - Opstart Importark'!$B$28,3),IF(I696=\"\",\"\",\"-\"),I696,IF(K696=\"\",\"\",\"-\"),K696,IF(M696=\"\",\"\",\"-\"),M696),CONCATENATE(LEFT('1 - Opstart Importark'!$B$3,1),(LEFT('1 - Opstart Importark'!$B$15,5)),(LEFT('1 - Opstart Importark'!$B$18,3)),IF(I696=\"\",\"\",\"-\"),I696,IF(K696=\"\",\"\",\"-\"),K696,IF(M696=\"\",\"\",\"-\"),M696))))","v":""},null," ",{"$nulls":9},{"$f":"IF(LEN('1 - Opstart Importark'!$B$6)>0,'1 - Opstart Importark'!$B$6,\"\")","v":""},{"$f":"IF(LEN('1 - Opstart Importark'!$B$9)>0,'1 - Opstart Importark'!$B$9,\"\")","v":""},{"$f":"IF(LEN('1 - Opstart Importark'!$B$23)>0,'1 - Opstart Importark'!$B$23,\"\")","v":""},{"$nulls":14},"",{"$nulls":8},0,"","","objektnogle_"]
[685,null,{"$f":"IF('1 - Opstart Importark'!$B$6=\"\",\"\",(IF('1 - Opstart Importark'!$B$15=\"\",CONCATENATE(LEFT('1 - Opstart Importark'!$B$3,1),(LEFT('1 - Opstart Importark'!$B$20,5)),MID('1 - Opstart Importark'!$B$20,5,2),LEFT('1 - Opstart Importark'!$B$28,3),IF(I697=\"\",\"\",\"-\"),I697,IF(K697=\"\",\"\",\"-\"),K697,IF(M697=\"\",\"\",\"-\"),M697),CONCATENATE(LEFT('1 - Opstart Importark'!$B$3,1),(LEFT('1 - Opstart Importark'!$B$15,5)),(LEFT('1 - Opstart Importark'!$B$18,3)),IF(I697=\"\",\"\",\"-\"),I697,IF(K697=\"\",\"\",\"-\"),K697,IF(M697=\"\",\"\",\"-\"),M697))))","v":""},null," ",{"$nulls":9},{"$f":"IF(LEN('1 - Opstart Importark'!$B$6)>0,'1 - Opstart Importark'!$B$6,\"\")","v":""},{"$f":"IF(LEN('1 - Opstart Importark'!$B$9)>0,'1 - Opstart Importark'!$B$9,\"\")","v":""},{"$f":"IF(LEN('1 - Opstart Importark'!$B$23)>0,'1 - Opstart Importark'!$B$23,\"\")","v":""},{"$nulls":14},"",{"$nulls":8},0,"","","objektnogle_"]
[686,null,{"$f":"IF('1 - Opstart Importark'!$B$6=\"\",\"\",(IF('1 - Opstart Importark'!$B$15=\"\",CONCATENATE(LEFT('1 - Opstart Importark'!$B$3,1),(LEFT('1 - Opstart Importark'!$B$20,5)),MID('1 - Opstart Importark'!$B$20,5,2),LEFT('1 - Opstart Importark'!$B$28,3),IF(I698=\"\",\"\",\"-\"),I698,IF(K698=\"\",\"\",\"-\"),K698,IF(M698=\"\",\"\",\"-\"),M698),CONCATENATE(LEFT('1 - Opstart Importark'!$B$3,1),(LEFT('1 - Opstart Importark'!$B$15,5)),(LEFT('1 - Opstart Importark'!$B$18,3)),IF(I698=\"\",\"\",\"-\"),I698,IF(K698=\"\",\"\",\"-\"),K698,IF(M698=\"\",\"\",\"-\"),M698))))","v":""},null," ",{"$nulls":9},{"$f":"IF(LEN('1 - Opstart Importark'!$B$6)>0,'1 - Opstart Importark'!$B$6,\"\")","v":""},{"$f":"IF(LEN('1 - Opstart Importark'!$B$9)>0,'1 - Opstart Importark'!$B$9,\"\")","v":""},{"$f":"IF(LEN('1 - Opstart Importark'!$B$23)>0,'1 - Opstart Importark'!$B$23,\"\")","v":""},{"$nulls":14},"",{"$nulls":8},0,"","","objektnogle_"]
[687,null,{"$f":"IF('1 - Opstart Importark'!$B$6=\"\",\"\",(IF('1 - Opstart Importark'!$B$15=\"\",CONCATENATE(LEFT('1 - Opstart Importark'!$B$3,1),(LEFT('1 - Opstart Importark'!$B$20,5)),MID('1 - Opstart Importark'!$B$20,5,2),LEFT('1 - Opstart Importark'!$B$28,3),IF(I699=\"\",\"\",\"-\"),I699,IF(K699=\"\",\"\",\"-\"),K699,IF(M699=\"\",\"\",\"-\"),M699),CONCATENATE(LEFT('1 - Opstart Importark'!$B$3,1),(LEFT('1 - Opstart Importark'!$B$15,5)),(LEFT('1 - Opstart Importark'!$B$18,3)),IF(I699=\"\",\"\",\"-\"),I699,IF(K699=\"\",\"\",\"-\"),K699,IF(M699=\"\",\"\",\"-\"),M699))))","v":""},null," ",{"$nulls":9},{"$f":"IF(LEN('1 - Opstart Importark'!$B$6)>0,'1 - Opstart Importark'!$B$6,\"\")","v":""},{"$f":"IF(LEN('1 - Opstart Importark'!$B$9)>0,'1 - Opstart Importark'!$B$9,\"\")","v":""},{"$f":"IF(LEN('1 - Opstart Importark'!$B$23)>0,'1 - Opstart Importark'!$B$23,\"\")","v":""},{"$nulls":14},"",{"$nulls":8},0,"","","objektnogle_"]
[688,null,{"$f":"IF('1 - Opstart Importark'!$B$6=\"\",\"\",(IF('1 - Opstart Importark'!$B$15=\"\",CONCATENATE(LEFT('1 - Opstart Importark'!$B$3,1),(LEFT('1 - Opstart Importark'!$B$20,5)),MID('1 - Opstart Importark'!$B$20,5,2),LEFT('1 - Opstart Importark'!$B$28,3),IF(I700=\"\",\"\",\"-\"),I700,IF(K700=\"\",\"\",\"-\"),K700,IF(M700=\"\",\"\",\"-\"),M700),CONCATENATE(LEFT('1 - Opstart Importark'!$B$3,1),(LEFT('1 - Opstart Importark'!$B$15,5)),(LEFT('1 - Opstart Importark'!$B$18,3)),IF(I700=\"\",\"\",\"-\"),I700,IF(K700=\"\",\"\",\"-\"),K700,IF(M700=\"\",\"\",\"-\"),M700))))","v":""},null," ",{"$nulls":9},{"$f":"IF(LEN('1 - Opstart Importark'!$B$6)>0,'1 - Opstart Importark'!$B$6,\"\")","v":""},{"$f":"IF(LEN('1 - Opstart Importark'!$B$9)>0,'1 - Opstart Importark'!$B$9,\"\")","v":""},{"$f":"IF(LEN('1 - Opstart Importark'!$B$23)>0,'1 - Opstart Importark'!$B$23,\"\")","v":""},{"$nulls":14},"",{"$nulls":8},0,"","","objektnogle_"]
[689,null,{"$f":"IF('1 - Opstart Importark'!$B$6=\"\",\"\",(IF('1 - Opstart Importark'!$B$15=\"\",CONCATENATE(LEFT('1 - Opstart Importark'!$B$3,1),(LEFT('1 - Opstart Importark'!$B$20,5)),MID('1 - Opstart Importark'!$B$20,5,2),LEFT('1 - Opstart Importark'!$B$28,3),IF(I701=\"\",\"\",\"-\"),I701,IF(K701=\"\",\"\",\"-\"),K701,IF(M701=\"\",\"\",\"-\"),M701),CONCATENATE(LEFT('1 - Opstart Importark'!$B$3,1),(LEFT('1 - Opstart Importark'!$B$15,5)),(LEFT('1 - Opstart Importark'!$B$18,3)),IF(I701=\"\",\"\",\"-\"),I701,IF(K701=\"\",\"\",\"-\"),K701,IF(M701=\"\",\"\",\"-\"),M701))))","v":""},null," ",{"$nulls":9},{"$f":"IF(LEN('1 - Opstart Importark'!$B$6)>0,'1 - Opstart Importark'!$B$6,\"\")","v":""},{"$f":"IF(LEN('1 - Opstart Importark'!$B$9)>0,'1 - Opstart Importark'!$B$9,\"\")","v":""},{"$f":"IF(LEN('1 - Opstart Importark'!$B$23)>0,'1 - Opstart Importark'!$B$23,\"\")","v":""},{"$nulls":14},"",{"$nulls":8},0,"","","objektnogle_"]
[690,null,{"$f":"IF('1 - Opstart Importark'!$B$6=\"\",\"\",(IF('1 - Opstart Importark'!$B$15=\"\",CONCATENATE(LEFT('1 - Opstart Importark'!$B$3,1),(LEFT('1 - Opstart Importark'!$B$20,5)),MID('1 - Opstart Importark'!$B$20,5,2),LEFT('1 - Opstart Importark'!$B$28,3),IF(I702=\"\",\"\",\"-\"),I702,IF(K702=\"\",\"\",\"-\"),K702,IF(M702=\"\",\"\",\"-\"),M702),CONCATENATE(LEFT('1 - Opstart Importark'!$B$3,1),(LEFT('1 - Opstart Importark'!$B$15,5)),(LEFT('1 - Opstart Importark'!$B$18,3)),IF(I702=\"\",\"\",\"-\"),I702,IF(K702=\"\",\"\",\"-\"),K702,IF(M702=\"\",\"\",\"-\"),M702))))","v":""},null," ",{"$nulls":9},{"$f":"IF(LEN('1 - Opstart Importark'!$B$6)>0,'1 - Opstart Importark'!$B$6,\"\")","v":""},{"$f":"IF(LEN('1 - Opstart Importark'!$B$9)>0,'1 - Opstart Importark'!$B$9,\"\")","v":""},{"$f":"IF(LEN('1 - Opstart Importark'!$B$23)>0,'1 - Opstart Importark'!$B$23,\"\")","v":""},{"$nulls":14},"",{"$nulls":8},0,"","","objektnogle_"]
[691,null,{"$f":"IF('1 - Opstart Importark'!$B$6=\"\",\"\",(IF('1 - Opstart Importark'!$B$15=\"\",CONCATENATE(LEFT('1 - Opstart Importark'!$B$3,1),(LEFT('1 - Opstart Importark'!$B$20,5)),MID('1 - Opstart Importark'!$B$20,5,2),LEFT('1 - Opstart Importark'!$B$28,3),IF(I703=\"\",\"\",\"-\"),I703,IF(K703=\"\",\"\",\"-\"),K703,IF(M703=\"\",\"\",\"-\"),M703),CONCATENATE(LEFT('1 - Opstart Importark'!$B$3,1),(LEFT('1 - Opstart Importark'!$B$15,5)),(LEFT('1 - Opstart Importark'!$B$18,3)),IF(I703=\"\",\"\",\"-\"),I703,IF(K703=\"\",\"\",\"-\"),K703,IF(M703=\"\",\"\",\"-\"),M703))))","v":""},null," ",{"$nulls":9},{"$f":"IF(LEN('1 - Opstart Importark'!$B$6)>0,'1 - Opstart Importark'!$B$6,\"\")","v":""},{"$f":"IF(LEN('1 - Opstart Importark'!$B$9)>0,'1 - Opstart Importark'!$B$9,\"\")","v":""},{"$f":"IF(LEN('1 - Opstart Importark'!$B$23)>0,'1 - Opstart Importark'!$B$23,\"\")","v":""},{"$nulls":14},"",{"$nulls":8},0,"","","objektnogle_"]
[692,null,{"$f":"IF('1 - Opstart Importark'!$B$6=\"\",\"\",(IF('1 - Opstart Importark'!$B$15=\"\",CONCATENATE(LEFT('1 - Opstart Importark'!$B$3,1),(LEFT('1 - Opstart Importark'!$B$20,5)),MID('1 - Opstart Importark'!$B$20,5,2),LEFT('1 - Opstart Importark'!$B$28,3),IF(I704=\"\",\"\",\"-\"),I704,IF(K704=\"\",\"\",\"-\"),K704,IF(M704=\"\",\"\",\"-\"),M704),CONCATENATE(LEFT('1 - Opstart Importark'!$B$3,1),(LEFT('1 - Opstart Importark'!$B$15,5)),(LEFT('1 - Opstart Importark'!$B$18,3)),IF(I704=\"\",\"\",\"-\"),I704,IF(K704=\"\",\"\",\"-\"),K704,IF(M704=\"\",\"\",\"-\"),M704))))","v":""},null," ",{"$nulls":9},{"$f":"IF(LEN('1 - Opstart Importark'!$B$6)>0,'1 - Opstart Importark'!$B$6,\"\")","v":""},{"$f":"IF(LEN('1 - Opstart Importark'!$B$9)>0,'1 - Opstart Importark'!$B$9,\"\")","v":""},{"$f":"IF(LEN('1 - Opstart Importark'!$B$23)>0,'1 - Opstart Importark'!$B$23,\"\")","v":""},{"$nulls":14},"",{"$nulls":8},0,"","","objektnogle_"]
[693,null,{"$f":"IF('1 - Opstart Importark'!$B$6=\"\",\"\",(IF('1 - Opstart Importark'!$B$15=\"\",CONCATENATE(LEFT('1 - Opstart Importark'!$B$3,1),(LEFT('1 - Opstart Importark'!$B$20,5)),MID('1 - Opstart Importark'!$B$20,5,2),LEFT('1 - Opstart Importark'!$B$28,3),IF(I705=\"\",\"\",\"-\"),I705,IF(K705=\"\",\"\",\"-\"),K705,IF(M705=\"\",\"\",\"-\"),M705),CONCATENATE(LEFT('1 - Opstart Importark'!$B$3,1),(LEFT('1 - Opstart Importark'!$B$15,5)),(LEFT('1 - Opstart Importark'!$B$18,3)),IF(I705=\"\",\"\",\"-\"),I705,IF(K705=\"\",\"\",\"-\"),K705,IF(M705=\"\",\"\",\"-\"),M705))))","v":""},null," ",{"$nulls":9},{"$f":"IF(LEN('1 - Opstart Importark'!$B$6)>0,'1 - Opstart Importark'!$B$6,\"\")","v":""},{"$f":"IF(LEN('1 - Opstart Importark'!$B$9)>0,'1 - Opstart Importark'!$B$9,\"\")","v":""},{"$f":"IF(LEN('1 - Opstart Importark'!$B$23)>0,'1 - Opstart Importark'!$B$23,\"\")","v":""},{"$nulls":14},"",{"$nulls":8},0,"","","objektnogle_"]
[694,null,{"$f":"IF('1 - Opstart Importark'!$B$6=\"\",\"\",(IF('1 - Opstart Importark'!$B$15=\"\",CONCATENATE(LEFT('1 - Opstart Importark'!$B$3,1),(LEFT('1 - Opstart Importark'!$B$20,5)),MID('1 - Opstart Importark'!$B$20,5,2),LEFT('1 - Opstart Importark'!$B$28,3),IF(I706=\"\",\"\",\"-\"),I706,IF(K706=\"\",\"\",\"-\"),K706,IF(M706=\"\",\"\",\"-\"),M706),CONCATENATE(LEFT('1 - Opstart Importark'!$B$3,1),(LEFT('1 - Opstart Importark'!$B$15,5)),(LEFT('1 - Opstart Importark'!$B$18,3)),IF(I706=\"\",\"\",\"-\"),I706,IF(K706=\"\",\"\",\"-\"),K706,IF(M706=\"\",\"\",\"-\"),M706))))","v":""},null," ",{"$nulls":9},{"$f":"IF(LEN('1 - Opstart Importark'!$B$6)>0,'1 - Opstart Importark'!$B$6,\"\")","v":""},{"$f":"IF(LEN('1 - Opstart Importark'!$B$9)>0,'1 - Opstart Importark'!$B$9,\"\")","v":""},{"$f":"IF(LEN('1 - Opstart Importark'!$B$23)>0,'1 - Opstart Importark'!$B$23,\"\")","v":""},{"$nulls":14},"",{"$nulls":8},0,"","","objektnogle_"]
[695,null,{"$f":"IF('1 - Opstart Importark'!$B$6=\"\",\"\",(IF('1 - Opstart Importark'!$B$15=\"\",CONCATENATE(LEFT('1 - Opstart Importark'!$B$3,1),(LEFT('1 - Opstart Importark'!$B$20,5)),MID('1 - Opstart Importark'!$B$20,5,2),LEFT('1 - Opstart Importark'!$B$28,3),IF(I707=\"\",\"\",\"-\"),I707,IF(K707=\"\",\"\",\"-\"),K707,IF(M707=\"\",\"\",\"-\"),M707),CONCATENATE(LEFT('1 - Opstart Importark'!$B$3,1),(LEFT('1 - Opstart Importark'!$B$15,5)),(LEFT('1 - Opstart Importark'!$B$18,3)),IF(I707=\"\",\"\",\"-\"),I707,IF(K707=\"\",\"\",\"-\"),K707,IF(M707=\"\",\"\",\"-\"),M707))))","v":""},null," ",{"$nulls":9},{"$f":"IF(LEN('1 - Opstart Importark'!$B$6)>0,'1 - Opstart Importark'!$B$6,\"\")","v":""},{"$f":"IF(LEN('1 - Opstart Importark'!$B$9)>0,'1 - Opstart Importark'!$B$9,\"\")","v":""},{"$f":"IF(LEN('1 - Opstart Importark'!$B$23)>0,'1 - Opstart Importark'!$B$23,\"\")","v":""},{"$nulls":14},"",{"$nulls":8},0,"","","objektnogle_"]
[696,null,{"$f":"IF('1 - Opstart Importark'!$B$6=\"\",\"\",(IF('1 - Opstart Importark'!$B$15=\"\",CONCATENATE(LEFT('1 - Opstart Importark'!$B$3,1),(LEFT('1 - Opstart Importark'!$B$20,5)),MID('1 - Opstart Importark'!$B$20,5,2),LEFT('1 - Opstart Importark'!$B$28,3),IF(I708=\"\",\"\",\"-\"),I708,IF(K708=\"\",\"\",\"-\"),K708,IF(M708=\"\",\"\",\"-\"),M708),CONCATENATE(LEFT('1 - Opstart Importark'!$B$3,1),(LEFT('1 - Opstart Importark'!$B$15,5)),(LEFT('1 - Opstart Importark'!$B$18,3)),IF(I708=\"\",\"\",\"-\"),I708,IF(K708=\"\",\"\",\"-\"),K708,IF(M708=\"\",\"\",\"-\"),M708))))","v":""},null," ",{"$nulls":9},{"$f":"IF(LEN('1 - Opstart Importark'!$B$6)>0,'1 - Opstart Importark'!$B$6,\"\")","v":""},{"$f":"IF(LEN('1 - Opstart Importark'!$B$9)>0,'1 - Opstart Importark'!$B$9,\"\")","v":""},{"$f":"IF(LEN('1 - Opstart Importark'!$B$23)>0,'1 - Opstart Importark'!$B$23,\"\")","v":""},{"$nulls":14},"",{"$nulls":8},0,"","","objektnogle_"]
[697,null,{"$f":"IF('1 - Opstart Importark'!$B$6=\"\",\"\",(IF('1 - Opstart Importark'!$B$15=\"\",CONCATENATE(LEFT('1 - Opstart Importark'!$B$3,1),(LEFT('1 - Opstart Importark'!$B$20,5)),MID('1 - Opstart Importark'!$B$20,5,2),LEFT('1 - Opstart Importark'!$B$28,3),IF(I709=\"\",\"\",\"-\"),I709,IF(K709=\"\",\"\",\"-\"),K709,IF(M709=\"\",\"\",\"-\"),M709),CONCATENATE(LEFT('1 - Opstart Importark'!$B$3,1),(LEFT('1 - Opstart Importark'!$B$15,5)),(LEFT('1 - Opstart Importark'!$B$18,3)),IF(I709=\"\",\"\",\"-\"),I709,IF(K709=\"\",\"\",\"-\"),K709,IF(M709=\"\",\"\",\"-\"),M709))))","v":""},null," ",{"$nulls":9},{"$f":"IF(LEN('1 - Opstart Importark'!$B$6)>0,'1 - Opstart Importark'!$B$6,\"\")","v":""},{"$f":"IF(LEN('1 - Opstart Importark'!$B$9)>0,'1 - Opstart Importark'!$B$9,\"\")","v":""},{"$f":"IF(LEN('1 - Opstart Importark'!$B$23)>0,'1 - Opstart Importark'!$B$23,\"\")","v":""},{"$nulls":14},"",{"$nulls":8},0,"","","objektnogle_"]
[698,null,{"$f":"IF('1 - Opstart Importark'!$B$6=\"\",\"\",(IF('1 - Opstart Importark'!$B$15=\"\",CONCATENATE(LEFT('1 - Opstart Importark'!$B$3,1),(LEFT('1 - Opstart Importark'!$B$20,5)),MID('1 - Opstart Importark'!$B$20,5,2),LEFT('1 - Opstart Importark'!$B$28,3),IF(I710=\"\",\"\",\"-\"),I710,IF(K710=\"\",\"\",\"-\"),K710,IF(M710=\"\",\"\",\"-\"),M710),CONCATENATE(LEFT('1 - Opstart Importark'!$B$3,1),(LEFT('1 - Opstart Importark'!$B$15,5)),(LEFT('1 - Opstart Importark'!$B$18,3)),IF(I710=\"\",\"\",\"-\"),I710,IF(K710=\"\",\"\",\"-\"),K710,IF(M710=\"\",\"\",\"-\"),M710))))","v":""},null," ",{"$nulls":9},{"$f":"IF(LEN('1 - Opstart Importark'!$B$6)>0,'1 - Opstart Importark'!$B$6,\"\")","v":""},{"$f":"IF(LEN('1 - Opstart Importark'!$B$9)>0,'1 - Opstart Importark'!$B$9,\"\")","v":""},{"$f":"IF(LEN('1 - Opstart Importark'!$B$23)>0,'1 - Opstart Importark'!$B$23,\"\")","v":""},{"$nulls":14},"",{"$nulls":8},0,"","","objektnogle_"]
[699,null,{"$f":"IF('1 - Opstart Importark'!$B$6=\"\",\"\",(IF('1 - Opstart Importark'!$B$15=\"\",CONCATENATE(LEFT('1 - Opstart Importark'!$B$3,1),(LEFT('1 - Opstart Importark'!$B$20,5)),MID('1 - Opstart Importark'!$B$20,5,2),LEFT('1 - Opstart Importark'!$B$28,3),IF(I711=\"\",\"\",\"-\"),I711,IF(K711=\"\",\"\",\"-\"),K711,IF(M711=\"\",\"\",\"-\"),M711),CONCATENATE(LEFT('1 - Opstart Importark'!$B$3,1),(LEFT('1 - Opstart Importark'!$B$15,5)),(LEFT('1 - Opstart Importark'!$B$18,3)),IF(I711=\"\",\"\",\"-\"),I711,IF(K711=\"\",\"\",\"-\"),K711,IF(M711=\"\",\"\",\"-\"),M711))))","v":""},null," ",{"$nulls":9},{"$f":"IF(LEN('1 - Opstart Importark'!$B$6)>0,'1 - Opstart Importark'!$B$6,\"\")","v":""},{"$f":"IF(LEN('1 - Opstart Importark'!$B$9)>0,'1 - Opstart Importark'!$B$9,\"\")","v":""},{"$f":"IF(LEN('1 - Opstart Importark'!$B$23)>0,'1 - Opstart Importark'!$B$23,\"\")","v":""},{"$nulls":14},"",{"$nulls":8},0,"","","objektnogle_"]
[700,null,{"$f":"IF('1 - Opstart Importark'!$B$6=\"\",\"\",(IF('1 - Opstart Importark'!$B$15=\"\",CONCATENATE(LEFT('1 - Opstart Importark'!$B$3,1),(LEFT('1 - Opstart Importark'!$B$20,5)),MID('1 - Opstart Importark'!$B$20,5,2),LEFT('1 - Opstart Importark'!$B$28,3),IF(I712=\"\",\"\",\"-\"),I712,IF(K712=\"\",\"\",\"-\"),K712,IF(M712=\"\",\"\",\"-\"),M712),CONCATENATE(LEFT('1 - Opstart Importark'!$B$3,1),(LEFT('1 - Opstart Importark'!$B$15,5)),(LEFT('1 - Opstart Importark'!$B$18,3)),IF(I712=\"\",\"\",\"-\"),I712,IF(K712=\"\",\"\",\"-\"),K712,IF(M712=\"\",\"\",\"-\"),M712))))","v":""},null," ",{"$nulls":9},{"$f":"IF(LEN('1 - Opstart Importark'!$B$6)>0,'1 - Opstart Importark'!$B$6,\"\")","v":""},{"$f":"IF(LEN('1 - Opstart Importark'!$B$9)>0,'1 - Opstart Importark'!$B$9,\"\")","v":""},{"$f":"IF(LEN('1 - Opstart Importark'!$B$23)>0,'1 - Opstart Importark'!$B$23,\"\")","v":""},{"$nulls":14},"",{"$nulls":8},0,"","","objektnogle_"]
[701,null,{"$f":"IF('1 - Opstart Importark'!$B$6=\"\",\"\",(IF('1 - Opstart Importark'!$B$15=\"\",CONCATENATE(LEFT('1 - Opstart Importark'!$B$3,1),(LEFT('1 - Opstart Importark'!$B$20,5)),MID('1 - Opstart Importark'!$B$20,5,2),LEFT('1 - Opstart Importark'!$B$28,3),IF(I713=\"\",\"\",\"-\"),I713,IF(K713=\"\",\"\",\"-\"),K713,IF(M713=\"\",\"\",\"-\"),M713),CONCATENATE(LEFT('1 - Opstart Importark'!$B$3,1),(LEFT('1 - Opstart Importark'!$B$15,5)),(LEFT('1 - Opstart Importark'!$B$18,3)),IF(I713=\"\",\"\",\"-\"),I713,IF(K713=\"\",\"\",\"-\"),K713,IF(M713=\"\",\"\",\"-\"),M713))))","v":""},null," ",{"$nulls":9},{"$f":"IF(LEN('1 - Opstart Importark'!$B$6)>0,'1 - Opstart Importark'!$B$6,\"\")","v":""},{"$f":"IF(LEN('1 - Opstart Importark'!$B$9)>0,'1 - Opstart Importark'!$B$9,\"\")","v":""},{"$f":"IF(LEN('1 - Opstart Importark'!$B$23)>0,'1 - Opstart Importark'!$B$23,\"\")","v":""},{"$nulls":14},"",{"$nulls":8},0,"","","objektnogle_"]
[702,null,{"$f":"IF('1 - Opstart Importark'!$B$6=\"\",\"\",(IF('1 - Opstart Importark'!$B$15=\"\",CONCATENATE(LEFT('1 - Opstart Importark'!$B$3,1),(LEFT('1 - Opstart Importark'!$B$20,5)),MID('1 - Opstart Importark'!$B$20,5,2),LEFT('1 - Opstart Importark'!$B$28,3),IF(I714=\"\",\"\",\"-\"),I714,IF(K714=\"\",\"\",\"-\"),K714,IF(M714=\"\",\"\",\"-\"),M714),CONCATENATE(LEFT('1 - Opstart Importark'!$B$3,1),(LEFT('1 - Opstart Importark'!$B$15,5)),(LEFT('1 - Opstart Importark'!$B$18,3)),IF(I714=\"\",\"\",\"-\"),I714,IF(K714=\"\",\"\",\"-\"),K714,IF(M714=\"\",\"\",\"-\"),M714))))","v":""},null," ",{"$nulls":9},{"$f":"IF(LEN('1 - Opstart Importark'!$B$6)>0,'1 - Opstart Importark'!$B$6,\"\")","v":""},{"$f":"IF(LEN('1 - Opstart Importark'!$B$9)>0,'1 - Opstart Importark'!$B$9,\"\")","v":""},{"$f":"IF(LEN('1 - Opstart Importark'!$B$23)>0,'1 - Opstart Importark'!$B$23,\"\")","v":""},{"$nulls":14},"",{"$nulls":8},0,"","","objektnogle_"]
[703,null,{"$f":"IF('1 - Opstart Importark'!$B$6=\"\",\"\",(IF('1 - Opstart Importark'!$B$15=\"\",CONCATENATE(LEFT('1 - Opstart Importark'!$B$3,1),(LEFT('1 - Opstart Importark'!$B$20,5)),MID('1 - Opstart Importark'!$B$20,5,2),LEFT('1 - Opstart Importark'!$B$28,3),IF(I715=\"\",\"\",\"-\"),I715,IF(K715=\"\",\"\",\"-\"),K715,IF(M715=\"\",\"\",\"-\"),M715),CONCATENATE(LEFT('1 - Opstart Importark'!$B$3,1),(LEFT('1 - Opstart Importark'!$B$15,5)),(LEFT('1 - Opstart Importark'!$B$18,3)),IF(I715=\"\",\"\",\"-\"),I715,IF(K715=\"\",\"\",\"-\"),K715,IF(M715=\"\",\"\",\"-\"),M715))))","v":""},null," ",{"$nulls":9},{"$f":"IF(LEN('1 - Opstart Importark'!$B$6)>0,'1 - Opstart Importark'!$B$6,\"\")","v":""},{"$f":"IF(LEN('1 - Opstart Importark'!$B$9)>0,'1 - Opstart Importark'!$B$9,\"\")","v":""},{"$f":"IF(LEN('1 - Opstart Importark'!$B$23)>0,'1 - Opstart Importark'!$B$23,\"\")","v":""},{"$nulls":14},"",{"$nulls":8},0,"","","objektnogle_"]
[704,null,{"$f":"IF('1 - Opstart Importark'!$B$6=\"\",\"\",(IF('1 - Opstart Importark'!$B$15=\"\",CONCATENATE(LEFT('1 - Opstart Importark'!$B$3,1),(LEFT('1 - Opstart Importark'!$B$20,5)),MID('1 - Opstart Importark'!$B$20,5,2),LEFT('1 - Opstart Importark'!$B$28,3),IF(I716=\"\",\"\",\"-\"),I716,IF(K716=\"\",\"\",\"-\"),K716,IF(M716=\"\",\"\",\"-\"),M716),CONCATENATE(LEFT('1 - Opstart Importark'!$B$3,1),(LEFT('1 - Opstart Importark'!$B$15,5)),(LEFT('1 - Opstart Importark'!$B$18,3)),IF(I716=\"\",\"\",\"-\"),I716,IF(K716=\"\",\"\",\"-\"),K716,IF(M716=\"\",\"\",\"-\"),M716))))","v":""},null," ",{"$nulls":9},{"$f":"IF(LEN('1 - Opstart Importark'!$B$6)>0,'1 - Opstart Importark'!$B$6,\"\")","v":""},{"$f":"IF(LEN('1 - Opstart Importark'!$B$9)>0,'1 - Opstart Importark'!$B$9,\"\")","v":""},{"$f":"IF(LEN('1 - Opstart Importark'!$B$23)>0,'1 - Opstart Importark'!$B$23,\"\")","v":""},{"$nulls":14},"",{"$nulls":8},0,"","","objektnogle_"]
[705,null,{"$f":"IF('1 - Opstart Importark'!$B$6=\"\",\"\",(IF('1 - Opstart Importark'!$B$15=\"\",CONCATENATE(LEFT('1 - Opstart Importark'!$B$3,1),(LEFT('1 - Opstart Importark'!$B$20,5)),MID('1 - Opstart Importark'!$B$20,5,2),LEFT('1 - Opstart Importark'!$B$28,3),IF(I717=\"\",\"\",\"-\"),I717,IF(K717=\"\",\"\",\"-\"),K717,IF(M717=\"\",\"\",\"-\"),M717),CONCATENATE(LEFT('1 - Opstart Importark'!$B$3,1),(LEFT('1 - Opstart Importark'!$B$15,5)),(LEFT('1 - Opstart Importark'!$B$18,3)),IF(I717=\"\",\"\",\"-\"),I717,IF(K717=\"\",\"\",\"-\"),K717,IF(M717=\"\",\"\",\"-\"),M717))))","v":""},null," ",{"$nulls":9},{"$f":"IF(LEN('1 - Opstart Importark'!$B$6)>0,'1 - Opstart Importark'!$B$6,\"\")","v":""},{"$f":"IF(LEN('1 - Opstart Importark'!$B$9)>0,'1 - Opstart Importark'!$B$9,\"\")","v":""},{"$f":"IF(LEN('1 - Opstart Importark'!$B$23)>0,'1 - Opstart Importark'!$B$23,\"\")","v":""},{"$nulls":14},{"$f":"IF(K717=\"\",\"\",VLOOKUP(LEFT(K717,1),objektfilter,2))","v":""},{"$nulls":8},{"$f":"IFERROR(FIND(\".\",F717),)","v":0},"","","objektnogle_"]
[706,null,{"$f":"IF('1 - Opstart Importark'!$B$6=\"\",\"\",(IF('1 - Opstart Importark'!$B$15=\"\",CONCATENATE(LEFT('1 - Opstart Importark'!$B$3,1),(LEFT('1 - Opstart Importark'!$B$20,5)),MID('1 - Opstart Importark'!$B$20,5,2),LEFT('1 - Opstart Importark'!$B$28,3),IF(I718=\"\",\"\",\"-\"),I718,IF(K718=\"\",\"\",\"-\"),K718,IF(M718=\"\",\"\",\"-\"),M718),CONCATENATE(LEFT('1 - Opstart Importark'!$B$3,1),(LEFT('1 - Opstart Importark'!$B$15,5)),(LEFT('1 - Opstart Importark'!$B$18,3)),IF(I718=\"\",\"\",\"-\"),I718,IF(K718=\"\",\"\",\"-\"),K718,IF(M718=\"\",\"\",\"-\"),M718))))","v":""},null," ",{"$nulls":9},{"$f":"IF(LEN('1 - Opstart Importark'!$B$6)>0,'1 - Opstart Importark'!$B$6,\"\")","v":""},{"$f":"IF(LEN('1 - Opstart Importark'!$B$9)>0,'1 - Opstart Importark'!$B$9,\"\")","v":""},{"$f":"IF(LEN('1 - Opstart Importark'!$B$23)>0,'1 - Opstart Importark'!$B$23,\"\")","v":""},{"$nulls":14},"",{"$nulls":8},0,{"$f":"IF(K718=\"\",\"\",IF(LEFT(K718,1)=\"E\",0,1))","v":""},{"$f":"IF(K718=\"\",\"\",IF(LEFT(K718,1)=\"E\",0,1))","v":""},{"$f":"IF(W718=\"\", CONCATENATE(\"objektnogle_\",LEFT(AF718,1)),CONCATENATE(\"objektnogle_\",LEFT(W718,1)))","v":"objektnogle_"}]
[707,null,{"$f":"IF('1 - Opstart Importark'!$B$6=\"\",\"\",(IF('1 - Opstart Importark'!$B$15=\"\",CONCATENATE(LEFT('1 - Opstart Importark'!$B$3,1),(LEFT('1 - Opstart Importark'!$B$20,5)),MID('1 - Opstart Importark'!$B$20,5,2),LEFT('1 - Opstart Importark'!$B$28,3),IF(I719=\"\",\"\",\"-\"),I719,IF(K719=\"\",\"\",\"-\"),K719,IF(M719=\"\",\"\",\"-\"),M719),CONCATENATE(LEFT('1 - Opstart Importark'!$B$3,1),(LEFT('1 - Opstart Importark'!$B$15,5)),(LEFT('1 - Opstart Importark'!$B$18,3)),IF(I719=\"\",\"\",\"-\"),I719,IF(K719=\"\",\"\",\"-\"),K719,IF(M719=\"\",\"\",\"-\"),M719))))","v":""},null," ",{"$nulls":9},{"$f":"IF(LEN('1 - Opstart Importark'!$B$6)>0,'1 - Opstart Importark'!$B$6,\"\")","v":""},{"$f":"IF(LEN('1 - Opstart Importark'!$B$9)>0,'1 - Opstart Importark'!$B$9,\"\")","v":""},{"$f":"IF(LEN('1 - Opstart Importark'!$B$23)>0,'1 - Opstart Importark'!$B$23,\"\")","v":""},{"$nulls":14},"",{"$nulls":8},0,"","","objektnogle_"]
[708,null,{"$f":"IF('1 - Opstart Importark'!$B$6=\"\",\"\",(IF('1 - Opstart Importark'!$B$15=\"\",CONCATENATE(LEFT('1 - Opstart Importark'!$B$3,1),(LEFT('1 - Opstart Importark'!$B$20,5)),MID('1 - Opstart Importark'!$B$20,5,2),LEFT('1 - Opstart Importark'!$B$28,3),IF(I720=\"\",\"\",\"-\"),I720,IF(K720=\"\",\"\",\"-\"),K720,IF(M720=\"\",\"\",\"-\"),M720),CONCATENATE(LEFT('1 - Opstart Importark'!$B$3,1),(LEFT('1 - Opstart Importark'!$B$15,5)),(LEFT('1 - Opstart Importark'!$B$18,3)),IF(I720=\"\",\"\",\"-\"),I720,IF(K720=\"\",\"\",\"-\"),K720,IF(M720=\"\",\"\",\"-\"),M720))))","v":""},null," ",{"$nulls":9},{"$f":"IF(LEN('1 - Opstart Importark'!$B$6)>0,'1 - Opstart Importark'!$B$6,\"\")","v":""},{"$f":"IF(LEN('1 - Opstart Importark'!$B$9)>0,'1 - Opstart Importark'!$B$9,\"\")","v":""},{"$f":"IF(LEN('1 - Opstart Importark'!$B$23)>0,'1 - Opstart Importark'!$B$23,\"\")","v":""},{"$nulls":14},"",{"$nulls":8},0,"","","objektnogle_"]
[709,null,{"$f":"IF('1 - Opstart Importark'!$B$6=\"\",\"\",(IF('1 - Opstart Importark'!$B$15=\"\",CONCATENATE(LEFT('1 - Opstart Importark'!$B$3,1),(LEFT('1 - Opstart Importark'!$B$20,5)),MID('1 - Opstart Importark'!$B$20,5,2),LEFT('1 - Opstart Importark'!$B$28,3),IF(I721=\"\",\"\",\"-\"),I721,IF(K721=\"\",\"\",\"-\"),K721,IF(M721=\"\",\"\",\"-\"),M721),CONCATENATE(LEFT('1 - Opstart Importark'!$B$3,1),(LEFT('1 - Opstart Importark'!$B$15,5)),(LEFT('1 - Opstart Importark'!$B$18,3)),IF(I721=\"\",\"\",\"-\"),I721,IF(K721=\"\",\"\",\"-\"),K721,IF(M721=\"\",\"\",\"-\"),M721))))","v":""},null," ",{"$nulls":9},{"$f":"IF(LEN('1 - Opstart Importark'!$B$6)>0,'1 - Opstart Importark'!$B$6,\"\")","v":""},{"$f":"IF(LEN('1 - Opstart Importark'!$B$9)>0,'1 - Opstart Importark'!$B$9,\"\")","v":""},{"$f":"IF(LEN('1 - Opstart Importark'!$B$23)>0,'1 - Opstart Importark'!$B$23,\"\")","v":""},{"$nulls":14},"",{"$nulls":8},0,"","","objektnogle_"]
[710,null,{"$f":"IF('1 - Opstart Importark'!$B$6=\"\",\"\",(IF('1 - Opstart Importark'!$B$15=\"\",CONCATENATE(LEFT('1 - Opstart Importark'!$B$3,1),(LEFT('1 - Opstart Importark'!$B$20,5)),MID('1 - Opstart Importark'!$B$20,5,2),LEFT('1 - Opstart Importark'!$B$28,3),IF(I722=\"\",\"\",\"-\"),I722,IF(K722=\"\",\"\",\"-\"),K722,IF(M722=\"\",\"\",\"-\"),M722),CONCATENATE(LEFT('1 - Opstart Importark'!$B$3,1),(LEFT('1 - Opstart Importark'!$B$15,5)),(LEFT('1 - Opstart Importark'!$B$18,3)),IF(I722=\"\",\"\",\"-\"),I722,IF(K722=\"\",\"\",\"-\"),K722,IF(M722=\"\",\"\",\"-\"),M722))))","v":""},null," ",{"$nulls":9},{"$f":"IF(LEN('1 - Opstart Importark'!$B$6)>0,'1 - Opstart Importark'!$B$6,\"\")","v":""},{"$f":"IF(LEN('1 - Opstart Importark'!$B$9)>0,'1 - Opstart Importark'!$B$9,\"\")","v":""},{"$f":"IF(LEN('1 - Opstart Importark'!$B$23)>0,'1 - Opstart Importark'!$B$23,\"\")","v":""},{"$nulls":14},"",{"$nulls":8},0,"","","objektnogle_"]
[711,null,{"$f":"IF('1 - Opstart Importark'!$B$6=\"\",\"\",(IF('1 - Opstart Importark'!$B$15=\"\",CONCATENATE(LEFT('1 - Opstart Importark'!$B$3,1),(LEFT('1 - Opstart Importark'!$B$20,5)),MID('1 - Opstart Importark'!$B$20,5,2),LEFT('1 - Opstart Importark'!$B$28,3),IF(I723=\"\",\"\",\"-\"),I723,IF(K723=\"\",\"\",\"-\"),K723,IF(M723=\"\",\"\",\"-\"),M723),CONCATENATE(LEFT('1 - Opstart Importark'!$B$3,1),(LEFT('1 - Opstart Importark'!$B$15,5)),(LEFT('1 - Opstart Importark'!$B$18,3)),IF(I723=\"\",\"\",\"-\"),I723,IF(K723=\"\",\"\",\"-\"),K723,IF(M723=\"\",\"\",\"-\"),M723))))","v":""},null," ",{"$nulls":9},{"$f":"IF(LEN('1 - Opstart Importark'!$B$6)>0,'1 - Opstart Importark'!$B$6,\"\")","v":""},{"$f":"IF(LEN('1 - Opstart Importark'!$B$9)>0,'1 - Opstart Importark'!$B$9,\"\")","v":""},{"$f":"IF(LEN('1 - Opstart Importark'!$B$23)>0,'1 - Opstart Importark'!$B$23,\"\")","v":""},{"$nulls":14},"",{"$nulls":8},0,"","","objektnogle_"]
[712,null,{"$f":"IF('1 - Opstart Importark'!$B$6=\"\",\"\",(IF('1 - Opstart Importark'!$B$15=\"\",CONCATENATE(LEFT('1 - Opstart Importark'!$B$3,1),(LEFT('1 - Opstart Importark'!$B$20,5)),MID('1 - Opstart Importark'!$B$20,5,2),LEFT('1 - Opstart Importark'!$B$28,3),IF(I724=\"\",\"\",\"-\"),I724,IF(K724=\"\",\"\",\"-\"),K724,IF(M724=\"\",\"\",\"-\"),M724),CONCATENATE(LEFT('1 - Opstart Importark'!$B$3,1),(LEFT('1 - Opstart Importark'!$B$15,5)),(LEFT('1 - Opstart Importark'!$B$18,3)),IF(I724=\"\",\"\",\"-\"),I724,IF(K724=\"\",\"\",\"-\"),K724,IF(M724=\"\",\"\",\"-\"),M724))))","v":""},null," ",{"$nulls":9},{"$f":"IF(LEN('1 - Opstart Importark'!$B$6)>0,'1 - Opstart Importark'!$B$6,\"\")","v":""},{"$f":"IF(LEN('1 - Opstart Importark'!$B$9)>0,'1 - Opstart Importark'!$B$9,\"\")","v":""},{"$f":"IF(LEN('1 - Opstart Importark'!$B$23)>0,'1 - Opstart Importark'!$B$23,\"\")","v":""},{"$nulls":14},"",{"$nulls":8},0,"","","objektnogle_"]
[713,null,{"$f":"IF('1 - Opstart Importark'!$B$6=\"\",\"\",(IF('1 - Opstart Importark'!$B$15=\"\",CONCATENATE(LEFT('1 - Opstart Importark'!$B$3,1),(LEFT('1 - Opstart Importark'!$B$20,5)),MID('1 - Opstart Importark'!$B$20,5,2),LEFT('1 - Opstart Importark'!$B$28,3),IF(I725=\"\",\"\",\"-\"),I725,IF(K725=\"\",\"\",\"-\"),K725,IF(M725=\"\",\"\",\"-\"),M725),CONCATENATE(LEFT('1 - Opstart Importark'!$B$3,1),(LEFT('1 - Opstart Importark'!$B$15,5)),(LEFT('1 - Opstart Importark'!$B$18,3)),IF(I725=\"\",\"\",\"-\"),I725,IF(K725=\"\",\"\",\"-\"),K725,IF(M725=\"\",\"\",\"-\"),M725))))","v":""},null," ",{"$nulls":9},{"$f":"IF(LEN('1 - Opstart Importark'!$B$6)>0,'1 - Opstart Importark'!$B$6,\"\")","v":""},{"$f":"IF(LEN('1 - Opstart Importark'!$B$9)>0,'1 - Opstart Importark'!$B$9,\"\")","v":""},{"$f":"IF(LEN('1 - Opstart Importark'!$B$23)>0,'1 - Opstart Importark'!$B$23,\"\")","v":""},{"$nulls":14},"",{"$nulls":8},0,"","","objektnogle_"]
[714,null,{"$f":"IF('1 - Opstart Importark'!$B$6=\"\",\"\",(IF('1 - Opstart Importark'!$B$15=\"\",CONCATENATE(LEFT('1 - Opstart Importark'!$B$3,1),(LEFT('1 - Opstart Importark'!$B$20,5)),MID('1 - Opstart Importark'!$B$20,5,2),LEFT('1 - Opstart Importark'!$B$28,3),IF(I726=\"\",\"\",\"-\"),I726,IF(K726=\"\",\"\",\"-\"),K726,IF(M726=\"\",\"\",\"-\"),M726),CONCATENATE(LEFT('1 - Opstart Importark'!$B$3,1),(LEFT('1 - Opstart Importark'!$B$15,5)),(LEFT('1 - Opstart Importark'!$B$18,3)),IF(I726=\"\",\"\",\"-\"),I726,IF(K726=\"\",\"\",\"-\"),K726,IF(M726=\"\",\"\",\"-\"),M726))))","v":""},null," ",{"$nulls":9},{"$f":"IF(LEN('1 - Opstart Importark'!$B$6)>0,'1 - Opstart Importark'!$B$6,\"\")","v":""},{"$f":"IF(LEN('1 - Opstart Importark'!$B$9)>0,'1 - Opstart Importark'!$B$9,\"\")","v":""},{"$f":"IF(LEN('1 - Opstart Importark'!$B$23)>0,'1 - Opstart Importark'!$B$23,\"\")","v":""},{"$nulls":14},"",{"$nulls":8},0,"","","objektnogle_"]
[715,null,{"$f":"IF('1 - Opstart Importark'!$B$6=\"\",\"\",(IF('1 - Opstart Importark'!$B$15=\"\",CONCATENATE(LEFT('1 - Opstart Importark'!$B$3,1),(LEFT('1 - Opstart Importark'!$B$20,5)),MID('1 - Opstart Importark'!$B$20,5,2),LEFT('1 - Opstart Importark'!$B$28,3),IF(I727=\"\",\"\",\"-\"),I727,IF(K727=\"\",\"\",\"-\"),K727,IF(M727=\"\",\"\",\"-\"),M727),CONCATENATE(LEFT('1 - Opstart Importark'!$B$3,1),(LEFT('1 - Opstart Importark'!$B$15,5)),(LEFT('1 - Opstart Importark'!$B$18,3)),IF(I727=\"\",\"\",\"-\"),I727,IF(K727=\"\",\"\",\"-\"),K727,IF(M727=\"\",\"\",\"-\"),M727))))","v":""},null," ",{"$nulls":9},{"$f":"IF(LEN('1 - Opstart Importark'!$B$6)>0,'1 - Opstart Importark'!$B$6,\"\")","v":""},{"$f":"IF(LEN('1 - Opstart Importark'!$B$9)>0,'1 - Opstart Importark'!$B$9,\"\")","v":""},{"$f":"IF(LEN('1 - Opstart Importark'!$B$23)>0,'1 - Opstart Importark'!$B$23,\"\")","v":""},{"$nulls":14},"",{"$nulls":8},0,"","","objektnogle_"]
[716,null,{"$f":"IF('1 - Opstart Importark'!$B$6=\"\",\"\",(IF('1 - Opstart Importark'!$B$15=\"\",CONCATENATE(LEFT('1 - Opstart Importark'!$B$3,1),(LEFT('1 - Opstart Importark'!$B$20,5)),MID('1 - Opstart Importark'!$B$20,5,2),LEFT('1 - Opstart Importark'!$B$28,3),IF(I728=\"\",\"\",\"-\"),I728,IF(K728=\"\",\"\",\"-\"),K728,IF(M728=\"\",\"\",\"-\"),M728),CONCATENATE(LEFT('1 - Opstart Importark'!$B$3,1),(LEFT('1 - Opstart Importark'!$B$15,5)),(LEFT('1 - Opstart Importark'!$B$18,3)),IF(I728=\"\",\"\",\"-\"),I728,IF(K728=\"\",\"\",\"-\"),K728,IF(M728=\"\",\"\",\"-\"),M728))))","v":""},null," ",{"$nulls":9},{"$f":"IF(LEN('1 - Opstart Importark'!$B$6)>0,'1 - Opstart Importark'!$B$6,\"\")","v":""},{"$f":"IF(LEN('1 - Opstart Importark'!$B$9)>0,'1 - Opstart Importark'!$B$9,\"\")","v":""},{"$f":"IF(LEN('1 - Opstart Importark'!$B$23)>0,'1 - Opstart Importark'!$B$23,\"\")","v":""},{"$nulls":14},"",{"$nulls":8},0,"","","objektnogle_"]
[717,null,{"$f":"IF('1 - Opstart Importark'!$B$6=\"\",\"\",(IF('1 - Opstart Importark'!$B$15=\"\",CONCATENATE(LEFT('1 - Opstart Importark'!$B$3,1),(LEFT('1 - Opstart Importark'!$B$20,5)),MID('1 - Opstart Importark'!$B$20,5,2),LEFT('1 - Opstart Importark'!$B$28,3),IF(I729=\"\",\"\",\"-\"),I729,IF(K729=\"\",\"\",\"-\"),K729,IF(M729=\"\",\"\",\"-\"),M729),CONCATENATE(LEFT('1 - Opstart Importark'!$B$3,1),(LEFT('1 - Opstart Importark'!$B$15,5)),(LEFT('1 - Opstart Importark'!$B$18,3)),IF(I729=\"\",\"\",\"-\"),I729,IF(K729=\"\",\"\",\"-\"),K729,IF(M729=\"\",\"\",\"-\"),M729))))","v":""},null," ",{"$nulls":9},{"$f":"IF(LEN('1 - Opstart Importark'!$B$6)>0,'1 - Opstart Importark'!$B$6,\"\")","v":""},{"$f":"IF(LEN('1 - Opstart Importark'!$B$9)>0,'1 - Opstart Importark'!$B$9,\"\")","v":""},{"$f":"IF(LEN('1 - Opstart Importark'!$B$23)>0,'1 - Opstart Importark'!$B$23,\"\")","v":""},{"$nulls":14},"",{"$nulls":8},0,"","","objektnogle_"]
[718,null,{"$f":"IF('1 - Opstart Importark'!$B$6=\"\",\"\",(IF('1 - Opstart Importark'!$B$15=\"\",CONCATENATE(LEFT('1 - Opstart Importark'!$B$3,1),(LEFT('1 - Opstart Importark'!$B$20,5)),MID('1 - Opstart Importark'!$B$20,5,2),LEFT('1 - Opstart Importark'!$B$28,3),IF(I730=\"\",\"\",\"-\"),I730,IF(K730=\"\",\"\",\"-\"),K730,IF(M730=\"\",\"\",\"-\"),M730),CONCATENATE(LEFT('1 - Opstart Importark'!$B$3,1),(LEFT('1 - Opstart Importark'!$B$15,5)),(LEFT('1 - Opstart Importark'!$B$18,3)),IF(I730=\"\",\"\",\"-\"),I730,IF(K730=\"\",\"\",\"-\"),K730,IF(M730=\"\",\"\",\"-\"),M730))))","v":""},null," ",{"$nulls":9},{"$f":"IF(LEN('1 - Opstart Importark'!$B$6)>0,'1 - Opstart Importark'!$B$6,\"\")","v":""},{"$f":"IF(LEN('1 - Opstart Importark'!$B$9)>0,'1 - Opstart Importark'!$B$9,\"\")","v":""},{"$f":"IF(LEN('1 - Opstart Importark'!$B$23)>0,'1 - Opstart Importark'!$B$23,\"\")","v":""},{"$nulls":14},"",{"$nulls":8},0,"","","objektnogle_"]
[719,null,{"$f":"IF('1 - Opstart Importark'!$B$6=\"\",\"\",(IF('1 - Opstart Importark'!$B$15=\"\",CONCATENATE(LEFT('1 - Opstart Importark'!$B$3,1),(LEFT('1 - Opstart Importark'!$B$20,5)),MID('1 - Opstart Importark'!$B$20,5,2),LEFT('1 - Opstart Importark'!$B$28,3),IF(I731=\"\",\"\",\"-\"),I731,IF(K731=\"\",\"\",\"-\"),K731,IF(M731=\"\",\"\",\"-\"),M731),CONCATENATE(LEFT('1 - Opstart Importark'!$B$3,1),(LEFT('1 - Opstart Importark'!$B$15,5)),(LEFT('1 - Opstart Importark'!$B$18,3)),IF(I731=\"\",\"\",\"-\"),I731,IF(K731=\"\",\"\",\"-\"),K731,IF(M731=\"\",\"\",\"-\"),M731))))","v":""},null," ",{"$nulls":9},{"$f":"IF(LEN('1 - Opstart Importark'!$B$6)>0,'1 - Opstart Importark'!$B$6,\"\")","v":""},{"$f":"IF(LEN('1 - Opstart Importark'!$B$9)>0,'1 - Opstart Importark'!$B$9,\"\")","v":""},{"$f":"IF(LEN('1 - Opstart Importark'!$B$23)>0,'1 - Opstart Importark'!$B$23,\"\")","v":""},{"$nulls":14},"",{"$nulls":8},0,"","","objektnogle_"]
[720,null,{"$f":"IF('1 - Opstart Importark'!$B$6=\"\",\"\",(IF('1 - Opstart Importark'!$B$15=\"\",CONCATENATE(LEFT('1 - Opstart Importark'!$B$3,1),(LEFT('1 - Opstart Importark'!$B$20,5)),MID('1 - Opstart Importark'!$B$20,5,2),LEFT('1 - Opstart Importark'!$B$28,3),IF(I732=\"\",\"\",\"-\"),I732,IF(K732=\"\",\"\",\"-\"),K732,IF(M732=\"\",\"\",\"-\"),M732),CONCATENATE(LEFT('1 - Opstart Importark'!$B$3,1),(LEFT('1 - Opstart Importark'!$B$15,5)),(LEFT('1 - Opstart Importark'!$B$18,3)),IF(I732=\"\",\"\",\"-\"),I732,IF(K732=\"\",\"\",\"-\"),K732,IF(M732=\"\",\"\",\"-\"),M732))))","v":""},null," ",{"$nulls":9},{"$f":"IF(LEN('1 - Opstart Importark'!$B$6)>0,'1 - Opstart Importark'!$B$6,\"\")","v":""},{"$f":"IF(LEN('1 - Opstart Importark'!$B$9)>0,'1 - Opstart Importark'!$B$9,\"\")","v":""},{"$f":"IF(LEN('1 - Opstart Importark'!$B$23)>0,'1 - Opstart Importark'!$B$23,\"\")","v":""},{"$nulls":14},"",{"$nulls":8},0,"","","objektnogle_"]
[721,null,{"$f":"IF('1 - Opstart Importark'!$B$6=\"\",\"\",(IF('1 - Opstart Importark'!$B$15=\"\",CONCATENATE(LEFT('1 - Opstart Importark'!$B$3,1),(LEFT('1 - Opstart Importark'!$B$20,5)),MID('1 - Opstart Importark'!$B$20,5,2),LEFT('1 - Opstart Importark'!$B$28,3),IF(I733=\"\",\"\",\"-\"),I733,IF(K733=\"\",\"\",\"-\"),K733,IF(M733=\"\",\"\",\"-\"),M733),CONCATENATE(LEFT('1 - Opstart Importark'!$B$3,1),(LEFT('1 - Opstart Importark'!$B$15,5)),(LEFT('1 - Opstart Importark'!$B$18,3)),IF(I733=\"\",\"\",\"-\"),I733,IF(K733=\"\",\"\",\"-\"),K733,IF(M733=\"\",\"\",\"-\"),M733))))","v":""},null," ",{"$nulls":9},{"$f":"IF(LEN('1 - Opstart Importark'!$B$6)>0,'1 - Opstart Importark'!$B$6,\"\")","v":""},{"$f":"IF(LEN('1 - Opstart Importark'!$B$9)>0,'1 - Opstart Importark'!$B$9,\"\")","v":""},{"$f":"IF(LEN('1 - Opstart Importark'!$B$23)>0,'1 - Opstart Importark'!$B$23,\"\")","v":""},{"$nulls":14},"",{"$nulls":8},0,"","","objektnogle_"]
[722,null,{"$f":"IF('1 - Opstart Importark'!$B$6=\"\",\"\",(IF('1 - Opstart Importark'!$B$15=\"\",CONCATENATE(LEFT('1 - Opstart Importark'!$B$3,1),(LEFT('1 - Opstart Importark'!$B$20,5)),MID('1 - Opstart Importark'!$B$20,5,2),LEFT('1 - Opstart Importark'!$B$28,3),IF(I734=\"\",\"\",\"-\"),I734,IF(K734=\"\",\"\",\"-\"),K734,IF(M734=\"\",\"\",\"-\"),M734),CONCATENATE(LEFT('1 - Opstart Importark'!$B$3,1),(LEFT('1 - Opstart Importark'!$B$15,5)),(LEFT('1 - Opstart Importark'!$B$18,3)),IF(I734=\"\",\"\",\"-\"),I734,IF(K734=\"\",\"\",\"-\"),K734,IF(M734=\"\",\"\",\"-\"),M734))))","v":""},null," ",{"$nulls":9},{"$f":"IF(LEN('1 - Opstart Importark'!$B$6)>0,'1 - Opstart Importark'!$B$6,\"\")","v":""},{"$f":"IF(LEN('1 - Opstart Importark'!$B$9)>0,'1 - Opstart Importark'!$B$9,\"\")","v":""},{"$f":"IF(LEN('1 - Opstart Importark'!$B$23)>0,'1 - Opstart Importark'!$B$23,\"\")","v":""},{"$nulls":14},"",{"$nulls":8},0,"","","objektnogle_"]
[723,null,{"$f":"IF('1 - Opstart Importark'!$B$6=\"\",\"\",(IF('1 - Opstart Importark'!$B$15=\"\",CONCATENATE(LEFT('1 - Opstart Importark'!$B$3,1),(LEFT('1 - Opstart Importark'!$B$20,5)),MID('1 - Opstart Importark'!$B$20,5,2),LEFT('1 - Opstart Importark'!$B$28,3),IF(I735=\"\",\"\",\"-\"),I735,IF(K735=\"\",\"\",\"-\"),K735,IF(M735=\"\",\"\",\"-\"),M735),CONCATENATE(LEFT('1 - Opstart Importark'!$B$3,1),(LEFT('1 - Opstart Importark'!$B$15,5)),(LEFT('1 - Opstart Importark'!$B$18,3)),IF(I735=\"\",\"\",\"-\"),I735,IF(K735=\"\",\"\",\"-\"),K735,IF(M735=\"\",\"\",\"-\"),M735))))","v":""},null," ",{"$nulls":9},{"$f":"IF(LEN('1 - Opstart Importark'!$B$6)>0,'1 - Opstart Importark'!$B$6,\"\")","v":""},{"$f":"IF(LEN('1 - Opstart Importark'!$B$9)>0,'1 - Opstart Importark'!$B$9,\"\")","v":""},{"$f":"IF(LEN('1 - Opstart Importark'!$B$23)>0,'1 - Opstart Importark'!$B$23,\"\")","v":""},{"$nulls":14},"",{"$nulls":8},0,"","","objektnogle_"]
[724,null,{"$f":"IF('1 - Opstart Importark'!$B$6=\"\",\"\",(IF('1 - Opstart Importark'!$B$15=\"\",CONCATENATE(LEFT('1 - Opstart Importark'!$B$3,1),(LEFT('1 - Opstart Importark'!$B$20,5)),MID('1 - Opstart Importark'!$B$20,5,2),LEFT('1 - Opstart Importark'!$B$28,3),IF(I736=\"\",\"\",\"-\"),I736,IF(K736=\"\",\"\",\"-\"),K736,IF(M736=\"\",\"\",\"-\"),M736),CONCATENATE(LEFT('1 - Opstart Importark'!$B$3,1),(LEFT('1 - Opstart Importark'!$B$15,5)),(LEFT('1 - Opstart Importark'!$B$18,3)),IF(I736=\"\",\"\",\"-\"),I736,IF(K736=\"\",\"\",\"-\"),K736,IF(M736=\"\",\"\",\"-\"),M736))))","v":""},null," ",{"$nulls":9},{"$f":"IF(LEN('1 - Opstart Importark'!$B$6)>0,'1 - Opstart Importark'!$B$6,\"\")","v":""},{"$f":"IF(LEN('1 - Opstart Importark'!$B$9)>0,'1 - Opstart Importark'!$B$9,\"\")","v":""},{"$f":"IF(LEN('1 - Opstart Importark'!$B$23)>0,'1 - Opstart Importark'!$B$23,\"\")","v":""},{"$nulls":14},"",{"$nulls":8},0,"","","objektnogle_"]
[725,null,{"$f":"IF('1 - Opstart Importark'!$B$6=\"\",\"\",(IF('1 - Opstart Importark'!$B$15=\"\",CONCATENATE(LEFT('1 - Opstart Importark'!$B$3,1),(LEFT('1 - Opstart Importark'!$B$20,5)),MID('1 - Opstart Importark'!$B$20,5,2),LEFT('1 - Opstart Importark'!$B$28,3),IF(I737=\"\",\"\",\"-\"),I737,IF(K737=\"\",\"\",\"-\"),K737,IF(M737=\"\",\"\",\"-\"),M737),CONCATENATE(LEFT('1 - Opstart Importark'!$B$3,1),(LEFT('1 - Opstart Importark'!$B$15,5)),(LEFT('1 - Opstart Importark'!$B$18,3)),IF(I737=\"\",\"\",\"-\"),I737,IF(K737=\"\",\"\",\"-\"),K737,IF(M737=\"\",\"\",\"-\"),M737))))","v":""},null," ",{"$nulls":9},{"$f":"IF(LEN('1 - Opstart Importark'!$B$6)>0,'1 - Opstart Importark'!$B$6,\"\")","v":""},{"$f":"IF(LEN('1 - Opstart Importark'!$B$9)>0,'1 - Opstart Importark'!$B$9,\"\")","v":""},{"$f":"IF(LEN('1 - Opstart Importark'!$B$23)>0,'1 - Opstart Importark'!$B$23,\"\")","v":""},{"$nulls":14},"",{"$nulls":8},0,"","","objektnogle_"]
[726,null,{"$f":"IF('1 - Opstart Importark'!$B$6=\"\",\"\",(IF('1 - Opstart Importark'!$B$15=\"\",CONCATENATE(LEFT('1 - Opstart Importark'!$B$3,1),(LEFT('1 - Opstart Importark'!$B$20,5)),MID('1 - Opstart Importark'!$B$20,5,2),LEFT('1 - Opstart Importark'!$B$28,3),IF(I738=\"\",\"\",\"-\"),I738,IF(K738=\"\",\"\",\"-\"),K738,IF(M738=\"\",\"\",\"-\"),M738),CONCATENATE(LEFT('1 - Opstart Importark'!$B$3,1),(LEFT('1 - Opstart Importark'!$B$15,5)),(LEFT('1 - Opstart Importark'!$B$18,3)),IF(I738=\"\",\"\",\"-\"),I738,IF(K738=\"\",\"\",\"-\"),K738,IF(M738=\"\",\"\",\"-\"),M738))))","v":""},null," ",{"$nulls":9},{"$f":"IF(LEN('1 - Opstart Importark'!$B$6)>0,'1 - Opstart Importark'!$B$6,\"\")","v":""},{"$f":"IF(LEN('1 - Opstart Importark'!$B$9)>0,'1 - Opstart Importark'!$B$9,\"\")","v":""},{"$f":"IF(LEN('1 - Opstart Importark'!$B$23)>0,'1 - Opstart Importark'!$B$23,\"\")","v":""},{"$nulls":14},"",{"$nulls":8},0,"","","objektnogle_"]
[727,null,{"$f":"IF('1 - Opstart Importark'!$B$6=\"\",\"\",(IF('1 - Opstart Importark'!$B$15=\"\",CONCATENATE(LEFT('1 - Opstart Importark'!$B$3,1),(LEFT('1 - Opstart Importark'!$B$20,5)),MID('1 - Opstart Importark'!$B$20,5,2),LEFT('1 - Opstart Importark'!$B$28,3),IF(I739=\"\",\"\",\"-\"),I739,IF(K739=\"\",\"\",\"-\"),K739,IF(M739=\"\",\"\",\"-\"),M739),CONCATENATE(LEFT('1 - Opstart Importark'!$B$3,1),(LEFT('1 - Opstart Importark'!$B$15,5)),(LEFT('1 - Opstart Importark'!$B$18,3)),IF(I739=\"\",\"\",\"-\"),I739,IF(K739=\"\",\"\",\"-\"),K739,IF(M739=\"\",\"\",\"-\"),M739))))","v":""},null," ",{"$nulls":9},{"$f":"IF(LEN('1 - Opstart Importark'!$B$6)>0,'1 - Opstart Importark'!$B$6,\"\")","v":""},{"$f":"IF(LEN('1 - Opstart Importark'!$B$9)>0,'1 - Opstart Importark'!$B$9,\"\")","v":""},{"$f":"IF(LEN('1 - Opstart Importark'!$B$23)>0,'1 - Opstart Importark'!$B$23,\"\")","v":""},{"$nulls":14},"",{"$nulls":8},0,"","","objektnogle_"]
[728,null,{"$f":"IF('1 - Opstart Importark'!$B$6=\"\",\"\",(IF('1 - Opstart Importark'!$B$15=\"\",CONCATENATE(LEFT('1 - Opstart Importark'!$B$3,1),(LEFT('1 - Opstart Importark'!$B$20,5)),MID('1 - Opstart Importark'!$B$20,5,2),LEFT('1 - Opstart Importark'!$B$28,3),IF(I740=\"\",\"\",\"-\"),I740,IF(K740=\"\",\"\",\"-\"),K740,IF(M740=\"\",\"\",\"-\"),M740),CONCATENATE(LEFT('1 - Opstart Importark'!$B$3,1),(LEFT('1 - Opstart Importark'!$B$15,5)),(LEFT('1 - Opstart Importark'!$B$18,3)),IF(I740=\"\",\"\",\"-\"),I740,IF(K740=\"\",\"\",\"-\"),K740,IF(M740=\"\",\"\",\"-\"),M740))))","v":""},null," ",{"$nulls":9},{"$f":"IF(LEN('1 - Opstart Importark'!$B$6)>0,'1 - Opstart Importark'!$B$6,\"\")","v":""},{"$f":"IF(LEN('1 - Opstart Importark'!$B$9)>0,'1 - Opstart Importark'!$B$9,\"\")","v":""},{"$f":"IF(LEN('1 - Opstart Importark'!$B$23)>0,'1 - Opstart Importark'!$B$23,\"\")","v":""},{"$nulls":14},"",{"$nulls":8},0,"","","objektnogle_"]
[729,null,{"$f":"IF('1 - Opstart Importark'!$B$6=\"\",\"\",(IF('1 - Opstart Importark'!$B$15=\"\",CONCATENATE(LEFT('1 - Opstart Importark'!$B$3,1),(LEFT('1 - Opstart Importark'!$B$20,5)),MID('1 - Opstart Importark'!$B$20,5,2),LEFT('1 - Opstart Importark'!$B$28,3),IF(I741=\"\",\"\",\"-\"),I741,IF(K741=\"\",\"\",\"-\"),K741,IF(M741=\"\",\"\",\"-\"),M741),CONCATENATE(LEFT('1 - Opstart Importark'!$B$3,1),(LEFT('1 - Opstart Importark'!$B$15,5)),(LEFT('1 - Opstart Importark'!$B$18,3)),IF(I741=\"\",\"\",\"-\"),I741,IF(K741=\"\",\"\",\"-\"),K741,IF(M741=\"\",\"\",\"-\"),M741))))","v":""},null," ",{"$nulls":9},{"$f":"IF(LEN('1 - Opstart Importark'!$B$6)>0,'1 - Opstart Importark'!$B$6,\"\")","v":""},{"$f":"IF(LEN('1 - Opstart Importark'!$B$9)>0,'1 - Opstart Importark'!$B$9,\"\")","v":""},{"$f":"IF(LEN('1 - Opstart Importark'!$B$23)>0,'1 - Opstart Importark'!$B$23,\"\")","v":""},{"$nulls":14},"",{"$nulls":8},0,"","","objektnogle_"]
[730,null,{"$f":"IF('1 - Opstart Importark'!$B$6=\"\",\"\",(IF('1 - Opstart Importark'!$B$15=\"\",CONCATENATE(LEFT('1 - Opstart Importark'!$B$3,1),(LEFT('1 - Opstart Importark'!$B$20,5)),MID('1 - Opstart Importark'!$B$20,5,2),LEFT('1 - Opstart Importark'!$B$28,3),IF(I742=\"\",\"\",\"-\"),I742,IF(K742=\"\",\"\",\"-\"),K742,IF(M742=\"\",\"\",\"-\"),M742),CONCATENATE(LEFT('1 - Opstart Importark'!$B$3,1),(LEFT('1 - Opstart Importark'!$B$15,5)),(LEFT('1 - Opstart Importark'!$B$18,3)),IF(I742=\"\",\"\",\"-\"),I742,IF(K742=\"\",\"\",\"-\"),K742,IF(M742=\"\",\"\",\"-\"),M742))))","v":""},null," ",{"$nulls":9},{"$f":"IF(LEN('1 - Opstart Importark'!$B$6)>0,'1 - Opstart Importark'!$B$6,\"\")","v":""},{"$f":"IF(LEN('1 - Opstart Importark'!$B$9)>0,'1 - Opstart Importark'!$B$9,\"\")","v":""},{"$f":"IF(LEN('1 - Opstart Importark'!$B$23)>0,'1 - Opstart Importark'!$B$23,\"\")","v":""},{"$nulls":14},"",{"$nulls":8},0,"","","objektnogle_"]
[731,null,{"$f":"IF('1 - Opstart Importark'!$B$6=\"\",\"\",(IF('1 - Opstart Importark'!$B$15=\"\",CONCATENATE(LEFT('1 - Opstart Importark'!$B$3,1),(LEFT('1 - Opstart Importark'!$B$20,5)),MID('1 - Opstart Importark'!$B$20,5,2),LEFT('1 - Opstart Importark'!$B$28,3),IF(I743=\"\",\"\",\"-\"),I743,IF(K743=\"\",\"\",\"-\"),K743,IF(M743=\"\",\"\",\"-\"),M743),CONCATENATE(LEFT('1 - Opstart Importark'!$B$3,1),(LEFT('1 - Opstart Importark'!$B$15,5)),(LEFT('1 - Opstart Importark'!$B$18,3)),IF(I743=\"\",\"\",\"-\"),I743,IF(K743=\"\",\"\",\"-\"),K743,IF(M743=\"\",\"\",\"-\"),M743))))","v":""},null," ",{"$nulls":9},{"$f":"IF(LEN('1 - Opstart Importark'!$B$6)>0,'1 - Opstart Importark'!$B$6,\"\")","v":""},{"$f":"IF(LEN('1 - Opstart Importark'!$B$9)>0,'1 - Opstart Importark'!$B$9,\"\")","v":""},{"$f":"IF(LEN('1 - Opstart Importark'!$B$23)>0,'1 - Opstart Importark'!$B$23,\"\")","v":""},{"$nulls":14},"",{"$nulls":8},0,"","","objektnogle_"]
[732,null,{"$f":"IF('1 - Opstart Importark'!$B$6=\"\",\"\",(IF('1 - Opstart Importark'!$B$15=\"\",CONCATENATE(LEFT('1 - Opstart Importark'!$B$3,1),(LEFT('1 - Opstart Importark'!$B$20,5)),MID('1 - Opstart Importark'!$B$20,5,2),LEFT('1 - Opstart Importark'!$B$28,3),IF(I744=\"\",\"\",\"-\"),I744,IF(K744=\"\",\"\",\"-\"),K744,IF(M744=\"\",\"\",\"-\"),M744),CONCATENATE(LEFT('1 - Opstart Importark'!$B$3,1),(LEFT('1 - Opstart Importark'!$B$15,5)),(LEFT('1 - Opstart Importark'!$B$18,3)),IF(I744=\"\",\"\",\"-\"),I744,IF(K744=\"\",\"\",\"-\"),K744,IF(M744=\"\",\"\",\"-\"),M744))))","v":""},null," ",{"$nulls":9},{"$f":"IF(LEN('1 - Opstart Importark'!$B$6)>0,'1 - Opstart Importark'!$B$6,\"\")","v":""},{"$f":"IF(LEN('1 - Opstart Importark'!$B$9)>0,'1 - Opstart Importark'!$B$9,\"\")","v":""},{"$f":"IF(LEN('1 - Opstart Importark'!$B$23)>0,'1 - Opstart Importark'!$B$23,\"\")","v":""},{"$nulls":14},"",{"$nulls":8},0,"","","objektnogle_"]
[733,null,{"$f":"IF('1 - Opstart Importark'!$B$6=\"\",\"\",(IF('1 - Opstart Importark'!$B$15=\"\",CONCATENATE(LEFT('1 - Opstart Importark'!$B$3,1),(LEFT('1 - Opstart Importark'!$B$20,5)),MID('1 - Opstart Importark'!$B$20,5,2),LEFT('1 - Opstart Importark'!$B$28,3),IF(I745=\"\",\"\",\"-\"),I745,IF(K745=\"\",\"\",\"-\"),K745,IF(M745=\"\",\"\",\"-\"),M745),CONCATENATE(LEFT('1 - Opstart Importark'!$B$3,1),(LEFT('1 - Opstart Importark'!$B$15,5)),(LEFT('1 - Opstart Importark'!$B$18,3)),IF(I745=\"\",\"\",\"-\"),I745,IF(K745=\"\",\"\",\"-\"),K745,IF(M745=\"\",\"\",\"-\"),M745))))","v":""},null," ",{"$nulls":9},{"$f":"IF(LEN('1 - Opstart Importark'!$B$6)>0,'1 - Opstart Importark'!$B$6,\"\")","v":""},{"$f":"IF(LEN('1 - Opstart Importark'!$B$9)>0,'1 - Opstart Importark'!$B$9,\"\")","v":""},{"$f":"IF(LEN('1 - Opstart Importark'!$B$23)>0,'1 - Opstart Importark'!$B$23,\"\")","v":""},{"$nulls":14},"",{"$nulls":8},0,"","","objektnogle_"]
[734,null,{"$f":"IF('1 - Opstart Importark'!$B$6=\"\",\"\",(IF('1 - Opstart Importark'!$B$15=\"\",CONCATENATE(LEFT('1 - Opstart Importark'!$B$3,1),(LEFT('1 - Opstart Importark'!$B$20,5)),MID('1 - Opstart Importark'!$B$20,5,2),LEFT('1 - Opstart Importark'!$B$28,3),IF(I746=\"\",\"\",\"-\"),I746,IF(K746=\"\",\"\",\"-\"),K746,IF(M746=\"\",\"\",\"-\"),M746),CONCATENATE(LEFT('1 - Opstart Importark'!$B$3,1),(LEFT('1 - Opstart Importark'!$B$15,5)),(LEFT('1 - Opstart Importark'!$B$18,3)),IF(I746=\"\",\"\",\"-\"),I746,IF(K746=\"\",\"\",\"-\"),K746,IF(M746=\"\",\"\",\"-\"),M746))))","v":""},null," ",{"$nulls":9},{"$f":"IF(LEN('1 - Opstart Importark'!$B$6)>0,'1 - Opstart Importark'!$B$6,\"\")","v":""},{"$f":"IF(LEN('1 - Opstart Importark'!$B$9)>0,'1 - Opstart Importark'!$B$9,\"\")","v":""},{"$f":"IF(LEN('1 - Opstart Importark'!$B$23)>0,'1 - Opstart Importark'!$B$23,\"\")","v":""},{"$nulls":14},"",{"$nulls":8},0,"","","objektnogle_"]
[735,null,{"$f":"IF('1 - Opstart Importark'!$B$6=\"\",\"\",(IF('1 - Opstart Importark'!$B$15=\"\",CONCATENATE(LEFT('1 - Opstart Importark'!$B$3,1),(LEFT('1 - Opstart Importark'!$B$20,5)),MID('1 - Opstart Importark'!$B$20,5,2),LEFT('1 - Opstart Importark'!$B$28,3),IF(I747=\"\",\"\",\"-\"),I747,IF(K747=\"\",\"\",\"-\"),K747,IF(M747=\"\",\"\",\"-\"),M747),CONCATENATE(LEFT('1 - Opstart Importark'!$B$3,1),(LEFT('1 - Opstart Importark'!$B$15,5)),(LEFT('1 - Opstart Importark'!$B$18,3)),IF(I747=\"\",\"\",\"-\"),I747,IF(K747=\"\",\"\",\"-\"),K747,IF(M747=\"\",\"\",\"-\"),M747))))","v":""},null," ",{"$nulls":9},{"$f":"IF(LEN('1 - Opstart Importark'!$B$6)>0,'1 - Opstart Importark'!$B$6,\"\")","v":""},{"$f":"IF(LEN('1 - Opstart Importark'!$B$9)>0,'1 - Opstart Importark'!$B$9,\"\")","v":""},{"$f":"IF(LEN('1 - Opstart Importark'!$B$23)>0,'1 - Opstart Importark'!$B$23,\"\")","v":""},{"$nulls":14},"",{"$nulls":8},0,"","","objektnogle_"]
[736,null,{"$f":"IF('1 - Opstart Importark'!$B$6=\"\",\"\",(IF('1 - Opstart Importark'!$B$15=\"\",CONCATENATE(LEFT('1 - Opstart Importark'!$B$3,1),(LEFT('1 - Opstart Importark'!$B$20,5)),MID('1 - Opstart Importark'!$B$20,5,2),LEFT('1 - Opstart Importark'!$B$28,3),IF(I748=\"\",\"\",\"-\"),I748,IF(K748=\"\",\"\",\"-\"),K748,IF(M748=\"\",\"\",\"-\"),M748),CONCATENATE(LEFT('1 - Opstart Importark'!$B$3,1),(LEFT('1 - Opstart Importark'!$B$15,5)),(LEFT('1 - Opstart Importark'!$B$18,3)),IF(I748=\"\",\"\",\"-\"),I748,IF(K748=\"\",\"\",\"-\"),K748,IF(M748=\"\",\"\",\"-\"),M748))))","v":""},null," ",{"$nulls":9},{"$f":"IF(LEN('1 - Opstart Importark'!$B$6)>0,'1 - Opstart Importark'!$B$6,\"\")","v":""},{"$f":"IF(LEN('1 - Opstart Importark'!$B$9)>0,'1 - Opstart Importark'!$B$9,\"\")","v":""},{"$f":"IF(LEN('1 - Opstart Importark'!$B$23)>0,'1 - Opstart Importark'!$B$23,\"\")","v":""},{"$nulls":14},"",{"$nulls":8},0,"","","objektnogle_"]
[737,null,{"$f":"IF('1 - Opstart Importark'!$B$6=\"\",\"\",(IF('1 - Opstart Importark'!$B$15=\"\",CONCATENATE(LEFT('1 - Opstart Importark'!$B$3,1),(LEFT('1 - Opstart Importark'!$B$20,5)),MID('1 - Opstart Importark'!$B$20,5,2),LEFT('1 - Opstart Importark'!$B$28,3),IF(I749=\"\",\"\",\"-\"),I749,IF(K749=\"\",\"\",\"-\"),K749,IF(M749=\"\",\"\",\"-\"),M749),CONCATENATE(LEFT('1 - Opstart Importark'!$B$3,1),(LEFT('1 - Opstart Importark'!$B$15,5)),(LEFT('1 - Opstart Importark'!$B$18,3)),IF(I749=\"\",\"\",\"-\"),I749,IF(K749=\"\",\"\",\"-\"),K749,IF(M749=\"\",\"\",\"-\"),M749))))","v":""},null," ",{"$nulls":9},{"$f":"IF(LEN('1 - Opstart Importark'!$B$6)>0,'1 - Opstart Importark'!$B$6,\"\")","v":""},{"$f":"IF(LEN('1 - Opstart Importark'!$B$9)>0,'1 - Opstart Importark'!$B$9,\"\")","v":""},{"$f":"IF(LEN('1 - Opstart Importark'!$B$23)>0,'1 - Opstart Importark'!$B$23,\"\")","v":""},{"$nulls":14},"",{"$nulls":8},0,"","","objektnogle_"]
[738,null,{"$f":"IF('1 - Opstart Importark'!$B$6=\"\",\"\",(IF('1 - Opstart Importark'!$B$15=\"\",CONCATENATE(LEFT('1 - Opstart Importark'!$B$3,1),(LEFT('1 - Opstart Importark'!$B$20,5)),MID('1 - Opstart Importark'!$B$20,5,2),LEFT('1 - Opstart Importark'!$B$28,3),IF(I750=\"\",\"\",\"-\"),I750,IF(K750=\"\",\"\",\"-\"),K750,IF(M750=\"\",\"\",\"-\"),M750),CONCATENATE(LEFT('1 - Opstart Importark'!$B$3,1),(LEFT('1 - Opstart Importark'!$B$15,5)),(LEFT('1 - Opstart Importark'!$B$18,3)),IF(I750=\"\",\"\",\"-\"),I750,IF(K750=\"\",\"\",\"-\"),K750,IF(M750=\"\",\"\",\"-\"),M750))))","v":""},null," ",{"$nulls":9},{"$f":"IF(LEN('1 - Opstart Importark'!$B$6)>0,'1 - Opstart Importark'!$B$6,\"\")","v":""},{"$f":"IF(LEN('1 - Opstart Importark'!$B$9)>0,'1 - Opstart Importark'!$B$9,\"\")","v":""},{"$f":"IF(LEN('1 - Opstart Importark'!$B$23)>0,'1 - Opstart Importark'!$B$23,\"\")","v":""},{"$nulls":14},"",{"$nulls":8},0,"","","objektnogle_"]
[739,null,{"$f":"IF('1 - Opstart Importark'!$B$6=\"\",\"\",(IF('1 - Opstart Importark'!$B$15=\"\",CONCATENATE(LEFT('1 - Opstart Importark'!$B$3,1),(LEFT('1 - Opstart Importark'!$B$20,5)),MID('1 - Opstart Importark'!$B$20,5,2),LEFT('1 - Opstart Importark'!$B$28,3),IF(I751=\"\",\"\",\"-\"),I751,IF(K751=\"\",\"\",\"-\"),K751,IF(M751=\"\",\"\",\"-\"),M751),CONCATENATE(LEFT('1 - Opstart Importark'!$B$3,1),(LEFT('1 - Opstart Importark'!$B$15,5)),(LEFT('1 - Opstart Importark'!$B$18,3)),IF(I751=\"\",\"\",\"-\"),I751,IF(K751=\"\",\"\",\"-\"),K751,IF(M751=\"\",\"\",\"-\"),M751))))","v":""},null," ",{"$nulls":9},{"$f":"IF(LEN('1 - Opstart Importark'!$B$6)>0,'1 - Opstart Importark'!$B$6,\"\")","v":""},{"$f":"IF(LEN('1 - Opstart Importark'!$B$9)>0,'1 - Opstart Importark'!$B$9,\"\")","v":""},{"$f":"IF(LEN('1 - Opstart Importark'!$B$23)>0,'1 - Opstart Importark'!$B$23,\"\")","v":""},{"$nulls":14},"",{"$nulls":8},0,"","","objektnogle_"]
[740,null,{"$f":"IF('1 - Opstart Importark'!$B$6=\"\",\"\",(IF('1 - Opstart Importark'!$B$15=\"\",CONCATENATE(LEFT('1 - Opstart Importark'!$B$3,1),(LEFT('1 - Opstart Importark'!$B$20,5)),MID('1 - Opstart Importark'!$B$20,5,2),LEFT('1 - Opstart Importark'!$B$28,3),IF(I752=\"\",\"\",\"-\"),I752,IF(K752=\"\",\"\",\"-\"),K752,IF(M752=\"\",\"\",\"-\"),M752),CONCATENATE(LEFT('1 - Opstart Importark'!$B$3,1),(LEFT('1 - Opstart Importark'!$B$15,5)),(LEFT('1 - Opstart Importark'!$B$18,3)),IF(I752=\"\",\"\",\"-\"),I752,IF(K752=\"\",\"\",\"-\"),K752,IF(M752=\"\",\"\",\"-\"),M752))))","v":""},null," ",{"$nulls":9},{"$f":"IF(LEN('1 - Opstart Importark'!$B$6)>0,'1 - Opstart Importark'!$B$6,\"\")","v":""},{"$f":"IF(LEN('1 - Opstart Importark'!$B$9)>0,'1 - Opstart Importark'!$B$9,\"\")","v":""},{"$f":"IF(LEN('1 - Opstart Importark'!$B$23)>0,'1 - Opstart Importark'!$B$23,\"\")","v":""},{"$nulls":14},"",{"$nulls":8},0,"","","objektnogle_"]
[741,null,{"$f":"IF('1 - Opstart Importark'!$B$6=\"\",\"\",(IF('1 - Opstart Importark'!$B$15=\"\",CONCATENATE(LEFT('1 - Opstart Importark'!$B$3,1),(LEFT('1 - Opstart Importark'!$B$20,5)),MID('1 - Opstart Importark'!$B$20,5,2),LEFT('1 - Opstart Importark'!$B$28,3),IF(I753=\"\",\"\",\"-\"),I753,IF(K753=\"\",\"\",\"-\"),K753,IF(M753=\"\",\"\",\"-\"),M753),CONCATENATE(LEFT('1 - Opstart Importark'!$B$3,1),(LEFT('1 - Opstart Importark'!$B$15,5)),(LEFT('1 - Opstart Importark'!$B$18,3)),IF(I753=\"\",\"\",\"-\"),I753,IF(K753=\"\",\"\",\"-\"),K753,IF(M753=\"\",\"\",\"-\"),M753))))","v":""},null," ",{"$nulls":9},{"$f":"IF(LEN('1 - Opstart Importark'!$B$6)>0,'1 - Opstart Importark'!$B$6,\"\")","v":""},{"$f":"IF(LEN('1 - Opstart Importark'!$B$9)>0,'1 - Opstart Importark'!$B$9,\"\")","v":""},{"$f":"IF(LEN('1 - Opstart Importark'!$B$23)>0,'1 - Opstart Importark'!$B$23,\"\")","v":""},{"$nulls":14},"",{"$nulls":8},0,"","","objektnogle_"]
[742,null,{"$f":"IF('1 - Opstart Importark'!$B$6=\"\",\"\",(IF('1 - Opstart Importark'!$B$15=\"\",CONCATENATE(LEFT('1 - Opstart Importark'!$B$3,1),(LEFT('1 - Opstart Importark'!$B$20,5)),MID('1 - Opstart Importark'!$B$20,5,2),LEFT('1 - Opstart Importark'!$B$28,3),IF(I754=\"\",\"\",\"-\"),I754,IF(K754=\"\",\"\",\"-\"),K754,IF(M754=\"\",\"\",\"-\"),M754),CONCATENATE(LEFT('1 - Opstart Importark'!$B$3,1),(LEFT('1 - Opstart Importark'!$B$15,5)),(LEFT('1 - Opstart Importark'!$B$18,3)),IF(I754=\"\",\"\",\"-\"),I754,IF(K754=\"\",\"\",\"-\"),K754,IF(M754=\"\",\"\",\"-\"),M754))))","v":""},null," ",{"$nulls":9},{"$f":"IF(LEN('1 - Opstart Importark'!$B$6)>0,'1 - Opstart Importark'!$B$6,\"\")","v":""},{"$f":"IF(LEN('1 - Opstart Importark'!$B$9)>0,'1 - Opstart Importark'!$B$9,\"\")","v":""},{"$f":"IF(LEN('1 - Opstart Importark'!$B$23)>0,'1 - Opstart Importark'!$B$23,\"\")","v":""},{"$nulls":14},"",{"$nulls":8},0,"","","objektnogle_"]
[743,null,{"$f":"IF('1 - Opstart Importark'!$B$6=\"\",\"\",(IF('1 - Opstart Importark'!$B$15=\"\",CONCATENATE(LEFT('1 - Opstart Importark'!$B$3,1),(LEFT('1 - Opstart Importark'!$B$20,5)),MID('1 - Opstart Importark'!$B$20,5,2),LEFT('1 - Opstart Importark'!$B$28,3),IF(I755=\"\",\"\",\"-\"),I755,IF(K755=\"\",\"\",\"-\"),K755,IF(M755=\"\",\"\",\"-\"),M755),CONCATENATE(LEFT('1 - Opstart Importark'!$B$3,1),(LEFT('1 - Opstart Importark'!$B$15,5)),(LEFT('1 - Opstart Importark'!$B$18,3)),IF(I755=\"\",\"\",\"-\"),I755,IF(K755=\"\",\"\",\"-\"),K755,IF(M755=\"\",\"\",\"-\"),M755))))","v":""},null," ",{"$nulls":9},{"$f":"IF(LEN('1 - Opstart Importark'!$B$6)>0,'1 - Opstart Importark'!$B$6,\"\")","v":""},{"$f":"IF(LEN('1 - Opstart Importark'!$B$9)>0,'1 - Opstart Importark'!$B$9,\"\")","v":""},{"$f":"IF(LEN('1 - Opstart Importark'!$B$23)>0,'1 - Opstart Importark'!$B$23,\"\")","v":""},{"$nulls":14},"",{"$nulls":8},0,"","","objektnogle_"]
[744,null,{"$f":"IF('1 - Opstart Importark'!$B$6=\"\",\"\",(IF('1 - Opstart Importark'!$B$15=\"\",CONCATENATE(LEFT('1 - Opstart Importark'!$B$3,1),(LEFT('1 - Opstart Importark'!$B$20,5)),MID('1 - Opstart Importark'!$B$20,5,2),LEFT('1 - Opstart Importark'!$B$28,3),IF(I756=\"\",\"\",\"-\"),I756,IF(K756=\"\",\"\",\"-\"),K756,IF(M756=\"\",\"\",\"-\"),M756),CONCATENATE(LEFT('1 - Opstart Importark'!$B$3,1),(LEFT('1 - Opstart Importark'!$B$15,5)),(LEFT('1 - Opstart Importark'!$B$18,3)),IF(I756=\"\",\"\",\"-\"),I756,IF(K756=\"\",\"\",\"-\"),K756,IF(M756=\"\",\"\",\"-\"),M756))))","v":""},null," ",{"$nulls":9},{"$f":"IF(LEN('1 - Opstart Importark'!$B$6)>0,'1 - Opstart Importark'!$B$6,\"\")","v":""},{"$f":"IF(LEN('1 - Opstart Importark'!$B$9)>0,'1 - Opstart Importark'!$B$9,\"\")","v":""},{"$f":"IF(LEN('1 - Opstart Importark'!$B$23)>0,'1 - Opstart Importark'!$B$23,\"\")","v":""},{"$nulls":14},"",{"$nulls":8},0,"","","objektnogle_"]
[745,null,{"$f":"IF('1 - Opstart Importark'!$B$6=\"\",\"\",(IF('1 - Opstart Importark'!$B$15=\"\",CONCATENATE(LEFT('1 - Opstart Importark'!$B$3,1),(LEFT('1 - Opstart Importark'!$B$20,5)),MID('1 - Opstart Importark'!$B$20,5,2),LEFT('1 - Opstart Importark'!$B$28,3),IF(I757=\"\",\"\",\"-\"),I757,IF(K757=\"\",\"\",\"-\"),K757,IF(M757=\"\",\"\",\"-\"),M757),CONCATENATE(LEFT('1 - Opstart Importark'!$B$3,1),(LEFT('1 - Opstart Importark'!$B$15,5)),(LEFT('1 - Opstart Importark'!$B$18,3)),IF(I757=\"\",\"\",\"-\"),I757,IF(K757=\"\",\"\",\"-\"),K757,IF(M757=\"\",\"\",\"-\"),M757))))","v":""},null," ",{"$nulls":9},{"$f":"IF(LEN('1 - Opstart Importark'!$B$6)>0,'1 - Opstart Importark'!$B$6,\"\")","v":""},{"$f":"IF(LEN('1 - Opstart Importark'!$B$9)>0,'1 - Opstart Importark'!$B$9,\"\")","v":""},{"$f":"IF(LEN('1 - Opstart Importark'!$B$23)>0,'1 - Opstart Importark'!$B$23,\"\")","v":""},{"$nulls":14},"",{"$nulls":8},0,"","","objektnogle_"]
[746,null,{"$f":"IF('1 - Opstart Importark'!$B$6=\"\",\"\",(IF('1 - Opstart Importark'!$B$15=\"\",CONCATENATE(LEFT('1 - Opstart Importark'!$B$3,1),(LEFT('1 - Opstart Importark'!$B$20,5)),MID('1 - Opstart Importark'!$B$20,5,2),LEFT('1 - Opstart Importark'!$B$28,3),IF(I758=\"\",\"\",\"-\"),I758,IF(K758=\"\",\"\",\"-\"),K758,IF(M758=\"\",\"\",\"-\"),M758),CONCATENATE(LEFT('1 - Opstart Importark'!$B$3,1),(LEFT('1 - Opstart Importark'!$B$15,5)),(LEFT('1 - Opstart Importark'!$B$18,3)),IF(I758=\"\",\"\",\"-\"),I758,IF(K758=\"\",\"\",\"-\"),K758,IF(M758=\"\",\"\",\"-\"),M758))))","v":""},null," ",{"$nulls":9},{"$f":"IF(LEN('1 - Opstart Importark'!$B$6)>0,'1 - Opstart Importark'!$B$6,\"\")","v":""},{"$f":"IF(LEN('1 - Opstart Importark'!$B$9)>0,'1 - Opstart Importark'!$B$9,\"\")","v":""},{"$f":"IF(LEN('1 - Opstart Importark'!$B$23)>0,'1 - Opstart Importark'!$B$23,\"\")","v":""},{"$nulls":14},"",{"$nulls":8},0,"","","objektnogle_"]
[747,null,{"$f":"IF('1 - Opstart Importark'!$B$6=\"\",\"\",(IF('1 - Opstart Importark'!$B$15=\"\",CONCATENATE(LEFT('1 - Opstart Importark'!$B$3,1),(LEFT('1 - Opstart Importark'!$B$20,5)),MID('1 - Opstart Importark'!$B$20,5,2),LEFT('1 - Opstart Importark'!$B$28,3),IF(I759=\"\",\"\",\"-\"),I759,IF(K759=\"\",\"\",\"-\"),K759,IF(M759=\"\",\"\",\"-\"),M759),CONCATENATE(LEFT('1 - Opstart Importark'!$B$3,1),(LEFT('1 - Opstart Importark'!$B$15,5)),(LEFT('1 - Opstart Importark'!$B$18,3)),IF(I759=\"\",\"\",\"-\"),I759,IF(K759=\"\",\"\",\"-\"),K759,IF(M759=\"\",\"\",\"-\"),M759))))","v":""},null," ",{"$nulls":9},{"$f":"IF(LEN('1 - Opstart Importark'!$B$6)>0,'1 - Opstart Importark'!$B$6,\"\")","v":""},{"$f":"IF(LEN('1 - Opstart Importark'!$B$9)>0,'1 - Opstart Importark'!$B$9,\"\")","v":""},{"$f":"IF(LEN('1 - Opstart Importark'!$B$23)>0,'1 - Opstart Importark'!$B$23,\"\")","v":""},{"$nulls":14},"",{"$nulls":8},0,"","","objektnogle_"]
[748,null,{"$f":"IF('1 - Opstart Importark'!$B$6=\"\",\"\",(IF('1 - Opstart Importark'!$B$15=\"\",CONCATENATE(LEFT('1 - Opstart Importark'!$B$3,1),(LEFT('1 - Opstart Importark'!$B$20,5)),MID('1 - Opstart Importark'!$B$20,5,2),LEFT('1 - Opstart Importark'!$B$28,3),IF(I760=\"\",\"\",\"-\"),I760,IF(K760=\"\",\"\",\"-\"),K760,IF(M760=\"\",\"\",\"-\"),M760),CONCATENATE(LEFT('1 - Opstart Importark'!$B$3,1),(LEFT('1 - Opstart Importark'!$B$15,5)),(LEFT('1 - Opstart Importark'!$B$18,3)),IF(I760=\"\",\"\",\"-\"),I760,IF(K760=\"\",\"\",\"-\"),K760,IF(M760=\"\",\"\",\"-\"),M760))))","v":""},null," ",{"$nulls":9},{"$f":"IF(LEN('1 - Opstart Importark'!$B$6)>0,'1 - Opstart Importark'!$B$6,\"\")","v":""},{"$f":"IF(LEN('1 - Opstart Importark'!$B$9)>0,'1 - Opstart Importark'!$B$9,\"\")","v":""},{"$f":"IF(LEN('1 - Opstart Importark'!$B$23)>0,'1 - Opstart Importark'!$B$23,\"\")","v":""},{"$nulls":14},"",{"$nulls":8},0,"","","objektnogle_"]
[749,null,{"$f":"IF('1 - Opstart Importark'!$B$6=\"\",\"\",(IF('1 - Opstart Importark'!$B$15=\"\",CONCATENATE(LEFT('1 - Opstart Importark'!$B$3,1),(LEFT('1 - Opstart Importark'!$B$20,5)),MID('1 - Opstart Importark'!$B$20,5,2),LEFT('1 - Opstart Importark'!$B$28,3),IF(I761=\"\",\"\",\"-\"),I761,IF(K761=\"\",\"\",\"-\"),K761,IF(M761=\"\",\"\",\"-\"),M761),CONCATENATE(LEFT('1 - Opstart Importark'!$B$3,1),(LEFT('1 - Opstart Importark'!$B$15,5)),(LEFT('1 - Opstart Importark'!$B$18,3)),IF(I761=\"\",\"\",\"-\"),I761,IF(K761=\"\",\"\",\"-\"),K761,IF(M761=\"\",\"\",\"-\"),M761))))","v":""},null," ",{"$nulls":9},{"$f":"IF(LEN('1 - Opstart Importark'!$B$6)>0,'1 - Opstart Importark'!$B$6,\"\")","v":""},{"$f":"IF(LEN('1 - Opstart Importark'!$B$9)>0,'1 - Opstart Importark'!$B$9,\"\")","v":""},{"$f":"IF(LEN('1 - Opstart Importark'!$B$23)>0,'1 - Opstart Importark'!$B$23,\"\")","v":""},{"$nulls":14},"",{"$nulls":8},0,"","","objektnogle_"]
[750,null,{"$f":"IF('1 - Opstart Importark'!$B$6=\"\",\"\",(IF('1 - Opstart Importark'!$B$15=\"\",CONCATENATE(LEFT('1 - Opstart Importark'!$B$3,1),(LEFT('1 - Opstart Importark'!$B$20,5)),MID('1 - Opstart Importark'!$B$20,5,2),LEFT('1 - Opstart Importark'!$B$28,3),IF(I762=\"\",\"\",\"-\"),I762,IF(K762=\"\",\"\",\"-\"),K762,IF(M762=\"\",\"\",\"-\"),M762),CONCATENATE(LEFT('1 - Opstart Importark'!$B$3,1),(LEFT('1 - Opstart Importark'!$B$15,5)),(LEFT('1 - Opstart Importark'!$B$18,3)),IF(I762=\"\",\"\",\"-\"),I762,IF(K762=\"\",\"\",\"-\"),K762,IF(M762=\"\",\"\",\"-\"),M762))))","v":""},null," ",{"$nulls":9},{"$f":"IF(LEN('1 - Opstart Importark'!$B$6)>0,'1 - Opstart Importark'!$B$6,\"\")","v":""},{"$f":"IF(LEN('1 - Opstart Importark'!$B$9)>0,'1 - Opstart Importark'!$B$9,\"\")","v":""},{"$f":"IF(LEN('1 - Opstart Importark'!$B$23)>0,'1 - Opstart Importark'!$B$23,\"\")","v":""},{"$nulls":14},"",{"$nulls":8},0,"","","objektnogle_"]
[751,null,{"$f":"IF('1 - Opstart Importark'!$B$6=\"\",\"\",(IF('1 - Opstart Importark'!$B$15=\"\",CONCATENATE(LEFT('1 - Opstart Importark'!$B$3,1),(LEFT('1 - Opstart Importark'!$B$20,5)),MID('1 - Opstart Importark'!$B$20,5,2),LEFT('1 - Opstart Importark'!$B$28,3),IF(I763=\"\",\"\",\"-\"),I763,IF(K763=\"\",\"\",\"-\"),K763,IF(M763=\"\",\"\",\"-\"),M763),CONCATENATE(LEFT('1 - Opstart Importark'!$B$3,1),(LEFT('1 - Opstart Importark'!$B$15,5)),(LEFT('1 - Opstart Importark'!$B$18,3)),IF(I763=\"\",\"\",\"-\"),I763,IF(K763=\"\",\"\",\"-\"),K763,IF(M763=\"\",\"\",\"-\"),M763))))","v":""},null," ",{"$nulls":9},{"$f":"IF(LEN('1 - Opstart Importark'!$B$6)>0,'1 - Opstart Importark'!$B$6,\"\")","v":""},{"$f":"IF(LEN('1 - Opstart Importark'!$B$9)>0,'1 - Opstart Importark'!$B$9,\"\")","v":""},{"$f":"IF(LEN('1 - Opstart Importark'!$B$23)>0,'1 - Opstart Importark'!$B$23,\"\")","v":""},{"$nulls":14},"",{"$nulls":8},0,"","","objektnogle_"]
[752,null,{"$f":"IF('1 - Opstart Importark'!$B$6=\"\",\"\",(IF('1 - Opstart Importark'!$B$15=\"\",CONCATENATE(LEFT('1 - Opstart Importark'!$B$3,1),(LEFT('1 - Opstart Importark'!$B$20,5)),MID('1 - Opstart Importark'!$B$20,5,2),LEFT('1 - Opstart Importark'!$B$28,3),IF(I764=\"\",\"\",\"-\"),I764,IF(K764=\"\",\"\",\"-\"),K764,IF(M764=\"\",\"\",\"-\"),M764),CONCATENATE(LEFT('1 - Opstart Importark'!$B$3,1),(LEFT('1 - Opstart Importark'!$B$15,5)),(LEFT('1 - Opstart Importark'!$B$18,3)),IF(I764=\"\",\"\",\"-\"),I764,IF(K764=\"\",\"\",\"-\"),K764,IF(M764=\"\",\"\",\"-\"),M764))))","v":""},null," ",{"$nulls":9},{"$f":"IF(LEN('1 - Opstart Importark'!$B$6)>0,'1 - Opstart Importark'!$B$6,\"\")","v":""},{"$f":"IF(LEN('1 - Opstart Importark'!$B$9)>0,'1 - Opstart Importark'!$B$9,\"\")","v":""},{"$f":"IF(LEN('1 - Opstart Importark'!$B$23)>0,'1 - Opstart Importark'!$B$23,\"\")","v":""},{"$nulls":14},"",{"$nulls":8},0,"","","objektnogle_"]
[753,null,{"$f":"IF('1 - Opstart Importark'!$B$6=\"\",\"\",(IF('1 - Opstart Importark'!$B$15=\"\",CONCATENATE(LEFT('1 - Opstart Importark'!$B$3,1),(LEFT('1 - Opstart Importark'!$B$20,5)),MID('1 - Opstart Importark'!$B$20,5,2),LEFT('1 - Opstart Importark'!$B$28,3),IF(I765=\"\",\"\",\"-\"),I765,IF(K765=\"\",\"\",\"-\"),K765,IF(M765=\"\",\"\",\"-\"),M765),CONCATENATE(LEFT('1 - Opstart Importark'!$B$3,1),(LEFT('1 - Opstart Importark'!$B$15,5)),(LEFT('1 - Opstart Importark'!$B$18,3)),IF(I765=\"\",\"\",\"-\"),I765,IF(K765=\"\",\"\",\"-\"),K765,IF(M765=\"\",\"\",\"-\"),M765))))","v":""},null," ",{"$nulls":9},{"$f":"IF(LEN('1 - Opstart Importark'!$B$6)>0,'1 - Opstart Importark'!$B$6,\"\")","v":""},{"$f":"IF(LEN('1 - Opstart Importark'!$B$9)>0,'1 - Opstart Importark'!$B$9,\"\")","v":""},{"$f":"IF(LEN('1 - Opstart Importark'!$B$23)>0,'1 - Opstart Importark'!$B$23,\"\")","v":""},{"$nulls":14},"",{"$nulls":8},0,"","","objektnogle_"]
[754,null,{"$f":"IF('1 - Opstart Importark'!$B$6=\"\",\"\",(IF('1 - Opstart Importark'!$B$15=\"\",CONCATENATE(LEFT('1 - Opstart Importark'!$B$3,1),(LEFT('1 - Opstart Importark'!$B$20,5)),MID('1 - Opstart Importark'!$B$20,5,2),LEFT('1 - Opstart Importark'!$B$28,3),IF(I766=\"\",\"\",\"-\"),I766,IF(K766=\"\",\"\",\"-\"),K766,IF(M766=\"\",\"\",\"-\"),M766),CONCATENATE(LEFT('1 - Opstart Importark'!$B$3,1),(LEFT('1 - Opstart Importark'!$B$15,5)),(LEFT('1 - Opstart Importark'!$B$18,3)),IF(I766=\"\",\"\",\"-\"),I766,IF(K766=\"\",\"\",\"-\"),K766,IF(M766=\"\",\"\",\"-\"),M766))))","v":""},null," ",{"$nulls":9},{"$f":"IF(LEN('1 - Opstart Importark'!$B$6)>0,'1 - Opstart Importark'!$B$6,\"\")","v":""},{"$f":"IF(LEN('1 - Opstart Importark'!$B$9)>0,'1 - Opstart Importark'!$B$9,\"\")","v":""},{"$f":"IF(LEN('1 - Opstart Importark'!$B$23)>0,'1 - Opstart Importark'!$B$23,\"\")","v":""},{"$nulls":14},"",{"$nulls":8},0,"","","objektnogle_"]
[755,null,{"$f":"IF('1 - Opstart Importark'!$B$6=\"\",\"\",(IF('1 - Opstart Importark'!$B$15=\"\",CONCATENATE(LEFT('1 - Opstart Importark'!$B$3,1),(LEFT('1 - Opstart Importark'!$B$20,5)),MID('1 - Opstart Importark'!$B$20,5,2),LEFT('1 - Opstart Importark'!$B$28,3),IF(I767=\"\",\"\",\"-\"),I767,IF(K767=\"\",\"\",\"-\"),K767,IF(M767=\"\",\"\",\"-\"),M767),CONCATENATE(LEFT('1 - Opstart Importark'!$B$3,1),(LEFT('1 - Opstart Importark'!$B$15,5)),(LEFT('1 - Opstart Importark'!$B$18,3)),IF(I767=\"\",\"\",\"-\"),I767,IF(K767=\"\",\"\",\"-\"),K767,IF(M767=\"\",\"\",\"-\"),M767))))","v":""},null," ",{"$nulls":9},{"$f":"IF(LEN('1 - Opstart Importark'!$B$6)>0,'1 - Opstart Importark'!$B$6,\"\")","v":""},{"$f":"IF(LEN('1 - Opstart Importark'!$B$9)>0,'1 - Opstart Importark'!$B$9,\"\")","v":""},{"$f":"IF(LEN('1 - Opstart Importark'!$B$23)>0,'1 - Opstart Importark'!$B$23,\"\")","v":""},{"$nulls":14},"",{"$nulls":8},0,"","","objektnogle_"]
[756,null,{"$f":"IF('1 - Opstart Importark'!$B$6=\"\",\"\",(IF('1 - Opstart Importark'!$B$15=\"\",CONCATENATE(LEFT('1 - Opstart Importark'!$B$3,1),(LEFT('1 - Opstart Importark'!$B$20,5)),MID('1 - Opstart Importark'!$B$20,5,2),LEFT('1 - Opstart Importark'!$B$28,3),IF(I768=\"\",\"\",\"-\"),I768,IF(K768=\"\",\"\",\"-\"),K768,IF(M768=\"\",\"\",\"-\"),M768),CONCATENATE(LEFT('1 - Opstart Importark'!$B$3,1),(LEFT('1 - Opstart Importark'!$B$15,5)),(LEFT('1 - Opstart Importark'!$B$18,3)),IF(I768=\"\",\"\",\"-\"),I768,IF(K768=\"\",\"\",\"-\"),K768,IF(M768=\"\",\"\",\"-\"),M768))))","v":""},null," ",{"$nulls":9},{"$f":"IF(LEN('1 - Opstart Importark'!$B$6)>0,'1 - Opstart Importark'!$B$6,\"\")","v":""},{"$f":"IF(LEN('1 - Opstart Importark'!$B$9)>0,'1 - Opstart Importark'!$B$9,\"\")","v":""},{"$f":"IF(LEN('1 - Opstart Importark'!$B$23)>0,'1 - Opstart Importark'!$B$23,\"\")","v":""},{"$nulls":14},"",{"$nulls":8},0,"","","objektnogle_"]
[757,null,{"$f":"IF('1 - Opstart Importark'!$B$6=\"\",\"\",(IF('1 - Opstart Importark'!$B$15=\"\",CONCATENATE(LEFT('1 - Opstart Importark'!$B$3,1),(LEFT('1 - Opstart Importark'!$B$20,5)),MID('1 - Opstart Importark'!$B$20,5,2),LEFT('1 - Opstart Importark'!$B$28,3),IF(I769=\"\",\"\",\"-\"),I769,IF(K769=\"\",\"\",\"-\"),K769,IF(M769=\"\",\"\",\"-\"),M769),CONCATENATE(LEFT('1 - Opstart Importark'!$B$3,1),(LEFT('1 - Opstart Importark'!$B$15,5)),(LEFT('1 - Opstart Importark'!$B$18,3)),IF(I769=\"\",\"\",\"-\"),I769,IF(K769=\"\",\"\",\"-\"),K769,IF(M769=\"\",\"\",\"-\"),M769))))","v":""},null," ",{"$nulls":9},{"$f":"IF(LEN('1 - Opstart Importark'!$B$6)>0,'1 - Opstart Importark'!$B$6,\"\")","v":""},{"$f":"IF(LEN('1 - Opstart Importark'!$B$9)>0,'1 - Opstart Importark'!$B$9,\"\")","v":""},{"$f":"IF(LEN('1 - Opstart Importark'!$B$23)>0,'1 - Opstart Importark'!$B$23,\"\")","v":""},{"$nulls":14},"",{"$nulls":8},0,"","","objektnogle_"]
[758,null,{"$f":"IF('1 - Opstart Importark'!$B$6=\"\",\"\",(IF('1 - Opstart Importark'!$B$15=\"\",CONCATENATE(LEFT('1 - Opstart Importark'!$B$3,1),(LEFT('1 - Opstart Importark'!$B$20,5)),MID('1 - Opstart Importark'!$B$20,5,2),LEFT('1 - Opstart Importark'!$B$28,3),IF(I770=\"\",\"\",\"-\"),I770,IF(K770=\"\",\"\",\"-\"),K770,IF(M770=\"\",\"\",\"-\"),M770),CONCATENATE(LEFT('1 - Opstart Importark'!$B$3,1),(LEFT('1 - Opstart Importark'!$B$15,5)),(LEFT('1 - Opstart Importark'!$B$18,3)),IF(I770=\"\",\"\",\"-\"),I770,IF(K770=\"\",\"\",\"-\"),K770,IF(M770=\"\",\"\",\"-\"),M770))))","v":""},null," ",{"$nulls":9},{"$f":"IF(LEN('1 - Opstart Importark'!$B$6)>0,'1 - Opstart Importark'!$B$6,\"\")","v":""},{"$f":"IF(LEN('1 - Opstart Importark'!$B$9)>0,'1 - Opstart Importark'!$B$9,\"\")","v":""},{"$f":"IF(LEN('1 - Opstart Importark'!$B$23)>0,'1 - Opstart Importark'!$B$23,\"\")","v":""},{"$nulls":14},"",{"$nulls":8},0,"","","objektnogle_"]
[759,null,{"$f":"IF('1 - Opstart Importark'!$B$6=\"\",\"\",(IF('1 - Opstart Importark'!$B$15=\"\",CONCATENATE(LEFT('1 - Opstart Importark'!$B$3,1),(LEFT('1 - Opstart Importark'!$B$20,5)),MID('1 - Opstart Importark'!$B$20,5,2),LEFT('1 - Opstart Importark'!$B$28,3),IF(I771=\"\",\"\",\"-\"),I771,IF(K771=\"\",\"\",\"-\"),K771,IF(M771=\"\",\"\",\"-\"),M771),CONCATENATE(LEFT('1 - Opstart Importark'!$B$3,1),(LEFT('1 - Opstart Importark'!$B$15,5)),(LEFT('1 - Opstart Importark'!$B$18,3)),IF(I771=\"\",\"\",\"-\"),I771,IF(K771=\"\",\"\",\"-\"),K771,IF(M771=\"\",\"\",\"-\"),M771))))","v":""},null," ",{"$nulls":9},{"$f":"IF(LEN('1 - Opstart Importark'!$B$6)>0,'1 - Opstart Importark'!$B$6,\"\")","v":""},{"$f":"IF(LEN('1 - Opstart Importark'!$B$9)>0,'1 - Opstart Importark'!$B$9,\"\")","v":""},{"$f":"IF(LEN('1 - Opstart Importark'!$B$23)>0,'1 - Opstart Importark'!$B$23,\"\")","v":""},{"$nulls":14},"",{"$nulls":8},0,"","","objektnogle_"]
[760,null,{"$f":"IF('1 - Opstart Importark'!$B$6=\"\",\"\",(IF('1 - Opstart Importark'!$B$15=\"\",CONCATENATE(LEFT('1 - Opstart Importark'!$B$3,1),(LEFT('1 - Opstart Importark'!$B$20,5)),MID('1 - Opstart Importark'!$B$20,5,2),LEFT('1 - Opstart Importark'!$B$28,3),IF(I772=\"\",\"\",\"-\"),I772,IF(K772=\"\",\"\",\"-\"),K772,IF(M772=\"\",\"\",\"-\"),M772),CONCATENATE(LEFT('1 - Opstart Importark'!$B$3,1),(LEFT('1 - Opstart Importark'!$B$15,5)),(LEFT('1 - Opstart Importark'!$B$18,3)),IF(I772=\"\",\"\",\"-\"),I772,IF(K772=\"\",\"\",\"-\"),K772,IF(M772=\"\",\"\",\"-\"),M772))))","v":""},null," ",{"$nulls":9},{"$f":"IF(LEN('1 - Opstart Importark'!$B$6)>0,'1 - Opstart Importark'!$B$6,\"\")","v":""},{"$f":"IF(LEN('1 - Opstart Importark'!$B$9)>0,'1 - Opstart Importark'!$B$9,\"\")","v":""},{"$f":"IF(LEN('1 - Opstart Importark'!$B$23)>0,'1 - Opstart Importark'!$B$23,\"\")","v":""},{"$nulls":14},"",{"$nulls":8},0,"","","objektnogle_"]
[761,null,{"$f":"IF('1 - Opstart Importark'!$B$6=\"\",\"\",(IF('1 - Opstart Importark'!$B$15=\"\",CONCATENATE(LEFT('1 - Opstart Importark'!$B$3,1),(LEFT('1 - Opstart Importark'!$B$20,5)),MID('1 - Opstart Importark'!$B$20,5,2),LEFT('1 - Opstart Importark'!$B$28,3),IF(I773=\"\",\"\",\"-\"),I773,IF(K773=\"\",\"\",\"-\"),K773,IF(M773=\"\",\"\",\"-\"),M773),CONCATENATE(LEFT('1 - Opstart Importark'!$B$3,1),(LEFT('1 - Opstart Importark'!$B$15,5)),(LEFT('1 - Opstart Importark'!$B$18,3)),IF(I773=\"\",\"\",\"-\"),I773,IF(K773=\"\",\"\",\"-\"),K773,IF(M773=\"\",\"\",\"-\"),M773))))","v":""},null," ",{"$nulls":9},{"$f":"IF(LEN('1 - Opstart Importark'!$B$6)>0,'1 - Opstart Importark'!$B$6,\"\")","v":""},{"$f":"IF(LEN('1 - Opstart Importark'!$B$9)>0,'1 - Opstart Importark'!$B$9,\"\")","v":""},{"$f":"IF(LEN('1 - Opstart Importark'!$B$23)>0,'1 - Opstart Importark'!$B$23,\"\")","v":""},{"$nulls":14},"",{"$nulls":8},0,"","","objektnogle_"]
[762,null,{"$f":"IF('1 - Opstart Importark'!$B$6=\"\",\"\",(IF('1 - Opstart Importark'!$B$15=\"\",CONCATENATE(LEFT('1 - Opstart Importark'!$B$3,1),(LEFT('1 - Opstart Importark'!$B$20,5)),MID('1 - Opstart Importark'!$B$20,5,2),LEFT('1 - Opstart Importark'!$B$28,3),IF(I774=\"\",\"\",\"-\"),I774,IF(K774=\"\",\"\",\"-\"),K774,IF(M774=\"\",\"\",\"-\"),M774),CONCATENATE(LEFT('1 - Opstart Importark'!$B$3,1),(LEFT('1 - Opstart Importark'!$B$15,5)),(LEFT('1 - Opstart Importark'!$B$18,3)),IF(I774=\"\",\"\",\"-\"),I774,IF(K774=\"\",\"\",\"-\"),K774,IF(M774=\"\",\"\",\"-\"),M774))))","v":""},null," ",{"$nulls":9},{"$f":"IF(LEN('1 - Opstart Importark'!$B$6)>0,'1 - Opstart Importark'!$B$6,\"\")","v":""},{"$f":"IF(LEN('1 - Opstart Importark'!$B$9)>0,'1 - Opstart Importark'!$B$9,\"\")","v":""},{"$f":"IF(LEN('1 - Opstart Importark'!$B$23)>0,'1 - Opstart Importark'!$B$23,\"\")","v":""},{"$nulls":14},"",{"$nulls":8},0,"","","objektnogle_"]
[763,null,{"$f":"IF('1 - Opstart Importark'!$B$6=\"\",\"\",(IF('1 - Opstart Importark'!$B$15=\"\",CONCATENATE(LEFT('1 - Opstart Importark'!$B$3,1),(LEFT('1 - Opstart Importark'!$B$20,5)),MID('1 - Opstart Importark'!$B$20,5,2),LEFT('1 - Opstart Importark'!$B$28,3),IF(I775=\"\",\"\",\"-\"),I775,IF(K775=\"\",\"\",\"-\"),K775,IF(M775=\"\",\"\",\"-\"),M775),CONCATENATE(LEFT('1 - Opstart Importark'!$B$3,1),(LEFT('1 - Opstart Importark'!$B$15,5)),(LEFT('1 - Opstart Importark'!$B$18,3)),IF(I775=\"\",\"\",\"-\"),I775,IF(K775=\"\",\"\",\"-\"),K775,IF(M775=\"\",\"\",\"-\"),M775))))","v":""},null," ",{"$nulls":9},{"$f":"IF(LEN('1 - Opstart Importark'!$B$6)>0,'1 - Opstart Importark'!$B$6,\"\")","v":""},{"$f":"IF(LEN('1 - Opstart Importark'!$B$9)>0,'1 - Opstart Importark'!$B$9,\"\")","v":""},{"$f":"IF(LEN('1 - Opstart Importark'!$B$23)>0,'1 - Opstart Importark'!$B$23,\"\")","v":""},{"$nulls":14},"",{"$nulls":8},0,"","","objektnogle_"]
[764,null,{"$f":"IF('1 - Opstart Importark'!$B$6=\"\",\"\",(IF('1 - Opstart Importark'!$B$15=\"\",CONCATENATE(LEFT('1 - Opstart Importark'!$B$3,1),(LEFT('1 - Opstart Importark'!$B$20,5)),MID('1 - Opstart Importark'!$B$20,5,2),LEFT('1 - Opstart Importark'!$B$28,3),IF(I776=\"\",\"\",\"-\"),I776,IF(K776=\"\",\"\",\"-\"),K776,IF(M776=\"\",\"\",\"-\"),M776),CONCATENATE(LEFT('1 - Opstart Importark'!$B$3,1),(LEFT('1 - Opstart Importark'!$B$15,5)),(LEFT('1 - Opstart Importark'!$B$18,3)),IF(I776=\"\",\"\",\"-\"),I776,IF(K776=\"\",\"\",\"-\"),K776,IF(M776=\"\",\"\",\"-\"),M776))))","v":""},null," ",{"$nulls":9},{"$f":"IF(LEN('1 - Opstart Importark'!$B$6)>0,'1 - Opstart Importark'!$B$6,\"\")","v":""},{"$f":"IF(LEN('1 - Opstart Importark'!$B$9)>0,'1 - Opstart Importark'!$B$9,\"\")","v":""},{"$f":"IF(LEN('1 - Opstart Importark'!$B$23)>0,'1 - Opstart Importark'!$B$23,\"\")","v":""},{"$nulls":14},"",{"$nulls":8},0,"","","objektnogle_"]
[765,null,{"$f":"IF('1 - Opstart Importark'!$B$6=\"\",\"\",(IF('1 - Opstart Importark'!$B$15=\"\",CONCATENATE(LEFT('1 - Opstart Importark'!$B$3,1),(LEFT('1 - Opstart Importark'!$B$20,5)),MID('1 - Opstart Importark'!$B$20,5,2),LEFT('1 - Opstart Importark'!$B$28,3),IF(I777=\"\",\"\",\"-\"),I777,IF(K777=\"\",\"\",\"-\"),K777,IF(M777=\"\",\"\",\"-\"),M777),CONCATENATE(LEFT('1 - Opstart Importark'!$B$3,1),(LEFT('1 - Opstart Importark'!$B$15,5)),(LEFT('1 - Opstart Importark'!$B$18,3)),IF(I777=\"\",\"\",\"-\"),I777,IF(K777=\"\",\"\",\"-\"),K777,IF(M777=\"\",\"\",\"-\"),M777))))","v":""},null," ",{"$nulls":9},{"$f":"IF(LEN('1 - Opstart Importark'!$B$6)>0,'1 - Opstart Importark'!$B$6,\"\")","v":""},{"$f":"IF(LEN('1 - Opstart Importark'!$B$9)>0,'1 - Opstart Importark'!$B$9,\"\")","v":""},{"$f":"IF(LEN('1 - Opstart Importark'!$B$23)>0,'1 - Opstart Importark'!$B$23,\"\")","v":""},{"$nulls":14},"",{"$nulls":8},0,"","","objektnogle_"]
[766,null,{"$f":"IF('1 - Opstart Importark'!$B$6=\"\",\"\",(IF('1 - Opstart Importark'!$B$15=\"\",CONCATENATE(LEFT('1 - Opstart Importark'!$B$3,1),(LEFT('1 - Opstart Importark'!$B$20,5)),MID('1 - Opstart Importark'!$B$20,5,2),LEFT('1 - Opstart Importark'!$B$28,3),IF(I778=\"\",\"\",\"-\"),I778,IF(K778=\"\",\"\",\"-\"),K778,IF(M778=\"\",\"\",\"-\"),M778),CONCATENATE(LEFT('1 - Opstart Importark'!$B$3,1),(LEFT('1 - Opstart Importark'!$B$15,5)),(LEFT('1 - Opstart Importark'!$B$18,3)),IF(I778=\"\",\"\",\"-\"),I778,IF(K778=\"\",\"\",\"-\"),K778,IF(M778=\"\",\"\",\"-\"),M778))))","v":""},null," ",{"$nulls":9},{"$f":"IF(LEN('1 - Opstart Importark'!$B$6)>0,'1 - Opstart Importark'!$B$6,\"\")","v":""},{"$f":"IF(LEN('1 - Opstart Importark'!$B$9)>0,'1 - Opstart Importark'!$B$9,\"\")","v":""},{"$f":"IF(LEN('1 - Opstart Importark'!$B$23)>0,'1 - Opstart Importark'!$B$23,\"\")","v":""},{"$nulls":14},"",{"$nulls":8},0,"","","objektnogle_"]
[767,null,{"$f":"IF('1 - Opstart Importark'!$B$6=\"\",\"\",(IF('1 - Opstart Importark'!$B$15=\"\",CONCATENATE(LEFT('1 - Opstart Importark'!$B$3,1),(LEFT('1 - Opstart Importark'!$B$20,5)),MID('1 - Opstart Importark'!$B$20,5,2),LEFT('1 - Opstart Importark'!$B$28,3),IF(I779=\"\",\"\",\"-\"),I779,IF(K779=\"\",\"\",\"-\"),K779,IF(M779=\"\",\"\",\"-\"),M779),CONCATENATE(LEFT('1 - Opstart Importark'!$B$3,1),(LEFT('1 - Opstart Importark'!$B$15,5)),(LEFT('1 - Opstart Importark'!$B$18,3)),IF(I779=\"\",\"\",\"-\"),I779,IF(K779=\"\",\"\",\"-\"),K779,IF(M779=\"\",\"\",\"-\"),M779))))","v":""},null," ",{"$nulls":9},{"$f":"IF(LEN('1 - Opstart Importark'!$B$6)>0,'1 - Opstart Importark'!$B$6,\"\")","v":""},{"$f":"IF(LEN('1 - Opstart Importark'!$B$9)>0,'1 - Opstart Importark'!$B$9,\"\")","v":""},{"$f":"IF(LEN('1 - Opstart Importark'!$B$23)>0,'1 - Opstart Importark'!$B$23,\"\")","v":""},{"$nulls":14},"",{"$nulls":8},0,"","","objektnogle_"]
[768,null,{"$f":"IF('1 - Opstart Importark'!$B$6=\"\",\"\",(IF('1 - Opstart Importark'!$B$15=\"\",CONCATENATE(LEFT('1 - Opstart Importark'!$B$3,1),(LEFT('1 - Opstart Importark'!$B$20,5)),MID('1 - Opstart Importark'!$B$20,5,2),LEFT('1 - Opstart Importark'!$B$28,3),IF(I780=\"\",\"\",\"-\"),I780,IF(K780=\"\",\"\",\"-\"),K780,IF(M780=\"\",\"\",\"-\"),M780),CONCATENATE(LEFT('1 - Opstart Importark'!$B$3,1),(LEFT('1 - Opstart Importark'!$B$15,5)),(LEFT('1 - Opstart Importark'!$B$18,3)),IF(I780=\"\",\"\",\"-\"),I780,IF(K780=\"\",\"\",\"-\"),K780,IF(M780=\"\",\"\",\"-\"),M780))))","v":""},null," ",{"$nulls":9},{"$f":"IF(LEN('1 - Opstart Importark'!$B$6)>0,'1 - Opstart Importark'!$B$6,\"\")","v":""},{"$f":"IF(LEN('1 - Opstart Importark'!$B$9)>0,'1 - Opstart Importark'!$B$9,\"\")","v":""},{"$f":"IF(LEN('1 - Opstart Importark'!$B$23)>0,'1 - Opstart Importark'!$B$23,\"\")","v":""},{"$nulls":14},"",{"$nulls":8},0,"","","objektnogle_"]
[769,null,{"$f":"IF('1 - Opstart Importark'!$B$6=\"\",\"\",(IF('1 - Opstart Importark'!$B$15=\"\",CONCATENATE(LEFT('1 - Opstart Importark'!$B$3,1),(LEFT('1 - Opstart Importark'!$B$20,5)),MID('1 - Opstart Importark'!$B$20,5,2),LEFT('1 - Opstart Importark'!$B$28,3),IF(I781=\"\",\"\",\"-\"),I781,IF(K781=\"\",\"\",\"-\"),K781,IF(M781=\"\",\"\",\"-\"),M781),CONCATENATE(LEFT('1 - Opstart Importark'!$B$3,1),(LEFT('1 - Opstart Importark'!$B$15,5)),(LEFT('1 - Opstart Importark'!$B$18,3)),IF(I781=\"\",\"\",\"-\"),I781,IF(K781=\"\",\"\",\"-\"),K781,IF(M781=\"\",\"\",\"-\"),M781))))","v":""},null," ",{"$nulls":9},{"$f":"IF(LEN('1 - Opstart Importark'!$B$6)>0,'1 - Opstart Importark'!$B$6,\"\")","v":""},{"$f":"IF(LEN('1 - Opstart Importark'!$B$9)>0,'1 - Opstart Importark'!$B$9,\"\")","v":""},{"$f":"IF(LEN('1 - Opstart Importark'!$B$23)>0,'1 - Opstart Importark'!$B$23,\"\")","v":""},{"$nulls":14},{"$f":"IF(K781=\"\",\"\",VLOOKUP(LEFT(K781,1),objektfilter,2))","v":""},{"$nulls":8},{"$f":"IFERROR(FIND(\".\",F781),)","v":0},"","","objektnogle_"]
[770,null,{"$f":"IF('1 - Opstart Importark'!$B$6=\"\",\"\",(IF('1 - Opstart Importark'!$B$15=\"\",CONCATENATE(LEFT('1 - Opstart Importark'!$B$3,1),(LEFT('1 - Opstart Importark'!$B$20,5)),MID('1 - Opstart Importark'!$B$20,5,2),LEFT('1 - Opstart Importark'!$B$28,3),IF(I782=\"\",\"\",\"-\"),I782,IF(K782=\"\",\"\",\"-\"),K782,IF(M782=\"\",\"\",\"-\"),M782),CONCATENATE(LEFT('1 - Opstart Importark'!$B$3,1),(LEFT('1 - Opstart Importark'!$B$15,5)),(LEFT('1 - Opstart Importark'!$B$18,3)),IF(I782=\"\",\"\",\"-\"),I782,IF(K782=\"\",\"\",\"-\"),K782,IF(M782=\"\",\"\",\"-\"),M782))))","v":""},null," ",{"$nulls":9},{"$f":"IF(LEN('1 - Opstart Importark'!$B$6)>0,'1 - Opstart Importark'!$B$6,\"\")","v":""},{"$f":"IF(LEN('1 - Opstart Importark'!$B$9)>0,'1 - Opstart Importark'!$B$9,\"\")","v":""},{"$f":"IF(LEN('1 - Opstart Importark'!$B$23)>0,'1 - Opstart Importark'!$B$23,\"\")","v":""},{"$nulls":14},"",{"$nulls":8},0,{"$f":"IF(K782=\"\",\"\",IF(LEFT(K782,1)=\"E\",0,1))","v":""},{"$f":"IF(K782=\"\",\"\",IF(LEFT(K782,1)=\"E\",0,1))","v":""},{"$f":"IF(W782=\"\", CONCATENATE(\"objektnogle_\",LEFT(AF782,1)),CONCATENATE(\"objektnogle_\",LEFT(W782,1)))","v":"objektnogle_"}]
[771,null,{"$f":"IF('1 - Opstart Importark'!$B$6=\"\",\"\",(IF('1 - Opstart Importark'!$B$15=\"\",CONCATENATE(LEFT('1 - Opstart Importark'!$B$3,1),(LEFT('1 - Opstart Importark'!$B$20,5)),MID('1 - Opstart Importark'!$B$20,5,2),LEFT('1 - Opstart Importark'!$B$28,3),IF(I783=\"\",\"\",\"-\"),I783,IF(K783=\"\",\"\",\"-\"),K783,IF(M783=\"\",\"\",\"-\"),M783),CONCATENATE(LEFT('1 - Opstart Importark'!$B$3,1),(LEFT('1 - Opstart Importark'!$B$15,5)),(LEFT('1 - Opstart Importark'!$B$18,3)),IF(I783=\"\",\"\",\"-\"),I783,IF(K783=\"\",\"\",\"-\"),K783,IF(M783=\"\",\"\",\"-\"),M783))))","v":""},null," ",{"$nulls":9},{"$f":"IF(LEN('1 - Opstart Importark'!$B$6)>0,'1 - Opstart Importark'!$B$6,\"\")","v":""},{"$f":"IF(LEN('1 - Opstart Importark'!$B$9)>0,'1 - Opstart Importark'!$B$9,\"\")","v":""},{"$f":"IF(LEN('1 - Opstart Importark'!$B$23)>0,'1 - Opstart Importark'!$B$23,\"\")","v":""},{"$nulls":14},"",{"$nulls":8},0,"","","objektnogle_"]
[772,null,{"$f":"IF('1 - Opstart Importark'!$B$6=\"\",\"\",(IF('1 - Opstart Importark'!$B$15=\"\",CONCATENATE(LEFT('1 - Opstart Importark'!$B$3,1),(LEFT('1 - Opstart Importark'!$B$20,5)),MID('1 - Opstart Importark'!$B$20,5,2),LEFT('1 - Opstart Importark'!$B$28,3),IF(I784=\"\",\"\",\"-\"),I784,IF(K784=\"\",\"\",\"-\"),K784,IF(M784=\"\",\"\",\"-\"),M784),CONCATENATE(LEFT('1 - Opstart Importark'!$B$3,1),(LEFT('1 - Opstart Importark'!$B$15,5)),(LEFT('1 - Opstart Importark'!$B$18,3)),IF(I784=\"\",\"\",\"-\"),I784,IF(K784=\"\",\"\",\"-\"),K784,IF(M784=\"\",\"\",\"-\"),M784))))","v":""},null," ",{"$nulls":9},{"$f":"IF(LEN('1 - Opstart Importark'!$B$6)>0,'1 - Opstart Importark'!$B$6,\"\")","v":""},{"$f":"IF(LEN('1 - Opstart Importark'!$B$9)>0,'1 - Opstart Importark'!$B$9,\"\")","v":""},{"$f":"IF(LEN('1 - Opstart Importark'!$B$23)>0,'1 - Opstart Importark'!$B$23,\"\")","v":""},{"$nulls":14},"",{"$nulls":8},0,"","","objektnogle_"]
[773,null,{"$f":"IF('1 - Opstart Importark'!$B$6=\"\",\"\",(IF('1 - Opstart Importark'!$B$15=\"\",CONCATENATE(LEFT('1 - Opstart Importark'!$B$3,1),(LEFT('1 - Opstart Importark'!$B$20,5)),MID('1 - Opstart Importark'!$B$20,5,2),LEFT('1 - Opstart Importark'!$B$28,3),IF(I785=\"\",\"\",\"-\"),I785,IF(K785=\"\",\"\",\"-\"),K785,IF(M785=\"\",\"\",\"-\"),M785),CONCATENATE(LEFT('1 - Opstart Importark'!$B$3,1),(LEFT('1 - Opstart Importark'!$B$15,5)),(LEFT('1 - Opstart Importark'!$B$18,3)),IF(I785=\"\",\"\",\"-\"),I785,IF(K785=\"\",\"\",\"-\"),K785,IF(M785=\"\",\"\",\"-\"),M785))))","v":""},null," ",{"$nulls":9},{"$f":"IF(LEN('1 - Opstart Importark'!$B$6)>0,'1 - Opstart Importark'!$B$6,\"\")","v":""},{"$f":"IF(LEN('1 - Opstart Importark'!$B$9)>0,'1 - Opstart Importark'!$B$9,\"\")","v":""},{"$f":"IF(LEN('1 - Opstart Importark'!$B$23)>0,'1 - Opstart Importark'!$B$23,\"\")","v":""},{"$nulls":14},"",{"$nulls":8},0,"","","objektnogle_"]
[774,null,{"$f":"IF('1 - Opstart Importark'!$B$6=\"\",\"\",(IF('1 - Opstart Importark'!$B$15=\"\",CONCATENATE(LEFT('1 - Opstart Importark'!$B$3,1),(LEFT('1 - Opstart Importark'!$B$20,5)),MID('1 - Opstart Importark'!$B$20,5,2),LEFT('1 - Opstart Importark'!$B$28,3),IF(I786=\"\",\"\",\"-\"),I786,IF(K786=\"\",\"\",\"-\"),K786,IF(M786=\"\",\"\",\"-\"),M786),CONCATENATE(LEFT('1 - Opstart Importark'!$B$3,1),(LEFT('1 - Opstart Importark'!$B$15,5)),(LEFT('1 - Opstart Importark'!$B$18,3)),IF(I786=\"\",\"\",\"-\"),I786,IF(K786=\"\",\"\",\"-\"),K786,IF(M786=\"\",\"\",\"-\"),M786))))","v":""},null," ",{"$nulls":9},{"$f":"IF(LEN('1 - Opstart Importark'!$B$6)>0,'1 - Opstart Importark'!$B$6,\"\")","v":""},{"$f":"IF(LEN('1 - Opstart Importark'!$B$9)>0,'1 - Opstart Importark'!$B$9,\"\")","v":""},{"$f":"IF(LEN('1 - Opstart Importark'!$B$23)>0,'1 - Opstart Importark'!$B$23,\"\")","v":""},{"$nulls":14},"",{"$nulls":8},0,"","","objektnogle_"]
[775,null,{"$f":"IF('1 - Opstart Importark'!$B$6=\"\",\"\",(IF('1 - Opstart Importark'!$B$15=\"\",CONCATENATE(LEFT('1 - Opstart Importark'!$B$3,1),(LEFT('1 - Opstart Importark'!$B$20,5)),MID('1 - Opstart Importark'!$B$20,5,2),LEFT('1 - Opstart Importark'!$B$28,3),IF(I787=\"\",\"\",\"-\"),I787,IF(K787=\"\",\"\",\"-\"),K787,IF(M787=\"\",\"\",\"-\"),M787),CONCATENATE(LEFT('1 - Opstart Importark'!$B$3,1),(LEFT('1 - Opstart Importark'!$B$15,5)),(LEFT('1 - Opstart Importark'!$B$18,3)),IF(I787=\"\",\"\",\"-\"),I787,IF(K787=\"\",\"\",\"-\"),K787,IF(M787=\"\",\"\",\"-\"),M787))))","v":""},null," ",{"$nulls":9},{"$f":"IF(LEN('1 - Opstart Importark'!$B$6)>0,'1 - Opstart Importark'!$B$6,\"\")","v":""},{"$f":"IF(LEN('1 - Opstart Importark'!$B$9)>0,'1 - Opstart Importark'!$B$9,\"\")","v":""},{"$f":"IF(LEN('1 - Opstart Importark'!$B$23)>0,'1 - Opstart Importark'!$B$23,\"\")","v":""},{"$nulls":14},"",{"$nulls":8},0,"","","objektnogle_"]
[776,null,{"$f":"IF('1 - Opstart Importark'!$B$6=\"\",\"\",(IF('1 - Opstart Importark'!$B$15=\"\",CONCATENATE(LEFT('1 - Opstart Importark'!$B$3,1),(LEFT('1 - Opstart Importark'!$B$20,5)),MID('1 - Opstart Importark'!$B$20,5,2),LEFT('1 - Opstart Importark'!$B$28,3),IF(I788=\"\",\"\",\"-\"),I788,IF(K788=\"\",\"\",\"-\"),K788,IF(M788=\"\",\"\",\"-\"),M788),CONCATENATE(LEFT('1 - Opstart Importark'!$B$3,1),(LEFT('1 - Opstart Importark'!$B$15,5)),(LEFT('1 - Opstart Importark'!$B$18,3)),IF(I788=\"\",\"\",\"-\"),I788,IF(K788=\"\",\"\",\"-\"),K788,IF(M788=\"\",\"\",\"-\"),M788))))","v":""},null," ",{"$nulls":9},{"$f":"IF(LEN('1 - Opstart Importark'!$B$6)>0,'1 - Opstart Importark'!$B$6,\"\")","v":""},{"$f":"IF(LEN('1 - Opstart Importark'!$B$9)>0,'1 - Opstart Importark'!$B$9,\"\")","v":""},{"$f":"IF(LEN('1 - Opstart Importark'!$B$23)>0,'1 - Opstart Importark'!$B$23,\"\")","v":""},{"$nulls":14},"",{"$nulls":8},0,"","","objektnogle_"]
[777,null,{"$f":"IF('1 - Opstart Importark'!$B$6=\"\",\"\",(IF('1 - Opstart Importark'!$B$15=\"\",CONCATENATE(LEFT('1 - Opstart Importark'!$B$3,1),(LEFT('1 - Opstart Importark'!$B$20,5)),MID('1 - Opstart Importark'!$B$20,5,2),LEFT('1 - Opstart Importark'!$B$28,3),IF(I789=\"\",\"\",\"-\"),I789,IF(K789=\"\",\"\",\"-\"),K789,IF(M789=\"\",\"\",\"-\"),M789),CONCATENATE(LEFT('1 - Opstart Importark'!$B$3,1),(LEFT('1 - Opstart Importark'!$B$15,5)),(LEFT('1 - Opstart Importark'!$B$18,3)),IF(I789=\"\",\"\",\"-\"),I789,IF(K789=\"\",\"\",\"-\"),K789,IF(M789=\"\",\"\",\"-\"),M789))))","v":""},null," ",{"$nulls":9},{"$f":"IF(LEN('1 - Opstart Importark'!$B$6)>0,'1 - Opstart Importark'!$B$6,\"\")","v":""},{"$f":"IF(LEN('1 - Opstart Importark'!$B$9)>0,'1 - Opstart Importark'!$B$9,\"\")","v":""},{"$f":"IF(LEN('1 - Opstart Importark'!$B$23)>0,'1 - Opstart Importark'!$B$23,\"\")","v":""},{"$nulls":14},"",{"$nulls":8},0,"","","objektnogle_"]
[778,null,{"$f":"IF('1 - Opstart Importark'!$B$6=\"\",\"\",(IF('1 - Opstart Importark'!$B$15=\"\",CONCATENATE(LEFT('1 - Opstart Importark'!$B$3,1),(LEFT('1 - Opstart Importark'!$B$20,5)),MID('1 - Opstart Importark'!$B$20,5,2),LEFT('1 - Opstart Importark'!$B$28,3),IF(I790=\"\",\"\",\"-\"),I790,IF(K790=\"\",\"\",\"-\"),K790,IF(M790=\"\",\"\",\"-\"),M790),CONCATENATE(LEFT('1 - Opstart Importark'!$B$3,1),(LEFT('1 - Opstart Importark'!$B$15,5)),(LEFT('1 - Opstart Importark'!$B$18,3)),IF(I790=\"\",\"\",\"-\"),I790,IF(K790=\"\",\"\",\"-\"),K790,IF(M790=\"\",\"\",\"-\"),M790))))","v":""},null," ",{"$nulls":9},{"$f":"IF(LEN('1 - Opstart Importark'!$B$6)>0,'1 - Opstart Importark'!$B$6,\"\")","v":""},{"$f":"IF(LEN('1 - Opstart Importark'!$B$9)>0,'1 - Opstart Importark'!$B$9,\"\")","v":""},{"$f":"IF(LEN('1 - Opstart Importark'!$B$23)>0,'1 - Opstart Importark'!$B$23,\"\")","v":""},{"$nulls":14},"",{"$nulls":8},0,"","","objektnogle_"]
[779,null,{"$f":"IF('1 - Opstart Importark'!$B$6=\"\",\"\",(IF('1 - Opstart Importark'!$B$15=\"\",CONCATENATE(LEFT('1 - Opstart Importark'!$B$3,1),(LEFT('1 - Opstart Importark'!$B$20,5)),MID('1 - Opstart Importark'!$B$20,5,2),LEFT('1 - Opstart Importark'!$B$28,3),IF(I791=\"\",\"\",\"-\"),I791,IF(K791=\"\",\"\",\"-\"),K791,IF(M791=\"\",\"\",\"-\"),M791),CONCATENATE(LEFT('1 - Opstart Importark'!$B$3,1),(LEFT('1 - Opstart Importark'!$B$15,5)),(LEFT('1 - Opstart Importark'!$B$18,3)),IF(I791=\"\",\"\",\"-\"),I791,IF(K791=\"\",\"\",\"-\"),K791,IF(M791=\"\",\"\",\"-\"),M791))))","v":""},null," ",{"$nulls":9},{"$f":"IF(LEN('1 - Opstart Importark'!$B$6)>0,'1 - Opstart Importark'!$B$6,\"\")","v":""},{"$f":"IF(LEN('1 - Opstart Importark'!$B$9)>0,'1 - Opstart Importark'!$B$9,\"\")","v":""},{"$f":"IF(LEN('1 - Opstart Importark'!$B$23)>0,'1 - Opstart Importark'!$B$23,\"\")","v":""},{"$nulls":14},"",{"$nulls":8},0,"","","objektnogle_"]
[780,null,{"$f":"IF('1 - Opstart Importark'!$B$6=\"\",\"\",(IF('1 - Opstart Importark'!$B$15=\"\",CONCATENATE(LEFT('1 - Opstart Importark'!$B$3,1),(LEFT('1 - Opstart Importark'!$B$20,5)),MID('1 - Opstart Importark'!$B$20,5,2),LEFT('1 - Opstart Importark'!$B$28,3),IF(I792=\"\",\"\",\"-\"),I792,IF(K792=\"\",\"\",\"-\"),K792,IF(M792=\"\",\"\",\"-\"),M792),CONCATENATE(LEFT('1 - Opstart Importark'!$B$3,1),(LEFT('1 - Opstart Importark'!$B$15,5)),(LEFT('1 - Opstart Importark'!$B$18,3)),IF(I792=\"\",\"\",\"-\"),I792,IF(K792=\"\",\"\",\"-\"),K792,IF(M792=\"\",\"\",\"-\"),M792))))","v":""},null," ",{"$nulls":9},{"$f":"IF(LEN('1 - Opstart Importark'!$B$6)>0,'1 - Opstart Importark'!$B$6,\"\")","v":""},{"$f":"IF(LEN('1 - Opstart Importark'!$B$9)>0,'1 - Opstart Importark'!$B$9,\"\")","v":""},{"$f":"IF(LEN('1 - Opstart Importark'!$B$23)>0,'1 - Opstart Importark'!$B$23,\"\")","v":""},{"$nulls":14},"",{"$nulls":8},0,"","","objektnogle_"]
[781,null,{"$f":"IF('1 - Opstart Importark'!$B$6=\"\",\"\",(IF('1 - Opstart Importark'!$B$15=\"\",CONCATENATE(LEFT('1 - Opstart Importark'!$B$3,1),(LEFT('1 - Opstart Importark'!$B$20,5)),MID('1 - Opstart Importark'!$B$20,5,2),LEFT('1 - Opstart Importark'!$B$28,3),IF(I793=\"\",\"\",\"-\"),I793,IF(K793=\"\",\"\",\"-\"),K793,IF(M793=\"\",\"\",\"-\"),M793),CONCATENATE(LEFT('1 - Opstart Importark'!$B$3,1),(LEFT('1 - Opstart Importark'!$B$15,5)),(LEFT('1 - Opstart Importark'!$B$18,3)),IF(I793=\"\",\"\",\"-\"),I793,IF(K793=\"\",\"\",\"-\"),K793,IF(M793=\"\",\"\",\"-\"),M793))))","v":""},null," ",{"$nulls":9},{"$f":"IF(LEN('1 - Opstart Importark'!$B$6)>0,'1 - Opstart Importark'!$B$6,\"\")","v":""},{"$f":"IF(LEN('1 - Opstart Importark'!$B$9)>0,'1 - Opstart Importark'!$B$9,\"\")","v":""},{"$f":"IF(LEN('1 - Opstart Importark'!$B$23)>0,'1 - Opstart Importark'!$B$23,\"\")","v":""},{"$nulls":14},"",{"$nulls":8},0,"","","objektnogle_"]
[782,null,{"$f":"IF('1 - Opstart Importark'!$B$6=\"\",\"\",(IF('1 - Opstart Importark'!$B$15=\"\",CONCATENATE(LEFT('1 - Opstart Importark'!$B$3,1),(LEFT('1 - Opstart Importark'!$B$20,5)),MID('1 - Opstart Importark'!$B$20,5,2),LEFT('1 - Opstart Importark'!$B$28,3),IF(I794=\"\",\"\",\"-\"),I794,IF(K794=\"\",\"\",\"-\"),K794,IF(M794=\"\",\"\",\"-\"),M794),CONCATENATE(LEFT('1 - Opstart Importark'!$B$3,1),(LEFT('1 - Opstart Importark'!$B$15,5)),(LEFT('1 - Opstart Importark'!$B$18,3)),IF(I794=\"\",\"\",\"-\"),I794,IF(K794=\"\",\"\",\"-\"),K794,IF(M794=\"\",\"\",\"-\"),M794))))","v":""},null," ",{"$nulls":9},{"$f":"IF(LEN('1 - Opstart Importark'!$B$6)>0,'1 - Opstart Importark'!$B$6,\"\")","v":""},{"$f":"IF(LEN('1 - Opstart Importark'!$B$9)>0,'1 - Opstart Importark'!$B$9,\"\")","v":""},{"$f":"IF(LEN('1 - Opstart Importark'!$B$23)>0,'1 - Opstart Importark'!$B$23,\"\")","v":""},{"$nulls":14},"",{"$nulls":8},0,"","","objektnogle_"]
[783,null,{"$f":"IF('1 - Opstart Importark'!$B$6=\"\",\"\",(IF('1 - Opstart Importark'!$B$15=\"\",CONCATENATE(LEFT('1 - Opstart Importark'!$B$3,1),(LEFT('1 - Opstart Importark'!$B$20,5)),MID('1 - Opstart Importark'!$B$20,5,2),LEFT('1 - Opstart Importark'!$B$28,3),IF(I795=\"\",\"\",\"-\"),I795,IF(K795=\"\",\"\",\"-\"),K795,IF(M795=\"\",\"\",\"-\"),M795),CONCATENATE(LEFT('1 - Opstart Importark'!$B$3,1),(LEFT('1 - Opstart Importark'!$B$15,5)),(LEFT('1 - Opstart Importark'!$B$18,3)),IF(I795=\"\",\"\",\"-\"),I795,IF(K795=\"\",\"\",\"-\"),K795,IF(M795=\"\",\"\",\"-\"),M795))))","v":""},null," ",{"$nulls":9},{"$f":"IF(LEN('1 - Opstart Importark'!$B$6)>0,'1 - Opstart Importark'!$B$6,\"\")","v":""},{"$f":"IF(LEN('1 - Opstart Importark'!$B$9)>0,'1 - Opstart Importark'!$B$9,\"\")","v":""},{"$f":"IF(LEN('1 - Opstart Importark'!$B$23)>0,'1 - Opstart Importark'!$B$23,\"\")","v":""},{"$nulls":14},"",{"$nulls":8},0,"","","objektnogle_"]
[784,null,{"$f":"IF('1 - Opstart Importark'!$B$6=\"\",\"\",(IF('1 - Opstart Importark'!$B$15=\"\",CONCATENATE(LEFT('1 - Opstart Importark'!$B$3,1),(LEFT('1 - Opstart Importark'!$B$20,5)),MID('1 - Opstart Importark'!$B$20,5,2),LEFT('1 - Opstart Importark'!$B$28,3),IF(I796=\"\",\"\",\"-\"),I796,IF(K796=\"\",\"\",\"-\"),K796,IF(M796=\"\",\"\",\"-\"),M796),CONCATENATE(LEFT('1 - Opstart Importark'!$B$3,1),(LEFT('1 - Opstart Importark'!$B$15,5)),(LEFT('1 - Opstart Importark'!$B$18,3)),IF(I796=\"\",\"\",\"-\"),I796,IF(K796=\"\",\"\",\"-\"),K796,IF(M796=\"\",\"\",\"-\"),M796))))","v":""},null," ",{"$nulls":9},{"$f":"IF(LEN('1 - Opstart Importark'!$B$6)>0,'1 - Opstart Importark'!$B$6,\"\")","v":""},{"$f":"IF(LEN('1 - Opstart Importark'!$B$9)>0,'1 - Opstart Importark'!$B$9,\"\")","v":""},{"$f":"IF(LEN('1 - Opstart Importark'!$B$23)>0,'1 - Opstart Importark'!$B$23,\"\")","v":""},{"$nulls":14},"",{"$nulls":8},0,"","","objektnogle_"]
[785,null,{"$f":"IF('1 - Opstart Importark'!$B$6=\"\",\"\",(IF('1 - Opstart Importark'!$B$15=\"\",CONCATENATE(LEFT('1 - Opstart Importark'!$B$3,1),(LEFT('1 - Opstart Importark'!$B$20,5)),MID('1 - Opstart Importark'!$B$20,5,2),LEFT('1 - Opstart Importark'!$B$28,3),IF(I797=\"\",\"\",\"-\"),I797,IF(K797=\"\",\"\",\"-\"),K797,IF(M797=\"\",\"\",\"-\"),M797),CONCATENATE(LEFT('1 - Opstart Importark'!$B$3,1),(LEFT('1 - Opstart Importark'!$B$15,5)),(LEFT('1 - Opstart Importark'!$B$18,3)),IF(I797=\"\",\"\",\"-\"),I797,IF(K797=\"\",\"\",\"-\"),K797,IF(M797=\"\",\"\",\"-\"),M797))))","v":""},null," ",{"$nulls":9},{"$f":"IF(LEN('1 - Opstart Importark'!$B$6)>0,'1 - Opstart Importark'!$B$6,\"\")","v":""},{"$f":"IF(LEN('1 - Opstart Importark'!$B$9)>0,'1 - Opstart Importark'!$B$9,\"\")","v":""},{"$f":"IF(LEN('1 - Opstart Importark'!$B$23)>0,'1 - Opstart Importark'!$B$23,\"\")","v":""},{"$nulls":14},"",{"$nulls":8},0,"","","objektnogle_"]
[786,null,{"$f":"IF('1 - Opstart Importark'!$B$6=\"\",\"\",(IF('1 - Opstart Importark'!$B$15=\"\",CONCATENATE(LEFT('1 - Opstart Importark'!$B$3,1),(LEFT('1 - Opstart Importark'!$B$20,5)),MID('1 - Opstart Importark'!$B$20,5,2),LEFT('1 - Opstart Importark'!$B$28,3),IF(I798=\"\",\"\",\"-\"),I798,IF(K798=\"\",\"\",\"-\"),K798,IF(M798=\"\",\"\",\"-\"),M798),CONCATENATE(LEFT('1 - Opstart Importark'!$B$3,1),(LEFT('1 - Opstart Importark'!$B$15,5)),(LEFT('1 - Opstart Importark'!$B$18,3)),IF(I798=\"\",\"\",\"-\"),I798,IF(K798=\"\",\"\",\"-\"),K798,IF(M798=\"\",\"\",\"-\"),M798))))","v":""},null," ",{"$nulls":9},{"$f":"IF(LEN('1 - Opstart Importark'!$B$6)>0,'1 - Opstart Importark'!$B$6,\"\")","v":""},{"$f":"IF(LEN('1 - Opstart Importark'!$B$9)>0,'1 - Opstart Importark'!$B$9,\"\")","v":""},{"$f":"IF(LEN('1 - Opstart Importark'!$B$23)>0,'1 - Opstart Importark'!$B$23,\"\")","v":""},{"$nulls":14},"",{"$nulls":8},0,"","","objektnogle_"]
[787,null,{"$f":"IF('1 - Opstart Importark'!$B$6=\"\",\"\",(IF('1 - Opstart Importark'!$B$15=\"\",CONCATENATE(LEFT('1 - Opstart Importark'!$B$3,1),(LEFT('1 - Opstart Importark'!$B$20,5)),MID('1 - Opstart Importark'!$B$20,5,2),LEFT('1 - Opstart Importark'!$B$28,3),IF(I799=\"\",\"\",\"-\"),I799,IF(K799=\"\",\"\",\"-\"),K799,IF(M799=\"\",\"\",\"-\"),M799),CONCATENATE(LEFT('1 - Opstart Importark'!$B$3,1),(LEFT('1 - Opstart Importark'!$B$15,5)),(LEFT('1 - Opstart Importark'!$B$18,3)),IF(I799=\"\",\"\",\"-\"),I799,IF(K799=\"\",\"\",\"-\"),K799,IF(M799=\"\",\"\",\"-\"),M799))))","v":""},null," ",{"$nulls":9},{"$f":"IF(LEN('1 - Opstart Importark'!$B$6)>0,'1 - Opstart Importark'!$B$6,\"\")","v":""},{"$f":"IF(LEN('1 - Opstart Importark'!$B$9)>0,'1 - Opstart Importark'!$B$9,\"\")","v":""},{"$f":"IF(LEN('1 - Opstart Importark'!$B$23)>0,'1 - Opstart Importark'!$B$23,\"\")","v":""},{"$nulls":14},"",{"$nulls":8},0,"","","objektnogle_"]
[788,null,{"$f":"IF('1 - Opstart Importark'!$B$6=\"\",\"\",(IF('1 - Opstart Importark'!$B$15=\"\",CONCATENATE(LEFT('1 - Opstart Importark'!$B$3,1),(LEFT('1 - Opstart Importark'!$B$20,5)),MID('1 - Opstart Importark'!$B$20,5,2),LEFT('1 - Opstart Importark'!$B$28,3),IF(I800=\"\",\"\",\"-\"),I800,IF(K800=\"\",\"\",\"-\"),K800,IF(M800=\"\",\"\",\"-\"),M800),CONCATENATE(LEFT('1 - Opstart Importark'!$B$3,1),(LEFT('1 - Opstart Importark'!$B$15,5)),(LEFT('1 - Opstart Importark'!$B$18,3)),IF(I800=\"\",\"\",\"-\"),I800,IF(K800=\"\",\"\",\"-\"),K800,IF(M800=\"\",\"\",\"-\"),M800))))","v":""},null," ",{"$nulls":9},{"$f":"IF(LEN('1 - Opstart Importark'!$B$6)>0,'1 - Opstart Importark'!$B$6,\"\")","v":""},{"$f":"IF(LEN('1 - Opstart Importark'!$B$9)>0,'1 - Opstart Importark'!$B$9,\"\")","v":""},{"$f":"IF(LEN('1 - Opstart Importark'!$B$23)>0,'1 - Opstart Importark'!$B$23,\"\")","v":""},{"$nulls":14},"",{"$nulls":8},0,"","","objektnogle_"]
[789,null,{"$f":"IF('1 - Opstart Importark'!$B$6=\"\",\"\",(IF('1 - Opstart Importark'!$B$15=\"\",CONCATENATE(LEFT('1 - Opstart Importark'!$B$3,1),(LEFT('1 - Opstart Importark'!$B$20,5)),MID('1 - Opstart Importark'!$B$20,5,2),LEFT('1 - Opstart Importark'!$B$28,3),IF(I801=\"\",\"\",\"-\"),I801,IF(K801=\"\",\"\",\"-\"),K801,IF(M801=\"\",\"\",\"-\"),M801),CONCATENATE(LEFT('1 - Opstart Importark'!$B$3,1),(LEFT('1 - Opstart Importark'!$B$15,5)),(LEFT('1 - Opstart Importark'!$B$18,3)),IF(I801=\"\",\"\",\"-\"),I801,IF(K801=\"\",\"\",\"-\"),K801,IF(M801=\"\",\"\",\"-\"),M801))))","v":""},null," ",{"$nulls":9},{"$f":"IF(LEN('1 - Opstart Importark'!$B$6)>0,'1 - Opstart Importark'!$B$6,\"\")","v":""},{"$f":"IF(LEN('1 - Opstart Importark'!$B$9)>0,'1 - Opstart Importark'!$B$9,\"\")","v":""},{"$f":"IF(LEN('1 - Opstart Importark'!$B$23)>0,'1 - Opstart Importark'!$B$23,\"\")","v":""},{"$nulls":14},"",{"$nulls":8},0,"","","objektnogle_"]
[790,null,{"$f":"IF('1 - Opstart Importark'!$B$6=\"\",\"\",(IF('1 - Opstart Importark'!$B$15=\"\",CONCATENATE(LEFT('1 - Opstart Importark'!$B$3,1),(LEFT('1 - Opstart Importark'!$B$20,5)),MID('1 - Opstart Importark'!$B$20,5,2),LEFT('1 - Opstart Importark'!$B$28,3),IF(I802=\"\",\"\",\"-\"),I802,IF(K802=\"\",\"\",\"-\"),K802,IF(M802=\"\",\"\",\"-\"),M802),CONCATENATE(LEFT('1 - Opstart Importark'!$B$3,1),(LEFT('1 - Opstart Importark'!$B$15,5)),(LEFT('1 - Opstart Importark'!$B$18,3)),IF(I802=\"\",\"\",\"-\"),I802,IF(K802=\"\",\"\",\"-\"),K802,IF(M802=\"\",\"\",\"-\"),M802))))","v":""},null," ",{"$nulls":9},{"$f":"IF(LEN('1 - Opstart Importark'!$B$6)>0,'1 - Opstart Importark'!$B$6,\"\")","v":""},{"$f":"IF(LEN('1 - Opstart Importark'!$B$9)>0,'1 - Opstart Importark'!$B$9,\"\")","v":""},{"$f":"IF(LEN('1 - Opstart Importark'!$B$23)>0,'1 - Opstart Importark'!$B$23,\"\")","v":""},{"$nulls":14},"",{"$nulls":8},0,"","","objektnogle_"]
[791,null,{"$f":"IF('1 - Opstart Importark'!$B$6=\"\",\"\",(IF('1 - Opstart Importark'!$B$15=\"\",CONCATENATE(LEFT('1 - Opstart Importark'!$B$3,1),(LEFT('1 - Opstart Importark'!$B$20,5)),MID('1 - Opstart Importark'!$B$20,5,2),LEFT('1 - Opstart Importark'!$B$28,3),IF(I803=\"\",\"\",\"-\"),I803,IF(K803=\"\",\"\",\"-\"),K803,IF(M803=\"\",\"\",\"-\"),M803),CONCATENATE(LEFT('1 - Opstart Importark'!$B$3,1),(LEFT('1 - Opstart Importark'!$B$15,5)),(LEFT('1 - Opstart Importark'!$B$18,3)),IF(I803=\"\",\"\",\"-\"),I803,IF(K803=\"\",\"\",\"-\"),K803,IF(M803=\"\",\"\",\"-\"),M803))))","v":""},null," ",{"$nulls":9},{"$f":"IF(LEN('1 - Opstart Importark'!$B$6)>0,'1 - Opstart Importark'!$B$6,\"\")","v":""},{"$f":"IF(LEN('1 - Opstart Importark'!$B$9)>0,'1 - Opstart Importark'!$B$9,\"\")","v":""},{"$f":"IF(LEN('1 - Opstart Importark'!$B$23)>0,'1 - Opstart Importark'!$B$23,\"\")","v":""},{"$nulls":14},"",{"$nulls":8},0,"","","objektnogle_"]
[792,null,{"$f":"IF('1 - Opstart Importark'!$B$6=\"\",\"\",(IF('1 - Opstart Importark'!$B$15=\"\",CONCATENATE(LEFT('1 - Opstart Importark'!$B$3,1),(LEFT('1 - Opstart Importark'!$B$20,5)),MID('1 - Opstart Importark'!$B$20,5,2),LEFT('1 - Opstart Importark'!$B$28,3),IF(I804=\"\",\"\",\"-\"),I804,IF(K804=\"\",\"\",\"-\"),K804,IF(M804=\"\",\"\",\"-\"),M804),CONCATENATE(LEFT('1 - Opstart Importark'!$B$3,1),(LEFT('1 - Opstart Importark'!$B$15,5)),(LEFT('1 - Opstart Importark'!$B$18,3)),IF(I804=\"\",\"\",\"-\"),I804,IF(K804=\"\",\"\",\"-\"),K804,IF(M804=\"\",\"\",\"-\"),M804))))","v":""},null," ",{"$nulls":9},{"$f":"IF(LEN('1 - Opstart Importark'!$B$6)>0,'1 - Opstart Importark'!$B$6,\"\")","v":""},{"$f":"IF(LEN('1 - Opstart Importark'!$B$9)>0,'1 - Opstart Importark'!$B$9,\"\")","v":""},{"$f":"IF(LEN('1 - Opstart Importark'!$B$23)>0,'1 - Opstart Importark'!$B$23,\"\")","v":""},{"$nulls":14},"",{"$nulls":8},0,"","","objektnogle_"]
[793,null,{"$f":"IF('1 - Opstart Importark'!$B$6=\"\",\"\",(IF('1 - Opstart Importark'!$B$15=\"\",CONCATENATE(LEFT('1 - Opstart Importark'!$B$3,1),(LEFT('1 - Opstart Importark'!$B$20,5)),MID('1 - Opstart Importark'!$B$20,5,2),LEFT('1 - Opstart Importark'!$B$28,3),IF(I805=\"\",\"\",\"-\"),I805,IF(K805=\"\",\"\",\"-\"),K805,IF(M805=\"\",\"\",\"-\"),M805),CONCATENATE(LEFT('1 - Opstart Importark'!$B$3,1),(LEFT('1 - Opstart Importark'!$B$15,5)),(LEFT('1 - Opstart Importark'!$B$18,3)),IF(I805=\"\",\"\",\"-\"),I805,IF(K805=\"\",\"\",\"-\"),K805,IF(M805=\"\",\"\",\"-\"),M805))))","v":""},null," ",{"$nulls":9},{"$f":"IF(LEN('1 - Opstart Importark'!$B$6)>0,'1 - Opstart Importark'!$B$6,\"\")","v":""},{"$f":"IF(LEN('1 - Opstart Importark'!$B$9)>0,'1 - Opstart Importark'!$B$9,\"\")","v":""},{"$f":"IF(LEN('1 - Opstart Importark'!$B$23)>0,'1 - Opstart Importark'!$B$23,\"\")","v":""},{"$nulls":14},"",{"$nulls":8},0,"","","objektnogle_"]
[794,null,{"$f":"IF('1 - Opstart Importark'!$B$6=\"\",\"\",(IF('1 - Opstart Importark'!$B$15=\"\",CONCATENATE(LEFT('1 - Opstart Importark'!$B$3,1),(LEFT('1 - Opstart Importark'!$B$20,5)),MID('1 - Opstart Importark'!$B$20,5,2),LEFT('1 - Opstart Importark'!$B$28,3),IF(I806=\"\",\"\",\"-\"),I806,IF(K806=\"\",\"\",\"-\"),K806,IF(M806=\"\",\"\",\"-\"),M806),CONCATENATE(LEFT('1 - Opstart Importark'!$B$3,1),(LEFT('1 - Opstart Importark'!$B$15,5)),(LEFT('1 - Opstart Importark'!$B$18,3)),IF(I806=\"\",\"\",\"-\"),I806,IF(K806=\"\",\"\",\"-\"),K806,IF(M806=\"\",\"\",\"-\"),M806))))","v":""},null," ",{"$nulls":9},{"$f":"IF(LEN('1 - Opstart Importark'!$B$6)>0,'1 - Opstart Importark'!$B$6,\"\")","v":""},{"$f":"IF(LEN('1 - Opstart Importark'!$B$9)>0,'1 - Opstart Importark'!$B$9,\"\")","v":""},{"$f":"IF(LEN('1 - Opstart Importark'!$B$23)>0,'1 - Opstart Importark'!$B$23,\"\")","v":""},{"$nulls":14},"",{"$nulls":8},0,"","","objektnogle_"]
[795,null,{"$f":"IF('1 - Opstart Importark'!$B$6=\"\",\"\",(IF('1 - Opstart Importark'!$B$15=\"\",CONCATENATE(LEFT('1 - Opstart Importark'!$B$3,1),(LEFT('1 - Opstart Importark'!$B$20,5)),MID('1 - Opstart Importark'!$B$20,5,2),LEFT('1 - Opstart Importark'!$B$28,3),IF(I807=\"\",\"\",\"-\"),I807,IF(K807=\"\",\"\",\"-\"),K807,IF(M807=\"\",\"\",\"-\"),M807),CONCATENATE(LEFT('1 - Opstart Importark'!$B$3,1),(LEFT('1 - Opstart Importark'!$B$15,5)),(LEFT('1 - Opstart Importark'!$B$18,3)),IF(I807=\"\",\"\",\"-\"),I807,IF(K807=\"\",\"\",\"-\"),K807,IF(M807=\"\",\"\",\"-\"),M807))))","v":""},null," ",{"$nulls":9},{"$f":"IF(LEN('1 - Opstart Importark'!$B$6)>0,'1 - Opstart Importark'!$B$6,\"\")","v":""},{"$f":"IF(LEN('1 - Opstart Importark'!$B$9)>0,'1 - Opstart Importark'!$B$9,\"\")","v":""},{"$f":"IF(LEN('1 - Opstart Importark'!$B$23)>0,'1 - Opstart Importark'!$B$23,\"\")","v":""},{"$nulls":14},"",{"$nulls":8},0,"","","objektnogle_"]
[796,null,{"$f":"IF('1 - Opstart Importark'!$B$6=\"\",\"\",(IF('1 - Opstart Importark'!$B$15=\"\",CONCATENATE(LEFT('1 - Opstart Importark'!$B$3,1),(LEFT('1 - Opstart Importark'!$B$20,5)),MID('1 - Opstart Importark'!$B$20,5,2),LEFT('1 - Opstart Importark'!$B$28,3),IF(I808=\"\",\"\",\"-\"),I808,IF(K808=\"\",\"\",\"-\"),K808,IF(M808=\"\",\"\",\"-\"),M808),CONCATENATE(LEFT('1 - Opstart Importark'!$B$3,1),(LEFT('1 - Opstart Importark'!$B$15,5)),(LEFT('1 - Opstart Importark'!$B$18,3)),IF(I808=\"\",\"\",\"-\"),I808,IF(K808=\"\",\"\",\"-\"),K808,IF(M808=\"\",\"\",\"-\"),M808))))","v":""},null," ",{"$nulls":9},{"$f":"IF(LEN('1 - Opstart Importark'!$B$6)>0,'1 - Opstart Importark'!$B$6,\"\")","v":""},{"$f":"IF(LEN('1 - Opstart Importark'!$B$9)>0,'1 - Opstart Importark'!$B$9,\"\")","v":""},{"$f":"IF(LEN('1 - Opstart Importark'!$B$23)>0,'1 - Opstart Importark'!$B$23,\"\")","v":""},{"$nulls":14},"",{"$nulls":8},0,"","","objektnogle_"]
[797,null,{"$f":"IF('1 - Opstart Importark'!$B$6=\"\",\"\",(IF('1 - Opstart Importark'!$B$15=\"\",CONCATENATE(LEFT('1 - Opstart Importark'!$B$3,1),(LEFT('1 - Opstart Importark'!$B$20,5)),MID('1 - Opstart Importark'!$B$20,5,2),LEFT('1 - Opstart Importark'!$B$28,3),IF(I809=\"\",\"\",\"-\"),I809,IF(K809=\"\",\"\",\"-\"),K809,IF(M809=\"\",\"\",\"-\"),M809),CONCATENATE(LEFT('1 - Opstart Importark'!$B$3,1),(LEFT('1 - Opstart Importark'!$B$15,5)),(LEFT('1 - Opstart Importark'!$B$18,3)),IF(I809=\"\",\"\",\"-\"),I809,IF(K809=\"\",\"\",\"-\"),K809,IF(M809=\"\",\"\",\"-\"),M809))))","v":""},null," ",{"$nulls":9},{"$f":"IF(LEN('1 - Opstart Importark'!$B$6)>0,'1 - Opstart Importark'!$B$6,\"\")","v":""},{"$f":"IF(LEN('1 - Opstart Importark'!$B$9)>0,'1 - Opstart Importark'!$B$9,\"\")","v":""},{"$f":"IF(LEN('1 - Opstart Importark'!$B$23)>0,'1 - Opstart Importark'!$B$23,\"\")","v":""},{"$nulls":14},"",{"$nulls":8},0,"","","objektnogle_"]
[798,null,{"$f":"IF('1 - Opstart Importark'!$B$6=\"\",\"\",(IF('1 - Opstart Importark'!$B$15=\"\",CONCATENATE(LEFT('1 - Opstart Importark'!$B$3,1),(LEFT('1 - Opstart Importark'!$B$20,5)),MID('1 - Opstart Importark'!$B$20,5,2),LEFT('1 - Opstart Importark'!$B$28,3),IF(I810=\"\",\"\",\"-\"),I810,IF(K810=\"\",\"\",\"-\"),K810,IF(M810=\"\",\"\",\"-\"),M810),CONCATENATE(LEFT('1 - Opstart Importark'!$B$3,1),(LEFT('1 - Opstart Importark'!$B$15,5)),(LEFT('1 - Opstart Importark'!$B$18,3)),IF(I810=\"\",\"\",\"-\"),I810,IF(K810=\"\",\"\",\"-\"),K810,IF(M810=\"\",\"\",\"-\"),M810))))","v":""},null," ",{"$nulls":9},{"$f":"IF(LEN('1 - Opstart Importark'!$B$6)>0,'1 - Opstart Importark'!$B$6,\"\")","v":""},{"$f":"IF(LEN('1 - Opstart Importark'!$B$9)>0,'1 - Opstart Importark'!$B$9,\"\")","v":""},{"$f":"IF(LEN('1 - Opstart Importark'!$B$23)>0,'1 - Opstart Importark'!$B$23,\"\")","v":""},{"$nulls":14},"",{"$nulls":8},0,"","","objektnogle_"]
[799,null,{"$f":"IF('1 - Opstart Importark'!$B$6=\"\",\"\",(IF('1 - Opstart Importark'!$B$15=\"\",CONCATENATE(LEFT('1 - Opstart Importark'!$B$3,1),(LEFT('1 - Opstart Importark'!$B$20,5)),MID('1 - Opstart Importark'!$B$20,5,2),LEFT('1 - Opstart Importark'!$B$28,3),IF(I811=\"\",\"\",\"-\"),I811,IF(K811=\"\",\"\",\"-\"),K811,IF(M811=\"\",\"\",\"-\"),M811),CONCATENATE(LEFT('1 - Opstart Importark'!$B$3,1),(LEFT('1 - Opstart Importark'!$B$15,5)),(LEFT('1 - Opstart Importark'!$B$18,3)),IF(I811=\"\",\"\",\"-\"),I811,IF(K811=\"\",\"\",\"-\"),K811,IF(M811=\"\",\"\",\"-\"),M811))))","v":""},null," ",{"$nulls":9},{"$f":"IF(LEN('1 - Opstart Importark'!$B$6)>0,'1 - Opstart Importark'!$B$6,\"\")","v":""},{"$f":"IF(LEN('1 - Opstart Importark'!$B$9)>0,'1 - Opstart Importark'!$B$9,\"\")","v":""},{"$f":"IF(LEN('1 - Opstart Importark'!$B$23)>0,'1 - Opstart Importark'!$B$23,\"\")","v":""},{"$nulls":14},"",{"$nulls":8},0,"","","objektnogle_"]
[800,null,{"$f":"IF('1 - Opstart Importark'!$B$6=\"\",\"\",(IF('1 - Opstart Importark'!$B$15=\"\",CONCATENATE(LEFT('1 - Opstart Importark'!$B$3,1),(LEFT('1 - Opstart Importark'!$B$20,5)),MID('1 - Opstart Importark'!$B$20,5,2),LEFT('1 - Opstart Importark'!$B$28,3),IF(I812=\"\",\"\",\"-\"),I812,IF(K812=\"\",\"\",\"-\"),K812,IF(M812=\"\",\"\",\"-\"),M812),CONCATENATE(LEFT('1 - Opstart Importark'!$B$3,1),(LEFT('1 - Opstart Importark'!$B$15,5)),(LEFT('1 - Opstart Importark'!$B$18,3)),IF(I812=\"\",\"\",\"-\"),I812,IF(K812=\"\",\"\",\"-\"),K812,IF(M812=\"\",\"\",\"-\"),M812))))","v":""},null," ",{"$nulls":9},{"$f":"IF(LEN('1 - Opstart Importark'!$B$6)>0,'1 - Opstart Importark'!$B$6,\"\")","v":""},{"$f":"IF(LEN('1 - Opstart Importark'!$B$9)>0,'1 - Opstart Importark'!$B$9,\"\")","v":""},{"$f":"IF(LEN('1 - Opstart Importark'!$B$23)>0,'1 - Opstart Importark'!$B$23,\"\")","v":""},{"$nulls":14},"",{"$nulls":8},0,"","","objektnogle_"]
[801,null,{"$f":"IF('1 - Opstart Importark'!$B$6=\"\",\"\",(IF('1 - Opstart Importark'!$B$15=\"\",CONCATENATE(LEFT('1 - Opstart Importark'!$B$3,1),(LEFT('1 - Opstart Importark'!$B$20,5)),MID('1 - Opstart Importark'!$B$20,5,2),LEFT('1 - Opstart Importark'!$B$28,3),IF(I813=\"\",\"\",\"-\"),I813,IF(K813=\"\",\"\",\"-\"),K813,IF(M813=\"\",\"\",\"-\"),M813),CONCATENATE(LEFT('1 - Opstart Importark'!$B$3,1),(LEFT('1 - Opstart Importark'!$B$15,5)),(LEFT('1 - Opstart Importark'!$B$18,3)),IF(I813=\"\",\"\",\"-\"),I813,IF(K813=\"\",\"\",\"-\"),K813,IF(M813=\"\",\"\",\"-\"),M813))))","v":""},null," ",{"$nulls":9},{"$f":"IF(LEN('1 - Opstart Importark'!$B$6)>0,'1 - Opstart Importark'!$B$6,\"\")","v":""},{"$f":"IF(LEN('1 - Opstart Importark'!$B$9)>0,'1 - Opstart Importark'!$B$9,\"\")","v":""},{"$f":"IF(LEN('1 - Opstart Importark'!$B$23)>0,'1 - Opstart Importark'!$B$23,\"\")","v":""},{"$nulls":14},"",{"$nulls":8},0,"","","objektnogle_"]
[802,null,{"$f":"IF('1 - Opstart Importark'!$B$6=\"\",\"\",(IF('1 - Opstart Importark'!$B$15=\"\",CONCATENATE(LEFT('1 - Opstart Importark'!$B$3,1),(LEFT('1 - Opstart Importark'!$B$20,5)),MID('1 - Opstart Importark'!$B$20,5,2),LEFT('1 - Opstart Importark'!$B$28,3),IF(I814=\"\",\"\",\"-\"),I814,IF(K814=\"\",\"\",\"-\"),K814,IF(M814=\"\",\"\",\"-\"),M814),CONCATENATE(LEFT('1 - Opstart Importark'!$B$3,1),(LEFT('1 - Opstart Importark'!$B$15,5)),(LEFT('1 - Opstart Importark'!$B$18,3)),IF(I814=\"\",\"\",\"-\"),I814,IF(K814=\"\",\"\",\"-\"),K814,IF(M814=\"\",\"\",\"-\"),M814))))","v":""},null," ",{"$nulls":9},{"$f":"IF(LEN('1 - Opstart Importark'!$B$6)>0,'1 - Opstart Importark'!$B$6,\"\")","v":""},{"$f":"IF(LEN('1 - Opstart Importark'!$B$9)>0,'1 - Opstart Importark'!$B$9,\"\")","v":""},{"$f":"IF(LEN('1 - Opstart Importark'!$B$23)>0,'1 - Opstart Importark'!$B$23,\"\")","v":""},{"$nulls":14},"",{"$nulls":8},0,"","","objektnogle_"]
[803,null,{"$f":"IF('1 - Opstart Importark'!$B$6=\"\",\"\",(IF('1 - Opstart Importark'!$B$15=\"\",CONCATENATE(LEFT('1 - Opstart Importark'!$B$3,1),(LEFT('1 - Opstart Importark'!$B$20,5)),MID('1 - Opstart Importark'!$B$20,5,2),LEFT('1 - Opstart Importark'!$B$28,3),IF(I815=\"\",\"\",\"-\"),I815,IF(K815=\"\",\"\",\"-\"),K815,IF(M815=\"\",\"\",\"-\"),M815),CONCATENATE(LEFT('1 - Opstart Importark'!$B$3,1),(LEFT('1 - Opstart Importark'!$B$15,5)),(LEFT('1 - Opstart Importark'!$B$18,3)),IF(I815=\"\",\"\",\"-\"),I815,IF(K815=\"\",\"\",\"-\"),K815,IF(M815=\"\",\"\",\"-\"),M815))))","v":""},null," ",{"$nulls":9},{"$f":"IF(LEN('1 - Opstart Importark'!$B$6)>0,'1 - Opstart Importark'!$B$6,\"\")","v":""},{"$f":"IF(LEN('1 - Opstart Importark'!$B$9)>0,'1 - Opstart Importark'!$B$9,\"\")","v":""},{"$f":"IF(LEN('1 - Opstart Importark'!$B$23)>0,'1 - Opstart Importark'!$B$23,\"\")","v":""},{"$nulls":14},"",{"$nulls":8},0,"","","objektnogle_"]
[804,null,{"$f":"IF('1 - Opstart Importark'!$B$6=\"\",\"\",(IF('1 - Opstart Importark'!$B$15=\"\",CONCATENATE(LEFT('1 - Opstart Importark'!$B$3,1),(LEFT('1 - Opstart Importark'!$B$20,5)),MID('1 - Opstart Importark'!$B$20,5,2),LEFT('1 - Opstart Importark'!$B$28,3),IF(I816=\"\",\"\",\"-\"),I816,IF(K816=\"\",\"\",\"-\"),K816,IF(M816=\"\",\"\",\"-\"),M816),CONCATENATE(LEFT('1 - Opstart Importark'!$B$3,1),(LEFT('1 - Opstart Importark'!$B$15,5)),(LEFT('1 - Opstart Importark'!$B$18,3)),IF(I816=\"\",\"\",\"-\"),I816,IF(K816=\"\",\"\",\"-\"),K816,IF(M816=\"\",\"\",\"-\"),M816))))","v":""},null," ",{"$nulls":9},{"$f":"IF(LEN('1 - Opstart Importark'!$B$6)>0,'1 - Opstart Importark'!$B$6,\"\")","v":""},{"$f":"IF(LEN('1 - Opstart Importark'!$B$9)>0,'1 - Opstart Importark'!$B$9,\"\")","v":""},{"$f":"IF(LEN('1 - Opstart Importark'!$B$23)>0,'1 - Opstart Importark'!$B$23,\"\")","v":""},{"$nulls":14},"",{"$nulls":8},0,"","","objektnogle_"]
[805,null,{"$f":"IF('1 - Opstart Importark'!$B$6=\"\",\"\",(IF('1 - Opstart Importark'!$B$15=\"\",CONCATENATE(LEFT('1 - Opstart Importark'!$B$3,1),(LEFT('1 - Opstart Importark'!$B$20,5)),MID('1 - Opstart Importark'!$B$20,5,2),LEFT('1 - Opstart Importark'!$B$28,3),IF(I817=\"\",\"\",\"-\"),I817,IF(K817=\"\",\"\",\"-\"),K817,IF(M817=\"\",\"\",\"-\"),M817),CONCATENATE(LEFT('1 - Opstart Importark'!$B$3,1),(LEFT('1 - Opstart Importark'!$B$15,5)),(LEFT('1 - Opstart Importark'!$B$18,3)),IF(I817=\"\",\"\",\"-\"),I817,IF(K817=\"\",\"\",\"-\"),K817,IF(M817=\"\",\"\",\"-\"),M817))))","v":""},null," ",{"$nulls":9},{"$f":"IF(LEN('1 - Opstart Importark'!$B$6)>0,'1 - Opstart Importark'!$B$6,\"\")","v":""},{"$f":"IF(LEN('1 - Opstart Importark'!$B$9)>0,'1 - Opstart Importark'!$B$9,\"\")","v":""},{"$f":"IF(LEN('1 - Opstart Importark'!$B$23)>0,'1 - Opstart Importark'!$B$23,\"\")","v":""},{"$nulls":14},"",{"$nulls":8},0,"","","objektnogle_"]
[806,null,{"$f":"IF('1 - Opstart Importark'!$B$6=\"\",\"\",(IF('1 - Opstart Importark'!$B$15=\"\",CONCATENATE(LEFT('1 - Opstart Importark'!$B$3,1),(LEFT('1 - Opstart Importark'!$B$20,5)),MID('1 - Opstart Importark'!$B$20,5,2),LEFT('1 - Opstart Importark'!$B$28,3),IF(I818=\"\",\"\",\"-\"),I818,IF(K818=\"\",\"\",\"-\"),K818,IF(M818=\"\",\"\",\"-\"),M818),CONCATENATE(LEFT('1 - Opstart Importark'!$B$3,1),(LEFT('1 - Opstart Importark'!$B$15,5)),(LEFT('1 - Opstart Importark'!$B$18,3)),IF(I818=\"\",\"\",\"-\"),I818,IF(K818=\"\",\"\",\"-\"),K818,IF(M818=\"\",\"\",\"-\"),M818))))","v":""},null," ",{"$nulls":9},{"$f":"IF(LEN('1 - Opstart Importark'!$B$6)>0,'1 - Opstart Importark'!$B$6,\"\")","v":""},{"$f":"IF(LEN('1 - Opstart Importark'!$B$9)>0,'1 - Opstart Importark'!$B$9,\"\")","v":""},{"$f":"IF(LEN('1 - Opstart Importark'!$B$23)>0,'1 - Opstart Importark'!$B$23,\"\")","v":""},{"$nulls":14},"",{"$nulls":8},0,"","","objektnogle_"]
[807,null,{"$f":"IF('1 - Opstart Importark'!$B$6=\"\",\"\",(IF('1 - Opstart Importark'!$B$15=\"\",CONCATENATE(LEFT('1 - Opstart Importark'!$B$3,1),(LEFT('1 - Opstart Importark'!$B$20,5)),MID('1 - Opstart Importark'!$B$20,5,2),LEFT('1 - Opstart Importark'!$B$28,3),IF(I819=\"\",\"\",\"-\"),I819,IF(K819=\"\",\"\",\"-\"),K819,IF(M819=\"\",\"\",\"-\"),M819),CONCATENATE(LEFT('1 - Opstart Importark'!$B$3,1),(LEFT('1 - Opstart Importark'!$B$15,5)),(LEFT('1 - Opstart Importark'!$B$18,3)),IF(I819=\"\",\"\",\"-\"),I819,IF(K819=\"\",\"\",\"-\"),K819,IF(M819=\"\",\"\",\"-\"),M819))))","v":""},null," ",{"$nulls":9},{"$f":"IF(LEN('1 - Opstart Importark'!$B$6)>0,'1 - Opstart Importark'!$B$6,\"\")","v":""},{"$f":"IF(LEN('1 - Opstart Importark'!$B$9)>0,'1 - Opstart Importark'!$B$9,\"\")","v":""},{"$f":"IF(LEN('1 - Opstart Importark'!$B$23)>0,'1 - Opstart Importark'!$B$23,\"\")","v":""},{"$nulls":14},"",{"$nulls":8},0,"","","objektnogle_"]
[808,null,{"$f":"IF('1 - Opstart Importark'!$B$6=\"\",\"\",(IF('1 - Opstart Importark'!$B$15=\"\",CONCATENATE(LEFT('1 - Opstart Importark'!$B$3,1),(LEFT('1 - Opstart Importark'!$B$20,5)),MID('1 - Opstart Importark'!$B$20,5,2),LEFT('1 - Opstart Importark'!$B$28,3),IF(I820=\"\",\"\",\"-\"),I820,IF(K820=\"\",\"\",\"-\"),K820,IF(M820=\"\",\"\",\"-\"),M820),CONCATENATE(LEFT('1 - Opstart Importark'!$B$3,1),(LEFT('1 - Opstart Importark'!$B$15,5)),(LEFT('1 - Opstart Importark'!$B$18,3)),IF(I820=\"\",\"\",\"-\"),I820,IF(K820=\"\",\"\",\"-\"),K820,IF(M820=\"\",\"\",\"-\"),M820))))","v":""},null," ",{"$nulls":9},{"$f":"IF(LEN('1 - Opstart Importark'!$B$6)>0,'1 - Opstart Importark'!$B$6,\"\")","v":""},{"$f":"IF(LEN('1 - Opstart Importark'!$B$9)>0,'1 - Opstart Importark'!$B$9,\"\")","v":""},{"$f":"IF(LEN('1 - Opstart Importark'!$B$23)>0,'1 - Opstart Importark'!$B$23,\"\")","v":""},{"$nulls":14},"",{"$nulls":8},0,"","","objektnogle_"]
[809,null,{"$f":"IF('1 - Opstart Importark'!$B$6=\"\",\"\",(IF('1 - Opstart Importark'!$B$15=\"\",CONCATENATE(LEFT('1 - Opstart Importark'!$B$3,1),(LEFT('1 - Opstart Importark'!$B$20,5)),MID('1 - Opstart Importark'!$B$20,5,2),LEFT('1 - Opstart Importark'!$B$28,3),IF(I821=\"\",\"\",\"-\"),I821,IF(K821=\"\",\"\",\"-\"),K821,IF(M821=\"\",\"\",\"-\"),M821),CONCATENATE(LEFT('1 - Opstart Importark'!$B$3,1),(LEFT('1 - Opstart Importark'!$B$15,5)),(LEFT('1 - Opstart Importark'!$B$18,3)),IF(I821=\"\",\"\",\"-\"),I821,IF(K821=\"\",\"\",\"-\"),K821,IF(M821=\"\",\"\",\"-\"),M821))))","v":""},null," ",{"$nulls":9},{"$f":"IF(LEN('1 - Opstart Importark'!$B$6)>0,'1 - Opstart Importark'!$B$6,\"\")","v":""},{"$f":"IF(LEN('1 - Opstart Importark'!$B$9)>0,'1 - Opstart Importark'!$B$9,\"\")","v":""},{"$f":"IF(LEN('1 - Opstart Importark'!$B$23)>0,'1 - Opstart Importark'!$B$23,\"\")","v":""},{"$nulls":14},"",{"$nulls":8},0,"","","objektnogle_"]
[810,null,{"$f":"IF('1 - Opstart Importark'!$B$6=\"\",\"\",(IF('1 - Opstart Importark'!$B$15=\"\",CONCATENATE(LEFT('1 - Opstart Importark'!$B$3,1),(LEFT('1 - Opstart Importark'!$B$20,5)),MID('1 - Opstart Importark'!$B$20,5,2),LEFT('1 - Opstart Importark'!$B$28,3),IF(I822=\"\",\"\",\"-\"),I822,IF(K822=\"\",\"\",\"-\"),K822,IF(M822=\"\",\"\",\"-\"),M822),CONCATENATE(LEFT('1 - Opstart Importark'!$B$3,1),(LEFT('1 - Opstart Importark'!$B$15,5)),(LEFT('1 - Opstart Importark'!$B$18,3)),IF(I822=\"\",\"\",\"-\"),I822,IF(K822=\"\",\"\",\"-\"),K822,IF(M822=\"\",\"\",\"-\"),M822))))","v":""},null," ",{"$nulls":9},{"$f":"IF(LEN('1 - Opstart Importark'!$B$6)>0,'1 - Opstart Importark'!$B$6,\"\")","v":""},{"$f":"IF(LEN('1 - Opstart Importark'!$B$9)>0,'1 - Opstart Importark'!$B$9,\"\")","v":""},{"$f":"IF(LEN('1 - Opstart Importark'!$B$23)>0,'1 - Opstart Importark'!$B$23,\"\")","v":""},{"$nulls":14},"",{"$nulls":8},0,"","","objektnogle_"]
[811,null,{"$f":"IF('1 - Opstart Importark'!$B$6=\"\",\"\",(IF('1 - Opstart Importark'!$B$15=\"\",CONCATENATE(LEFT('1 - Opstart Importark'!$B$3,1),(LEFT('1 - Opstart Importark'!$B$20,5)),MID('1 - Opstart Importark'!$B$20,5,2),LEFT('1 - Opstart Importark'!$B$28,3),IF(I823=\"\",\"\",\"-\"),I823,IF(K823=\"\",\"\",\"-\"),K823,IF(M823=\"\",\"\",\"-\"),M823),CONCATENATE(LEFT('1 - Opstart Importark'!$B$3,1),(LEFT('1 - Opstart Importark'!$B$15,5)),(LEFT('1 - Opstart Importark'!$B$18,3)),IF(I823=\"\",\"\",\"-\"),I823,IF(K823=\"\",\"\",\"-\"),K823,IF(M823=\"\",\"\",\"-\"),M823))))","v":""},null," ",{"$nulls":9},{"$f":"IF(LEN('1 - Opstart Importark'!$B$6)>0,'1 - Opstart Importark'!$B$6,\"\")","v":""},{"$f":"IF(LEN('1 - Opstart Importark'!$B$9)>0,'1 - Opstart Importark'!$B$9,\"\")","v":""},{"$f":"IF(LEN('1 - Opstart Importark'!$B$23)>0,'1 - Opstart Importark'!$B$23,\"\")","v":""},{"$nulls":14},"",{"$nulls":8},0,"","","objektnogle_"]
[812,null,{"$f":"IF('1 - Opstart Importark'!$B$6=\"\",\"\",(IF('1 - Opstart Importark'!$B$15=\"\",CONCATENATE(LEFT('1 - Opstart Importark'!$B$3,1),(LEFT('1 - Opstart Importark'!$B$20,5)),MID('1 - Opstart Importark'!$B$20,5,2),LEFT('1 - Opstart Importark'!$B$28,3),IF(I824=\"\",\"\",\"-\"),I824,IF(K824=\"\",\"\",\"-\"),K824,IF(M824=\"\",\"\",\"-\"),M824),CONCATENATE(LEFT('1 - Opstart Importark'!$B$3,1),(LEFT('1 - Opstart Importark'!$B$15,5)),(LEFT('1 - Opstart Importark'!$B$18,3)),IF(I824=\"\",\"\",\"-\"),I824,IF(K824=\"\",\"\",\"-\"),K824,IF(M824=\"\",\"\",\"-\"),M824))))","v":""},null," ",{"$nulls":9},{"$f":"IF(LEN('1 - Opstart Importark'!$B$6)>0,'1 - Opstart Importark'!$B$6,\"\")","v":""},{"$f":"IF(LEN('1 - Opstart Importark'!$B$9)>0,'1 - Opstart Importark'!$B$9,\"\")","v":""},{"$f":"IF(LEN('1 - Opstart Importark'!$B$23)>0,'1 - Opstart Importark'!$B$23,\"\")","v":""},{"$nulls":14},"",{"$nulls":8},0,"","","objektnogle_"]
[813,null,{"$f":"IF('1 - Opstart Importark'!$B$6=\"\",\"\",(IF('1 - Opstart Importark'!$B$15=\"\",CONCATENATE(LEFT('1 - Opstart Importark'!$B$3,1),(LEFT('1 - Opstart Importark'!$B$20,5)),MID('1 - Opstart Importark'!$B$20,5,2),LEFT('1 - Opstart Importark'!$B$28,3),IF(I825=\"\",\"\",\"-\"),I825,IF(K825=\"\",\"\",\"-\"),K825,IF(M825=\"\",\"\",\"-\"),M825),CONCATENATE(LEFT('1 - Opstart Importark'!$B$3,1),(LEFT('1 - Opstart Importark'!$B$15,5)),(LEFT('1 - Opstart Importark'!$B$18,3)),IF(I825=\"\",\"\",\"-\"),I825,IF(K825=\"\",\"\",\"-\"),K825,IF(M825=\"\",\"\",\"-\"),M825))))","v":""},null," ",{"$nulls":9},{"$f":"IF(LEN('1 - Opstart Importark'!$B$6)>0,'1 - Opstart Importark'!$B$6,\"\")","v":""},{"$f":"IF(LEN('1 - Opstart Importark'!$B$9)>0,'1 - Opstart Importark'!$B$9,\"\")","v":""},{"$f":"IF(LEN('1 - Opstart Importark'!$B$23)>0,'1 - Opstart Importark'!$B$23,\"\")","v":""},{"$nulls":14},"",{"$nulls":8},0,"","","objektnogle_"]
[814,null,{"$f":"IF('1 - Opstart Importark'!$B$6=\"\",\"\",(IF('1 - Opstart Importark'!$B$15=\"\",CONCATENATE(LEFT('1 - Opstart Importark'!$B$3,1),(LEFT('1 - Opstart Importark'!$B$20,5)),MID('1 - Opstart Importark'!$B$20,5,2),LEFT('1 - Opstart Importark'!$B$28,3),IF(I826=\"\",\"\",\"-\"),I826,IF(K826=\"\",\"\",\"-\"),K826,IF(M826=\"\",\"\",\"-\"),M826),CONCATENATE(LEFT('1 - Opstart Importark'!$B$3,1),(LEFT('1 - Opstart Importark'!$B$15,5)),(LEFT('1 - Opstart Importark'!$B$18,3)),IF(I826=\"\",\"\",\"-\"),I826,IF(K826=\"\",\"\",\"-\"),K826,IF(M826=\"\",\"\",\"-\"),M826))))","v":""},null," ",{"$nulls":9},{"$f":"IF(LEN('1 - Opstart Importark'!$B$6)>0,'1 - Opstart Importark'!$B$6,\"\")","v":""},{"$f":"IF(LEN('1 - Opstart Importark'!$B$9)>0,'1 - Opstart Importark'!$B$9,\"\")","v":""},{"$f":"IF(LEN('1 - Opstart Importark'!$B$23)>0,'1 - Opstart Importark'!$B$23,\"\")","v":""},{"$nulls":14},"",{"$nulls":8},0,"","","objektnogle_"]
[815,null,{"$f":"IF('1 - Opstart Importark'!$B$6=\"\",\"\",(IF('1 - Opstart Importark'!$B$15=\"\",CONCATENATE(LEFT('1 - Opstart Importark'!$B$3,1),(LEFT('1 - Opstart Importark'!$B$20,5)),MID('1 - Opstart Importark'!$B$20,5,2),LEFT('1 - Opstart Importark'!$B$28,3),IF(I827=\"\",\"\",\"-\"),I827,IF(K827=\"\",\"\",\"-\"),K827,IF(M827=\"\",\"\",\"-\"),M827),CONCATENATE(LEFT('1 - Opstart Importark'!$B$3,1),(LEFT('1 - Opstart Importark'!$B$15,5)),(LEFT('1 - Opstart Importark'!$B$18,3)),IF(I827=\"\",\"\",\"-\"),I827,IF(K827=\"\",\"\",\"-\"),K827,IF(M827=\"\",\"\",\"-\"),M827))))","v":""},null," ",{"$nulls":9},{"$f":"IF(LEN('1 - Opstart Importark'!$B$6)>0,'1 - Opstart Importark'!$B$6,\"\")","v":""},{"$f":"IF(LEN('1 - Opstart Importark'!$B$9)>0,'1 - Opstart Importark'!$B$9,\"\")","v":""},{"$f":"IF(LEN('1 - Opstart Importark'!$B$23)>0,'1 - Opstart Importark'!$B$23,\"\")","v":""},{"$nulls":14},"",{"$nulls":8},0,"","","objektnogle_"]
[816,null,{"$f":"IF('1 - Opstart Importark'!$B$6=\"\",\"\",(IF('1 - Opstart Importark'!$B$15=\"\",CONCATENATE(LEFT('1 - Opstart Importark'!$B$3,1),(LEFT('1 - Opstart Importark'!$B$20,5)),MID('1 - Opstart Importark'!$B$20,5,2),LEFT('1 - Opstart Importark'!$B$28,3),IF(I828=\"\",\"\",\"-\"),I828,IF(K828=\"\",\"\",\"-\"),K828,IF(M828=\"\",\"\",\"-\"),M828),CONCATENATE(LEFT('1 - Opstart Importark'!$B$3,1),(LEFT('1 - Opstart Importark'!$B$15,5)),(LEFT('1 - Opstart Importark'!$B$18,3)),IF(I828=\"\",\"\",\"-\"),I828,IF(K828=\"\",\"\",\"-\"),K828,IF(M828=\"\",\"\",\"-\"),M828))))","v":""},null," ",{"$nulls":9},{"$f":"IF(LEN('1 - Opstart Importark'!$B$6)>0,'1 - Opstart Importark'!$B$6,\"\")","v":""},{"$f":"IF(LEN('1 - Opstart Importark'!$B$9)>0,'1 - Opstart Importark'!$B$9,\"\")","v":""},{"$f":"IF(LEN('1 - Opstart Importark'!$B$23)>0,'1 - Opstart Importark'!$B$23,\"\")","v":""},{"$nulls":14},"",{"$nulls":8},0,"","","objektnogle_"]
[817,null,{"$f":"IF('1 - Opstart Importark'!$B$6=\"\",\"\",(IF('1 - Opstart Importark'!$B$15=\"\",CONCATENATE(LEFT('1 - Opstart Importark'!$B$3,1),(LEFT('1 - Opstart Importark'!$B$20,5)),MID('1 - Opstart Importark'!$B$20,5,2),LEFT('1 - Opstart Importark'!$B$28,3),IF(I829=\"\",\"\",\"-\"),I829,IF(K829=\"\",\"\",\"-\"),K829,IF(M829=\"\",\"\",\"-\"),M829),CONCATENATE(LEFT('1 - Opstart Importark'!$B$3,1),(LEFT('1 - Opstart Importark'!$B$15,5)),(LEFT('1 - Opstart Importark'!$B$18,3)),IF(I829=\"\",\"\",\"-\"),I829,IF(K829=\"\",\"\",\"-\"),K829,IF(M829=\"\",\"\",\"-\"),M829))))","v":""},null," ",{"$nulls":9},{"$f":"IF(LEN('1 - Opstart Importark'!$B$6)>0,'1 - Opstart Importark'!$B$6,\"\")","v":""},{"$f":"IF(LEN('1 - Opstart Importark'!$B$9)>0,'1 - Opstart Importark'!$B$9,\"\")","v":""},{"$f":"IF(LEN('1 - Opstart Importark'!$B$23)>0,'1 - Opstart Importark'!$B$23,\"\")","v":""},{"$nulls":14},"",{"$nulls":8},0,"","","objektnogle_"]
[818,null,{"$f":"IF('1 - Opstart Importark'!$B$6=\"\",\"\",(IF('1 - Opstart Importark'!$B$15=\"\",CONCATENATE(LEFT('1 - Opstart Importark'!$B$3,1),(LEFT('1 - Opstart Importark'!$B$20,5)),MID('1 - Opstart Importark'!$B$20,5,2),LEFT('1 - Opstart Importark'!$B$28,3),IF(I830=\"\",\"\",\"-\"),I830,IF(K830=\"\",\"\",\"-\"),K830,IF(M830=\"\",\"\",\"-\"),M830),CONCATENATE(LEFT('1 - Opstart Importark'!$B$3,1),(LEFT('1 - Opstart Importark'!$B$15,5)),(LEFT('1 - Opstart Importark'!$B$18,3)),IF(I830=\"\",\"\",\"-\"),I830,IF(K830=\"\",\"\",\"-\"),K830,IF(M830=\"\",\"\",\"-\"),M830))))","v":""},null," ",{"$nulls":9},{"$f":"IF(LEN('1 - Opstart Importark'!$B$6)>0,'1 - Opstart Importark'!$B$6,\"\")","v":""},{"$f":"IF(LEN('1 - Opstart Importark'!$B$9)>0,'1 - Opstart Importark'!$B$9,\"\")","v":""},{"$f":"IF(LEN('1 - Opstart Importark'!$B$23)>0,'1 - Opstart Importark'!$B$23,\"\")","v":""},{"$nulls":14},"",{"$nulls":8},0,"","","objektnogle_"]
[819,null,{"$f":"IF('1 - Opstart Importark'!$B$6=\"\",\"\",(IF('1 - Opstart Importark'!$B$15=\"\",CONCATENATE(LEFT('1 - Opstart Importark'!$B$3,1),(LEFT('1 - Opstart Importark'!$B$20,5)),MID('1 - Opstart Importark'!$B$20,5,2),LEFT('1 - Opstart Importark'!$B$28,3),IF(I831=\"\",\"\",\"-\"),I831,IF(K831=\"\",\"\",\"-\"),K831,IF(M831=\"\",\"\",\"-\"),M831),CONCATENATE(LEFT('1 - Opstart Importark'!$B$3,1),(LEFT('1 - Opstart Importark'!$B$15,5)),(LEFT('1 - Opstart Importark'!$B$18,3)),IF(I831=\"\",\"\",\"-\"),I831,IF(K831=\"\",\"\",\"-\"),K831,IF(M831=\"\",\"\",\"-\"),M831))))","v":""},null," ",{"$nulls":9},{"$f":"IF(LEN('1 - Opstart Importark'!$B$6)>0,'1 - Opstart Importark'!$B$6,\"\")","v":""},{"$f":"IF(LEN('1 - Opstart Importark'!$B$9)>0,'1 - Opstart Importark'!$B$9,\"\")","v":""},{"$f":"IF(LEN('1 - Opstart Importark'!$B$23)>0,'1 - Opstart Importark'!$B$23,\"\")","v":""},{"$nulls":14},"",{"$nulls":8},0,"","","objektnogle_"]
[820,null,{"$f":"IF('1 - Opstart Importark'!$B$6=\"\",\"\",(IF('1 - Opstart Importark'!$B$15=\"\",CONCATENATE(LEFT('1 - Opstart Importark'!$B$3,1),(LEFT('1 - Opstart Importark'!$B$20,5)),MID('1 - Opstart Importark'!$B$20,5,2),LEFT('1 - Opstart Importark'!$B$28,3),IF(I832=\"\",\"\",\"-\"),I832,IF(K832=\"\",\"\",\"-\"),K832,IF(M832=\"\",\"\",\"-\"),M832),CONCATENATE(LEFT('1 - Opstart Importark'!$B$3,1),(LEFT('1 - Opstart Importark'!$B$15,5)),(LEFT('1 - Opstart Importark'!$B$18,3)),IF(I832=\"\",\"\",\"-\"),I832,IF(K832=\"\",\"\",\"-\"),K832,IF(M832=\"\",\"\",\"-\"),M832))))","v":""},null," ",{"$nulls":9},{"$f":"IF(LEN('1 - Opstart Importark'!$B$6)>0,'1 - Opstart Importark'!$B$6,\"\")","v":""},{"$f":"IF(LEN('1 - Opstart Importark'!$B$9)>0,'1 - Opstart Importark'!$B$9,\"\")","v":""},{"$f":"IF(LEN('1 - Opstart Importark'!$B$23)>0,'1 - Opstart Importark'!$B$23,\"\")","v":""},{"$nulls":14},"",{"$nulls":8},0,"","","objektnogle_"]
[821,null,{"$f":"IF('1 - Opstart Importark'!$B$6=\"\",\"\",(IF('1 - Opstart Importark'!$B$15=\"\",CONCATENATE(LEFT('1 - Opstart Importark'!$B$3,1),(LEFT('1 - Opstart Importark'!$B$20,5)),MID('1 - Opstart Importark'!$B$20,5,2),LEFT('1 - Opstart Importark'!$B$28,3),IF(I833=\"\",\"\",\"-\"),I833,IF(K833=\"\",\"\",\"-\"),K833,IF(M833=\"\",\"\",\"-\"),M833),CONCATENATE(LEFT('1 - Opstart Importark'!$B$3,1),(LEFT('1 - Opstart Importark'!$B$15,5)),(LEFT('1 - Opstart Importark'!$B$18,3)),IF(I833=\"\",\"\",\"-\"),I833,IF(K833=\"\",\"\",\"-\"),K833,IF(M833=\"\",\"\",\"-\"),M833))))","v":""},null," ",{"$nulls":9},{"$f":"IF(LEN('1 - Opstart Importark'!$B$6)>0,'1 - Opstart Importark'!$B$6,\"\")","v":""},{"$f":"IF(LEN('1 - Opstart Importark'!$B$9)>0,'1 - Opstart Importark'!$B$9,\"\")","v":""},{"$f":"IF(LEN('1 - Opstart Importark'!$B$23)>0,'1 - Opstart Importark'!$B$23,\"\")","v":""},{"$nulls":14},"",{"$nulls":8},0,"","","objektnogle_"]
[822,null,{"$f":"IF('1 - Opstart Importark'!$B$6=\"\",\"\",(IF('1 - Opstart Importark'!$B$15=\"\",CONCATENATE(LEFT('1 - Opstart Importark'!$B$3,1),(LEFT('1 - Opstart Importark'!$B$20,5)),MID('1 - Opstart Importark'!$B$20,5,2),LEFT('1 - Opstart Importark'!$B$28,3),IF(I834=\"\",\"\",\"-\"),I834,IF(K834=\"\",\"\",\"-\"),K834,IF(M834=\"\",\"\",\"-\"),M834),CONCATENATE(LEFT('1 - Opstart Importark'!$B$3,1),(LEFT('1 - Opstart Importark'!$B$15,5)),(LEFT('1 - Opstart Importark'!$B$18,3)),IF(I834=\"\",\"\",\"-\"),I834,IF(K834=\"\",\"\",\"-\"),K834,IF(M834=\"\",\"\",\"-\"),M834))))","v":""},null," ",{"$nulls":9},{"$f":"IF(LEN('1 - Opstart Importark'!$B$6)>0,'1 - Opstart Importark'!$B$6,\"\")","v":""},{"$f":"IF(LEN('1 - Opstart Importark'!$B$9)>0,'1 - Opstart Importark'!$B$9,\"\")","v":""},{"$f":"IF(LEN('1 - Opstart Importark'!$B$23)>0,'1 - Opstart Importark'!$B$23,\"\")","v":""},{"$nulls":14},"",{"$nulls":8},0,"","","objektnogle_"]
[823,null,{"$f":"IF('1 - Opstart Importark'!$B$6=\"\",\"\",(IF('1 - Opstart Importark'!$B$15=\"\",CONCATENATE(LEFT('1 - Opstart Importark'!$B$3,1),(LEFT('1 - Opstart Importark'!$B$20,5)),MID('1 - Opstart Importark'!$B$20,5,2),LEFT('1 - Opstart Importark'!$B$28,3),IF(I835=\"\",\"\",\"-\"),I835,IF(K835=\"\",\"\",\"-\"),K835,IF(M835=\"\",\"\",\"-\"),M835),CONCATENATE(LEFT('1 - Opstart Importark'!$B$3,1),(LEFT('1 - Opstart Importark'!$B$15,5)),(LEFT('1 - Opstart Importark'!$B$18,3)),IF(I835=\"\",\"\",\"-\"),I835,IF(K835=\"\",\"\",\"-\"),K835,IF(M835=\"\",\"\",\"-\"),M835))))","v":""},null," ",{"$nulls":9},{"$f":"IF(LEN('1 - Opstart Importark'!$B$6)>0,'1 - Opstart Importark'!$B$6,\"\")","v":""},{"$f":"IF(LEN('1 - Opstart Importark'!$B$9)>0,'1 - Opstart Importark'!$B$9,\"\")","v":""},{"$f":"IF(LEN('1 - Opstart Importark'!$B$23)>0,'1 - Opstart Importark'!$B$23,\"\")","v":""},{"$nulls":14},"",{"$nulls":8},0,"","","objektnogle_"]
[824,null,{"$f":"IF('1 - Opstart Importark'!$B$6=\"\",\"\",(IF('1 - Opstart Importark'!$B$15=\"\",CONCATENATE(LEFT('1 - Opstart Importark'!$B$3,1),(LEFT('1 - Opstart Importark'!$B$20,5)),MID('1 - Opstart Importark'!$B$20,5,2),LEFT('1 - Opstart Importark'!$B$28,3),IF(I836=\"\",\"\",\"-\"),I836,IF(K836=\"\",\"\",\"-\"),K836,IF(M836=\"\",\"\",\"-\"),M836),CONCATENATE(LEFT('1 - Opstart Importark'!$B$3,1),(LEFT('1 - Opstart Importark'!$B$15,5)),(LEFT('1 - Opstart Importark'!$B$18,3)),IF(I836=\"\",\"\",\"-\"),I836,IF(K836=\"\",\"\",\"-\"),K836,IF(M836=\"\",\"\",\"-\"),M836))))","v":""},null," ",{"$nulls":9},{"$f":"IF(LEN('1 - Opstart Importark'!$B$6)>0,'1 - Opstart Importark'!$B$6,\"\")","v":""},{"$f":"IF(LEN('1 - Opstart Importark'!$B$9)>0,'1 - Opstart Importark'!$B$9,\"\")","v":""},{"$f":"IF(LEN('1 - Opstart Importark'!$B$23)>0,'1 - Opstart Importark'!$B$23,\"\")","v":""},{"$nulls":14},"",{"$nulls":8},0,"","","objektnogle_"]
[825,null,{"$f":"IF('1 - Opstart Importark'!$B$6=\"\",\"\",(IF('1 - Opstart Importark'!$B$15=\"\",CONCATENATE(LEFT('1 - Opstart Importark'!$B$3,1),(LEFT('1 - Opstart Importark'!$B$20,5)),MID('1 - Opstart Importark'!$B$20,5,2),LEFT('1 - Opstart Importark'!$B$28,3),IF(I837=\"\",\"\",\"-\"),I837,IF(K837=\"\",\"\",\"-\"),K837,IF(M837=\"\",\"\",\"-\"),M837),CONCATENATE(LEFT('1 - Opstart Importark'!$B$3,1),(LEFT('1 - Opstart Importark'!$B$15,5)),(LEFT('1 - Opstart Importark'!$B$18,3)),IF(I837=\"\",\"\",\"-\"),I837,IF(K837=\"\",\"\",\"-\"),K837,IF(M837=\"\",\"\",\"-\"),M837))))","v":""},null," ",{"$nulls":9},{"$f":"IF(LEN('1 - Opstart Importark'!$B$6)>0,'1 - Opstart Importark'!$B$6,\"\")","v":""},{"$f":"IF(LEN('1 - Opstart Importark'!$B$9)>0,'1 - Opstart Importark'!$B$9,\"\")","v":""},{"$f":"IF(LEN('1 - Opstart Importark'!$B$23)>0,'1 - Opstart Importark'!$B$23,\"\")","v":""},{"$nulls":14},"",{"$nulls":8},0,"","","objektnogle_"]
[826,null,{"$f":"IF('1 - Opstart Importark'!$B$6=\"\",\"\",(IF('1 - Opstart Importark'!$B$15=\"\",CONCATENATE(LEFT('1 - Opstart Importark'!$B$3,1),(LEFT('1 - Opstart Importark'!$B$20,5)),MID('1 - Opstart Importark'!$B$20,5,2),LEFT('1 - Opstart Importark'!$B$28,3),IF(I838=\"\",\"\",\"-\"),I838,IF(K838=\"\",\"\",\"-\"),K838,IF(M838=\"\",\"\",\"-\"),M838),CONCATENATE(LEFT('1 - Opstart Importark'!$B$3,1),(LEFT('1 - Opstart Importark'!$B$15,5)),(LEFT('1 - Opstart Importark'!$B$18,3)),IF(I838=\"\",\"\",\"-\"),I838,IF(K838=\"\",\"\",\"-\"),K838,IF(M838=\"\",\"\",\"-\"),M838))))","v":""},null," ",{"$nulls":9},{"$f":"IF(LEN('1 - Opstart Importark'!$B$6)>0,'1 - Opstart Importark'!$B$6,\"\")","v":""},{"$f":"IF(LEN('1 - Opstart Importark'!$B$9)>0,'1 - Opstart Importark'!$B$9,\"\")","v":""},{"$f":"IF(LEN('1 - Opstart Importark'!$B$23)>0,'1 - Opstart Importark'!$B$23,\"\")","v":""},{"$nulls":14},"",{"$nulls":8},0,"","","objektnogle_"]
[827,null,{"$f":"IF('1 - Opstart Importark'!$B$6=\"\",\"\",(IF('1 - Opstart Importark'!$B$15=\"\",CONCATENATE(LEFT('1 - Opstart Importark'!$B$3,1),(LEFT('1 - Opstart Importark'!$B$20,5)),MID('1 - Opstart Importark'!$B$20,5,2),LEFT('1 - Opstart Importark'!$B$28,3),IF(I839=\"\",\"\",\"-\"),I839,IF(K839=\"\",\"\",\"-\"),K839,IF(M839=\"\",\"\",\"-\"),M839),CONCATENATE(LEFT('1 - Opstart Importark'!$B$3,1),(LEFT('1 - Opstart Importark'!$B$15,5)),(LEFT('1 - Opstart Importark'!$B$18,3)),IF(I839=\"\",\"\",\"-\"),I839,IF(K839=\"\",\"\",\"-\"),K839,IF(M839=\"\",\"\",\"-\"),M839))))","v":""},null," ",{"$nulls":9},{"$f":"IF(LEN('1 - Opstart Importark'!$B$6)>0,'1 - Opstart Importark'!$B$6,\"\")","v":""},{"$f":"IF(LEN('1 - Opstart Importark'!$B$9)>0,'1 - Opstart Importark'!$B$9,\"\")","v":""},{"$f":"IF(LEN('1 - Opstart Importark'!$B$23)>0,'1 - Opstart Importark'!$B$23,\"\")","v":""},{"$nulls":14},"",{"$nulls":8},0,"","","objektnogle_"]
[828,null,{"$f":"IF('1 - Opstart Importark'!$B$6=\"\",\"\",(IF('1 - Opstart Importark'!$B$15=\"\",CONCATENATE(LEFT('1 - Opstart Importark'!$B$3,1),(LEFT('1 - Opstart Importark'!$B$20,5)),MID('1 - Opstart Importark'!$B$20,5,2),LEFT('1 - Opstart Importark'!$B$28,3),IF(I840=\"\",\"\",\"-\"),I840,IF(K840=\"\",\"\",\"-\"),K840,IF(M840=\"\",\"\",\"-\"),M840),CONCATENATE(LEFT('1 - Opstart Importark'!$B$3,1),(LEFT('1 - Opstart Importark'!$B$15,5)),(LEFT('1 - Opstart Importark'!$B$18,3)),IF(I840=\"\",\"\",\"-\"),I840,IF(K840=\"\",\"\",\"-\"),K840,IF(M840=\"\",\"\",\"-\"),M840))))","v":""},null," ",{"$nulls":9},{"$f":"IF(LEN('1 - Opstart Importark'!$B$6)>0,'1 - Opstart Importark'!$B$6,\"\")","v":""},{"$f":"IF(LEN('1 - Opstart Importark'!$B$9)>0,'1 - Opstart Importark'!$B$9,\"\")","v":""},{"$f":"IF(LEN('1 - Opstart Importark'!$B$23)>0,'1 - Opstart Importark'!$B$23,\"\")","v":""},{"$nulls":14},"",{"$nulls":8},0,"","","objektnogle_"]
[829,null,{"$f":"IF('1 - Opstart Importark'!$B$6=\"\",\"\",(IF('1 - Opstart Importark'!$B$15=\"\",CONCATENATE(LEFT('1 - Opstart Importark'!$B$3,1),(LEFT('1 - Opstart Importark'!$B$20,5)),MID('1 - Opstart Importark'!$B$20,5,2),LEFT('1 - Opstart Importark'!$B$28,3),IF(I841=\"\",\"\",\"-\"),I841,IF(K841=\"\",\"\",\"-\"),K841,IF(M841=\"\",\"\",\"-\"),M841),CONCATENATE(LEFT('1 - Opstart Importark'!$B$3,1),(LEFT('1 - Opstart Importark'!$B$15,5)),(LEFT('1 - Opstart Importark'!$B$18,3)),IF(I841=\"\",\"\",\"-\"),I841,IF(K841=\"\",\"\",\"-\"),K841,IF(M841=\"\",\"\",\"-\"),M841))))","v":""},null," ",{"$nulls":9},{"$f":"IF(LEN('1 - Opstart Importark'!$B$6)>0,'1 - Opstart Importark'!$B$6,\"\")","v":""},{"$f":"IF(LEN('1 - Opstart Importark'!$B$9)>0,'1 - Opstart Importark'!$B$9,\"\")","v":""},{"$f":"IF(LEN('1 - Opstart Importark'!$B$23)>0,'1 - Opstart Importark'!$B$23,\"\")","v":""},{"$nulls":14},"",{"$nulls":8},0,"","","objektnogle_"]
[830,null,{"$f":"IF('1 - Opstart Importark'!$B$6=\"\",\"\",(IF('1 - Opstart Importark'!$B$15=\"\",CONCATENATE(LEFT('1 - Opstart Importark'!$B$3,1),(LEFT('1 - Opstart Importark'!$B$20,5)),MID('1 - Opstart Importark'!$B$20,5,2),LEFT('1 - Opstart Importark'!$B$28,3),IF(I842=\"\",\"\",\"-\"),I842,IF(K842=\"\",\"\",\"-\"),K842,IF(M842=\"\",\"\",\"-\"),M842),CONCATENATE(LEFT('1 - Opstart Importark'!$B$3,1),(LEFT('1 - Opstart Importark'!$B$15,5)),(LEFT('1 - Opstart Importark'!$B$18,3)),IF(I842=\"\",\"\",\"-\"),I842,IF(K842=\"\",\"\",\"-\"),K842,IF(M842=\"\",\"\",\"-\"),M842))))","v":""},null," ",{"$nulls":9},{"$f":"IF(LEN('1 - Opstart Importark'!$B$6)>0,'1 - Opstart Importark'!$B$6,\"\")","v":""},{"$f":"IF(LEN('1 - Opstart Importark'!$B$9)>0,'1 - Opstart Importark'!$B$9,\"\")","v":""},{"$f":"IF(LEN('1 - Opstart Importark'!$B$23)>0,'1 - Opstart Importark'!$B$23,\"\")","v":""},{"$nulls":14},"",{"$nulls":8},0,"","","objektnogle_"]
[831,null,{"$f":"IF('1 - Opstart Importark'!$B$6=\"\",\"\",(IF('1 - Opstart Importark'!$B$15=\"\",CONCATENATE(LEFT('1 - Opstart Importark'!$B$3,1),(LEFT('1 - Opstart Importark'!$B$20,5)),MID('1 - Opstart Importark'!$B$20,5,2),LEFT('1 - Opstart Importark'!$B$28,3),IF(I843=\"\",\"\",\"-\"),I843,IF(K843=\"\",\"\",\"-\"),K843,IF(M843=\"\",\"\",\"-\"),M843),CONCATENATE(LEFT('1 - Opstart Importark'!$B$3,1),(LEFT('1 - Opstart Importark'!$B$15,5)),(LEFT('1 - Opstart Importark'!$B$18,3)),IF(I843=\"\",\"\",\"-\"),I843,IF(K843=\"\",\"\",\"-\"),K843,IF(M843=\"\",\"\",\"-\"),M843))))","v":""},null," ",{"$nulls":9},{"$f":"IF(LEN('1 - Opstart Importark'!$B$6)>0,'1 - Opstart Importark'!$B$6,\"\")","v":""},{"$f":"IF(LEN('1 - Opstart Importark'!$B$9)>0,'1 - Opstart Importark'!$B$9,\"\")","v":""},{"$f":"IF(LEN('1 - Opstart Importark'!$B$23)>0,'1 - Opstart Importark'!$B$23,\"\")","v":""},{"$nulls":14},"",{"$nulls":8},0,"","","objektnogle_"]
[832,null,{"$f":"IF('1 - Opstart Importark'!$B$6=\"\",\"\",(IF('1 - Opstart Importark'!$B$15=\"\",CONCATENATE(LEFT('1 - Opstart Importark'!$B$3,1),(LEFT('1 - Opstart Importark'!$B$20,5)),MID('1 - Opstart Importark'!$B$20,5,2),LEFT('1 - Opstart Importark'!$B$28,3),IF(I844=\"\",\"\",\"-\"),I844,IF(K844=\"\",\"\",\"-\"),K844,IF(M844=\"\",\"\",\"-\"),M844),CONCATENATE(LEFT('1 - Opstart Importark'!$B$3,1),(LEFT('1 - Opstart Importark'!$B$15,5)),(LEFT('1 - Opstart Importark'!$B$18,3)),IF(I844=\"\",\"\",\"-\"),I844,IF(K844=\"\",\"\",\"-\"),K844,IF(M844=\"\",\"\",\"-\"),M844))))","v":""},null," ",{"$nulls":9},{"$f":"IF(LEN('1 - Opstart Importark'!$B$6)>0,'1 - Opstart Importark'!$B$6,\"\")","v":""},{"$f":"IF(LEN('1 - Opstart Importark'!$B$9)>0,'1 - Opstart Importark'!$B$9,\"\")","v":""},{"$f":"IF(LEN('1 - Opstart Importark'!$B$23)>0,'1 - Opstart Importark'!$B$23,\"\")","v":""},{"$nulls":14},"",{"$nulls":8},0,"","","objektnogle_"]
[833,null,{"$f":"IF('1 - Opstart Importark'!$B$6=\"\",\"\",(IF('1 - Opstart Importark'!$B$15=\"\",CONCATENATE(LEFT('1 - Opstart Importark'!$B$3,1),(LEFT('1 - Opstart Importark'!$B$20,5)),MID('1 - Opstart Importark'!$B$20,5,2),LEFT('1 - Opstart Importark'!$B$28,3),IF(I845=\"\",\"\",\"-\"),I845,IF(K845=\"\",\"\",\"-\"),K845,IF(M845=\"\",\"\",\"-\"),M845),CONCATENATE(LEFT('1 - Opstart Importark'!$B$3,1),(LEFT('1 - Opstart Importark'!$B$15,5)),(LEFT('1 - Opstart Importark'!$B$18,3)),IF(I845=\"\",\"\",\"-\"),I845,IF(K845=\"\",\"\",\"-\"),K845,IF(M845=\"\",\"\",\"-\"),M845))))","v":""},null," ",{"$nulls":9},{"$f":"IF(LEN('1 - Opstart Importark'!$B$6)>0,'1 - Opstart Importark'!$B$6,\"\")","v":""},{"$f":"IF(LEN('1 - Opstart Importark'!$B$9)>0,'1 - Opstart Importark'!$B$9,\"\")","v":""},{"$f":"IF(LEN('1 - Opstart Importark'!$B$23)>0,'1 - Opstart Importark'!$B$23,\"\")","v":""},{"$nulls":14},{"$f":"IF(K845=\"\",\"\",VLOOKUP(LEFT(K845,1),objektfilter,2))","v":""},{"$nulls":8},{"$f":"IFERROR(FIND(\".\",F845),)","v":0},"","","objektnogle_"]
[834,null,{"$f":"IF('1 - Opstart Importark'!$B$6=\"\",\"\",(IF('1 - Opstart Importark'!$B$15=\"\",CONCATENATE(LEFT('1 - Opstart Importark'!$B$3,1),(LEFT('1 - Opstart Importark'!$B$20,5)),MID('1 - Opstart Importark'!$B$20,5,2),LEFT('1 - Opstart Importark'!$B$28,3),IF(I846=\"\",\"\",\"-\"),I846,IF(K846=\"\",\"\",\"-\"),K846,IF(M846=\"\",\"\",\"-\"),M846),CONCATENATE(LEFT('1 - Opstart Importark'!$B$3,1),(LEFT('1 - Opstart Importark'!$B$15,5)),(LEFT('1 - Opstart Importark'!$B$18,3)),IF(I846=\"\",\"\",\"-\"),I846,IF(K846=\"\",\"\",\"-\"),K846,IF(M846=\"\",\"\",\"-\"),M846))))","v":""},null," ",{"$nulls":9},{"$f":"IF(LEN('1 - Opstart Importark'!$B$6)>0,'1 - Opstart Importark'!$B$6,\"\")","v":""},{"$f":"IF(LEN('1 - Opstart Importark'!$B$9)>0,'1 - Opstart Importark'!$B$9,\"\")","v":""},{"$f":"IF(LEN('1 - Opstart Importark'!$B$23)>0,'1 - Opstart Importark'!$B$23,\"\")","v":""},{"$nulls":14},"",{"$nulls":8},0,{"$f":"IF(K846=\"\",\"\",IF(LEFT(K846,1)=\"E\",0,1))","v":""},{"$f":"IF(K846=\"\",\"\",IF(LEFT(K846,1)=\"E\",0,1))","v":""},{"$f":"IF(W846=\"\", CONCATENATE(\"objektnogle_\",LEFT(AF846,1)),CONCATENATE(\"objektnogle_\",LEFT(W846,1)))","v":"objektnogle_"}]
[835,null,{"$f":"IF('1 - Opstart Importark'!$B$6=\"\",\"\",(IF('1 - Opstart Importark'!$B$15=\"\",CONCATENATE(LEFT('1 - Opstart Importark'!$B$3,1),(LEFT('1 - Opstart Importark'!$B$20,5)),MID('1 - Opstart Importark'!$B$20,5,2),LEFT('1 - Opstart Importark'!$B$28,3),IF(I847=\"\",\"\",\"-\"),I847,IF(K847=\"\",\"\",\"-\"),K847,IF(M847=\"\",\"\",\"-\"),M847),CONCATENATE(LEFT('1 - Opstart Importark'!$B$3,1),(LEFT('1 - Opstart Importark'!$B$15,5)),(LEFT('1 - Opstart Importark'!$B$18,3)),IF(I847=\"\",\"\",\"-\"),I847,IF(K847=\"\",\"\",\"-\"),K847,IF(M847=\"\",\"\",\"-\"),M847))))","v":""},null," ",{"$nulls":9},{"$f":"IF(LEN('1 - Opstart Importark'!$B$6)>0,'1 - Opstart Importark'!$B$6,\"\")","v":""},{"$f":"IF(LEN('1 - Opstart Importark'!$B$9)>0,'1 - Opstart Importark'!$B$9,\"\")","v":""},{"$f":"IF(LEN('1 - Opstart Importark'!$B$23)>0,'1 - Opstart Importark'!$B$23,\"\")","v":""},{"$nulls":14},"",{"$nulls":8},0,"","","objektnogle_"]
[836,null,{"$f":"IF('1 - Opstart Importark'!$B$6=\"\",\"\",(IF('1 - Opstart Importark'!$B$15=\"\",CONCATENATE(LEFT('1 - Opstart Importark'!$B$3,1),(LEFT('1 - Opstart Importark'!$B$20,5)),MID('1 - Opstart Importark'!$B$20,5,2),LEFT('1 - Opstart Importark'!$B$28,3),IF(I848=\"\",\"\",\"-\"),I848,IF(K848=\"\",\"\",\"-\"),K848,IF(M848=\"\",\"\",\"-\"),M848),CONCATENATE(LEFT('1 - Opstart Importark'!$B$3,1),(LEFT('1 - Opstart Importark'!$B$15,5)),(LEFT('1 - Opstart Importark'!$B$18,3)),IF(I848=\"\",\"\",\"-\"),I848,IF(K848=\"\",\"\",\"-\"),K848,IF(M848=\"\",\"\",\"-\"),M848))))","v":""},null," ",{"$nulls":9},{"$f":"IF(LEN('1 - Opstart Importark'!$B$6)>0,'1 - Opstart Importark'!$B$6,\"\")","v":""},{"$f":"IF(LEN('1 - Opstart Importark'!$B$9)>0,'1 - Opstart Importark'!$B$9,\"\")","v":""},{"$f":"IF(LEN('1 - Opstart Importark'!$B$23)>0,'1 - Opstart Importark'!$B$23,\"\")","v":""},{"$nulls":14},"",{"$nulls":8},0,"","","objektnogle_"]
[837,null,{"$f":"IF('1 - Opstart Importark'!$B$6=\"\",\"\",(IF('1 - Opstart Importark'!$B$15=\"\",CONCATENATE(LEFT('1 - Opstart Importark'!$B$3,1),(LEFT('1 - Opstart Importark'!$B$20,5)),MID('1 - Opstart Importark'!$B$20,5,2),LEFT('1 - Opstart Importark'!$B$28,3),IF(I849=\"\",\"\",\"-\"),I849,IF(K849=\"\",\"\",\"-\"),K849,IF(M849=\"\",\"\",\"-\"),M849),CONCATENATE(LEFT('1 - Opstart Importark'!$B$3,1),(LEFT('1 - Opstart Importark'!$B$15,5)),(LEFT('1 - Opstart Importark'!$B$18,3)),IF(I849=\"\",\"\",\"-\"),I849,IF(K849=\"\",\"\",\"-\"),K849,IF(M849=\"\",\"\",\"-\"),M849))))","v":""},null," ",{"$nulls":9},{"$f":"IF(LEN('1 - Opstart Importark'!$B$6)>0,'1 - Opstart Importark'!$B$6,\"\")","v":""},{"$f":"IF(LEN('1 - Opstart Importark'!$B$9)>0,'1 - Opstart Importark'!$B$9,\"\")","v":""},{"$f":"IF(LEN('1 - Opstart Importark'!$B$23)>0,'1 - Opstart Importark'!$B$23,\"\")","v":""},{"$nulls":14},"",{"$nulls":8},0,"","","objektnogle_"]
[838,null,{"$f":"IF('1 - Opstart Importark'!$B$6=\"\",\"\",(IF('1 - Opstart Importark'!$B$15=\"\",CONCATENATE(LEFT('1 - Opstart Importark'!$B$3,1),(LEFT('1 - Opstart Importark'!$B$20,5)),MID('1 - Opstart Importark'!$B$20,5,2),LEFT('1 - Opstart Importark'!$B$28,3),IF(I850=\"\",\"\",\"-\"),I850,IF(K850=\"\",\"\",\"-\"),K850,IF(M850=\"\",\"\",\"-\"),M850),CONCATENATE(LEFT('1 - Opstart Importark'!$B$3,1),(LEFT('1 - Opstart Importark'!$B$15,5)),(LEFT('1 - Opstart Importark'!$B$18,3)),IF(I850=\"\",\"\",\"-\"),I850,IF(K850=\"\",\"\",\"-\"),K850,IF(M850=\"\",\"\",\"-\"),M850))))","v":""},null," ",{"$nulls":9},{"$f":"IF(LEN('1 - Opstart Importark'!$B$6)>0,'1 - Opstart Importark'!$B$6,\"\")","v":""},{"$f":"IF(LEN('1 - Opstart Importark'!$B$9)>0,'1 - Opstart Importark'!$B$9,\"\")","v":""},{"$f":"IF(LEN('1 - Opstart Importark'!$B$23)>0,'1 - Opstart Importark'!$B$23,\"\")","v":""},{"$nulls":14},"",{"$nulls":8},0,"","","objektnogle_"]
[839,null,{"$f":"IF('1 - Opstart Importark'!$B$6=\"\",\"\",(IF('1 - Opstart Importark'!$B$15=\"\",CONCATENATE(LEFT('1 - Opstart Importark'!$B$3,1),(LEFT('1 - Opstart Importark'!$B$20,5)),MID('1 - Opstart Importark'!$B$20,5,2),LEFT('1 - Opstart Importark'!$B$28,3),IF(I851=\"\",\"\",\"-\"),I851,IF(K851=\"\",\"\",\"-\"),K851,IF(M851=\"\",\"\",\"-\"),M851),CONCATENATE(LEFT('1 - Opstart Importark'!$B$3,1),(LEFT('1 - Opstart Importark'!$B$15,5)),(LEFT('1 - Opstart Importark'!$B$18,3)),IF(I851=\"\",\"\",\"-\"),I851,IF(K851=\"\",\"\",\"-\"),K851,IF(M851=\"\",\"\",\"-\"),M851))))","v":""},null," ",{"$nulls":9},{"$f":"IF(LEN('1 - Opstart Importark'!$B$6)>0,'1 - Opstart Importark'!$B$6,\"\")","v":""},{"$f":"IF(LEN('1 - Opstart Importark'!$B$9)>0,'1 - Opstart Importark'!$B$9,\"\")","v":""},{"$f":"IF(LEN('1 - Opstart Importark'!$B$23)>0,'1 - Opstart Importark'!$B$23,\"\")","v":""},{"$nulls":14},"",{"$nulls":8},0,"","","objektnogle_"]
[840,null,{"$f":"IF('1 - Opstart Importark'!$B$6=\"\",\"\",(IF('1 - Opstart Importark'!$B$15=\"\",CONCATENATE(LEFT('1 - Opstart Importark'!$B$3,1),(LEFT('1 - Opstart Importark'!$B$20,5)),MID('1 - Opstart Importark'!$B$20,5,2),LEFT('1 - Opstart Importark'!$B$28,3),IF(I852=\"\",\"\",\"-\"),I852,IF(K852=\"\",\"\",\"-\"),K852,IF(M852=\"\",\"\",\"-\"),M852),CONCATENATE(LEFT('1 - Opstart Importark'!$B$3,1),(LEFT('1 - Opstart Importark'!$B$15,5)),(LEFT('1 - Opstart Importark'!$B$18,3)),IF(I852=\"\",\"\",\"-\"),I852,IF(K852=\"\",\"\",\"-\"),K852,IF(M852=\"\",\"\",\"-\"),M852))))","v":""},null," ",{"$nulls":9},{"$f":"IF(LEN('1 - Opstart Importark'!$B$6)>0,'1 - Opstart Importark'!$B$6,\"\")","v":""},{"$f":"IF(LEN('1 - Opstart Importark'!$B$9)>0,'1 - Opstart Importark'!$B$9,\"\")","v":""},{"$f":"IF(LEN('1 - Opstart Importark'!$B$23)>0,'1 - Opstart Importark'!$B$23,\"\")","v":""},{"$nulls":14},"",{"$nulls":8},0,"","","objektnogle_"]
[841,null,{"$f":"IF('1 - Opstart Importark'!$B$6=\"\",\"\",(IF('1 - Opstart Importark'!$B$15=\"\",CONCATENATE(LEFT('1 - Opstart Importark'!$B$3,1),(LEFT('1 - Opstart Importark'!$B$20,5)),MID('1 - Opstart Importark'!$B$20,5,2),LEFT('1 - Opstart Importark'!$B$28,3),IF(I853=\"\",\"\",\"-\"),I853,IF(K853=\"\",\"\",\"-\"),K853,IF(M853=\"\",\"\",\"-\"),M853),CONCATENATE(LEFT('1 - Opstart Importark'!$B$3,1),(LEFT('1 - Opstart Importark'!$B$15,5)),(LEFT('1 - Opstart Importark'!$B$18,3)),IF(I853=\"\",\"\",\"-\"),I853,IF(K853=\"\",\"\",\"-\"),K853,IF(M853=\"\",\"\",\"-\"),M853))))","v":""},null," ",{"$nulls":9},{"$f":"IF(LEN('1 - Opstart Importark'!$B$6)>0,'1 - Opstart Importark'!$B$6,\"\")","v":""},{"$f":"IF(LEN('1 - Opstart Importark'!$B$9)>0,'1 - Opstart Importark'!$B$9,\"\")","v":""},{"$f":"IF(LEN('1 - Opstart Importark'!$B$23)>0,'1 - Opstart Importark'!$B$23,\"\")","v":""},{"$nulls":14},"",{"$nulls":8},0,"","","objektnogle_"]
[842,null,{"$f":"IF('1 - Opstart Importark'!$B$6=\"\",\"\",(IF('1 - Opstart Importark'!$B$15=\"\",CONCATENATE(LEFT('1 - Opstart Importark'!$B$3,1),(LEFT('1 - Opstart Importark'!$B$20,5)),MID('1 - Opstart Importark'!$B$20,5,2),LEFT('1 - Opstart Importark'!$B$28,3),IF(I854=\"\",\"\",\"-\"),I854,IF(K854=\"\",\"\",\"-\"),K854,IF(M854=\"\",\"\",\"-\"),M854),CONCATENATE(LEFT('1 - Opstart Importark'!$B$3,1),(LEFT('1 - Opstart Importark'!$B$15,5)),(LEFT('1 - Opstart Importark'!$B$18,3)),IF(I854=\"\",\"\",\"-\"),I854,IF(K854=\"\",\"\",\"-\"),K854,IF(M854=\"\",\"\",\"-\"),M854))))","v":""},null," ",{"$nulls":9},{"$f":"IF(LEN('1 - Opstart Importark'!$B$6)>0,'1 - Opstart Importark'!$B$6,\"\")","v":""},{"$f":"IF(LEN('1 - Opstart Importark'!$B$9)>0,'1 - Opstart Importark'!$B$9,\"\")","v":""},{"$f":"IF(LEN('1 - Opstart Importark'!$B$23)>0,'1 - Opstart Importark'!$B$23,\"\")","v":""},{"$nulls":14},"",{"$nulls":8},0,"","","objektnogle_"]
[843,null,{"$f":"IF('1 - Opstart Importark'!$B$6=\"\",\"\",(IF('1 - Opstart Importark'!$B$15=\"\",CONCATENATE(LEFT('1 - Opstart Importark'!$B$3,1),(LEFT('1 - Opstart Importark'!$B$20,5)),MID('1 - Opstart Importark'!$B$20,5,2),LEFT('1 - Opstart Importark'!$B$28,3),IF(I855=\"\",\"\",\"-\"),I855,IF(K855=\"\",\"\",\"-\"),K855,IF(M855=\"\",\"\",\"-\"),M855),CONCATENATE(LEFT('1 - Opstart Importark'!$B$3,1),(LEFT('1 - Opstart Importark'!$B$15,5)),(LEFT('1 - Opstart Importark'!$B$18,3)),IF(I855=\"\",\"\",\"-\"),I855,IF(K855=\"\",\"\",\"-\"),K855,IF(M855=\"\",\"\",\"-\"),M855))))","v":""},null," ",{"$nulls":9},{"$f":"IF(LEN('1 - Opstart Importark'!$B$6)>0,'1 - Opstart Importark'!$B$6,\"\")","v":""},{"$f":"IF(LEN('1 - Opstart Importark'!$B$9)>0,'1 - Opstart Importark'!$B$9,\"\")","v":""},{"$f":"IF(LEN('1 - Opstart Importark'!$B$23)>0,'1 - Opstart Importark'!$B$23,\"\")","v":""},{"$nulls":14},"",{"$nulls":8},0,"","","objektnogle_"]
[844,null,{"$f":"IF('1 - Opstart Importark'!$B$6=\"\",\"\",(IF('1 - Opstart Importark'!$B$15=\"\",CONCATENATE(LEFT('1 - Opstart Importark'!$B$3,1),(LEFT('1 - Opstart Importark'!$B$20,5)),MID('1 - Opstart Importark'!$B$20,5,2),LEFT('1 - Opstart Importark'!$B$28,3),IF(I856=\"\",\"\",\"-\"),I856,IF(K856=\"\",\"\",\"-\"),K856,IF(M856=\"\",\"\",\"-\"),M856),CONCATENATE(LEFT('1 - Opstart Importark'!$B$3,1),(LEFT('1 - Opstart Importark'!$B$15,5)),(LEFT('1 - Opstart Importark'!$B$18,3)),IF(I856=\"\",\"\",\"-\"),I856,IF(K856=\"\",\"\",\"-\"),K856,IF(M856=\"\",\"\",\"-\"),M856))))","v":""},null," ",{"$nulls":9},{"$f":"IF(LEN('1 - Opstart Importark'!$B$6)>0,'1 - Opstart Importark'!$B$6,\"\")","v":""},{"$f":"IF(LEN('1 - Opstart Importark'!$B$9)>0,'1 - Opstart Importark'!$B$9,\"\")","v":""},{"$f":"IF(LEN('1 - Opstart Importark'!$B$23)>0,'1 - Opstart Importark'!$B$23,\"\")","v":""},{"$nulls":14},"",{"$nulls":8},0,"","","objektnogle_"]
[845,null,{"$f":"IF('1 - Opstart Importark'!$B$6=\"\",\"\",(IF('1 - Opstart Importark'!$B$15=\"\",CONCATENATE(LEFT('1 - Opstart Importark'!$B$3,1),(LEFT('1 - Opstart Importark'!$B$20,5)),MID('1 - Opstart Importark'!$B$20,5,2),LEFT('1 - Opstart Importark'!$B$28,3),IF(I857=\"\",\"\",\"-\"),I857,IF(K857=\"\",\"\",\"-\"),K857,IF(M857=\"\",\"\",\"-\"),M857),CONCATENATE(LEFT('1 - Opstart Importark'!$B$3,1),(LEFT('1 - Opstart Importark'!$B$15,5)),(LEFT('1 - Opstart Importark'!$B$18,3)),IF(I857=\"\",\"\",\"-\"),I857,IF(K857=\"\",\"\",\"-\"),K857,IF(M857=\"\",\"\",\"-\"),M857))))","v":""},null," ",{"$nulls":9},{"$f":"IF(LEN('1 - Opstart Importark'!$B$6)>0,'1 - Opstart Importark'!$B$6,\"\")","v":""},{"$f":"IF(LEN('1 - Opstart Importark'!$B$9)>0,'1 - Opstart Importark'!$B$9,\"\")","v":""},{"$f":"IF(LEN('1 - Opstart Importark'!$B$23)>0,'1 - Opstart Importark'!$B$23,\"\")","v":""},{"$nulls":14},"",{"$nulls":8},0,"","","objektnogle_"]
[846,null,{"$f":"IF('1 - Opstart Importark'!$B$6=\"\",\"\",(IF('1 - Opstart Importark'!$B$15=\"\",CONCATENATE(LEFT('1 - Opstart Importark'!$B$3,1),(LEFT('1 - Opstart Importark'!$B$20,5)),MID('1 - Opstart Importark'!$B$20,5,2),LEFT('1 - Opstart Importark'!$B$28,3),IF(I858=\"\",\"\",\"-\"),I858,IF(K858=\"\",\"\",\"-\"),K858,IF(M858=\"\",\"\",\"-\"),M858),CONCATENATE(LEFT('1 - Opstart Importark'!$B$3,1),(LEFT('1 - Opstart Importark'!$B$15,5)),(LEFT('1 - Opstart Importark'!$B$18,3)),IF(I858=\"\",\"\",\"-\"),I858,IF(K858=\"\",\"\",\"-\"),K858,IF(M858=\"\",\"\",\"-\"),M858))))","v":""},null," ",{"$nulls":9},{"$f":"IF(LEN('1 - Opstart Importark'!$B$6)>0,'1 - Opstart Importark'!$B$6,\"\")","v":""},{"$f":"IF(LEN('1 - Opstart Importark'!$B$9)>0,'1 - Opstart Importark'!$B$9,\"\")","v":""},{"$f":"IF(LEN('1 - Opstart Importark'!$B$23)>0,'1 - Opstart Importark'!$B$23,\"\")","v":""},{"$nulls":14},"",{"$nulls":8},0,"","","objektnogle_"]
[847,null,{"$f":"IF('1 - Opstart Importark'!$B$6=\"\",\"\",(IF('1 - Opstart Importark'!$B$15=\"\",CONCATENATE(LEFT('1 - Opstart Importark'!$B$3,1),(LEFT('1 - Opstart Importark'!$B$20,5)),MID('1 - Opstart Importark'!$B$20,5,2),LEFT('1 - Opstart Importark'!$B$28,3),IF(I859=\"\",\"\",\"-\"),I859,IF(K859=\"\",\"\",\"-\"),K859,IF(M859=\"\",\"\",\"-\"),M859),CONCATENATE(LEFT('1 - Opstart Importark'!$B$3,1),(LEFT('1 - Opstart Importark'!$B$15,5)),(LEFT('1 - Opstart Importark'!$B$18,3)),IF(I859=\"\",\"\",\"-\"),I859,IF(K859=\"\",\"\",\"-\"),K859,IF(M859=\"\",\"\",\"-\"),M859))))","v":""},null," ",{"$nulls":9},{"$f":"IF(LEN('1 - Opstart Importark'!$B$6)>0,'1 - Opstart Importark'!$B$6,\"\")","v":""},{"$f":"IF(LEN('1 - Opstart Importark'!$B$9)>0,'1 - Opstart Importark'!$B$9,\"\")","v":""},{"$f":"IF(LEN('1 - Opstart Importark'!$B$23)>0,'1 - Opstart Importark'!$B$23,\"\")","v":""},{"$nulls":14},"",{"$nulls":8},0,"","","objektnogle_"]
[848,null,{"$f":"IF('1 - Opstart Importark'!$B$6=\"\",\"\",(IF('1 - Opstart Importark'!$B$15=\"\",CONCATENATE(LEFT('1 - Opstart Importark'!$B$3,1),(LEFT('1 - Opstart Importark'!$B$20,5)),MID('1 - Opstart Importark'!$B$20,5,2),LEFT('1 - Opstart Importark'!$B$28,3),IF(I860=\"\",\"\",\"-\"),I860,IF(K860=\"\",\"\",\"-\"),K860,IF(M860=\"\",\"\",\"-\"),M860),CONCATENATE(LEFT('1 - Opstart Importark'!$B$3,1),(LEFT('1 - Opstart Importark'!$B$15,5)),(LEFT('1 - Opstart Importark'!$B$18,3)),IF(I860=\"\",\"\",\"-\"),I860,IF(K860=\"\",\"\",\"-\"),K860,IF(M860=\"\",\"\",\"-\"),M860))))","v":""},null," ",{"$nulls":9},{"$f":"IF(LEN('1 - Opstart Importark'!$B$6)>0,'1 - Opstart Importark'!$B$6,\"\")","v":""},{"$f":"IF(LEN('1 - Opstart Importark'!$B$9)>0,'1 - Opstart Importark'!$B$9,\"\")","v":""},{"$f":"IF(LEN('1 - Opstart Importark'!$B$23)>0,'1 - Opstart Importark'!$B$23,\"\")","v":""},{"$nulls":14},"",{"$nulls":8},0,"","","objektnogle_"]
[849,null,{"$f":"IF('1 - Opstart Importark'!$B$6=\"\",\"\",(IF('1 - Opstart Importark'!$B$15=\"\",CONCATENATE(LEFT('1 - Opstart Importark'!$B$3,1),(LEFT('1 - Opstart Importark'!$B$20,5)),MID('1 - Opstart Importark'!$B$20,5,2),LEFT('1 - Opstart Importark'!$B$28,3),IF(I861=\"\",\"\",\"-\"),I861,IF(K861=\"\",\"\",\"-\"),K861,IF(M861=\"\",\"\",\"-\"),M861),CONCATENATE(LEFT('1 - Opstart Importark'!$B$3,1),(LEFT('1 - Opstart Importark'!$B$15,5)),(LEFT('1 - Opstart Importark'!$B$18,3)),IF(I861=\"\",\"\",\"-\"),I861,IF(K861=\"\",\"\",\"-\"),K861,IF(M861=\"\",\"\",\"-\"),M861))))","v":""},null," ",{"$nulls":9},{"$f":"IF(LEN('1 - Opstart Importark'!$B$6)>0,'1 - Opstart Importark'!$B$6,\"\")","v":""},{"$f":"IF(LEN('1 - Opstart Importark'!$B$9)>0,'1 - Opstart Importark'!$B$9,\"\")","v":""},{"$f":"IF(LEN('1 - Opstart Importark'!$B$23)>0,'1 - Opstart Importark'!$B$23,\"\")","v":""},{"$nulls":14},"",{"$nulls":8},0,"","","objektnogle_"]
[850,null,{"$f":"IF('1 - Opstart Importark'!$B$6=\"\",\"\",(IF('1 - Opstart Importark'!$B$15=\"\",CONCATENATE(LEFT('1 - Opstart Importark'!$B$3,1),(LEFT('1 - Opstart Importark'!$B$20,5)),MID('1 - Opstart Importark'!$B$20,5,2),LEFT('1 - Opstart Importark'!$B$28,3),IF(I862=\"\",\"\",\"-\"),I862,IF(K862=\"\",\"\",\"-\"),K862,IF(M862=\"\",\"\",\"-\"),M862),CONCATENATE(LEFT('1 - Opstart Importark'!$B$3,1),(LEFT('1 - Opstart Importark'!$B$15,5)),(LEFT('1 - Opstart Importark'!$B$18,3)),IF(I862=\"\",\"\",\"-\"),I862,IF(K862=\"\",\"\",\"-\"),K862,IF(M862=\"\",\"\",\"-\"),M862))))","v":""},null," ",{"$nulls":9},{"$f":"IF(LEN('1 - Opstart Importark'!$B$6)>0,'1 - Opstart Importark'!$B$6,\"\")","v":""},{"$f":"IF(LEN('1 - Opstart Importark'!$B$9)>0,'1 - Opstart Importark'!$B$9,\"\")","v":""},{"$f":"IF(LEN('1 - Opstart Importark'!$B$23)>0,'1 - Opstart Importark'!$B$23,\"\")","v":""},{"$nulls":14},"",{"$nulls":8},0,"","","objektnogle_"]
[851,null,{"$f":"IF('1 - Opstart Importark'!$B$6=\"\",\"\",(IF('1 - Opstart Importark'!$B$15=\"\",CONCATENATE(LEFT('1 - Opstart Importark'!$B$3,1),(LEFT('1 - Opstart Importark'!$B$20,5)),MID('1 - Opstart Importark'!$B$20,5,2),LEFT('1 - Opstart Importark'!$B$28,3),IF(I863=\"\",\"\",\"-\"),I863,IF(K863=\"\",\"\",\"-\"),K863,IF(M863=\"\",\"\",\"-\"),M863),CONCATENATE(LEFT('1 - Opstart Importark'!$B$3,1),(LEFT('1 - Opstart Importark'!$B$15,5)),(LEFT('1 - Opstart Importark'!$B$18,3)),IF(I863=\"\",\"\",\"-\"),I863,IF(K863=\"\",\"\",\"-\"),K863,IF(M863=\"\",\"\",\"-\"),M863))))","v":""},null," ",{"$nulls":9},{"$f":"IF(LEN('1 - Opstart Importark'!$B$6)>0,'1 - Opstart Importark'!$B$6,\"\")","v":""},{"$f":"IF(LEN('1 - Opstart Importark'!$B$9)>0,'1 - Opstart Importark'!$B$9,\"\")","v":""},{"$f":"IF(LEN('1 - Opstart Importark'!$B$23)>0,'1 - Opstart Importark'!$B$23,\"\")","v":""},{"$nulls":14},"",{"$nulls":8},0,"","","objektnogle_"]
[852,null,{"$f":"IF('1 - Opstart Importark'!$B$6=\"\",\"\",(IF('1 - Opstart Importark'!$B$15=\"\",CONCATENATE(LEFT('1 - Opstart Importark'!$B$3,1),(LEFT('1 - Opstart Importark'!$B$20,5)),MID('1 - Opstart Importark'!$B$20,5,2),LEFT('1 - Opstart Importark'!$B$28,3),IF(I864=\"\",\"\",\"-\"),I864,IF(K864=\"\",\"\",\"-\"),K864,IF(M864=\"\",\"\",\"-\"),M864),CONCATENATE(LEFT('1 - Opstart Importark'!$B$3,1),(LEFT('1 - Opstart Importark'!$B$15,5)),(LEFT('1 - Opstart Importark'!$B$18,3)),IF(I864=\"\",\"\",\"-\"),I864,IF(K864=\"\",\"\",\"-\"),K864,IF(M864=\"\",\"\",\"-\"),M864))))","v":""},null," ",{"$nulls":9},{"$f":"IF(LEN('1 - Opstart Importark'!$B$6)>0,'1 - Opstart Importark'!$B$6,\"\")","v":""},{"$f":"IF(LEN('1 - Opstart Importark'!$B$9)>0,'1 - Opstart Importark'!$B$9,\"\")","v":""},{"$f":"IF(LEN('1 - Opstart Importark'!$B$23)>0,'1 - Opstart Importark'!$B$23,\"\")","v":""},{"$nulls":14},"",{"$nulls":8},0,"","","objektnogle_"]
[853,null,{"$f":"IF('1 - Opstart Importark'!$B$6=\"\",\"\",(IF('1 - Opstart Importark'!$B$15=\"\",CONCATENATE(LEFT('1 - Opstart Importark'!$B$3,1),(LEFT('1 - Opstart Importark'!$B$20,5)),MID('1 - Opstart Importark'!$B$20,5,2),LEFT('1 - Opstart Importark'!$B$28,3),IF(I865=\"\",\"\",\"-\"),I865,IF(K865=\"\",\"\",\"-\"),K865,IF(M865=\"\",\"\",\"-\"),M865),CONCATENATE(LEFT('1 - Opstart Importark'!$B$3,1),(LEFT('1 - Opstart Importark'!$B$15,5)),(LEFT('1 - Opstart Importark'!$B$18,3)),IF(I865=\"\",\"\",\"-\"),I865,IF(K865=\"\",\"\",\"-\"),K865,IF(M865=\"\",\"\",\"-\"),M865))))","v":""},null," ",{"$nulls":9},{"$f":"IF(LEN('1 - Opstart Importark'!$B$6)>0,'1 - Opstart Importark'!$B$6,\"\")","v":""},{"$f":"IF(LEN('1 - Opstart Importark'!$B$9)>0,'1 - Opstart Importark'!$B$9,\"\")","v":""},{"$f":"IF(LEN('1 - Opstart Importark'!$B$23)>0,'1 - Opstart Importark'!$B$23,\"\")","v":""},{"$nulls":14},"",{"$nulls":8},0,"","","objektnogle_"]
[854,null,{"$f":"IF('1 - Opstart Importark'!$B$6=\"\",\"\",(IF('1 - Opstart Importark'!$B$15=\"\",CONCATENATE(LEFT('1 - Opstart Importark'!$B$3,1),(LEFT('1 - Opstart Importark'!$B$20,5)),MID('1 - Opstart Importark'!$B$20,5,2),LEFT('1 - Opstart Importark'!$B$28,3),IF(I866=\"\",\"\",\"-\"),I866,IF(K866=\"\",\"\",\"-\"),K866,IF(M866=\"\",\"\",\"-\"),M866),CONCATENATE(LEFT('1 - Opstart Importark'!$B$3,1),(LEFT('1 - Opstart Importark'!$B$15,5)),(LEFT('1 - Opstart Importark'!$B$18,3)),IF(I866=\"\",\"\",\"-\"),I866,IF(K866=\"\",\"\",\"-\"),K866,IF(M866=\"\",\"\",\"-\"),M866))))","v":""},null," ",{"$nulls":9},{"$f":"IF(LEN('1 - Opstart Importark'!$B$6)>0,'1 - Opstart Importark'!$B$6,\"\")","v":""},{"$f":"IF(LEN('1 - Opstart Importark'!$B$9)>0,'1 - Opstart Importark'!$B$9,\"\")","v":""},{"$f":"IF(LEN('1 - Opstart Importark'!$B$23)>0,'1 - Opstart Importark'!$B$23,\"\")","v":""},{"$nulls":14},"",{"$nulls":8},0,"","","objektnogle_"]
[855,null,{"$f":"IF('1 - Opstart Importark'!$B$6=\"\",\"\",(IF('1 - Opstart Importark'!$B$15=\"\",CONCATENATE(LEFT('1 - Opstart Importark'!$B$3,1),(LEFT('1 - Opstart Importark'!$B$20,5)),MID('1 - Opstart Importark'!$B$20,5,2),LEFT('1 - Opstart Importark'!$B$28,3),IF(I867=\"\",\"\",\"-\"),I867,IF(K867=\"\",\"\",\"-\"),K867,IF(M867=\"\",\"\",\"-\"),M867),CONCATENATE(LEFT('1 - Opstart Importark'!$B$3,1),(LEFT('1 - Opstart Importark'!$B$15,5)),(LEFT('1 - Opstart Importark'!$B$18,3)),IF(I867=\"\",\"\",\"-\"),I867,IF(K867=\"\",\"\",\"-\"),K867,IF(M867=\"\",\"\",\"-\"),M867))))","v":""},null," ",{"$nulls":9},{"$f":"IF(LEN('1 - Opstart Importark'!$B$6)>0,'1 - Opstart Importark'!$B$6,\"\")","v":""},{"$f":"IF(LEN('1 - Opstart Importark'!$B$9)>0,'1 - Opstart Importark'!$B$9,\"\")","v":""},{"$f":"IF(LEN('1 - Opstart Importark'!$B$23)>0,'1 - Opstart Importark'!$B$23,\"\")","v":""},{"$nulls":14},"",{"$nulls":8},0,"","","objektnogle_"]
[856,null,{"$f":"IF('1 - Opstart Importark'!$B$6=\"\",\"\",(IF('1 - Opstart Importark'!$B$15=\"\",CONCATENATE(LEFT('1 - Opstart Importark'!$B$3,1),(LEFT('1 - Opstart Importark'!$B$20,5)),MID('1 - Opstart Importark'!$B$20,5,2),LEFT('1 - Opstart Importark'!$B$28,3),IF(I868=\"\",\"\",\"-\"),I868,IF(K868=\"\",\"\",\"-\"),K868,IF(M868=\"\",\"\",\"-\"),M868),CONCATENATE(LEFT('1 - Opstart Importark'!$B$3,1),(LEFT('1 - Opstart Importark'!$B$15,5)),(LEFT('1 - Opstart Importark'!$B$18,3)),IF(I868=\"\",\"\",\"-\"),I868,IF(K868=\"\",\"\",\"-\"),K868,IF(M868=\"\",\"\",\"-\"),M868))))","v":""},null," ",{"$nulls":9},{"$f":"IF(LEN('1 - Opstart Importark'!$B$6)>0,'1 - Opstart Importark'!$B$6,\"\")","v":""},{"$f":"IF(LEN('1 - Opstart Importark'!$B$9)>0,'1 - Opstart Importark'!$B$9,\"\")","v":""},{"$f":"IF(LEN('1 - Opstart Importark'!$B$23)>0,'1 - Opstart Importark'!$B$23,\"\")","v":""},{"$nulls":14},"",{"$nulls":8},0,"","","objektnogle_"]
[857,null,{"$f":"IF('1 - Opstart Importark'!$B$6=\"\",\"\",(IF('1 - Opstart Importark'!$B$15=\"\",CONCATENATE(LEFT('1 - Opstart Importark'!$B$3,1),(LEFT('1 - Opstart Importark'!$B$20,5)),MID('1 - Opstart Importark'!$B$20,5,2),LEFT('1 - Opstart Importark'!$B$28,3),IF(I869=\"\",\"\",\"-\"),I869,IF(K869=\"\",\"\",\"-\"),K869,IF(M869=\"\",\"\",\"-\"),M869),CONCATENATE(LEFT('1 - Opstart Importark'!$B$3,1),(LEFT('1 - Opstart Importark'!$B$15,5)),(LEFT('1 - Opstart Importark'!$B$18,3)),IF(I869=\"\",\"\",\"-\"),I869,IF(K869=\"\",\"\",\"-\"),K869,IF(M869=\"\",\"\",\"-\"),M869))))","v":""},null," ",{"$nulls":9},{"$f":"IF(LEN('1 - Opstart Importark'!$B$6)>0,'1 - Opstart Importark'!$B$6,\"\")","v":""},{"$f":"IF(LEN('1 - Opstart Importark'!$B$9)>0,'1 - Opstart Importark'!$B$9,\"\")","v":""},{"$f":"IF(LEN('1 - Opstart Importark'!$B$23)>0,'1 - Opstart Importark'!$B$23,\"\")","v":""},{"$nulls":14},"",{"$nulls":8},0,"","","objektnogle_"]
[858,null,{"$f":"IF('1 - Opstart Importark'!$B$6=\"\",\"\",(IF('1 - Opstart Importark'!$B$15=\"\",CONCATENATE(LEFT('1 - Opstart Importark'!$B$3,1),(LEFT('1 - Opstart Importark'!$B$20,5)),MID('1 - Opstart Importark'!$B$20,5,2),LEFT('1 - Opstart Importark'!$B$28,3),IF(I870=\"\",\"\",\"-\"),I870,IF(K870=\"\",\"\",\"-\"),K870,IF(M870=\"\",\"\",\"-\"),M870),CONCATENATE(LEFT('1 - Opstart Importark'!$B$3,1),(LEFT('1 - Opstart Importark'!$B$15,5)),(LEFT('1 - Opstart Importark'!$B$18,3)),IF(I870=\"\",\"\",\"-\"),I870,IF(K870=\"\",\"\",\"-\"),K870,IF(M870=\"\",\"\",\"-\"),M870))))","v":""},null," ",{"$nulls":9},{"$f":"IF(LEN('1 - Opstart Importark'!$B$6)>0,'1 - Opstart Importark'!$B$6,\"\")","v":""},{"$f":"IF(LEN('1 - Opstart Importark'!$B$9)>0,'1 - Opstart Importark'!$B$9,\"\")","v":""},{"$f":"IF(LEN('1 - Opstart Importark'!$B$23)>0,'1 - Opstart Importark'!$B$23,\"\")","v":""},{"$nulls":14},"",{"$nulls":8},0,"","","objektnogle_"]
[859,null,{"$f":"IF('1 - Opstart Importark'!$B$6=\"\",\"\",(IF('1 - Opstart Importark'!$B$15=\"\",CONCATENATE(LEFT('1 - Opstart Importark'!$B$3,1),(LEFT('1 - Opstart Importark'!$B$20,5)),MID('1 - Opstart Importark'!$B$20,5,2),LEFT('1 - Opstart Importark'!$B$28,3),IF(I871=\"\",\"\",\"-\"),I871,IF(K871=\"\",\"\",\"-\"),K871,IF(M871=\"\",\"\",\"-\"),M871),CONCATENATE(LEFT('1 - Opstart Importark'!$B$3,1),(LEFT('1 - Opstart Importark'!$B$15,5)),(LEFT('1 - Opstart Importark'!$B$18,3)),IF(I871=\"\",\"\",\"-\"),I871,IF(K871=\"\",\"\",\"-\"),K871,IF(M871=\"\",\"\",\"-\"),M871))))","v":""},null," ",{"$nulls":9},{"$f":"IF(LEN('1 - Opstart Importark'!$B$6)>0,'1 - Opstart Importark'!$B$6,\"\")","v":""},{"$f":"IF(LEN('1 - Opstart Importark'!$B$9)>0,'1 - Opstart Importark'!$B$9,\"\")","v":""},{"$f":"IF(LEN('1 - Opstart Importark'!$B$23)>0,'1 - Opstart Importark'!$B$23,\"\")","v":""},{"$nulls":14},"",{"$nulls":8},0,"","","objektnogle_"]
[860,null,{"$f":"IF('1 - Opstart Importark'!$B$6=\"\",\"\",(IF('1 - Opstart Importark'!$B$15=\"\",CONCATENATE(LEFT('1 - Opstart Importark'!$B$3,1),(LEFT('1 - Opstart Importark'!$B$20,5)),MID('1 - Opstart Importark'!$B$20,5,2),LEFT('1 - Opstart Importark'!$B$28,3),IF(I872=\"\",\"\",\"-\"),I872,IF(K872=\"\",\"\",\"-\"),K872,IF(M872=\"\",\"\",\"-\"),M872),CONCATENATE(LEFT('1 - Opstart Importark'!$B$3,1),(LEFT('1 - Opstart Importark'!$B$15,5)),(LEFT('1 - Opstart Importark'!$B$18,3)),IF(I872=\"\",\"\",\"-\"),I872,IF(K872=\"\",\"\",\"-\"),K872,IF(M872=\"\",\"\",\"-\"),M872))))","v":""},null," ",{"$nulls":9},{"$f":"IF(LEN('1 - Opstart Importark'!$B$6)>0,'1 - Opstart Importark'!$B$6,\"\")","v":""},{"$f":"IF(LEN('1 - Opstart Importark'!$B$9)>0,'1 - Opstart Importark'!$B$9,\"\")","v":""},{"$f":"IF(LEN('1 - Opstart Importark'!$B$23)>0,'1 - Opstart Importark'!$B$23,\"\")","v":""},{"$nulls":14},"",{"$nulls":8},0,"","","objektnogle_"]
[861,null,{"$f":"IF('1 - Opstart Importark'!$B$6=\"\",\"\",(IF('1 - Opstart Importark'!$B$15=\"\",CONCATENATE(LEFT('1 - Opstart Importark'!$B$3,1),(LEFT('1 - Opstart Importark'!$B$20,5)),MID('1 - Opstart Importark'!$B$20,5,2),LEFT('1 - Opstart Importark'!$B$28,3),IF(I873=\"\",\"\",\"-\"),I873,IF(K873=\"\",\"\",\"-\"),K873,IF(M873=\"\",\"\",\"-\"),M873),CONCATENATE(LEFT('1 - Opstart Importark'!$B$3,1),(LEFT('1 - Opstart Importark'!$B$15,5)),(LEFT('1 - Opstart Importark'!$B$18,3)),IF(I873=\"\",\"\",\"-\"),I873,IF(K873=\"\",\"\",\"-\"),K873,IF(M873=\"\",\"\",\"-\"),M873))))","v":""},null," ",{"$nulls":9},{"$f":"IF(LEN('1 - Opstart Importark'!$B$6)>0,'1 - Opstart Importark'!$B$6,\"\")","v":""},{"$f":"IF(LEN('1 - Opstart Importark'!$B$9)>0,'1 - Opstart Importark'!$B$9,\"\")","v":""},{"$f":"IF(LEN('1 - Opstart Importark'!$B$23)>0,'1 - Opstart Importark'!$B$23,\"\")","v":""},{"$nulls":14},"",{"$nulls":8},0,"","","objektnogle_"]
[862,null,{"$f":"IF('1 - Opstart Importark'!$B$6=\"\",\"\",(IF('1 - Opstart Importark'!$B$15=\"\",CONCATENATE(LEFT('1 - Opstart Importark'!$B$3,1),(LEFT('1 - Opstart Importark'!$B$20,5)),MID('1 - Opstart Importark'!$B$20,5,2),LEFT('1 - Opstart Importark'!$B$28,3),IF(I874=\"\",\"\",\"-\"),I874,IF(K874=\"\",\"\",\"-\"),K874,IF(M874=\"\",\"\",\"-\"),M874),CONCATENATE(LEFT('1 - Opstart Importark'!$B$3,1),(LEFT('1 - Opstart Importark'!$B$15,5)),(LEFT('1 - Opstart Importark'!$B$18,3)),IF(I874=\"\",\"\",\"-\"),I874,IF(K874=\"\",\"\",\"-\"),K874,IF(M874=\"\",\"\",\"-\"),M874))))","v":""},null," ",{"$nulls":9},{"$f":"IF(LEN('1 - Opstart Importark'!$B$6)>0,'1 - Opstart Importark'!$B$6,\"\")","v":""},{"$f":"IF(LEN('1 - Opstart Importark'!$B$9)>0,'1 - Opstart Importark'!$B$9,\"\")","v":""},{"$f":"IF(LEN('1 - Opstart Importark'!$B$23)>0,'1 - Opstart Importark'!$B$23,\"\")","v":""},{"$nulls":14},"",{"$nulls":8},0,"","","objektnogle_"]
[863,null,{"$f":"IF('1 - Opstart Importark'!$B$6=\"\",\"\",(IF('1 - Opstart Importark'!$B$15=\"\",CONCATENATE(LEFT('1 - Opstart Importark'!$B$3,1),(LEFT('1 - Opstart Importark'!$B$20,5)),MID('1 - Opstart Importark'!$B$20,5,2),LEFT('1 - Opstart Importark'!$B$28,3),IF(I875=\"\",\"\",\"-\"),I875,IF(K875=\"\",\"\",\"-\"),K875,IF(M875=\"\",\"\",\"-\"),M875),CONCATENATE(LEFT('1 - Opstart Importark'!$B$3,1),(LEFT('1 - Opstart Importark'!$B$15,5)),(LEFT('1 - Opstart Importark'!$B$18,3)),IF(I875=\"\",\"\",\"-\"),I875,IF(K875=\"\",\"\",\"-\"),K875,IF(M875=\"\",\"\",\"-\"),M875))))","v":""},null," ",{"$nulls":9},{"$f":"IF(LEN('1 - Opstart Importark'!$B$6)>0,'1 - Opstart Importark'!$B$6,\"\")","v":""},{"$f":"IF(LEN('1 - Opstart Importark'!$B$9)>0,'1 - Opstart Importark'!$B$9,\"\")","v":""},{"$f":"IF(LEN('1 - Opstart Importark'!$B$23)>0,'1 - Opstart Importark'!$B$23,\"\")","v":""},{"$nulls":14},"",{"$nulls":8},0,"","","objektnogle_"]
[864,null,{"$f":"IF('1 - Opstart Importark'!$B$6=\"\",\"\",(IF('1 - Opstart Importark'!$B$15=\"\",CONCATENATE(LEFT('1 - Opstart Importark'!$B$3,1),(LEFT('1 - Opstart Importark'!$B$20,5)),MID('1 - Opstart Importark'!$B$20,5,2),LEFT('1 - Opstart Importark'!$B$28,3),IF(I876=\"\",\"\",\"-\"),I876,IF(K876=\"\",\"\",\"-\"),K876,IF(M876=\"\",\"\",\"-\"),M876),CONCATENATE(LEFT('1 - Opstart Importark'!$B$3,1),(LEFT('1 - Opstart Importark'!$B$15,5)),(LEFT('1 - Opstart Importark'!$B$18,3)),IF(I876=\"\",\"\",\"-\"),I876,IF(K876=\"\",\"\",\"-\"),K876,IF(M876=\"\",\"\",\"-\"),M876))))","v":""},null," ",{"$nulls":9},{"$f":"IF(LEN('1 - Opstart Importark'!$B$6)>0,'1 - Opstart Importark'!$B$6,\"\")","v":""},{"$f":"IF(LEN('1 - Opstart Importark'!$B$9)>0,'1 - Opstart Importark'!$B$9,\"\")","v":""},{"$f":"IF(LEN('1 - Opstart Importark'!$B$23)>0,'1 - Opstart Importark'!$B$23,\"\")","v":""},{"$nulls":14},"",{"$nulls":8},0,"","","objektnogle_"]
[865,null,{"$f":"IF('1 - Opstart Importark'!$B$6=\"\",\"\",(IF('1 - Opstart Importark'!$B$15=\"\",CONCATENATE(LEFT('1 - Opstart Importark'!$B$3,1),(LEFT('1 - Opstart Importark'!$B$20,5)),MID('1 - Opstart Importark'!$B$20,5,2),LEFT('1 - Opstart Importark'!$B$28,3),IF(I877=\"\",\"\",\"-\"),I877,IF(K877=\"\",\"\",\"-\"),K877,IF(M877=\"\",\"\",\"-\"),M877),CONCATENATE(LEFT('1 - Opstart Importark'!$B$3,1),(LEFT('1 - Opstart Importark'!$B$15,5)),(LEFT('1 - Opstart Importark'!$B$18,3)),IF(I877=\"\",\"\",\"-\"),I877,IF(K877=\"\",\"\",\"-\"),K877,IF(M877=\"\",\"\",\"-\"),M877))))","v":""},null," ",{"$nulls":9},{"$f":"IF(LEN('1 - Opstart Importark'!$B$6)>0,'1 - Opstart Importark'!$B$6,\"\")","v":""},{"$f":"IF(LEN('1 - Opstart Importark'!$B$9)>0,'1 - Opstart Importark'!$B$9,\"\")","v":""},{"$f":"IF(LEN('1 - Opstart Importark'!$B$23)>0,'1 - Opstart Importark'!$B$23,\"\")","v":""},{"$nulls":14},"",{"$nulls":8},0,"","","objektnogle_"]
[866,null,{"$f":"IF('1 - Opstart Importark'!$B$6=\"\",\"\",(IF('1 - Opstart Importark'!$B$15=\"\",CONCATENATE(LEFT('1 - Opstart Importark'!$B$3,1),(LEFT('1 - Opstart Importark'!$B$20,5)),MID('1 - Opstart Importark'!$B$20,5,2),LEFT('1 - Opstart Importark'!$B$28,3),IF(I878=\"\",\"\",\"-\"),I878,IF(K878=\"\",\"\",\"-\"),K878,IF(M878=\"\",\"\",\"-\"),M878),CONCATENATE(LEFT('1 - Opstart Importark'!$B$3,1),(LEFT('1 - Opstart Importark'!$B$15,5)),(LEFT('1 - Opstart Importark'!$B$18,3)),IF(I878=\"\",\"\",\"-\"),I878,IF(K878=\"\",\"\",\"-\"),K878,IF(M878=\"\",\"\",\"-\"),M878))))","v":""},null," ",{"$nulls":9},{"$f":"IF(LEN('1 - Opstart Importark'!$B$6)>0,'1 - Opstart Importark'!$B$6,\"\")","v":""},{"$f":"IF(LEN('1 - Opstart Importark'!$B$9)>0,'1 - Opstart Importark'!$B$9,\"\")","v":""},{"$f":"IF(LEN('1 - Opstart Importark'!$B$23)>0,'1 - Opstart Importark'!$B$23,\"\")","v":""},{"$nulls":14},"",{"$nulls":8},0,"","","objektnogle_"]
[867,null,{"$f":"IF('1 - Opstart Importark'!$B$6=\"\",\"\",(IF('1 - Opstart Importark'!$B$15=\"\",CONCATENATE(LEFT('1 - Opstart Importark'!$B$3,1),(LEFT('1 - Opstart Importark'!$B$20,5)),MID('1 - Opstart Importark'!$B$20,5,2),LEFT('1 - Opstart Importark'!$B$28,3),IF(I879=\"\",\"\",\"-\"),I879,IF(K879=\"\",\"\",\"-\"),K879,IF(M879=\"\",\"\",\"-\"),M879),CONCATENATE(LEFT('1 - Opstart Importark'!$B$3,1),(LEFT('1 - Opstart Importark'!$B$15,5)),(LEFT('1 - Opstart Importark'!$B$18,3)),IF(I879=\"\",\"\",\"-\"),I879,IF(K879=\"\",\"\",\"-\"),K879,IF(M879=\"\",\"\",\"-\"),M879))))","v":""},null," ",{"$nulls":9},{"$f":"IF(LEN('1 - Opstart Importark'!$B$6)>0,'1 - Opstart Importark'!$B$6,\"\")","v":""},{"$f":"IF(LEN('1 - Opstart Importark'!$B$9)>0,'1 - Opstart Importark'!$B$9,\"\")","v":""},{"$f":"IF(LEN('1 - Opstart Importark'!$B$23)>0,'1 - Opstart Importark'!$B$23,\"\")","v":""},{"$nulls":14},"",{"$nulls":8},0,"","","objektnogle_"]
[868,null,{"$f":"IF('1 - Opstart Importark'!$B$6=\"\",\"\",(IF('1 - Opstart Importark'!$B$15=\"\",CONCATENATE(LEFT('1 - Opstart Importark'!$B$3,1),(LEFT('1 - Opstart Importark'!$B$20,5)),MID('1 - Opstart Importark'!$B$20,5,2),LEFT('1 - Opstart Importark'!$B$28,3),IF(I880=\"\",\"\",\"-\"),I880,IF(K880=\"\",\"\",\"-\"),K880,IF(M880=\"\",\"\",\"-\"),M880),CONCATENATE(LEFT('1 - Opstart Importark'!$B$3,1),(LEFT('1 - Opstart Importark'!$B$15,5)),(LEFT('1 - Opstart Importark'!$B$18,3)),IF(I880=\"\",\"\",\"-\"),I880,IF(K880=\"\",\"\",\"-\"),K880,IF(M880=\"\",\"\",\"-\"),M880))))","v":""},null," ",{"$nulls":9},{"$f":"IF(LEN('1 - Opstart Importark'!$B$6)>0,'1 - Opstart Importark'!$B$6,\"\")","v":""},{"$f":"IF(LEN('1 - Opstart Importark'!$B$9)>0,'1 - Opstart Importark'!$B$9,\"\")","v":""},{"$f":"IF(LEN('1 - Opstart Importark'!$B$23)>0,'1 - Opstart Importark'!$B$23,\"\")","v":""},{"$nulls":14},"",{"$nulls":8},0,"","","objektnogle_"]
[869,null,{"$f":"IF('1 - Opstart Importark'!$B$6=\"\",\"\",(IF('1 - Opstart Importark'!$B$15=\"\",CONCATENATE(LEFT('1 - Opstart Importark'!$B$3,1),(LEFT('1 - Opstart Importark'!$B$20,5)),MID('1 - Opstart Importark'!$B$20,5,2),LEFT('1 - Opstart Importark'!$B$28,3),IF(I881=\"\",\"\",\"-\"),I881,IF(K881=\"\",\"\",\"-\"),K881,IF(M881=\"\",\"\",\"-\"),M881),CONCATENATE(LEFT('1 - Opstart Importark'!$B$3,1),(LEFT('1 - Opstart Importark'!$B$15,5)),(LEFT('1 - Opstart Importark'!$B$18,3)),IF(I881=\"\",\"\",\"-\"),I881,IF(K881=\"\",\"\",\"-\"),K881,IF(M881=\"\",\"\",\"-\"),M881))))","v":""},null," ",{"$nulls":9},{"$f":"IF(LEN('1 - Opstart Importark'!$B$6)>0,'1 - Opstart Importark'!$B$6,\"\")","v":""},{"$f":"IF(LEN('1 - Opstart Importark'!$B$9)>0,'1 - Opstart Importark'!$B$9,\"\")","v":""},{"$f":"IF(LEN('1 - Opstart Importark'!$B$23)>0,'1 - Opstart Importark'!$B$23,\"\")","v":""},{"$nulls":14},"",{"$nulls":8},0,"","","objektnogle_"]
[870,null,{"$f":"IF('1 - Opstart Importark'!$B$6=\"\",\"\",(IF('1 - Opstart Importark'!$B$15=\"\",CONCATENATE(LEFT('1 - Opstart Importark'!$B$3,1),(LEFT('1 - Opstart Importark'!$B$20,5)),MID('1 - Opstart Importark'!$B$20,5,2),LEFT('1 - Opstart Importark'!$B$28,3),IF(I882=\"\",\"\",\"-\"),I882,IF(K882=\"\",\"\",\"-\"),K882,IF(M882=\"\",\"\",\"-\"),M882),CONCATENATE(LEFT('1 - Opstart Importark'!$B$3,1),(LEFT('1 - Opstart Importark'!$B$15,5)),(LEFT('1 - Opstart Importark'!$B$18,3)),IF(I882=\"\",\"\",\"-\"),I882,IF(K882=\"\",\"\",\"-\"),K882,IF(M882=\"\",\"\",\"-\"),M882))))","v":""},null," ",{"$nulls":9},{"$f":"IF(LEN('1 - Opstart Importark'!$B$6)>0,'1 - Opstart Importark'!$B$6,\"\")","v":""},{"$f":"IF(LEN('1 - Opstart Importark'!$B$9)>0,'1 - Opstart Importark'!$B$9,\"\")","v":""},{"$f":"IF(LEN('1 - Opstart Importark'!$B$23)>0,'1 - Opstart Importark'!$B$23,\"\")","v":""},{"$nulls":14},"",{"$nulls":8},0,"","","objektnogle_"]
[871,null,{"$f":"IF('1 - Opstart Importark'!$B$6=\"\",\"\",(IF('1 - Opstart Importark'!$B$15=\"\",CONCATENATE(LEFT('1 - Opstart Importark'!$B$3,1),(LEFT('1 - Opstart Importark'!$B$20,5)),MID('1 - Opstart Importark'!$B$20,5,2),LEFT('1 - Opstart Importark'!$B$28,3),IF(I883=\"\",\"\",\"-\"),I883,IF(K883=\"\",\"\",\"-\"),K883,IF(M883=\"\",\"\",\"-\"),M883),CONCATENATE(LEFT('1 - Opstart Importark'!$B$3,1),(LEFT('1 - Opstart Importark'!$B$15,5)),(LEFT('1 - Opstart Importark'!$B$18,3)),IF(I883=\"\",\"\",\"-\"),I883,IF(K883=\"\",\"\",\"-\"),K883,IF(M883=\"\",\"\",\"-\"),M883))))","v":""},null," ",{"$nulls":9},{"$f":"IF(LEN('1 - Opstart Importark'!$B$6)>0,'1 - Opstart Importark'!$B$6,\"\")","v":""},{"$f":"IF(LEN('1 - Opstart Importark'!$B$9)>0,'1 - Opstart Importark'!$B$9,\"\")","v":""},{"$f":"IF(LEN('1 - Opstart Importark'!$B$23)>0,'1 - Opstart Importark'!$B$23,\"\")","v":""},{"$nulls":14},"",{"$nulls":8},0,"","","objektnogle_"]
[872,null,{"$f":"IF('1 - Opstart Importark'!$B$6=\"\",\"\",(IF('1 - Opstart Importark'!$B$15=\"\",CONCATENATE(LEFT('1 - Opstart Importark'!$B$3,1),(LEFT('1 - Opstart Importark'!$B$20,5)),MID('1 - Opstart Importark'!$B$20,5,2),LEFT('1 - Opstart Importark'!$B$28,3),IF(I884=\"\",\"\",\"-\"),I884,IF(K884=\"\",\"\",\"-\"),K884,IF(M884=\"\",\"\",\"-\"),M884),CONCATENATE(LEFT('1 - Opstart Importark'!$B$3,1),(LEFT('1 - Opstart Importark'!$B$15,5)),(LEFT('1 - Opstart Importark'!$B$18,3)),IF(I884=\"\",\"\",\"-\"),I884,IF(K884=\"\",\"\",\"-\"),K884,IF(M884=\"\",\"\",\"-\"),M884))))","v":""},null," ",{"$nulls":9},{"$f":"IF(LEN('1 - Opstart Importark'!$B$6)>0,'1 - Opstart Importark'!$B$6,\"\")","v":""},{"$f":"IF(LEN('1 - Opstart Importark'!$B$9)>0,'1 - Opstart Importark'!$B$9,\"\")","v":""},{"$f":"IF(LEN('1 - Opstart Importark'!$B$23)>0,'1 - Opstart Importark'!$B$23,\"\")","v":""},{"$nulls":14},"",{"$nulls":8},0,"","","objektnogle_"]
[873,null,{"$f":"IF('1 - Opstart Importark'!$B$6=\"\",\"\",(IF('1 - Opstart Importark'!$B$15=\"\",CONCATENATE(LEFT('1 - Opstart Importark'!$B$3,1),(LEFT('1 - Opstart Importark'!$B$20,5)),MID('1 - Opstart Importark'!$B$20,5,2),LEFT('1 - Opstart Importark'!$B$28,3),IF(I885=\"\",\"\",\"-\"),I885,IF(K885=\"\",\"\",\"-\"),K885,IF(M885=\"\",\"\",\"-\"),M885),CONCATENATE(LEFT('1 - Opstart Importark'!$B$3,1),(LEFT('1 - Opstart Importark'!$B$15,5)),(LEFT('1 - Opstart Importark'!$B$18,3)),IF(I885=\"\",\"\",\"-\"),I885,IF(K885=\"\",\"\",\"-\"),K885,IF(M885=\"\",\"\",\"-\"),M885))))","v":""},null," ",{"$nulls":9},{"$f":"IF(LEN('1 - Opstart Importark'!$B$6)>0,'1 - Opstart Importark'!$B$6,\"\")","v":""},{"$f":"IF(LEN('1 - Opstart Importark'!$B$9)>0,'1 - Opstart Importark'!$B$9,\"\")","v":""},{"$f":"IF(LEN('1 - Opstart Importark'!$B$23)>0,'1 - Opstart Importark'!$B$23,\"\")","v":""},{"$nulls":14},"",{"$nulls":8},0,"","","objektnogle_"]
[874,null,{"$f":"IF('1 - Opstart Importark'!$B$6=\"\",\"\",(IF('1 - Opstart Importark'!$B$15=\"\",CONCATENATE(LEFT('1 - Opstart Importark'!$B$3,1),(LEFT('1 - Opstart Importark'!$B$20,5)),MID('1 - Opstart Importark'!$B$20,5,2),LEFT('1 - Opstart Importark'!$B$28,3),IF(I886=\"\",\"\",\"-\"),I886,IF(K886=\"\",\"\",\"-\"),K886,IF(M886=\"\",\"\",\"-\"),M886),CONCATENATE(LEFT('1 - Opstart Importark'!$B$3,1),(LEFT('1 - Opstart Importark'!$B$15,5)),(LEFT('1 - Opstart Importark'!$B$18,3)),IF(I886=\"\",\"\",\"-\"),I886,IF(K886=\"\",\"\",\"-\"),K886,IF(M886=\"\",\"\",\"-\"),M886))))","v":""},null," ",{"$nulls":9},{"$f":"IF(LEN('1 - Opstart Importark'!$B$6)>0,'1 - Opstart Importark'!$B$6,\"\")","v":""},{"$f":"IF(LEN('1 - Opstart Importark'!$B$9)>0,'1 - Opstart Importark'!$B$9,\"\")","v":""},{"$f":"IF(LEN('1 - Opstart Importark'!$B$23)>0,'1 - Opstart Importark'!$B$23,\"\")","v":""},{"$nulls":14},"",{"$nulls":8},0,"","","objektnogle_"]
[875,null,{"$f":"IF('1 - Opstart Importark'!$B$6=\"\",\"\",(IF('1 - Opstart Importark'!$B$15=\"\",CONCATENATE(LEFT('1 - Opstart Importark'!$B$3,1),(LEFT('1 - Opstart Importark'!$B$20,5)),MID('1 - Opstart Importark'!$B$20,5,2),LEFT('1 - Opstart Importark'!$B$28,3),IF(I887=\"\",\"\",\"-\"),I887,IF(K887=\"\",\"\",\"-\"),K887,IF(M887=\"\",\"\",\"-\"),M887),CONCATENATE(LEFT('1 - Opstart Importark'!$B$3,1),(LEFT('1 - Opstart Importark'!$B$15,5)),(LEFT('1 - Opstart Importark'!$B$18,3)),IF(I887=\"\",\"\",\"-\"),I887,IF(K887=\"\",\"\",\"-\"),K887,IF(M887=\"\",\"\",\"-\"),M887))))","v":""},null," ",{"$nulls":9},{"$f":"IF(LEN('1 - Opstart Importark'!$B$6)>0,'1 - Opstart Importark'!$B$6,\"\")","v":""},{"$f":"IF(LEN('1 - Opstart Importark'!$B$9)>0,'1 - Opstart Importark'!$B$9,\"\")","v":""},{"$f":"IF(LEN('1 - Opstart Importark'!$B$23)>0,'1 - Opstart Importark'!$B$23,\"\")","v":""},{"$nulls":14},"",{"$nulls":8},0,"","","objektnogle_"]
[876,null,{"$f":"IF('1 - Opstart Importark'!$B$6=\"\",\"\",(IF('1 - Opstart Importark'!$B$15=\"\",CONCATENATE(LEFT('1 - Opstart Importark'!$B$3,1),(LEFT('1 - Opstart Importark'!$B$20,5)),MID('1 - Opstart Importark'!$B$20,5,2),LEFT('1 - Opstart Importark'!$B$28,3),IF(I888=\"\",\"\",\"-\"),I888,IF(K888=\"\",\"\",\"-\"),K888,IF(M888=\"\",\"\",\"-\"),M888),CONCATENATE(LEFT('1 - Opstart Importark'!$B$3,1),(LEFT('1 - Opstart Importark'!$B$15,5)),(LEFT('1 - Opstart Importark'!$B$18,3)),IF(I888=\"\",\"\",\"-\"),I888,IF(K888=\"\",\"\",\"-\"),K888,IF(M888=\"\",\"\",\"-\"),M888))))","v":""},null," ",{"$nulls":9},{"$f":"IF(LEN('1 - Opstart Importark'!$B$6)>0,'1 - Opstart Importark'!$B$6,\"\")","v":""},{"$f":"IF(LEN('1 - Opstart Importark'!$B$9)>0,'1 - Opstart Importark'!$B$9,\"\")","v":""},{"$f":"IF(LEN('1 - Opstart Importark'!$B$23)>0,'1 - Opstart Importark'!$B$23,\"\")","v":""},{"$nulls":14},"",{"$nulls":8},0,"","","objektnogle_"]
[877,null,{"$f":"IF('1 - Opstart Importark'!$B$6=\"\",\"\",(IF('1 - Opstart Importark'!$B$15=\"\",CONCATENATE(LEFT('1 - Opstart Importark'!$B$3,1),(LEFT('1 - Opstart Importark'!$B$20,5)),MID('1 - Opstart Importark'!$B$20,5,2),LEFT('1 - Opstart Importark'!$B$28,3),IF(I889=\"\",\"\",\"-\"),I889,IF(K889=\"\",\"\",\"-\"),K889,IF(M889=\"\",\"\",\"-\"),M889),CONCATENATE(LEFT('1 - Opstart Importark'!$B$3,1),(LEFT('1 - Opstart Importark'!$B$15,5)),(LEFT('1 - Opstart Importark'!$B$18,3)),IF(I889=\"\",\"\",\"-\"),I889,IF(K889=\"\",\"\",\"-\"),K889,IF(M889=\"\",\"\",\"-\"),M889))))","v":""},null," ",{"$nulls":9},{"$f":"IF(LEN('1 - Opstart Importark'!$B$6)>0,'1 - Opstart Importark'!$B$6,\"\")","v":""},{"$f":"IF(LEN('1 - Opstart Importark'!$B$9)>0,'1 - Opstart Importark'!$B$9,\"\")","v":""},{"$f":"IF(LEN('1 - Opstart Importark'!$B$23)>0,'1 - Opstart Importark'!$B$23,\"\")","v":""},{"$nulls":14},"",{"$nulls":8},0,"","","objektnogle_"]
[878,null,{"$f":"IF('1 - Opstart Importark'!$B$6=\"\",\"\",(IF('1 - Opstart Importark'!$B$15=\"\",CONCATENATE(LEFT('1 - Opstart Importark'!$B$3,1),(LEFT('1 - Opstart Importark'!$B$20,5)),MID('1 - Opstart Importark'!$B$20,5,2),LEFT('1 - Opstart Importark'!$B$28,3),IF(I890=\"\",\"\",\"-\"),I890,IF(K890=\"\",\"\",\"-\"),K890,IF(M890=\"\",\"\",\"-\"),M890),CONCATENATE(LEFT('1 - Opstart Importark'!$B$3,1),(LEFT('1 - Opstart Importark'!$B$15,5)),(LEFT('1 - Opstart Importark'!$B$18,3)),IF(I890=\"\",\"\",\"-\"),I890,IF(K890=\"\",\"\",\"-\"),K890,IF(M890=\"\",\"\",\"-\"),M890))))","v":""},null," ",{"$nulls":9},{"$f":"IF(LEN('1 - Opstart Importark'!$B$6)>0,'1 - Opstart Importark'!$B$6,\"\")","v":""},{"$f":"IF(LEN('1 - Opstart Importark'!$B$9)>0,'1 - Opstart Importark'!$B$9,\"\")","v":""},{"$f":"IF(LEN('1 - Opstart Importark'!$B$23)>0,'1 - Opstart Importark'!$B$23,\"\")","v":""},{"$nulls":14},"",{"$nulls":8},0,"","","objektnogle_"]
[879,null,{"$f":"IF('1 - Opstart Importark'!$B$6=\"\",\"\",(IF('1 - Opstart Importark'!$B$15=\"\",CONCATENATE(LEFT('1 - Opstart Importark'!$B$3,1),(LEFT('1 - Opstart Importark'!$B$20,5)),MID('1 - Opstart Importark'!$B$20,5,2),LEFT('1 - Opstart Importark'!$B$28,3),IF(I891=\"\",\"\",\"-\"),I891,IF(K891=\"\",\"\",\"-\"),K891,IF(M891=\"\",\"\",\"-\"),M891),CONCATENATE(LEFT('1 - Opstart Importark'!$B$3,1),(LEFT('1 - Opstart Importark'!$B$15,5)),(LEFT('1 - Opstart Importark'!$B$18,3)),IF(I891=\"\",\"\",\"-\"),I891,IF(K891=\"\",\"\",\"-\"),K891,IF(M891=\"\",\"\",\"-\"),M891))))","v":""},null," ",{"$nulls":9},{"$f":"IF(LEN('1 - Opstart Importark'!$B$6)>0,'1 - Opstart Importark'!$B$6,\"\")","v":""},{"$f":"IF(LEN('1 - Opstart Importark'!$B$9)>0,'1 - Opstart Importark'!$B$9,\"\")","v":""},{"$f":"IF(LEN('1 - Opstart Importark'!$B$23)>0,'1 - Opstart Importark'!$B$23,\"\")","v":""},{"$nulls":14},"",{"$nulls":8},0,"","","objektnogle_"]
[880,null,{"$f":"IF('1 - Opstart Importark'!$B$6=\"\",\"\",(IF('1 - Opstart Importark'!$B$15=\"\",CONCATENATE(LEFT('1 - Opstart Importark'!$B$3,1),(LEFT('1 - Opstart Importark'!$B$20,5)),MID('1 - Opstart Importark'!$B$20,5,2),LEFT('1 - Opstart Importark'!$B$28,3),IF(I892=\"\",\"\",\"-\"),I892,IF(K892=\"\",\"\",\"-\"),K892,IF(M892=\"\",\"\",\"-\"),M892),CONCATENATE(LEFT('1 - Opstart Importark'!$B$3,1),(LEFT('1 - Opstart Importark'!$B$15,5)),(LEFT('1 - Opstart Importark'!$B$18,3)),IF(I892=\"\",\"\",\"-\"),I892,IF(K892=\"\",\"\",\"-\"),K892,IF(M892=\"\",\"\",\"-\"),M892))))","v":""},null," ",{"$nulls":9},{"$f":"IF(LEN('1 - Opstart Importark'!$B$6)>0,'1 - Opstart Importark'!$B$6,\"\")","v":""},{"$f":"IF(LEN('1 - Opstart Importark'!$B$9)>0,'1 - Opstart Importark'!$B$9,\"\")","v":""},{"$f":"IF(LEN('1 - Opstart Importark'!$B$23)>0,'1 - Opstart Importark'!$B$23,\"\")","v":""},{"$nulls":14},"",{"$nulls":8},0,"","","objektnogle_"]
[881,null,{"$f":"IF('1 - Opstart Importark'!$B$6=\"\",\"\",(IF('1 - Opstart Importark'!$B$15=\"\",CONCATENATE(LEFT('1 - Opstart Importark'!$B$3,1),(LEFT('1 - Opstart Importark'!$B$20,5)),MID('1 - Opstart Importark'!$B$20,5,2),LEFT('1 - Opstart Importark'!$B$28,3),IF(I893=\"\",\"\",\"-\"),I893,IF(K893=\"\",\"\",\"-\"),K893,IF(M893=\"\",\"\",\"-\"),M893),CONCATENATE(LEFT('1 - Opstart Importark'!$B$3,1),(LEFT('1 - Opstart Importark'!$B$15,5)),(LEFT('1 - Opstart Importark'!$B$18,3)),IF(I893=\"\",\"\",\"-\"),I893,IF(K893=\"\",\"\",\"-\"),K893,IF(M893=\"\",\"\",\"-\"),M893))))","v":""},null," ",{"$nulls":9},{"$f":"IF(LEN('1 - Opstart Importark'!$B$6)>0,'1 - Opstart Importark'!$B$6,\"\")","v":""},{"$f":"IF(LEN('1 - Opstart Importark'!$B$9)>0,'1 - Opstart Importark'!$B$9,\"\")","v":""},{"$f":"IF(LEN('1 - Opstart Importark'!$B$23)>0,'1 - Opstart Importark'!$B$23,\"\")","v":""},{"$nulls":14},"",{"$nulls":8},0,"","","objektnogle_"]
[882,null,{"$f":"IF('1 - Opstart Importark'!$B$6=\"\",\"\",(IF('1 - Opstart Importark'!$B$15=\"\",CONCATENATE(LEFT('1 - Opstart Importark'!$B$3,1),(LEFT('1 - Opstart Importark'!$B$20,5)),MID('1 - Opstart Importark'!$B$20,5,2),LEFT('1 - Opstart Importark'!$B$28,3),IF(I894=\"\",\"\",\"-\"),I894,IF(K894=\"\",\"\",\"-\"),K894,IF(M894=\"\",\"\",\"-\"),M894),CONCATENATE(LEFT('1 - Opstart Importark'!$B$3,1),(LEFT('1 - Opstart Importark'!$B$15,5)),(LEFT('1 - Opstart Importark'!$B$18,3)),IF(I894=\"\",\"\",\"-\"),I894,IF(K894=\"\",\"\",\"-\"),K894,IF(M894=\"\",\"\",\"-\"),M894))))","v":""},null," ",{"$nulls":9},{"$f":"IF(LEN('1 - Opstart Importark'!$B$6)>0,'1 - Opstart Importark'!$B$6,\"\")","v":""},{"$f":"IF(LEN('1 - Opstart Importark'!$B$9)>0,'1 - Opstart Importark'!$B$9,\"\")","v":""},{"$f":"IF(LEN('1 - Opstart Importark'!$B$23)>0,'1 - Opstart Importark'!$B$23,\"\")","v":""},{"$nulls":14},"",{"$nulls":8},0,"","","objektnogle_"]
[883,null,{"$f":"IF('1 - Opstart Importark'!$B$6=\"\",\"\",(IF('1 - Opstart Importark'!$B$15=\"\",CONCATENATE(LEFT('1 - Opstart Importark'!$B$3,1),(LEFT('1 - Opstart Importark'!$B$20,5)),MID('1 - Opstart Importark'!$B$20,5,2),LEFT('1 - Opstart Importark'!$B$28,3),IF(I895=\"\",\"\",\"-\"),I895,IF(K895=\"\",\"\",\"-\"),K895,IF(M895=\"\",\"\",\"-\"),M895),CONCATENATE(LEFT('1 - Opstart Importark'!$B$3,1),(LEFT('1 - Opstart Importark'!$B$15,5)),(LEFT('1 - Opstart Importark'!$B$18,3)),IF(I895=\"\",\"\",\"-\"),I895,IF(K895=\"\",\"\",\"-\"),K895,IF(M895=\"\",\"\",\"-\"),M895))))","v":""},null," ",{"$nulls":9},{"$f":"IF(LEN('1 - Opstart Importark'!$B$6)>0,'1 - Opstart Importark'!$B$6,\"\")","v":""},{"$f":"IF(LEN('1 - Opstart Importark'!$B$9)>0,'1 - Opstart Importark'!$B$9,\"\")","v":""},{"$f":"IF(LEN('1 - Opstart Importark'!$B$23)>0,'1 - Opstart Importark'!$B$23,\"\")","v":""},{"$nulls":14},"",{"$nulls":8},0,"","","objektnogle_"]
[884,null,{"$f":"IF('1 - Opstart Importark'!$B$6=\"\",\"\",(IF('1 - Opstart Importark'!$B$15=\"\",CONCATENATE(LEFT('1 - Opstart Importark'!$B$3,1),(LEFT('1 - Opstart Importark'!$B$20,5)),MID('1 - Opstart Importark'!$B$20,5,2),LEFT('1 - Opstart Importark'!$B$28,3),IF(I896=\"\",\"\",\"-\"),I896,IF(K896=\"\",\"\",\"-\"),K896,IF(M896=\"\",\"\",\"-\"),M896),CONCATENATE(LEFT('1 - Opstart Importark'!$B$3,1),(LEFT('1 - Opstart Importark'!$B$15,5)),(LEFT('1 - Opstart Importark'!$B$18,3)),IF(I896=\"\",\"\",\"-\"),I896,IF(K896=\"\",\"\",\"-\"),K896,IF(M896=\"\",\"\",\"-\"),M896))))","v":""},null," ",{"$nulls":9},{"$f":"IF(LEN('1 - Opstart Importark'!$B$6)>0,'1 - Opstart Importark'!$B$6,\"\")","v":""},{"$f":"IF(LEN('1 - Opstart Importark'!$B$9)>0,'1 - Opstart Importark'!$B$9,\"\")","v":""},{"$f":"IF(LEN('1 - Opstart Importark'!$B$23)>0,'1 - Opstart Importark'!$B$23,\"\")","v":""},{"$nulls":14},"",{"$nulls":8},0,"","","objektnogle_"]
[885,null,{"$f":"IF('1 - Opstart Importark'!$B$6=\"\",\"\",(IF('1 - Opstart Importark'!$B$15=\"\",CONCATENATE(LEFT('1 - Opstart Importark'!$B$3,1),(LEFT('1 - Opstart Importark'!$B$20,5)),MID('1 - Opstart Importark'!$B$20,5,2),LEFT('1 - Opstart Importark'!$B$28,3),IF(I897=\"\",\"\",\"-\"),I897,IF(K897=\"\",\"\",\"-\"),K897,IF(M897=\"\",\"\",\"-\"),M897),CONCATENATE(LEFT('1 - Opstart Importark'!$B$3,1),(LEFT('1 - Opstart Importark'!$B$15,5)),(LEFT('1 - Opstart Importark'!$B$18,3)),IF(I897=\"\",\"\",\"-\"),I897,IF(K897=\"\",\"\",\"-\"),K897,IF(M897=\"\",\"\",\"-\"),M897))))","v":""},null," ",{"$nulls":9},{"$f":"IF(LEN('1 - Opstart Importark'!$B$6)>0,'1 - Opstart Importark'!$B$6,\"\")","v":""},{"$f":"IF(LEN('1 - Opstart Importark'!$B$9)>0,'1 - Opstart Importark'!$B$9,\"\")","v":""},{"$f":"IF(LEN('1 - Opstart Importark'!$B$23)>0,'1 - Opstart Importark'!$B$23,\"\")","v":""},{"$nulls":14},"",{"$nulls":8},0,"","","objektnogle_"]
[886,null,{"$f":"IF('1 - Opstart Importark'!$B$6=\"\",\"\",(IF('1 - Opstart Importark'!$B$15=\"\",CONCATENATE(LEFT('1 - Opstart Importark'!$B$3,1),(LEFT('1 - Opstart Importark'!$B$20,5)),MID('1 - Opstart Importark'!$B$20,5,2),LEFT('1 - Opstart Importark'!$B$28,3),IF(I898=\"\",\"\",\"-\"),I898,IF(K898=\"\",\"\",\"-\"),K898,IF(M898=\"\",\"\",\"-\"),M898),CONCATENATE(LEFT('1 - Opstart Importark'!$B$3,1),(LEFT('1 - Opstart Importark'!$B$15,5)),(LEFT('1 - Opstart Importark'!$B$18,3)),IF(I898=\"\",\"\",\"-\"),I898,IF(K898=\"\",\"\",\"-\"),K898,IF(M898=\"\",\"\",\"-\"),M898))))","v":""},null," ",{"$nulls":9},{"$f":"IF(LEN('1 - Opstart Importark'!$B$6)>0,'1 - Opstart Importark'!$B$6,\"\")","v":""},{"$f":"IF(LEN('1 - Opstart Importark'!$B$9)>0,'1 - Opstart Importark'!$B$9,\"\")","v":""},{"$f":"IF(LEN('1 - Opstart Importark'!$B$23)>0,'1 - Opstart Importark'!$B$23,\"\")","v":""},{"$nulls":14},"",{"$nulls":8},0,"","","objektnogle_"]
[887,null,{"$f":"IF('1 - Opstart Importark'!$B$6=\"\",\"\",(IF('1 - Opstart Importark'!$B$15=\"\",CONCATENATE(LEFT('1 - Opstart Importark'!$B$3,1),(LEFT('1 - Opstart Importark'!$B$20,5)),MID('1 - Opstart Importark'!$B$20,5,2),LEFT('1 - Opstart Importark'!$B$28,3),IF(I899=\"\",\"\",\"-\"),I899,IF(K899=\"\",\"\",\"-\"),K899,IF(M899=\"\",\"\",\"-\"),M899),CONCATENATE(LEFT('1 - Opstart Importark'!$B$3,1),(LEFT('1 - Opstart Importark'!$B$15,5)),(LEFT('1 - Opstart Importark'!$B$18,3)),IF(I899=\"\",\"\",\"-\"),I899,IF(K899=\"\",\"\",\"-\"),K899,IF(M899=\"\",\"\",\"-\"),M899))))","v":""},null," ",{"$nulls":9},{"$f":"IF(LEN('1 - Opstart Importark'!$B$6)>0,'1 - Opstart Importark'!$B$6,\"\")","v":""},{"$f":"IF(LEN('1 - Opstart Importark'!$B$9)>0,'1 - Opstart Importark'!$B$9,\"\")","v":""},{"$f":"IF(LEN('1 - Opstart Importark'!$B$23)>0,'1 - Opstart Importark'!$B$23,\"\")","v":""},{"$nulls":14},"",{"$nulls":8},0,"","","objektnogle_"]
[888,null,{"$f":"IF('1 - Opstart Importark'!$B$6=\"\",\"\",(IF('1 - Opstart Importark'!$B$15=\"\",CONCATENATE(LEFT('1 - Opstart Importark'!$B$3,1),(LEFT('1 - Opstart Importark'!$B$20,5)),MID('1 - Opstart Importark'!$B$20,5,2),LEFT('1 - Opstart Importark'!$B$28,3),IF(I900=\"\",\"\",\"-\"),I900,IF(K900=\"\",\"\",\"-\"),K900,IF(M900=\"\",\"\",\"-\"),M900),CONCATENATE(LEFT('1 - Opstart Importark'!$B$3,1),(LEFT('1 - Opstart Importark'!$B$15,5)),(LEFT('1 - Opstart Importark'!$B$18,3)),IF(I900=\"\",\"\",\"-\"),I900,IF(K900=\"\",\"\",\"-\"),K900,IF(M900=\"\",\"\",\"-\"),M900))))","v":""},null," ",{"$nulls":9},{"$f":"IF(LEN('1 - Opstart Importark'!$B$6)>0,'1 - Opstart Importark'!$B$6,\"\")","v":""},{"$f":"IF(LEN('1 - Opstart Importark'!$B$9)>0,'1 - Opstart Importark'!$B$9,\"\")","v":""},{"$f":"IF(LEN('1 - Opstart Importark'!$B$23)>0,'1 - Opstart Importark'!$B$23,\"\")","v":""},{"$nulls":14},"",{"$nulls":8},0,"","","objektnogle_"]
[889,null,{"$f":"IF('1 - Opstart Importark'!$B$6=\"\",\"\",(IF('1 - Opstart Importark'!$B$15=\"\",CONCATENATE(LEFT('1 - Opstart Importark'!$B$3,1),(LEFT('1 - Opstart Importark'!$B$20,5)),MID('1 - Opstart Importark'!$B$20,5,2),LEFT('1 - Opstart Importark'!$B$28,3),IF(I901=\"\",\"\",\"-\"),I901,IF(K901=\"\",\"\",\"-\"),K901,IF(M901=\"\",\"\",\"-\"),M901),CONCATENATE(LEFT('1 - Opstart Importark'!$B$3,1),(LEFT('1 - Opstart Importark'!$B$15,5)),(LEFT('1 - Opstart Importark'!$B$18,3)),IF(I901=\"\",\"\",\"-\"),I901,IF(K901=\"\",\"\",\"-\"),K901,IF(M901=\"\",\"\",\"-\"),M901))))","v":""},null," ",{"$nulls":9},{"$f":"IF(LEN('1 - Opstart Importark'!$B$6)>0,'1 - Opstart Importark'!$B$6,\"\")","v":""},{"$f":"IF(LEN('1 - Opstart Importark'!$B$9)>0,'1 - Opstart Importark'!$B$9,\"\")","v":""},{"$f":"IF(LEN('1 - Opstart Importark'!$B$23)>0,'1 - Opstart Importark'!$B$23,\"\")","v":""},{"$nulls":14},"",{"$nulls":8},0,"","","objektnogle_"]
[890,null,{"$f":"IF('1 - Opstart Importark'!$B$6=\"\",\"\",(IF('1 - Opstart Importark'!$B$15=\"\",CONCATENATE(LEFT('1 - Opstart Importark'!$B$3,1),(LEFT('1 - Opstart Importark'!$B$20,5)),MID('1 - Opstart Importark'!$B$20,5,2),LEFT('1 - Opstart Importark'!$B$28,3),IF(I902=\"\",\"\",\"-\"),I902,IF(K902=\"\",\"\",\"-\"),K902,IF(M902=\"\",\"\",\"-\"),M902),CONCATENATE(LEFT('1 - Opstart Importark'!$B$3,1),(LEFT('1 - Opstart Importark'!$B$15,5)),(LEFT('1 - Opstart Importark'!$B$18,3)),IF(I902=\"\",\"\",\"-\"),I902,IF(K902=\"\",\"\",\"-\"),K902,IF(M902=\"\",\"\",\"-\"),M902))))","v":""},null," ",{"$nulls":9},{"$f":"IF(LEN('1 - Opstart Importark'!$B$6)>0,'1 - Opstart Importark'!$B$6,\"\")","v":""},{"$f":"IF(LEN('1 - Opstart Importark'!$B$9)>0,'1 - Opstart Importark'!$B$9,\"\")","v":""},{"$f":"IF(LEN('1 - Opstart Importark'!$B$23)>0,'1 - Opstart Importark'!$B$23,\"\")","v":""},{"$nulls":14},"",{"$nulls":8},0,"","","objektnogle_"]
[891,null,{"$f":"IF('1 - Opstart Importark'!$B$6=\"\",\"\",(IF('1 - Opstart Importark'!$B$15=\"\",CONCATENATE(LEFT('1 - Opstart Importark'!$B$3,1),(LEFT('1 - Opstart Importark'!$B$20,5)),MID('1 - Opstart Importark'!$B$20,5,2),LEFT('1 - Opstart Importark'!$B$28,3),IF(I903=\"\",\"\",\"-\"),I903,IF(K903=\"\",\"\",\"-\"),K903,IF(M903=\"\",\"\",\"-\"),M903),CONCATENATE(LEFT('1 - Opstart Importark'!$B$3,1),(LEFT('1 - Opstart Importark'!$B$15,5)),(LEFT('1 - Opstart Importark'!$B$18,3)),IF(I903=\"\",\"\",\"-\"),I903,IF(K903=\"\",\"\",\"-\"),K903,IF(M903=\"\",\"\",\"-\"),M903))))","v":""},null," ",{"$nulls":9},{"$f":"IF(LEN('1 - Opstart Importark'!$B$6)>0,'1 - Opstart Importark'!$B$6,\"\")","v":""},{"$f":"IF(LEN('1 - Opstart Importark'!$B$9)>0,'1 - Opstart Importark'!$B$9,\"\")","v":""},{"$f":"IF(LEN('1 - Opstart Importark'!$B$23)>0,'1 - Opstart Importark'!$B$23,\"\")","v":""},{"$nulls":14},"",{"$nulls":8},0,"","","objektnogle_"]
[892,null,{"$f":"IF('1 - Opstart Importark'!$B$6=\"\",\"\",(IF('1 - Opstart Importark'!$B$15=\"\",CONCATENATE(LEFT('1 - Opstart Importark'!$B$3,1),(LEFT('1 - Opstart Importark'!$B$20,5)),MID('1 - Opstart Importark'!$B$20,5,2),LEFT('1 - Opstart Importark'!$B$28,3),IF(I904=\"\",\"\",\"-\"),I904,IF(K904=\"\",\"\",\"-\"),K904,IF(M904=\"\",\"\",\"-\"),M904),CONCATENATE(LEFT('1 - Opstart Importark'!$B$3,1),(LEFT('1 - Opstart Importark'!$B$15,5)),(LEFT('1 - Opstart Importark'!$B$18,3)),IF(I904=\"\",\"\",\"-\"),I904,IF(K904=\"\",\"\",\"-\"),K904,IF(M904=\"\",\"\",\"-\"),M904))))","v":""},null," ",{"$nulls":9},{"$f":"IF(LEN('1 - Opstart Importark'!$B$6)>0,'1 - Opstart Importark'!$B$6,\"\")","v":""},{"$f":"IF(LEN('1 - Opstart Importark'!$B$9)>0,'1 - Opstart Importark'!$B$9,\"\")","v":""},{"$f":"IF(LEN('1 - Opstart Importark'!$B$23)>0,'1 - Opstart Importark'!$B$23,\"\")","v":""},{"$nulls":14},"",{"$nulls":8},0,"","","objektnogle_"]
[893,null,{"$f":"IF('1 - Opstart Importark'!$B$6=\"\",\"\",(IF('1 - Opstart Importark'!$B$15=\"\",CONCATENATE(LEFT('1 - Opstart Importark'!$B$3,1),(LEFT('1 - Opstart Importark'!$B$20,5)),MID('1 - Opstart Importark'!$B$20,5,2),LEFT('1 - Opstart Importark'!$B$28,3),IF(I905=\"\",\"\",\"-\"),I905,IF(K905=\"\",\"\",\"-\"),K905,IF(M905=\"\",\"\",\"-\"),M905),CONCATENATE(LEFT('1 - Opstart Importark'!$B$3,1),(LEFT('1 - Opstart Importark'!$B$15,5)),(LEFT('1 - Opstart Importark'!$B$18,3)),IF(I905=\"\",\"\",\"-\"),I905,IF(K905=\"\",\"\",\"-\"),K905,IF(M905=\"\",\"\",\"-\"),M905))))","v":""},null," ",{"$nulls":9},{"$f":"IF(LEN('1 - Opstart Importark'!$B$6)>0,'1 - Opstart Importark'!$B$6,\"\")","v":""},{"$f":"IF(LEN('1 - Opstart Importark'!$B$9)>0,'1 - Opstart Importark'!$B$9,\"\")","v":""},{"$f":"IF(LEN('1 - Opstart Importark'!$B$23)>0,'1 - Opstart Importark'!$B$23,\"\")","v":""},{"$nulls":14},"",{"$nulls":8},0,"","","objektnogle_"]
[894,null,{"$f":"IF('1 - Opstart Importark'!$B$6=\"\",\"\",(IF('1 - Opstart Importark'!$B$15=\"\",CONCATENATE(LEFT('1 - Opstart Importark'!$B$3,1),(LEFT('1 - Opstart Importark'!$B$20,5)),MID('1 - Opstart Importark'!$B$20,5,2),LEFT('1 - Opstart Importark'!$B$28,3),IF(I906=\"\",\"\",\"-\"),I906,IF(K906=\"\",\"\",\"-\"),K906,IF(M906=\"\",\"\",\"-\"),M906),CONCATENATE(LEFT('1 - Opstart Importark'!$B$3,1),(LEFT('1 - Opstart Importark'!$B$15,5)),(LEFT('1 - Opstart Importark'!$B$18,3)),IF(I906=\"\",\"\",\"-\"),I906,IF(K906=\"\",\"\",\"-\"),K906,IF(M906=\"\",\"\",\"-\"),M906))))","v":""},null," ",{"$nulls":9},{"$f":"IF(LEN('1 - Opstart Importark'!$B$6)>0,'1 - Opstart Importark'!$B$6,\"\")","v":""},{"$f":"IF(LEN('1 - Opstart Importark'!$B$9)>0,'1 - Opstart Importark'!$B$9,\"\")","v":""},{"$f":"IF(LEN('1 - Opstart Importark'!$B$23)>0,'1 - Opstart Importark'!$B$23,\"\")","v":""},{"$nulls":14},"",{"$nulls":8},0,"","","objektnogle_"]
[895,null,{"$f":"IF('1 - Opstart Importark'!$B$6=\"\",\"\",(IF('1 - Opstart Importark'!$B$15=\"\",CONCATENATE(LEFT('1 - Opstart Importark'!$B$3,1),(LEFT('1 - Opstart Importark'!$B$20,5)),MID('1 - Opstart Importark'!$B$20,5,2),LEFT('1 - Opstart Importark'!$B$28,3),IF(I907=\"\",\"\",\"-\"),I907,IF(K907=\"\",\"\",\"-\"),K907,IF(M907=\"\",\"\",\"-\"),M907),CONCATENATE(LEFT('1 - Opstart Importark'!$B$3,1),(LEFT('1 - Opstart Importark'!$B$15,5)),(LEFT('1 - Opstart Importark'!$B$18,3)),IF(I907=\"\",\"\",\"-\"),I907,IF(K907=\"\",\"\",\"-\"),K907,IF(M907=\"\",\"\",\"-\"),M907))))","v":""},null," ",{"$nulls":9},{"$f":"IF(LEN('1 - Opstart Importark'!$B$6)>0,'1 - Opstart Importark'!$B$6,\"\")","v":""},{"$f":"IF(LEN('1 - Opstart Importark'!$B$9)>0,'1 - Opstart Importark'!$B$9,\"\")","v":""},{"$f":"IF(LEN('1 - Opstart Importark'!$B$23)>0,'1 - Opstart Importark'!$B$23,\"\")","v":""},{"$nulls":14},"",{"$nulls":8},0,"","","objektnogle_"]
[896,null,{"$f":"IF('1 - Opstart Importark'!$B$6=\"\",\"\",(IF('1 - Opstart Importark'!$B$15=\"\",CONCATENATE(LEFT('1 - Opstart Importark'!$B$3,1),(LEFT('1 - Opstart Importark'!$B$20,5)),MID('1 - Opstart Importark'!$B$20,5,2),LEFT('1 - Opstart Importark'!$B$28,3),IF(I908=\"\",\"\",\"-\"),I908,IF(K908=\"\",\"\",\"-\"),K908,IF(M908=\"\",\"\",\"-\"),M908),CONCATENATE(LEFT('1 - Opstart Importark'!$B$3,1),(LEFT('1 - Opstart Importark'!$B$15,5)),(LEFT('1 - Opstart Importark'!$B$18,3)),IF(I908=\"\",\"\",\"-\"),I908,IF(K908=\"\",\"\",\"-\"),K908,IF(M908=\"\",\"\",\"-\"),M908))))","v":""},null," ",{"$nulls":9},{"$f":"IF(LEN('1 - Opstart Importark'!$B$6)>0,'1 - Opstart Importark'!$B$6,\"\")","v":""},{"$f":"IF(LEN('1 - Opstart Importark'!$B$9)>0,'1 - Opstart Importark'!$B$9,\"\")","v":""},{"$f":"IF(LEN('1 - Opstart Importark'!$B$23)>0,'1 - Opstart Importark'!$B$23,\"\")","v":""},{"$nulls":14},"",{"$nulls":8},0,"","","objektnogle_"]
[897,null,{"$f":"IF('1 - Opstart Importark'!$B$6=\"\",\"\",(IF('1 - Opstart Importark'!$B$15=\"\",CONCATENATE(LEFT('1 - Opstart Importark'!$B$3,1),(LEFT('1 - Opstart Importark'!$B$20,5)),MID('1 - Opstart Importark'!$B$20,5,2),LEFT('1 - Opstart Importark'!$B$28,3),IF(I909=\"\",\"\",\"-\"),I909,IF(K909=\"\",\"\",\"-\"),K909,IF(M909=\"\",\"\",\"-\"),M909),CONCATENATE(LEFT('1 - Opstart Importark'!$B$3,1),(LEFT('1 - Opstart Importark'!$B$15,5)),(LEFT('1 - Opstart Importark'!$B$18,3)),IF(I909=\"\",\"\",\"-\"),I909,IF(K909=\"\",\"\",\"-\"),K909,IF(M909=\"\",\"\",\"-\"),M909))))","v":""},null," ",{"$nulls":9},{"$f":"IF(LEN('1 - Opstart Importark'!$B$6)>0,'1 - Opstart Importark'!$B$6,\"\")","v":""},{"$f":"IF(LEN('1 - Opstart Importark'!$B$9)>0,'1 - Opstart Importark'!$B$9,\"\")","v":""},{"$f":"IF(LEN('1 - Opstart Importark'!$B$23)>0,'1 - Opstart Importark'!$B$23,\"\")","v":""},{"$nulls":14},{"$f":"IF(K909=\"\",\"\",VLOOKUP(LEFT(K909,1),objektfilter,2))","v":""},{"$nulls":8},{"$f":"IFERROR(FIND(\".\",F909),)","v":0},"","","objektnogle_"]
[898,null,{"$f":"IF('1 - Opstart Importark'!$B$6=\"\",\"\",(IF('1 - Opstart Importark'!$B$15=\"\",CONCATENATE(LEFT('1 - Opstart Importark'!$B$3,1),(LEFT('1 - Opstart Importark'!$B$20,5)),MID('1 - Opstart Importark'!$B$20,5,2),LEFT('1 - Opstart Importark'!$B$28,3),IF(I910=\"\",\"\",\"-\"),I910,IF(K910=\"\",\"\",\"-\"),K910,IF(M910=\"\",\"\",\"-\"),M910),CONCATENATE(LEFT('1 - Opstart Importark'!$B$3,1),(LEFT('1 - Opstart Importark'!$B$15,5)),(LEFT('1 - Opstart Importark'!$B$18,3)),IF(I910=\"\",\"\",\"-\"),I910,IF(K910=\"\",\"\",\"-\"),K910,IF(M910=\"\",\"\",\"-\"),M910))))","v":""},null," ",{"$nulls":9},{"$f":"IF(LEN('1 - Opstart Importark'!$B$6)>0,'1 - Opstart Importark'!$B$6,\"\")","v":""},{"$f":"IF(LEN('1 - Opstart Importark'!$B$9)>0,'1 - Opstart Importark'!$B$9,\"\")","v":""},{"$f":"IF(LEN('1 - Opstart Importark'!$B$23)>0,'1 - Opstart Importark'!$B$23,\"\")","v":""},{"$nulls":14},"",{"$nulls":8},0,{"$f":"IF(K910=\"\",\"\",IF(LEFT(K910,1)=\"E\",0,1))","v":""},{"$f":"IF(K910=\"\",\"\",IF(LEFT(K910,1)=\"E\",0,1))","v":""},{"$f":"IF(W910=\"\", CONCATENATE(\"objektnogle_\",LEFT(AF910,1)),CONCATENATE(\"objektnogle_\",LEFT(W910,1)))","v":"objektnogle_"}]
[899,null,{"$f":"IF('1 - Opstart Importark'!$B$6=\"\",\"\",(IF('1 - Opstart Importark'!$B$15=\"\",CONCATENATE(LEFT('1 - Opstart Importark'!$B$3,1),(LEFT('1 - Opstart Importark'!$B$20,5)),MID('1 - Opstart Importark'!$B$20,5,2),LEFT('1 - Opstart Importark'!$B$28,3),IF(I911=\"\",\"\",\"-\"),I911,IF(K911=\"\",\"\",\"-\"),K911,IF(M911=\"\",\"\",\"-\"),M911),CONCATENATE(LEFT('1 - Opstart Importark'!$B$3,1),(LEFT('1 - Opstart Importark'!$B$15,5)),(LEFT('1 - Opstart Importark'!$B$18,3)),IF(I911=\"\",\"\",\"-\"),I911,IF(K911=\"\",\"\",\"-\"),K911,IF(M911=\"\",\"\",\"-\"),M911))))","v":""},null," ",{"$nulls":9},{"$f":"IF(LEN('1 - Opstart Importark'!$B$6)>0,'1 - Opstart Importark'!$B$6,\"\")","v":""},{"$f":"IF(LEN('1 - Opstart Importark'!$B$9)>0,'1 - Opstart Importark'!$B$9,\"\")","v":""},{"$f":"IF(LEN('1 - Opstart Importark'!$B$23)>0,'1 - Opstart Importark'!$B$23,\"\")","v":""},{"$nulls":14},"",{"$nulls":8},0,"","","objektnogle_"]
[900,null,{"$f":"IF('1 - Opstart Importark'!$B$6=\"\",\"\",(IF('1 - Opstart Importark'!$B$15=\"\",CONCATENATE(LEFT('1 - Opstart Importark'!$B$3,1),(LEFT('1 - Opstart Importark'!$B$20,5)),MID('1 - Opstart Importark'!$B$20,5,2),LEFT('1 - Opstart Importark'!$B$28,3),IF(I912=\"\",\"\",\"-\"),I912,IF(K912=\"\",\"\",\"-\"),K912,IF(M912=\"\",\"\",\"-\"),M912),CONCATENATE(LEFT('1 - Opstart Importark'!$B$3,1),(LEFT('1 - Opstart Importark'!$B$15,5)),(LEFT('1 - Opstart Importark'!$B$18,3)),IF(I912=\"\",\"\",\"-\"),I912,IF(K912=\"\",\"\",\"-\"),K912,IF(M912=\"\",\"\",\"-\"),M912))))","v":""},null," ",{"$nulls":9},{"$f":"IF(LEN('1 - Opstart Importark'!$B$6)>0,'1 - Opstart Importark'!$B$6,\"\")","v":""},{"$f":"IF(LEN('1 - Opstart Importark'!$B$9)>0,'1 - Opstart Importark'!$B$9,\"\")","v":""},{"$f":"IF(LEN('1 - Opstart Importark'!$B$23)>0,'1 - Opstart Importark'!$B$23,\"\")","v":""},{"$nulls":14},"",{"$nulls":8},0,"","","objektnogle_"]
[901,null,{"$f":"IF('1 - Opstart Importark'!$B$6=\"\",\"\",(IF('1 - Opstart Importark'!$B$15=\"\",CONCATENATE(LEFT('1 - Opstart Importark'!$B$3,1),(LEFT('1 - Opstart Importark'!$B$20,5)),MID('1 - Opstart Importark'!$B$20,5,2),LEFT('1 - Opstart Importark'!$B$28,3),IF(I913=\"\",\"\",\"-\"),I913,IF(K913=\"\",\"\",\"-\"),K913,IF(M913=\"\",\"\",\"-\"),M913),CONCATENATE(LEFT('1 - Opstart Importark'!$B$3,1),(LEFT('1 - Opstart Importark'!$B$15,5)),(LEFT('1 - Opstart Importark'!$B$18,3)),IF(I913=\"\",\"\",\"-\"),I913,IF(K913=\"\",\"\",\"-\"),K913,IF(M913=\"\",\"\",\"-\"),M913))))","v":""},null," ",{"$nulls":9},{"$f":"IF(LEN('1 - Opstart Importark'!$B$6)>0,'1 - Opstart Importark'!$B$6,\"\")","v":""},{"$f":"IF(LEN('1 - Opstart Importark'!$B$9)>0,'1 - Opstart Importark'!$B$9,\"\")","v":""},{"$f":"IF(LEN('1 - Opstart Importark'!$B$23)>0,'1 - Opstart Importark'!$B$23,\"\")","v":""},{"$nulls":14},"",{"$nulls":8},0,"","","objektnogle_"]
[902,null,{"$f":"IF('1 - Opstart Importark'!$B$6=\"\",\"\",(IF('1 - Opstart Importark'!$B$15=\"\",CONCATENATE(LEFT('1 - Opstart Importark'!$B$3,1),(LEFT('1 - Opstart Importark'!$B$20,5)),MID('1 - Opstart Importark'!$B$20,5,2),LEFT('1 - Opstart Importark'!$B$28,3),IF(I914=\"\",\"\",\"-\"),I914,IF(K914=\"\",\"\",\"-\"),K914,IF(M914=\"\",\"\",\"-\"),M914),CONCATENATE(LEFT('1 - Opstart Importark'!$B$3,1),(LEFT('1 - Opstart Importark'!$B$15,5)),(LEFT('1 - Opstart Importark'!$B$18,3)),IF(I914=\"\",\"\",\"-\"),I914,IF(K914=\"\",\"\",\"-\"),K914,IF(M914=\"\",\"\",\"-\"),M914))))","v":""},null," ",{"$nulls":9},{"$f":"IF(LEN('1 - Opstart Importark'!$B$6)>0,'1 - Opstart Importark'!$B$6,\"\")","v":""},{"$f":"IF(LEN('1 - Opstart Importark'!$B$9)>0,'1 - Opstart Importark'!$B$9,\"\")","v":""},{"$f":"IF(LEN('1 - Opstart Importark'!$B$23)>0,'1 - Opstart Importark'!$B$23,\"\")","v":""},{"$nulls":14},"",{"$nulls":8},0,"","","objektnogle_"]
[903,null,{"$f":"IF('1 - Opstart Importark'!$B$6=\"\",\"\",(IF('1 - Opstart Importark'!$B$15=\"\",CONCATENATE(LEFT('1 - Opstart Importark'!$B$3,1),(LEFT('1 - Opstart Importark'!$B$20,5)),MID('1 - Opstart Importark'!$B$20,5,2),LEFT('1 - Opstart Importark'!$B$28,3),IF(I915=\"\",\"\",\"-\"),I915,IF(K915=\"\",\"\",\"-\"),K915,IF(M915=\"\",\"\",\"-\"),M915),CONCATENATE(LEFT('1 - Opstart Importark'!$B$3,1),(LEFT('1 - Opstart Importark'!$B$15,5)),(LEFT('1 - Opstart Importark'!$B$18,3)),IF(I915=\"\",\"\",\"-\"),I915,IF(K915=\"\",\"\",\"-\"),K915,IF(M915=\"\",\"\",\"-\"),M915))))","v":""},null," ",{"$nulls":9},{"$f":"IF(LEN('1 - Opstart Importark'!$B$6)>0,'1 - Opstart Importark'!$B$6,\"\")","v":""},{"$f":"IF(LEN('1 - Opstart Importark'!$B$9)>0,'1 - Opstart Importark'!$B$9,\"\")","v":""},{"$f":"IF(LEN('1 - Opstart Importark'!$B$23)>0,'1 - Opstart Importark'!$B$23,\"\")","v":""},{"$nulls":14},"",{"$nulls":8},0,"","","objektnogle_"]
[904,null,{"$f":"IF('1 - Opstart Importark'!$B$6=\"\",\"\",(IF('1 - Opstart Importark'!$B$15=\"\",CONCATENATE(LEFT('1 - Opstart Importark'!$B$3,1),(LEFT('1 - Opstart Importark'!$B$20,5)),MID('1 - Opstart Importark'!$B$20,5,2),LEFT('1 - Opstart Importark'!$B$28,3),IF(I916=\"\",\"\",\"-\"),I916,IF(K916=\"\",\"\",\"-\"),K916,IF(M916=\"\",\"\",\"-\"),M916),CONCATENATE(LEFT('1 - Opstart Importark'!$B$3,1),(LEFT('1 - Opstart Importark'!$B$15,5)),(LEFT('1 - Opstart Importark'!$B$18,3)),IF(I916=\"\",\"\",\"-\"),I916,IF(K916=\"\",\"\",\"-\"),K916,IF(M916=\"\",\"\",\"-\"),M916))))","v":""},null," ",{"$nulls":9},{"$f":"IF(LEN('1 - Opstart Importark'!$B$6)>0,'1 - Opstart Importark'!$B$6,\"\")","v":""},{"$f":"IF(LEN('1 - Opstart Importark'!$B$9)>0,'1 - Opstart Importark'!$B$9,\"\")","v":""},{"$f":"IF(LEN('1 - Opstart Importark'!$B$23)>0,'1 - Opstart Importark'!$B$23,\"\")","v":""},{"$nulls":14},"",{"$nulls":8},0,"","","objektnogle_"]
[905,null,{"$f":"IF('1 - Opstart Importark'!$B$6=\"\",\"\",(IF('1 - Opstart Importark'!$B$15=\"\",CONCATENATE(LEFT('1 - Opstart Importark'!$B$3,1),(LEFT('1 - Opstart Importark'!$B$20,5)),MID('1 - Opstart Importark'!$B$20,5,2),LEFT('1 - Opstart Importark'!$B$28,3),IF(I917=\"\",\"\",\"-\"),I917,IF(K917=\"\",\"\",\"-\"),K917,IF(M917=\"\",\"\",\"-\"),M917),CONCATENATE(LEFT('1 - Opstart Importark'!$B$3,1),(LEFT('1 - Opstart Importark'!$B$15,5)),(LEFT('1 - Opstart Importark'!$B$18,3)),IF(I917=\"\",\"\",\"-\"),I917,IF(K917=\"\",\"\",\"-\"),K917,IF(M917=\"\",\"\",\"-\"),M917))))","v":""},null," ",{"$nulls":9},{"$f":"IF(LEN('1 - Opstart Importark'!$B$6)>0,'1 - Opstart Importark'!$B$6,\"\")","v":""},{"$f":"IF(LEN('1 - Opstart Importark'!$B$9)>0,'1 - Opstart Importark'!$B$9,\"\")","v":""},{"$f":"IF(LEN('1 - Opstart Importark'!$B$23)>0,'1 - Opstart Importark'!$B$23,\"\")","v":""},{"$nulls":14},"",{"$nulls":8},0,"","","objektnogle_"]
[906,null,{"$f":"IF('1 - Opstart Importark'!$B$6=\"\",\"\",(IF('1 - Opstart Importark'!$B$15=\"\",CONCATENATE(LEFT('1 - Opstart Importark'!$B$3,1),(LEFT('1 - Opstart Importark'!$B$20,5)),MID('1 - Opstart Importark'!$B$20,5,2),LEFT('1 - Opstart Importark'!$B$28,3),IF(I918=\"\",\"\",\"-\"),I918,IF(K918=\"\",\"\",\"-\"),K918,IF(M918=\"\",\"\",\"-\"),M918),CONCATENATE(LEFT('1 - Opstart Importark'!$B$3,1),(LEFT('1 - Opstart Importark'!$B$15,5)),(LEFT('1 - Opstart Importark'!$B$18,3)),IF(I918=\"\",\"\",\"-\"),I918,IF(K918=\"\",\"\",\"-\"),K918,IF(M918=\"\",\"\",\"-\"),M918))))","v":""},null," ",{"$nulls":9},{"$f":"IF(LEN('1 - Opstart Importark'!$B$6)>0,'1 - Opstart Importark'!$B$6,\"\")","v":""},{"$f":"IF(LEN('1 - Opstart Importark'!$B$9)>0,'1 - Opstart Importark'!$B$9,\"\")","v":""},{"$f":"IF(LEN('1 - Opstart Importark'!$B$23)>0,'1 - Opstart Importark'!$B$23,\"\")","v":""},{"$nulls":14},"",{"$nulls":8},0,"","","objektnogle_"]
[907,null,{"$f":"IF('1 - Opstart Importark'!$B$6=\"\",\"\",(IF('1 - Opstart Importark'!$B$15=\"\",CONCATENATE(LEFT('1 - Opstart Importark'!$B$3,1),(LEFT('1 - Opstart Importark'!$B$20,5)),MID('1 - Opstart Importark'!$B$20,5,2),LEFT('1 - Opstart Importark'!$B$28,3),IF(I919=\"\",\"\",\"-\"),I919,IF(K919=\"\",\"\",\"-\"),K919,IF(M919=\"\",\"\",\"-\"),M919),CONCATENATE(LEFT('1 - Opstart Importark'!$B$3,1),(LEFT('1 - Opstart Importark'!$B$15,5)),(LEFT('1 - Opstart Importark'!$B$18,3)),IF(I919=\"\",\"\",\"-\"),I919,IF(K919=\"\",\"\",\"-\"),K919,IF(M919=\"\",\"\",\"-\"),M919))))","v":""},null," ",{"$nulls":9},{"$f":"IF(LEN('1 - Opstart Importark'!$B$6)>0,'1 - Opstart Importark'!$B$6,\"\")","v":""},{"$f":"IF(LEN('1 - Opstart Importark'!$B$9)>0,'1 - Opstart Importark'!$B$9,\"\")","v":""},{"$f":"IF(LEN('1 - Opstart Importark'!$B$23)>0,'1 - Opstart Importark'!$B$23,\"\")","v":""},{"$nulls":14},"",{"$nulls":8},0,"","","objektnogle_"]
[908,null,{"$f":"IF('1 - Opstart Importark'!$B$6=\"\",\"\",(IF('1 - Opstart Importark'!$B$15=\"\",CONCATENATE(LEFT('1 - Opstart Importark'!$B$3,1),(LEFT('1 - Opstart Importark'!$B$20,5)),MID('1 - Opstart Importark'!$B$20,5,2),LEFT('1 - Opstart Importark'!$B$28,3),IF(I920=\"\",\"\",\"-\"),I920,IF(K920=\"\",\"\",\"-\"),K920,IF(M920=\"\",\"\",\"-\"),M920),CONCATENATE(LEFT('1 - Opstart Importark'!$B$3,1),(LEFT('1 - Opstart Importark'!$B$15,5)),(LEFT('1 - Opstart Importark'!$B$18,3)),IF(I920=\"\",\"\",\"-\"),I920,IF(K920=\"\",\"\",\"-\"),K920,IF(M920=\"\",\"\",\"-\"),M920))))","v":""},null," ",{"$nulls":9},{"$f":"IF(LEN('1 - Opstart Importark'!$B$6)>0,'1 - Opstart Importark'!$B$6,\"\")","v":""},{"$f":"IF(LEN('1 - Opstart Importark'!$B$9)>0,'1 - Opstart Importark'!$B$9,\"\")","v":""},{"$f":"IF(LEN('1 - Opstart Importark'!$B$23)>0,'1 - Opstart Importark'!$B$23,\"\")","v":""},{"$nulls":14},"",{"$nulls":8},0,"","","objektnogle_"]
[909,null,{"$f":"IF('1 - Opstart Importark'!$B$6=\"\",\"\",(IF('1 - Opstart Importark'!$B$15=\"\",CONCATENATE(LEFT('1 - Opstart Importark'!$B$3,1),(LEFT('1 - Opstart Importark'!$B$20,5)),MID('1 - Opstart Importark'!$B$20,5,2),LEFT('1 - Opstart Importark'!$B$28,3),IF(I921=\"\",\"\",\"-\"),I921,IF(K921=\"\",\"\",\"-\"),K921,IF(M921=\"\",\"\",\"-\"),M921),CONCATENATE(LEFT('1 - Opstart Importark'!$B$3,1),(LEFT('1 - Opstart Importark'!$B$15,5)),(LEFT('1 - Opstart Importark'!$B$18,3)),IF(I921=\"\",\"\",\"-\"),I921,IF(K921=\"\",\"\",\"-\"),K921,IF(M921=\"\",\"\",\"-\"),M921))))","v":""},null," ",{"$nulls":9},{"$f":"IF(LEN('1 - Opstart Importark'!$B$6)>0,'1 - Opstart Importark'!$B$6,\"\")","v":""},{"$f":"IF(LEN('1 - Opstart Importark'!$B$9)>0,'1 - Opstart Importark'!$B$9,\"\")","v":""},{"$f":"IF(LEN('1 - Opstart Importark'!$B$23)>0,'1 - Opstart Importark'!$B$23,\"\")","v":""},{"$nulls":14},"",{"$nulls":8},0,"","","objektnogle_"]
[910,null,{"$f":"IF('1 - Opstart Importark'!$B$6=\"\",\"\",(IF('1 - Opstart Importark'!$B$15=\"\",CONCATENATE(LEFT('1 - Opstart Importark'!$B$3,1),(LEFT('1 - Opstart Importark'!$B$20,5)),MID('1 - Opstart Importark'!$B$20,5,2),LEFT('1 - Opstart Importark'!$B$28,3),IF(I922=\"\",\"\",\"-\"),I922,IF(K922=\"\",\"\",\"-\"),K922,IF(M922=\"\",\"\",\"-\"),M922),CONCATENATE(LEFT('1 - Opstart Importark'!$B$3,1),(LEFT('1 - Opstart Importark'!$B$15,5)),(LEFT('1 - Opstart Importark'!$B$18,3)),IF(I922=\"\",\"\",\"-\"),I922,IF(K922=\"\",\"\",\"-\"),K922,IF(M922=\"\",\"\",\"-\"),M922))))","v":""},null," ",{"$nulls":9},{"$f":"IF(LEN('1 - Opstart Importark'!$B$6)>0,'1 - Opstart Importark'!$B$6,\"\")","v":""},{"$f":"IF(LEN('1 - Opstart Importark'!$B$9)>0,'1 - Opstart Importark'!$B$9,\"\")","v":""},{"$f":"IF(LEN('1 - Opstart Importark'!$B$23)>0,'1 - Opstart Importark'!$B$23,\"\")","v":""},{"$nulls":14},"",{"$nulls":8},0,"","","objektnogle_"]
[911,null,{"$f":"IF('1 - Opstart Importark'!$B$6=\"\",\"\",(IF('1 - Opstart Importark'!$B$15=\"\",CONCATENATE(LEFT('1 - Opstart Importark'!$B$3,1),(LEFT('1 - Opstart Importark'!$B$20,5)),MID('1 - Opstart Importark'!$B$20,5,2),LEFT('1 - Opstart Importark'!$B$28,3),IF(I923=\"\",\"\",\"-\"),I923,IF(K923=\"\",\"\",\"-\"),K923,IF(M923=\"\",\"\",\"-\"),M923),CONCATENATE(LEFT('1 - Opstart Importark'!$B$3,1),(LEFT('1 - Opstart Importark'!$B$15,5)),(LEFT('1 - Opstart Importark'!$B$18,3)),IF(I923=\"\",\"\",\"-\"),I923,IF(K923=\"\",\"\",\"-\"),K923,IF(M923=\"\",\"\",\"-\"),M923))))","v":""},null," ",{"$nulls":9},{"$f":"IF(LEN('1 - Opstart Importark'!$B$6)>0,'1 - Opstart Importark'!$B$6,\"\")","v":""},{"$f":"IF(LEN('1 - Opstart Importark'!$B$9)>0,'1 - Opstart Importark'!$B$9,\"\")","v":""},{"$f":"IF(LEN('1 - Opstart Importark'!$B$23)>0,'1 - Opstart Importark'!$B$23,\"\")","v":""},{"$nulls":14},"",{"$nulls":8},0,"","","objektnogle_"]
[912,null,{"$f":"IF('1 - Opstart Importark'!$B$6=\"\",\"\",(IF('1 - Opstart Importark'!$B$15=\"\",CONCATENATE(LEFT('1 - Opstart Importark'!$B$3,1),(LEFT('1 - Opstart Importark'!$B$20,5)),MID('1 - Opstart Importark'!$B$20,5,2),LEFT('1 - Opstart Importark'!$B$28,3),IF(I924=\"\",\"\",\"-\"),I924,IF(K924=\"\",\"\",\"-\"),K924,IF(M924=\"\",\"\",\"-\"),M924),CONCATENATE(LEFT('1 - Opstart Importark'!$B$3,1),(LEFT('1 - Opstart Importark'!$B$15,5)),(LEFT('1 - Opstart Importark'!$B$18,3)),IF(I924=\"\",\"\",\"-\"),I924,IF(K924=\"\",\"\",\"-\"),K924,IF(M924=\"\",\"\",\"-\"),M924))))","v":""},null," ",{"$nulls":9},{"$f":"IF(LEN('1 - Opstart Importark'!$B$6)>0,'1 - Opstart Importark'!$B$6,\"\")","v":""},{"$f":"IF(LEN('1 - Opstart Importark'!$B$9)>0,'1 - Opstart Importark'!$B$9,\"\")","v":""},{"$f":"IF(LEN('1 - Opstart Importark'!$B$23)>0,'1 - Opstart Importark'!$B$23,\"\")","v":""},{"$nulls":14},"",{"$nulls":8},0,"","","objektnogle_"]
[913,null,{"$f":"IF('1 - Opstart Importark'!$B$6=\"\",\"\",(IF('1 - Opstart Importark'!$B$15=\"\",CONCATENATE(LEFT('1 - Opstart Importark'!$B$3,1),(LEFT('1 - Opstart Importark'!$B$20,5)),MID('1 - Opstart Importark'!$B$20,5,2),LEFT('1 - Opstart Importark'!$B$28,3),IF(I925=\"\",\"\",\"-\"),I925,IF(K925=\"\",\"\",\"-\"),K925,IF(M925=\"\",\"\",\"-\"),M925),CONCATENATE(LEFT('1 - Opstart Importark'!$B$3,1),(LEFT('1 - Opstart Importark'!$B$15,5)),(LEFT('1 - Opstart Importark'!$B$18,3)),IF(I925=\"\",\"\",\"-\"),I925,IF(K925=\"\",\"\",\"-\"),K925,IF(M925=\"\",\"\",\"-\"),M925))))","v":""},null," ",{"$nulls":9},{"$f":"IF(LEN('1 - Opstart Importark'!$B$6)>0,'1 - Opstart Importark'!$B$6,\"\")","v":""},{"$f":"IF(LEN('1 - Opstart Importark'!$B$9)>0,'1 - Opstart Importark'!$B$9,\"\")","v":""},{"$f":"IF(LEN('1 - Opstart Importark'!$B$23)>0,'1 - Opstart Importark'!$B$23,\"\")","v":""},{"$nulls":14},"",{"$nulls":8},0,"","","objektnogle_"]
[914,null,{"$f":"IF('1 - Opstart Importark'!$B$6=\"\",\"\",(IF('1 - Opstart Importark'!$B$15=\"\",CONCATENATE(LEFT('1 - Opstart Importark'!$B$3,1),(LEFT('1 - Opstart Importark'!$B$20,5)),MID('1 - Opstart Importark'!$B$20,5,2),LEFT('1 - Opstart Importark'!$B$28,3),IF(I926=\"\",\"\",\"-\"),I926,IF(K926=\"\",\"\",\"-\"),K926,IF(M926=\"\",\"\",\"-\"),M926),CONCATENATE(LEFT('1 - Opstart Importark'!$B$3,1),(LEFT('1 - Opstart Importark'!$B$15,5)),(LEFT('1 - Opstart Importark'!$B$18,3)),IF(I926=\"\",\"\",\"-\"),I926,IF(K926=\"\",\"\",\"-\"),K926,IF(M926=\"\",\"\",\"-\"),M926))))","v":""},null," ",{"$nulls":9},{"$f":"IF(LEN('1 - Opstart Importark'!$B$6)>0,'1 - Opstart Importark'!$B$6,\"\")","v":""},{"$f":"IF(LEN('1 - Opstart Importark'!$B$9)>0,'1 - Opstart Importark'!$B$9,\"\")","v":""},{"$f":"IF(LEN('1 - Opstart Importark'!$B$23)>0,'1 - Opstart Importark'!$B$23,\"\")","v":""},{"$nulls":14},"",{"$nulls":8},0,"","","objektnogle_"]
[915,null,{"$f":"IF('1 - Opstart Importark'!$B$6=\"\",\"\",(IF('1 - Opstart Importark'!$B$15=\"\",CONCATENATE(LEFT('1 - Opstart Importark'!$B$3,1),(LEFT('1 - Opstart Importark'!$B$20,5)),MID('1 - Opstart Importark'!$B$20,5,2),LEFT('1 - Opstart Importark'!$B$28,3),IF(I927=\"\",\"\",\"-\"),I927,IF(K927=\"\",\"\",\"-\"),K927,IF(M927=\"\",\"\",\"-\"),M927),CONCATENATE(LEFT('1 - Opstart Importark'!$B$3,1),(LEFT('1 - Opstart Importark'!$B$15,5)),(LEFT('1 - Opstart Importark'!$B$18,3)),IF(I927=\"\",\"\",\"-\"),I927,IF(K927=\"\",\"\",\"-\"),K927,IF(M927=\"\",\"\",\"-\"),M927))))","v":""},null," ",{"$nulls":9},{"$f":"IF(LEN('1 - Opstart Importark'!$B$6)>0,'1 - Opstart Importark'!$B$6,\"\")","v":""},{"$f":"IF(LEN('1 - Opstart Importark'!$B$9)>0,'1 - Opstart Importark'!$B$9,\"\")","v":""},{"$f":"IF(LEN('1 - Opstart Importark'!$B$23)>0,'1 - Opstart Importark'!$B$23,\"\")","v":""},{"$nulls":14},"",{"$nulls":8},0,"","","objektnogle_"]
[916,null,{"$f":"IF('1 - Opstart Importark'!$B$6=\"\",\"\",(IF('1 - Opstart Importark'!$B$15=\"\",CONCATENATE(LEFT('1 - Opstart Importark'!$B$3,1),(LEFT('1 - Opstart Importark'!$B$20,5)),MID('1 - Opstart Importark'!$B$20,5,2),LEFT('1 - Opstart Importark'!$B$28,3),IF(I928=\"\",\"\",\"-\"),I928,IF(K928=\"\",\"\",\"-\"),K928,IF(M928=\"\",\"\",\"-\"),M928),CONCATENATE(LEFT('1 - Opstart Importark'!$B$3,1),(LEFT('1 - Opstart Importark'!$B$15,5)),(LEFT('1 - Opstart Importark'!$B$18,3)),IF(I928=\"\",\"\",\"-\"),I928,IF(K928=\"\",\"\",\"-\"),K928,IF(M928=\"\",\"\",\"-\"),M928))))","v":""},null," ",{"$nulls":9},{"$f":"IF(LEN('1 - Opstart Importark'!$B$6)>0,'1 - Opstart Importark'!$B$6,\"\")","v":""},{"$f":"IF(LEN('1 - Opstart Importark'!$B$9)>0,'1 - Opstart Importark'!$B$9,\"\")","v":""},{"$f":"IF(LEN('1 - Opstart Importark'!$B$23)>0,'1 - Opstart Importark'!$B$23,\"\")","v":""},{"$nulls":14},"",{"$nulls":8},0,"","","objektnogle_"]
[917,null,{"$f":"IF('1 - Opstart Importark'!$B$6=\"\",\"\",(IF('1 - Opstart Importark'!$B$15=\"\",CONCATENATE(LEFT('1 - Opstart Importark'!$B$3,1),(LEFT('1 - Opstart Importark'!$B$20,5)),MID('1 - Opstart Importark'!$B$20,5,2),LEFT('1 - Opstart Importark'!$B$28,3),IF(I929=\"\",\"\",\"-\"),I929,IF(K929=\"\",\"\",\"-\"),K929,IF(M929=\"\",\"\",\"-\"),M929),CONCATENATE(LEFT('1 - Opstart Importark'!$B$3,1),(LEFT('1 - Opstart Importark'!$B$15,5)),(LEFT('1 - Opstart Importark'!$B$18,3)),IF(I929=\"\",\"\",\"-\"),I929,IF(K929=\"\",\"\",\"-\"),K929,IF(M929=\"\",\"\",\"-\"),M929))))","v":""},null," ",{"$nulls":9},{"$f":"IF(LEN('1 - Opstart Importark'!$B$6)>0,'1 - Opstart Importark'!$B$6,\"\")","v":""},{"$f":"IF(LEN('1 - Opstart Importark'!$B$9)>0,'1 - Opstart Importark'!$B$9,\"\")","v":""},{"$f":"IF(LEN('1 - Opstart Importark'!$B$23)>0,'1 - Opstart Importark'!$B$23,\"\")","v":""},{"$nulls":14},"",{"$nulls":8},0,"","","objektnogle_"]
[918,null,{"$f":"IF('1 - Opstart Importark'!$B$6=\"\",\"\",(IF('1 - Opstart Importark'!$B$15=\"\",CONCATENATE(LEFT('1 - Opstart Importark'!$B$3,1),(LEFT('1 - Opstart Importark'!$B$20,5)),MID('1 - Opstart Importark'!$B$20,5,2),LEFT('1 - Opstart Importark'!$B$28,3),IF(I930=\"\",\"\",\"-\"),I930,IF(K930=\"\",\"\",\"-\"),K930,IF(M930=\"\",\"\",\"-\"),M930),CONCATENATE(LEFT('1 - Opstart Importark'!$B$3,1),(LEFT('1 - Opstart Importark'!$B$15,5)),(LEFT('1 - Opstart Importark'!$B$18,3)),IF(I930=\"\",\"\",\"-\"),I930,IF(K930=\"\",\"\",\"-\"),K930,IF(M930=\"\",\"\",\"-\"),M930))))","v":""},null," ",{"$nulls":9},{"$f":"IF(LEN('1 - Opstart Importark'!$B$6)>0,'1 - Opstart Importark'!$B$6,\"\")","v":""},{"$f":"IF(LEN('1 - Opstart Importark'!$B$9)>0,'1 - Opstart Importark'!$B$9,\"\")","v":""},{"$f":"IF(LEN('1 - Opstart Importark'!$B$23)>0,'1 - Opstart Importark'!$B$23,\"\")","v":""},{"$nulls":14},"",{"$nulls":8},0,"","","objektnogle_"]
[919,null,{"$f":"IF('1 - Opstart Importark'!$B$6=\"\",\"\",(IF('1 - Opstart Importark'!$B$15=\"\",CONCATENATE(LEFT('1 - Opstart Importark'!$B$3,1),(LEFT('1 - Opstart Importark'!$B$20,5)),MID('1 - Opstart Importark'!$B$20,5,2),LEFT('1 - Opstart Importark'!$B$28,3),IF(I931=\"\",\"\",\"-\"),I931,IF(K931=\"\",\"\",\"-\"),K931,IF(M931=\"\",\"\",\"-\"),M931),CONCATENATE(LEFT('1 - Opstart Importark'!$B$3,1),(LEFT('1 - Opstart Importark'!$B$15,5)),(LEFT('1 - Opstart Importark'!$B$18,3)),IF(I931=\"\",\"\",\"-\"),I931,IF(K931=\"\",\"\",\"-\"),K931,IF(M931=\"\",\"\",\"-\"),M931))))","v":""},null," ",{"$nulls":9},{"$f":"IF(LEN('1 - Opstart Importark'!$B$6)>0,'1 - Opstart Importark'!$B$6,\"\")","v":""},{"$f":"IF(LEN('1 - Opstart Importark'!$B$9)>0,'1 - Opstart Importark'!$B$9,\"\")","v":""},{"$f":"IF(LEN('1 - Opstart Importark'!$B$23)>0,'1 - Opstart Importark'!$B$23,\"\")","v":""},{"$nulls":14},"",{"$nulls":8},0,"","","objektnogle_"]
[920,null,{"$f":"IF('1 - Opstart Importark'!$B$6=\"\",\"\",(IF('1 - Opstart Importark'!$B$15=\"\",CONCATENATE(LEFT('1 - Opstart Importark'!$B$3,1),(LEFT('1 - Opstart Importark'!$B$20,5)),MID('1 - Opstart Importark'!$B$20,5,2),LEFT('1 - Opstart Importark'!$B$28,3),IF(I932=\"\",\"\",\"-\"),I932,IF(K932=\"\",\"\",\"-\"),K932,IF(M932=\"\",\"\",\"-\"),M932),CONCATENATE(LEFT('1 - Opstart Importark'!$B$3,1),(LEFT('1 - Opstart Importark'!$B$15,5)),(LEFT('1 - Opstart Importark'!$B$18,3)),IF(I932=\"\",\"\",\"-\"),I932,IF(K932=\"\",\"\",\"-\"),K932,IF(M932=\"\",\"\",\"-\"),M932))))","v":""},null," ",{"$nulls":9},{"$f":"IF(LEN('1 - Opstart Importark'!$B$6)>0,'1 - Opstart Importark'!$B$6,\"\")","v":""},{"$f":"IF(LEN('1 - Opstart Importark'!$B$9)>0,'1 - Opstart Importark'!$B$9,\"\")","v":""},{"$f":"IF(LEN('1 - Opstart Importark'!$B$23)>0,'1 - Opstart Importark'!$B$23,\"\")","v":""},{"$nulls":14},"",{"$nulls":8},0,"","","objektnogle_"]
[921,null,{"$f":"IF('1 - Opstart Importark'!$B$6=\"\",\"\",(IF('1 - Opstart Importark'!$B$15=\"\",CONCATENATE(LEFT('1 - Opstart Importark'!$B$3,1),(LEFT('1 - Opstart Importark'!$B$20,5)),MID('1 - Opstart Importark'!$B$20,5,2),LEFT('1 - Opstart Importark'!$B$28,3),IF(I933=\"\",\"\",\"-\"),I933,IF(K933=\"\",\"\",\"-\"),K933,IF(M933=\"\",\"\",\"-\"),M933),CONCATENATE(LEFT('1 - Opstart Importark'!$B$3,1),(LEFT('1 - Opstart Importark'!$B$15,5)),(LEFT('1 - Opstart Importark'!$B$18,3)),IF(I933=\"\",\"\",\"-\"),I933,IF(K933=\"\",\"\",\"-\"),K933,IF(M933=\"\",\"\",\"-\"),M933))))","v":""},null," ",{"$nulls":9},{"$f":"IF(LEN('1 - Opstart Importark'!$B$6)>0,'1 - Opstart Importark'!$B$6,\"\")","v":""},{"$f":"IF(LEN('1 - Opstart Importark'!$B$9)>0,'1 - Opstart Importark'!$B$9,\"\")","v":""},{"$f":"IF(LEN('1 - Opstart Importark'!$B$23)>0,'1 - Opstart Importark'!$B$23,\"\")","v":""},{"$nulls":14},"",{"$nulls":8},0,"","","objektnogle_"]
[922,null,{"$f":"IF('1 - Opstart Importark'!$B$6=\"\",\"\",(IF('1 - Opstart Importark'!$B$15=\"\",CONCATENATE(LEFT('1 - Opstart Importark'!$B$3,1),(LEFT('1 - Opstart Importark'!$B$20,5)),MID('1 - Opstart Importark'!$B$20,5,2),LEFT('1 - Opstart Importark'!$B$28,3),IF(I934=\"\",\"\",\"-\"),I934,IF(K934=\"\",\"\",\"-\"),K934,IF(M934=\"\",\"\",\"-\"),M934),CONCATENATE(LEFT('1 - Opstart Importark'!$B$3,1),(LEFT('1 - Opstart Importark'!$B$15,5)),(LEFT('1 - Opstart Importark'!$B$18,3)),IF(I934=\"\",\"\",\"-\"),I934,IF(K934=\"\",\"\",\"-\"),K934,IF(M934=\"\",\"\",\"-\"),M934))))","v":""},null," ",{"$nulls":9},{"$f":"IF(LEN('1 - Opstart Importark'!$B$6)>0,'1 - Opstart Importark'!$B$6,\"\")","v":""},{"$f":"IF(LEN('1 - Opstart Importark'!$B$9)>0,'1 - Opstart Importark'!$B$9,\"\")","v":""},{"$f":"IF(LEN('1 - Opstart Importark'!$B$23)>0,'1 - Opstart Importark'!$B$23,\"\")","v":""},{"$nulls":14},"",{"$nulls":8},0,"","","objektnogle_"]
[923,null,{"$f":"IF('1 - Opstart Importark'!$B$6=\"\",\"\",(IF('1 - Opstart Importark'!$B$15=\"\",CONCATENATE(LEFT('1 - Opstart Importark'!$B$3,1),(LEFT('1 - Opstart Importark'!$B$20,5)),MID('1 - Opstart Importark'!$B$20,5,2),LEFT('1 - Opstart Importark'!$B$28,3),IF(I935=\"\",\"\",\"-\"),I935,IF(K935=\"\",\"\",\"-\"),K935,IF(M935=\"\",\"\",\"-\"),M935),CONCATENATE(LEFT('1 - Opstart Importark'!$B$3,1),(LEFT('1 - Opstart Importark'!$B$15,5)),(LEFT('1 - Opstart Importark'!$B$18,3)),IF(I935=\"\",\"\",\"-\"),I935,IF(K935=\"\",\"\",\"-\"),K935,IF(M935=\"\",\"\",\"-\"),M935))))","v":""},null," ",{"$nulls":9},{"$f":"IF(LEN('1 - Opstart Importark'!$B$6)>0,'1 - Opstart Importark'!$B$6,\"\")","v":""},{"$f":"IF(LEN('1 - Opstart Importark'!$B$9)>0,'1 - Opstart Importark'!$B$9,\"\")","v":""},{"$f":"IF(LEN('1 - Opstart Importark'!$B$23)>0,'1 - Opstart Importark'!$B$23,\"\")","v":""},{"$nulls":14},"",{"$nulls":8},0,"","","objektnogle_"]
[924,null,{"$f":"IF('1 - Opstart Importark'!$B$6=\"\",\"\",(IF('1 - Opstart Importark'!$B$15=\"\",CONCATENATE(LEFT('1 - Opstart Importark'!$B$3,1),(LEFT('1 - Opstart Importark'!$B$20,5)),MID('1 - Opstart Importark'!$B$20,5,2),LEFT('1 - Opstart Importark'!$B$28,3),IF(I936=\"\",\"\",\"-\"),I936,IF(K936=\"\",\"\",\"-\"),K936,IF(M936=\"\",\"\",\"-\"),M936),CONCATENATE(LEFT('1 - Opstart Importark'!$B$3,1),(LEFT('1 - Opstart Importark'!$B$15,5)),(LEFT('1 - Opstart Importark'!$B$18,3)),IF(I936=\"\",\"\",\"-\"),I936,IF(K936=\"\",\"\",\"-\"),K936,IF(M936=\"\",\"\",\"-\"),M936))))","v":""},null," ",{"$nulls":9},{"$f":"IF(LEN('1 - Opstart Importark'!$B$6)>0,'1 - Opstart Importark'!$B$6,\"\")","v":""},{"$f":"IF(LEN('1 - Opstart Importark'!$B$9)>0,'1 - Opstart Importark'!$B$9,\"\")","v":""},{"$f":"IF(LEN('1 - Opstart Importark'!$B$23)>0,'1 - Opstart Importark'!$B$23,\"\")","v":""},{"$nulls":14},"",{"$nulls":8},0,"","","objektnogle_"]
[925,null,{"$f":"IF('1 - Opstart Importark'!$B$6=\"\",\"\",(IF('1 - Opstart Importark'!$B$15=\"\",CONCATENATE(LEFT('1 - Opstart Importark'!$B$3,1),(LEFT('1 - Opstart Importark'!$B$20,5)),MID('1 - Opstart Importark'!$B$20,5,2),LEFT('1 - Opstart Importark'!$B$28,3),IF(I937=\"\",\"\",\"-\"),I937,IF(K937=\"\",\"\",\"-\"),K937,IF(M937=\"\",\"\",\"-\"),M937),CONCATENATE(LEFT('1 - Opstart Importark'!$B$3,1),(LEFT('1 - Opstart Importark'!$B$15,5)),(LEFT('1 - Opstart Importark'!$B$18,3)),IF(I937=\"\",\"\",\"-\"),I937,IF(K937=\"\",\"\",\"-\"),K937,IF(M937=\"\",\"\",\"-\"),M937))))","v":""},null," ",{"$nulls":9},{"$f":"IF(LEN('1 - Opstart Importark'!$B$6)>0,'1 - Opstart Importark'!$B$6,\"\")","v":""},{"$f":"IF(LEN('1 - Opstart Importark'!$B$9)>0,'1 - Opstart Importark'!$B$9,\"\")","v":""},{"$f":"IF(LEN('1 - Opstart Importark'!$B$23)>0,'1 - Opstart Importark'!$B$23,\"\")","v":""},{"$nulls":14},"",{"$nulls":8},0,"","","objektnogle_"]
[926,null,{"$f":"IF('1 - Opstart Importark'!$B$6=\"\",\"\",(IF('1 - Opstart Importark'!$B$15=\"\",CONCATENATE(LEFT('1 - Opstart Importark'!$B$3,1),(LEFT('1 - Opstart Importark'!$B$20,5)),MID('1 - Opstart Importark'!$B$20,5,2),LEFT('1 - Opstart Importark'!$B$28,3),IF(I938=\"\",\"\",\"-\"),I938,IF(K938=\"\",\"\",\"-\"),K938,IF(M938=\"\",\"\",\"-\"),M938),CONCATENATE(LEFT('1 - Opstart Importark'!$B$3,1),(LEFT('1 - Opstart Importark'!$B$15,5)),(LEFT('1 - Opstart Importark'!$B$18,3)),IF(I938=\"\",\"\",\"-\"),I938,IF(K938=\"\",\"\",\"-\"),K938,IF(M938=\"\",\"\",\"-\"),M938))))","v":""},null," ",{"$nulls":9},{"$f":"IF(LEN('1 - Opstart Importark'!$B$6)>0,'1 - Opstart Importark'!$B$6,\"\")","v":""},{"$f":"IF(LEN('1 - Opstart Importark'!$B$9)>0,'1 - Opstart Importark'!$B$9,\"\")","v":""},{"$f":"IF(LEN('1 - Opstart Importark'!$B$23)>0,'1 - Opstart Importark'!$B$23,\"\")","v":""},{"$nulls":14},"",{"$nulls":8},0,"","","objektnogle_"]
[927,null,{"$f":"IF('1 - Opstart Importark'!$B$6=\"\",\"\",(IF('1 - Opstart Importark'!$B$15=\"\",CONCATENATE(LEFT('1 - Opstart Importark'!$B$3,1),(LEFT('1 - Opstart Importark'!$B$20,5)),MID('1 - Opstart Importark'!$B$20,5,2),LEFT('1 - Opstart Importark'!$B$28,3),IF(I939=\"\",\"\",\"-\"),I939,IF(K939=\"\",\"\",\"-\"),K939,IF(M939=\"\",\"\",\"-\"),M939),CONCATENATE(LEFT('1 - Opstart Importark'!$B$3,1),(LEFT('1 - Opstart Importark'!$B$15,5)),(LEFT('1 - Opstart Importark'!$B$18,3)),IF(I939=\"\",\"\",\"-\"),I939,IF(K939=\"\",\"\",\"-\"),K939,IF(M939=\"\",\"\",\"-\"),M939))))","v":""},null," ",{"$nulls":9},{"$f":"IF(LEN('1 - Opstart Importark'!$B$6)>0,'1 - Opstart Importark'!$B$6,\"\")","v":""},{"$f":"IF(LEN('1 - Opstart Importark'!$B$9)>0,'1 - Opstart Importark'!$B$9,\"\")","v":""},{"$f":"IF(LEN('1 - Opstart Importark'!$B$23)>0,'1 - Opstart Importark'!$B$23,\"\")","v":""},{"$nulls":14},"",{"$nulls":8},0,"","","objektnogle_"]
[928,null,{"$f":"IF('1 - Opstart Importark'!$B$6=\"\",\"\",(IF('1 - Opstart Importark'!$B$15=\"\",CONCATENATE(LEFT('1 - Opstart Importark'!$B$3,1),(LEFT('1 - Opstart Importark'!$B$20,5)),MID('1 - Opstart Importark'!$B$20,5,2),LEFT('1 - Opstart Importark'!$B$28,3),IF(I940=\"\",\"\",\"-\"),I940,IF(K940=\"\",\"\",\"-\"),K940,IF(M940=\"\",\"\",\"-\"),M940),CONCATENATE(LEFT('1 - Opstart Importark'!$B$3,1),(LEFT('1 - Opstart Importark'!$B$15,5)),(LEFT('1 - Opstart Importark'!$B$18,3)),IF(I940=\"\",\"\",\"-\"),I940,IF(K940=\"\",\"\",\"-\"),K940,IF(M940=\"\",\"\",\"-\"),M940))))","v":""},null," ",{"$nulls":9},{"$f":"IF(LEN('1 - Opstart Importark'!$B$6)>0,'1 - Opstart Importark'!$B$6,\"\")","v":""},{"$f":"IF(LEN('1 - Opstart Importark'!$B$9)>0,'1 - Opstart Importark'!$B$9,\"\")","v":""},{"$f":"IF(LEN('1 - Opstart Importark'!$B$23)>0,'1 - Opstart Importark'!$B$23,\"\")","v":""},{"$nulls":14},"",{"$nulls":8},0,"","","objektnogle_"]
[929,null,{"$f":"IF('1 - Opstart Importark'!$B$6=\"\",\"\",(IF('1 - Opstart Importark'!$B$15=\"\",CONCATENATE(LEFT('1 - Opstart Importark'!$B$3,1),(LEFT('1 - Opstart Importark'!$B$20,5)),MID('1 - Opstart Importark'!$B$20,5,2),LEFT('1 - Opstart Importark'!$B$28,3),IF(I941=\"\",\"\",\"-\"),I941,IF(K941=\"\",\"\",\"-\"),K941,IF(M941=\"\",\"\",\"-\"),M941),CONCATENATE(LEFT('1 - Opstart Importark'!$B$3,1),(LEFT('1 - Opstart Importark'!$B$15,5)),(LEFT('1 - Opstart Importark'!$B$18,3)),IF(I941=\"\",\"\",\"-\"),I941,IF(K941=\"\",\"\",\"-\"),K941,IF(M941=\"\",\"\",\"-\"),M941))))","v":""},null," ",{"$nulls":9},{"$f":"IF(LEN('1 - Opstart Importark'!$B$6)>0,'1 - Opstart Importark'!$B$6,\"\")","v":""},{"$f":"IF(LEN('1 - Opstart Importark'!$B$9)>0,'1 - Opstart Importark'!$B$9,\"\")","v":""},{"$f":"IF(LEN('1 - Opstart Importark'!$B$23)>0,'1 - Opstart Importark'!$B$23,\"\")","v":""},{"$nulls":14},"",{"$nulls":8},0,"","","objektnogle_"]
[930,null,{"$f":"IF('1 - Opstart Importark'!$B$6=\"\",\"\",(IF('1 - Opstart Importark'!$B$15=\"\",CONCATENATE(LEFT('1 - Opstart Importark'!$B$3,1),(LEFT('1 - Opstart Importark'!$B$20,5)),MID('1 - Opstart Importark'!$B$20,5,2),LEFT('1 - Opstart Importark'!$B$28,3),IF(I942=\"\",\"\",\"-\"),I942,IF(K942=\"\",\"\",\"-\"),K942,IF(M942=\"\",\"\",\"-\"),M942),CONCATENATE(LEFT('1 - Opstart Importark'!$B$3,1),(LEFT('1 - Opstart Importark'!$B$15,5)),(LEFT('1 - Opstart Importark'!$B$18,3)),IF(I942=\"\",\"\",\"-\"),I942,IF(K942=\"\",\"\",\"-\"),K942,IF(M942=\"\",\"\",\"-\"),M942))))","v":""},null," ",{"$nulls":9},{"$f":"IF(LEN('1 - Opstart Importark'!$B$6)>0,'1 - Opstart Importark'!$B$6,\"\")","v":""},{"$f":"IF(LEN('1 - Opstart Importark'!$B$9)>0,'1 - Opstart Importark'!$B$9,\"\")","v":""},{"$f":"IF(LEN('1 - Opstart Importark'!$B$23)>0,'1 - Opstart Importark'!$B$23,\"\")","v":""},{"$nulls":14},"",{"$nulls":8},0,"","","objektnogle_"]
[931,null,{"$f":"IF('1 - Opstart Importark'!$B$6=\"\",\"\",(IF('1 - Opstart Importark'!$B$15=\"\",CONCATENATE(LEFT('1 - Opstart Importark'!$B$3,1),(LEFT('1 - Opstart Importark'!$B$20,5)),MID('1 - Opstart Importark'!$B$20,5,2),LEFT('1 - Opstart Importark'!$B$28,3),IF(I943=\"\",\"\",\"-\"),I943,IF(K943=\"\",\"\",\"-\"),K943,IF(M943=\"\",\"\",\"-\"),M943),CONCATENATE(LEFT('1 - Opstart Importark'!$B$3,1),(LEFT('1 - Opstart Importark'!$B$15,5)),(LEFT('1 - Opstart Importark'!$B$18,3)),IF(I943=\"\",\"\",\"-\"),I943,IF(K943=\"\",\"\",\"-\"),K943,IF(M943=\"\",\"\",\"-\"),M943))))","v":""},null," ",{"$nulls":9},{"$f":"IF(LEN('1 - Opstart Importark'!$B$6)>0,'1 - Opstart Importark'!$B$6,\"\")","v":""},{"$f":"IF(LEN('1 - Opstart Importark'!$B$9)>0,'1 - Opstart Importark'!$B$9,\"\")","v":""},{"$f":"IF(LEN('1 - Opstart Importark'!$B$23)>0,'1 - Opstart Importark'!$B$23,\"\")","v":""},{"$nulls":14},"",{"$nulls":8},0,"","","objektnogle_"]
[932,null,{"$f":"IF('1 - Opstart Importark'!$B$6=\"\",\"\",(IF('1 - Opstart Importark'!$B$15=\"\",CONCATENATE(LEFT('1 - Opstart Importark'!$B$3,1),(LEFT('1 - Opstart Importark'!$B$20,5)),MID('1 - Opstart Importark'!$B$20,5,2),LEFT('1 - Opstart Importark'!$B$28,3),IF(I944=\"\",\"\",\"-\"),I944,IF(K944=\"\",\"\",\"-\"),K944,IF(M944=\"\",\"\",\"-\"),M944),CONCATENATE(LEFT('1 - Opstart Importark'!$B$3,1),(LEFT('1 - Opstart Importark'!$B$15,5)),(LEFT('1 - Opstart Importark'!$B$18,3)),IF(I944=\"\",\"\",\"-\"),I944,IF(K944=\"\",\"\",\"-\"),K944,IF(M944=\"\",\"\",\"-\"),M944))))","v":""},null," ",{"$nulls":9},{"$f":"IF(LEN('1 - Opstart Importark'!$B$6)>0,'1 - Opstart Importark'!$B$6,\"\")","v":""},{"$f":"IF(LEN('1 - Opstart Importark'!$B$9)>0,'1 - Opstart Importark'!$B$9,\"\")","v":""},{"$f":"IF(LEN('1 - Opstart Importark'!$B$23)>0,'1 - Opstart Importark'!$B$23,\"\")","v":""},{"$nulls":14},"",{"$nulls":8},0,"","","objektnogle_"]
[933,null,{"$f":"IF('1 - Opstart Importark'!$B$6=\"\",\"\",(IF('1 - Opstart Importark'!$B$15=\"\",CONCATENATE(LEFT('1 - Opstart Importark'!$B$3,1),(LEFT('1 - Opstart Importark'!$B$20,5)),MID('1 - Opstart Importark'!$B$20,5,2),LEFT('1 - Opstart Importark'!$B$28,3),IF(I945=\"\",\"\",\"-\"),I945,IF(K945=\"\",\"\",\"-\"),K945,IF(M945=\"\",\"\",\"-\"),M945),CONCATENATE(LEFT('1 - Opstart Importark'!$B$3,1),(LEFT('1 - Opstart Importark'!$B$15,5)),(LEFT('1 - Opstart Importark'!$B$18,3)),IF(I945=\"\",\"\",\"-\"),I945,IF(K945=\"\",\"\",\"-\"),K945,IF(M945=\"\",\"\",\"-\"),M945))))","v":""},null," ",{"$nulls":9},{"$f":"IF(LEN('1 - Opstart Importark'!$B$6)>0,'1 - Opstart Importark'!$B$6,\"\")","v":""},{"$f":"IF(LEN('1 - Opstart Importark'!$B$9)>0,'1 - Opstart Importark'!$B$9,\"\")","v":""},{"$f":"IF(LEN('1 - Opstart Importark'!$B$23)>0,'1 - Opstart Importark'!$B$23,\"\")","v":""},{"$nulls":14},"",{"$nulls":8},0,"","","objektnogle_"]
[934,null,{"$f":"IF('1 - Opstart Importark'!$B$6=\"\",\"\",(IF('1 - Opstart Importark'!$B$15=\"\",CONCATENATE(LEFT('1 - Opstart Importark'!$B$3,1),(LEFT('1 - Opstart Importark'!$B$20,5)),MID('1 - Opstart Importark'!$B$20,5,2),LEFT('1 - Opstart Importark'!$B$28,3),IF(I946=\"\",\"\",\"-\"),I946,IF(K946=\"\",\"\",\"-\"),K946,IF(M946=\"\",\"\",\"-\"),M946),CONCATENATE(LEFT('1 - Opstart Importark'!$B$3,1),(LEFT('1 - Opstart Importark'!$B$15,5)),(LEFT('1 - Opstart Importark'!$B$18,3)),IF(I946=\"\",\"\",\"-\"),I946,IF(K946=\"\",\"\",\"-\"),K946,IF(M946=\"\",\"\",\"-\"),M946))))","v":""},null," ",{"$nulls":9},{"$f":"IF(LEN('1 - Opstart Importark'!$B$6)>0,'1 - Opstart Importark'!$B$6,\"\")","v":""},{"$f":"IF(LEN('1 - Opstart Importark'!$B$9)>0,'1 - Opstart Importark'!$B$9,\"\")","v":""},{"$f":"IF(LEN('1 - Opstart Importark'!$B$23)>0,'1 - Opstart Importark'!$B$23,\"\")","v":""},{"$nulls":14},"",{"$nulls":8},0,"","","objektnogle_"]
[935,null,{"$f":"IF('1 - Opstart Importark'!$B$6=\"\",\"\",(IF('1 - Opstart Importark'!$B$15=\"\",CONCATENATE(LEFT('1 - Opstart Importark'!$B$3,1),(LEFT('1 - Opstart Importark'!$B$20,5)),MID('1 - Opstart Importark'!$B$20,5,2),LEFT('1 - Opstart Importark'!$B$28,3),IF(I947=\"\",\"\",\"-\"),I947,IF(K947=\"\",\"\",\"-\"),K947,IF(M947=\"\",\"\",\"-\"),M947),CONCATENATE(LEFT('1 - Opstart Importark'!$B$3,1),(LEFT('1 - Opstart Importark'!$B$15,5)),(LEFT('1 - Opstart Importark'!$B$18,3)),IF(I947=\"\",\"\",\"-\"),I947,IF(K947=\"\",\"\",\"-\"),K947,IF(M947=\"\",\"\",\"-\"),M947))))","v":""},null," ",{"$nulls":9},{"$f":"IF(LEN('1 - Opstart Importark'!$B$6)>0,'1 - Opstart Importark'!$B$6,\"\")","v":""},{"$f":"IF(LEN('1 - Opstart Importark'!$B$9)>0,'1 - Opstart Importark'!$B$9,\"\")","v":""},{"$f":"IF(LEN('1 - Opstart Importark'!$B$23)>0,'1 - Opstart Importark'!$B$23,\"\")","v":""},{"$nulls":14},"",{"$nulls":8},0,"","","objektnogle_"]
[936,null,{"$f":"IF('1 - Opstart Importark'!$B$6=\"\",\"\",(IF('1 - Opstart Importark'!$B$15=\"\",CONCATENATE(LEFT('1 - Opstart Importark'!$B$3,1),(LEFT('1 - Opstart Importark'!$B$20,5)),MID('1 - Opstart Importark'!$B$20,5,2),LEFT('1 - Opstart Importark'!$B$28,3),IF(I948=\"\",\"\",\"-\"),I948,IF(K948=\"\",\"\",\"-\"),K948,IF(M948=\"\",\"\",\"-\"),M948),CONCATENATE(LEFT('1 - Opstart Importark'!$B$3,1),(LEFT('1 - Opstart Importark'!$B$15,5)),(LEFT('1 - Opstart Importark'!$B$18,3)),IF(I948=\"\",\"\",\"-\"),I948,IF(K948=\"\",\"\",\"-\"),K948,IF(M948=\"\",\"\",\"-\"),M948))))","v":""},null," ",{"$nulls":9},{"$f":"IF(LEN('1 - Opstart Importark'!$B$6)>0,'1 - Opstart Importark'!$B$6,\"\")","v":""},{"$f":"IF(LEN('1 - Opstart Importark'!$B$9)>0,'1 - Opstart Importark'!$B$9,\"\")","v":""},{"$f":"IF(LEN('1 - Opstart Importark'!$B$23)>0,'1 - Opstart Importark'!$B$23,\"\")","v":""},{"$nulls":14},"",{"$nulls":8},0,"","","objektnogle_"]
[937,null,{"$f":"IF('1 - Opstart Importark'!$B$6=\"\",\"\",(IF('1 - Opstart Importark'!$B$15=\"\",CONCATENATE(LEFT('1 - Opstart Importark'!$B$3,1),(LEFT('1 - Opstart Importark'!$B$20,5)),MID('1 - Opstart Importark'!$B$20,5,2),LEFT('1 - Opstart Importark'!$B$28,3),IF(I949=\"\",\"\",\"-\"),I949,IF(K949=\"\",\"\",\"-\"),K949,IF(M949=\"\",\"\",\"-\"),M949),CONCATENATE(LEFT('1 - Opstart Importark'!$B$3,1),(LEFT('1 - Opstart Importark'!$B$15,5)),(LEFT('1 - Opstart Importark'!$B$18,3)),IF(I949=\"\",\"\",\"-\"),I949,IF(K949=\"\",\"\",\"-\"),K949,IF(M949=\"\",\"\",\"-\"),M949))))","v":""},null," ",{"$nulls":9},{"$f":"IF(LEN('1 - Opstart Importark'!$B$6)>0,'1 - Opstart Importark'!$B$6,\"\")","v":""},{"$f":"IF(LEN('1 - Opstart Importark'!$B$9)>0,'1 - Opstart Importark'!$B$9,\"\")","v":""},{"$f":"IF(LEN('1 - Opstart Importark'!$B$23)>0,'1 - Opstart Importark'!$B$23,\"\")","v":""},{"$nulls":14},"",{"$nulls":8},0,"","","objektnogle_"]
[938,null,{"$f":"IF('1 - Opstart Importark'!$B$6=\"\",\"\",(IF('1 - Opstart Importark'!$B$15=\"\",CONCATENATE(LEFT('1 - Opstart Importark'!$B$3,1),(LEFT('1 - Opstart Importark'!$B$20,5)),MID('1 - Opstart Importark'!$B$20,5,2),LEFT('1 - Opstart Importark'!$B$28,3),IF(I950=\"\",\"\",\"-\"),I950,IF(K950=\"\",\"\",\"-\"),K950,IF(M950=\"\",\"\",\"-\"),M950),CONCATENATE(LEFT('1 - Opstart Importark'!$B$3,1),(LEFT('1 - Opstart Importark'!$B$15,5)),(LEFT('1 - Opstart Importark'!$B$18,3)),IF(I950=\"\",\"\",\"-\"),I950,IF(K950=\"\",\"\",\"-\"),K950,IF(M950=\"\",\"\",\"-\"),M950))))","v":""},null," ",{"$nulls":9},{"$f":"IF(LEN('1 - Opstart Importark'!$B$6)>0,'1 - Opstart Importark'!$B$6,\"\")","v":""},{"$f":"IF(LEN('1 - Opstart Importark'!$B$9)>0,'1 - Opstart Importark'!$B$9,\"\")","v":""},{"$f":"IF(LEN('1 - Opstart Importark'!$B$23)>0,'1 - Opstart Importark'!$B$23,\"\")","v":""},{"$nulls":14},"",{"$nulls":8},0,"","","objektnogle_"]
[939,null,{"$f":"IF('1 - Opstart Importark'!$B$6=\"\",\"\",(IF('1 - Opstart Importark'!$B$15=\"\",CONCATENATE(LEFT('1 - Opstart Importark'!$B$3,1),(LEFT('1 - Opstart Importark'!$B$20,5)),MID('1 - Opstart Importark'!$B$20,5,2),LEFT('1 - Opstart Importark'!$B$28,3),IF(I951=\"\",\"\",\"-\"),I951,IF(K951=\"\",\"\",\"-\"),K951,IF(M951=\"\",\"\",\"-\"),M951),CONCATENATE(LEFT('1 - Opstart Importark'!$B$3,1),(LEFT('1 - Opstart Importark'!$B$15,5)),(LEFT('1 - Opstart Importark'!$B$18,3)),IF(I951=\"\",\"\",\"-\"),I951,IF(K951=\"\",\"\",\"-\"),K951,IF(M951=\"\",\"\",\"-\"),M951))))","v":""},null," ",{"$nulls":9},{"$f":"IF(LEN('1 - Opstart Importark'!$B$6)>0,'1 - Opstart Importark'!$B$6,\"\")","v":""},{"$f":"IF(LEN('1 - Opstart Importark'!$B$9)>0,'1 - Opstart Importark'!$B$9,\"\")","v":""},{"$f":"IF(LEN('1 - Opstart Importark'!$B$23)>0,'1 - Opstart Importark'!$B$23,\"\")","v":""},{"$nulls":14},"",{"$nulls":8},0,"","","objektnogle_"]
[940,null,{"$f":"IF('1 - Opstart Importark'!$B$6=\"\",\"\",(IF('1 - Opstart Importark'!$B$15=\"\",CONCATENATE(LEFT('1 - Opstart Importark'!$B$3,1),(LEFT('1 - Opstart Importark'!$B$20,5)),MID('1 - Opstart Importark'!$B$20,5,2),LEFT('1 - Opstart Importark'!$B$28,3),IF(I952=\"\",\"\",\"-\"),I952,IF(K952=\"\",\"\",\"-\"),K952,IF(M952=\"\",\"\",\"-\"),M952),CONCATENATE(LEFT('1 - Opstart Importark'!$B$3,1),(LEFT('1 - Opstart Importark'!$B$15,5)),(LEFT('1 - Opstart Importark'!$B$18,3)),IF(I952=\"\",\"\",\"-\"),I952,IF(K952=\"\",\"\",\"-\"),K952,IF(M952=\"\",\"\",\"-\"),M952))))","v":""},null," ",{"$nulls":9},{"$f":"IF(LEN('1 - Opstart Importark'!$B$6)>0,'1 - Opstart Importark'!$B$6,\"\")","v":""},{"$f":"IF(LEN('1 - Opstart Importark'!$B$9)>0,'1 - Opstart Importark'!$B$9,\"\")","v":""},{"$f":"IF(LEN('1 - Opstart Importark'!$B$23)>0,'1 - Opstart Importark'!$B$23,\"\")","v":""},{"$nulls":14},"",{"$nulls":8},0,"","","objektnogle_"]
[941,null,{"$f":"IF('1 - Opstart Importark'!$B$6=\"\",\"\",(IF('1 - Opstart Importark'!$B$15=\"\",CONCATENATE(LEFT('1 - Opstart Importark'!$B$3,1),(LEFT('1 - Opstart Importark'!$B$20,5)),MID('1 - Opstart Importark'!$B$20,5,2),LEFT('1 - Opstart Importark'!$B$28,3),IF(I953=\"\",\"\",\"-\"),I953,IF(K953=\"\",\"\",\"-\"),K953,IF(M953=\"\",\"\",\"-\"),M953),CONCATENATE(LEFT('1 - Opstart Importark'!$B$3,1),(LEFT('1 - Opstart Importark'!$B$15,5)),(LEFT('1 - Opstart Importark'!$B$18,3)),IF(I953=\"\",\"\",\"-\"),I953,IF(K953=\"\",\"\",\"-\"),K953,IF(M953=\"\",\"\",\"-\"),M953))))","v":""},null," ",{"$nulls":9},{"$f":"IF(LEN('1 - Opstart Importark'!$B$6)>0,'1 - Opstart Importark'!$B$6,\"\")","v":""},{"$f":"IF(LEN('1 - Opstart Importark'!$B$9)>0,'1 - Opstart Importark'!$B$9,\"\")","v":""},{"$f":"IF(LEN('1 - Opstart Importark'!$B$23)>0,'1 - Opstart Importark'!$B$23,\"\")","v":""},{"$nulls":14},"",{"$nulls":8},0,"","","objektnogle_"]
[942,null,{"$f":"IF('1 - Opstart Importark'!$B$6=\"\",\"\",(IF('1 - Opstart Importark'!$B$15=\"\",CONCATENATE(LEFT('1 - Opstart Importark'!$B$3,1),(LEFT('1 - Opstart Importark'!$B$20,5)),MID('1 - Opstart Importark'!$B$20,5,2),LEFT('1 - Opstart Importark'!$B$28,3),IF(I954=\"\",\"\",\"-\"),I954,IF(K954=\"\",\"\",\"-\"),K954,IF(M954=\"\",\"\",\"-\"),M954),CONCATENATE(LEFT('1 - Opstart Importark'!$B$3,1),(LEFT('1 - Opstart Importark'!$B$15,5)),(LEFT('1 - Opstart Importark'!$B$18,3)),IF(I954=\"\",\"\",\"-\"),I954,IF(K954=\"\",\"\",\"-\"),K954,IF(M954=\"\",\"\",\"-\"),M954))))","v":""},null," ",{"$nulls":9},{"$f":"IF(LEN('1 - Opstart Importark'!$B$6)>0,'1 - Opstart Importark'!$B$6,\"\")","v":""},{"$f":"IF(LEN('1 - Opstart Importark'!$B$9)>0,'1 - Opstart Importark'!$B$9,\"\")","v":""},{"$f":"IF(LEN('1 - Opstart Importark'!$B$23)>0,'1 - Opstart Importark'!$B$23,\"\")","v":""},{"$nulls":14},"",{"$nulls":8},0,"","","objektnogle_"]
[943,null,{"$f":"IF('1 - Opstart Importark'!$B$6=\"\",\"\",(IF('1 - Opstart Importark'!$B$15=\"\",CONCATENATE(LEFT('1 - Opstart Importark'!$B$3,1),(LEFT('1 - Opstart Importark'!$B$20,5)),MID('1 - Opstart Importark'!$B$20,5,2),LEFT('1 - Opstart Importark'!$B$28,3),IF(I955=\"\",\"\",\"-\"),I955,IF(K955=\"\",\"\",\"-\"),K955,IF(M955=\"\",\"\",\"-\"),M955),CONCATENATE(LEFT('1 - Opstart Importark'!$B$3,1),(LEFT('1 - Opstart Importark'!$B$15,5)),(LEFT('1 - Opstart Importark'!$B$18,3)),IF(I955=\"\",\"\",\"-\"),I955,IF(K955=\"\",\"\",\"-\"),K955,IF(M955=\"\",\"\",\"-\"),M955))))","v":""},null," ",{"$nulls":9},{"$f":"IF(LEN('1 - Opstart Importark'!$B$6)>0,'1 - Opstart Importark'!$B$6,\"\")","v":""},{"$f":"IF(LEN('1 - Opstart Importark'!$B$9)>0,'1 - Opstart Importark'!$B$9,\"\")","v":""},{"$f":"IF(LEN('1 - Opstart Importark'!$B$23)>0,'1 - Opstart Importark'!$B$23,\"\")","v":""},{"$nulls":14},"",{"$nulls":8},0,"","","objektnogle_"]
[944,null,{"$f":"IF('1 - Opstart Importark'!$B$6=\"\",\"\",(IF('1 - Opstart Importark'!$B$15=\"\",CONCATENATE(LEFT('1 - Opstart Importark'!$B$3,1),(LEFT('1 - Opstart Importark'!$B$20,5)),MID('1 - Opstart Importark'!$B$20,5,2),LEFT('1 - Opstart Importark'!$B$28,3),IF(I956=\"\",\"\",\"-\"),I956,IF(K956=\"\",\"\",\"-\"),K956,IF(M956=\"\",\"\",\"-\"),M956),CONCATENATE(LEFT('1 - Opstart Importark'!$B$3,1),(LEFT('1 - Opstart Importark'!$B$15,5)),(LEFT('1 - Opstart Importark'!$B$18,3)),IF(I956=\"\",\"\",\"-\"),I956,IF(K956=\"\",\"\",\"-\"),K956,IF(M956=\"\",\"\",\"-\"),M956))))","v":""},null," ",{"$nulls":9},{"$f":"IF(LEN('1 - Opstart Importark'!$B$6)>0,'1 - Opstart Importark'!$B$6,\"\")","v":""},{"$f":"IF(LEN('1 - Opstart Importark'!$B$9)>0,'1 - Opstart Importark'!$B$9,\"\")","v":""},{"$f":"IF(LEN('1 - Opstart Importark'!$B$23)>0,'1 - Opstart Importark'!$B$23,\"\")","v":""},{"$nulls":14},"",{"$nulls":8},0,"","","objektnogle_"]
[945,null,{"$f":"IF('1 - Opstart Importark'!$B$6=\"\",\"\",(IF('1 - Opstart Importark'!$B$15=\"\",CONCATENATE(LEFT('1 - Opstart Importark'!$B$3,1),(LEFT('1 - Opstart Importark'!$B$20,5)),MID('1 - Opstart Importark'!$B$20,5,2),LEFT('1 - Opstart Importark'!$B$28,3),IF(I957=\"\",\"\",\"-\"),I957,IF(K957=\"\",\"\",\"-\"),K957,IF(M957=\"\",\"\",\"-\"),M957),CONCATENATE(LEFT('1 - Opstart Importark'!$B$3,1),(LEFT('1 - Opstart Importark'!$B$15,5)),(LEFT('1 - Opstart Importark'!$B$18,3)),IF(I957=\"\",\"\",\"-\"),I957,IF(K957=\"\",\"\",\"-\"),K957,IF(M957=\"\",\"\",\"-\"),M957))))","v":""},null," ",{"$nulls":9},{"$f":"IF(LEN('1 - Opstart Importark'!$B$6)>0,'1 - Opstart Importark'!$B$6,\"\")","v":""},{"$f":"IF(LEN('1 - Opstart Importark'!$B$9)>0,'1 - Opstart Importark'!$B$9,\"\")","v":""},{"$f":"IF(LEN('1 - Opstart Importark'!$B$23)>0,'1 - Opstart Importark'!$B$23,\"\")","v":""},{"$nulls":14},"",{"$nulls":8},0,"","","objektnogle_"]
[946,null,{"$f":"IF('1 - Opstart Importark'!$B$6=\"\",\"\",(IF('1 - Opstart Importark'!$B$15=\"\",CONCATENATE(LEFT('1 - Opstart Importark'!$B$3,1),(LEFT('1 - Opstart Importark'!$B$20,5)),MID('1 - Opstart Importark'!$B$20,5,2),LEFT('1 - Opstart Importark'!$B$28,3),IF(I958=\"\",\"\",\"-\"),I958,IF(K958=\"\",\"\",\"-\"),K958,IF(M958=\"\",\"\",\"-\"),M958),CONCATENATE(LEFT('1 - Opstart Importark'!$B$3,1),(LEFT('1 - Opstart Importark'!$B$15,5)),(LEFT('1 - Opstart Importark'!$B$18,3)),IF(I958=\"\",\"\",\"-\"),I958,IF(K958=\"\",\"\",\"-\"),K958,IF(M958=\"\",\"\",\"-\"),M958))))","v":""},null," ",{"$nulls":9},{"$f":"IF(LEN('1 - Opstart Importark'!$B$6)>0,'1 - Opstart Importark'!$B$6,\"\")","v":""},{"$f":"IF(LEN('1 - Opstart Importark'!$B$9)>0,'1 - Opstart Importark'!$B$9,\"\")","v":""},{"$f":"IF(LEN('1 - Opstart Importark'!$B$23)>0,'1 - Opstart Importark'!$B$23,\"\")","v":""},{"$nulls":14},"",{"$nulls":8},0,"","","objektnogle_"]
[947,null,{"$f":"IF('1 - Opstart Importark'!$B$6=\"\",\"\",(IF('1 - Opstart Importark'!$B$15=\"\",CONCATENATE(LEFT('1 - Opstart Importark'!$B$3,1),(LEFT('1 - Opstart Importark'!$B$20,5)),MID('1 - Opstart Importark'!$B$20,5,2),LEFT('1 - Opstart Importark'!$B$28,3),IF(I959=\"\",\"\",\"-\"),I959,IF(K959=\"\",\"\",\"-\"),K959,IF(M959=\"\",\"\",\"-\"),M959),CONCATENATE(LEFT('1 - Opstart Importark'!$B$3,1),(LEFT('1 - Opstart Importark'!$B$15,5)),(LEFT('1 - Opstart Importark'!$B$18,3)),IF(I959=\"\",\"\",\"-\"),I959,IF(K959=\"\",\"\",\"-\"),K959,IF(M959=\"\",\"\",\"-\"),M959))))","v":""},null," ",{"$nulls":9},{"$f":"IF(LEN('1 - Opstart Importark'!$B$6)>0,'1 - Opstart Importark'!$B$6,\"\")","v":""},{"$f":"IF(LEN('1 - Opstart Importark'!$B$9)>0,'1 - Opstart Importark'!$B$9,\"\")","v":""},{"$f":"IF(LEN('1 - Opstart Importark'!$B$23)>0,'1 - Opstart Importark'!$B$23,\"\")","v":""},{"$nulls":14},"",{"$nulls":8},0,"","","objektnogle_"]
[948,null,{"$f":"IF('1 - Opstart Importark'!$B$6=\"\",\"\",(IF('1 - Opstart Importark'!$B$15=\"\",CONCATENATE(LEFT('1 - Opstart Importark'!$B$3,1),(LEFT('1 - Opstart Importark'!$B$20,5)),MID('1 - Opstart Importark'!$B$20,5,2),LEFT('1 - Opstart Importark'!$B$28,3),IF(I960=\"\",\"\",\"-\"),I960,IF(K960=\"\",\"\",\"-\"),K960,IF(M960=\"\",\"\",\"-\"),M960),CONCATENATE(LEFT('1 - Opstart Importark'!$B$3,1),(LEFT('1 - Opstart Importark'!$B$15,5)),(LEFT('1 - Opstart Importark'!$B$18,3)),IF(I960=\"\",\"\",\"-\"),I960,IF(K960=\"\",\"\",\"-\"),K960,IF(M960=\"\",\"\",\"-\"),M960))))","v":""},null," ",{"$nulls":9},{"$f":"IF(LEN('1 - Opstart Importark'!$B$6)>0,'1 - Opstart Importark'!$B$6,\"\")","v":""},{"$f":"IF(LEN('1 - Opstart Importark'!$B$9)>0,'1 - Opstart Importark'!$B$9,\"\")","v":""},{"$f":"IF(LEN('1 - Opstart Importark'!$B$23)>0,'1 - Opstart Importark'!$B$23,\"\")","v":""},{"$nulls":14},"",{"$nulls":8},0,"","","objektnogle_"]
[949,null,{"$f":"IF('1 - Opstart Importark'!$B$6=\"\",\"\",(IF('1 - Opstart Importark'!$B$15=\"\",CONCATENATE(LEFT('1 - Opstart Importark'!$B$3,1),(LEFT('1 - Opstart Importark'!$B$20,5)),MID('1 - Opstart Importark'!$B$20,5,2),LEFT('1 - Opstart Importark'!$B$28,3),IF(I961=\"\",\"\",\"-\"),I961,IF(K961=\"\",\"\",\"-\"),K961,IF(M961=\"\",\"\",\"-\"),M961),CONCATENATE(LEFT('1 - Opstart Importark'!$B$3,1),(LEFT('1 - Opstart Importark'!$B$15,5)),(LEFT('1 - Opstart Importark'!$B$18,3)),IF(I961=\"\",\"\",\"-\"),I961,IF(K961=\"\",\"\",\"-\"),K961,IF(M961=\"\",\"\",\"-\"),M961))))","v":""},null," ",{"$nulls":9},{"$f":"IF(LEN('1 - Opstart Importark'!$B$6)>0,'1 - Opstart Importark'!$B$6,\"\")","v":""},{"$f":"IF(LEN('1 - Opstart Importark'!$B$9)>0,'1 - Opstart Importark'!$B$9,\"\")","v":""},{"$f":"IF(LEN('1 - Opstart Importark'!$B$23)>0,'1 - Opstart Importark'!$B$23,\"\")","v":""},{"$nulls":14},"",{"$nulls":8},0,"","","objektnogle_"]
[950,null,{"$f":"IF('1 - Opstart Importark'!$B$6=\"\",\"\",(IF('1 - Opstart Importark'!$B$15=\"\",CONCATENATE(LEFT('1 - Opstart Importark'!$B$3,1),(LEFT('1 - Opstart Importark'!$B$20,5)),MID('1 - Opstart Importark'!$B$20,5,2),LEFT('1 - Opstart Importark'!$B$28,3),IF(I962=\"\",\"\",\"-\"),I962,IF(K962=\"\",\"\",\"-\"),K962,IF(M962=\"\",\"\",\"-\"),M962),CONCATENATE(LEFT('1 - Opstart Importark'!$B$3,1),(LEFT('1 - Opstart Importark'!$B$15,5)),(LEFT('1 - Opstart Importark'!$B$18,3)),IF(I962=\"\",\"\",\"-\"),I962,IF(K962=\"\",\"\",\"-\"),K962,IF(M962=\"\",\"\",\"-\"),M962))))","v":""},null," ",{"$nulls":9},{"$f":"IF(LEN('1 - Opstart Importark'!$B$6)>0,'1 - Opstart Importark'!$B$6,\"\")","v":""},{"$f":"IF(LEN('1 - Opstart Importark'!$B$9)>0,'1 - Opstart Importark'!$B$9,\"\")","v":""},{"$f":"IF(LEN('1 - Opstart Importark'!$B$23)>0,'1 - Opstart Importark'!$B$23,\"\")","v":""},{"$nulls":14},"",{"$nulls":8},0,"","","objektnogle_"]
[951,null,{"$f":"IF('1 - Opstart Importark'!$B$6=\"\",\"\",(IF('1 - Opstart Importark'!$B$15=\"\",CONCATENATE(LEFT('1 - Opstart Importark'!$B$3,1),(LEFT('1 - Opstart Importark'!$B$20,5)),MID('1 - Opstart Importark'!$B$20,5,2),LEFT('1 - Opstart Importark'!$B$28,3),IF(I963=\"\",\"\",\"-\"),I963,IF(K963=\"\",\"\",\"-\"),K963,IF(M963=\"\",\"\",\"-\"),M963),CONCATENATE(LEFT('1 - Opstart Importark'!$B$3,1),(LEFT('1 - Opstart Importark'!$B$15,5)),(LEFT('1 - Opstart Importark'!$B$18,3)),IF(I963=\"\",\"\",\"-\"),I963,IF(K963=\"\",\"\",\"-\"),K963,IF(M963=\"\",\"\",\"-\"),M963))))","v":""},null," ",{"$nulls":9},{"$f":"IF(LEN('1 - Opstart Importark'!$B$6)>0,'1 - Opstart Importark'!$B$6,\"\")","v":""},{"$f":"IF(LEN('1 - Opstart Importark'!$B$9)>0,'1 - Opstart Importark'!$B$9,\"\")","v":""},{"$f":"IF(LEN('1 - Opstart Importark'!$B$23)>0,'1 - Opstart Importark'!$B$23,\"\")","v":""},{"$nulls":14},"",{"$nulls":8},0,"","","objektnogle_"]
[952,null,{"$f":"IF('1 - Opstart Importark'!$B$6=\"\",\"\",(IF('1 - Opstart Importark'!$B$15=\"\",CONCATENATE(LEFT('1 - Opstart Importark'!$B$3,1),(LEFT('1 - Opstart Importark'!$B$20,5)),MID('1 - Opstart Importark'!$B$20,5,2),LEFT('1 - Opstart Importark'!$B$28,3),IF(I964=\"\",\"\",\"-\"),I964,IF(K964=\"\",\"\",\"-\"),K964,IF(M964=\"\",\"\",\"-\"),M964),CONCATENATE(LEFT('1 - Opstart Importark'!$B$3,1),(LEFT('1 - Opstart Importark'!$B$15,5)),(LEFT('1 - Opstart Importark'!$B$18,3)),IF(I964=\"\",\"\",\"-\"),I964,IF(K964=\"\",\"\",\"-\"),K964,IF(M964=\"\",\"\",\"-\"),M964))))","v":""},null," ",{"$nulls":9},{"$f":"IF(LEN('1 - Opstart Importark'!$B$6)>0,'1 - Opstart Importark'!$B$6,\"\")","v":""},{"$f":"IF(LEN('1 - Opstart Importark'!$B$9)>0,'1 - Opstart Importark'!$B$9,\"\")","v":""},{"$f":"IF(LEN('1 - Opstart Importark'!$B$23)>0,'1 - Opstart Importark'!$B$23,\"\")","v":""},{"$nulls":14},"",{"$nulls":8},0,"","","objektnogle_"]
[953,null,{"$f":"IF('1 - Opstart Importark'!$B$6=\"\",\"\",(IF('1 - Opstart Importark'!$B$15=\"\",CONCATENATE(LEFT('1 - Opstart Importark'!$B$3,1),(LEFT('1 - Opstart Importark'!$B$20,5)),MID('1 - Opstart Importark'!$B$20,5,2),LEFT('1 - Opstart Importark'!$B$28,3),IF(I965=\"\",\"\",\"-\"),I965,IF(K965=\"\",\"\",\"-\"),K965,IF(M965=\"\",\"\",\"-\"),M965),CONCATENATE(LEFT('1 - Opstart Importark'!$B$3,1),(LEFT('1 - Opstart Importark'!$B$15,5)),(LEFT('1 - Opstart Importark'!$B$18,3)),IF(I965=\"\",\"\",\"-\"),I965,IF(K965=\"\",\"\",\"-\"),K965,IF(M965=\"\",\"\",\"-\"),M965))))","v":""},null," ",{"$nulls":9},{"$f":"IF(LEN('1 - Opstart Importark'!$B$6)>0,'1 - Opstart Importark'!$B$6,\"\")","v":""},{"$f":"IF(LEN('1 - Opstart Importark'!$B$9)>0,'1 - Opstart Importark'!$B$9,\"\")","v":""},{"$f":"IF(LEN('1 - Opstart Importark'!$B$23)>0,'1 - Opstart Importark'!$B$23,\"\")","v":""},{"$nulls":14},"",{"$nulls":8},0,"","","objektnogle_"]
[954,null,{"$f":"IF('1 - Opstart Importark'!$B$6=\"\",\"\",(IF('1 - Opstart Importark'!$B$15=\"\",CONCATENATE(LEFT('1 - Opstart Importark'!$B$3,1),(LEFT('1 - Opstart Importark'!$B$20,5)),MID('1 - Opstart Importark'!$B$20,5,2),LEFT('1 - Opstart Importark'!$B$28,3),IF(I966=\"\",\"\",\"-\"),I966,IF(K966=\"\",\"\",\"-\"),K966,IF(M966=\"\",\"\",\"-\"),M966),CONCATENATE(LEFT('1 - Opstart Importark'!$B$3,1),(LEFT('1 - Opstart Importark'!$B$15,5)),(LEFT('1 - Opstart Importark'!$B$18,3)),IF(I966=\"\",\"\",\"-\"),I966,IF(K966=\"\",\"\",\"-\"),K966,IF(M966=\"\",\"\",\"-\"),M966))))","v":""},null," ",{"$nulls":9},{"$f":"IF(LEN('1 - Opstart Importark'!$B$6)>0,'1 - Opstart Importark'!$B$6,\"\")","v":""},{"$f":"IF(LEN('1 - Opstart Importark'!$B$9)>0,'1 - Opstart Importark'!$B$9,\"\")","v":""},{"$f":"IF(LEN('1 - Opstart Importark'!$B$23)>0,'1 - Opstart Importark'!$B$23,\"\")","v":""},{"$nulls":14},"",{"$nulls":8},0,"","","objektnogle_"]
[955,null,{"$f":"IF('1 - Opstart Importark'!$B$6=\"\",\"\",(IF('1 - Opstart Importark'!$B$15=\"\",CONCATENATE(LEFT('1 - Opstart Importark'!$B$3,1),(LEFT('1 - Opstart Importark'!$B$20,5)),MID('1 - Opstart Importark'!$B$20,5,2),LEFT('1 - Opstart Importark'!$B$28,3),IF(I967=\"\",\"\",\"-\"),I967,IF(K967=\"\",\"\",\"-\"),K967,IF(M967=\"\",\"\",\"-\"),M967),CONCATENATE(LEFT('1 - Opstart Importark'!$B$3,1),(LEFT('1 - Opstart Importark'!$B$15,5)),(LEFT('1 - Opstart Importark'!$B$18,3)),IF(I967=\"\",\"\",\"-\"),I967,IF(K967=\"\",\"\",\"-\"),K967,IF(M967=\"\",\"\",\"-\"),M967))))","v":""},null," ",{"$nulls":9},{"$f":"IF(LEN('1 - Opstart Importark'!$B$6)>0,'1 - Opstart Importark'!$B$6,\"\")","v":""},{"$f":"IF(LEN('1 - Opstart Importark'!$B$9)>0,'1 - Opstart Importark'!$B$9,\"\")","v":""},{"$f":"IF(LEN('1 - Opstart Importark'!$B$23)>0,'1 - Opstart Importark'!$B$23,\"\")","v":""},{"$nulls":14},"",{"$nulls":8},0,"","","objektnogle_"]
[956,null,{"$f":"IF('1 - Opstart Importark'!$B$6=\"\",\"\",(IF('1 - Opstart Importark'!$B$15=\"\",CONCATENATE(LEFT('1 - Opstart Importark'!$B$3,1),(LEFT('1 - Opstart Importark'!$B$20,5)),MID('1 - Opstart Importark'!$B$20,5,2),LEFT('1 - Opstart Importark'!$B$28,3),IF(I968=\"\",\"\",\"-\"),I968,IF(K968=\"\",\"\",\"-\"),K968,IF(M968=\"\",\"\",\"-\"),M968),CONCATENATE(LEFT('1 - Opstart Importark'!$B$3,1),(LEFT('1 - Opstart Importark'!$B$15,5)),(LEFT('1 - Opstart Importark'!$B$18,3)),IF(I968=\"\",\"\",\"-\"),I968,IF(K968=\"\",\"\",\"-\"),K968,IF(M968=\"\",\"\",\"-\"),M968))))","v":""},null," ",{"$nulls":9},{"$f":"IF(LEN('1 - Opstart Importark'!$B$6)>0,'1 - Opstart Importark'!$B$6,\"\")","v":""},{"$f":"IF(LEN('1 - Opstart Importark'!$B$9)>0,'1 - Opstart Importark'!$B$9,\"\")","v":""},{"$f":"IF(LEN('1 - Opstart Importark'!$B$23)>0,'1 - Opstart Importark'!$B$23,\"\")","v":""},{"$nulls":14},"",{"$nulls":8},0,"","","objektnogle_"]
[957,null,{"$f":"IF('1 - Opstart Importark'!$B$6=\"\",\"\",(IF('1 - Opstart Importark'!$B$15=\"\",CONCATENATE(LEFT('1 - Opstart Importark'!$B$3,1),(LEFT('1 - Opstart Importark'!$B$20,5)),MID('1 - Opstart Importark'!$B$20,5,2),LEFT('1 - Opstart Importark'!$B$28,3),IF(I969=\"\",\"\",\"-\"),I969,IF(K969=\"\",\"\",\"-\"),K969,IF(M969=\"\",\"\",\"-\"),M969),CONCATENATE(LEFT('1 - Opstart Importark'!$B$3,1),(LEFT('1 - Opstart Importark'!$B$15,5)),(LEFT('1 - Opstart Importark'!$B$18,3)),IF(I969=\"\",\"\",\"-\"),I969,IF(K969=\"\",\"\",\"-\"),K969,IF(M969=\"\",\"\",\"-\"),M969))))","v":""},null," ",{"$nulls":9},{"$f":"IF(LEN('1 - Opstart Importark'!$B$6)>0,'1 - Opstart Importark'!$B$6,\"\")","v":""},{"$f":"IF(LEN('1 - Opstart Importark'!$B$9)>0,'1 - Opstart Importark'!$B$9,\"\")","v":""},{"$f":"IF(LEN('1 - Opstart Importark'!$B$23)>0,'1 - Opstart Importark'!$B$23,\"\")","v":""},{"$nulls":14},"",{"$nulls":8},0,"","","objektnogle_"]
[958,null,{"$f":"IF('1 - Opstart Importark'!$B$6=\"\",\"\",(IF('1 - Opstart Importark'!$B$15=\"\",CONCATENATE(LEFT('1 - Opstart Importark'!$B$3,1),(LEFT('1 - Opstart Importark'!$B$20,5)),MID('1 - Opstart Importark'!$B$20,5,2),LEFT('1 - Opstart Importark'!$B$28,3),IF(I970=\"\",\"\",\"-\"),I970,IF(K970=\"\",\"\",\"-\"),K970,IF(M970=\"\",\"\",\"-\"),M970),CONCATENATE(LEFT('1 - Opstart Importark'!$B$3,1),(LEFT('1 - Opstart Importark'!$B$15,5)),(LEFT('1 - Opstart Importark'!$B$18,3)),IF(I970=\"\",\"\",\"-\"),I970,IF(K970=\"\",\"\",\"-\"),K970,IF(M970=\"\",\"\",\"-\"),M970))))","v":""},null," ",{"$nulls":9},{"$f":"IF(LEN('1 - Opstart Importark'!$B$6)>0,'1 - Opstart Importark'!$B$6,\"\")","v":""},{"$f":"IF(LEN('1 - Opstart Importark'!$B$9)>0,'1 - Opstart Importark'!$B$9,\"\")","v":""},{"$f":"IF(LEN('1 - Opstart Importark'!$B$23)>0,'1 - Opstart Importark'!$B$23,\"\")","v":""},{"$nulls":14},"",{"$nulls":8},0,"","","objektnogle_"]
[959,null,{"$f":"IF('1 - Opstart Importark'!$B$6=\"\",\"\",(IF('1 - Opstart Importark'!$B$15=\"\",CONCATENATE(LEFT('1 - Opstart Importark'!$B$3,1),(LEFT('1 - Opstart Importark'!$B$20,5)),MID('1 - Opstart Importark'!$B$20,5,2),LEFT('1 - Opstart Importark'!$B$28,3),IF(I971=\"\",\"\",\"-\"),I971,IF(K971=\"\",\"\",\"-\"),K971,IF(M971=\"\",\"\",\"-\"),M971),CONCATENATE(LEFT('1 - Opstart Importark'!$B$3,1),(LEFT('1 - Opstart Importark'!$B$15,5)),(LEFT('1 - Opstart Importark'!$B$18,3)),IF(I971=\"\",\"\",\"-\"),I971,IF(K971=\"\",\"\",\"-\"),K971,IF(M971=\"\",\"\",\"-\"),M971))))","v":""},null," ",{"$nulls":9},{"$f":"IF(LEN('1 - Opstart Importark'!$B$6)>0,'1 - Opstart Importark'!$B$6,\"\")","v":""},{"$f":"IF(LEN('1 - Opstart Importark'!$B$9)>0,'1 - Opstart Importark'!$B$9,\"\")","v":""},{"$f":"IF(LEN('1 - Opstart Importark'!$B$23)>0,'1 - Opstart Importark'!$B$23,\"\")","v":""},{"$nulls":14},"",{"$nulls":8},0,"","","objektnogle_"]
[960,null,{"$f":"IF('1 - Opstart Importark'!$B$6=\"\",\"\",(IF('1 - Opstart Importark'!$B$15=\"\",CONCATENATE(LEFT('1 - Opstart Importark'!$B$3,1),(LEFT('1 - Opstart Importark'!$B$20,5)),MID('1 - Opstart Importark'!$B$20,5,2),LEFT('1 - Opstart Importark'!$B$28,3),IF(I972=\"\",\"\",\"-\"),I972,IF(K972=\"\",\"\",\"-\"),K972,IF(M972=\"\",\"\",\"-\"),M972),CONCATENATE(LEFT('1 - Opstart Importark'!$B$3,1),(LEFT('1 - Opstart Importark'!$B$15,5)),(LEFT('1 - Opstart Importark'!$B$18,3)),IF(I972=\"\",\"\",\"-\"),I972,IF(K972=\"\",\"\",\"-\"),K972,IF(M972=\"\",\"\",\"-\"),M972))))","v":""},null," ",{"$nulls":9},{"$f":"IF(LEN('1 - Opstart Importark'!$B$6)>0,'1 - Opstart Importark'!$B$6,\"\")","v":""},{"$f":"IF(LEN('1 - Opstart Importark'!$B$9)>0,'1 - Opstart Importark'!$B$9,\"\")","v":""},{"$f":"IF(LEN('1 - Opstart Importark'!$B$23)>0,'1 - Opstart Importark'!$B$23,\"\")","v":""},{"$nulls":14},"",{"$nulls":8},0,"","","objektnogle_"]
[961,null,{"$f":"IF('1 - Opstart Importark'!$B$6=\"\",\"\",(IF('1 - Opstart Importark'!$B$15=\"\",CONCATENATE(LEFT('1 - Opstart Importark'!$B$3,1),(LEFT('1 - Opstart Importark'!$B$20,5)),MID('1 - Opstart Importark'!$B$20,5,2),LEFT('1 - Opstart Importark'!$B$28,3),IF(I973=\"\",\"\",\"-\"),I973,IF(K973=\"\",\"\",\"-\"),K973,IF(M973=\"\",\"\",\"-\"),M973),CONCATENATE(LEFT('1 - Opstart Importark'!$B$3,1),(LEFT('1 - Opstart Importark'!$B$15,5)),(LEFT('1 - Opstart Importark'!$B$18,3)),IF(I973=\"\",\"\",\"-\"),I973,IF(K973=\"\",\"\",\"-\"),K973,IF(M973=\"\",\"\",\"-\"),M973))))","v":""},null," ",{"$nulls":9},{"$f":"IF(LEN('1 - Opstart Importark'!$B$6)>0,'1 - Opstart Importark'!$B$6,\"\")","v":""},{"$f":"IF(LEN('1 - Opstart Importark'!$B$9)>0,'1 - Opstart Importark'!$B$9,\"\")","v":""},{"$f":"IF(LEN('1 - Opstart Importark'!$B$23)>0,'1 - Opstart Importark'!$B$23,\"\")","v":""},{"$nulls":14},{"$f":"IF(K973=\"\",\"\",VLOOKUP(LEFT(K973,1),objektfilter,2))","v":""},{"$nulls":8},{"$f":"IFERROR(FIND(\".\",F973),)","v":0},"","","objektnogle_"]
[962,null,{"$f":"IF('1 - Opstart Importark'!$B$6=\"\",\"\",(IF('1 - Opstart Importark'!$B$15=\"\",CONCATENATE(LEFT('1 - Opstart Importark'!$B$3,1),(LEFT('1 - Opstart Importark'!$B$20,5)),MID('1 - Opstart Importark'!$B$20,5,2),LEFT('1 - Opstart Importark'!$B$28,3),IF(I974=\"\",\"\",\"-\"),I974,IF(K974=\"\",\"\",\"-\"),K974,IF(M974=\"\",\"\",\"-\"),M974),CONCATENATE(LEFT('1 - Opstart Importark'!$B$3,1),(LEFT('1 - Opstart Importark'!$B$15,5)),(LEFT('1 - Opstart Importark'!$B$18,3)),IF(I974=\"\",\"\",\"-\"),I974,IF(K974=\"\",\"\",\"-\"),K974,IF(M974=\"\",\"\",\"-\"),M974))))","v":""},null," ",{"$nulls":9},{"$f":"IF(LEN('1 - Opstart Importark'!$B$6)>0,'1 - Opstart Importark'!$B$6,\"\")","v":""},{"$f":"IF(LEN('1 - Opstart Importark'!$B$9)>0,'1 - Opstart Importark'!$B$9,\"\")","v":""},{"$f":"IF(LEN('1 - Opstart Importark'!$B$23)>0,'1 - Opstart Importark'!$B$23,\"\")","v":""},{"$nulls":14},"",{"$nulls":8},0,{"$f":"IF(K974=\"\",\"\",IF(LEFT(K974,1)=\"E\",0,1))","v":""},{"$f":"IF(K974=\"\",\"\",IF(LEFT(K974,1)=\"E\",0,1))","v":""},{"$f":"IF(W974=\"\", CONCATENATE(\"objektnogle_\",LEFT(AF974,1)),CONCATENATE(\"objektnogle_\",LEFT(W974,1)))","v":"objektnogle_"}]
[963,null,{"$f":"IF('1 - Opstart Importark'!$B$6=\"\",\"\",(IF('1 - Opstart Importark'!$B$15=\"\",CONCATENATE(LEFT('1 - Opstart Importark'!$B$3,1),(LEFT('1 - Opstart Importark'!$B$20,5)),MID('1 - Opstart Importark'!$B$20,5,2),LEFT('1 - Opstart Importark'!$B$28,3),IF(I975=\"\",\"\",\"-\"),I975,IF(K975=\"\",\"\",\"-\"),K975,IF(M975=\"\",\"\",\"-\"),M975),CONCATENATE(LEFT('1 - Opstart Importark'!$B$3,1),(LEFT('1 - Opstart Importark'!$B$15,5)),(LEFT('1 - Opstart Importark'!$B$18,3)),IF(I975=\"\",\"\",\"-\"),I975,IF(K975=\"\",\"\",\"-\"),K975,IF(M975=\"\",\"\",\"-\"),M975))))","v":""},null," ",{"$nulls":9},{"$f":"IF(LEN('1 - Opstart Importark'!$B$6)>0,'1 - Opstart Importark'!$B$6,\"\")","v":""},{"$f":"IF(LEN('1 - Opstart Importark'!$B$9)>0,'1 - Opstart Importark'!$B$9,\"\")","v":""},{"$f":"IF(LEN('1 - Opstart Importark'!$B$23)>0,'1 - Opstart Importark'!$B$23,\"\")","v":""},{"$nulls":14},"",{"$nulls":8},0,"","","objektnogle_"]
[964,null,{"$f":"IF('1 - Opstart Importark'!$B$6=\"\",\"\",(IF('1 - Opstart Importark'!$B$15=\"\",CONCATENATE(LEFT('1 - Opstart Importark'!$B$3,1),(LEFT('1 - Opstart Importark'!$B$20,5)),MID('1 - Opstart Importark'!$B$20,5,2),LEFT('1 - Opstart Importark'!$B$28,3),IF(I976=\"\",\"\",\"-\"),I976,IF(K976=\"\",\"\",\"-\"),K976,IF(M976=\"\",\"\",\"-\"),M976),CONCATENATE(LEFT('1 - Opstart Importark'!$B$3,1),(LEFT('1 - Opstart Importark'!$B$15,5)),(LEFT('1 - Opstart Importark'!$B$18,3)),IF(I976=\"\",\"\",\"-\"),I976,IF(K976=\"\",\"\",\"-\"),K976,IF(M976=\"\",\"\",\"-\"),M976))))","v":""},null," ",{"$nulls":9},{"$f":"IF(LEN('1 - Opstart Importark'!$B$6)>0,'1 - Opstart Importark'!$B$6,\"\")","v":""},{"$f":"IF(LEN('1 - Opstart Importark'!$B$9)>0,'1 - Opstart Importark'!$B$9,\"\")","v":""},{"$f":"IF(LEN('1 - Opstart Importark'!$B$23)>0,'1 - Opstart Importark'!$B$23,\"\")","v":""},{"$nulls":14},"",{"$nulls":8},0,"","","objektnogle_"]
[965,null,{"$f":"IF('1 - Opstart Importark'!$B$6=\"\",\"\",(IF('1 - Opstart Importark'!$B$15=\"\",CONCATENATE(LEFT('1 - Opstart Importark'!$B$3,1),(LEFT('1 - Opstart Importark'!$B$20,5)),MID('1 - Opstart Importark'!$B$20,5,2),LEFT('1 - Opstart Importark'!$B$28,3),IF(I977=\"\",\"\",\"-\"),I977,IF(K977=\"\",\"\",\"-\"),K977,IF(M977=\"\",\"\",\"-\"),M977),CONCATENATE(LEFT('1 - Opstart Importark'!$B$3,1),(LEFT('1 - Opstart Importark'!$B$15,5)),(LEFT('1 - Opstart Importark'!$B$18,3)),IF(I977=\"\",\"\",\"-\"),I977,IF(K977=\"\",\"\",\"-\"),K977,IF(M977=\"\",\"\",\"-\"),M977))))","v":""},null," ",{"$nulls":9},{"$f":"IF(LEN('1 - Opstart Importark'!$B$6)>0,'1 - Opstart Importark'!$B$6,\"\")","v":""},{"$f":"IF(LEN('1 - Opstart Importark'!$B$9)>0,'1 - Opstart Importark'!$B$9,\"\")","v":""},{"$f":"IF(LEN('1 - Opstart Importark'!$B$23)>0,'1 - Opstart Importark'!$B$23,\"\")","v":""},{"$nulls":14},"",{"$nulls":8},0,"","","objektnogle_"]
[966,null,{"$f":"IF('1 - Opstart Importark'!$B$6=\"\",\"\",(IF('1 - Opstart Importark'!$B$15=\"\",CONCATENATE(LEFT('1 - Opstart Importark'!$B$3,1),(LEFT('1 - Opstart Importark'!$B$20,5)),MID('1 - Opstart Importark'!$B$20,5,2),LEFT('1 - Opstart Importark'!$B$28,3),IF(I978=\"\",\"\",\"-\"),I978,IF(K978=\"\",\"\",\"-\"),K978,IF(M978=\"\",\"\",\"-\"),M978),CONCATENATE(LEFT('1 - Opstart Importark'!$B$3,1),(LEFT('1 - Opstart Importark'!$B$15,5)),(LEFT('1 - Opstart Importark'!$B$18,3)),IF(I978=\"\",\"\",\"-\"),I978,IF(K978=\"\",\"\",\"-\"),K978,IF(M978=\"\",\"\",\"-\"),M978))))","v":""},null," ",{"$nulls":9},{"$f":"IF(LEN('1 - Opstart Importark'!$B$6)>0,'1 - Opstart Importark'!$B$6,\"\")","v":""},{"$f":"IF(LEN('1 - Opstart Importark'!$B$9)>0,'1 - Opstart Importark'!$B$9,\"\")","v":""},{"$f":"IF(LEN('1 - Opstart Importark'!$B$23)>0,'1 - Opstart Importark'!$B$23,\"\")","v":""},{"$nulls":14},"",{"$nulls":8},0,"","","objektnogle_"]
[967,null,{"$f":"IF('1 - Opstart Importark'!$B$6=\"\",\"\",(IF('1 - Opstart Importark'!$B$15=\"\",CONCATENATE(LEFT('1 - Opstart Importark'!$B$3,1),(LEFT('1 - Opstart Importark'!$B$20,5)),MID('1 - Opstart Importark'!$B$20,5,2),LEFT('1 - Opstart Importark'!$B$28,3),IF(I979=\"\",\"\",\"-\"),I979,IF(K979=\"\",\"\",\"-\"),K979,IF(M979=\"\",\"\",\"-\"),M979),CONCATENATE(LEFT('1 - Opstart Importark'!$B$3,1),(LEFT('1 - Opstart Importark'!$B$15,5)),(LEFT('1 - Opstart Importark'!$B$18,3)),IF(I979=\"\",\"\",\"-\"),I979,IF(K979=\"\",\"\",\"-\"),K979,IF(M979=\"\",\"\",\"-\"),M979))))","v":""},null," ",{"$nulls":9},{"$f":"IF(LEN('1 - Opstart Importark'!$B$6)>0,'1 - Opstart Importark'!$B$6,\"\")","v":""},{"$f":"IF(LEN('1 - Opstart Importark'!$B$9)>0,'1 - Opstart Importark'!$B$9,\"\")","v":""},{"$f":"IF(LEN('1 - Opstart Importark'!$B$23)>0,'1 - Opstart Importark'!$B$23,\"\")","v":""},{"$nulls":14},"",{"$nulls":8},0,"","","objektnogle_"]
[968,null,{"$f":"IF('1 - Opstart Importark'!$B$6=\"\",\"\",(IF('1 - Opstart Importark'!$B$15=\"\",CONCATENATE(LEFT('1 - Opstart Importark'!$B$3,1),(LEFT('1 - Opstart Importark'!$B$20,5)),MID('1 - Opstart Importark'!$B$20,5,2),LEFT('1 - Opstart Importark'!$B$28,3),IF(I980=\"\",\"\",\"-\"),I980,IF(K980=\"\",\"\",\"-\"),K980,IF(M980=\"\",\"\",\"-\"),M980),CONCATENATE(LEFT('1 - Opstart Importark'!$B$3,1),(LEFT('1 - Opstart Importark'!$B$15,5)),(LEFT('1 - Opstart Importark'!$B$18,3)),IF(I980=\"\",\"\",\"-\"),I980,IF(K980=\"\",\"\",\"-\"),K980,IF(M980=\"\",\"\",\"-\"),M980))))","v":""},null," ",{"$nulls":9},{"$f":"IF(LEN('1 - Opstart Importark'!$B$6)>0,'1 - Opstart Importark'!$B$6,\"\")","v":""},{"$f":"IF(LEN('1 - Opstart Importark'!$B$9)>0,'1 - Opstart Importark'!$B$9,\"\")","v":""},{"$f":"IF(LEN('1 - Opstart Importark'!$B$23)>0,'1 - Opstart Importark'!$B$23,\"\")","v":""},{"$nulls":14},"",{"$nulls":8},0,"","","objektnogle_"]
[969,null,{"$f":"IF('1 - Opstart Importark'!$B$6=\"\",\"\",(IF('1 - Opstart Importark'!$B$15=\"\",CONCATENATE(LEFT('1 - Opstart Importark'!$B$3,1),(LEFT('1 - Opstart Importark'!$B$20,5)),MID('1 - Opstart Importark'!$B$20,5,2),LEFT('1 - Opstart Importark'!$B$28,3),IF(I981=\"\",\"\",\"-\"),I981,IF(K981=\"\",\"\",\"-\"),K981,IF(M981=\"\",\"\",\"-\"),M981),CONCATENATE(LEFT('1 - Opstart Importark'!$B$3,1),(LEFT('1 - Opstart Importark'!$B$15,5)),(LEFT('1 - Opstart Importark'!$B$18,3)),IF(I981=\"\",\"\",\"-\"),I981,IF(K981=\"\",\"\",\"-\"),K981,IF(M981=\"\",\"\",\"-\"),M981))))","v":""},null," ",{"$nulls":9},{"$f":"IF(LEN('1 - Opstart Importark'!$B$6)>0,'1 - Opstart Importark'!$B$6,\"\")","v":""},{"$f":"IF(LEN('1 - Opstart Importark'!$B$9)>0,'1 - Opstart Importark'!$B$9,\"\")","v":""},{"$f":"IF(LEN('1 - Opstart Importark'!$B$23)>0,'1 - Opstart Importark'!$B$23,\"\")","v":""},{"$nulls":14},"",{"$nulls":8},0,"","","objektnogle_"]
[970,null,{"$f":"IF('1 - Opstart Importark'!$B$6=\"\",\"\",(IF('1 - Opstart Importark'!$B$15=\"\",CONCATENATE(LEFT('1 - Opstart Importark'!$B$3,1),(LEFT('1 - Opstart Importark'!$B$20,5)),MID('1 - Opstart Importark'!$B$20,5,2),LEFT('1 - Opstart Importark'!$B$28,3),IF(I982=\"\",\"\",\"-\"),I982,IF(K982=\"\",\"\",\"-\"),K982,IF(M982=\"\",\"\",\"-\"),M982),CONCATENATE(LEFT('1 - Opstart Importark'!$B$3,1),(LEFT('1 - Opstart Importark'!$B$15,5)),(LEFT('1 - Opstart Importark'!$B$18,3)),IF(I982=\"\",\"\",\"-\"),I982,IF(K982=\"\",\"\",\"-\"),K982,IF(M982=\"\",\"\",\"-\"),M982))))","v":""},null," ",{"$nulls":9},{"$f":"IF(LEN('1 - Opstart Importark'!$B$6)>0,'1 - Opstart Importark'!$B$6,\"\")","v":""},{"$f":"IF(LEN('1 - Opstart Importark'!$B$9)>0,'1 - Opstart Importark'!$B$9,\"\")","v":""},{"$f":"IF(LEN('1 - Opstart Importark'!$B$23)>0,'1 - Opstart Importark'!$B$23,\"\")","v":""},{"$nulls":14},"",{"$nulls":8},0,"","","objektnogle_"]
[971,null,{"$f":"IF('1 - Opstart Importark'!$B$6=\"\",\"\",(IF('1 - Opstart Importark'!$B$15=\"\",CONCATENATE(LEFT('1 - Opstart Importark'!$B$3,1),(LEFT('1 - Opstart Importark'!$B$20,5)),MID('1 - Opstart Importark'!$B$20,5,2),LEFT('1 - Opstart Importark'!$B$28,3),IF(I983=\"\",\"\",\"-\"),I983,IF(K983=\"\",\"\",\"-\"),K983,IF(M983=\"\",\"\",\"-\"),M983),CONCATENATE(LEFT('1 - Opstart Importark'!$B$3,1),(LEFT('1 - Opstart Importark'!$B$15,5)),(LEFT('1 - Opstart Importark'!$B$18,3)),IF(I983=\"\",\"\",\"-\"),I983,IF(K983=\"\",\"\",\"-\"),K983,IF(M983=\"\",\"\",\"-\"),M983))))","v":""},null," ",{"$nulls":9},{"$f":"IF(LEN('1 - Opstart Importark'!$B$6)>0,'1 - Opstart Importark'!$B$6,\"\")","v":""},{"$f":"IF(LEN('1 - Opstart Importark'!$B$9)>0,'1 - Opstart Importark'!$B$9,\"\")","v":""},{"$f":"IF(LEN('1 - Opstart Importark'!$B$23)>0,'1 - Opstart Importark'!$B$23,\"\")","v":""},{"$nulls":14},"",{"$nulls":8},0,"","","objektnogle_"]
[972,null,{"$f":"IF('1 - Opstart Importark'!$B$6=\"\",\"\",(IF('1 - Opstart Importark'!$B$15=\"\",CONCATENATE(LEFT('1 - Opstart Importark'!$B$3,1),(LEFT('1 - Opstart Importark'!$B$20,5)),MID('1 - Opstart Importark'!$B$20,5,2),LEFT('1 - Opstart Importark'!$B$28,3),IF(I984=\"\",\"\",\"-\"),I984,IF(K984=\"\",\"\",\"-\"),K984,IF(M984=\"\",\"\",\"-\"),M984),CONCATENATE(LEFT('1 - Opstart Importark'!$B$3,1),(LEFT('1 - Opstart Importark'!$B$15,5)),(LEFT('1 - Opstart Importark'!$B$18,3)),IF(I984=\"\",\"\",\"-\"),I984,IF(K984=\"\",\"\",\"-\"),K984,IF(M984=\"\",\"\",\"-\"),M984))))","v":""},null," ",{"$nulls":9},{"$f":"IF(LEN('1 - Opstart Importark'!$B$6)>0,'1 - Opstart Importark'!$B$6,\"\")","v":""},{"$f":"IF(LEN('1 - Opstart Importark'!$B$9)>0,'1 - Opstart Importark'!$B$9,\"\")","v":""},{"$f":"IF(LEN('1 - Opstart Importark'!$B$23)>0,'1 - Opstart Importark'!$B$23,\"\")","v":""},{"$nulls":14},"",{"$nulls":8},0,"","","objektnogle_"]
[973,null,{"$f":"IF('1 - Opstart Importark'!$B$6=\"\",\"\",(IF('1 - Opstart Importark'!$B$15=\"\",CONCATENATE(LEFT('1 - Opstart Importark'!$B$3,1),(LEFT('1 - Opstart Importark'!$B$20,5)),MID('1 - Opstart Importark'!$B$20,5,2),LEFT('1 - Opstart Importark'!$B$28,3),IF(I985=\"\",\"\",\"-\"),I985,IF(K985=\"\",\"\",\"-\"),K985,IF(M985=\"\",\"\",\"-\"),M985),CONCATENATE(LEFT('1 - Opstart Importark'!$B$3,1),(LEFT('1 - Opstart Importark'!$B$15,5)),(LEFT('1 - Opstart Importark'!$B$18,3)),IF(I985=\"\",\"\",\"-\"),I985,IF(K985=\"\",\"\",\"-\"),K985,IF(M985=\"\",\"\",\"-\"),M985))))","v":""},null," ",{"$nulls":9},{"$f":"IF(LEN('1 - Opstart Importark'!$B$6)>0,'1 - Opstart Importark'!$B$6,\"\")","v":""},{"$f":"IF(LEN('1 - Opstart Importark'!$B$9)>0,'1 - Opstart Importark'!$B$9,\"\")","v":""},{"$f":"IF(LEN('1 - Opstart Importark'!$B$23)>0,'1 - Opstart Importark'!$B$23,\"\")","v":""},{"$nulls":14},"",{"$nulls":8},0,"","","objektnogle_"]
[974,null,{"$f":"IF('1 - Opstart Importark'!$B$6=\"\",\"\",(IF('1 - Opstart Importark'!$B$15=\"\",CONCATENATE(LEFT('1 - Opstart Importark'!$B$3,1),(LEFT('1 - Opstart Importark'!$B$20,5)),MID('1 - Opstart Importark'!$B$20,5,2),LEFT('1 - Opstart Importark'!$B$28,3),IF(I986=\"\",\"\",\"-\"),I986,IF(K986=\"\",\"\",\"-\"),K986,IF(M986=\"\",\"\",\"-\"),M986),CONCATENATE(LEFT('1 - Opstart Importark'!$B$3,1),(LEFT('1 - Opstart Importark'!$B$15,5)),(LEFT('1 - Opstart Importark'!$B$18,3)),IF(I986=\"\",\"\",\"-\"),I986,IF(K986=\"\",\"\",\"-\"),K986,IF(M986=\"\",\"\",\"-\"),M986))))","v":""},null," ",{"$nulls":9},{"$f":"IF(LEN('1 - Opstart Importark'!$B$6)>0,'1 - Opstart Importark'!$B$6,\"\")","v":""},{"$f":"IF(LEN('1 - Opstart Importark'!$B$9)>0,'1 - Opstart Importark'!$B$9,\"\")","v":""},{"$f":"IF(LEN('1 - Opstart Importark'!$B$23)>0,'1 - Opstart Importark'!$B$23,\"\")","v":""},{"$nulls":14},"",{"$nulls":8},0,"","","objektnogle_"]
[975,null,{"$f":"IF('1 - Opstart Importark'!$B$6=\"\",\"\",(IF('1 - Opstart Importark'!$B$15=\"\",CONCATENATE(LEFT('1 - Opstart Importark'!$B$3,1),(LEFT('1 - Opstart Importark'!$B$20,5)),MID('1 - Opstart Importark'!$B$20,5,2),LEFT('1 - Opstart Importark'!$B$28,3),IF(I987=\"\",\"\",\"-\"),I987,IF(K987=\"\",\"\",\"-\"),K987,IF(M987=\"\",\"\",\"-\"),M987),CONCATENATE(LEFT('1 - Opstart Importark'!$B$3,1),(LEFT('1 - Opstart Importark'!$B$15,5)),(LEFT('1 - Opstart Importark'!$B$18,3)),IF(I987=\"\",\"\",\"-\"),I987,IF(K987=\"\",\"\",\"-\"),K987,IF(M987=\"\",\"\",\"-\"),M987))))","v":""},null," ",{"$nulls":9},{"$f":"IF(LEN('1 - Opstart Importark'!$B$6)>0,'1 - Opstart Importark'!$B$6,\"\")","v":""},{"$f":"IF(LEN('1 - Opstart Importark'!$B$9)>0,'1 - Opstart Importark'!$B$9,\"\")","v":""},{"$f":"IF(LEN('1 - Opstart Importark'!$B$23)>0,'1 - Opstart Importark'!$B$23,\"\")","v":""},{"$nulls":14},"",{"$nulls":8},0,"","","objektnogle_"]
[976,null,{"$f":"IF('1 - Opstart Importark'!$B$6=\"\",\"\",(IF('1 - Opstart Importark'!$B$15=\"\",CONCATENATE(LEFT('1 - Opstart Importark'!$B$3,1),(LEFT('1 - Opstart Importark'!$B$20,5)),MID('1 - Opstart Importark'!$B$20,5,2),LEFT('1 - Opstart Importark'!$B$28,3),IF(I988=\"\",\"\",\"-\"),I988,IF(K988=\"\",\"\",\"-\"),K988,IF(M988=\"\",\"\",\"-\"),M988),CONCATENATE(LEFT('1 - Opstart Importark'!$B$3,1),(LEFT('1 - Opstart Importark'!$B$15,5)),(LEFT('1 - Opstart Importark'!$B$18,3)),IF(I988=\"\",\"\",\"-\"),I988,IF(K988=\"\",\"\",\"-\"),K988,IF(M988=\"\",\"\",\"-\"),M988))))","v":""},null," ",{"$nulls":9},{"$f":"IF(LEN('1 - Opstart Importark'!$B$6)>0,'1 - Opstart Importark'!$B$6,\"\")","v":""},{"$f":"IF(LEN('1 - Opstart Importark'!$B$9)>0,'1 - Opstart Importark'!$B$9,\"\")","v":""},{"$f":"IF(LEN('1 - Opstart Importark'!$B$23)>0,'1 - Opstart Importark'!$B$23,\"\")","v":""},{"$nulls":14},"",{"$nulls":8},0,"","","objektnogle_"]
[977,null,{"$f":"IF('1 - Opstart Importark'!$B$6=\"\",\"\",(IF('1 - Opstart Importark'!$B$15=\"\",CONCATENATE(LEFT('1 - Opstart Importark'!$B$3,1),(LEFT('1 - Opstart Importark'!$B$20,5)),MID('1 - Opstart Importark'!$B$20,5,2),LEFT('1 - Opstart Importark'!$B$28,3),IF(I989=\"\",\"\",\"-\"),I989,IF(K989=\"\",\"\",\"-\"),K989,IF(M989=\"\",\"\",\"-\"),M989),CONCATENATE(LEFT('1 - Opstart Importark'!$B$3,1),(LEFT('1 - Opstart Importark'!$B$15,5)),(LEFT('1 - Opstart Importark'!$B$18,3)),IF(I989=\"\",\"\",\"-\"),I989,IF(K989=\"\",\"\",\"-\"),K989,IF(M989=\"\",\"\",\"-\"),M989))))","v":""},null," ",{"$nulls":9},{"$f":"IF(LEN('1 - Opstart Importark'!$B$6)>0,'1 - Opstart Importark'!$B$6,\"\")","v":""},{"$f":"IF(LEN('1 - Opstart Importark'!$B$9)>0,'1 - Opstart Importark'!$B$9,\"\")","v":""},{"$f":"IF(LEN('1 - Opstart Importark'!$B$23)>0,'1 - Opstart Importark'!$B$23,\"\")","v":""},{"$nulls":14},"",{"$nulls":8},0,"","","objektnogle_"]
[978,null,{"$f":"IF('1 - Opstart Importark'!$B$6=\"\",\"\",(IF('1 - Opstart Importark'!$B$15=\"\",CONCATENATE(LEFT('1 - Opstart Importark'!$B$3,1),(LEFT('1 - Opstart Importark'!$B$20,5)),MID('1 - Opstart Importark'!$B$20,5,2),LEFT('1 - Opstart Importark'!$B$28,3),IF(I990=\"\",\"\",\"-\"),I990,IF(K990=\"\",\"\",\"-\"),K990,IF(M990=\"\",\"\",\"-\"),M990),CONCATENATE(LEFT('1 - Opstart Importark'!$B$3,1),(LEFT('1 - Opstart Importark'!$B$15,5)),(LEFT('1 - Opstart Importark'!$B$18,3)),IF(I990=\"\",\"\",\"-\"),I990,IF(K990=\"\",\"\",\"-\"),K990,IF(M990=\"\",\"\",\"-\"),M990))))","v":""},null," ",{"$nulls":9},{"$f":"IF(LEN('1 - Opstart Importark'!$B$6)>0,'1 - Opstart Importark'!$B$6,\"\")","v":""},{"$f":"IF(LEN('1 - Opstart Importark'!$B$9)>0,'1 - Opstart Importark'!$B$9,\"\")","v":""},{"$f":"IF(LEN('1 - Opstart Importark'!$B$23)>0,'1 - Opstart Importark'!$B$23,\"\")","v":""},{"$nulls":14},"",{"$nulls":8},0,"","","objektnogle_"]
[979,null,{"$f":"IF('1 - Opstart Importark'!$B$6=\"\",\"\",(IF('1 - Opstart Importark'!$B$15=\"\",CONCATENATE(LEFT('1 - Opstart Importark'!$B$3,1),(LEFT('1 - Opstart Importark'!$B$20,5)),MID('1 - Opstart Importark'!$B$20,5,2),LEFT('1 - Opstart Importark'!$B$28,3),IF(I991=\"\",\"\",\"-\"),I991,IF(K991=\"\",\"\",\"-\"),K991,IF(M991=\"\",\"\",\"-\"),M991),CONCATENATE(LEFT('1 - Opstart Importark'!$B$3,1),(LEFT('1 - Opstart Importark'!$B$15,5)),(LEFT('1 - Opstart Importark'!$B$18,3)),IF(I991=\"\",\"\",\"-\"),I991,IF(K991=\"\",\"\",\"-\"),K991,IF(M991=\"\",\"\",\"-\"),M991))))","v":""},null," ",{"$nulls":9},{"$f":"IF(LEN('1 - Opstart Importark'!$B$6)>0,'1 - Opstart Importark'!$B$6,\"\")","v":""},{"$f":"IF(LEN('1 - Opstart Importark'!$B$9)>0,'1 - Opstart Importark'!$B$9,\"\")","v":""},{"$f":"IF(LEN('1 - Opstart Importark'!$B$23)>0,'1 - Opstart Importark'!$B$23,\"\")","v":""},{"$nulls":14},"",{"$nulls":8},0,"","","objektnogle_"]
[980,null,{"$f":"IF('1 - Opstart Importark'!$B$6=\"\",\"\",(IF('1 - Opstart Importark'!$B$15=\"\",CONCATENATE(LEFT('1 - Opstart Importark'!$B$3,1),(LEFT('1 - Opstart Importark'!$B$20,5)),MID('1 - Opstart Importark'!$B$20,5,2),LEFT('1 - Opstart Importark'!$B$28,3),IF(I992=\"\",\"\",\"-\"),I992,IF(K992=\"\",\"\",\"-\"),K992,IF(M992=\"\",\"\",\"-\"),M992),CONCATENATE(LEFT('1 - Opstart Importark'!$B$3,1),(LEFT('1 - Opstart Importark'!$B$15,5)),(LEFT('1 - Opstart Importark'!$B$18,3)),IF(I992=\"\",\"\",\"-\"),I992,IF(K992=\"\",\"\",\"-\"),K992,IF(M992=\"\",\"\",\"-\"),M992))))","v":""},null," ",{"$nulls":9},{"$f":"IF(LEN('1 - Opstart Importark'!$B$6)>0,'1 - Opstart Importark'!$B$6,\"\")","v":""},{"$f":"IF(LEN('1 - Opstart Importark'!$B$9)>0,'1 - Opstart Importark'!$B$9,\"\")","v":""},{"$f":"IF(LEN('1 - Opstart Importark'!$B$23)>0,'1 - Opstart Importark'!$B$23,\"\")","v":""},{"$nulls":14},"",{"$nulls":8},0,"","","objektnogle_"]
[981,null,{"$f":"IF('1 - Opstart Importark'!$B$6=\"\",\"\",(IF('1 - Opstart Importark'!$B$15=\"\",CONCATENATE(LEFT('1 - Opstart Importark'!$B$3,1),(LEFT('1 - Opstart Importark'!$B$20,5)),MID('1 - Opstart Importark'!$B$20,5,2),LEFT('1 - Opstart Importark'!$B$28,3),IF(I993=\"\",\"\",\"-\"),I993,IF(K993=\"\",\"\",\"-\"),K993,IF(M993=\"\",\"\",\"-\"),M993),CONCATENATE(LEFT('1 - Opstart Importark'!$B$3,1),(LEFT('1 - Opstart Importark'!$B$15,5)),(LEFT('1 - Opstart Importark'!$B$18,3)),IF(I993=\"\",\"\",\"-\"),I993,IF(K993=\"\",\"\",\"-\"),K993,IF(M993=\"\",\"\",\"-\"),M993))))","v":""},null," ",{"$nulls":9},{"$f":"IF(LEN('1 - Opstart Importark'!$B$6)>0,'1 - Opstart Importark'!$B$6,\"\")","v":""},{"$f":"IF(LEN('1 - Opstart Importark'!$B$9)>0,'1 - Opstart Importark'!$B$9,\"\")","v":""},{"$f":"IF(LEN('1 - Opstart Importark'!$B$23)>0,'1 - Opstart Importark'!$B$23,\"\")","v":""},{"$nulls":14},"",{"$nulls":8},0,"","","objektnogle_"]
[982,null,{"$f":"IF('1 - Opstart Importark'!$B$6=\"\",\"\",(IF('1 - Opstart Importark'!$B$15=\"\",CONCATENATE(LEFT('1 - Opstart Importark'!$B$3,1),(LEFT('1 - Opstart Importark'!$B$20,5)),MID('1 - Opstart Importark'!$B$20,5,2),LEFT('1 - Opstart Importark'!$B$28,3),IF(I994=\"\",\"\",\"-\"),I994,IF(K994=\"\",\"\",\"-\"),K994,IF(M994=\"\",\"\",\"-\"),M994),CONCATENATE(LEFT('1 - Opstart Importark'!$B$3,1),(LEFT('1 - Opstart Importark'!$B$15,5)),(LEFT('1 - Opstart Importark'!$B$18,3)),IF(I994=\"\",\"\",\"-\"),I994,IF(K994=\"\",\"\",\"-\"),K994,IF(M994=\"\",\"\",\"-\"),M994))))","v":""},null," ",{"$nulls":9},{"$f":"IF(LEN('1 - Opstart Importark'!$B$6)>0,'1 - Opstart Importark'!$B$6,\"\")","v":""},{"$f":"IF(LEN('1 - Opstart Importark'!$B$9)>0,'1 - Opstart Importark'!$B$9,\"\")","v":""},{"$f":"IF(LEN('1 - Opstart Importark'!$B$23)>0,'1 - Opstart Importark'!$B$23,\"\")","v":""},{"$nulls":14},"",{"$nulls":8},0,"","","objektnogle_"]
[983,null,{"$f":"IF('1 - Opstart Importark'!$B$6=\"\",\"\",(IF('1 - Opstart Importark'!$B$15=\"\",CONCATENATE(LEFT('1 - Opstart Importark'!$B$3,1),(LEFT('1 - Opstart Importark'!$B$20,5)),MID('1 - Opstart Importark'!$B$20,5,2),LEFT('1 - Opstart Importark'!$B$28,3),IF(I995=\"\",\"\",\"-\"),I995,IF(K995=\"\",\"\",\"-\"),K995,IF(M995=\"\",\"\",\"-\"),M995),CONCATENATE(LEFT('1 - Opstart Importark'!$B$3,1),(LEFT('1 - Opstart Importark'!$B$15,5)),(LEFT('1 - Opstart Importark'!$B$18,3)),IF(I995=\"\",\"\",\"-\"),I995,IF(K995=\"\",\"\",\"-\"),K995,IF(M995=\"\",\"\",\"-\"),M995))))","v":""},null," ",{"$nulls":9},{"$f":"IF(LEN('1 - Opstart Importark'!$B$6)>0,'1 - Opstart Importark'!$B$6,\"\")","v":""},{"$f":"IF(LEN('1 - Opstart Importark'!$B$9)>0,'1 - Opstart Importark'!$B$9,\"\")","v":""},{"$f":"IF(LEN('1 - Opstart Importark'!$B$23)>0,'1 - Opstart Importark'!$B$23,\"\")","v":""},{"$nulls":14},"",{"$nulls":8},0,"","","objektnogle_"]
[984,null,{"$f":"IF('1 - Opstart Importark'!$B$6=\"\",\"\",(IF('1 - Opstart Importark'!$B$15=\"\",CONCATENATE(LEFT('1 - Opstart Importark'!$B$3,1),(LEFT('1 - Opstart Importark'!$B$20,5)),MID('1 - Opstart Importark'!$B$20,5,2),LEFT('1 - Opstart Importark'!$B$28,3),IF(I996=\"\",\"\",\"-\"),I996,IF(K996=\"\",\"\",\"-\"),K996,IF(M996=\"\",\"\",\"-\"),M996),CONCATENATE(LEFT('1 - Opstart Importark'!$B$3,1),(LEFT('1 - Opstart Importark'!$B$15,5)),(LEFT('1 - Opstart Importark'!$B$18,3)),IF(I996=\"\",\"\",\"-\"),I996,IF(K996=\"\",\"\",\"-\"),K996,IF(M996=\"\",\"\",\"-\"),M996))))","v":""},null," ",{"$nulls":9},{"$f":"IF(LEN('1 - Opstart Importark'!$B$6)>0,'1 - Opstart Importark'!$B$6,\"\")","v":""},{"$f":"IF(LEN('1 - Opstart Importark'!$B$9)>0,'1 - Opstart Importark'!$B$9,\"\")","v":""},{"$f":"IF(LEN('1 - Opstart Importark'!$B$23)>0,'1 - Opstart Importark'!$B$23,\"\")","v":""},{"$nulls":14},"",{"$nulls":8},0,"","","objektnogle_"]
[985,null,{"$f":"IF('1 - Opstart Importark'!$B$6=\"\",\"\",(IF('1 - Opstart Importark'!$B$15=\"\",CONCATENATE(LEFT('1 - Opstart Importark'!$B$3,1),(LEFT('1 - Opstart Importark'!$B$20,5)),MID('1 - Opstart Importark'!$B$20,5,2),LEFT('1 - Opstart Importark'!$B$28,3),IF(I997=\"\",\"\",\"-\"),I997,IF(K997=\"\",\"\",\"-\"),K997,IF(M997=\"\",\"\",\"-\"),M997),CONCATENATE(LEFT('1 - Opstart Importark'!$B$3,1),(LEFT('1 - Opstart Importark'!$B$15,5)),(LEFT('1 - Opstart Importark'!$B$18,3)),IF(I997=\"\",\"\",\"-\"),I997,IF(K997=\"\",\"\",\"-\"),K997,IF(M997=\"\",\"\",\"-\"),M997))))","v":""},null," ",{"$nulls":9},{"$f":"IF(LEN('1 - Opstart Importark'!$B$6)>0,'1 - Opstart Importark'!$B$6,\"\")","v":""},{"$f":"IF(LEN('1 - Opstart Importark'!$B$9)>0,'1 - Opstart Importark'!$B$9,\"\")","v":""},{"$f":"IF(LEN('1 - Opstart Importark'!$B$23)>0,'1 - Opstart Importark'!$B$23,\"\")","v":""},{"$nulls":14},"",{"$nulls":8},0,"","","objektnogle_"]
[986,null,{"$f":"IF('1 - Opstart Importark'!$B$6=\"\",\"\",(IF('1 - Opstart Importark'!$B$15=\"\",CONCATENATE(LEFT('1 - Opstart Importark'!$B$3,1),(LEFT('1 - Opstart Importark'!$B$20,5)),MID('1 - Opstart Importark'!$B$20,5,2),LEFT('1 - Opstart Importark'!$B$28,3),IF(I998=\"\",\"\",\"-\"),I998,IF(K998=\"\",\"\",\"-\"),K998,IF(M998=\"\",\"\",\"-\"),M998),CONCATENATE(LEFT('1 - Opstart Importark'!$B$3,1),(LEFT('1 - Opstart Importark'!$B$15,5)),(LEFT('1 - Opstart Importark'!$B$18,3)),IF(I998=\"\",\"\",\"-\"),I998,IF(K998=\"\",\"\",\"-\"),K998,IF(M998=\"\",\"\",\"-\"),M998))))","v":""},null," ",{"$nulls":9},{"$f":"IF(LEN('1 - Opstart Importark'!$B$6)>0,'1 - Opstart Importark'!$B$6,\"\")","v":""},{"$f":"IF(LEN('1 - Opstart Importark'!$B$9)>0,'1 - Opstart Importark'!$B$9,\"\")","v":""},{"$f":"IF(LEN('1 - Opstart Importark'!$B$23)>0,'1 - Opstart Importark'!$B$23,\"\")","v":""},{"$nulls":14},"",{"$nulls":8},0,"","","objektnogle_"]
[987,null,{"$f":"IF('1 - Opstart Importark'!$B$6=\"\",\"\",(IF('1 - Opstart Importark'!$B$15=\"\",CONCATENATE(LEFT('1 - Opstart Importark'!$B$3,1),(LEFT('1 - Opstart Importark'!$B$20,5)),MID('1 - Opstart Importark'!$B$20,5,2),LEFT('1 - Opstart Importark'!$B$28,3),IF(I999=\"\",\"\",\"-\"),I999,IF(K999=\"\",\"\",\"-\"),K999,IF(M999=\"\",\"\",\"-\"),M999),CONCATENATE(LEFT('1 - Opstart Importark'!$B$3,1),(LEFT('1 - Opstart Importark'!$B$15,5)),(LEFT('1 - Opstart Importark'!$B$18,3)),IF(I999=\"\",\"\",\"-\"),I999,IF(K999=\"\",\"\",\"-\"),K999,IF(M999=\"\",\"\",\"-\"),M999))))","v":""},null," ",{"$nulls":9},{"$f":"IF(LEN('1 - Opstart Importark'!$B$6)>0,'1 - Opstart Importark'!$B$6,\"\")","v":""},{"$f":"IF(LEN('1 - Opstart Importark'!$B$9)>0,'1 - Opstart Importark'!$B$9,\"\")","v":""},{"$f":"IF(LEN('1 - Opstart Importark'!$B$23)>0,'1 - Opstart Importark'!$B$23,\"\")","v":""},{"$nulls":14},"",{"$nulls":8},0,"","","objektnogle_"]
[988,null,{"$f":"IF('1 - Opstart Importark'!$B$6=\"\",\"\",(IF('1 - Opstart Importark'!$B$15=\"\",CONCATENATE(LEFT('1 - Opstart Importark'!$B$3,1),(LEFT('1 - Opstart Importark'!$B$20,5)),MID('1 - Opstart Importark'!$B$20,5,2),LEFT('1 - Opstart Importark'!$B$28,3),IF(I1000=\"\",\"\",\"-\"),I1000,IF(K1000=\"\",\"\",\"-\"),K1000,IF(M1000=\"\",\"\",\"-\"),M1000),CONCATENATE(LEFT('1 - Opstart Importark'!$B$3,1),(LEFT('1 - Opstart Importark'!$B$15,5)),(LEFT('1 - Opstart Importark'!$B$18,3)),IF(I1000=\"\",\"\",\"-\"),I1000,IF(K1000=\"\",\"\",\"-\"),K1000,IF(M1000=\"\",\"\",\"-\"),M1000))))","v":""},null," ",{"$nulls":9},{"$f":"IF(LEN('1 - Opstart Importark'!$B$6)>0,'1 - Opstart Importark'!$B$6,\"\")","v":""},{"$f":"IF(LEN('1 - Opstart Importark'!$B$9)>0,'1 - Opstart Importark'!$B$9,\"\")","v":""},{"$f":"IF(LEN('1 - Opstart Importark'!$B$23)>0,'1 - Opstart Importark'!$B$23,\"\")","v":""},{"$nulls":14},"",{"$nulls":8},0,"","","objektnogle_"]
[989,null,{"$f":"IF('1 - Opstart Importark'!$B$6=\"\",\"\",(IF('1 - Opstart Importark'!$B$15=\"\",CONCATENATE(LEFT('1 - Opstart Importark'!$B$3,1),(LEFT('1 - Opstart Importark'!$B$20,5)),MID('1 - Opstart Importark'!$B$20,5,2),LEFT('1 - Opstart Importark'!$B$28,3),IF(I1001=\"\",\"\",\"-\"),I1001,IF(K1001=\"\",\"\",\"-\"),K1001,IF(M1001=\"\",\"\",\"-\"),M1001),CONCATENATE(LEFT('1 - Opstart Importark'!$B$3,1),(LEFT('1 - Opstart Importark'!$B$15,5)),(LEFT('1 - Opstart Importark'!$B$18,3)),IF(I1001=\"\",\"\",\"-\"),I1001,IF(K1001=\"\",\"\",\"-\"),K1001,IF(M1001=\"\",\"\",\"-\"),M1001))))","v":""},null," ",{"$nulls":9},{"$f":"IF(LEN('1 - Opstart Importark'!$B$6)>0,'1 - Opstart Importark'!$B$6,\"\")","v":""},{"$f":"IF(LEN('1 - Opstart Importark'!$B$9)>0,'1 - Opstart Importark'!$B$9,\"\")","v":""},{"$f":"IF(LEN('1 - Opstart Importark'!$B$23)>0,'1 - Opstart Importark'!$B$23,\"\")","v":""},{"$nulls":14},"",{"$nulls":8},0,"","","objektnogle_"]
[990,null,{"$f":"IF('1 - Opstart Importark'!$B$6=\"\",\"\",(IF('1 - Opstart Importark'!$B$15=\"\",CONCATENATE(LEFT('1 - Opstart Importark'!$B$3,1),(LEFT('1 - Opstart Importark'!$B$20,5)),MID('1 - Opstart Importark'!$B$20,5,2),LEFT('1 - Opstart Importark'!$B$28,3),IF(I1002=\"\",\"\",\"-\"),I1002,IF(K1002=\"\",\"\",\"-\"),K1002,IF(M1002=\"\",\"\",\"-\"),M1002),CONCATENATE(LEFT('1 - Opstart Importark'!$B$3,1),(LEFT('1 - Opstart Importark'!$B$15,5)),(LEFT('1 - Opstart Importark'!$B$18,3)),IF(I1002=\"\",\"\",\"-\"),I1002,IF(K1002=\"\",\"\",\"-\"),K1002,IF(M1002=\"\",\"\",\"-\"),M1002))))","v":""},null," ",{"$nulls":9},{"$f":"IF(LEN('1 - Opstart Importark'!$B$6)>0,'1 - Opstart Importark'!$B$6,\"\")","v":""},{"$f":"IF(LEN('1 - Opstart Importark'!$B$9)>0,'1 - Opstart Importark'!$B$9,\"\")","v":""},{"$f":"IF(LEN('1 - Opstart Importark'!$B$23)>0,'1 - Opstart Importark'!$B$23,\"\")","v":""},{"$nulls":14},"",{"$nulls":8},0,"","","objektnogle_"]
[991,null,{"$f":"IF('1 - Opstart Importark'!$B$6=\"\",\"\",(IF('1 - Opstart Importark'!$B$15=\"\",CONCATENATE(LEFT('1 - Opstart Importark'!$B$3,1),(LEFT('1 - Opstart Importark'!$B$20,5)),MID('1 - Opstart Importark'!$B$20,5,2),LEFT('1 - Opstart Importark'!$B$28,3),IF(I1003=\"\",\"\",\"-\"),I1003,IF(K1003=\"\",\"\",\"-\"),K1003,IF(M1003=\"\",\"\",\"-\"),M1003),CONCATENATE(LEFT('1 - Opstart Importark'!$B$3,1),(LEFT('1 - Opstart Importark'!$B$15,5)),(LEFT('1 - Opstart Importark'!$B$18,3)),IF(I1003=\"\",\"\",\"-\"),I1003,IF(K1003=\"\",\"\",\"-\"),K1003,IF(M1003=\"\",\"\",\"-\"),M1003))))","v":""},null," ",{"$nulls":9},{"$f":"IF(LEN('1 - Opstart Importark'!$B$6)>0,'1 - Opstart Importark'!$B$6,\"\")","v":""},{"$f":"IF(LEN('1 - Opstart Importark'!$B$9)>0,'1 - Opstart Importark'!$B$9,\"\")","v":""},{"$f":"IF(LEN('1 - Opstart Importark'!$B$23)>0,'1 - Opstart Importark'!$B$23,\"\")","v":""},{"$nulls":14},"",{"$nulls":8},0,"","","objektnogle_"]
[992,null,{"$f":"IF('1 - Opstart Importark'!$B$6=\"\",\"\",(IF('1 - Opstart Importark'!$B$15=\"\",CONCATENATE(LEFT('1 - Opstart Importark'!$B$3,1),(LEFT('1 - Opstart Importark'!$B$20,5)),MID('1 - Opstart Importark'!$B$20,5,2),LEFT('1 - Opstart Importark'!$B$28,3),IF(I1004=\"\",\"\",\"-\"),I1004,IF(K1004=\"\",\"\",\"-\"),K1004,IF(M1004=\"\",\"\",\"-\"),M1004),CONCATENATE(LEFT('1 - Opstart Importark'!$B$3,1),(LEFT('1 - Opstart Importark'!$B$15,5)),(LEFT('1 - Opstart Importark'!$B$18,3)),IF(I1004=\"\",\"\",\"-\"),I1004,IF(K1004=\"\",\"\",\"-\"),K1004,IF(M1004=\"\",\"\",\"-\"),M1004))))","v":""},null," ",{"$nulls":9},{"$f":"IF(LEN('1 - Opstart Importark'!$B$6)>0,'1 - Opstart Importark'!$B$6,\"\")","v":""},{"$f":"IF(LEN('1 - Opstart Importark'!$B$9)>0,'1 - Opstart Importark'!$B$9,\"\")","v":""},{"$f":"IF(LEN('1 - Opstart Importark'!$B$23)>0,'1 - Opstart Importark'!$B$23,\"\")","v":""},{"$nulls":14},"",{"$nulls":8},0,"","","objektnogle_"]
[993,null,{"$f":"IF('1 - Opstart Importark'!$B$6=\"\",\"\",(IF('1 - Opstart Importark'!$B$15=\"\",CONCATENATE(LEFT('1 - Opstart Importark'!$B$3,1),(LEFT('1 - Opstart Importark'!$B$20,5)),MID('1 - Opstart Importark'!$B$20,5,2),LEFT('1 - Opstart Importark'!$B$28,3),IF(I1005=\"\",\"\",\"-\"),I1005,IF(K1005=\"\",\"\",\"-\"),K1005,IF(M1005=\"\",\"\",\"-\"),M1005),CONCATENATE(LEFT('1 - Opstart Importark'!$B$3,1),(LEFT('1 - Opstart Importark'!$B$15,5)),(LEFT('1 - Opstart Importark'!$B$18,3)),IF(I1005=\"\",\"\",\"-\"),I1005,IF(K1005=\"\",\"\",\"-\"),K1005,IF(M1005=\"\",\"\",\"-\"),M1005))))","v":""},null," ",{"$nulls":9},{"$f":"IF(LEN('1 - Opstart Importark'!$B$6)>0,'1 - Opstart Importark'!$B$6,\"\")","v":""},{"$f":"IF(LEN('1 - Opstart Importark'!$B$9)>0,'1 - Opstart Importark'!$B$9,\"\")","v":""},{"$f":"IF(LEN('1 - Opstart Importark'!$B$23)>0,'1 - Opstart Importark'!$B$23,\"\")","v":""},{"$nulls":14},"",{"$nulls":8},0,"","","objektnogle_"]
[994,null,{"$f":"IF('1 - Opstart Importark'!$B$6=\"\",\"\",(IF('1 - Opstart Importark'!$B$15=\"\",CONCATENATE(LEFT('1 - Opstart Importark'!$B$3,1),(LEFT('1 - Opstart Importark'!$B$20,5)),MID('1 - Opstart Importark'!$B$20,5,2),LEFT('1 - Opstart Importark'!$B$28,3),IF(I1006=\"\",\"\",\"-\"),I1006,IF(K1006=\"\",\"\",\"-\"),K1006,IF(M1006=\"\",\"\",\"-\"),M1006),CONCATENATE(LEFT('1 - Opstart Importark'!$B$3,1),(LEFT('1 - Opstart Importark'!$B$15,5)),(LEFT('1 - Opstart Importark'!$B$18,3)),IF(I1006=\"\",\"\",\"-\"),I1006,IF(K1006=\"\",\"\",\"-\"),K1006,IF(M1006=\"\",\"\",\"-\"),M1006))))","v":""},null," ",{"$nulls":9},{"$f":"IF(LEN('1 - Opstart Importark'!$B$6)>0,'1 - Opstart Importark'!$B$6,\"\")","v":""},{"$f":"IF(LEN('1 - Opstart Importark'!$B$9)>0,'1 - Opstart Importark'!$B$9,\"\")","v":""},{"$f":"IF(LEN('1 - Opstart Importark'!$B$23)>0,'1 - Opstart Importark'!$B$23,\"\")","v":""},{"$nulls":14},"",{"$nulls":8},0,"","","objektnogle_"]
[995,null,{"$f":"IF('1 - Opstart Importark'!$B$6=\"\",\"\",(IF('1 - Opstart Importark'!$B$15=\"\",CONCATENATE(LEFT('1 - Opstart Importark'!$B$3,1),(LEFT('1 - Opstart Importark'!$B$20,5)),MID('1 - Opstart Importark'!$B$20,5,2),LEFT('1 - Opstart Importark'!$B$28,3),IF(I1007=\"\",\"\",\"-\"),I1007,IF(K1007=\"\",\"\",\"-\"),K1007,IF(M1007=\"\",\"\",\"-\"),M1007),CONCATENATE(LEFT('1 - Opstart Importark'!$B$3,1),(LEFT('1 - Opstart Importark'!$B$15,5)),(LEFT('1 - Opstart Importark'!$B$18,3)),IF(I1007=\"\",\"\",\"-\"),I1007,IF(K1007=\"\",\"\",\"-\"),K1007,IF(M1007=\"\",\"\",\"-\"),M1007))))","v":""},null," ",{"$nulls":9},{"$f":"IF(LEN('1 - Opstart Importark'!$B$6)>0,'1 - Opstart Importark'!$B$6,\"\")","v":""},{"$f":"IF(LEN('1 - Opstart Importark'!$B$9)>0,'1 - Opstart Importark'!$B$9,\"\")","v":""},{"$f":"IF(LEN('1 - Opstart Importark'!$B$23)>0,'1 - Opstart Importark'!$B$23,\"\")","v":""},{"$nulls":14},"",{"$nulls":8},0,"","","objektnogle_"]
[996,null,{"$f":"IF('1 - Opstart Importark'!$B$6=\"\",\"\",(IF('1 - Opstart Importark'!$B$15=\"\",CONCATENATE(LEFT('1 - Opstart Importark'!$B$3,1),(LEFT('1 - Opstart Importark'!$B$20,5)),MID('1 - Opstart Importark'!$B$20,5,2),LEFT('1 - Opstart Importark'!$B$28,3),IF(I1008=\"\",\"\",\"-\"),I1008,IF(K1008=\"\",\"\",\"-\"),K1008,IF(M1008=\"\",\"\",\"-\"),M1008),CONCATENATE(LEFT('1 - Opstart Importark'!$B$3,1),(LEFT('1 - Opstart Importark'!$B$15,5)),(LEFT('1 - Opstart Importark'!$B$18,3)),IF(I1008=\"\",\"\",\"-\"),I1008,IF(K1008=\"\",\"\",\"-\"),K1008,IF(M1008=\"\",\"\",\"-\"),M1008))))","v":""},null," ",{"$nulls":9},{"$f":"IF(LEN('1 - Opstart Importark'!$B$6)>0,'1 - Opstart Importark'!$B$6,\"\")","v":""},{"$f":"IF(LEN('1 - Opstart Importark'!$B$9)>0,'1 - Opstart Importark'!$B$9,\"\")","v":""},{"$f":"IF(LEN('1 - Opstart Importark'!$B$23)>0,'1 - Opstart Importark'!$B$23,\"\")","v":""},{"$nulls":14},"",{"$nulls":8},0,"","","objektnogle_"]
[997,null,{"$f":"IF('1 - Opstart Importark'!$B$6=\"\",\"\",(IF('1 - Opstart Importark'!$B$15=\"\",CONCATENATE(LEFT('1 - Opstart Importark'!$B$3,1),(LEFT('1 - Opstart Importark'!$B$20,5)),MID('1 - Opstart Importark'!$B$20,5,2),LEFT('1 - Opstart Importark'!$B$28,3),IF(I1009=\"\",\"\",\"-\"),I1009,IF(K1009=\"\",\"\",\"-\"),K1009,IF(M1009=\"\",\"\",\"-\"),M1009),CONCATENATE(LEFT('1 - Opstart Importark'!$B$3,1),(LEFT('1 - Opstart Importark'!$B$15,5)),(LEFT('1 - Opstart Importark'!$B$18,3)),IF(I1009=\"\",\"\",\"-\"),I1009,IF(K1009=\"\",\"\",\"-\"),K1009,IF(M1009=\"\",\"\",\"-\"),M1009))))","v":""},null," ",{"$nulls":9},{"$f":"IF(LEN('1 - Opstart Importark'!$B$6)>0,'1 - Opstart Importark'!$B$6,\"\")","v":""},{"$f":"IF(LEN('1 - Opstart Importark'!$B$9)>0,'1 - Opstart Importark'!$B$9,\"\")","v":""},{"$f":"IF(LEN('1 - Opstart Importark'!$B$23)>0,'1 - Opstart Importark'!$B$23,\"\")","v":""},{"$nulls":14},"",{"$nulls":8},0,"","","objektnogle_"]
[998,null,{"$f":"IF('1 - Opstart Importark'!$B$6=\"\",\"\",(IF('1 - Opstart Importark'!$B$15=\"\",CONCATENATE(LEFT('1 - Opstart Importark'!$B$3,1),(LEFT('1 - Opstart Importark'!$B$20,5)),MID('1 - Opstart Importark'!$B$20,5,2),LEFT('1 - Opstart Importark'!$B$28,3),IF(I1010=\"\",\"\",\"-\"),I1010,IF(K1010=\"\",\"\",\"-\"),K1010,IF(M1010=\"\",\"\",\"-\"),M1010),CONCATENATE(LEFT('1 - Opstart Importark'!$B$3,1),(LEFT('1 - Opstart Importark'!$B$15,5)),(LEFT('1 - Opstart Importark'!$B$18,3)),IF(I1010=\"\",\"\",\"-\"),I1010,IF(K1010=\"\",\"\",\"-\"),K1010,IF(M1010=\"\",\"\",\"-\"),M1010))))","v":""},null," ",{"$nulls":9},{"$f":"IF(LEN('1 - Opstart Importark'!$B$6)>0,'1 - Opstart Importark'!$B$6,\"\")","v":""},{"$f":"IF(LEN('1 - Opstart Importark'!$B$9)>0,'1 - Opstart Importark'!$B$9,\"\")","v":""},{"$f":"IF(LEN('1 - Opstart Importark'!$B$23)>0,'1 - Opstart Importark'!$B$23,\"\")","v":""},{"$nulls":14},"",{"$nulls":8},0,"","","objektnogle_"]
[999,null,{"$f":"IF('1 - Opstart Importark'!$B$6=\"\",\"\",(IF('1 - Opstart Importark'!$B$15=\"\",CONCATENATE(LEFT('1 - Opstart Importark'!$B$3,1),(LEFT('1 - Opstart Importark'!$B$20,5)),MID('1 - Opstart Importark'!$B$20,5,2),LEFT('1 - Opstart Importark'!$B$28,3),IF(I1011=\"\",\"\",\"-\"),I1011,IF(K1011=\"\",\"\",\"-\"),K1011,IF(M1011=\"\",\"\",\"-\"),M1011),CONCATENATE(LEFT('1 - Opstart Importark'!$B$3,1),(LEFT('1 - Opstart Importark'!$B$15,5)),(LEFT('1 - Opstart Importark'!$B$18,3)),IF(I1011=\"\",\"\",\"-\"),I1011,IF(K1011=\"\",\"\",\"-\"),K1011,IF(M1011=\"\",\"\",\"-\"),M1011))))","v":""},null," ",{"$nulls":9},{"$f":"IF(LEN('1 - Opstart Importark'!$B$6)>0,'1 - Opstart Importark'!$B$6,\"\")","v":""},{"$f":"IF(LEN('1 - Opstart Importark'!$B$9)>0,'1 - Opstart Importark'!$B$9,\"\")","v":""},{"$f":"IF(LEN('1 - Opstart Importark'!$B$23)>0,'1 - Opstart Importark'!$B$23,\"\")","v":""},{"$nulls":14},"",{"$nulls":8},0,"","","objektnogle_"]
[1000,null,{"$f":"IF('1 - Opstart Importark'!$B$6=\"\",\"\",(IF('1 - Opstart Importark'!$B$15=\"\",CONCATENATE(LEFT('1 - Opstart Importark'!$B$3,1),(LEFT('1 - Opstart Importark'!$B$20,5)),MID('1 - Opstart Importark'!$B$20,5,2),LEFT('1 - Opstart Importark'!$B$28,3),IF(I1012=\"\",\"\",\"-\"),I1012,IF(K1012=\"\",\"\",\"-\"),K1012,IF(M1012=\"\",\"\",\"-\"),M1012),CONCATENATE(LEFT('1 - Opstart Importark'!$B$3,1),(LEFT('1 - Opstart Importark'!$B$15,5)),(LEFT('1 - Opstart Importark'!$B$18,3)),IF(I1012=\"\",\"\",\"-\"),I1012,IF(K1012=\"\",\"\",\"-\"),K1012,IF(M1012=\"\",\"\",\"-\"),M1012))))","v":""},null," ",{"$nulls":9},{"$f":"IF(LEN('1 - Opstart Importark'!$B$6)>0,'1 - Opstart Importark'!$B$6,\"\")","v":""},{"$f":"IF(LEN('1 - Opstart Importark'!$B$9)>0,'1 - Opstart Importark'!$B$9,\"\")","v":""},{"$f":"IF(LEN('1 - Opstart Importark'!$B$23)>0,'1 - Opstart Importark'!$B$23,\"\")","v":""},{"$nulls":14},"",{"$nulls":8},0,"","","objektnogle_"]

{"sheet":"Lokationer - Køl","index":2,"n_rows":12,"n_cols":2,"rows_kept":12,"hidden":true}
["Lokation","Lokationskode"]
[]
["AGK01 - Adelgade Kølecentral",{"$f":"LEFT(A3,5)","v":"AGK01"}]
["AGS01 - Adelgade Skakt",{"$f":"LEFT(A4,5)","v":"AGS01"}]
["FDK01 - Fælleddiget Kølecentral","FDK01"]
["FGS01 - Fredensgade Skakt","FGS01"]
["KBH01 - Kalvebod Brygge Havvandskammer","KBH01"]
["KMH01 - Kvæsthusmolen Havvandskammer","KMH01"]
["KVH01 - Kvæsthusmolen","KVH01"]
["SGK01 - Sundkrogsgade Kølecentral","SGK01"]
["TGK01 - Tietgensgade Kølecentral","TGK01"]
[null,""]

{"sheet":"Objekt key oversigt","index":3,"n_rows":96,"n_cols":28,"rows_kept":96,"hidden":true}
[null,null,"LED",null,null,"TEK",null,null,"BYG",null,null,"EL",{"$nulls":3},"SRO",null,null,"MEK",null,null,"liste"]
[null,null,"A - Overordnet ledelse",null,null,"B - Overordnet teknologi",null,null,"C - Bygning Konstruktion",null,"El","E - El & SRO",null,"SRO",null,"SRO",null,null,"M - Maskinteknik inklusiv procesteknik"]
[10120,"Plant revision",{"$nulls":18},"B","B - Overordnet teknologi"]
[12010,"Dates","Anlægsrevision",20510,"Disposal","Affald",35002,null,"Bæringer/fastgørelse",45022,null,"ADK (adgangskontrol)",{"$f":"CONCATENATE($K$2,\" - \",L4)","v":"El - ADK (adgangskontrol)"},50120,"Alarms","Alarmer",65031,null,"Aktuator",null,"C","C - Bygning Konstruktion"]
[11630,"Design, calculations, stress analysis","Datoer",21510,"Plant protection","Anlægsbeskyttelse",35013,null,"Brandmateriel",45009,null,"Aktuator",{"$f":"CONCATENATE($K$2,\" - \",L5)","v":"El - Aktuator"},50140,"Plant protection","Anlægsbeskyttelse",65007,null,"Analog regulator (selvvirkende)",null,"E","E - El & SRO"]
[11810,"Document review","Design, beregninger, stress analyser",20110,"Plant labelling","Anlægsnavngivning (TAG), opmærkning, skiltning",35016,null,"Brønd",40210,"battery chargers","Batteriladere, ladestandere","El - Batteriladere, ladestandere",50150,"Automation","Automation (SRO)",65021,null,"Analogt viserinstrument",null,"M","M - Maskinteknik inklusiv procesteknik"]
[10230,"Operation","Dokumentgennemgang",20120,"Occupational safety","Arbejdssikkerhed",30230,"Building material","Bygningsmaterialer",45021,null,"Beskyttelsesudstyr (fejlstrøm, overstrøm, overspænding)","El - Beskyttelsesudstyr (fejlstrøm, overstrøm, overspænding)",55006,null,"Frekvensomformer",65028,null,"Befugtning, affugtning"]
[10710,"Licensing procedures","Drift",21920,"Protection against internal impacts","Beskyttelse mod interne hændelser",35015,null,"Bygværk",45015,null,"Bygningsinstallationer","El - Bygningsinstallationer",55005,null,"HMI/betjeningspanel/lokal styreboks",65033,null,"Blænder, dyser"]
[10920,"Put into operation","Godkendelsesprocedurer",21930,"Protection against natural impacts","Beskyttelse mod naturlige hændelser",32010,"Doors","Døre",45018,null,"Data installationer","El - Data installationer",55013,null,"Horn",65029,null,"Dosering, opblanding"]
[10220,"Procurement","Idriftsættelse",21910,"Protection against external impacts","Beskyttelse mod ydre hændelser",35003,null,"Elevatorer",45011,null,"Fasekompensering","El - Fasekompensering",51330,"Instrumentation","Instrumentering",65013,null,"Filter/snavssamler"]
[11710,"Quality management","Indkøb",25001,null,"Boring",30610,"Facade construction","Facade",45019,null,"Fastgørelse","El - Fastgørelse",51410,"Communication systems","Kommunikationssystemer",65034,null,"Fittings"]
[11310,"Erection","Kvalitetskontrol",20230,"Fire and explosion control","Brand og eksplosionskontroludstyr",35011,null,"Faldsikring",41120,"Cable routes","Føringsveje","El - Føringsveje",52210,"Control room/stations","Kontrolrum/stationer",65026,null,"Forarbejdning (adsorption, katalyse, reduktion, knusning)"]
[10910,"Commissioning","Opførelse",20410,"Review Design review","Design evaluering",30710,"Foundation","Fundament",40520,"Power transmission","Forsyning (mellemspænding)","El - Forsyning (mellemspænding)",55003,null,"Lokal client",65009,null,"Forbrænding (olie/gas brænder"]
[11910,"Training","Opstart",22320,"In-service inspections","Inspektionsarbejde efter idrifttagelse",35018,null,"Gadeskab",42110,"Converters","Frekvensomformer, omformer","El - Frekvensomformer, omformer",55007,null,"Måler kWh",62220,null,"Forbrugsmaterialer/medier"]
[10610,"Manufacturing","Øvelse",21110,"Corrosion protection","Korrosionsbeskyttelse",30720,"Ground water-proofing","Grundvandssikring",40710,"Direct current and emergency power generation","Jævnstrøms- og nødstrømsanlæg (generator, UPS, batterier)","El - Jævnstrøms- og nødstrømsanlæg (generator, UPS, batterier)",55015,null,"Netværk",65019,null,"Fordamper"]
[11620,"Project documentation","Produktion",25002,null,"Matrikel",35010,null,"Hejseredskaber",40530,"Earthing, Lightning","Jordingsanlæg, potentialudligning","El - Jordingsanlæg, potentialudligning",55012,null,"Nødstopskreds",65022,null,"Isolering"]
[11650,"Project monitoring","Projekt dokumentation",22110,"Environmental protection","Miljøbeskyttelse",35007,null,"Inventar",41110,"Cables, lines","Kabler, forbindelser","El - Kabler, forbindelser",55014,null,"Øvrig opmærkning, advarselsskilte",65008,null,"Kedel",{"$nulls":8},"objektnogle_B"]
[10110,"Project management, administration","Projekt overvågning",21410,"Emergency","Nødberedskab",30210,"Soil investigation","Jordbund",45012,null,"Koblingsudstyr, forsyningsadskiller","El - Koblingsudstyr, forsyningsadskiller",55001,null,"Person beskyttelse (functional safety)",65014,null,"Kompensator"]
[11640,"Project control","Projektledelse, administration",20220,"Pickling, internal cleaning of systems","Præservering, indvendig rensning af systemer",35008,null,"Kloak",45005,null,"Kompressor (integreret motor)","El - Kompressor (integreret motor)",55004,null,"PLC (logikmodul)",65020,null,"Kondensator"]
[11920,"System meetings","Projektstyring",20710,"Track laying","Sporlægning, traceer",35019,null,"Kontrolrum",45002,null,"Lokalt kabinet/styreboks","El - Lokalt kabinet/styreboks",55009,null,"Positioner",65024,null,"Lyddæmper"]
[11610,"Trial operation","Systemiske møder",21210,"Noise protection","Støjbeskyttelse",35004,null,"Lejdere",40220,"Lighting, power installation","Lavspændingsinstallation","El - Lavspændingsinstallation",55011,null,"Programfiler",65030,null,"Materiale transport"]
[10930,"Maintenance","Testkørsel",25000,null,"Terræn",35005,null,"Porte",45013,null,"Måler","El - Måler",55008,null,"Regneværk/omsætter (lokalt)",65036,null,"Øvrig opmærkning, advarselsskilte"]
[null,null,"Vedligehold",20210,"Site development","udvikling af lokation",35021,null,"Procesrum",45014,null,"Måletransformer","El - Måletransformer",55016,null,"SCADA",61610,"Pumps, blowers, compressors","Pumper, ventilatorer, kompressorer"]
[{"$nulls":3},21950,"Road construction, pathway construction","Vejanlæg, midlertidige vejanlæg",35001,null,"Stålkonstruktioner",41310,"Motors","Motorer","El - Motorer",55002,null,"Server",61810,"Piping","Rørinstallation"]
[{"$nulls":6},30220,"Civil drafts, structural calculations","Statik",45003,null,"Øvrig elforbruger","El - Øvrig elforbruger",55010,null,"Signaler",65025,null,"Separator (gas/væskeudskiller)"]
[{"$nulls":6},35017,null,"Sump",45024,null,"Øvrig opmærkning, advarselsskilte","El - Øvrig opmærkning, advarselsskilte",55017,null,"SRO",65011,null,"Skorsten"]
[{"$nulls":6},30410,"Roofing, roof sealing","Tagkonstruktion",45004,null,"Pumpe (integreret motor)","El - Pumpe (integreret motor)",51820,"Closed-loop control","Styring og regulering",60210,"Tanks","Tanke, beholder"]
[{"$nulls":6},35020,null,"Tavlerum",45001,null,"Sikkerhedskomponent, failsafe","El - Sikkerhedskomponent, failsafe",50510,"Installation systems, cabinets, module frames","Systemer, kabinetter, moduler, rammer",65032,null,"Transmission (gear, kobling, bremser, lejer)"]
[{"$nulls":6},35006,null,"Transportredskaber",45010,null,"Støjfilter","El - Støjfilter",50710,"Transmitters","Transmittere",65010,null,"Turbine"]
[{"$nulls":6},35012,null,"Værkstedsmaskiner",45017,null,"Svagstrømsinstallationer","El - Svagstrømsinstallationer",50110,"Equipment protection","Udstyrsbeskyttelse",65035,null,"Værktøj, transportabelt hjælpeudstyr"]
[{"$nulls":6},35009,null,"Vand",45020,null,"Tavler","El - Tavler",null,null,"Rykkes sammen med El",65027,null,"Varmebehandling"]
[null,null,"Til diskussion:",{"$nulls":3},31110,"Heating, ventilation and air conditioning (HVAC)","Varme, ventilation og luftbehandling",42010,"Transformers","Transformere","El - Transformere",{"$nulls":3},62210,"Heat exchangers, evaporators","Varmevekslere"]
[null,null,"Udgår",{"$nulls":3},35014,null,"Velfærdsforanstaltninger",45007,null,"Varmelegeme, konvektor, luftkøler (kalorifere)","El - Varmelegeme, konvektor, luftkøler (kalorifere)",{"$nulls":3},60110,"Valves","Ventiler, haner, spjæld"]
[null,null,"Beholdes",{"$nulls":3},30620,"Window","Vinduer",45006,null,"Ventilator (integreret motor)","El - Ventilator (integreret motor)",{"$nulls":3},65023,null,"Vibrationsdæmper"]
[{"$nulls":9},45023,null,"Videoovervågning","El - Videoovervågning"]
[]
[{"$nulls":11},"Alarmer",{"$f":"CONCATENATE($N$2,\" - \",L37)","v":"SRO - Alarmer"}]
[{"$nulls":11},"Anlægsbeskyttelse",{"$f":"CONCATENATE($N$2,\" - \",L38)","v":"SRO - Anlægsbeskyttelse"}]
[{"$nulls":11},"Automation (SRO)","SRO - Automation (SRO)"]
[{"$nulls":11},"Frekvensomformer","SRO - Frekvensomformer"]
[{"$nulls":11},"HMI/betjeningspanel/lokal styreboks","SRO - HMI/betjeningspanel/lokal styreboks"]
[{"$nulls":11},"Horn","SRO - Horn"]
[{"$nulls":11},"Instrumentering","SRO - Instrumentering"]
[{"$nulls":11},"Kommunikationssystemer","SRO - Kommunikationssystemer"]
[{"$nulls":11},"Kontrolrum/stationer","SRO - Kontrolrum/stationer"]
[{"$nulls":11},"Lokal client","SRO - Lokal client"]
[{"$nulls":11},"Måler kWh","SRO - Måler kWh"]
[{"$nulls":11},"Netværk","SRO - Netværk"]
[{"$nulls":11},"Nødstopskreds","SRO - Nødstopskreds"]
[{"$nulls":11},"Øvrig opmærkning, advarselsskilte","SRO - Øvrig opmærkning, advarselsskilte"]
[null,null,"Bygning Konstruktion",{"$nulls":8},"Person beskyttelse (functional safety)","SRO - Person beskyttelse (functional safety)"]
[null,null,"El",{"$nulls":8},"PLC (logikmodul)","SRO - PLC (logikmodul)"]
[null,null,"Maskin Proces",{"$nulls":8},"Positioner","SRO - Positioner"]
[null,null,"Overordnet",{"$nulls":8},"Programfiler","SRO - Programfiler"]
[null,null,"SRO",{"$nulls":8},"Regneværk/omsætter (lokalt)","SRO - Regneværk/omsætter (lokalt)"]
[{"$nulls":11},"SCADA","SRO - SCADA"]
[{"$nulls":11},"Server","SRO - Server"]
[{"$nulls":11},"Signaler","SRO - Signaler"]
[{"$nulls":11},"SRO","SRO - SRO"]
[{"$nulls":11},"Styring og regulering","SRO - Styring og regulering"]
[{"$nulls":11},"Systemer, kabinetter, moduler, rammer","SRO - Systemer, kabinetter, moduler, rammer"]
[{"$nulls":11},"Transmittere","SRO - Transmittere"]
[{"$nulls":11},"Udstyrsbeskyttelse","SRO - Udstyrsbeskyttelse"]
{"$rows_empty":19}
[10210,"Site installations"]
[null,null,"Anlægsinstallationer",20610,"Colouring","Farve",35025,null,"1.sal",45016,{"$nulls":3},50130,"Analog transmitters","Analoge transmittere",65006,null,"Afluftningsventil"]
[{"$nulls":3},22210,"Consumer","Forbruger",35026,null,"2.sal",40510,"Auxiliary power supply","Belysning",null,50210,"Binary transmitters","Binære transmittere",65002,null,"Afspærringsventil"]
[{"$nulls":3},22310,"Lagging, sheathing","Forsinkelse, mitigationer",35027,null,"3.sal",40720,"D.C. switchgear and distribution boards","Hjælpe kraftforsyning",null,50220,"Orifices, nozzles","Blænder, dyser",65012,null,"Economizer"]
[{"$nulls":3},20520,"Spare and wear parts","Slid- og reservedele",35028,null,"4.sal",41410,"Grid systems","Jævnstrøms relæer og fordelingstavler",null,50410,"Data communication","Datakommunikation",65005,null,"Instrumentventil"]
[{"$nulls":3},21940,"Steel construction","Stålkonstruktion",30240,"Concrete construction work","Betonarbejde",41910,"Switchgear","Netsystemer",null,50610,"Field devices","Feltudstyr",65016,null,"Kompressor"]
[{"$nulls":6},32310,"Civil engineering hydraulics","Entreprenør hydrauliske beregninger",45008,null,"Relæer",null,51340,"Measuring transformer","Måletransformer",65017,null,"Kompressoraggregat"]
[{"$nulls":6},30730,"Ground-water measurement and investigation","Grundvandsundersøgelse",null,null,"Stikkontakt, stikkontaktstation",null,51320,"Measuring valves and fittings","Måleventiler og fittings",65003,null,"Kontraventil / kontraklap"]
[{"$nulls":6},30510,"Earth-moving","Jordskred",{"$nulls":4},51310,"Messages from system control","Meddelser fra proceskontrolsystemet",65015,null,"Lejer"]
[{"$nulls":6},35023,null,"Kælder",{"$nulls":4},51910,"Training simulators","Øvelses simulatorer",60810,"Hoisting devices","Løfteudstyr"]
[{"$nulls":6},31310,"Masonry construction work","Murarbejde",{"$nulls":4},51810,"Control valves, control drives","Styrede ventiler og drev",62220,"Material","Materiale"]
[{"$nulls":6},35022,null,"Platform",{"$nulls":4},50720,"Equipment catalog","Udstyrskatalog",65001,null,"Reguleringsventil"]
[{"$nulls":6},35024,null,"Stue",{"$nulls":7},65004,null,"Sikkerhedsventil"]
[{"$nulls":16},65018,null,"Ventilator"]

{"sheet":"Parametre","index":4,"n_rows":8,"n_cols":7,"rows_kept":8,"hidden":true}
["Liste til søgning hovedgrupper - DCC","As-build","Mappe E","PDF_COLOR","PDF_format","Koordinat system","Kotesystem"]
["?"," "]
["A - Overordnet ledelse","Ja","El","Sort/Hvid","A4","UTM32","DVR90"]
["B - Overordnet teknologi","Nej","SRO","Farve","A3","Intet","Intet"]
["C - Byggeri og anlæg",{"$nulls":3},"A2"]
["E - El",{"$nulls":3},"A1"]
["M - Mekanisk konstruktion – Normalt inkl. procesteknik",{"$nulls":3},"A0"]
["P - Procesteknik – kun hvis adskillelse fra mekanisk konstruktion ønskes"]