{"text_format":"3","workbook":"xlsx","n_sheets":5,"sheets":["1 - Opstart Importark","2 - IMPORTARK","Lokationer - Vand","Objekt key oversigt","Parametre"],"not_rendered":{"defined_names":32},"read":"whole","date_system":"1900"}

{"sheet":"1 - Opstart Importark","index":0,"n_rows":30,"n_cols":2,"rows_kept":30}
[]
[null,"VAND - Importark"]
[null,"Vand - Importark til ProjectWise af anlægsdokumentation - Version 2.01"]
[null,{"$f":"IF(B6=\"\",\"Husk projektnummer\",\"\")","v":"Husk projektnummer"}]
[null,"Projektnummer"]
[]
[]
[null,"Projektnavn"]
[]
[]
[null,{"$f":"IF(LEN(B15)*LEN(B24)=0,\"OK\",\"Opland valgt 2 gange!\")","v":"OK"}]
[null,"Ved ekst. lokation: Vælg Omåde/lokation i lysegrønne felter"]
[null,{"$f":"IF(LEN(B18)*LEN(B28)=0,\"OK\",\"Lokation valgt 2 gange!\")","v":"OK"}]
[null,"Område"]
[]
[null,{"$f":"SUBSTITUTE(SUBSTITUTE(MID(B15,6,100),\" \",\"_\"),\"_-_\",\"_\")","v":""}]
[null,"Lokation"]
[]
[null,"ELLER"]
[null,"NY lokation indskrives i gule felter (samt Område)"]
[]
[null,"Område (2 karakterer - navn)"]
[null,"NE - Nyt eller Ekst. Område"]
[]
[]
[null,"Lokation (3 karakterer - navn)"]
[null,"NYT - Ny lokation"]
[]
[]
[null,"Adresse"]

{"sheet":"2 - IMPORTARK","index":1,"n_rows":1011,"n_cols":45,"rows_kept":1011,"merged":[[1,4,1,6],[1,8,1,10],[2,8,2,10],[2,16,2,18],[6,16,6,18],[6,35,6,37]]}
[1,2,3,4,5,6,7,8,9,10,11,12,13,14,15,16,17,18,19,null,20,21,22,23,24,25,26,27,28,29,30,31,32,33,34,35,36,37,38,39,40,41,42,43,45]
[null,null,"HOFOR",null,"Overordnet information",{"$nulls":3},"Vand-tag",null,null,"-","DCC kode","-","Løbenr.",null,"Meta data",{"$nulls":23},"Skjules"]
[null,null,"VAND - dokumentkode ",{"$nulls":5},"Vandtag koden indeholder \nFunktion/nr & Komponent/nr.",{"$nulls":3},"Standard\nVGB-S-832-00-2016-04-DE-EN",null,"Bruges til at gøre koden unik",null,"Søgbare oplysninger til senere fremfindelse af dokumenter"]
[]
[null,null,"Geotag - Vandtag - DCC - Løbenr.",null,"Importeres","Filnavn","Bemærkninger til import",null,"Funktion + Funktionsnr.",null,"Komponent + Komponentnr.",{"$nulls":5},"Projekt nr.","Projekt navn","Adresse",null,"Beskrivelse","Tegningstype","El/SRO","Tegnet af ","Tegnet dato","Kontrol af ","Kontrol dato","Godkendt af ","Godkendt dato","Leverandør","Mål-\nforhold","Objekt filter \n(Fra DCC standard)","Objekt nøgle \n(Uddybning af Objekt filter fra DCC standard)","Farve","A-format","Bemærkning","Internt - gl. nr","Eksternt nr.",null,null,"Beskrivelse","Beskrivelse","el/sro","Objekt nøgle"]
[]
[{"$nulls":4},"Skal udfyldes","Skal udfyldes","Valgfri",null,"Skal udfyldes",null,"Skal udfyldes",null,"Skal udfyldes",null,"Skal udfyldes",null,"Info fra faneblad 1",null,null,"Bør udfyldes, når der er en tag-kode ","Skal udfyldes",{"$nulls":14},"Valgfri"]
[null,null,"Eksempel på korrekt \nudfyldning af Importark:",null,"Vælg med ja/nej, hvilke dokumenter som skal importeres","skal udfyldes med filnavnet til dokumentimport \nHusk .filtype","Supplerende information til dokumentimport",null,"f.eks. \nAN (Ansugningsanlæg) + 01",null,"f.eks. \nAFF (Affugter) \n+ 03",null,"EMA010",null,"0001",null,"Projekt nr. \nuden fasenr.","Projektnavn","Adresse oplysning","Uddybning af tag-kode","Beskrivelse af indhold af dokument","Beskriv tegningstype","El eller SRO dokumentation skal vælges, hvis felt er rødt","Initialer","dato","Initialer","dato","Initialer","dato","navn","Intet mål-\nforhold: NA","Info fra \nDCC-kode","Vælg objektnøgle:","Hvilket farverum er \ndokumentet i?","Hvilket A-format er dokumentet i?","Ekstra uddybende info om dokumentet","Gl. nr.:\nHOFOR - Internt nr. ","Leverandør nr./ Eksternt nr. "]
[]
[null,null,"VSLATM-AN01-AFF03-EMA010-0001",null,"Ja","ventil_Socla.pdf",null,null,"AN01",null,"AFF03",null,"EMA010",null,"0001",null,"i2445-02-01","Testprojekt","Kirkevej 66","Ansugningsanlæg Generelt udstyr","Ventil Socla 402B","Snittegning","El","JLAS","2023-06-12","KUSU","2023-06-15","HYTR","2023-06-25","Krüger","1:50 / NA","E - El & SRO","El - Øvrig elforbruger","Farve","A3","Kvalitetsrapport 28082020_Alt samlet i et dokument","102572.4-00","Æ.l.XXVll",{"$nulls":4},"check af E"]
[null,null,"[Dokument nummer]",{"$nulls":13},"[Projekt nr.]","[Projektnavn]","[Adresse]",null,"[Tag Beskr]","[Tegningstype]","[El_SRO]","[Tegnet af]","[Tegningsdato]","[Kontrolleret af]","[Kontrol dato]","[Godkendt af]","[Godkendt dato]","[Leverandør]","[Målforhold]","[Objektfilter]","[Objektnøgle]","[PDF_Color]","[PDF_pagesize]","[Bemærkning]","[Gl. dokument nr.1]","[Gl. dokument nr. 2]","[DO_NOT_PDF]",null,null,"[Bemærkning]","[Bemærkning]","[Bemærkning]"]
[1,null,{"$f":"IF('1 - Opstart Importark'!$B$6=\"\",\"\",(IF('1 - Opstart Importark'!$B$15=\"\",CONCATENATE(LEFT('1 - Opstart Importark'!$B$3,1),(LEFT('1 - Opstart Importark'!$B$24,2)),LEFT('1 - Opstart Importark'!$B$28,3),IF(I12=\"\",\"\",\"-\"),I12,IF(K12=\"\",\"\",\"-\"),K12,IF(M12=\"\",\"\",\"-\"),M12,IF(O12=\"\",\"\",\"-\"),O12),CONCATENATE(LEFT('1 - Opstart Importark'!$B$3,1),(LEFT('1 - Opstart Importark'!$B$15,2)),(LEFT('1 - Opstart Importark'!$B$18,3)),IF(I12=\"\",\"\",\"-\"),I12,IF(K12=\"\",\"\",\"-\"),K12,IF(M12=\"\",\"\",\"-\"),M12,IF(O12=\"\",\"\",\"-\"),O12))))","v":""},null," ",{"$nulls":11},{"$f":"IF(LEN('1 - Opstart Importark'!$B$6)>0,'1 - Opstart Importark'!$B$6,\"\")","v":""},{"$f":"IF(LEN('1 - Opstart Importark'!$B$9)>0,'1 - Opstart Importark'!$B$9,\"\")","v":""},{"$f":"IF(LEN('1 - Opstart Importark'!$B$31)>0,'1 - Opstart Importark'!$B$31,\"\")","v":""},{"$nulls":12},{"$f":"IF(M12=\"\",\"\",VLOOKUP(LEFT(M12,1),objektfilter,2))","v":""},{"$nulls":8},{"$f":"IFERROR(FIND(\".\",F12),)","v":0},{"$f":"IF(M12=\"\",\"\",IF(LEFT(M12,1)=\"E\",0,1))","v":""},{"$f":"IF(M12=\"\",\"\",IF(LEFT(M12,1)=\"E\",0,1))","v":""},{"$f":"IF(W12=\"\", CONCATENATE(\"objektnogle_\",LEFT(AF12,1)),CONCATENATE(\"objektnogle_\",LEFT(W12,1)))","v":"objektnogle_"}]
[2,null,{"$f":"IF('1 - Opstart Importark'!$B$6=\"\",\"\",(IF('1 - Opstart Importark'!$B$15=\"\",CONCATENATE(LEFT('1 - Opstart Importark'!$B$3,1),(LEFT('1 - Opstart Importark'!$B$24,2)),LEFT('1 - Opstart Importark'!$B$28,3),IF(I13=\"\",\"\",\"-\"),I13,IF(K13=\"\",\"\",\"-\"),K13,IF(M13=\"\",\"\",\"-\"),M13,IF(O13=\"\",\"\",\"-\"),O13),CONCATENATE(LEFT('1 - Opstart Importark'!$B$3,1),(LEFT('1 - Opstart Importark'!$B$15,2)),(LEFT('1 - Opstart Importark'!$B$18,3)),IF(I13=\"\",\"\",\"-\"),I13,IF(K13=\"\",\"\",\"-\"),K13,IF(M13=\"\",\"\",\"-\"),M13,IF(O13=\"\",\"\",\"-\"),O13))))","v":""},null," ",{"$nulls":11},{"$f":"IF(LEN('1 - Opstart Importark'!$B$6)>0,'1 - Opstart Importark'!$B$6,\"\")","v":""},{"$f":"IF(LEN('1 - Opstart Importark'!$B$9)>0,'1 - Opstart Importark'!$B$9,\"\")","v":""},{"$f":"IF(LEN('1 - Opstart Importark'!$B$31)>0,'1 - Opstart Importark'!$B$31,\"\")","v":""},{"$nulls":12},"",{"$nulls":8},{"$f":"IFERROR(FIND(\".\",F13),)","v":0},{"$f":"IF(M13=\"\",\"\",IF(LEFT(M13,1)=\"E\",0,1))","v":""},{"$f":"IF(M13=\"\",\"\",IF(LEFT(M13,1)=\"E\",0,1))","v":""},{"$f":"IF(W13=\"\", CONCATENATE(\"objektnogle_\",LEFT(AF13,1)),CONCATENATE(\"objektnogle_\",LEFT(W13,1)))","v":"objektnogle_"}]
[3,null,{"$f":"IF('1 - Opstart Importark'!$B$6=\"\",\"\",(IF('1 - Opstart Importark'!$B$15=\"\",CONCATENATE(LEFT('1 - Opstart Importark'!$B$3,1),(LEFT('1 - Opstart Importark'!$B$24,2)),LEFT('1 - Opstart Importark'!$B$28,3),IF(I14=\"\",\"\",\"-\"),I14,IF(K14=\"\",\"\",\"-\"),K14,IF(M14=\"\",\"\",\"-\"),M14,IF(O14=\"\",\"\",\"-\"),O14),CONCATENATE(LEFT('1 - Opstart Importark'!$B$3,1),(LEFT('1 - Opstart Importark'!$B$15,2)),(LEFT('1 - Opstart Importark'!$B$18,3)),IF(I14=\"\",\"\",\"-\"),I14,IF(K14=\"\",\"\",\"-\"),K14,IF(M14=\"\",\"\",\"-\"),M14,IF(O14=\"\",\"\",\"-\"),O14))))","v":""},null," ",{"$nulls":11},{"$f":"IF(LEN('1 - Opstart Importark'!$B$6)>0,'1 - Opstart Importark'!$B$6,\"\")","v":""},{"$f":"IF(LEN('1 - Opstart Importark'!$B$9)>0,'1 - Opstart Importark'!$B$9,\"\")","v":""},{"$f":"IF(LEN('1 - Opstart Importark'!$B$31)>0,'1 - Opstart Importark'!$B$31,\"\")","v":""},{"$nulls":12},"",{"$nulls":8},0,{"$f":"IF(M14=\"\",\"\",IF(LEFT(M14,1)=\"E\",0,1))","v":""},"","objektnogle_"]
[4,null,{"$f":"IF('1 - Opstart Importark'!$B$6=\"\",\"\",(IF('1 - Opstart Importark'!$B$15=\"\",CONCATENATE(LEFT('1 - Opstart Importark'!$B$3,1),(LEFT('1 - Opstart Importark'!$B$24,2)),LEFT('1 - Opstart Importark'!$B$28,3),IF(I15=\"\",\"\",\"-\"),I15,IF(K15=\"\",\"\",\"-\"),K15,IF(M15=\"\",\"\",\"-\"),M15,IF(O15=\"\",\"\",\"-\"),O15),CONCATENATE(LEFT('1 - Opstart Importark'!$B$3,1),(LEFT('1 - Opstart Importark'!$B$15,2)),(LEFT('1 - Opstart Importark'!$B$18,3)),IF(I15=\"\",\"\",\"-\"),I15,IF(K15=\"\",\"\",\"-\"),K15,IF(M15=\"\",\"\",\"-\"),M15,IF(O15=\"\",\"\",\"-\"),O15))))","v":""},null," ",{"$nulls":11},{"$f":"IF(LEN('1 - Opstart Importark'!$B$6)>0,'1 - Opstart Importark'!$B$6,\"\")","v":""},{"$f":"IF(LEN('1 - Opstart Importark'!$B$9)>0,'1 - Opstart Importark'!$B$9,\"\")","v":""},{"$f":"IF(LEN('1 - Opstart Importark'!$B$31)>0,'1 - Opstart Importark'!$B$31,\"\")","v":""},{"$nulls":12},"",{"$nulls":8},0,"","","objektnogle_"]
[5,null,{"$f":"IF('1 - Opstart Importark'!$B$6=\"\",\"\",(IF('1 - Opstart Importark'!$B$15=\"\",CONCATENATE(LEFT('1 - Opstart Importark'!$B$3,1),(LEFT('1 - Opstart Importark'!$B$24,2)),LEFT('1 - Opstart Importark'!$B$28,3),IF(I16=\"\",\"\",\"-\"),I16,IF(K16=\"\",\"\",\"-\"),K16,IF(M16=\"\",\"\",\"-\"),M16,IF(O16=\"\",\"\",\"-\"),O16),CONCATENATE(LEFT('1 - Opstart Importark'!$B$3,1),(LEFT('1 - Opstart Importark'!$B$15,2)),(LEFT('1 - Opstart Importark'!$B$18,3)),IF(I16=\"\",\"\",\"-\"),I16,IF(K16=\"\",\"\",\"-\"),K16,IF(M16=\"\",\"\",\"-\"),M16,IF(O16=\"\",\"\",\"-\"),O16))))","v":""},null," ",{"$nulls":11},{"$f":"IF(LEN('1 - Opstart Importark'!$B$6)>0,'1 - Opstart Importark'!$B$6,\"\")","v":""},{"$f":"IF(LEN('1 - Opstart Importark'!$B$9)>0,'1 - Opstart Importark'!$B$9,\"\")","v":""},{"$f":"IF(LEN('1 - Opstart Importark'!$B$31)>0,'1 - Opstart Importark'!$B$31,\"\")","v":""},{"$nulls":12},"",{"$nulls":8},0,"","","objektnogle_"]
[6,null,{"$f":"IF('1 - Opstart Importark'!$B$6=\"\",\"\",(IF('1 - Opstart Importark'!$B$15=\"\",CONCATENATE(LEFT('1 - Opstart Importark'!$B$3,1),(LEFT('1 - Opstart Importark'!$B$24,2)),LEFT('1 - Opstart Importark'!$B$28,3),IF(I17=\"\",\"\",\"-\"),I17,IF(K17=\"\",\"\",\"-\"),K17,IF(M17=\"\",\"\",\"-\"),M17,IF(O17=\"\",\"\",\"-\"),O17),CONCATENATE(LEFT('1 - Opstart Importark'!$B$3,1),(LEFT('1 - Opstart Importark'!$B$15,2)),(LEFT('1 - Opstart Importark'!$B$18,3)),IF(I17=\"\",\"\",\"-\"),I17,IF(K17=\"\",\"\",\"-\"),K17,IF(M17=\"\",\"\",\"-\"),M17,IF(O17=\"\",\"\",\"-\"),O17))))","v":""},null," ",{"$nulls":11},{"$f":"IF(LEN('1 - Opstart Importark'!$B$6)>0,'1 - Opstart Importark'!$B$6,\"\")","v":""},{"$f":"IF(LEN('1 - Opstart Importark'!$B$9)>0,'1 - Opstart Importark'!$B$9,\"\")","v":""},{"$f":"IF(LEN('1 - Opstart Importark'!$B$31)>0,'1 - Opstart Importark'!$B$31,\"\")","v":""},{"$nulls":12},"",{"$nulls":8},0,"","","objektnogle_"]
[7,null,{"$f":"IF('1 - Opstart Importark'!$B$6=\"\",\"\",(IF('1 - Opstart Importark'!$B$15=\"\",CONCATENATE(LEFT('1 - Opstart Importark'!$B$3,1),(LEFT('1 - Opstart Importark'!$B$24,2)),LEFT('1 - Opstart Importark'!$B$28,3),IF(I18=\"\",\"\",\"-\"),I18,IF(K18=\"\",\"\",\"-\"),K18,IF(M18=\"\",\"\",\"-\"),M18,IF(O18=\"\",\"\",\"-\"),O18),CONCATENATE(LEFT('1 - Opstart Importark'!$B$3,1),(LEFT('1 - Opstart Importark'!$B$15,2)),(LEFT('1 - Opstart Importark'!$B$18,3)),IF(I18=\"\",\"\",\"-\"),I18,IF(K18=\"\",\"\",\"-\"),K18,IF(M18=\"\",\"\",\"-\"),M18,IF(O18=\"\",\"\",\"-\"),O18))))","v":""},null," ",{"$nulls":11},{"$f":"IF(LEN('1 - Opstart Importark'!$B$6)>0,'1 - Opstart Importark'!$B$6,\"\")","v":""},{"$f":"IF(LEN('1 - Opstart Importark'!$B$9)>0,'1 - Opstart Importark'!$B$9,\"\")","v":""},{"$f":"IF(LEN('1 - Opstart Importark'!$B$31)>0,'1 - Opstart Importark'!$B$31,\"\")","v":""},{"$nulls":12},"",{"$nulls":8},0,"","","objektnogle_"]
[8,null,{"$f":"IF('1 - Opstart Importark'!$B$6=\"\",\"\",(IF('1 - Opstart Importark'!$B$15=\"\",CONCATENATE(LEFT('1 - Opstart Importark'!$B$3,1),(LEFT('1 - Opstart Importark'!$B$24,2)),LEFT('1 - Opstart Importark'!$B$28,3),IF(I19=\"\",\"\",\"-\"),I19,IF(K19=\"\",\"\",\"-\"),K19,IF(M19=\"\",\"\",\"-\"),M19,IF(O19=\"\",\"\",\"-\"),O19),CONCATENATE(LEFT('1 - Opstart Importark'!$B$3,1),(LEFT('1 - Opstart Importark'!$B$15,2)),(LEFT('1 - Opstart Importark'!$B$18,3)),IF(I19=\"\",\"\",\"-\"),I19,IF(K19=\"\",\"\",\"-\"),K19,IF(M19=\"\",\"\",\"-\"),M19,IF(O19=\"\",\"\",\"-\"),O19))))","v":""},null," ",{"$nulls":11},{"$f":"IF(LEN('1 - Opstart Importark'!$B$6)>0,'1 - Opstart Importark'!$B$6,\"\")","v":""},{"$f":"IF(LEN('1 - Opstart Importark'!$B$9)>0,'1 - Opstart Importark'!$B$9,\"\")","v":""},{"$f":"IF(LEN('1 - Opstart Importark'!$B$31)>0,'1 - Opstart Importark'!$B$31,\"\")","v":""},{"$nulls":12},"",{"$nulls":8},0,"","","objektnogle_"]
[9,null,{"$f":"IF('1 - Opstart Importark'!$B$6=\"\",\"\",(IF('1 - Opstart Importark'!$B$15=\"\",CONCATENATE(LEFT('1 - Opstart Importark'!$B$3,1),(LEFT('1 - Opstart Importark'!$B$24,2)),LEFT('1 - Opstart Importark'!$B$28,3),IF(I20=\"\",\"\",\"-\"),I20,IF(K20=\"\",\"\",\"-\"),K20,IF(M20=\"\",\"\",\"-\"),M20,IF(O20=\"\",\"\",\"-\"),O20),CONCATENATE(LEFT('1 - Opstart Importark'!$B$3,1),(LEFT('1 - Opstart Importark'!$B$15,2)),(LEFT('1 - Opstart Importark'!$B$18,3)),IF(I20=\"\",\"\",\"-\"),I20,IF(K20=\"\",\"\",\"-\"),K20,IF(M20=\"\",\"\",\"-\"),M20,IF(O20=\"\",\"\",\"-\"),O20))))","v":""},null," ",{"$nulls":11},{"$f":"IF(LEN('1 - Opstart Importark'!$B$6)>0,'1 - Opstart Importark'!$B$6,\"\")","v":""},{"$f":"IF(LEN('1 - Opstart Importark'!$B$9)>0,'1 - Opstart Importark'!$B$9,\"\")","v":""},{"$f":"IF(LEN('1 - Opstart Importark'!$B$31)>0,'1 - Opstart Importark'!$B$31,\"\")","v":""},{"$nulls":12},"",{"$nulls":8},0,"","","objektnogle_"]
[10,null,{"$f":"IF('1 - Opstart Importark'!$B$6=\"\",\"\",(IF('1 - Opstart Importark'!$B$15=\"\",CONCATENATE(LEFT('1 - Opstart Importark'!$B$3,1),(LEFT('1 - Opstart Importark'!$B$24,2)),LEFT('1 - Opstart Importark'!$B$28,3),IF(I21=\"\",\"\",\"-\"),I21,IF(K21=\"\",\"\",\"-\"),K21,IF(M21=\"\",\"\",\"-\"),M21,IF(O21=\"\",\"\",\"-\"),O21),CONCATENATE(LEFT('1 - Opstart Importark'!$B$3,1),(LEFT('1 - Opstart Importark'!$B$15,2)),(LEFT('1 - Opstart Importark'!$B$18,3)),IF(I21=\"\",\"\",\"-\"),I21,IF(K21=\"\",\"\",\"-\"),K21,IF(M21=\"\",\"\",\"-\"),M21,IF(O21=\"\",\"\",\"-\"),O21))))","v":""},null," ",{"$nulls":11},{"$f":"IF(LEN('1 - Opstart Importark'!$B$6)>0,'1 - Opstart Importark'!$B$6,\"\")","v":""},{"$f":"IF(LEN('1 - Opstart Importark'!$B$9)>0,'1 - Opstart Importark'!$B$9,\"\")","v":""},{"$f":"IF(LEN('1 - Opstart Importark'!$B$31)>0,'1 - Opstart Importark'!$B$31,\"\")","v":""},{"$nulls":12},"",{"$nulls":8},0,"","","objektnogle_"]
[11,null,{"$f":"IF('1 - Opstart Importark'!$B$6=\"\",\"\",(IF('1 - Opstart Importark'!$B$15=\"\",CONCATENATE(LEFT('1 - Opstart Importark'!$B$3,1),(LEFT('1 - Opstart Importark'!$B$24,2)),LEFT('1 - Opstart Importark'!$B$28,3),IF(I22=\"\",\"\",\"-\"),I22,IF(K22=\"\",\"\",\"-\"),K22,IF(M22=\"\",\"\",\"-\"),M22,IF(O22=\"\",\"\",\"-\"),O22),CONCATENATE(LEFT('1 - Opstart Importark'!$B$3,1),(LEFT('1 - Opstart Importark'!$B$15,2)),(LEFT('1 - Opstart Importark'!$B$18,3)),IF(I22=\"\",\"\",\"-\"),I22,IF(K22=\"\",\"\",\"-\"),K22,IF(M22=\"\",\"\",\"-\"),M22,IF(O22=\"\",\"\",\"-\"),O22))))","v":""},null," ",{"$nulls":11},{"$f":"IF(LEN('1 - Opstart Importark'!$B$6)>0,'1 - Opstart Importark'!$B$6,\"\")","v":""},{"$f":"IF(LEN('1 - Opstart Importark'!$B$9)>0,'1 - Opstart Importark'!$B$9,\"\")","v":""},{"$f":"IF(LEN('1 - Opstart Importark'!$B$31)>0,'1 - Opstart Importark'!$B$31,\"\")","v":""},{"$nulls":12},"",{"$nulls":8},0,"","","objektnogle_"]
[12,null,{"$f":"IF('1 - Opstart Importark'!$B$6=\"\",\"\",(IF('1 - Opstart Importark'!$B$15=\"\",CONCATENATE(LEFT('1 - Opstart Importark'!$B$3,1),(LEFT('1 - Opstart Importark'!$B$24,2)),LEFT('1 - Opstart Importark'!$B$28,3),IF(I23=\"\",\"\",\"-\"),I23,IF(K23=\"\",\"\",\"-\"),K23,IF(M23=\"\",\"\",\"-\"),M23,IF(O23=\"\",\"\",\"-\"),O23),CONCATENATE(LEFT('1 - Opstart Importark'!$B$3,1),(LEFT('1 - Opstart Importark'!$B$15,2)),(LEFT('1 - Opstart Importark'!$B$18,3)),IF(I23=\"\",\"\",\"-\"),I23,IF(K23=\"\",\"\",\"-\"),K23,IF(M23=\"\",\"\",\"-\"),M23,IF(O23=\"\",\"\",\"-\"),O23))))","v":""},null," ",{"$nulls":11},{"$f":"IF(LEN('1 - Opstart Importark'!$B$6)>0,'1 - Opstart Importark'!$B$6,\"\")","v":""},{"$f":"IF(LEN('1 - Opstart Importark'!$B$9)>0,'1 - Opstart Importark'!$B$9,\"\")","v":""},{"$f":"IF(LEN('1 - Opstart Importark'!$B$31)>0,'1 - Opstart Importark'!$B$31,\"\")","v":""},{"$nulls":12},"",{"$nulls":8},0,"","","objektnogle_"]
[13,null,{"$f":"IF('1 - Opstart Importark'!$B$6=\"\",\"\",(IF('1 - Opstart Importark'!$B$15=\"\",CONCATENATE(LEFT('1 - Opstart Importark'!$B$3,1),(LEFT('1 - Opstart Importark'!$B$24,2)),LEFT('1 - Opstart Importark'!$B$28,3),IF(I24=\"\",\"\",\"-\"),I24,IF(K24=\"\",\"\",\"-\"),K24,IF(M24=\"\",\"\",\"-\"),M24,IF(O24=\"\",\"\",\"-\"),O24),CONCATENATE(LEFT('1 - Opstart Importark'!$B$3,1),(LEFT('1 - Opstart Importark'!$B$15,2)),(LEFT('1 - Opstart Importark'!$B$18,3)),IF(I24=\"\",\"\",\"-\"),I24,IF(K24=\"\",\"\",\"-\"),K24,IF(M24=\"\",\"\",\"-\"),M24,IF(O24=\"\",\"\",\"-\"),O24))))","v":""},null," ",{"$nulls":11},{"$f":"IF(LEN('1 - Opstart Importark'!$B$6)>0,'1 - Opstart Importark'!$B$6,\"\")","v":""},{"$f":"IF(LEN('1 - Opstart Importark'!$B$9)>0,'1 - Opstart Importark'!$B$9,\"\")","v":""},{"$f":"IF(LEN('1 - Opstart Importark'!$B$31)>0,'1 - Opstart Importark'!$B$31,\"\")","v":""},{"$nulls":12},"",{"$nulls":8},0,"","","objektnogle_"]
[14,null,{"$f":"IF('1 - Opstart Importark'!$B$6=\"\",\"\",(IF('1 - Opstart Importark'!$B$15=\"\",CONCATENATE(LEFT('1 - Opstart Importark'!$B$3,1),(LEFT('1 - Opstart Importark'!$B$24,2)),LEFT('1 - Opstart Importark'!$B$28,3),IF(I25=\"\",\"\",\"-\"),I25,IF(K25=\"\",\"\",\"-\"),K25,IF(M25=\"\",\"\",\"-\"),M25,IF(O25=\"\",\"\",\"-\"),O25),CONCATENATE(LEFT('1 - Opstart Importark'!$B$3,1),(LEFT('1 - Opstart Importark'!$B$15,2)),(LEFT('1 - Opstart Importark'!$B$18,3)),IF(I25=\"\",\"\",\"-\"),I25,IF(K25=\"\",\"\",\"-\"),K25,IF(M25=\"\",\"\",\"-\"),M25,IF(O25=\"\",\"\",\"-\"),O25))))","v":""},null," ",{"$nulls":11},{"$f":"IF(LEN('1 - Opstart Importark'!$B$6)>0,'1 - Opstart Importark'!$B$6,\"\")","v":""},{"$f":"IF(LEN('1 - Opstart Importark'!$B$9)>0,'1 - Opstart Importark'!$B$9,\"\")","v":""},{"$f":"IF(LEN('1 - Opstart Importark'!$B$31)>0,'1 - Opstart Importark'!$B$31,\"\")","v":""},{"$nulls":12},"",{"$nulls":8},0,"","","objektnogle_"]
[15,null,{"$f":"IF('1 - Opstart Importark'!$B$6=\"\",\"\",(IF('1 - Opstart Importark'!$B$15=\"\",CONCATENATE(LEFT('1 - Opstart Importark'!$B$3,1),(LEFT('1 - Opstart Importark'!$B$24,2)),LEFT('1 - Opstart Importark'!$B$28,3),IF(I26=\"\",\"\",\"-\"),I26,IF(K26=\"\",\"\",\"-\"),K26,IF(M26=\"\",\"\",\"-\"),M26,IF(O26=\"\",\"\",\"-\"),O26),CONCATENATE(LEFT('1 - Opstart Importark'!$B$3,1),(LEFT('1 - Opstart Importark'!$B$15,2)),(LEFT('1 - Opstart Importark'!$B$18,3)),IF(I26=\"\",\"\",\"-\"),I26,IF(K26=\"\",\"\",\"-\"),K26,IF(M26=\"\",\"\",\"-\"),M26,IF(O26=\"\",\"\",\"-\"),O26))))","v":""},null," ",{"$nulls":11},{"$f":"IF(LEN('1 - Opstart Importark'!$B$6)>0,'1 - Opstart Importark'!$B$6,\"\")","v":""},{"$f":"IF(LEN('1 - Opstart Importark'!$B$9)>0,'1 - Opstart Importark'!$B$9,\"\")","v":""},{"$f":"IF(LEN('1 - Opstart Importark'!$B$31)>0,'1 - Opstart Importark'!$B$31,\"\")","v":""},{"$nulls":12},"",{"$nulls":8},0,"","","objektnogle_"]
[16,null,{"$f":"IF('1 - Opstart Importark'!$B$6=\"\",\"\",(IF('1 - Opstart Importark'!$B$15=\"\",CONCATENATE(LEFT('1 - Opstart Importark'!$B$3,1),(LEFT('1 - Opstart Importark'!$B$24,2)),LEFT('1 - Opstart Importark'!$B$28,3),IF(I27=\"\",\"\",\"-\"),I27,IF(K27=\"\",\"\",\"-\"),K27,IF(M27=\"\",\"\",\"-\"),M27,IF(O27=\"\",\"\",\"-\"),O27),CONCATENATE(LEFT('1 - Opstart Importark'!$B$3,1),(LEFT('1 - Opstart Importark'!$B$15,2)),(LEFT('1 - Opstart Importark'!$B$18,3)),IF(I27=\"\",\"\",\"-\"),I27,IF(K27=\"\",\"\",\"-\"),K27,IF(M27=\"\",\"\",\"-\"),M27,IF(O27=\"\",\"\",\"-\"),O27))))","v":""},null," ",{"$nulls":11},{"$f":"IF(LEN('1 - Opstart Importark'!$B$6)>0,'1 - Opstart Importark'!$B$6,\"\")","v":""},{"$f":"IF(LEN('1 - Opstart Importark'!$B$9)>0,'1 - Opstart Importark'!$B$9,\"\")","v":""},{"$f":"IF(LEN('1 - Opstart Importark'!$B$31)>0,'1 - Opstart Importark'!$B$31,\"\")","v":""},{"$nulls":12},"",{"$nulls":8},0,"","","objektnogle_"]
[17,null,{"$f":"IF('1 - Opstart Importark'!$B$6=\"\",\"\",(IF('1 - Opstart Importark'!$B$15=\"\",CONCATENATE(LEFT('1 - Opstart Importark'!$B$3,1),(LEFT('1 - Opstart Importark'!$B$24,2)),LEFT('1 - Opstart Importark'!$B$28,3),IF(I28=\"\",\"\",\"-\"),I28,IF(K28=\"\",\"\",\"-\"),K28,IF(M28=\"\",\"\",\"-\"),M28,IF(O28=\"\",\"\",\"-\"),O28),CONCATENATE(LEFT('1 - Opstart Importark'!$B$3,1),(LEFT('1 - Opstart Importark'!$B$15,2)),(LEFT('1 - Opstart Importark'!$B$18,3)),IF(I28=\"\",\"\",\"-\"),I28,IF(K28=\"\",\"\",\"-\"),K28,IF(M28=\"\",\"\",\"-\"),M28,IF(O28=\"\",\"\",\"-\"),O28))))","v":""},null," ",{"$nulls":11},{"$f":"IF(LEN('1 - Opstart Importark'!$B$6)>0,'1 - Opstart Importark'!$B$6,\"\")","v":""},{"$f":"IF(LEN('1 - Opstart Importark'!$B$9)>0,'1 - Opstart Importark'!$B$9,\"\")","v":""},{"$f":"IF(LEN('1 - Opstart Importark'!$B$31)>0,'1 - Opstart Importark'!$B$31,\"\")","v":""},{"$nulls":12},"",{"$nulls":8},0,"","","objektnogle_"]
[18,null,{"$f":"IF('1 - Opstart Importark'!$B$6=\"\",\"\",(IF('1 - Opstart Importark'!$B$15=\"\",CONCATENATE(LEFT('1 - Opstart Importark'!$B$3,1),(LEFT('1 - Opstart Importark'!$B$24,2)),LEFT('1 - Opstart Importark'!$B$28,3),IF(I29=\"\",\"\",\"-\"),I29,IF(K29=\"\",\"\",\"-\"),K29,IF(M29=\"\",\"\",\"-\"),M29,IF(O29=\"\",\"\",\"-\"),O29),CONCATENATE(LEFT('1 - Opstart Importark'!$B$3,1),(LEFT('1 - Opstart Importark'!$B$15,2)),(LEFT('1 - Opstart Importark'!$B$18,3)),IF(I29=\"\",\"\",\"-\"),I29,IF(K29=\"\",\"\",\"-\"),K29,IF(M29=\"\",\"\",\"-\"),M29,IF(O29=\"\",\"\",\"-\"),O29))))","v":""},null," ",{"$nulls":11},{"$f":"IF(LEN('1 - Opstart Importark'!$B$6)>0,'1 - Opstart Importark'!$B$6,\"\")","v":""},{"$f":"IF(LEN('1 - Opstart Importark'!$B$9)>0,'1 - Opstart Importark'!$B$9,\"\")","v":""},{"$f":"IF(LEN('1 - Opstart Importark'!$B$31)>0,'1 - Opstart Importark'!$B$31,\"\")","v":""},{"$nulls":12},"",{"$nulls":8},0,"","","objektnogle_"]
[19,null,{"$f":"IF('1 - Opstart Importark'!$B$6=\"\",\"\",(IF('1 - Opstart Importark'!$B$15=\"\",CONCATENATE(LEFT('1 - Opstart Importark'!$B$3,1),(LEFT('1 - Opstart Importark'!$B$24,2)),LEFT('1 - Opstart Importark'!$B$28,3),IF(I30=\"\",\"\",\"-\"),I30,IF(K30=\"\",\"\",\"-\"),K30,IF(M30=\"\",\"\",\"-\"),M30,IF(O30=\"\",\"\",\"-\"),O30),CONCATENATE(LEFT('1 - Opstart Importark'!$B$3,1),(LEFT('1 - Opstart Importark'!$B$15,2)),(LEFT('1 - Opstart Importark'!$B$18,3)),IF(I30=\"\",\"\",\"-\"),I30,IF(K30=\"\",\"\",\"-\"),K30,IF(M30=\"\",\"\",\"-\"),M30,IF(O30=\"\",\"\",\"-\"),O30))))","v":""},null," ",{"$nulls":11},{"$f":"IF(LEN('1 - Opstart Importark'!$B$6)>0,'1 - Opstart Importark'!$B$6,\"\")","v":""},{"$f":"IF(LEN('1 - Opstart Importark'!$B$9)>0,'1 - Opstart Importark'!$B$9,\"\")","v":""},{"$f":"IF(LEN('1 - Opstart Importark'!$B$31)>0,'1 - Opstart Importark'!$B$31,\"\")","v":""},{"$nulls":12},"",{"$nulls":8},0,"","","objektnogle_"]
[20,null,{"$f":"IF('1 - Opstart Importark'!$B$6=\"\",\"\",(IF('1 - Opstart Importark'!$B$15=\"\",CONCATENATE(LEFT('1 - Opstart Importark'!$B$3,1),(LEFT('1 - Opstart Importark'!$B$24,2)),LEFT('1 - Opstart Importark'!$B$28,3),IF(I31=\"\",\"\",\"-\"),I31,IF(K31=\"\",\"\",\"-\"),K31,IF(M31=\"\",\"\",\"-\"),M31,IF(O31=\"\",\"\",\"-\"),O31),CONCATENATE(LEFT('1 - Opstart Importark'!$B$3,1),(LEFT('1 - Opstart Importark'!$B$15,2)),(LEFT('1 - Opstart Importark'!$B$18,3)),IF(I31=\"\",\"\",\"-\"),I31,IF(K31=\"\",\"\",\"-\"),K31,IF(M31=\"\",\"\",\"-\"),M31,IF(O31=\"\",\"\",\"-\"),O31))))","v":""},null," ",{"$nulls":11},{"$f":"IF(LEN('1 - Opstart Importark'!$B$6)>0,'1 - Opstart Importark'!$B$6,\"\")","v":""},{"$f":"IF(LEN('1 - Opstart Importark'!$B$9)>0,'1 - Opstart Importark'!$B$9,\"\")","v":""},{"$f":"IF(LEN('1 - Opstart Importark'!$B$31)>0,'1 - Opstart Importark'!$B$31,\"\")","v":""},{"$nulls":12},"",{"$nulls":8},0,"","","objektnogle_"]
[21,null,{"$f":"IF('1 - Opstart Importark'!$B$6=\"\",\"\",(IF('1 - Opstart Importark'!$B$15=\"\",CONCATENATE(LEFT('1 - Opstart Importark'!$B$3,1),(LEFT('1 - Opstart Importark'!$B$24,2)),LEFT('1 - Opstart Importark'!$B$28,3),IF(I32=\"\",\"\",\"-\"),I32,IF(K32=\"\",\"\",\"-\"),K32,IF(M32=\"\",\"\",\"-\"),M32,IF(O32=\"\",\"\",\"-\"),O32),CONCATENATE(LEFT('1 - Opstart Importark'!$B$3,1),(LEFT('1 - Opstart Importark'!$B$15,2)),(LEFT('1 - Opstart Importark'!$B$18,3)),IF(I32=\"\",\"\",\"-\"),I32,IF(K32=\"\",\"\",\"-\"),K32,IF(M32=\"\",\"\",\"-\"),M32,IF(O32=\"\",\"\",\"-\"),O32))))","v":""},null," ",{"$nulls":11},{"$f":"IF(LEN('1 - Opstart Importark'!$B$6)>0,'1 - Opstart Importark'!$B$6,\"\")","v":""},{"$f":"IF(LEN('1 - Opstart Importark'!$B$9)>0,'1 - Opstart Importark'!$B$9,\"\")","v":""},{"$f":"IF(LEN('1 - Opstart Importark'!$B$31)>0,'1 - Opstart Importark'!$B$31,\"\")","v":""},{"$nulls":12},"",{"$nulls":8},0,"","","objektnogle_"]
[22,null,{"$f":"IF('1 - Opstart Importark'!$B$6=\"\",\"\",(IF('1 - Opstart Importark'!$B$15=\"\",CONCATENATE(LEFT('1 - Opstart Importark'!$B$3,1),(LEFT('1 - Opstart Importark'!$B$24,2)),LEFT('1 - Opstart Importark'!$B$28,3),IF(I33=\"\",\"\",\"-\"),I33,IF(K33=\"\",\"\",\"-\"),K33,IF(M33=\"\",\"\",\"-\"),M33,IF(O33=\"\",\"\",\"-\"),O33),CONCATENATE(LEFT('1 - Opstart Importark'!$B$3,1),(LEFT('1 - Opstart Importark'!$B$15,2)),(LEFT('1 - Opstart Importark'!$B$18,3)),IF(I33=\"\",\"\",\"-\"),I33,IF(K33=\"\",\"\",\"-\"),K33,IF(M33=\"\",\"\",\"-\"),M33,IF(O33=\"\",\"\",\"-\"),O33))))","v":""},null," ",{"$nulls":11},{"$f":"IF(LEN('1 - Opstart Importark'!$B$6)>0,'1 - Opstart Importark'!$B$6,\"\")","v":""},{"$f":"IF(LEN('1 - Opstart Importark'!$B$9)>0,'1 - Opstart Importark'!$B$9,\"\")","v":""},{"$f":"IF(LEN('1 - Opstart Importark'!$B$31)>0,'1 - Opstart Importark'!$B$31,\"\")","v":""},{"$nulls":12},"",{"$nulls":8},0,"","","objektnogle_"]
[23,null,{"$f":"IF('1 - Opstart Importark'!$B$6=\"\",\"\",(IF('1 - Opstart Importark'!$B$15=\"\",CONCATENATE(LEFT('1 - Opstart Importark'!$B$3,1),(LEFT('1 - Opstart Importark'!$B$24,2)),LEFT('1 - Opstart Importark'!$B$28,3),IF(I34=\"\",\"\",\"-\"),I34,IF(K34=\"\",\"\",\"-\"),K34,IF(M34=\"\",\"\",\"-\"),M34,IF(O34=\"\",\"\",\"-\"),O34),CONCATENATE(LEFT('1 - Opstart Importark'!$B$3,1),(LEFT('1 - Opstart Importark'!$B$15,2)),(LEFT('1 - Opstart Importark'!$B$18,3)),IF(I34=\"\",\"\",\"-\"),I34,IF(K34=\"\",\"\",\"-\"),K34,IF(M34=\"\",\"\",\"-\"),M34,IF(O34=\"\",\"\",\"-\"),O34))))","v":""},null," ",{"$nulls":11},{"$f":"IF(LEN('1 - Opstart Importark'!$B$6)>0,'1 - Opstart Importark'!$B$6,\"\")","v":""},{"$f":"IF(LEN('1 - Opstart Importark'!$B$9)>0,'1 - Opstart Importark'!$B$9,\"\")","v":""},{"$f":"IF(LEN('1 - Opstart Importark'!$B$31)>0,'1 - Opstart Importark'!$B$31,\"\")","v":""},{"$nulls":12},"",{"$nulls":8},0,"","","objektnogle_"]
[24,null,{"$f":"IF('1 - Opstart Importark'!$B$6=\"\",\"\",(IF('1 - Opstart Importark'!$B$15=\"\",CONCATENATE(LEFT('1 - Opstart Importark'!$B$3,1),(LEFT('1 - Opstart Importark'!$B$24,2)),LEFT('1 - Opstart Importark'!$B$28,3),IF(I35=\"\",\"\",\"-\"),I35,IF(K35=\"\",\"\",\"-\"),K35,IF(M35=\"\",\"\",\"-\"),M35,IF(O35=\"\",\"\",\"-\"),O35),CONCATENATE(LEFT('1 - Opstart Importark'!$B$3,1),(LEFT('1 - Opstart Importark'!$B$15,2)),(LEFT('1 - Opstart Importark'!$B$18,3)),IF(I35=\"\",\"\",\"-\"),I35,IF(K35=\"\",\"\",\"-\"),K35,IF(M35=\"\",\"\",\"-\"),M35,IF(O35=\"\",\"\",\"-\"),O35))))","v":""},null," ",{"$nulls":11},{"$f":"IF(LEN('1 - Opstart Importark'!$B$6)>0,'1 - Opstart Importark'!$B$6,\"\")","v":""},{"$f":"IF(LEN('1 - Opstart Importark'!$B$9)>0,'1 - Opstart Importark'!$B$9,\"\")","v":""},{"$f":"IF(LEN('1 - Opstart Importark'!$B$31)>0,'1 - Opstart Importark'!$B$31,\"\")","v":""},{"$nulls":12},"",{"$nulls":8},0,"","","objektnogle_"]
[25,null,{"$f":"IF('1 - Opstart Importark'!$B$6=\"\",\"\",(IF('1 - Opstart Importark'!$B$15=\"\",CONCATENATE(LEFT('1 - Opstart Importark'!$B$3,1),(LEFT('1 - Opstart Importark'!$B$24,2)),LEFT('1 - Opstart Importark'!$B$28,3),IF(I36=\"\",\"\",\"-\"),I36,IF(K36=\"\",\"\",\"-\"),K36,IF(M36=\"\",\"\",\"-\"),M36,IF(O36=\"\",\"\",\"-\"),O36),CONCATENATE(LEFT('1 - Opstart Importark'!$B$3,1),(LEFT('1 - Opstart Importark'!$B$15,2)),(LEFT('1 - Opstart Importark'!$B$18,3)),IF(I36=\"\",\"\",\"-\"),I36,IF(K36=\"\",\"\",\"-\"),K36,IF(M36=\"\",\"\",\"-\"),M36,IF(O36=\"\",\"\",\"-\"),O36))))","v":""},null," ",{"$nulls":11},{"$f":"IF(LEN('1 - Opstart Importark'!$B$6)>0,'1 - Opstart Importark'!$B$6,\"\")","v":""},{"$f":"IF(LEN('1 - Opstart Importark'!$B$9)>0,'1 - Opstart Importark'!$B$9,\"\")","v":""},{"$f":"IF(LEN('1 - Opstart Importark'!$B$31)>0,'1 - Opstart Importark'!$B$31,\"\")","v":""},{"$nulls":12},"",{"$nulls":8},0,"","","objektnogle_"]
[26,null,{"$f":"IF('1 - Opstart Importark'!$B$6=\"\",\"\",(IF('1 - Opstart Importark'!$B$15=\"\",CONCATENATE(LEFT('1 - Opstart Importark'!$B$3,1),(LEFT('1 - Opstart Importark'!$B$24,2)),LEFT('1 - Opstart Importark'!$B$28,3),IF(I37=\"\",\"\",\"-\"),I37,IF(K37=\"\",\"\",\"-\"),K37,IF(M37=\"\",\"\",\"-\"),M37,IF(O37=\"\",\"\",\"-\"),O37),CONCATENATE(LEFT('1 - Opstart Importark'!$B$3,1),(LEFT('1 - Opstart Importark'!$B$15,2)),(LEFT('1 - Opstart Importark'!$B$18,3)),IF(I37=\"\",\"\",\"-\"),I37,IF(K37=\"\",\"\",\"-\"),K37,IF(M37=\"\",\"\",\"-\"),M37,IF(O37=\"\",\"\",\"-\"),O37))))","v":""},null," ",{"$nulls":11},{"$f":"IF(LEN('1 - Opstart Importark'!$B$6)>0,'1 - Opstart Importark'!$B$6,\"\")","v":""},{"$f":"IF(LEN('1 - Opstart Importark'!$B$9)>0,'1 - Opstart Importark'!$B$9,\"\")","v":""},{"$f":"IF(LEN('1 - Opstart Importark'!$B$31)>0,'1 - Opstart Importark'!$B$31,\"\")","v":""},{"$nulls":12},"",{"$nulls":8},0,"","","objektnogle_"]
[27,null,{"$f":"IF('1 - Opstart Importark'!$B$6=\"\",\"\",(IF('1 - Opstart Importark'!$B$15=\"\",CONCATENATE(LEFT('1 - Opstart Importark'!$B$3,1),(LEFT('1 - Opstart Importark'!$B$24,2)),LEFT('1 - Opstart Importark'!$B$28,3),IF(I38=\"\",\"\",\"-\"),I38,IF(K38=\"\",\"\",\"-\"),K38,IF(M38=\"\",\"\",\"-\"),M38,IF(O38=\"\",\"\",\"-\"),O38),CONCATENATE(LEFT('1 - Opstart Importark'!$B$3,1),(LEFT('1 - Opstart Importark'!$B$15,2)),(LEFT('1 - Opstart Importark'!$B$18,3)),IF(I38=\"\",\"\",\"-\"),I38,IF(K38=\"\",\"\",\"-\"),K38,IF(M38=\"\",\"\",\"-\"),M38,IF(O38=\"\",\"\",\"-\"),O38))))","v":""},null," ",{"$nulls":11},{"$f":"IF(LEN('1 - Opstart Importark'!$B$6)>0,'1 - Opstart Importark'!$B$6,\"\")","v":""},{"$f":"IF(LEN('1 - Opstart Importark'!$B$9)>0,'1 - Opstart Importark'!$B$9,\"\")","v":""},{"$f":"IF(LEN('1 - Opstart Importark'!$B$31)>0,'1 - Opstart Importark'!$B$31,\"\")","v":""},{"$nulls":12},"",{"$nulls":8},0,"","","objektnogle_"]
[28,null,{"$f":"IF('1 - Opstart Importark'!$B$6=\"\",\"\",(IF('1 - Opstart Importark'!$B$15=\"\",CONCATENATE(LEFT('1 - Opstart Importark'!$B$3,1),(LEFT('1 - Opstart Importark'!$B$24,2)),LEFT('1 - Opstart Importark'!$B$28,3),IF(I39=\"\",\"\",\"-\"),I39,IF(K39=\"\",\"\",\"-\"),K39,IF(M39=\"\",\"\",\"-\"),M39,IF(O39=\"\",\"\",\"-\"),O39),CONCATENATE(LEFT('1 - Opstart Importark'!$B$3,1),(LEFT('1 - Opstart Importark'!$B$15,2)),(LEFT('1 - Opstart Importark'!$B$18,3)),IF(I39=\"\",\"\",\"-\"),I39,IF(K39=\"\",\"\",\"-\"),K39,IF(M39=\"\",\"\",\"-\"),M39,IF(O39=\"\",\"\",\"-\"),O39))))","v":""},null," ",{"$nulls":11},{"$f":"IF(LEN('1 - Opstart Importark'!$B$6)>0,'1 - Opstart Importark'!$B$6,\"\")","v":""},{"$f":"IF(LEN('1 - Opstart Importark'!$B$9)>0,'1 - Opstart Importark'!$B$9,\"\")","v":""},{"$f":"IF(LEN('1 - Opstart Importark'!$B$31)>0,'1 - Opstart Importark'!$B$31,\"\")","v":""},{"$nulls":12},"",{"$nulls":8},0,"","","objektnogle_"]
[29,null,{"$f":"IF('1 - Opstart Importark'!$B$6=\"\",\"\",(IF('1 - Opstart Importark'!$B$15=\"\",CONCATENATE(LEFT('1 - Opstart Importark'!$B$3,1),(LEFT('1 - Opstart Importark'!$B$24,2)),LEFT('1 - Opstart Importark'!$B$28,3),IF(I40=\"\",\"\",\"-\"),I40,IF(K40=\"\",\"\",\"-\"),K40,IF(M40=\"\",\"\",\"-\"),M40,IF(O40=\"\",\"\",\"-\"),O40),CONCATENATE(LEFT('1 - Opstart Importark'!$B$3,1),(LEFT('1 - Opstart Importark'!$B$15,2)),(LEFT('1 - Opstart Importark'!$B$18,3)),IF(I40=\"\",\"\",\"-\"),I40,IF(K40=\"\",\"\",\"-\"),K40,IF(M40=\"\",\"\",\"-\"),M40,IF(O40=\"\",\"\",\"-\"),O40))))","v":""},null," ",{"$nulls":11},{"$f":"IF(LEN('1 - Opstart Importark'!$B$6)>0,'1 - Opstart Importark'!$B$6,\"\")","v":""},{"$f":"IF(LEN('1 - Opstart Importark'!$B$9)>0,'1 - Opstart Importark'!$B$9,\"\")","v":""},{"$f":"IF(LEN('1 - Opstart Importark'!$B$31)>0,'1 - Opstart Importark'!$B$31,\"\")","v":""},{"$nulls":12},"",{"$nulls":8},0,"","","objektnogle_"]
[30,null,{"$f":"IF('1 - Opstart Importark'!$B$6=\"\",\"\",(IF('1 - Opstart Importark'!$B$15=\"\",CONCATENATE(LEFT('1 - Opstart Importark'!$B$3,1),(LEFT('1 - Opstart Importark'!$B$24,2)),LEFT('1 - Opstart Importark'!$B$28,3),IF(I41=\"\",\"\",\"-\"),I41,IF(K41=\"\",\"\",\"-\"),K41,IF(M41=\"\",\"\",\"-\"),M41,IF(O41=\"\",\"\",\"-\"),O41),CONCATENATE(LEFT('1 - Opstart Importark'!$B$3,1),(LEFT('1 - Opstart Importark'!$B$15,2)),(LEFT('1 - Opstart Importark'!$B$18,3)),IF(I41=\"\",\"\",\"-\"),I41,IF(K41=\"\",\"\",\"-\"),K41,IF(M41=\"\",\"\",\"-\"),M41,IF(O41=\"\",\"\",\"-\"),O41))))","v":""},null," ",{"$nulls":11},{"$f":"IF(LEN('1 - Opstart Importark'!$B$6)>0,'1 - Opstart Importark'!$B$6,\"\")","v":""},{"$f":"IF(LEN('1 - Opstart Importark'!$B$9)>0,'1 - Opstart Importark'!$B$9,\"\")","v":""},{"$f":"IF(LEN('1 - Opstart Importark'!$B$31)>0,'1 - Opstart Importark'!$B$31,\"\")","v":""},{"$nulls":12},"",{"$nulls":8},0,"","","objektnogle_"]
[31,null,{"$f":"IF('1 - Opstart Importark'!$B$6=\"\",\"\",(IF('1 - Opstart Importark'!$B$15=\"\",CONCATENATE(LEFT('1 - Opstart Importark'!$B$3,1),(LEFT('1 - Opstart Importark'!$B$24,2)),LEFT('1 - Opstart Importark'!$B$28,3),IF(I42=\"\",\"\",\"-\"),I42,IF(K42=\"\",\"\",\"-\"),K42,IF(M42=\"\",\"\",\"-\"),M42,IF(O42=\"\",\"\",\"-\"),O42),CONCATENATE(LEFT('1 - Opstart Importark'!$B$3,1),(LEFT('1 - Opstart Importark'!$B$15,2)),(LEFT('1 - Opstart Importark'!$B$18,3)),IF(I42=\"\",\"\",\"-\"),I42,IF(K42=\"\",\"\",\"-\"),K42,IF(M42=\"\",\"\",\"-\"),M42,IF(O42=\"\",\"\",\"-\"),O42))))","v":""},null," ",{"$nulls":11},{"$f":"IF(LEN('1 - Opstart Importark'!$B$6)>0,'1 - Opstart Importark'!$B$6,\"\")","v":""},{"$f":"IF(LEN('1 - Opstart Importark'!$B$9)>0,'1 - Opstart Importark'!$B$9,\"\")","v":""},{"$f":"IF(LEN('1 - Opstart Importark'!$B$31)>0,'1 - Opstart Importark'!$B$31,\"\")","v":""},{"$nulls":12},"",{"$nulls":8},0,"","","objektnogle_"]
[32,null,{"$f":"IF('1 - Opstart Importark'!$B$6=\"\",\"\",(IF('1 - Opstart Importark'!$B$15=\"\",CONCATENATE(LEFT('1 - Opstart Importark'!$B$3,1),(LEFT('1 - Opstart Importark'!$B$24,2)),LEFT('1 - Opstart Importark'!$B$28,3),IF(I43=\"\",\"\",\"-\"),I43,IF(K43=\"\",\"\",\"-\"),K43,IF(M43=\"\",\"\",\"-\"),M43,IF(O43=\"\",\"\",\"-\"),O43),CONCATENATE(LEFT('1 - Opstart Importark'!$B$3,1),(LEFT('1 - Opstart Importark'!$B$15,2)),(LEFT('1 - Opstart Importark'!$B$18,3)),IF(I43=\"\",\"\",\"-\"),I43,IF(K43=\"\",\"\",\"-\"),K43,IF(M43=\"\",\"\",\"-\"),M43,IF(O43=\"\",\"\",\"-\"),O43))))","v":""},null," ",{"$nulls":11},{"$f":"IF(LEN('1 - Opstart Importark'!$B$6)>0,'1 - Opstart Importark'!$B$6,\"\")","v":""},{"$f":"IF(LEN('1 - Opstart Importark'!$B$9)>0,'1 - Opstart Importark'!$B$9,\"\")","v":""},{"$f":"IF(LEN('1 - Opstart Importark'!$B$31)>0,'1 - Opstart Importark'!$B$31,\"\")","v":""},{"$nulls":12},"",{"$nulls":8},0,"","","objektnogle_"]
[33,null,{"$f":"IF('1 - Opstart Importark'!$B$6=\"\",\"\",(IF('1 - Opstart Importark'!$B$15=\"\",CONCATENATE(LEFT('1 - Opstart Importark'!$B$3,1),(LEFT('1 - Opstart Importark'!$B$24,2)),LEFT('1 - Opstart Importark'!$B$28,3),IF(I44=\"\",\"\",\"-\"),I44,IF(K44=\"\",\"\",\"-\"),K44,IF(M44=\"\",\"\",\"-\"),M44,IF(O44=\"\",\"\",\"-\"),O44),CONCATENATE(LEFT('1 - Opstart Importark'!$B$3,1),(LEFT('1 - Opstart Importark'!$B$15,2)),(LEFT('1 - Opstart Importark'!$B$18,3)),IF(I44=\"\",\"\",\"-\"),I44,IF(K44=\"\",\"\",\"-\"),K44,IF(M44=\"\",\"\",\"-\"),M44,IF(O44=\"\",\"\",\"-\"),O44))))","v":""},null," ",{"$nulls":11},{"$f":"IF(LEN('1 - Opstart Importark'!$B$6)>0,'1 - Opstart Importark'!$B$6,\"\")","v":""},{"$f":"IF(LEN('1 - Opstart Importark'!$B$9)>0,'1 - Opstart Importark'!$B$9,\"\")","v":""},{"$f":"IF(LEN('1 - Opstart Importark'!$B$31)>0,'1 - Opstart Importark'!$B$31,\"\")","v":""},{"$nulls":12},"",{"$nulls":8},0,"","","objektnogle_"]
[34,null,{"$f":"IF('1 - Opstart Importark'!$B$6=\"\",\"\",(IF('1 - Opstart Importark'!$B$15=\"\",CONCATENATE(LEFT('1 - Opstart Importark'!$B$3,1),(LEFT('1 - Opstart Importark'!$B$24,2)),LEFT('1 - Opstart Importark'!$B$28,3),IF(I45=\"\",\"\",\"-\"),I45,IF(K45=\"\",\"\",\"-\"),K45,IF(M45=\"\",\"\",\"-\"),M45,IF(O45=\"\",\"\",\"-\"),O45),CONCATENATE(LEFT('1 - Opstart Importark'!$B$3,1),(LEFT('1 - Opstart Importark'!$B$15,2)),(LEFT('1 - Opstart Importark'!$B$18,3)),IF(I45=\"\",\"\",\"-\"),I45,IF(K45=\"\",\"\",\"-\"),K45,IF(M45=\"\",\"\",\"-\"),M45,IF(O45=\"\",\"\",\"-\"),O45))))","v":""},null," ",{"$nulls":11},{"$f":"IF(LEN('1 - Opstart Importark'!$B$6)>0,'1 - Opstart Importark'!$B$6,\"\")","v":""},{"$f":"IF(LEN('1 - Opstart Importark'!$B$9)>0,'1 - Opstart Importark'!$B$9,\"\")","v":""},{"$f":"IF(LEN('1 - Opstart Importark'!$B$31)>0,'1 - Opstart Importark'!$B$31,\"\")","v":""},{"$nulls":12},"",{"$nulls":8},0,"","","objektnogle_"]
[35,null,{"$f":"IF('1 - Opstart Importark'!$B$6=\"\",\"\",(IF('1 - Opstart Importark'!$B$15=\"\",CONCATENATE(LEFT('1 - Opstart Importark'!$B$3,1),(LEFT('1 - Opstart Importark'!$B$24,2)),LEFT('1 - Opstart Importark'!$B$28,3),IF(I46=\"\",\"\",\"-\"),I46,IF(K46=\"\",\"\",\"-\"),K46,IF(M46=\"\",\"\",\"-\"),M46,IF(O46=\"\",\"\",\"-\"),O46),CONCATENATE(LEFT('1 - Opstart Importark'!$B$3,1),(LEFT('1 - Opstart Importark'!$B$15,2)),(LEFT('1 - Opstart Importark'!$B$18,3)),IF(I46=\"\",\"\",\"-\"),I46,IF(K46=\"\",\"\",\"-\"),K46,IF(M46=\"\",\"\",\"-\"),M46,IF(O46=\"\",\"\",\"-\"),O46))))","v":""},null," ",{"$nulls":11},{"$f":"IF(LEN('1 - Opstart Importark'!$B$6)>0,'1 - Opstart Importark'!$B$6,\"\")","v":""},{"$f":"IF(LEN('1 - Opstart Importark'!$B$9)>0,'1 - Opstart Importark'!$B$9,\"\")","v":""},{"$f":"IF(LEN('1 - Opstart Importark'!$B$31)>0,'1 - Opstart Importark'!$B$31,\"\")","v":""},{"$nulls":12},"",{"$nulls":8},0,"","","objektnogle_"]
[36,null,{"$f":"IF('1 - Opstart Importark'!$B$6=\"\",\"\",(IF('1 - Opstart Importark'!$B$15=\"\",CONCATENATE(LEFT('1 - Opstart Importark'!$B$3,1),(LEFT('1 - Opstart Importark'!$B$24,2)),LEFT('1 - Opstart Importark'!$B$28,3),IF(I47=\"\",\"\",\"-\"),I47,IF(K47=\"\",\"\",\"-\"),K47,IF(M47=\"\",\"\",\"-\"),M47,IF(O47=\"\",\"\",\"-\"),O47),CONCATENATE(LEFT('1 - Opstart Importark'!$B$3,1),(LEFT('1 - Opstart Importark'!$B$15,2)),(LEFT('1 - Opstart Importark'!$B$18,3)),IF(I47=\"\",\"\",\"-\"),I47,IF(K47=\"\",\"\",\"-\"),K47,IF(M47=\"\",\"\",\"-\"),M47,IF(O47=\"\",\"\",\"-\"),O47))))","v":""},null," ",{"$nulls":11},{"$f":"IF(LEN('1 - Opstart Importark'!$B$6)>0,'1 - Opstart Importark'!$B$6,\"\")","v":""},{"$f":"IF(LEN('1 - Opstart Importark'!$B$9)>0,'1 - Opstart Importark'!$B$9,\"\")","v":""},{"$f":"IF(LEN('1 - Opstart Importark'!$B$31)>0,'1 - Opstart Importark'!$B$31,\"\")","v":""},{"$nulls":12},"",{"$nulls":8},0,"","","objektnogle_"]
[37,null,{"$f":"IF('1 - Opstart Importark'!$B$6=\"\",\"\",(IF('1 - Opstart Importark'!$B$15=\"\",CONCATENATE(LEFT('1 - Opstart Importark'!$B$3,1),(LEFT('1 - Opstart Importark'!$B$24,2)),LEFT('1 - Opstart Importark'!$B$28,3),IF(I48=\"\",\"\",\"-\"),I48,IF(K48=\"\",\"\",\"-\"),K48,IF(M48=\"\",\"\",\"-\"),M48,IF(O48=\"\",\"\",\"-\"),O48),CONCATENATE(LEFT('1 - Opstart Importark'!$B$3,1),(LEFT('1 - Opstart Importark'!$B$15,2)),(LEFT('1 - Opstart Importark'!$B$18,3)),IF(I48=\"\",\"\",\"-\"),I48,IF(K48=\"\",\"\",\"-\"),K48,IF(M48=\"\",\"\",\"-\"),M48,IF(O48=\"\",\"\",\"-\"),O48))))","v":""},null," ",{"$nulls":11},{"$f":"IF(LEN('1 - Opstart Importark'!$B$6)>0,'1 - Opstart Importark'!$B$6,\"\")","v":""},{"$f":"IF(LEN('1 - Opstart Importark'!$B$9)>0,'1 - Opstart Importark'!$B$9,\"\")","v":""},{"$f":"IF(LEN('1 - Opstart Importark'!$B$31)>0,'1 - Opstart Importark'!$B$31,\"\")","v":""},{"$nulls":12},"",{"$nulls":8},0,"","","objektnogle_"]
[38,null,{"$f":"IF('1 - Opstart Importark'!$B$6=\"\",\"\",(IF('1 - Opstart Importark'!$B$15=\"\",CONCATENATE(LEFT('1 - Opstart Importark'!$B$3,1),(LEFT('1 - Opstart Importark'!$B$24,2)),LEFT('1 - Opstart Importark'!$B$28,3),IF(I49=\"\",\"\",\"-\"),I49,IF(K49=\"\",\"\",\"-\"),K49,IF(M49=\"\",\"\",\"-\"),M49,IF(O49=\"\",\"\",\"-\"),O49),CONCATENATE(LEFT('1 - Opstart Importark'!$B$3,1),(LEFT('1 - Opstart Importark'!$B$15,2)),(LEFT('1 - Opstart Importark'!$B$18,3)),IF(I49=\"\",\"\",\"-\"),I49,IF(K49=\"\",\"\",\"-\"),K49,IF(M49=\"\",\"\",\"-\"),M49,IF(O49=\"\",\"\",\"-\"),O49))))","v":""},null," ",{"$nulls":11},{"$f":"IF(LEN('1 - Opstart Importark'!$B$6)>0,'1 - Opstart Importark'!$B$6,\"\")","v":""},{"$f":"IF(LEN('1 - Opstart Importark'!$B$9)>0,'1 - Opstart Importark'!$B$9,\"\")","v":""},{"$f":"IF(LEN('1 - Opstart Importark'!$B$31)>0,'1 - Opstart Importark'!$B$31,\"\")","v":""},{"$nulls":12},"",{"$nulls":8},0,"","","objektnogle_"]
[39,null,{"$f":"IF('1 - Opstart Importark'!$B$6=\"\",\"\",(IF('1 - Opstart Importark'!$B$15=\"\",CONCATENATE(LEFT('1 - Opstart Importark'!$B$3,1),(LEFT('1 - Opstart Importark'!$B$24,2)),LEFT('1 - Opstart Importark'!$B$28,3),IF(I50=\"\",\"\",\"-\"),I50,IF(K50=\"\",\"\",\"-\"),K50,IF(M50=\"\",\"\",\"-\"),M50,IF(O50=\"\",\"\",\"-\"),O50),CONCATENATE(LEFT('1 - Opstart Importark'!$B$3,1),(LEFT('1 - Opstart Importark'!$B$15,2)),(LEFT('1 - Opstart Importark'!$B$18,3)),IF(I50=\"\",\"\",\"-\"),I50,IF(K50=\"\",\"\",\"-\"),K50,IF(M50=\"\",\"\",\"-\"),M50,IF(O50=\"\",\"\",\"-\"),O50))))","v":""},null," ",{"$nulls":11},{"$f":"IF(LEN('1 - Opstart Importark'!$B$6)>0,'1 - Opstart Importark'!$B$6,\"\")","v":""},{"$f":"IF(LEN('1 - Opstart Importark'!$B$9)>0,'1 - Opstart Importark'!$B$9,\"\")","v":""},{"$f":"IF(LEN('1 - Opstart Importark'!$B$31)>0,'1 - Opstart Importark'!$B$31,\"\")","v":""},{"$nulls":12},"",{"$nulls":8},0,"","","objektnogle_"]
[40,null,{"$f":"IF('1 - Opstart Importark'!$B$6=\"\",\"\",(IF('1 - Opstart Importark'!$B$15=\"\",CONCATENATE(LEFT('1 - Opstart Importark'!$B$3,1),(LEFT('1 - Opstart Importark'!$B$24,2)),LEFT('1 - Opstart Importark'!$B$28,3),IF(I51=\"\",\"\",\"-\"),I51,IF(K51=\"\",\"\",\"-\"),K51,IF(M51=\"\",\"\",\"-\"),M51,IF(O51=\"\",\"\",\"-\"),O51),CONCATENATE(LEFT('1 - Opstart Importark'!$B$3,1),(LEFT('1 - Opstart Importark'!$B$15,2)),(LEFT('1 - Opstart Importark'!$B$18,3)),IF(I51=\"\",\"\",\"-\"),I51,IF(K51=\"\",\"\",\"-\"),K51,IF(M51=\"\",\"\",\"-\"),M51,IF(O51=\"\",\"\",\"-\"),O51))))","v":""},null," ",{"$nulls":11},{"$f":"IF(LEN('1 - Opstart Importark'!$B$6)>0,'1 - Opstart Importark'!$B$6,\"\")","v":""},{"$f":"IF(LEN('1 - Opstart Importark'!$B$9)>0,'1 - Opstart Importark'!$B$9,\"\")","v":""},{"$f":"IF(LEN('1 - Opstart Importark'!$B$31)>0,'1 - Opstart Importark'!$B$31,\"\")","v":""},{"$nulls":12},"",{"$nulls":8},0,"","","objektnogle_"]
[41,null,{"$f":"IF('1 - Opstart Importark'!$B$6=\"\",\"\",(IF('1 - Opstart Importark'!$B$15=\"\",CONCATENATE(LEFT('1 - Opstart Importark'!$B$3,1),(LEFT('1 - Opstart Importark'!$B$24,2)),LEFT('1 - Opstart Importark'!$B$28,3),IF(I52=\"\",\"\",\"-\"),I52,IF(K52=\"\",\"\",\"-\"),K52,IF(M52=\"\",\"\",\"-\"),M52,IF(O52=\"\",\"\",\"-\"),O52),CONCATENATE(LEFT('1 - Opstart Importark'!$B$3,1),(LEFT('1 - Opstart Importark'!$B$15,2)),(LEFT('1 - Opstart Importark'!$B$18,3)),IF(I52=\"\",\"\",\"-\"),I52,IF(K52=\"\",\"\",\"-\"),K52,IF(M52=\"\",\"\",\"-\"),M52,IF(O52=\"\",\"\",\"-\"),O52))))","v":""},null," ",{"$nulls":11},{"$f":"IF(LEN('1 - Opstart Importark'!$B$6)>0,'1 - Opstart Importark'!$B$6,\"\")","v":""},{"$f":"IF(LEN('1 - Opstart Importark'!$B$9)>0,'1 - Opstart Importark'!$B$9,\"\")","v":""},{"$f":"IF(LEN('1 - Opstart Importark'!$B$31)>0,'1 - Opstart Importark'!$B$31,\"\")","v":""},{"$nulls":12},"",{"$nulls":8},0,"","","objektnogle_"]
[42,null,{"$f":"IF('1 - Opstart Importark'!$B$6=\"\",\"\",(IF('1 - Opstart Importark'!$B$15=\"\",CONCATENATE(LEFT('1 - Opstart Importark'!$B$3,1),(LEFT('1 - Opstart Importark'!$B$24,2)),LEFT('1 - Opstart Importark'!$B$28,3),IF(I53=\"\",\"\",\"-\"),I53,IF(K53=\"\",\"\",\"-\"),K53,IF(M53=\"\",\"\",\"-\"),M53,IF(O53=\"\",\"\",\"-\"),O53),CONCATENATE(LEFT('1 - Opstart Importark'!$B$3,1),(LEFT('1 - Opstart Importark'!$B$15,2)),(LEFT('1 - Opstart Importark'!$B$18,3)),IF(I53=\"\",\"\",\"-\"),I53,IF(K53=\"\",\"\",\"-\"),K53,IF(M53=\"\",\"\",\"-\"),M53,IF(O53=\"\",\"\",\"-\"),O53))))","v":""},null," ",{"$nulls":11},{"$f":"IF(LEN('1 - Opstart Importark'!$B$6)>0,'1 - Opstart Importark'!$B$6,\"\")","v":""},{"$f":"IF(LEN('1 - Opstart Importark'!$B$9)>0,'1 - Opstart Importark'!$B$9,\"\")","v":""},{"$f":"IF(LEN('1 - Opstart Importark'!$B$31)>0,'1 - Opstart Importark'!$B$31,\"\")","v":""},{"$nulls":12},"",{"$nulls":8},0,"","","objektnogle_"]
[43,null,{"$f":"IF('1 - Opstart Importark'!$B$6=\"\",\"\",(IF('1 - Opstart Importark'!$B$15=\"\",CONCATENATE(LEFT('1 - Opstart Importark'!$B$3,1),(LEFT('1 - Opstart Importark'!$B$24,2)),LEFT('1 - Opstart Importark'!$B$28,3),IF(I54=\"\",\"\",\"-\"),I54,IF(K54=\"\",\"\",\"-\"),K54,IF(M54=\"\",\"\",\"-\"),M54,IF(O54=\"\",\"\",\"-\"),O54),CONCATENATE(LEFT('1 - Opstart Importark'!$B$3,1),(LEFT('1 - Opstart Importark'!$B$15,2)),(LEFT('1 - Opstart Importark'!$B$18,3)),IF(I54=\"\",\"\",\"-\"),I54,IF(K54=\"\",\"\",\"-\"),K54,IF(M54=\"\",\"\",\"-\"),M54,IF(O54=\"\",\"\",\"-\"),O54))))","v":""},null," ",{"$nulls":11},{"$f":"IF(LEN('1 - Opstart Importark'!$B$6)>0,'1 - Opstart Importark'!$B$6,\"\")","v":""},{"$f":"IF(LEN('1 - Opstart Importark'!$B$9)>0,'1 - Opstart Importark'!$B$9,\"\")","v":""},{"$f":"IF(LEN('1 - Opstart Importark'!$B$31)>0,'1 - Opstart Importark'!$B$31,\"\")","v":""},{"$nulls":12},"",{"$nulls":8},0,"","","objektnogle_"]
[44,null,{"$f":"IF('1 - Opstart Importark'!$B$6=\"\",\"\",(IF('1 - Opstart Importark'!$B$15=\"\",CONCATENATE(LEFT('1 - Opstart Importark'!$B$3,1),(LEFT('1 - Opstart Importark'!$B$24,2)),LEFT('1 - Opstart Importark'!$B$28,3),IF(I55=\"\",\"\",\"-\"),I55,IF(K55=\"\",\"\",\"-\"),K55,IF(M55=\"\",\"\",\"-\"),M55,IF(O55=\"\",\"\",\"-\"),O55),CONCATENATE(LEFT('1 - Opstart Importark'!$B$3,1),(LEFT('1 - Opstart Importark'!$B$15,2)),(LEFT('1 - Opstart Importark'!$B$18,3)),IF(I55=\"\",\"\",\"-\"),I55,IF(K55=\"\",\"\",\"-\"),K55,IF(M55=\"\",\"\",\"-\"),M55,IF(O55=\"\",\"\",\"-\"),O55))))","v":""},null," ",{"$nulls":11},{"$f":"IF(LEN('1 - Opstart Importark'!$B$6)>0,'1 - Opstart Importark'!$B$6,\"\")","v":""},{"$f":"IF(LEN('1 - Opstart Importark'!$B$9)>0,'1 - Opstart Importark'!$B$9,\"\")","v":""},{"$f":"IF(LEN('1 - Opstart Importark'!$B$31)>0,'1 - Opstart Importark'!$B$31,\"\")","v":""},{"$nulls":12},"",{"$nulls":8},0,"","","objektnogle_"]
[45,null,{"$f":"IF('1 - Opstart Importark'!$B$6=\"\",\"\",(IF('1 - Opstart Importark'!$B$15=\"\",CONCATENATE(LEFT('1 - Opstart Importark'!$B$3,1),(LEFT('1 - Opstart Importark'!$B$24,2)),LEFT('1 - Opstart Importark'!$B$28,3),IF(I56=\"\",\"\",\"-\"),I56,IF(K56=\"\",\"\",\"-\"),K56,IF(M56=\"\",\"\",\"-\"),M56,IF(O56=\"\",\"\",\"-\"),O56),CONCATENATE(LEFT('1 - Opstart Importark'!$B$3,1),(LEFT('1 - Opstart Importark'!$B$15,2)),(LEFT('1 - Opstart Importark'!$B$18,3)),IF(I56=\"\",\"\",\"-\"),I56,IF(K56=\"\",\"\",\"-\"),K56,IF(M56=\"\",\"\",\"-\"),M56,IF(O56=\"\",\"\",\"-\"),O56))))","v":""},null," ",{"$nulls":11},{"$f":"IF(LEN('1 - Opstart Importark'!$B$6)>0,'1 - Opstart Importark'!$B$6,\"\")","v":""},{"$f":"IF(LEN('1 - Opstart Importark'!$B$9)>0,'1 - Opstart Importark'!$B$9,\"\")","v":""},{"$f":"IF(LEN('1 - Opstart Importark'!$B$31)>0,'1 - Opstart Importark'!$B$31,\"\")","v":""},{"$nulls":12},"",{"$nulls":8},0,"","","objektnogle_"]
[46,null,{"$f":"IF('1 - Opstart Importark'!$B$6=\"\",\"\",(IF('1 - Opstart Importark'!$B$15=\"\",CONCATENATE(LEFT('1 - Opstart Importark'!$B$3,1),(LEFT('1 - Opstart Importark'!$B$24,2)),LEFT('1 - Opstart Importark'!$B$28,3),IF(I57=\"\",\"\",\"-\"),I57,IF(K57=\"\",\"\",\"-\"),K57,IF(M57=\"\",\"\",\"-\"),M57,IF(O57=\"\",\"\",\"-\"),O57),CONCATENATE(LEFT('1 - Opstart Importark'!$B$3,1),(LEFT('1 - Opstart Importark'!$B$15,2)),(LEFT('1 - Opstart Importark'!$B$18,3)),IF(I57=\"\",\"\",\"-\"),I57,IF(K57=\"\",\"\",\"-\"),K57,IF(M57=\"\",\"\",\"-\"),M57,IF(O57=\"\",\"\",\"-\"),O57))))","v":""},null," ",{"$nulls":11},{"$f":"IF(LEN('1 - Opstart Importark'!$B$6)>0,'1 - Opstart Importark'!$B$6,\"\")","v":""},{"$f":"IF(LEN('1 - Opstart Importark'!$B$9)>0,'1 - Opstart Importark'!$B$9,\"\")","v":""},{"$f":"IF(LEN('1 - Opstart Importark'!$B$31)>0,'1 - Opstart Importark'!$B$31,\"\")","v":""},{"$nulls":12},"",{"$nulls":8},0,"","","objektnogle_"]
[47,null,{"$f":"IF('1 - Opstart Importark'!$B$6=\"\",\"\",(IF('1 - Opstart Importark'!$B$15=\"\",CONCATENATE(LEFT('1 - Opstart Importark'!$B$3,1),(LEFT('1 - Opstart Importark'!$B$24,2)),LEFT('1 - Opstart Importark'!$B$28,3),IF(I58=\"\",\"\",\"-\"),I58,IF(K58=\"\",\"\",\"-\"),K58,IF(M58=\"\",\"\",\"-\"),M58,IF(O58=\"\",\"\",\"-\"),O58),CONCATENATE(LEFT('1 - Opstart Importark'!$B$3,1),(LEFT('1 - Opstart Importark'!$B$15,2)),(LEFT('1 - Opstart Importark'!$B$18,3)),IF(I58=\"\",\"\",\"-\"),I58,IF(K58=\"\",\"\",\"-\"),K58,IF(M58=\"\",\"\",\"-\"),M58,IF(O58=\"\",\"\",\"-\"),O58))))","v":""},null," ",{"$nulls":11},{"$f":"IF(LEN('1 - Opstart Importark'!$B$6)>0,'1 - Opstart Importark'!$B$6,\"\")","v":""},{"$f":"IF(LEN('1 - Opstart Importark'!$B$9)>0,'1 - Opstart Importark'!$B$9,\"\")","v":""},{"$f":"IF(LEN('1 - Opstart Importark'!$B$31)>0,'1 - Opstart Importark'!$B$31,\"\")","v":""},{"$nulls":12},"",{"$nulls":8},0,"","","objektnogle_"]
[48,null,{"$f":"IF('1 - Opstart Importark'!$B$6=\"\",\"\",(IF('1 - Opstart Importark'!$B$15=\"\",CONCATENATE(LEFT('1 - Opstart Importark'!$B$3,1),(LEFT('1 - Opstart Importark'!$B$24,2)),LEFT('1 - Opstart Importark'!$B$28,3),IF(I59=\"\",\"\",\"-\"),I59,IF(K59=\"\",\"\",\"-\"),K59,IF(M59=\"\",\"\",\"-\"),M59,IF(O59=\"\",\"\",\"-\"),O59),CONCATENATE(LEFT('1 - Opstart Importark'!$B$3,1),(LEFT('1 - Opstart Importark'!$B$15,2)),(LEFT('1 - Opstart Importark'!$B$18,3)),IF(I59=\"\",\"\",\"-\"),I59,IF(K59=\"\",\"\",\"-\"),K59,IF(M59=\"\",\"\",\"-\"),M59,IF(O59=\"\",\"\",\"-\"),O59))))","v":""},null," ",{"$nulls":11},{"$f":"IF(LEN('1 - Opstart Importark'!$B$6)>0,'1 - Opstart Importark'!$B$6,\"\")","v":""},{"$f":"IF(LEN('1 - Opstart Importark'!$B$9)>0,'1 - Opstart Importark'!$B$9,\"\")","v":""},{"$f":"IF(LEN('1 - Opstart Importark'!$B$31)>0,'1 - Opstart Importark'!$B$31,\"\")","v":""},{"$nulls":12},"",{"$nulls":8},0,"","","objektnogle_"]
[49,null,{"$f":"IF('1 - Opstart Importark'!$B$6=\"\",\"\",(IF('1 - Opstart Importark'!$B$15=\"\",CONCATENATE(LEFT('1 - Opstart Importark'!$B$3,1),(LEFT('1 - Opstart Importark'!$B$24,2)),LEFT('1 - Opstart Importark'!$B$28,3),IF(I60=\"\",\"\",\"-\"),I60,IF(K60=\"\",\"\",\"-\"),K60,IF(M60=\"\",\"\",\"-\"),M60,IF(O60=\"\",\"\",\"-\"),O60),CONCATENATE(LEFT('1 - Opstart Importark'!$B$3,1),(LEFT('1 - Opstart Importark'!$B$15,2)),(LEFT('1 - Opstart Importark'!$B$18,3)),IF(I60=\"\",\"\",\"-\"),I60,IF(K60=\"\",\"\",\"-\"),K60,IF(M60=\"\",\"\",\"-\"),M60,IF(O60=\"\",\"\",\"-\"),O60))))","v":""},null," ",{"$nulls":11},{"$f":"IF(LEN('1 - Opstart Importark'!$B$6)>0,'1 - Opstart Importark'!$B$6,\"\")","v":""},{"$f":"IF(LEN('1 - Opstart Importark'!$B$9)>0,'1 - Opstart Importark'!$B$9,\"\")","v":""},{"$f":"IF(LEN('1 - Opstart Importark'!$B$31)>0,'1 - Opstart Importark'!$B$31,\"\")","v":""},{"$nulls":12},"",{"$nulls":8},0,"","","objektnogle_"]
[50,null,{"$f":"IF('1 - Opstart Importark'!$B$6=\"\",\"\",(IF('1 - Opstart Importark'!$B$15=\"\",CONCATENATE(LEFT('1 - Opstart Importark'!$B$3,1),(LEFT('1 - Opstart Importark'!$B$24,2)),LEFT('1 - Opstart Importark'!$B$28,3),IF(I61=\"\",\"\",\"-\"),I61,IF(K61=\"\",\"\",\"-\"),K61,IF(M61=\"\",\"\",\"-\"),M61,IF(O61=\"\",\"\",\"-\"),O61),CONCATENATE(LEFT('1 - Opstart Importark'!$B$3,1),(LEFT('1 - Opstart Importark'!$B$15,2)),(LEFT('1 - Opstart Importark'!$B$18,3)),IF(I61=\"\",\"\",\"-\"),I61,IF(K61=\"\",\"\",\"-\"),K61,IF(M61=\"\",\"\",\"-\"),M61,IF(O61=\"\",\"\",\"-\"),O61))))","v":""},null," ",{"$nulls":11},{"$f":"IF(LEN('1 - Opstart Importark'!$B$6)>0,'1 - Opstart Importark'!$B$6,\"\")","v":""},{"$f":"IF(LEN('1 - Opstart Importark'!$B$9)>0,'1 - Opstart Importark'!$B$9,\"\")","v":""},{"$f":"IF(LEN('1 - Opstart Importark'!$B$31)>0,'1 - Opstart Importark'!$B$31,\"\")","v":""},{"$nulls":12},"",{"$nulls":8},0,"","","objektnogle_"]
[51,null,{"$f":"IF('1 - Opstart Importark'!$B$6=\"\",\"\",(IF('1 - Opstart Importark'!$B$15=\"\",CONCATENATE(LEFT('1 - Opstart Importark'!$B$3,1),(LEFT('1 - Opstart Importark'!$B$24,2)),LEFT('1 - Opstart Importark'!$B$28,3),IF(I62=\"\",\"\",\"-\"),I62,IF(K62=\"\",\"\",\"-\"),K62,IF(M62=\"\",\"\",\"-\"),M62,IF(O62=\"\",\"\",\"-\"),O62),CONCATENATE(LEFT('1 - Opstart Importark'!$B$3,1),(LEFT('1 - Opstart Importark'!$B$15,2)),(LEFT('1 - Opstart Importark'!$B$18,3)),IF(I62=\"\",\"\",\"-\"),I62,IF(K62=\"\",\"\",\"-\"),K62,IF(M62=\"\",\"\",\"-\"),M62,IF(O62=\"\",\"\",\"-\"),O62))))","v":""},null," ",{"$nulls":11},{"$f":"IF(LEN('1 - Opstart Importark'!$B$6)>0,'1 - Opstart Importark'!$B$6,\"\")","v":""},{"$f":"IF(LEN('1 - Opstart Importark'!$B$9)>0,'1 - Opstart Importark'!$B$9,\"\")","v":""},{"$f":"IF(LEN('1 - Opstart Importark'!$B$31)>0,'1 - Opstart Importark'!$B$31,\"\")","v":""},{"$nulls":12},"",{"$nulls":8},0,"","","objektnogle_"]
[52,null,{"$f":"IF('1 - Opstart Importark'!$B$6=\"\",\"\",(IF('1 - Opstart Importark'!$B$15=\"\",CONCATENATE(LEFT('1 - Opstart Importark'!$B$3,1),(LEFT('1 - Opstart Importark'!$B$24,2)),LEFT('1 - Opstart Importark'!$B$28,3),IF(I63=\"\",\"\",\"-\"),I63,IF(K63=\"\",\"\",\"-\"),K63,IF(M63=\"\",\"\",\"-\"),M63,IF(O63=\"\",\"\",\"-\"),O63),CONCATENATE(LEFT('1 - Opstart Importark'!$B$3,1),(LEFT('1 - Opstart Importark'!$B$15,2)),(LEFT('1 - Opstart Importark'!$B$18,3)),IF(I63=\"\",\"\",\"-\"),I63,IF(K63=\"\",\"\",\"-\"),K63,IF(M63=\"\",\"\",\"-\"),M63,IF(O63=\"\",\"\",\"-\"),O63))))","v":""},null," ",{"$nulls":11},{"$f":"IF(LEN('1 - Opstart Importark'!$B$6)>0,'1 - Opstart Importark'!$B$6,\"\")","v":""},{"$f":"IF(LEN('1 - Opstart Importark'!$B$9)>0,'1 - Opstart Importark'!$B$9,\"\")","v":""},{"$f":"IF(LEN('1 - Opstart Importark'!$B$31)>0,'1 - Opstart Importark'!$B$31,\"\")","v":""},{"$nulls":12},"",{"$nulls":8},0,"","","objektnogle_"]
[53,null,{"$f":"IF('1 - Opstart Importark'!$B$6=\"\",\"\",(IF('1 - Opstart Importark'!$B$15=\"\",CONCATENATE(LEFT('1 - Opstart Importark'!$B$3,1),(LEFT('1 - Opstart Importark'!$B$24,2)),LEFT('1 - Opstart Importark'!$B$28,3),IF(I64=\"\",\"\",\"-\"),I64,IF(K64=\"\",\"\",\"-\"),K64,IF(M64=\"\",\"\",\"-\"),M64,IF(O64=\"\",\"\",\"-\"),O64),CONCATENATE(LEFT('1 - Opstart Importark'!$B$3,1),(LEFT('1 - Opstart Importark'!$B$15,2)),(LEFT('1 - Opstart Importark'!$B$18,3)),IF(I64=\"\",\"\",\"-\"),I64,IF(K64=\"\",\"\",\"-\"),K64,IF(M64=\"\",\"\",\"-\"),M64,IF(O64=\"\",\"\",\"-\"),O64))))","v":""},null," ",{"$nulls":11},{"$f":"IF(LEN('1 - Opstart Importark'!$B$6)>0,'1 - Opstart Importark'!$B$6,\"\")","v":""},{"$f":"IF(LEN('1 - Opstart Importark'!$B$9)>0,'1 - Opstart Importark'!$B$9,\"\")","v":""},{"$f":"IF(LEN('1 - Opstart Importark'!$B$31)>0,'1 - Opstart Importark'!$B$31,\"\")","v":""},{"$nulls":12},"",{"$nulls":8},0,"","","objektnogle_"]
[54,null,{"$f":"IF('1 - Opstart Importark'!$B$6=\"\",\"\",(IF('1 - Opstart Importark'!$B$15=\"\",CONCATENATE(LEFT('1 - Opstart Importark'!$B$3,1),(LEFT('1 - Opstart Importark'!$B$24,2)),LEFT('1 - Opstart Importark'!$B$28,3),IF(I65=\"\",\"\",\"-\"),I65,IF(K65=\"\",\"\",\"-\"),K65,IF(M65=\"\",\"\",\"-\"),M65,IF(O65=\"\",\"\",\"-\"),O65),CONCATENATE(LEFT('1 - Opstart Importark'!$B$3,1),(LEFT('1 - Opstart Importark'!$B$15,2)),(LEFT('1 - Opstart Importark'!$B$18,3)),IF(I65=\"\",\"\",\"-\"),I65,IF(K65=\"\",\"\",\"-\"),K65,IF(M65=\"\",\"\",\"-\"),M65,IF(O65=\"\",\"\",\"-\"),O65))))","v":""},null," ",{"$nulls":11},{"$f":"IF(LEN('1 - Opstart Importark'!$B$6)>0,'1 - Opstart Importark'!$B$6,\"\")","v":""},{"$f":"IF(LEN('1 - Opstart Importark'!$B$9)>0,'1 - Opstart Importark'!$B$9,\"\")","v":""},{"$f":"IF(LEN('1 - Opstart Importark'!$B$31)>0,'1 - Opstart Importark'!$B$31,\"\")","v":""},{"$nulls":12},"",{"$nulls":8},0,"","","objektnogle_"]
[55,null,{"$f":"IF('1 - Opstart Importark'!$B$6=\"\",\"\",(IF('1 - Opstart Importark'!$B$15=\"\",CONCATENATE(LEFT('1 - Opstart Importark'!$B$3,1),(LEFT('1 - Opstart Importark'!$B$24,2)),LEFT('1 - Opstart Importark'!$B$28,3),IF(I66=\"\",\"\",\"-\"),I66,IF(K66=\"\",\"\",\"-\"),K66,IF(M66=\"\",\"\",\"-\"),M66,IF(O66=\"\",\"\",\"-\"),O66),CONCATENATE(LEFT('1 - Opstart Importark'!$B$3,1),(LEFT('1 - Opstart Importark'!$B$15,2)),(LEFT('1 - Opstart Importark'!$B$18,3)),IF(I66=\"\",\"\",\"-\"),I66,IF(K66=\"\",\"\",\"-\"),K66,IF(M66=\"\",\"\",\"-\"),M66,IF(O66=\"\",\"\",\"-\"),O66))))","v":""},null," ",{"$nulls":11},{"$f":"IF(LEN('1 - Opstart Importark'!$B$6)>0,'1 - Opstart Importark'!$B$6,\"\")","v":""},{"$f":"IF(LEN('1 - Opstart Importark'!$B$9)>0,'1 - Opstart Importark'!$B$9,\"\")","v":""},{"$f":"IF(LEN('1 - Opstart Importark'!$B$31)>0,'1 - Opstart Importark'!$B$31,\"\")","v":""},{"$nulls":12},"",{"$nulls":8},0,"","","objektnogle_"]
[56,null,{"$f":"IF('1 - Opstart Importark'!$B$6=\"\",\"\",(IF('1 - Opstart Importark'!$B$15=\"\",CONCATENATE(LEFT('1 - Opstart Importark'!$B$3,1),(LEFT('1 - Opstart Importark'!$B$24,2)),LEFT('1 - Opstart Importark'!$B$28,3),IF(I67=\"\",\"\",\"-\"),I67,IF(K67=\"\",\"\",\"-\"),K67,IF(M67=\"\",\"\",\"-\"),M67,IF(O67=\"\",\"\",\"-\"),O67),CONCATENATE(LEFT('1 - Opstart Importark'!$B$3,1),(LEFT('1 - Opstart Importark'!$B$15,2)),(LEFT('1 - Opstart Importark'!$B$18,3)),IF(I67=\"\",\"\",\"-\"),I67,IF(K67=\"\",\"\",\"-\"),K67,IF(M67=\"\",\"\",\"-\"),M67,IF(O67=\"\",\"\",\"-\"),O67))))","v":""},null," ",{"$nulls":11},{"$f":"IF(LEN('1 - Opstart Importark'!$B$6)>0,'1 - Opstart Importark'!$B$6,\"\")","v":""},{"$f":"IF(LEN('1 - Opstart Importark'!$B$9)>0,'1 - Opstart Importark'!$B$9,\"\")","v":""},{"$f":"IF(LEN('1 - Opstart Importark'!$B$31)>0,'1 - Opstart Importark'!$B$31,\"\")","v":""},{"$nulls":12},"",{"$nulls":8},0,"","","objektnogle_"]
[57,null,{"$f":"IF('1 - Opstart Importark'!$B$6=\"\",\"\",(IF('1 - Opstart Importark'!$B$15=\"\",CONCATENATE(LEFT('1 - Opstart Importark'!$B$3,1),(LEFT('1 - Opstart Importark'!$B$24,2)),LEFT('1 - Opstart Importark'!$B$28,3),IF(I68=\"\",\"\",\"-\"),I68,IF(K68=\"\",\"\",\"-\"),K68,IF(M68=\"\",\"\",\"-\"),M68,IF(O68=\"\",\"\",\"-\"),O68),CONCATENATE(LEFT('1 - Opstart Importark'!$B$3,1),(LEFT('1 - Opstart Importark'!$B$15,2)),(LEFT('1 - Opstart Importark'!$B$18,3)),IF(I68=\"\",\"\",\"-\"),I68,IF(K68=\"\",\"\",\"-\"),K68,IF(M68=\"\",\"\",\"-\"),M68,IF(O68=\"\",\"\",\"-\"),O68))))","v":""},null," ",{"$nulls":11},{"$f":"IF(LEN('1 - Opstart Importark'!$B$6)>0,'1 - Opstart Importark'!$B$6,\"\")","v":""},{"$f":"IF(LEN('1 - Opstart Importark'!$B$9)>0,'1 - Opstart Importark'!$B$9,\"\")","v":""},{"$f":"IF(LEN('1 - Opstart Importark'!$B$31)>0,'1 - Opstart Importark'!$B$31,\"\")","v":""},{"$nulls":12},"",{"$nulls":8},0,"","","objektnogle_"]
[58,null,{"$f":"IF('1 - Opstart Importark'!$B$6=\"\",\"\",(IF('1 - Opstart Importark'!$B$15=\"\",CONCATENATE(LEFT('1 - Opstart Importark'!$B$3,1),(LEFT('1 - Opstart Importark'!$B$24,2)),LEFT('1 - Opstart Importark'!$B$28,3),IF(I69=\"\",\"\",\"-\"),I69,IF(K69=\"\",\"\",\"-\"),K69,IF(M69=\"\",\"\",\"-\"),M69,IF(O69=\"\",\"\",\"-\"),O69),CONCATENATE(LEFT('1 - Opstart Importark'!$B$3,1),(LEFT('1 - Opstart Importark'!$B$15,2)),(LEFT('1 - Opstart Importark'!$B$18,3)),IF(I69=\"\",\"\",\"-\"),I69,IF(K69=\"\",\"\",\"-\"),K69,IF(M69=\"\",\"\",\"-\"),M69,IF(O69=\"\",\"\",\"-\"),O69))))","v":""},null," ",{"$nulls":11},{"$f":"IF(LEN('1 - Opstart Importark'!$B$6)>0,'1 - Opstart Importark'!$B$6,\"\")","v":""},{"$f":"IF(LEN('1 - Opstart Importark'!$B$9)>0,'1 - Opstart Importark'!$B$9,\"\")","v":""},{"$f":"IF(LEN('1 - Opstart Importark'!$B$31)>0,'1 - Opstart Importark'!$B$31,\"\")","v":""},{"$nulls":12},"",{"$nulls":8},0,"","","objektnogle_"]
[59,null,{"$f":"IF('1 - Opstart Importark'!$B$6=\"\",\"\",(IF('1 - Opstart Importark'!$B$15=\"\",CONCATENATE(LEFT('1 - Opstart Importark'!$B$3,1),(LEFT('1 - Opstart Importark'!$B$24,2)),LEFT('1 - Opstart Importark'!$B$28,3),IF(I70=\"\",\"\",\"-\"),I70,IF(K70=\"\",\"\",\"-\"),K70,IF(M70=\"\",\"\",\"-\"),M70,IF(O70=\"\",\"\",\"-\"),O70),CONCATENATE(LEFT('1 - Opstart Importark'!$B$3,1),(LEFT('1 - Opstart Importark'!$B$15,2)),(LEFT('1 - Opstart Importark'!$B$18,3)),IF(I70=\"\",\"\",\"-\"),I70,IF(K70=\"\",\"\",\"-\"),K70,IF(M70=\"\",\"\",\"-\"),M70,IF(O70=\"\",\"\",\"-\"),O70))))","v":""},null," ",{"$nulls":11},{"$f":"IF(LEN('1 - Opstart Importark'!$B$6)>0,'1 - Opstart Importark'!$B$6,\"\")","v":""},{"$f":"IF(LEN('1 - Opstart Importark'!$B$9)>0,'1 - Opstart Importark'!$B$9,\"\")","v":""},{"$f":"IF(LEN('1 - Opstart Importark'!$B$31)>0,'1 - Opstart Importark'!$B$31,\"\")","v":""},{"$nulls":12},"",{"$nulls":8},0,"","","objektnogle_"]
[60,null,{"$f":"IF('1 - Opstart Importark'!$B$6=\"\",\"\",(IF('1 - Opstart Importark'!$B$15=\"\",CONCATENATE(LEFT('1 - Opstart Importark'!$B$3,1),(LEFT('1 - Opstart Importark'!$B$24,2)),LEFT('1 - Opstart Importark'!$B$28,3),IF(I71=\"\",\"\",\"-\"),I71,IF(K71=\"\",\"\",\"-\"),K71,IF(M71=\"\",\"\",\"-\"),M71,IF(O71=\"\",\"\",\"-\"),O71),CONCATENATE(LEFT('1 - Opstart Importark'!$B$3,1),(LEFT('1 - Opstart Importark'!$B$15,2)),(LEFT('1 - Opstart Importark'!$B$18,3)),IF(I71=\"\",\"\",\"-\"),I71,IF(K71=\"\",\"\",\"-\"),K71,IF(M71=\"\",\"\",\"-\"),M71,IF(O71=\"\",\"\",\"-\"),O71))))","v":""},null," ",{"$nulls":11},{"$f":"IF(LEN('1 - Opstart Importark'!$B$6)>0,'1 - Opstart Importark'!$B$6,\"\")","v":""},{"$f":"IF(LEN('1 - Opstart Importark'!$B$9)>0,'1 - Opstart Importark'!$B$9,\"\")","v":""},{"$f":"IF(LEN('1 - Opstart Importark'!$B$31)>0,'1 - Opstart Importark'!$B$31,\"\")","v":""},{"$nulls":12},"",{"$nulls":8},0,"","","objektnogle_"]
[61,null,{"$f":"IF('1 - Opstart Importark'!$B$6=\"\",\"\",(IF('1 - Opstart Importark'!$B$15=\"\",CONCATENATE(LEFT('1 - Opstart Importark'!$B$3,1),(LEFT('1 - Opstart Importark'!$B$24,2)),LEFT('1 - Opstart Importark'!$B$28,3),IF(I72=\"\",\"\",\"-\"),I72,IF(K72=\"\",\"\",\"-\"),K72,IF(M72=\"\",\"\",\"-\"),M72,IF(O72=\"\",\"\",\"-\"),O72),CONCATENATE(LEFT('1 - Opstart Importark'!$B$3,1),(LEFT('1 - Opstart Importark'!$B$15,2)),(LEFT('1 - Opstart Importark'!$B$18,3)),IF(I72=\"\",\"\",\"-\"),I72,IF(K72=\"\",\"\",\"-\"),K72,IF(M72=\"\",\"\",\"-\"),M72,IF(O72=\"\",\"\",\"-\"),O72))))","v":""},null," ",{"$nulls":11},{"$f":"IF(LEN('1 - Opstart Importark'!$B$6)>0,'1 - Opstart Importark'!$B$6,\"\")","v":""},{"$f":"IF(LEN('1 - Opstart Importark'!$B$9)>0,'1 - Opstart Importark'!$B$9,\"\")","v":""},{"$f":"IF(LEN('1 - Opstart Importark'!$B$31)>0,'1 - Opstart Importark'!$B$31,\"\")","v":""},{"$nulls":12},"",{"$nulls":8},0,"","","objektnogle_"]
[62,null,{"$f":"IF('1 - Opstart Importark'!$B$6=\"\",\"\",(IF('1 - Opstart Importark'!$B$15=\"\",CONCATENATE(LEFT('1 - Opstart Importark'!$B$3,1),(LEFT('1 - Opstart Importark'!$B$24,2)),LEFT('1 - Opstart Importark'!$B$28,3),IF(I73=\"\",\"\",\"-\"),I73,IF(K73=\"\",\"\",\"-\"),K73,IF(M73=\"\",\"\",\"-\"),M73,IF(O73=\"\",\"\",\"-\"),O73),CONCATENATE(LEFT('1 - Opstart Importark'!$B$3,1),(LEFT('1 - Opstart Importark'!$B$15,2)),(LEFT('1 - Opstart Importark'!$B$18,3)),IF(I73=\"\",\"\",\"-\"),I73,IF(K73=\"\",\"\",\"-\"),K73,IF(M73=\"\",\"\",\"-\"),M73,IF(O73=\"\",\"\",\"-\"),O73))))","v":""},null," ",{"$nulls":11},{"$f":"IF(LEN('1 - Opstart Importark'!$B$6)>0,'1 - Opstart Importark'!$B$6,\"\")","v":""},{"$f":"IF(LEN('1 - Opstart Importark'!$B$9)>0,'1 - Opstart Importark'!$B$9,\"\")","v":""},{"$f":"IF(LEN('1 - Opstart Importark'!$B$31)>0,'1 - Opstart Importark'!$B$31,\"\")","v":""},{"$nulls":12},"",{"$nulls":8},0,"","","objektnogle_"]
[63,null,{"$f":"IF('1 - Opstart Importark'!$B$6=\"\",\"\",(IF('1 - Opstart Importark'!$B$15=\"\",CONCATENATE(LEFT('1 - Opstart Importark'!$B$3,1),(LEFT('1 - Opstart Importark'!$B$24,2)),LEFT('1 - Opstart Importark'!$B$28,3),IF(I74=\"\",\"\",\"-\"),I74,IF(K74=\"\",\"\",\"-\"),K74,IF(M74=\"\",\"\",\"-\"),M74,IF(O74=\"\",\"\",\"-\"),O74),CONCATENATE(LEFT('1 - Opstart Importark'!$B$3,1),(LEFT('1 - Opstart Importark'!$B$15,2)),(LEFT('1 - Opstart Importark'!$B$18,3)),IF(I74=\"\",\"\",\"-\"),I74,IF(K74=\"\",\"\",\"-\"),K74,IF(M74=\"\",\"\",\"-\"),M74,IF(O74=\"\",\"\",\"-\"),O74))))","v":""},null," ",{"$nulls":11},{"$f":"IF(LEN('1 - Opstart Importark'!$B$6)>0,'1 - Opstart Importark'!$B$6,\"\")","v":""},{"$f":"IF(LEN('1 - Opstart Importark'!$B$9)>0,'1 - Opstart Importark'!$B$9,\"\")","v":""},{"$f":"IF(LEN('1 - Opstart Importark'!$B$31)>0,'1 - Opstart Importark'!$B$31,\"\")","v":""},{"$nulls":12},"",{"$nulls":8},0,"","","objektnogle_"]
[64,null,{"$f":"IF('1 - Opstart Importark'!$B$6=\"\",\"\",(IF('1 - Opstart Importark'!$B$15=\"\",CONCATENATE(LEFT('1 - Opstart Importark'!$B$3,1),(LEFT('1 - Opstart Importark'!$B$24,2)),LEFT('1 - Opstart Importark'!$B$28,3),IF(I75=\"\",\"\",\"-\"),I75,IF(K75=\"\",\"\",\"-\"),K75,IF(M75=\"\",\"\",\"-\"),M75,IF(O75=\"\",\"\",\"-\"),O75),CONCATENATE(LEFT('1 - Opstart Importark'!$B$3,1),(LEFT('1 - Opstart Importark'!$B$15,2)),(LEFT('1 - Opstart Importark'!$B$18,3)),IF(I75=\"\",\"\",\"-\"),I75,IF(K75=\"\",\"\",\"-\"),K75,IF(M75=\"\",\"\",\"-\"),M75,IF(O75=\"\",\"\",\"-\"),O75))))","v":""},null," ",{"$nulls":11},{"$f":"IF(LEN('1 - Opstart Importark'!$B$6)>0,'1 - Opstart Importark'!$B$6,\"\")","v":""},{"$f":"IF(LEN('1 - Opstart Importark'!$B$9)>0,'1 - Opstart Importark'!$B$9,\"\")","v":""},{"$f":"IF(LEN('1 - Opstart Importark'!$B$31)>0,'1 - Opstart Importark'!$B$31,\"\")","v":""},{"$nulls":12},"",{"$nulls":8},0,"","","objektnogle_"]
[65,null,{"$f":"IF('1 - Opstart Importark'!$B$6=\"\",\"\",(IF('1 - Opstart Importark'!$B$15=\"\",CONCATENATE(LEFT('1 - Opstart Importark'!$B$3,1),(LEFT('1 - Opstart Importark'!$B$24,2)),LEFT('1 - Opstart Importark'!$B$28,3),IF(I76=\"\",\"\",\"-\"),I76,IF(K76=\"\",\"\",\"-\"),K76,IF(M76=\"\",\"\",\"-\"),M76,IF(O76=\"\",\"\",\"-\"),O76),CONCATENATE(LEFT('1 - Opstart Importark'!$B$3,1),(LEFT('1 - Opstart Importark'!$B$15,2)),(LEFT('1 - Opstart Importark'!$B$18,3)),IF(I76=\"\",\"\",\"-\"),I76,IF(K76=\"\",\"\",\"-\"),K76,IF(M76=\"\",\"\",\"-\"),M76,IF(O76=\"\",\"\",\"-\"),O76))))","v":""},null," ",{"$nulls":11},{"$f":"IF(LEN('1 - Opstart Importark'!$B$6)>0,'1 - Opstart Importark'!$B$6,\"\")","v":""},{"$f":"IF(LEN('1 - Opstart Importark'!$B$9)>0,'1 - Opstart Importark'!$B$9,\"\")","v":""},{"$f":"IF(LEN('1 - Opstart Importark'!$B$31)>0,'1 - Opstart Importark'!$B$31,\"\")","v":""},{"$nulls":12},{"$f":"IF(M76=\"\",\"\",VLOOKUP(LEFT(M76,1),objektfilter,2))","v":""},{"$nulls":8},0,"","","objektnogle_"]
[66,null,{"$f":"IF('1 - Opstart Importark'!$B$6=\"\",\"\",(IF('1 - Opstart Importark'!$B$15=\"\",CONCATENATE(LEFT('1 - Opstart Importark'!$B$3,1),(LEFT('1 - Opstart Importark'!$B$24,2)),LEFT('1 - Opstart Importark'!$B$28,3),IF(I77=\"\",\"\",\"-\"),I77,IF(K77=\"\",\"\",\"-\"),K77,IF(M77=\"\",\"\",\"-\"),M77,IF(O77=\"\",\"\",\"-\"),O77),CONCATENATE(LEFT('1 - Opstart Importark'!$B$3,1),(LEFT('1 - Opstart Importark'!$B$15,2)),(LEFT('1 - Opstart Importark'!$B$18,3)),IF(I77=\"\",\"\",\"-\"),I77,IF(K77=\"\",\"\",\"-\"),K77,IF(M77=\"\",\"\",\"-\"),M77,IF(O77=\"\",\"\",\"-\"),O77))))","v":""},null," ",{"$nulls":11},{"$f":"IF(LEN('1 - Opstart Importark'!$B$6)>0,'1 - Opstart Importark'!$B$6,\"\")","v":""},{"$f":"IF(LEN('1 - Opstart Importark'!$B$9)>0,'1 - Opstart Importark'!$B$9,\"\")","v":""},{"$f":"IF(LEN('1 - Opstart Importark'!$B$31)>0,'1 - Opstart Importark'!$B$31,\"\")","v":""},{"$nulls":12},"",{"$nulls":8},{"$f":"IFERROR(FIND(\".\",F77),)","v":0},{"$f":"IF(M77=\"\",\"\",IF(LEFT(M77,1)=\"E\",0,1))","v":""},{"$f":"IF(M77=\"\",\"\",IF(LEFT(M77,1)=\"E\",0,1))","v":""},{"$f":"IF(W77=\"\", CONCATENATE(\"objektnogle_\",LEFT(AF77,1)),CONCATENATE(\"objektnogle_\",LEFT(W77,1)))","v":"objektnogle_"}]
[67,null,{"$f":"IF('1 - Opstart Importark'!$B$6=\"\",\"\",(IF('1 - Opstart Importark'!$B$15=\"\",CONCATENATE(LEFT('1 - Opstart Importark'!$B$3,1),(LEFT('1 - Opstart Importark'!$B$24,2)),LEFT('1 - Opstart Importark'!$B$28,3),IF(I78=\"\",\"\",\"-\"),I78,IF(K78=\"\",\"\",\"-\"),K78,IF(M78=\"\",\"\",\"-\"),M78,IF(O78=\"\",\"\",\"-\"),O78),CONCATENATE(LEFT('1 - Opstart Importark'!$B$3,1),(LEFT('1 - Opstart Importark'!$B$15,2)),(LEFT('1 - Opstart Importark'!$B$18,3)),IF(I78=\"\",\"\",\"-\"),I78,IF(K78=\"\",\"\",\"-\"),K78,IF(M78=\"\",\"\",\"-\"),M78,IF(O78=\"\",\"\",\"-\"),O78))))","v":""},null," ",{"$nulls":11},{"$f":"IF(LEN('1 - Opstart Importark'!$B$6)>0,'1 - Opstart Importark'!$B$6,\"\")","v":""},{"$f":"IF(LEN('1 - Opstart Importark'!$B$9)>0,'1 - Opstart Importark'!$B$9,\"\")","v":""},{"$f":"IF(LEN('1 - Opstart Importark'!$B$31)>0,'1 - Opstart Importark'!$B$31,\"\")","v":""},{"$nulls":12},"",{"$nulls":8},0,"","","objektnogle_"]
[68,null,{"$f":"IF('1 - Opstart Importark'!$B$6=\"\",\"\",(IF('1 - Opstart Importark'!$B$15=\"\",CONCATENATE(LEFT('1 - Opstart Importark'!$B$3,1),(LEFT('1 - Opstart Importark'!$B$24,2)),LEFT('1 - Opstart Importark'!$B$28,3),IF(I79=\"\",\"\",\"-\"),I79,IF(K79=\"\",\"\",\"-\"),K79,IF(M79=\"\",\"\",\"-\"),M79,IF(O79=\"\",\"\",\"-\"),O79),CONCATENATE(LEFT('1 - Opstart Importark'!$B$3,1),(LEFT('1 - Opstart Importark'!$B$15,2)),(LEFT('1 - Opstart Importark'!$B$18,3)),IF(I79=\"\",\"\",\"-\"),I79,IF(K79=\"\",\"\",\"-\"),K79,IF(M79=\"\",\"\",\"-\"),M79,IF(O79=\"\",\"\",\"-\"),O79))))","v":""},null," ",{"$nulls":11},{"$f":"IF(LEN('1 - Opstart Importark'!$B$6)>0,'1 - Opstart Importark'!$B$6,\"\")","v":""},{"$f":"IF(LEN('1 - Opstart Importark'!$B$9)>0,'1 - Opstart Importark'!$B$9,\"\")","v":""},{"$f":"IF(LEN('1 - Opstart Importark'!$B$31)>0,'1 - Opstart Importark'!$B$31,\"\")","v":""},{"$nulls":12},"",{"$nulls":8},0,"","","objektnogle_"]
[69,null,{"$f":"IF('1 - Opstart Importark'!$B$6=\"\",\"\",(IF('1 - Opstart Importark'!$B$15=\"\",CONCATENATE(LEFT('1 - Opstart Importark'!$B$3,1),(LEFT('1 - Opstart Importark'!$B$24,2)),LEFT('1 - Opstart Importark'!$B$28,3),IF(I80=\"\",\"\",\"-\"),I80,IF(K80=\"\",\"\",\"-\"),K80,IF(M80=\"\",\"\",\"-\"),M80,IF(O80=\"\",\"\",\"-\"),O80),CONCATENATE(LEFT('1 - Opstart Importark'!$B$3,1),(LEFT('1 - Opstart Importark'!$B$15,2)),(LEFT('1 - Opstart Importark'!$B$18,3)),IF(I80=\"\",\"\",\"-\"),I80,IF(K80=\"\",\"\",\"-\"),K80,IF(M80=\"\",\"\",\"-\"),M80,IF(O80=\"\",\"\",\"-\"),O80))))","v":""},null," ",{"$nulls":11},{"$f":"IF(LEN('1 - Opstart Importark'!$B$6)>0,'1 - Opstart Importark'!$B$6,\"\")","v":""},{"$f":"IF(LEN('1 - Opstart Importark'!$B$9)>0,'1 - Opstart Importark'!$B$9,\"\")","v":""},{"$f":"IF(LEN('1 - Opstart Importark'!$B$31)>0,'1 - Opstart Importark'!$B$31,\"\")","v":""},{"$nulls":12},"",{"$nulls":8},0,"","","objektnogle_"]
[70,null,{"$f":"IF('1 - Opstart Importark'!$B$6=\"\",\"\",(IF('1 - Opstart Importark'!$B$15=\"\",CONCATENATE(LEFT('1 - Opstart Importark'!$B$3,1),(LEFT('1 - Opstart Importark'!$B$24,2)),LEFT('1 - Opstart Importark'!$B$28,3),IF(I81=\"\",\"\",\"-\"),I81,IF(K81=\"\",\"\",\"-\"),K81,IF(M81=\"\",\"\",\"-\"),M81,IF(O81=\"\",\"\",\"-\"),O81),CONCATENATE(LEFT('1 - Opstart Importark'!$B$3,1),(LEFT('1 - Opstart Importark'!$B$15,2)),(LEFT('1 - Opstart Importark'!$B$18,3)),IF(I81=\"\",\"\",\"-\"),I81,IF(K81=\"\",\"\",\"-\"),K81,IF(M81=\"\",\"\",\"-\"),M81,IF(O81=\"\",\"\",\"-\"),O81))))","v":""},null," ",{"$nulls":11},{"$f":"IF(LEN('1 - Opstart Importark'!$B$6)>0,'1 - Opstart Importark'!$B$6,\"\")","v":""},{"$f":"IF(LEN('1 - Opstart Importark'!$B$9)>0,'1 - Opstart Importark'!$B$9,\"\")","v":""},{"$f":"IF(LEN('1 - Opstart Importark'!$B$31)>0,'1 - Opstart Importark'!$B$31,\"\")","v":""},{"$nulls":12},"",{"$nulls":8},0,"","","objektnogle_"]
[71,null,{"$f":"IF('1 - Opstart Importark'!$B$6=\"\",\"\",(IF('1 - Opstart Importark'!$B$15=\"\",CONCATENATE(LEFT('1 - Opstart Importark'!$B$3,1),(LEFT('1 - Opstart Importark'!$B$24,2)),LEFT('1 - Opstart Importark'!$B$28,3),IF(I82=\"\",\"\",\"-\"),I82,IF(K82=\"\",\"\",\"-\"),K82,IF(M82=\"\",\"\",\"-\"),M82,IF(O82=\"\",\"\",\"-\"),O82),CONCATENATE(LEFT('1 - Opstart Importark'!$B$3,1),(LEFT('1 - Opstart Importark'!$B$15,2)),(LEFT('1 - Opstart Importark'!$B$18,3)),IF(I82=\"\",\"\",\"-\"),I82,IF(K82=\"\",\"\",\"-\"),K82,IF(M82=\"\",\"\",\"-\"),M82,IF(O82=\"\",\"\",\"-\"),O82))))","v":""},null," ",{"$nulls":11},{"$f":"IF(LEN('1 - Opstart Importark'!$B$6)>0,'1 - Opstart Importark'!$B$6,\"\")","v":""},{"$f":"IF(LEN('1 - Opstart Importark'!$B$9)>0,'1 - Opstart Importark'!$B$9,\"\")","v":""},{"$f":"IF(LEN('1 - Opstart Importark'!$B$31)>0,'1 - Opstart Importark'!$B$31,\"\")","v":""},{"$nulls":12},"",{"$nulls":8},0,"","","objektnogle_"]
[72,null,{"$f":"IF('1 - Opstart Importark'!$B$6=\"\",\"\",(IF('1 - Opstart Importark'!$B$15=\"\",CONCATENATE(LEFT('1 - Opstart Importark'!$B$3,1),(LEFT('1 - Opstart Importark'!$B$24,2)),LEFT('1 - Opstart Importark'!$B$28,3),IF(I83=\"\",\"\",\"-\"),I83,IF(K83=\"\",\"\",\"-\"),K83,IF(M83=\"\",\"\",\"-\"),M83,IF(O83=\"\",\"\",\"-\"),O83),CONCATENATE(LEFT('1 - Opstart Importark'!$B$3,1),(LEFT('1 - Opstart Importark'!$B$15,2)),(LEFT('1 - Opstart Importark'!$B$18,3)),IF(I83=\"\",\"\",\"-\"),I83,IF(K83=\"\",\"\",\"-\"),K83,IF(M83=\"\",\"\",\"-\"),M83,IF(O83=\"\",\"\",\"-\"),O83))))","v":""},null," ",{"$nulls":11},{"$f":"IF(LEN('1 - Opstart Importark'!$B$6)>0,'1 - Opstart Importark'!$B$6,\"\")","v":""},{"$f":"IF(LEN('1 - Opstart Importark'!$B$9)>0,'1 - Opstart Importark'!$B$9,\"\")","v":""},{"$f":"IF(LEN('1 - Opstart Importark'!$B$31)>0,'1 - Opstart Importark'!$B$31,\"\")","v":""},{"$nulls":12},"",{"$nulls":8},0,"","","objektnogle_"]
[73,null,{"$f":"IF('1 - Opstart Importark'!$B$6=\"\",\"\",(IF('1 - Opstart Importark'!$B$15=\"\",CONCATENATE(LEFT('1 - Opstart Importark'!$B$3,1),(LEFT('1 - Opstart Importark'!$B$24,2)),LEFT('1 - Opstart Importark'!$B$28,3),IF(I84=\"\",\"\",\"-\"),I84,IF(K84=\"\",\"\",\"-\"),K84,IF(M84=\"\",\"\",\"-\"),M84,IF(O84=\"\",\"\",\"-\"),O84),CONCATENATE(LEFT('1 - Opstart Importark'!$B$3,1),(LEFT('1 - Opstart Importark'!$B$15,2)),(LEFT('1 - Opstart Importark'!$B$18,3)),IF(I84=\"\",\"\",\"-\"),I84,IF(K84=\"\",\"\",\"-\"),K84,IF(M84=\"\",\"\",\"-\"),M84,IF(O84=\"\",\"\",\"-\"),O84))))","v":""},null," ",{"$nulls":11},{"$f":"IF(LEN('1 - Opstart Importark'!$B$6)>0,'1 - Opstart Importark'!$B$6,\"\")","v":""},{"$f":"IF(LEN('1 - Opstart Importark'!$B$9)>0,'1 - Opstart Importark'!$B$9,\"\")","v":""},{"$f":"IF(LEN('1 - Opstart Importark'!$B$31)>0,'1 - Opstart Importark'!$B$31,\"\")","v":""},{"$nulls":12},"",{"$nulls":8},0,"","","objektnogle_"]
[74,null,{"$f":"IF('1 - Opstart Importark'!$B$6=\"\",\"\",(IF('1 - Opstart Importark'!$B$15=\"\",CONCATENATE(LEFT('1 - Opstart Importark'!$B$3,1),(LEFT('1 - Opstart Importark'!$B$24,2)),LEFT('1 - Opstart Importark'!$B$28,3),IF(I85=\"\",\"\",\"-\"),I85,IF(K85=\"\",\"\",\"-\"),K85,IF(M85=\"\",\"\",\"-\"),M85,IF(O85=\"\",\"\",\"-\"),O85),CONCATENATE(LEFT('1 - Opstart Importark'!$B$3,1),(LEFT('1 - Opstart Importark'!$B$15,2)),(LEFT('1 - Opstart Importark'!$B$18,3)),IF(I85=\"\",\"\",\"-\"),I85,IF(K85=\"\",\"\",\"-\"),K85,IF(M85=\"\",\"\",\"-\"),M85,IF(O85=\"\",\"\",\"-\"),O85))))","v":""},null," ",{"$nulls":11},{"$f":"IF(LEN('1 - Opstart Importark'!$B$6)>0,'1 - Opstart Importark'!$B$6,\"\")","v":""},{"$f":"IF(LEN('1 - Opstart Importark'!$B$9)>0,'1 - Opstart Importark'!$B$9,\"\")","v":""},{"$f":"IF(LEN('1 - Opstart Importark'!$B$31)>0,'1 - Opstart Importark'!$B$31,\"\")","v":""},{"$nulls":12},"",{"$nulls":8},0,"","","objektnogle_"]
[75,null,{"$f":"IF('1 - Opstart Importark'!$B$6=\"\",\"\",(IF('1 - Opstart Importark'!$B$15=\"\",CONCATENATE(LEFT('1 - Opstart Importark'!$B$3,1),(LEFT('1 - Opstart Importark'!$B$24,2)),LEFT('1 - Opstart Importark'!$B$28,3),IF(I86=\"\",\"\",\"-\"),I86,IF(K86=\"\",\"\",\"-\"),K86,IF(M86=\"\",\"\",\"-\"),M86,IF(O86=\"\",\"\",\"-\"),O86),CONCATENATE(LEFT('1 - Opstart Importark'!$B$3,1),(LEFT('1 - Opstart Importark'!$B$15,2)),(LEFT('1 - Opstart Importark'!$B$18,3)),IF(I86=\"\",\"\",\"-\"),I86,IF(K86=\"\",\"\",\"-\"),K86,IF(M86=\"\",\"\",\"-\"),M86,IF(O86=\"\",\"\",\"-\"),O86))))","v":""},null," ",{"$nulls":11},{"$f":"IF(LEN('1 - Opstart Importark'!$B$6)>0,'1 - Opstart Importark'!$B$6,\"\")","v":""},{"$f":"IF(LEN('1 - Opstart Importark'!$B$9)>0,'1 - Opstart Importark'!$B$9,\"\")","v":""},{"$f":"IF(LEN('1 - Opstart Importark'!$B$31)>0,'1 - Opstart Importark'!$B$31,\"\")","v":""},{"$nulls":12},"",{"$nulls":8},0,"","","objektnogle_"]
[76,null,{"$f":"IF('1 - Opstart Importark'!$B$6=\"\",\"\",(IF('1 - Opstart Importark'!$B$15=\"\",CONCATENATE(LEFT('1 - Opstart Importark'!$B$3,1),(LEFT('1 - Opstart Importark'!$B$24,2)),LEFT('1 - Opstart Importark'!$B$28,3),IF(I87=\"\",\"\",\"-\"),I87,IF(K87=\"\",\"\",\"-\"),K87,IF(M87=\"\",\"\",\"-\"),M87,IF(O87=\"\",\"\",\"-\"),O87),CONCATENATE(LEFT('1 - Opstart Importark'!$B$3,1),(LEFT('1 - Opstart Importark'!$B$15,2)),(LEFT('1 - Opstart Importark'!$B$18,3)),IF(I87=\"\",\"\",\"-\"),I87,IF(K87=\"\",\"\",\"-\"),K87,IF(M87=\"\",\"\",\"-\"),M87,IF(O87=\"\",\"\",\"-\"),O87))))","v":""},null," ",{"$nulls":11},{"$f":"IF(LEN('1 - Opstart Importark'!$B$6)>0,'1 - Opstart Importark'!$B$6,\"\")","v":""},{"$f":"IF(LEN('1 - Opstart Importark'!$B$9)>0,'1 - Opstart Importark'!$B$9,\"\")","v":""},{"$f":"IF(LEN('1 - Opstart Importark'!$B$31)>0,'1 - Opstart Importark'!$B$31,\"\")","v":""},{"$nulls":12},"",{"$nulls":8},0,"","","objektnogle_"]
[77,null,{"$f":"IF('1 - Opstart Importark'!$B$6=\"\",\"\",(IF('1 - Opstart Importark'!$B$15=\"\",CONCATENATE(LEFT('1 - Opstart Importark'!$B$3,1),(LEFT('1 - Opstart Importark'!$B$24,2)),LEFT('1 - Opstart Importark'!$B$28,3),IF(I88=\"\",\"\",\"-\"),I88,IF(K88=\"\",\"\",\"-\"),K88,IF(M88=\"\",\"\",\"-\"),M88,IF(O88=\"\",\"\",\"-\"),O88),CONCATENATE(LEFT('1 - Opstart Importark'!$B$3,1),(LEFT('1 - Opstart Importark'!$B$15,2)),(LEFT('1 - Opstart Importark'!$B$18,3)),IF(I88=\"\",\"\",\"-\"),I88,IF(K88=\"\",\"\",\"-\"),K88,IF(M88=\"\",\"\",\"-\"),M88,IF(O88=\"\",\"\",\"-\"),O88))))","v":""},null," ",{"$nulls":11},{"$f":"IF(LEN('1 - Opstart Importark'!$B$6)>0,'1 - Opstart Importark'!$B$6,\"\")","v":""},{"$f":"IF(LEN('1 - Opstart Importark'!$B$9)>0,'1 - Opstart Importark'!$B$9,\"\")","v":""},{"$f":"IF(LEN('1 - Opstart Importark'!$B$31)>0,'1 - Opstart Importark'!$B$31,\"\")","v":""},{"$nulls":12},"",{"$nulls":8},0,"","","objektnogle_"]
[78,null,{"$f":"IF('1 - Opstart Importark'!$B$6=\"\",\"\",(IF('1 - Opstart Importark'!$B$15=\"\",CONCATENATE(LEFT('1 - Opstart Importark'!$B$3,1),(LEFT('1 - Opstart Importark'!$B$24,2)),LEFT('1 - Opstart Importark'!$B$28,3),IF(I89=\"\",\"\",\"-\"),I89,IF(K89=\"\",\"\",\"-\"),K89,IF(M89=\"\",\"\",\"-\"),M89,IF(O89=\"\",\"\",\"-\"),O89),CONCATENATE(LEFT('1 - Opstart Importark'!$B$3,1),(LEFT('1 - Opstart Importark'!$B$15,2)),(LEFT('1 - Opstart Importark'!$B$18,3)),IF(I89=\"\",\"\",\"-\"),I89,IF(K89=\"\",\"\",\"-\"),K89,IF(M89=\"\",\"\",\"-\"),M89,IF(O89=\"\",\"\",\"-\"),O89))))","v":""},null," ",{"$nulls":11},{"$f":"IF(LEN('1 - Opstart Importark'!$B$6)>0,'1 - Opstart Importark'!$B$6,\"\")","v":""},{"$f":"IF(LEN('1 - Opstart Importark'!$B$9)>0,'1 - Opstart Importark'!$B$9,\"\")","v":""},{"$f":"IF(LEN('1 - Opstart Importark'!$B$31)>0,'1 - Opstart Importark'!$B$31,\"\")","v":""},{"$nulls":12},"",{"$nulls":8},0,"","","objektnogle_"]
[79,null,{"$f":"IF('1 - Opstart Importark'!$B$6=\"\",\"\",(IF('1 - Opstart Importark'!$B$15=\"\",CONCATENATE(LEFT('1 - Opstart Importark'!$B$3,1),(LEFT('1 - Opstart Importark'!$B$24,2)),LEFT('1 - Opstart Importark'!$B$28,3),IF(I90=\"\",\"\",\"-\"),I90,IF(K90=\"\",\"\",\"-\"),K90,IF(M90=\"\",\"\",\"-\"),M90,IF(O90=\"\",\"\",\"-\"),O90),CONCATENATE(LEFT('1 - Opstart Importark'!$B$3,1),(LEFT('1 - Opstart Importark'!$B$15,2)),(LEFT('1 - Opstart Importark'!$B$18,3)),IF(I90=\"\",\"\",\"-\"),I90,IF(K90=\"\",\"\",\"-\"),K90,IF(M90=\"\",\"\",\"-\"),M90,IF(O90=\"\",\"\",\"-\"),O90))))","v":""},null," ",{"$nulls":11},{"$f":"IF(LEN('1 - Opstart Importark'!$B$6)>0,'1 - Opstart Importark'!$B$6,\"\")","v":""},{"$f":"IF(LEN('1 - Opstart Importark'!$B$9)>0,'1 - Opstart Importark'!$B$9,\"\")","v":""},{"$f":"IF(LEN('1 - Opstart Importark'!$B$31)>0,'1 - Opstart Importark'!$B$31,\"\")","v":""},{"$nulls":12},"",{"$nulls":8},0,"","","objektnogle_"]
[80,null,{"$f":"IF('1 - Opstart Importark'!$B$6=\"\",\"\",(IF('1 - Opstart Importark'!$B$15=\"\",CONCATENATE(LEFT('1 - Opstart Importark'!$B$3,1),(LEFT('1 - Opstart Importark'!$B$24,2)),LEFT('1 - Opstart Importark'!$B$28,3),IF(I91=\"\",\"\",\"-\"),I91,IF(K91=\"\",\"\",\"-\"),K91,IF(M91=\"\",\"\",\"-\"),M91,IF(O91=\"\",\"\",\"-\"),O91),CONCATENATE(LEFT('1 - Opstart Importark'!$B$3,1),(LEFT('1 - Opstart Importark'!$B$15,2)),(LEFT('1 - Opstart Importark'!$B$18,3)),IF(I91=\"\",\"\",\"-\"),I91,IF(K91=\"\",\"\",\"-\"),K91,IF(M91=\"\",\"\",\"-\"),M91,IF(O91=\"\",\"\",\"-\"),O91))))","v":""},null," ",{"$nulls":11},{"$f":"IF(LEN('1 - Opstart Importark'!$B$6)>0,'1 - Opstart Importark'!$B$6,\"\")","v":""},{"$f":"IF(LEN('1 - Opstart Importark'!$B$9)>0,'1 - Opstart Importark'!$B$9,\"\")","v":""},{"$f":"IF(LEN('1 - Opstart Importark'!$B$31)>0,'1 - Opstart Importark'!$B$31,\"\")","v":""},{"$nulls":12},"",{"$nulls":8},0,"","","objektnogle_"]
[81,null,{"$f":"IF('1 - Opstart Importark'!$B$6=\"\",\"\",(IF('1 - Opstart Importark'!$B$15=\"\",CONCATENATE(LEFT('1 - Opstart Importark'!$B$3,1),(LEFT('1 - Opstart Importark'!$B$24,2)),LEFT('1 - Opstart Importark'!$B$28,3),IF(I92=\"\",\"\",\"-\"),I92,IF(K92=\"\",\"\",\"-\"),K92,IF(M92=\"\",\"\",\"-\"),M92,IF(O92=\"\",\"\",\"-\"),O92),CONCATENATE(LEFT('1 - Opstart Importark'!$B$3,1),(LEFT('1 - Opstart Importark'!$B$15,2)),(LEFT('1 - Opstart Importark'!$B$18,3)),IF(I92=\"\",\"\",\"-\"),I92,IF(K92=\"\",\"\",\"-\"),K92,IF(M92=\"\",\"\",\"-\"),M92,IF(O92=\"\",\"\",\"-\"),O92))))","v":""},null," ",{"$nulls":11},{"$f":"IF(LEN('1 - Opstart Importark'!$B$6)>0,'1 - Opstart Importark'!$B$6,\"\")","v":""},{"$f":"IF(LEN('1 - Opstart Importark'!$B$9)>0,'1 - Opstart Importark'!$B$9,\"\")","v":""},{"$f":"IF(LEN('1 - Opstart Importark'!$B$31)>0,'1 - Opstart Importark'!$B$31,\"\")","v":""},{"$nulls":12},"",{"$nulls":8},0,"","","objektnogle_"]
[82,null,{"$f":"IF('1 - Opstart Importark'!$B$6=\"\",\"\",(IF('1 - Opstart Importark'!$B$15=\"\",CONCATENATE(LEFT('1 - Opstart Importark'!$B$3,1),(LEFT('1 - Opstart Importark'!$B$24,2)),LEFT('1 - Opstart Importark'!$B$28,3),IF(I93=\"\",\"\",\"-\"),I93,IF(K93=\"\",\"\",\"-\"),K93,IF(M93=\"\",\"\",\"-\"),M93,IF(O93=\"\",\"\",\"-\"),O93),CONCATENATE(LEFT('1 - Opstart Importark'!$B$3,1),(LEFT('1 - Opstart Importark'!$B$15,2)),(LEFT('1 - Opstart Importark'!$B$18,3)),IF(I93=\"\",\"\",\"-\"),I93,IF(K93=\"\",\"\",\"-\"),K93,IF(M93=\"\",\"\",\"-\"),M93,IF(O93=\"\",\"\",\"-\"),O93))))","v":""},null," ",{"$nulls":11},{"$f":"IF(LEN('1 - Opstart Importark'!$B$6)>0,'1 - Opstart Importark'!$B$6,\"\")","v":""},{"$f":"IF(LEN('1 - Opstart Importark'!$B$9)>0,'1 - Opstart Importark'!$B$9,\"\")","v":""},{"$f":"IF(LEN('1 - Opstart Importark'!$B$31)>0,'1 - Opstart Importark'!$B$31,\"\")","v":""},{"$nulls":12},"",{"$nulls":8},0,"","","objektnogle_"]
[83,null,{"$f":"IF('1 - Opstart Importark'!$B$6=\"\",\"\",(IF('1 - Opstart Importark'!$B$15=\"\",CONCATENATE(LEFT('1 - Opstart Importark'!$B$3,1),(LEFT('1 - Opstart Importark'!$B$24,2)),LEFT('1 - Opstart Importark'!$B$28,3),IF(I94=\"\",\"\",\"-\"),I94,IF(K94=\"\",\"\",\"-\"),K94,IF(M94=\"\",\"\",\"-\"),M94,IF(O94=\"\",\"\",\"-\"),O94),CONCATENATE(LEFT('1 - Opstart Importark'!$B$3,1),(LEFT('1 - Opstart Importark'!$B$15,2)),(LEFT('1 - Opstart Importark'!$B$18,3)),IF(I94=\"\",\"\",\"-\"),I94,IF(K94=\"\",\"\",\"-\"),K94,IF(M94=\"\",\"\",\"-\"),M94,IF(O94=\"\",\"\",\"-\"),O94))))","v":""},null," ",{"$nulls":11},{"$f":"IF(LEN('1 - Opstart Importark'!$B$6)>0,'1 - Opstart Importark'!$B$6,\"\")","v":""},{"$f":"IF(LEN('1 - Opstart Importark'!$B$9)>0,'1 - Opstart Importark'!$B$9,\"\")","v":""},{"$f":"IF(LEN('1 - Opstart Importark'!$B$31)>0,'1 - Opstart Importark'!$B$31,\"\")","v":""},{"$nulls":12},"",{"$nulls":8},0,"","","objektnogle_"]
[84,null,{"$f":"IF('1 - Opstart Importark'!$B$6=\"\",\"\",(IF('1 - Opstart Importark'!$B$15=\"\",CONCATENATE(LEFT('1 - Opstart Importark'!$B$3,1),(LEFT('1 - Opstart Importark'!$B$24,2)),LEFT('1 - Opstart Importark'!$B$28,3),IF(I95=\"\",\"\",\"-\"),I95,IF(K95=\"\",\"\",\"-\"),K95,IF(M95=\"\",\"\",\"-\"),M95,IF(O95=\"\",\"\",\"-\"),O95),CONCATENATE(LEFT('1 - Opstart Importark'!$B$3,1),(LEFT('1 - Opstart Importark'!$B$15,2)),(LEFT('1 - Opstart Importark'!$B$18,3)),IF(I95=\"\",\"\",\"-\"),I95,IF(K95=\"\",\"\",\"-\"),K95,IF(M95=\"\",\"\",\"-\"),M95,IF(O95=\"\",\"\",\"-\"),O95))))","v":""},null," ",{"$nulls":11},{"$f":"IF(LEN('1 - Opstart Importark'!$B$6)>0,'1 - Opstart Importark'!$B$6,\"\")","v":""},{"$f":"IF(LEN('1 - Opstart Importark'!$B$9)>0,'1 - Opstart Importark'!$B$9,\"\")","v":""},{"$f":"IF(LEN('1 - Opstart Importark'!$B$31)>0,'1 - Opstart Importark'!$B$31,\"\")","v":""},{"$nulls":12},"",{"$nulls":8},0,"","","objektnogle_"]
[85,null,{"$f":"IF('1 - Opstart Importark'!$B$6=\"\",\"\",(IF('1 - Opstart Importark'!$B$15=\"\",CONCATENATE(LEFT('1 - Opstart Importark'!$B$3,1),(LEFT('1 - Opstart Importark'!$B$24,2)),LEFT('1 - Opstart Importark'!$B$28,3),IF(I96=\"\",\"\",\"-\"),I96,IF(K96=\"\",\"\",\"-\"),K96,IF(M96=\"\",\"\",\"-\"),M96,IF(O96=\"\",\"\",\"-\"),O96),CONCATENATE(LEFT('1 - Opstart Importark'!$B$3,1),(LEFT('1 - Opstart Importark'!$B$15,2)),(LEFT('1 - Opstart Importark'!$B$18,3)),IF(I96=\"\",\"\",\"-\"),I96,IF(K96=\"\",\"\",\"-\"),K96,IF(M96=\"\",\"\",\"-\"),M96,IF(O96=\"\",\"\",\"-\"),O96))))","v":""},null," ",{"$nulls":11},{"$f":"IF(LEN('1 - Opstart Importark'!$B$6)>0,'1 - Opstart Importark'!$B$6,\"\")","v":""},{"$f":"IF(LEN('1 - Opstart Importark'!$B$9)>0,'1 - Opstart Importark'!$B$9,\"\")","v":""},{"$f":"IF(LEN('1 - Opstart Importark'!$B$31)>0,'1 - Opstart Importark'!$B$31,\"\")","v":""},{"$nulls":12},"",{"$nulls":8},0,"","","objektnogle_"]
[86,null,{"$f":"IF('1 - Opstart Importark'!$B$6=\"\",\"\",(IF('1 - Opstart Importark'!$B$15=\"\",CONCATENATE(LEFT('1 - Opstart Importark'!$B$3,1),(LEFT('1 - Opstart Importark'!$B$24,2)),LEFT('1 - Opstart Importark'!$B$28,3),IF(I97=\"\",\"\",\"-\"),I97,IF(K97=\"\",\"\",\"-\"),K97,IF(M97=\"\",\"\",\"-\"),M97,IF(O97=\"\",\"\",\"-\"),O97),CONCATENATE(LEFT('1 - Opstart Importark'!$B$3,1),(LEFT('1 - Opstart Importark'!$B$15,2)),(LEFT('1 - Opstart Importark'!$B$18,3)),IF(I97=\"\",\"\",\"-\"),I97,IF(K97=\"\",\"\",\"-\"),K97,IF(M97=\"\",\"\",\"-\"),M97,IF(O97=\"\",\"\",\"-\"),O97))))","v":""},null," ",{"$nulls":11},{"$f":"IF(LEN('1 - Opstart Importark'!$B$6)>0,'1 - Opstart Importark'!$B$6,\"\")","v":""},{"$f":"IF(LEN('1 - Opstart Importark'!$B$9)>0,'1 - Opstart Importark'!$B$9,\"\")","v":""},{"$f":"IF(LEN('1 - Opstart Importark'!$B$31)>0,'1 - Opstart Importark'!$B$31,\"\")","v":""},{"$nulls":12},"",{"$nulls":8},0,"","","objektnogle_"]
[87,null,{"$f":"IF('1 - Opstart Importark'!$B$6=\"\",\"\",(IF('1 - Opstart Importark'!$B$15=\"\",CONCATENATE(LEFT('1 - Opstart Importark'!$B$3,1),(LEFT('1 - Opstart Importark'!$B$24,2)),LEFT('1 - Opstart Importark'!$B$28,3),IF(I98=\"\",\"\",\"-\"),I98,IF(K98=\"\",\"\",\"-\"),K98,IF(M98=\"\",\"\",\"-\"),M98,IF(O98=\"\",\"\",\"-\"),O98),CONCATENATE(LEFT('1 - Opstart Importark'!$B$3,1),(LEFT('1 - Opstart Importark'!$B$15,2)),(LEFT('1 - Opstart Importark'!$B$18,3)),IF(I98=\"\",\"\",\"-\"),I98,IF(K98=\"\",\"\",\"-\"),K98,IF(M98=\"\",\"\",\"-\"),M98,IF(O98=\"\",\"\",\"-\"),O98))))","v":""},null," ",{"$nulls":11},{"$f":"IF(LEN('1 - Opstart Importark'!$B$6)>0,'1 - Opstart Importark'!$B$6,\"\")","v":""},{"$f":"IF(LEN('1 - Opstart Importark'!$B$9)>0,'1 - Opstart Importark'!$B$9,\"\")","v":""},{"$f":"IF(LEN('1 - Opstart Importark'!$B$31)>0,'1 - Opstart Importark'!$B$31,\"\")","v":""},{"$nulls":12},"",{"$nulls":8},0,"","","objektnogle_"]
[88,null,{"$f":"IF('1 - Opstart Importark'!$B$6=\"\",\"\",(IF('1 - Opstart Importark'!$B$15=\"\",CONCATENATE(LEFT('1 - Opstart Importark'!$B$3,1),(LEFT('1 - Opstart Importark'!$B$24,2)),LEFT('1 - Opstart Importark'!$B$28,3),IF(I99=\"\",\"\",\"-\"),I99,IF(K99=\"\",\"\",\"-\"),K99,IF(M99=\"\",\"\",\"-\"),M99,IF(O99=\"\",\"\",\"-\"),O99),CONCATENATE(LEFT('1 - Opstart Importark'!$B$3,1),(LEFT('1 - Opstart Importark'!$B$15,2)),(LEFT('1 - Opstart Importark'!$B$18,3)),IF(I99=\"\",\"\",\"-\"),I99,IF(K99=\"\",\"\",\"-\"),K99,IF(M99=\"\",\"\",\"-\"),M99,IF(O99=\"\",\"\",\"-\"),O99))))","v":""},null," ",{"$nulls":11},{"$f":"IF(LEN('1 - Opstart Importark'!$B$6)>0,'1 - Opstart Importark'!$B$6,\"\")","v":""},{"$f":"IF(LEN('1 - Opstart Importark'!$B$9)>0,'1 - Opstart Importark'!$B$9,\"\")","v":""},{"$f":"IF(LEN('1 - Opstart Importark'!$B$31)>0,'1 - Opstart Importark'!$B$31,\"\")","v":""},{"$nulls":12},"",{"$nulls":8},0,"","","objektnogle_"]
[89,null,{"$f":"IF('1 - Opstart Importark'!$B$6=\"\",\"\",(IF('1 - Opstart Importark'!$B$15=\"\",CONCATENATE(LEFT('1 - Opstart Importark'!$B$3,1),(LEFT('1 - Opstart Importark'!$B$24,2)),LEFT('1 - Opstart Importark'!$B$28,3),IF(I100=\"\",\"\",\"-\"),I100,IF(K100=\"\",\"\",\"-\"),K100,IF(M100=\"\",\"\",\"-\"),M100,IF(O100=\"\",\"\",\"-\"),O100),CONCATENATE(LEFT('1 - Opstart Importark'!$B$3,1),(LEFT('1 - Opstart Importark'!$B$15,2)),(LEFT('1 - Opstart Importark'!$B$18,3)),IF(I100=\"\",\"\",\"-\"),I100,IF(K100=\"\",\"\",\"-\"),K100,IF(M100=\"\",\"\",\"-\"),M100,IF(O100=\"\",\"\",\"-\"),O100))))","v":""},null," ",{"$nulls":11},{"$f":"IF(LEN('1 - Opstart Importark'!$B$6)>0,'1 - Opstart Importark'!$B$6,\"\")","v":""},{"$f":"IF(LEN('1 - Opstart Importark'!$B$9)>0,'1 - Opstart Importark'!$B$9,\"\")","v":""},{"$f":"IF(LEN('1 - Opstart Importark'!$B$31)>0,'1 - Opstart Importark'!$B$31,\"\")","v":""},{"$nulls":12},"",{"$nulls":8},0,"","","objektnogle_"]
[90,null,{"$f":"IF('1 - Opstart Importark'!$B$6=\"\",\"\",(IF('1 - Opstart Importark'!$B$15=\"\",CONCATENATE(LEFT('1 - Opstart Importark'!$B$3,1),(LEFT('1 - Opstart Importark'!$B$24,2)),LEFT('1 - Opstart Importark'!$B$28,3),IF(I101=\"\",\"\",\"-\"),I101,IF(K101=\"\",\"\",\"-\"),K101,IF(M101=\"\",\"\",\"-\"),M101,IF(O101=\"\",\"\",\"-\"),O101),CONCATENATE(LEFT('1 - Opstart Importark'!$B$3,1),(LEFT('1 - Opstart Importark'!$B$15,2)),(LEFT('1 - Opstart Importark'!$B$18,3)),IF(I101=\"\",\"\",\"-\"),I101,IF(K101=\"\",\"\",\"-\"),K101,IF(M101=\"\",\"\",\"-\"),M101,IF(O101=\"\",\"\",\"-\"),O101))))","v":""},null," ",{"$nulls":11},{"$f":"IF(LEN('1 - Opstart Importark'!$B$6)>0,'1 - Opstart Importark'!$B$6,\"\")","v":""},{"$f":"IF(LEN('1 - Opstart Importark'!$B$9)>0,'1 - Opstart Importark'!$B$9,\"\")","v":""},{"$f":"IF(LEN('1 - Opstart Importark'!$B$31)>0,'1 - Opstart Importark'!$B$31,\"\")","v":""},{"$nulls":12},"",{"$nulls":8},0,"","","objektnogle_"]
[91,null,{"$f":"IF('1 - Opstart Importark'!$B$6=\"\",\"\",(IF('1 - Opstart Importark'!$B$15=\"\",CONCATENATE(LEFT('1 - Opstart Importark'!$B$3,1),(LEFT('1 - Opstart Importark'!$B$24,2)),LEFT('1 - Opstart Importark'!$B$28,3),IF(I102=\"\",\"\",\"-\"),I102,IF(K102=\"\",\"\",\"-\"),K102,IF(M102=\"\",\"\",\"-\"),M102,IF(O102=\"\",\"\",\"-\"),O102),CONCATENATE(LEFT('1 - Opstart Importark'!$B$3,1),(LEFT('1 - Opstart Importark'!$B$15,2)),(LEFT('1 - Opstart Importark'!$B$18,3)),IF(I102=\"\",\"\",\"-\"),I102,IF(K102=\"\",\"\",\"-\"),K102,IF(M102=\"\",\"\",\"-\"),M102,IF(O102=\"\",\"\",\"-\"),O102))))","v":""},null," ",{"$nulls":11},{"$f":"IF(LEN('1 - Opstart Importark'!$B$6)>0,'1 - Opstart Importark'!$B$6,\"\")","v":""},{"$f":"IF(LEN('1 - Opstart Importark'!$B$9)>0,'1 - Opstart Importark'!$B$9,\"\")","v":""},{"$f":"IF(LEN('1 - Opstart Importark'!$B$31)>0,'1 - Opstart Importark'!$B$31,\"\")","v":""},{"$nulls":12},"",{"$nulls":8},0,"","","objektnogle_"]
[92,null,{"$f":"IF('1 - Opstart Importark'!$B$6=\"\",\"\",(IF('1 - Opstart Importark'!$B$15=\"\",CONCATENATE(LEFT('1 - Opstart Importark'!$B$3,1),(LEFT('1 - Opstart Importark'!$B$24,2)),LEFT('1 - Opstart Importark'!$B$28,3),IF(I103=\"\",\"\",\"-\"),I103,IF(K103=\"\",\"\",\"-\"),K103,IF(M103=\"\",\"\",\"-\"),M103,IF(O103=\"\",\"\",\"-\"),O103),CONCATENATE(LEFT('1 - Opstart Importark'!$B$3,1),(LEFT('1 - Opstart Importark'!$B$15,2)),(LEFT('1 - Opstart Importark'!$B$18,3)),IF(I103=\"\",\"\",\"-\"),I103,IF(K103=\"\",\"\",\"-\"),K103,IF(M103=\"\",\"\",\"-\"),M103,IF(O103=\"\",\"\",\"-\"),O103))))","v":""},null," ",{"$nulls":11},{"$f":"IF(LEN('1 - Opstart Importark'!$B$6)>0,'1 - Opstart Importark'!$B$6,\"\")","v":""},{"$f":"IF(LEN('1 - Opstart Importark'!$B$9)>0,'1 - Opstart Importark'!$B$9,\"\")","v":""},{"$f":"IF(LEN('1 - Opstart Importark'!$B$31)>0,'1 - Opstart Importark'!$B$31,\"\")","v":""},{"$nulls":12},"",{"$nulls":8},0,"","","objektnogle_"]
[93,null,{"$f":"IF('1 - Opstart Importark'!$B$6=\"\",\"\",(IF('1 - Opstart Importark'!$B$15=\"\",CONCATENATE(LEFT('1 - Opstart Importark'!$B$3,1),(LEFT('1 - Opstart Importark'!$B$24,2)),LEFT('1 - Opstart Importark'!$B$28,3),IF(I104=\"\",\"\",\"-\"),I104,IF(K104=\"\",\"\",\"-\"),K104,IF(M104=\"\",\"\",\"-\"),M104,IF(O104=\"\",\"\",\"-\"),O104),CONCATENATE(LEFT('1 - Opstart Importark'!$B$3,1),(LEFT('1 - Opstart Importark'!$B$15,2)),(LEFT('1 - Opstart Importark'!$B$18,3)),IF(I104=\"\",\"\",\"-\"),I104,IF(K104=\"\",\"\",\"-\"),K104,IF(M104=\"\",\"\",\"-\"),M104,IF(O104=\"\",\"\",\"-\"),O104))))","v":""},null," ",{"$nulls":11},{"$f":"IF(LEN('1 - Opstart Importark'!$B$6)>0,'1 - Opstart Importark'!$B$6,\"\")","v":""},{"$f":"IF(LEN('1 - Opstart Importark'!$B$9)>0,'1 - Opstart Importark'!$B$9,\"\")","v":""},{"$f":"IF(LEN('1 - Opstart Importark'!$B$31)>0,'1 - Opstart Importark'!$B$31,\"\")","v":""},{"$nulls":12},"",{"$nulls":8},0,"","","objektnogle_"]
[94,null,{"$f":"IF('1 - Opstart Importark'!$B$6=\"\",\"\",(IF('1 - Opstart Importark'!$B$15=\"\",CONCATENATE(LEFT('1 - Opstart Importark'!$B$3,1),(LEFT('1 - Opstart Importark'!$B$24,2)),LEFT('1 - Opstart Importark'!$B$28,3),IF(I105=\"\",\"\",\"-\"),I105,IF(K105=\"\",\"\",\"-\"),K105,IF(M105=\"\",\"\",\"-\"),M105,IF(O105=\"\",\"\",\"-\"),O105),CONCATENATE(LEFT('1 - Opstart Importark'!$B$3,1),(LEFT('1 - Opstart Importark'!$B$15,2)),(LEFT('1 - Opstart Importark'!$B$18,3)),IF(I105=\"\",\"\",\"-\"),I105,IF(K105=\"\",\"\",\"-\"),K105,IF(M105=\"\",\"\",\"-\"),M105,IF(O105=\"\",\"\",\"-\"),O105))))","v":""},null," ",{"$nulls":11},{"$f":"IF(LEN('1 - Opstart Importark'!$B$6)>0,'1 - Opstart Importark'!$B$6,\"\")","v":""},{"$f":"IF(LEN('1 - Opstart Importark'!$B$9)>0,'1 - Opstart Importark'!$B$9,\"\")","v":""},{"$f":"IF(LEN('1 - Opstart Importark'!$B$31)>0,'1 - Opstart Importark'!$B$31,\"\")","v":""},{"$nulls":12},"",{"$nulls":8},0,"","","objektnogle_"]
[95,null,{"$f":"IF('1 - Opstart Importark'!$B$6=\"\",\"\",(IF('1 - Opstart Importark'!$B$15=\"\",CONCATENATE(LEFT('1 - Opstart Importark'!$B$3,1),(LEFT('1 - Opstart Importark'!$B$24,2)),LEFT('1 - Opstart Importark'!$B$28,3),IF(I106=\"\",\"\",\"-\"),I106,IF(K106=\"\",\"\",\"-\"),K106,IF(M106=\"\",\"\",\"-\"),M106,IF(O106=\"\",\"\",\"-\"),O106),CONCATENATE(LEFT('1 - Opstart Importark'!$B$3,1),(LEFT('1 - Opstart Importark'!$B$15,2)),(LEFT('1 - Opstart Importark'!$B$18,3)),IF(I106=\"\",\"\",\"-\"),I106,IF(K106=\"\",\"\",\"-\"),K106,IF(M106=\"\",\"\",\"-\"),M106,IF(O106=\"\",\"\",\"-\"),O106))))","v":""},null," ",{"$nulls":11},{"$f":"IF(LEN('1 - Opstart Importark'!$B$6)>0,'1 - Opstart Importark'!$B$6,\"\")","v":""},{"$f":"IF(LEN('1 - Opstart Importark'!$B$9)>0,'1 - Opstart Importark'!$B$9,\"\")","v":""},{"$f":"IF(LEN('1 - Opstart Importark'!$B$31)>0,'1 - Opstart Importark'!$B$31,\"\")","v":""},{"$nulls":12},"",{"$nulls":8},0,"","","objektnogle_"]
[96,null,{"$f":"IF('1 - Opstart Importark'!$B$6=\"\",\"\",(IF('1 - Opstart Importark'!$B$15=\"\",CONCATENATE(LEFT('1 - Opstart Importark'!$B$3,1),(LEFT('1 - Opstart Importark'!$B$24,2)),LEFT('1 - Opstart Importark'!$B$28,3),IF(I107=\"\",\"\",\"-\"),I107,IF(K107=\"\",\"\",\"-\"),K107,IF(M107=\"\",\"\",\"-\"),M107,IF(O107=\"\",\"\",\"-\"),O107),CONCATENATE(LEFT('1 - Opstart Importark'!$B$3,1),(LEFT('1 - Opstart Importark'!$B$15,2)),(LEFT('1 - Opstart Importark'!$B$18,3)),IF(I107=\"\",\"\",\"-\"),I107,IF(K107=\"\",\"\",\"-\"),K107,IF(M107=\"\",\"\",\"-\"),M107,IF(O107=\"\",\"\",\"-\"),O107))))","v":""},null," ",{"$nulls":11},{"$f":"IF(LEN('1 - Opstart Importark'!$B$6)>0,'1 - Opstart Importark'!$B$6,\"\")","v":""},{"$f":"IF(LEN('1 - Opstart Importark'!$B$9)>0,'1 - Opstart Importark'!$B$9,\"\")","v":""},{"$f":"IF(LEN('1 - Opstart Importark'!$B$31)>0,'1 - Opstart Importark'!$B$31,\"\")","v":""},{"$nulls":12},"",{"$nulls":8},0,"","","objektnogle_"]
[97,null,{"$f":"IF('1 - Opstart Importark'!$B$6=\"\",\"\",(IF('1 - Opstart Importark'!$B$15=\"\",CONCATENATE(LEFT('1 - Opstart Importark'!$B$3,1),(LEFT('1 - Opstart Importark'!$B$24,2)),LEFT('1 - Opstart Importark'!$B$28,3),IF(I108=\"\",\"\",\"-\"),I108,IF(K108=\"\",\"\",\"-\"),K108,IF(M108=\"\",\"\",\"-\"),M108,IF(O108=\"\",\"\",\"-\"),O108),CONCATENATE(LEFT('1 - Opstart Importark'!$B$3,1),(LEFT('1 - Opstart Importark'!$B$15,2)),(LEFT('1 - Opstart Importark'!$B$18,3)),IF(I108=\"\",\"\",\"-\"),I108,IF(K108=\"\",\"\",\"-\"),K108,IF(M108=\"\",\"\",\"-\"),M108,IF(O108=\"\",\"\",\"-\"),O108))))","v":""},null," ",{"$nulls":11},{"$f":"IF(LEN('1 - Opstart Importark'!$B$6)>0,'1 - Opstart Importark'!$B$6,\"\")","v":""},{"$f":"IF(LEN('1 - Opstart Importark'!$B$9)>0,'1 - Opstart Importark'!$B$9,\"\")","v":""},{"$f":"IF(LEN('1 - Opstart Importark'!$B$31)>0,'1 - Opstart Importark'!$B$31,\"\")","v":""},{"$nulls":12},"",{"$nulls":8},0,"","","objektnogle_"]
[98,null,{"$f":"IF('1 - Opstart Importark'!$B$6=\"\",\"\",(IF('1 - Opstart Importark'!$B$15=\"\",CONCATENATE(LEFT('1 - Opstart Importark'!$B$3,1),(LEFT('1 - Opstart Importark'!$B$24,2)),LEFT('1 - Opstart Importark'!$B$28,3),IF(I109=\"\",\"\",\"-\"),I109,IF(K109=\"\",\"\",\"-\"),K109,IF(M109=\"\",\"\",\"-\"),M109,IF(O109=\"\",\"\",\"-\"),O109),CONCATENATE(LEFT('1 - Opstart Importark'!$B$3,1),(LEFT('1 - Opstart Importark'!$B$15,2)),(LEFT('1 - Opstart Importark'!$B$18,3)),IF(I109=\"\",\"\",\"-\"),I109,IF(K109=\"\",\"\",\"-\"),K109,IF(M109=\"\",\"\",\"-\"),M109,IF(O109=\"\",\"\",\"-\"),O109))))","v":""},null," ",{"$nulls":11},{"$f":"IF(LEN('1 - Opstart Importark'!$B$6)>0,'1 - Opstart Importark'!$B$6,\"\")","v":""},{"$f":"IF(LEN('1 - Opstart Importark'!$B$9)>0,'1 - Opstart Importark'!$B$9,\"\")","v":""},{"$f":"IF(LEN('1 - Opstart Importark'!$B$31)>0,'1 - Opstart Importark'!$B$31,\"\")","v":""},{"$nulls":12},"",{"$nulls":8},0,"","","objektnogle_"]
[99,null,{"$f":"IF('1 - Opstart Importark'!$B$6=\"\",\"\",(IF('1 - Opstart Importark'!$B$15=\"\",CONCATENATE(LEFT('1 - Opstart Importark'!$B$3,1),(LEFT('1 - Opstart Importark'!$B$24,2)),LEFT('1 - Opstart Importark'!$B$28,3),IF(I110=\"\",\"\",\"-\"),I110,IF(K110=\"\",\"\",\"-\"),K110,IF(M110=\"\",\"\",\"-\"),M110,IF(O110=\"\",\"\",\"-\"),O110),CONCATENATE(LEFT('1 - Opstart Importark'!$B$3,1),(LEFT('1 - Opstart Importark'!$B$15,2)),(LEFT('1 - Opstart Importark'!$B$18,3)),IF(I110=\"\",\"\",\"-\"),I110,IF(K110=\"\",\"\",\"-\"),K110,IF(M110=\"\",\"\",\"-\"),M110,IF(O110=\"\",\"\",\"-\"),O110))))","v":""},null," ",{"$nulls":11},{"$f":"IF(LEN('1 - Opstart Importark'!$B$6)>0,'1 - Opstart Importark'!$B$6,\"\")","v":""},{"$f":"IF(LEN('1 - Opstart Importark'!$B$9)>0,'1 - Opstart Importark'!$B$9,\"\")","v":""},{"$f":"IF(LEN('1 - Opstart Importark'!$B$31)>0,'1 - Opstart Importark'!$B$31,\"\")","v":""},{"$nulls":12},"",{"$nulls":8},0,"","","objektnogle_"]
[100,null,{"$f":"IF('1 - Opstart Importark'!$B$6=\"\",\"\",(IF('1 - Opstart Importark'!$B$15=\"\",CONCATENATE(LEFT('1 - Opstart Importark'!$B$3,1),(LEFT('1 - Opstart Importark'!$B$24,2)),LEFT('1 - Opstart Importark'!$B$28,3),IF(I111=\"\",\"\",\"-\"),I111,IF(K111=\"\",\"\",\"-\"),K111,IF(M111=\"\",\"\",\"-\"),M111,IF(O111=\"\",\"\",\"-\"),O111),CONCATENATE(LEFT('1 - Opstart Importark'!$B$3,1),(LEFT('1 - Opstart Importark'!$B$15,2)),(LEFT('1 - Opstart Importark'!$B$18,3)),IF(I111=\"\",\"\",\"-\"),I111,IF(K111=\"\",\"\",\"-\"),K111,IF(M111=\"\",\"\",\"-\"),M111,IF(O111=\"\",\"\",\"-\"),O111))))","v":""},null," ",{"$nulls":11},{"$f":"IF(LEN('1 - Opstart Importark'!$B$6)>0,'1 - Opstart Importark'!$B$6,\"\")","v":""},{"$f":"IF(LEN('1 - Opstart Importark'!$B$9)>0,'1 - Opstart Importark'!$B$9,\"\")","v":""},{"$f":"IF(LEN('1 - Opstart Importark'!$B$31)>0,'1 - Opstart Importark'!$B$31,\"\")","v":""},{"$nulls":12},"",{"$nulls":8},0,"","","objektnogle_"]
[101,null,{"$f":"IF('1 - Opstart Importark'!$B$6=\"\",\"\",(IF('1 - Opstart Importark'!$B$15=\"\",CONCATENATE(LEFT('1 - Opstart Importark'!$B$3,1),(LEFT('1 - Opstart Importark'!$B$24,2)),LEFT('1 - Opstart Importark'!$B$28,3),IF(I112=\"\",\"\",\"-\"),I112,IF(K112=\"\",\"\",\"-\"),K112,IF(M112=\"\",\"\",\"-\"),M112,IF(O112=\"\",\"\",\"-\"),O112),CONCATENATE(LEFT('1 - Opstart Importark'!$B$3,1),(LEFT('1 - Opstart Importark'!$B$15,2)),(LEFT('1 - Opstart Importark'!$B$18,3)),IF(I112=\"\",\"\",\"-\"),I112,IF(K112=\"\",\"\",\"-\"),K112,IF(M112=\"\",\"\",\"-\"),M112,IF(O112=\"\",\"\",\"-\"),O112))))","v":""},null," ",{"$nulls":11},{"$f":"IF(LEN('1 - Opstart Importark'!$B$6)>0,'1 - Opstart Importark'!$B$6,\"\")","v":""},{"$f":"IF(LEN('1 - Opstart Importark'!$B$9)>0,'1 - Opstart Importark'!$B$9,\"\")","v":""},{"$f":"IF(LEN('1 - Opstart Importark'!$B$31)>0,'1 - Opstart Importark'!$B$31,\"\")","v":""},{"$nulls":12},"",{"$nulls":8},0,"","","objektnogle_"]
[102,null,{"$f":"IF('1 - Opstart Importark'!$B$6=\"\",\"\",(IF('1 - Opstart Importark'!$B$15=\"\",CONCATENATE(LEFT('1 - Opstart Importark'!$B$3,1),(LEFT('1 - Opstart Importark'!$B$24,2)),LEFT('1 - Opstart Importark'!$B$28,3),IF(I113=\"\",\"\",\"-\"),I113,IF(K113=\"\",\"\",\"-\"),K113,IF(M113=\"\",\"\",\"-\"),M113,IF(O113=\"\",\"\",\"-\"),O113),CONCATENATE(LEFT('1 - Opstart Importark'!$B$3,1),(LEFT('1 - Opstart Importark'!$B$15,2)),(LEFT('1 - Opstart Importark'!$B$18,3)),IF(I113=\"\",\"\",\"-\"),I113,IF(K113=\"\",\"\",\"-\"),K113,IF(M113=\"\",\"\",\"-\"),M113,IF(O113=\"\",\"\",\"-\"),O113))))","v":""},null," ",{"$nulls":11},{"$f":"IF(LEN('1 - Opstart Importark'!$B$6)>0,'1 - Opstart Importark'!$B$6,\"\")","v":""},{"$f":"IF(LEN('1 - Opstart Importark'!$B$9)>0,'1 - Opstart Importark'!$B$9,\"\")","v":""},{"$f":"IF(LEN('1 - Opstart Importark'!$B$31)>0,'1 - Opstart Importark'!$B$31,\"\")","v":""},{"$nulls":12},"",{"$nulls":8},0,"","","objektnogle_"]
[103,null,{"$f":"IF('1 - Opstart Importark'!$B$6=\"\",\"\",(IF('1 - Opstart Importark'!$B$15=\"\",CONCATENATE(LEFT('1 - Opstart Importark'!$B$3,1),(LEFT('1 - Opstart Importark'!$B$24,2)),LEFT('1 - Opstart Importark'!$B$28,3),IF(I114=\"\",\"\",\"-\"),I114,IF(K114=\"\",\"\",\"-\"),K114,IF(M114=\"\",\"\",\"-\"),M114,IF(O114=\"\",\"\",\"-\"),O114),CONCATENATE(LEFT('1 - Opstart Importark'!$B$3,1),(LEFT('1 - Opstart Importark'!$B$15,2)),(LEFT('1 - Opstart Importark'!$B$18,3)),IF(I114=\"\",\"\",\"-\"),I114,IF(K114=\"\",\"\",\"-\"),K114,IF(M114=\"\",\"\",\"-\"),M114,IF(O114=\"\",\"\",\"-\"),O114))))","v":""},null," ",{"$nulls":11},{"$f":"IF(LEN('1 - Opstart Importark'!$B$6)>0,'1 - Opstart Importark'!$B$6,\"\")","v":""},{"$f":"IF(LEN('1 - Opstart Importark'!$B$9)>0,'1 - Opstart Importark'!$B$9,\"\")","v":""},{"$f":"IF(LEN('1 - Opstart Importark'!$B$31)>0,'1 - Opstart Importark'!$B$31,\"\")","v":""},{"$nulls":12},"",{"$nulls":8},0,"","","objektnogle_"]
[104,null,{"$f":"IF('1 - Opstart Importark'!$B$6=\"\",\"\",(IF('1 - Opstart Importark'!$B$15=\"\",CONCATENATE(LEFT('1 - Opstart Importark'!$B$3,1),(LEFT('1 - Opstart Importark'!$B$24,2)),LEFT('1 - Opstart Importark'!$B$28,3),IF(I115=\"\",\"\",\"-\"),I115,IF(K115=\"\",\"\",\"-\"),K115,IF(M115=\"\",\"\",\"-\"),M115,IF(O115=\"\",\"\",\"-\"),O115),CONCATENATE(LEFT('1 - Opstart Importark'!$B$3,1),(LEFT('1 - Opstart Importark'!$B$15,2)),(LEFT('1 - Opstart Importark'!$B$18,3)),IF(I115=\"\",\"\",\"-\"),I115,IF(K115=\"\",\"\",\"-\"),K115,IF(M115=\"\",\"\",\"-\"),M115,IF(O115=\"\",\"\",\"-\"),O115))))","v":""},null," ",{"$nulls":11},{"$f":"IF(LEN('1 - Opstart Importark'!$B$6)>0,'1 - Opstart Importark'!$B$6,\"\")","v":""},{"$f":"IF(LEN('1 - Opstart Importark'!$B$9)>0,'1 - Opstart Importark'!$B$9,\"\")","v":""},{"$f":"IF(LEN('1 - Opstart Importark'!$B$31)>0,'1 - Opstart Importark'!$B$31,\"\")","v":""},{"$nulls":12},"",{"$nulls":8},0,"","","objektnogle_"]
[105,null,{"$f":"IF('1 - Opstart Importark'!$B$6=\"\",\"\",(IF('1 - Opstart Importark'!$B$15=\"\",CONCATENATE(LEFT('1 - Opstart Importark'!$B$3,1),(LEFT('1 - Opstart Importark'!$B$24,2)),LEFT('1 - Opstart Importark'!$B$28,3),IF(I116=\"\",\"\",\"-\"),I116,IF(K116=\"\",\"\",\"-\"),K116,IF(M116=\"\",\"\",\"-\"),M116,IF(O116=\"\",\"\",\"-\"),O116),CONCATENATE(LEFT('1 - Opstart Importark'!$B$3,1),(LEFT('1 - Opstart Importark'!$B$15,2)),(LEFT('1 - Opstart Importark'!$B$18,3)),IF(I116=\"\",\"\",\"-\"),I116,IF(K116=\"\",\"\",\"-\"),K116,IF(M116=\"\",\"\",\"-\"),M116,IF(O116=\"\",\"\",\"-\"),O116))))","v":""},null," ",{"$nulls":11},{"$f":"IF(LEN('1 - Opstart Importark'!$B$6)>0,'1 - Opstart Importark'!$B$6,\"\")","v":""},{"$f":"IF(LEN('1 - Opstart Importark'!$B$9)>0,'1 - Opstart Importark'!$B$9,\"\")","v":""},{"$f":"IF(LEN('1 - Opstart Importark'!$B$31)>0,'1 - Opstart Importark'!$B$31,\"\")","v":""},{"$nulls":12},"",{"$nulls":8},0,"","","objektnogle_"]
[106,null,{"$f":"IF('1 - Opstart Importark'!$B$6=\"\",\"\",(IF('1 - Opstart Importark'!$B$15=\"\",CONCATENATE(LEFT('1 - Opstart Importark'!$B$3,1),(LEFT('1 - Opstart Importark'!$B$24,2)),LEFT('1 - Opstart Importark'!$B$28,3),IF(I117=\"\",\"\",\"-\"),I117,IF(K117=\"\",\"\",\"-\"),K117,IF(M117=\"\",\"\",\"-\"),M117,IF(O117=\"\",\"\",\"-\"),O117),CONCATENATE(LEFT('1 - Opstart Importark'!$B$3,1),(LEFT('1 - Opstart Importark'!$B$15,2)),(LEFT('1 - Opstart Importark'!$B$18,3)),IF(I117=\"\",\"\",\"-\"),I117,IF(K117=\"\",\"\",\"-\"),K117,IF(M117=\"\",\"\",\"-\"),M117,IF(O117=\"\",\"\",\"-\"),O117))))","v":""},null," ",{"$nulls":11},{"$f":"IF(LEN('1 - Opstart Importark'!$B$6)>0,'1 - Opstart Importark'!$B$6,\"\")","v":""},{"$f":"IF(LEN('1 - Opstart Importark'!$B$9)>0,'1 - Opstart Importark'!$B$9,\"\")","v":""},{"$f":"IF(LEN('1 - Opstart Importark'!$B$31)>0,'1 - Opstart Importark'!$B$31,\"\")","v":""},{"$nulls":12},"",{"$nulls":8},0,"","","objektnogle_"]
[107,null,{"$f":"IF('1 - Opstart Importark'!$B$6=\"\",\"\",(IF('1 - Opstart Importark'!$B$15=\"\",CONCATENATE(LEFT('1 - Opstart Importark'!$B$3,1),(LEFT('1 - Opstart Importark'!$B$24,2)),LEFT('1 - Opstart Importark'!$B$28,3),IF(I118=\"\",\"\",\"-\"),I118,IF(K118=\"\",\"\",\"-\"),K118,IF(M118=\"\",\"\",\"-\"),M118,IF(O118=\"\",\"\",\"-\"),O118),CONCATENATE(LEFT('1 - Opstart Importark'!$B$3,1),(LEFT('1 - Opstart Importark'!$B$15,2)),(LEFT('1 - Opstart Importark'!$B$18,3)),IF(I118=\"\",\"\",\"-\"),I118,IF(K118=\"\",\"\",\"-\"),K118,IF(M118=\"\",\"\",\"-\"),M118,IF(O118=\"\",\"\",\"-\"),O118))))","v":""},null," ",{"$nulls":11},{"$f":"IF(LEN('1 - Opstart Importark'!$B$6)>0,'1 - Opstart Importark'!$B$6,\"\")","v":""},{"$f":"IF(LEN('1 - Opstart Importark'!$B$9)>0,'1 - Opstart Importark'!$B$9,\"\")","v":""},{"$f":"IF(LEN('1 - Opstart Importark'!$B$31)>0,'1 - Opstart Importark'!$B$31,\"\")","v":""},{"$nulls":12},"",{"$nulls":8},0,"","","objektnogle_"]
[108,null,{"$f":"IF('1 - Opstart Importark'!$B$6=\"\",\"\",(IF('1 - Opstart Importark'!$B$15=\"\",CONCATENATE(LEFT('1 - Opstart Importark'!$B$3,1),(LEFT('1 - Opstart Importark'!$B$24,2)),LEFT('1 - Opstart Importark'!$B$28,3),IF(I119=\"\",\"\",\"-\"),I119,IF(K119=\"\",\"\",\"-\"),K119,IF(M119=\"\",\"\",\"-\"),M119,IF(O119=\"\",\"\",\"-\"),O119),CONCATENATE(LEFT('1 - Opstart Importark'!$B$3,1),(LEFT('1 - Opstart Importark'!$B$15,2)),(LEFT('1 - Opstart Importark'!$B$18,3)),IF(I119=\"\",\"\",\"-\"),I119,IF(K119=\"\",\"\",\"-\"),K119,IF(M119=\"\",\"\",\"-\"),M119,IF(O119=\"\",\"\",\"-\"),O119))))","v":""},null," ",{"$nulls":11},{"$f":"IF(LEN('1 - Opstart Importark'!$B$6)>0,'1 - Opstart Importark'!$B$6,\"\")","v":""},{"$f":"IF(LEN('1 - Opstart Importark'!$B$9)>0,'1 - Opstart Importark'!$B$9,\"\")","v":""},{"$f":"IF(LEN('1 - Opstart Importark'!$B$31)>0,'1 - Opstart Importark'!$B$31,\"\")","v":""},{"$nulls":12},"",{"$nulls":8},0,"","","objektnogle_"]
[109,null,{"$f":"IF('1 - Opstart Importark'!$B$6=\"\",\"\",(IF('1 - Opstart Importark'!$B$15=\"\",CONCATENATE(LEFT('1 - Opstart Importark'!$B$3,1),(LEFT('1 - Opstart Importark'!$B$24,2)),LEFT('1 - Opstart Importark'!$B$28,3),IF(I120=\"\",\"\",\"-\"),I120,IF(K120=\"\",\"\",\"-\"),K120,IF(M120=\"\",\"\",\"-\"),M120,IF(O120=\"\",\"\",\"-\"),O120),CONCATENATE(LEFT('1 - Opstart Importark'!$B$3,1),(LEFT('1 - Opstart Importark'!$B$15,2)),(LEFT('1 - Opstart Importark'!$B$18,3)),IF(I120=\"\",\"\",\"-\"),I120,IF(K120=\"\",\"\",\"-\"),K120,IF(M120=\"\",\"\",\"-\"),M120,IF(O120=\"\",\"\",\"-\"),O120))))","v":""},null," ",{"$nulls":11},{"$f":"IF(LEN('1 - Opstart Importark'!$B$6)>0,'1 - Opstart Importark'!$B$6,\"\")","v":""},{"$f":"IF(LEN('1 - Opstart Importark'!$B$9)>0,'1 - Opstart Importark'!$B$9,\"\")","v":""},{"$f":"IF(LEN('1 - Opstart Importark'!$B$31)>0,'1 - Opstart Importark'!$B$31,\"\")","v":""},{"$nulls":12},"",{"$nulls":8},0,"","","objektnogle_"]
[110,null,{"$f":"IF('1 - Opstart Importark'!$B$6=\"\",\"\",(IF('1 - Opstart Importark'!$B$15=\"\",CONCATENATE(LEFT('1 - Opstart Importark'!$B$3,1),(LEFT('1 - Opstart Importark'!$B$24,2)),LEFT('1 - Opstart Importark'!$B$28,3),IF(I121=\"\",\"\",\"-\"),I121,IF(K121=\"\",\"\",\"-\"),K121,IF(M121=\"\",\"\",\"-\"),M121,IF(O121=\"\",\"\",\"-\"),O121),CONCATENATE(LEFT('1 - Opstart Importark'!$B$3,1),(LEFT('1 - Opstart Importark'!$B$15,2)),(LEFT('1 - Opstart Importark'!$B$18,3)),IF(I121=\"\",\"\",\"-\"),I121,IF(K121=\"\",\"\",\"-\"),K121,IF(M121=\"\",\"\",\"-\"),M121,IF(O121=\"\",\"\",\"-\"),O121))))","v":""},null," ",{"$nulls":11},{"$f":"IF(LEN('1 - Opstart Importark'!$B$6)>0,'1 - Opstart Importark'!$B$6,\"\")","v":""},{"$f":"IF(LEN('1 - Opstart Importark'!$B$9)>0,'1 - Opstart Importark'!$B$9,\"\")","v":""},{"$f":"IF(LEN('1 - Opstart Importark'!$B$31)>0,'1 - Opstart Importark'!$B$31,\"\")","v":""},{"$nulls":12},"",{"$nulls":8},0,"","","objektnogle_"]
[111,null,{"$f":"IF('1 - Opstart Importark'!$B$6=\"\",\"\",(IF('1 - Opstart Importark'!$B$15=\"\",CONCATENATE(LEFT('1 - Opstart Importark'!$B$3,1),(LEFT('1 - Opstart Importark'!$B$24,2)),LEFT('1 - Opstart Importark'!$B$28,3),IF(I122=\"\",\"\",\"-\"),I122,IF(K122=\"\",\"\",\"-\"),K122,IF(M122=\"\",\"\",\"-\"),M122,IF(O122=\"\",\"\",\"-\"),O122),CONCATENATE(LEFT('1 - Opstart Importark'!$B$3,1),(LEFT('1 - Opstart Importark'!$B$15,2)),(LEFT('1 - Opstart Importark'!$B$18,3)),IF(I122=\"\",\"\",\"-\"),I122,IF(K122=\"\",\"\",\"-\"),K122,IF(M122=\"\",\"\",\"-\"),M122,IF(O122=\"\",\"\",\"-\"),O122))))","v":""},null," ",{"$nulls":11},{"$f":"IF(LEN('1 - Opstart Importark'!$B$6)>0,'1 - Opstart Importark'!$B$6,\"\")","v":""},{"$f":"IF(LEN('1 - Opstart Importark'!$B$9)>0,'1 - Opstart Importark'!$B$9,\"\")","v":""},{"$f":"IF(LEN('1 - Opstart Importark'!$B$31)>0,'1 - Opstart Importark'!$B$31,\"\")","v":""},{"$nulls":12},"",{"$nulls":8},0,"","","objektnogle_"]
[112,null,{"$f":"IF('1 - Opstart Importark'!$B$6=\"\",\"\",(IF('1 - Opstart Importark'!$B$15=\"\",CONCATENATE(LEFT('1 - Opstart Importark'!$B$3,1),(LEFT('1 - Opstart Importark'!$B$24,2)),LEFT('1 - Opstart Importark'!$B$28,3),IF(I123=\"\",\"\",\"-\"),I123,IF(K123=\"\",\"\",\"-\"),K123,IF(M123=\"\",\"\",\"-\"),M123,IF(O123=\"\",\"\",\"-\"),O123),CONCATENATE(LEFT('1 - Opstart Importark'!$B$3,1),(LEFT('1 - Opstart Importark'!$B$15,2)),(LEFT('1 - Opstart Importark'!$B$18,3)),IF(I123=\"\",\"\",\"-\"),I123,IF(K123=\"\",\"\",\"-\"),K123,IF(M123=\"\",\"\",\"-\"),M123,IF(O123=\"\",\"\",\"-\"),O123))))","v":""},null," ",{"$nulls":11},{"$f":"IF(LEN('1 - Opstart Importark'!$B$6)>0,'1 - Opstart Importark'!$B$6,\"\")","v":""},{"$f":"IF(LEN('1 - Opstart Importark'!$B$9)>0,'1 - Opstart Importark'!$B$9,\"\")","v":""},{"$f":"IF(LEN('1 - Opstart Importark'!$B$31)>0,'1 - Opstart Importark'!$B$31,\"\")","v":""},{"$nulls":12},"",{"$nulls":8},0,"","","objektnogle_"]
[113,null,{"$f":"IF('1 - Opstart Importark'!$B$6=\"\",\"\",(IF('1 - Opstart Importark'!$B$15=\"\",CONCATENATE(LEFT('1 - Opstart Importark'!$B$3,1),(LEFT('1 - Opstart Importark'!$B$24,2)),LEFT('1 - Opstart Importark'!$B$28,3),IF(I124=\"\",\"\",\"-\"),I124,IF(K124=\"\",\"\",\"-\"),K124,IF(M124=\"\",\"\",\"-\"),M124,IF(O124=\"\",\"\",\"-\"),O124),CONCATENATE(LEFT('1 - Opstart Importark'!$B$3,1),(LEFT('1 - Opstart Importark'!$B$15,2)),(LEFT('1 - Opstart Importark'!$B$18,3)),IF(I124=\"\",\"\",\"-\"),I124,IF(K124=\"\",\"\",\"-\"),K124,IF(M124=\"\",\"\",\"-\"),M124,IF(O124=\"\",\"\",\"-\"),O124))))","v":""},null," ",{"$nulls":11},{"$f":"IF(LEN('1 - Opstart Importark'!$B$6)>0,'1 - Opstart Importark'!$B$6,\"\")","v":""},{"$f":"IF(LEN('1 - Opstart Importark'!$B$9)>0,'1 - Opstart Importark'!$B$9,\"\")","v":""},{"$f":"IF(LEN('1 - Opstart Importark'!$B$31)>0,'1 - Opstart Importark'!$B$31,\"\")","v":""},{"$nulls":12},"",{"$nulls":8},0,"","","objektnogle_"]
[114,null,{"$f":"IF('1 - Opstart Importark'!$B$6=\"\",\"\",(IF('1 - Opstart Importark'!$B$15=\"\",CONCATENATE(LEFT('1 - Opstart Importark'!$B$3,1),(LEFT('1 - Opstart Importark'!$B$24,2)),LEFT('1 - Opstart Importark'!$B$28,3),IF(I125=\"\",\"\",\"-\"),I125,IF(K125=\"\",\"\",\"-\"),K125,IF(M125=\"\",\"\",\"-\"),M125,IF(O125=\"\",\"\",\"-\"),O125),CONCATENATE(LEFT('1 - Opstart Importark'!$B$3,1),(LEFT('1 - Opstart Importark'!$B$15,2)),(LEFT('1 - Opstart Importark'!$B$18,3)),IF(I125=\"\",\"\",\"-\"),I125,IF(K125=\"\",\"\",\"-\"),K125,IF(M125=\"\",\"\",\"-\"),M125,IF(O125=\"\",\"\",\"-\"),O125))))","v":""},null," ",{"$nulls":11},{"$f":"IF(LEN('1 - Opstart Importark'!$B$6)>0,'1 - Opstart Importark'!$B$6,\"\")","v":""},{"$f":"IF(LEN('1 - Opstart Importark'!$B$9)>0,'1 - Opstart Importark'!$B$9,\"\")","v":""},{"$f":"IF(LEN('1 - Opstart Importark'!$B$31)>0,'1 - Opstart Importark'!$B$31,\"\")","v":""},{"$nulls":12},"",{"$nulls":8},0,"","","objektnogle_"]
[115,null,{"$f":"IF('1 - Opstart Importark'!$B$6=\"\",\"\",(IF('1 - Opstart Importark'!$B$15=\"\",CONCATENATE(LEFT('1 - Opstart Importark'!$B$3,1),(LEFT('1 - Opstart Importark'!$B$24,2)),LEFT('1 - Opstart Importark'!$B$28,3),IF(I126=\"\",\"\",\"-\"),I126,IF(K126=\"\",\"\",\"-\"),K126,IF(M126=\"\",\"\",\"-\"),M126,IF(O126=\"\",\"\",\"-\"),O126),CONCATENATE(LEFT('1 - Opstart Importark'!$B$3,1),(LEFT('1 - Opstart Importark'!$B$15,2)),(LEFT('1 - Opstart Importark'!$B$18,3)),IF(I126=\"\",\"\",\"-\"),I126,IF(K126=\"\",\"\",\"-\"),K126,IF(M126=\"\",\"\",\"-\"),M126,IF(O126=\"\",\"\",\"-\"),O126))))","v":""},null," ",{"$nulls":11},{"$f":"IF(LEN('1 - Opstart Importark'!$B$6)>0,'1 - Opstart Importark'!$B$6,\"\")","v":""},{"$f":"IF(LEN('1 - Opstart Importark'!$B$9)>0,'1 - Opstart Importark'!$B$9,\"\")","v":""},{"$f":"IF(LEN('1 - Opstart Importark'!$B$31)>0,'1 - Opstart Importark'!$B$31,\"\")","v":""},{"$nulls":12},"",{"$nulls":8},0,"","","objektnogle_"]
[116,null,{"$f":"IF('1 - Opstart Importark'!$B$6=\"\",\"\",(IF('1 - Opstart Importark'!$B$15=\"\",CONCATENATE(LEFT('1 - Opstart Importark'!$B$3,1),(LEFT('1 - Opstart Importark'!$B$24,2)),LEFT('1 - Opstart Importark'!$B$28,3),IF(I127=\"\",\"\",\"-\"),I127,IF(K127=\"\",\"\",\"-\"),K127,IF(M127=\"\",\"\",\"-\"),M127,IF(O127=\"\",\"\",\"-\"),O127),CONCATENATE(LEFT('1 - Opstart Importark'!$B$3,1),(LEFT('1 - Opstart Importark'!$B$15,2)),(LEFT('1 - Opstart Importark'!$B$18,3)),IF(I127=\"\",\"\",\"-\"),I127,IF(K127=\"\",\"\",\"-\"),K127,IF(M127=\"\",\"\",\"-\"),M127,IF(O127=\"\",\"\",\"-\"),O127))))","v":""},null," ",{"$nulls":11},{"$f":"IF(LEN('1 - Opstart Importark'!$B$6)>0,'1 - Opstart Importark'!$B$6,\"\")","v":""},{"$f":"IF(LEN('1 - Opstart Importark'!$B$9)>0,'1 - Opstart Importark'!$B$9,\"\")","v":""},{"$f":"IF(LEN('1 - Opstart Importark'!$B$31)>0,'1 - Opstart Importark'!$B$31,\"\")","v":""},{"$nulls":12},"",{"$nulls":8},0,"","","objektnogle_"]
[117,null,{"$f":"IF('1 - Opstart Importark'!$B$6=\"\",\"\",(IF('1 - Opstart Importark'!$B$15=\"\",CONCATENATE(LEFT('1 - Opstart Importark'!$B$3,1),(LEFT('1 - Opstart Importark'!$B$24,2)),LEFT('1 - Opstart Importark'!$B$28,3),IF(I128=\"\",\"\",\"-\"),I128,IF(K128=\"\",\"\",\"-\"),K128,IF(M128=\"\",\"\",\"-\"),M128,IF(O128=\"\",\"\",\"-\"),O128),CONCATENATE(LEFT('1 - Opstart Importark'!$B$3,1),(LEFT('1 - Opstart Importark'!$B$15,2)),(LEFT('1 - Opstart Importark'!$B$18,3)),IF(I128=\"\",\"\",\"-\"),I128,IF(K128=\"\",\"\",\"-\"),K128,IF(M128=\"\",\"\",\"-\"),M128,IF(O128=\"\",\"\",\"-\"),O128))))","v":""},null," ",{"$nulls":11},{"$f":"IF(LEN('1 - Opstart Importark'!$B$6)>0,'1 - Opstart Importark'!$B$6,\"\")","v":""},{"$f":"IF(LEN('1 - Opstart Importark'!$B$9)>0,'1 - Opstart Importark'!$B$9,\"\")","v":""},{"$f":"IF(LEN('1 - Opstart Importark'!$B$31)>0,'1 - Opstart Importark'!$B$31,\"\")","v":""},{"$nulls":12},"",{"$nulls":8},0,"","","objektnogle_"]
[118,null,{"$f":"IF('1 - Opstart Importark'!$B$6=\"\",\"\",(IF('1 - Opstart Importark'!$B$15=\"\",CONCATENATE(LEFT('1 - Opstart Importark'!$B$3,1),(LEFT('1 - Opstart Importark'!$B$24,2)),LEFT('1 - Opstart Importark'!$B$28,3),IF(I129=\"\",\"\",\"-\"),I129,IF(K129=\"\",\"\",\"-\"),K129,IF(M129=\"\",\"\",\"-\"),M129,IF(O129=\"\",\"\",\"-\"),O129),CONCATENATE(LEFT('1 - Opstart Importark'!$B$3,1),(LEFT('1 - Opstart Importark'!$B$15,2)),(LEFT('1 - Opstart Importark'!$B$18,3)),IF(I129=\"\",\"\",\"-\"),I129,IF(K129=\"\",\"\",\"-\"),K129,IF(M129=\"\",\"\",\"-\"),M129,IF(O129=\"\",\"\",\"-\"),O129))))","v":""},null," ",{"$nulls":11},{"$f":"IF(LEN('1 - Opstart Importark'!$B$6)>0,'1 - Opstart Importark'!$B$6,\"\")","v":""},{"$f":"IF(LEN('1 - Opstart Importark'!$B$9)>0,'1 - Opstart Importark'!$B$9,\"\")","v":""},{"$f":"IF(LEN('1 - Opstart Importark'!$B$31)>0,'1 - Opstart Importark'!$B$31,\"\")","v":""},{"$nulls":12},"",{"$nulls":8},0,"","","objektnogle_"]
[119,null,{"$f":"IF('1 - Opstart Importark'!$B$6=\"\",\"\",(IF('1 - Opstart Importark'!$B$15=\"\",CONCATENATE(LEFT('1 - Opstart Importark'!$B$3,1),(LEFT('1 - Opstart Importark'!$B$24,2)),LEFT('1 - Opstart Importark'!$B$28,3),IF(I130=\"\",\"\",\"-\"),I130,IF(K130=\"\",\"\",\"-\"),K130,IF(M130=\"\",\"\",\"-\"),M130,IF(O130=\"\",\"\",\"-\"),O130),CONCATENATE(LEFT('1 - Opstart Importark'!$B$3,1),(LEFT('1 - Opstart Importark'!$B$15,2)),(LEFT('1 - Opstart Importark'!$B$18,3)),IF(I130=\"\",\"\",\"-\"),I130,IF(K130=\"\",\"\",\"-\"),K130,IF(M130=\"\",\"\",\"-\"),M130,IF(O130=\"\",\"\",\"-\"),O130))))","v":""},null," ",{"$nulls":11},{"$f":"IF(LEN('1 - Opstart Importark'!$B$6)>0,'1 - Opstart Importark'!$B$6,\"\")","v":""},{"$f":"IF(LEN('1 - Opstart Importark'!$B$9)>0,'1 - Opstart Importark'!$B$9,\"\")","v":""},{"$f":"IF(LEN('1 - Opstart Importark'!$B$31)>0,'1 - Opstart Importark'!$B$31,\"\")","v":""},{"$nulls":12},"",{"$nulls":8},0,"","","objektnogle_"]
[120,null,{"$f":"IF('1 - Opstart Importark'!$B$6=\"\",\"\",(IF('1 - Opstart Importark'!$B$15=\"\",CONCATENATE(LEFT('1 - Opstart Importark'!$B$3,1),(LEFT('1 - Opstart Importark'!$B$24,2)),LEFT('1 - Opstart Importark'!$B$28,3),IF(I131=\"\",\"\",\"-\"),I131,IF(K131=\"\",\"\",\"-\"),K131,IF(M131=\"\",\"\",\"-\"),M131,IF(O131=\"\",\"\",\"-\"),O131),CONCATENATE(LEFT('1 - Opstart Importark'!$B$3,1),(LEFT('1 - Opstart Importark'!$B$15,2)),(LEFT('1 - Opstart Importark'!$B$18,3)),IF(I131=\"\",\"\",\"-\"),I131,IF(K131=\"\",\"\",\"-\"),K131,IF(M131=\"\",\"\",\"-\"),M131,IF(O131=\"\",\"\",\"-\"),O131))))","v":""},null," ",{"$nulls":11},{"$f":"IF(LEN('1 - Opstart Importark'!$B$6)>0,'1 - Opstart Importark'!$B$6,\"\")","v":""},{"$f":"IF(LEN('1 - Opstart Importark'!$B$9)>0,'1 - Opstart Importark'!$B$9,\"\")","v":""},{"$f":"IF(LEN('1 - Opstart Importark'!$B$31)>0,'1 - Opstart Importark'!$B$31,\"\")","v":""},{"$nulls":12},"",{"$nulls":8},0,"","","objektnogle_"]
[121,null,{"$f":"IF('1 - Opstart Importark'!$B$6=\"\",\"\",(IF('1 - Opstart Importark'!$B$15=\"\",CONCATENATE(LEFT('1 - Opstart Importark'!$B$3,1),(LEFT('1 - Opstart Importark'!$B$24,2)),LEFT('1 - Opstart Importark'!$B$28,3),IF(I132=\"\",\"\",\"-\"),I132,IF(K132=\"\",\"\",\"-\"),K132,IF(M132=\"\",\"\",\"-\"),M132,IF(O132=\"\",\"\",\"-\"),O132),CONCATENATE(LEFT('1 - Opstart Importark'!$B$3,1),(LEFT('1 - Opstart Importark'!$B$15,2)),(LEFT('1 - Opstart Importark'!$B$18,3)),IF(I132=\"\",\"\",\"-\"),I132,IF(K132=\"\",\"\",\"-\"),K132,IF(M132=\"\",\"\",\"-\"),M132,IF(O132=\"\",\"\",\"-\"),O132))))","v":""},null," ",{"$nulls":11},{"$f":"IF(LEN('1 - Opstart Importark'!$B$6)>0,'1 - Opstart Importark'!$B$6,\"\")","v":""},{"$f":"IF(LEN('1 - Opstart Importark'!$B$9)>0,'1 - Opstart Importark'!$B$9,\"\")","v":""},{"$f":"IF(LEN('1 - Opstart Importark'!$B$31)>0,'1 - Opstart Importark'!$B$31,\"\")","v":""},{"$nulls":12},"",{"$nulls":8},0,"","","objektnogle_"]
[122,null,{"$f":"IF('1 - Opstart Importark'!$B$6=\"\",\"\",(IF('1 - Opstart Importark'!$B$15=\"\",CONCATENATE(LEFT('1 - Opstart Importark'!$B$3,1),(LEFT('1 - Opstart Importark'!$B$24,2)),LEFT('1 - Opstart Importark'!$B$28,3),IF(I133=\"\",\"\",\"-\"),I133,IF(K133=\"\",\"\",\"-\"),K133,IF(M133=\"\",\"\",\"-\"),M133,IF(O133=\"\",\"\",\"-\"),O133),CONCATENATE(LEFT('1 - Opstart Importark'!$B$3,1),(LEFT('1 - Opstart Importark'!$B$15,2)),(LEFT('1 - Opstart Importark'!$B$18,3)),IF(I133=\"\",\"\",\"-\"),I133,IF(K133=\"\",\"\",\"-\"),K133,IF(M133=\"\",\"\",\"-\"),M133,IF(O133=\"\",\"\",\"-\"),O133))))","v":""},null," ",{"$nulls":11},{"$f":"IF(LEN('1 - Opstart Importark'!$B$6)>0,'1 - Opstart Importark'!$B$6,\"\")","v":""},{"$f":"IF(LEN('1 - Opstart Importark'!$B$9)>0,'1 - Opstart Importark'!$B$9,\"\")","v":""},{"$f":"IF(LEN('1 - Opstart Importark'!$B$31)>0,'1 - Opstart Importark'!$B$31,\"\")","v":""},{"$nulls":12},"",{"$nulls":8},0,"","","objektnogle_"]
[123,null,{"$f":"IF('1 - Opstart Importark'!$B$6=\"\",\"\",(IF('1 - Opstart Importark'!$B$15=\"\",CONCATENATE(LEFT('1 - Opstart Importark'!$B$3,1),(LEFT('1 - Opstart Importark'!$B$24,2)),LEFT('1 - Opstart Importark'!$B$28,3),IF(I134=\"\",\"\",\"-\"),I134,IF(K134=\"\",\"\",\"-\"),K134,IF(M134=\"\",\"\",\"-\"),M134,IF(O134=\"\",\"\",\"-\"),O134),CONCATENATE(LEFT('1 - Opstart Importark'!$B$3,1),(LEFT('1 - Opstart Importark'!$B$15,2)),(LEFT('1 - Opstart Importark'!$B$18,3)),IF(I134=\"\",\"\",\"-\"),I134,IF(K134=\"\",\"\",\"-\"),K134,IF(M134=\"\",\"\",\"-\"),M134,IF(O134=\"\",\"\",\"-\"),O134))))","v":""},null," ",{"$nulls":11},{"$f":"IF(LEN('1 - Opstart Importark'!$B$6)>0,'1 - Opstart Importark'!$B$6,\"\")","v":""},{"$f":"IF(LEN('1 - Opstart Importark'!$B$9)>0,'1 - Opstart Importark'!$B$9,\"\")","v":""},{"$f":"IF(LEN('1 - Opstart Importark'!$B$31)>0,'1 - Opstart Importark'!$B$31,\"\")","v":""},{"$nulls":12},"",{"$nulls":8},0,"","","objektnogle_"]
[124,null,{"$f":"IF('1 - Opstart Importark'!$B$6=\"\",\"\",(IF('1 - Opstart Importark'!$B$15=\"\",CONCATENATE(LEFT('1 - Opstart Importark'!$B$3,1),(LEFT('1 - Opstart Importark'!$B$24,2)),LEFT('1 - Opstart Importark'!$B$28,3),IF(I135=\"\",\"\",\"-\"),I135,IF(K135=\"\",\"\",\"-\"),K135,IF(M135=\"\",\"\",\"-\"),M135,IF(O135=\"\",\"\",\"-\"),O135),CONCATENATE(LEFT('1 - Opstart Importark'!$B$3,1),(LEFT('1 - Opstart Importark'!$B$15,2)),(LEFT('1 - Opstart Importark'!$B$18,3)),IF(I135=\"\",\"\",\"-\"),I135,IF(K135=\"\",\"\",\"-\"),K135,IF(M135=\"\",\"\",\"-\"),M135,IF(O135=\"\",\"\",\"-\"),O135))))","v":""},null," ",{"$nulls":11},{"$f":"IF(LEN('1 - Opstart Importark'!$B$6)>0,'1 - Opstart Importark'!$B$6,\"\")","v":""},{"$f":"IF(LEN('1 - Opstart Importark'!$B$9)>0,'1 - Opstart Importark'!$B$9,\"\")","v":""},{"$f":"IF(LEN('1 - Opstart Importark'!$B$31)>0,'1 - Opstart Importark'!$B$31,\"\")","v":""},{"$nulls":12},"",{"$nulls":8},0,"","","objektnogle_"]
[125,null,{"$f":"IF('1 - Opstart Importark'!$B$6=\"\",\"\",(IF('1 - Opstart Importark'!$B$15=\"\",CONCATENATE(LEFT('1 - Opstart Importark'!$B$3,1),(LEFT('1 - Opstart Importark'!$B$24,2)),LEFT('1 - Opstart Importark'!$B$28,3),IF(I136=\"\",\"\",\"-\"),I136,IF(K136=\"\",\"\",\"-\"),K136,IF(M136=\"\",\"\",\"-\"),M136,IF(O136=\"\",\"\",\"-\"),O136),CONCATENATE(LEFT('1 - Opstart Importark'!$B$3,1),(LEFT('1 - Opstart Importark'!$B$15,2)),(LEFT('1 - Opstart Importark'!$B$18,3)),IF(I136=\"\",\"\",\"-\"),I136,IF(K136=\"\",\"\",\"-\"),K136,IF(M136=\"\",\"\",\"-\"),M136,IF(O136=\"\",\"\",\"-\"),O136))))","v":""},null," ",{"$nulls":11},{"$f":"IF(LEN('1 - Opstart Importark'!$B$6)>0,'1 - Opstart Importark'!$B$6,\"\")","v":""},{"$f":"IF(LEN('1 - Opstart Importark'!$B$9)>0,'1 - Opstart Importark'!$B$9,\"\")","v":""},{"$f":"IF(LEN('1 - Opstart Importark'!$B$31)>0,'1 - Opstart Importark'!$B$31,\"\")","v":""},{"$nulls":12},"",{"$nulls":8},0,"","","objektnogle_"]
[126,null,{"$f":"IF('1 - Opstart Importark'!$B$6=\"\",\"\",(IF('1 - Opstart Importark'!$B$15=\"\",CONCATENATE(LEFT('1 - Opstart Importark'!$B$3,1),(LEFT('1 - Opstart Importark'!$B$24,2)),LEFT('1 - Opstart Importark'!$B$28,3),IF(I137=\"\",\"\",\"-\"),I137,IF(K137=\"\",\"\",\"-\"),K137,IF(M137=\"\",\"\",\"-\"),M137,IF(O137=\"\",\"\",\"-\"),O137),CONCATENATE(LEFT('1 - Opstart Importark'!$B$3,1),(LEFT('1 - Opstart Importark'!$B$15,2)),(LEFT('1 - Opstart Importark'!$B$18,3)),IF(I137=\"\",\"\",\"-\"),I137,IF(K137=\"\",\"\",\"-\"),K137,IF(M137=\"\",\"\",\"-\"),M137,IF(O137=\"\",\"\",\"-\"),O137))))","v":""},null," ",{"$nulls":11},{"$f":"IF(LEN('1 - Opstart Importark'!$B$6)>0,'1 - Opstart Importark'!$B$6,\"\")","v":""},{"$f":"IF(LEN('1 - Opstart Importark'!$B$9)>0,'1 - Opstart Importark'!$B$9,\"\")","v":""},{"$f":"IF(LEN('1 - Opstart Importark'!$B$31)>0,'1 - Opstart Importark'!$B$31,\"\")","v":""},{"$nulls":12},"",{"$nulls":8},0,"","","objektnogle_"]
[127,null,{"$f":"IF('1 - Opstart Importark'!$B$6=\"\",\"\",(IF('1 - Opstart Importark'!$B$15=\"\",CONCATENATE(LEFT('1 - Opstart Importark'!$B$3,1),(LEFT('1 - Opstart Importark'!$B$24,2)),LEFT('1 - Opstart Importark'!$B$28,3),IF(I138=\"\",\"\",\"-\"),I138,IF(K138=\"\",\"\",\"-\"),K138,IF(M138=\"\",\"\",\"-\"),M138,IF(O138=\"\",\"\",\"-\"),O138),CONCATENATE(LEFT('1 - Opstart Importark'!$B$3,1),(LEFT('1 - Opstart Importark'!$B$15,2)),(LEFT('1 - Opstart Importark'!$B$18,3)),IF(I138=\"\",\"\",\"-\"),I138,IF(K138=\"\",\"\",\"-\"),K138,IF(M138=\"\",\"\",\"-\"),M138,IF(O138=\"\",\"\",\"-\"),O138))))","v":""},null," ",{"$nulls":11},{"$f":"IF(LEN('1 - Opstart Importark'!$B$6)>0,'1 - Opstart Importark'!$B$6,\"\")","v":""},{"$f":"IF(LEN('1 - Opstart Importark'!$B$9)>0,'1 - Opstart Importark'!$B$9,\"\")","v":""},{"$f":"IF(LEN('1 - Opstart Importark'!$B$31)>0,'1 - Opstart Importark'!$B$31,\"\")","v":""},{"$nulls":12},"",{"$nulls":8},0,"","","objektnogle_"]
[128,null,{"$f":"IF('1 - Opstart Importark'!$B$6=\"\",\"\",(IF('1 - Opstart Importark'!$B$15=\"\",CONCATENATE(LEFT('1 - Opstart Importark'!$B$3,1),(LEFT('1 - Opstart Importark'!$B$24,2)),LEFT('1 - Opstart Importark'!$B$28,3),IF(I139=\"\",\"\",\"-\"),I139,IF(K139=\"\",\"\",\"-\"),K139,IF(M139=\"\",\"\",\"-\"),M139,IF(O139=\"\",\"\",\"-\"),O139),CONCATENATE(LEFT('1 - Opstart Importark'!$B$3,1),(LEFT('1 - Opstart Importark'!$B$15,2)),(LEFT('1 - Opstart Importark'!$B$18,3)),IF(I139=\"\",\"\",\"-\"),I139,IF(K139=\"\",\"\",\"-\"),K139,IF(M139=\"\",\"\",\"-\"),M139,IF(O139=\"\",\"\",\"-\"),O139))))","v":""},null," ",{"$nulls":11},{"$f":"IF(LEN('1 - Opstart Importark'!$B$6)>0,'1 - Opstart Importark'!$B$6,\"\")","v":""},{"$f":"IF(LEN('1 - Opstart Importark'!$B$9)>0,'1 - Opstart Importark'!$B$9,\"\")","v":""},{"$f":"IF(LEN('1 - Opstart Importark'!$B$31)>0,'1 - Opstart Importark'!$B$31,\"\")","v":""},{"$nulls":12},"",{"$nulls":8},0,"","","objektnogle_"]
[129,null,{"$f":"IF('1 - Opstart Importark'!$B$6=\"\",\"\",(IF('1 - Opstart Importark'!$B$15=\"\",CONCATENATE(LEFT('1 - Opstart Importark'!$B$3,1),(LEFT('1 - Opstart Importark'!$B$24,2)),LEFT('1 - Opstart Importark'!$B$28,3),IF(I140=\"\",\"\",\"-\"),I140,IF(K140=\"\",\"\",\"-\"),K140,IF(M140=\"\",\"\",\"-\"),M140,IF(O140=\"\",\"\",\"-\"),O140),CONCATENATE(LEFT('1 - Opstart Importark'!$B$3,1),(LEFT('1 - Opstart Importark'!$B$15,2)),(LEFT('1 - Opstart Importark'!$B$18,3)),IF(I140=\"\",\"\",\"-\"),I140,IF(K140=\"\",\"\",\"-\"),K140,IF(M140=\"\",\"\",\"-\"),M140,IF(O140=\"\",\"\",\"-\"),O140))))","v":""},null," ",{"$nulls":11},{"$f":"IF(LEN('1 - Opstart Importark'!$B$6)>0,'1 - Opstart Importark'!$B$6,\"\")","v":""},{"$f":"IF(LEN('1 - Opstart Importark'!$B$9)>0,'1 - Opstart Importark'!$B$9,\"\")","v":""},{"$f":"IF(LEN('1 - Opstart Importark'!$B$31)>0,'1 - Opstart Importark'!$B$31,\"\")","v":""},{"$nulls":12},{"$f":"IF(M140=\"\",\"\",VLOOKUP(LEFT(M140,1),objektfilter,2))","v":""},{"$nulls":8},0,"","","objektnogle_"]
[130,null,{"$f":"IF('1 - Opstart Importark'!$B$6=\"\",\"\",(IF('1 - Opstart Importark'!$B$15=\"\",CONCATENATE(LEFT('1 - Opstart Importark'!$B$3,1),(LEFT('1 - Opstart Importark'!$B$24,2)),LEFT('1 - Opstart Importark'!$B$28,3),IF(I141=\"\",\"\",\"-\"),I141,IF(K141=\"\",\"\",\"-\"),K141,IF(M141=\"\",\"\",\"-\"),M141,IF(O141=\"\",\"\",\"-\"),O141),CONCATENATE(LEFT('1 - Opstart Importark'!$B$3,1),(LEFT('1 - Opstart Importark'!$B$15,2)),(LEFT('1 - Opstart Importark'!$B$18,3)),IF(I141=\"\",\"\",\"-\"),I141,IF(K141=\"\",\"\",\"-\"),K141,IF(M141=\"\",\"\",\"-\"),M141,IF(O141=\"\",\"\",\"-\"),O141))))","v":""},null," ",{"$nulls":11},{"$f":"IF(LEN('1 - Opstart Importark'!$B$6)>0,'1 - Opstart Importark'!$B$6,\"\")","v":""},{"$f":"IF(LEN('1 - Opstart Importark'!$B$9)>0,'1 - Opstart Importark'!$B$9,\"\")","v":""},{"$f":"IF(LEN('1 - Opstart Importark'!$B$31)>0,'1 - Opstart Importark'!$B$31,\"\")","v":""},{"$nulls":12},"",{"$nulls":8},{"$f":"IFERROR(FIND(\".\",F141),)","v":0},{"$f":"IF(M141=\"\",\"\",IF(LEFT(M141,1)=\"E\",0,1))","v":""},{"$f":"IF(M141=\"\",\"\",IF(LEFT(M141,1)=\"E\",0,1))","v":""},{"$f":"IF(W141=\"\", CONCATENATE(\"objektnogle_\",LEFT(AF141,1)),CONCATENATE(\"objektnogle_\",LEFT(W141,1)))","v":"objektnogle_"}]
[131,null,{"$f":"IF('1 - Opstart Importark'!$B$6=\"\",\"\",(IF('1 - Opstart Importark'!$B$15=\"\",CONCATENATE(LEFT('1 - Opstart Importark'!$B$3,1),(LEFT('1 - Opstart Importark'!$B$24,2)),LEFT('1 - Opstart Importark'!$B$28,3),IF(I142=\"\",\"\",\"-\"),I142,IF(K142=\"\",\"\",\"-\"),K142,IF(M142=\"\",\"\",\"-\"),M142,IF(O142=\"\",\"\",\"-\"),O142),CONCATENATE(LEFT('1 - Opstart Importark'!$B$3,1),(LEFT('1 - Opstart Importark'!$B$15,2)),(LEFT('1 - Opstart Importark'!$B$18,3)),IF(I142=\"\",\"\",\"-\"),I142,IF(K142=\"\",\"\",\"-\"),K142,IF(M142=\"\",\"\",\"-\"),M142,IF(O142=\"\",\"\",\"-\"),O142))))","v":""},null," ",{"$nulls":11},{"$f":"IF(LEN('1 - Opstart Importark'!$B$6)>0,'1 - Opstart Importark'!$B$6,\"\")","v":""},{"$f":"IF(LEN('1 - Opstart Importark'!$B$9)>0,'1 - Opstart Importark'!$B$9,\"\")","v":""},{"$f":"IF(LEN('1 - Opstart Importark'!$B$31)>0,'1 - Opstart Importark'!$B$31,\"\")","v":""},{"$nulls":12},"",{"$nulls":8},0,"","","objektnogle_"]
[132,null,{"$f":"IF('1 - Opstart Importark'!$B$6=\"\",\"\",(IF('1 - Opstart Importark'!$B$15=\"\",CONCATENATE(LEFT('1 - Opstart Importark'!$B$3,1),(LEFT('1 - Opstart Importark'!$B$24,2)),LEFT('1 - Opstart Importark'!$B$28,3),IF(I143=\"\",\"\",\"-\"),I143,IF(K143=\"\",\"\",\"-\"),K143,IF(M143=\"\",\"\",\"-\"),M143,IF(O143=\"\",\"\",\"-\"),O143),CONCATENATE(LEFT('1 - Opstart Importark'!$B$3,1),(LEFT('1 - Opstart Importark'!$B$15,2)),(LEFT('1 - Opstart Importark'!$B$18,3)),IF(I143=\"\",\"\",\"-\"),I143,IF(K143=\"\",\"\",\"-\"),K143,IF(M143=\"\",\"\",\"-\"),M143,IF(O143=\"\",\"\",\"-\"),O143))))","v":""},null," ",{"$nulls":11},{"$f":"IF(LEN('1 - Opstart Importark'!$B$6)>0,'1 - Opstart Importark'!$B$6,\"\")","v":""},{"$f":"IF(LEN('1 - Opstart Importark'!$B$9)>0,'1 - Opstart Importark'!$B$9,\"\")","v":""},{"$f":"IF(LEN('1 - Opstart Importark'!$B$31)>0,'1 - Opstart Importark'!$B$31,\"\")","v":""},{"$nulls":12},"",{"$nulls":8},0,"","","objektnogle_"]
[133,null,{"$f":"IF('1 - Opstart Importark'!$B$6=\"\",\"\",(IF('1 - Opstart Importark'!$B$15=\"\",CONCATENATE(LEFT('1 - Opstart Importark'!$B$3,1),(LEFT('1 - Opstart Importark'!$B$24,2)),LEFT('1 - Opstart Importark'!$B$28,3),IF(I144=\"\",\"\",\"-\"),I144,IF(K144=\"\",\"\",\"-\"),K144,IF(M144=\"\",\"\",\"-\"),M144,IF(O144=\"\",\"\",\"-\"),O144),CONCATENATE(LEFT('1 - Opstart Importark'!$B$3,1),(LEFT('1 - Opstart Importark'!$B$15,2)),(LEFT('1 - Opstart Importark'!$B$18,3)),IF(I144=\"\",\"\",\"-\"),I144,IF(K144=\"\",\"\",\"-\"),K144,IF(M144=\"\",\"\",\"-\"),M144,IF(O144=\"\",\"\",\"-\"),O144))))","v":""},null," ",{"$nulls":11},{"$f":"IF(LEN('1 - Opstart Importark'!$B$6)>0,'1 - Opstart Importark'!$B$6,\"\")","v":""},{"$f":"IF(LEN('1 - Opstart Importark'!$B$9)>0,'1 - Opstart Importark'!$B$9,\"\")","v":""},{"$f":"IF(LEN('1 - Opstart Importark'!$B$31)>0,'1 - Opstart Importark'!$B$31,\"\")","v":""},{"$nulls":12},"",{"$nulls":8},0,"","","objektnogle_"]
[134,null,{"$f":"IF('1 - Opstart Importark'!$B$6=\"\",\"\",(IF('1 - Opstart Importark'!$B$15=\"\",CONCATENATE(LEFT('1 - Opstart Importark'!$B$3,1),(LEFT('1 - Opstart Importark'!$B$24,2)),LEFT('1 - Opstart Importark'!$B$28,3),IF(I145=\"\",\"\",\"-\"),I145,IF(K145=\"\",\"\",\"-\"),K145,IF(M145=\"\",\"\",\"-\"),M145,IF(O145=\"\",\"\",\"-\"),O145),CONCATENATE(LEFT('1 - Opstart Importark'!$B$3,1),(LEFT('1 - Opstart Importark'!$B$15,2)),(LEFT('1 - Opstart Importark'!$B$18,3)),IF(I145=\"\",\"\",\"-\"),I145,IF(K145=\"\",\"\",\"-\"),K145,IF(M145=\"\",\"\",\"-\"),M145,IF(O145=\"\",\"\",\"-\"),O145))))","v":""},null," ",{"$nulls":11},{"$f":"IF(LEN('1 - Opstart Importark'!$B$6)>0,'1 - Opstart Importark'!$B$6,\"\")","v":""},{"$f":"IF(LEN('1 - Opstart Importark'!$B$9)>0,'1 - Opstart Importark'!$B$9,\"\")","v":""},{"$f":"IF(LEN('1 - Opstart Importark'!$B$31)>0,'1 - Opstart Importark'!$B$31,\"\")","v":""},{"$nulls":12},"",{"$nulls":8},0,"","","objektnogle_"]
[135,null,{"$f":"IF('1 - Opstart Importark'!$B$6=\"\",\"\",(IF('1 - Opstart Importark'!$B$15=\"\",CONCATENATE(LEFT('1 - Opstart Importark'!$B$3,1),(LEFT('1 - Opstart Importark'!$B$24,2)),LEFT('1 - Opstart Importark'!$B$28,3),IF(I146=\"\",\"\",\"-\"),I146,IF(K146=\"\",\"\",\"-\"),K146,IF(M146=\"\",\"\",\"-\"),M146,IF(O146=\"\",\"\",\"-\"),O146),CONCATENATE(LEFT('1 - Opstart Importark'!$B$3,1),(LEFT('1 - Opstart Importark'!$B$15,2)),(LEFT('1 - Opstart Importark'!$B$18,3)),IF(I146=\"\",\"\",\"-\"),I146,IF(K146=\"\",\"\",\"-\"),K146,IF(M146=\"\",\"\",\"-\"),M146,IF(O146=\"\",\"\",\"-\"),O146))))","v":""},null," ",{"$nulls":11},{"$f":"IF(LEN('1 - Opstart Importark'!$B$6)>0,'1 - Opstart Importark'!$B$6,\"\")","v":""},{"$f":"IF(LEN('1 - Opstart Importark'!$B$9)>0,'1 - Opstart Importark'!$B$9,\"\")","v":""},{"$f":"IF(LEN('1 - Opstart Importark'!$B$31)>0,'1 - Opstart Importark'!$B$31,\"\")","v":""},{"$nulls":12},"",{"$nulls":8},0,"","","objektnogle_"]
[136,null,{"$f":"IF('1 - Opstart Importark'!$B$6=\"\",\"\",(IF('1 - Opstart Importark'!$B$15=\"\",CONCATENATE(LEFT('1 - Opstart Importark'!$B$3,1),(LEFT('1 - Opstart Importark'!$B$24,2)),LEFT('1 - Opstart Importark'!$B$28,3),IF(I147=\"\",\"\",\"-\"),I147,IF(K147=\"\",\"\",\"-\"),K147,IF(M147=\"\",\"\",\"-\"),M147,IF(O147=\"\",\"\",\"-\"),O147),CONCATENATE(LEFT('1 - Opstart Importark'!$B$3,1),(LEFT('1 - Opstart Importark'!$B$15,2)),(LEFT('1 - Opstart Importark'!$B$18,3)),IF(I147=\"\",\"\",\"-\"),I147,IF(K147=\"\",\"\",\"-\"),K147,IF(M147=\"\",\"\",\"-\"),M147,IF(O147=\"\",\"\",\"-\"),O147))))","v":""},null," ",{"$nulls":11},{"$f":"IF(LEN('1 - Opstart Importark'!$B$6)>0,'1 - Opstart Importark'!$B$6,\"\")","v":""},{"$f":"IF(LEN('1 - Opstart Importark'!$B$9)>0,'1 - Opstart Importark'!$B$9,\"\")","v":""},{"$f":"IF(LEN('1 - Opstart Importark'!$B$31)>0,'1 - Opstart Importark'!$B$31,\"\")","v":""},{"$nulls":12},"",{"$nulls":8},0,"","","objektnogle_"]
[137,null,{"$f":"IF('1 - Opstart Importark'!$B$6=\"\",\"\",(IF('1 - Opstart Importark'!$B$15=\"\",CONCATENATE(LEFT('1 - Opstart Importark'!$B$3,1),(LEFT('1 - Opstart Importark'!$B$24,2)),LEFT('1 - Opstart Importark'!$B$28,3),IF(I148=\"\",\"\",\"-\"),I148,IF(K148=\"\",\"\",\"-\"),K148,IF(M148=\"\",\"\",\"-\"),M148,IF(O148=\"\",\"\",\"-\"),O148),CONCATENATE(LEFT('1 - Opstart Importark'!$B$3,1),(LEFT('1 - Opstart Importark'!$B$15,2)),(LEFT('1 - Opstart Importark'!$B$18,3)),IF(I148=\"\",\"\",\"-\"),I148,IF(K148=\"\",\"\",\"-\"),K148,IF(M148=\"\",\"\",\"-\"),M148,IF(O148=\"\",\"\",\"-\"),O148))))","v":""},null," ",{"$nulls":11},{"$f":"IF(LEN('1 - Opstart Importark'!$B$6)>0,'1 - Opstart Importark'!$B$6,\"\")","v":""},{"$f":"IF(LEN('1 - Opstart Importark'!$B$9)>0,'1 - Opstart Importark'!$B$9,\"\")","v":""},{"$f":"IF(LEN('1 - Opstart Importark'!$B$31)>0,'1 - Opstart Importark'!$B$31,\"\")","v":""},{"$nulls":12},"",{"$nulls":8},0,"","","objektnogle_"]
[138,null,{"$f":"IF('1 - Opstart Importark'!$B$6=\"\",\"\",(IF('1 - Opstart Importark'!$B$15=\"\",CONCATENATE(LEFT('1 - Opstart Importark'!$B$3,1),(LEFT('1 - Opstart Importark'!$B$24,2)),LEFT('1 - Opstart Importark'!$B$28,3),IF(I149=\"\",\"\",\"-\"),I149,IF(K149=\"\",\"\",\"-\"),K149,IF(M149=\"\",\"\",\"-\"),M149,IF(O149=\"\",\"\",\"-\"),O149),CONCATENATE(LEFT('1 - Opstart Importark'!$B$3,1),(LEFT('1 - Opstart Importark'!$B$15,2)),(LEFT('1 - Opstart Importark'!$B$18,3)),IF(I149=\"\",\"\",\"-\"),I149,IF(K149=\"\",\"\",\"-\"),K149,IF(M149=\"\",\"\",\"-\"),M149,IF(O149=\"\",\"\",\"-\"),O149))))","v":""},null," ",{"$nulls":11},{"$f":"IF(LEN('1 - Opstart Importark'!$B$6)>0,'1 - Opstart Importark'!$B$6,\"\")","v":""},{"$f":"IF(LEN('1 - Opstart Importark'!$B$9)>0,'1 - Opstart Importark'!$B$9,\"\")","v":""},{"$f":"IF(LEN('1 - Opstart Importark'!$B$31)>0,'1 - Opstart Importark'!$B$31,\"\")","v":""},{"$nulls":12},"",{"$nulls":8},0,"","","objektnogle_"]
[139,null,{"$f":"IF('1 - Opstart Importark'!$B$6=\"\",\"\",(IF('1 - Opstart Importark'!$B$15=\"\",CONCATENATE(LEFT('1 - Opstart Importark'!$B$3,1),(LEFT('1 - Opstart Importark'!$B$24,2)),LEFT('1 - Opstart Importark'!$B$28,3),IF(I150=\"\",\"\",\"-\"),I150,IF(K150=\"\",\"\",\"-\"),K150,IF(M150=\"\",\"\",\"-\"),M150,IF(O150=\"\",\"\",\"-\"),O150),CONCATENATE(LEFT('1 - Opstart Importark'!$B$3,1),(LEFT('1 - Opstart Importark'!$B$15,2)),(LEFT('1 - Opstart Importark'!$B$18,3)),IF(I150=\"\",\"\",\"-\"),I150,IF(K150=\"\",\"\",\"-\"),K150,IF(M150=\"\",\"\",\"-\"),M150,IF(O150=\"\",\"\",\"-\"),O150))))","v":""},null," ",{"$nulls":11},{"$f":"IF(LEN('1 - Opstart Importark'!$B$6)>0,'1 - Opstart Importark'!$B$6,\"\")","v":""},{"$f":"IF(LEN('1 - Opstart Importark'!$B$9)>0,'1 - Opstart Importark'!$B$9,\"\")","v":""},{"$f":"IF(LEN('1 - Opstart Importark'!$B$31)>0,'1 - Opstart Importark'!$B$31,\"\")","v":""},{"$nulls":12},"",{"$nulls":8},0,"","","objektnogle_"]
[140,null,{"$f":"IF('1 - Opstart Importark'!$B$6=\"\",\"\",(IF('1 - Opstart Importark'!$B$15=\"\",CONCATENATE(LEFT('1 - Opstart Importark'!$B$3,1),(LEFT('1 - Opstart Importark'!$B$24,2)),LEFT('1 - Opstart Importark'!$B$28,3),IF(I151=\"\",\"\",\"-\"),I151,IF(K151=\"\",\"\",\"-\"),K151,IF(M151=\"\",\"\",\"-\"),M151,IF(O151=\"\",\"\",\"-\"),O151),CONCATENATE(LEFT('1 - Opstart Importark'!$B$3,1),(LEFT('1 - Opstart Importark'!$B$15,2)),(LEFT('1 - Opstart Importark'!$B$18,3)),IF(I151=\"\",\"\",\"-\"),I151,IF(K151=\"\",\"\",\"-\"),K151,IF(M151=\"\",\"\",\"-\"),M151,IF(O151=\"\",\"\",\"-\"),O151))))","v":""},null," ",{"$nulls":11},{"$f":"IF(LEN('1 - Opstart Importark'!$B$6)>0,'1 - Opstart Importark'!$B$6,\"\")","v":""},{"$f":"IF(LEN('1 - Opstart Importark'!$B$9)>0,'1 - Opstart Importark'!$B$9,\"\")","v":""},{"$f":"IF(LEN('1 - Opstart Importark'!$B$31)>0,'1 - Opstart Importark'!$B$31,\"\")","v":""},{"$nulls":12},"",{"$nulls":8},0,"","","objektnogle_"]
[141,null,{"$f":"IF('1 - Opstart Importark'!$B$6=\"\",\"\",(IF('1 - Opstart Importark'!$B$15=\"\",CONCATENATE(LEFT('1 - Opstart Importark'!$B$3,1),(LEFT('1 - Opstart Importark'!$B$24,2)),LEFT('1 - Opstart Importark'!$B$28,3),IF(I152=\"\",\"\",\"-\"),I152,IF(K152=\"\",\"\",\"-\"),K152,IF(M152=\"\",\"\",\"-\"),M152,IF(O152=\"\",\"\",\"-\"),O152),CONCATENATE(LEFT('1 - Opstart Importark'!$B$3,1),(LEFT('1 - Opstart Importark'!$B$15,2)),(LEFT('1 - Opstart Importark'!$B$18,3)),IF(I152=\"\",\"\",\"-\"),I152,IF(K152=\"\",\"\",\"-\"),K152,IF(M152=\"\",\"\",\"-\"),M152,IF(O152=\"\",\"\",\"-\"),O152))))","v":""},null," ",{"$nulls":11},{"$f":"IF(LEN('1 - Opstart Importark'!$B$6)>0,'1 - Opstart Importark'!$B$6,\"\")","v":""},{"$f":"IF(LEN('1 - Opstart Importark'!$B$9)>0,'1 - Opstart Importark'!$B$9,\"\")","v":""},{"$f":"IF(LEN('1 - Opstart Importark'!$B$31)>0,'1 - Opstart Importark'!$B$31,\"\")","v":""},{"$nulls":12},"",{"$nulls":8},0,"","","objektnogle_"]
[142,null,{"$f":"IF('1 - Opstart Importark'!$B$6=\"\",\"\",(IF('1 - Opstart Importark'!$B$15=\"\",CONCATENATE(LEFT('1 - Opstart Importark'!$B$3,1),(LEFT('1 - Opstart Importark'!$B$24,2)),LEFT('1 - Opstart Importark'!$B$28,3),IF(I153=\"\",\"\",\"-\"),I153,IF(K153=\"\",\"\",\"-\"),K153,IF(M153=\"\",\"\",\"-\"),M153,IF(O153=\"\",\"\",\"-\"),O153),CONCATENATE(LEFT('1 - Opstart Importark'!$B$3,1),(LEFT('1 - Opstart Importark'!$B$15,2)),(LEFT('1 - Opstart Importark'!$B$18,3)),IF(I153=\"\",\"\",\"-\"),I153,IF(K153=\"\",\"\",\"-\"),K153,IF(M153=\"\",\"\",\"-\"),M153,IF(O153=\"\",\"\",\"-\"),O153))))","v":""},null," ",{"$nulls":11},{"$f":"IF(LEN('1 - Opstart Importark'!$B$6)>0,'1 - Opstart Importark'!$B$6,\"\")","v":""},{"$f":"IF(LEN('1 - Opstart Importark'!$B$9)>0,'1 - Opstart Importark'!$B$9,\"\")","v":""},{"$f":"IF(LEN('1 - Opstart Importark'!$B$31)>0,'1 - Opstart Importark'!$B$31,\"\")","v":""},{"$nulls":12},"",{"$nulls":8},0,"","","objektnogle_"]
[143,null,{"$f":"IF('1 - Opstart Importark'!$B$6=\"\",\"\",(IF('1 - Opstart Importark'!$B$15=\"\",CONCATENATE(LEFT('1 - Opstart Importark'!$B$3,1),(LEFT('1 - Opstart Importark'!$B$24,2)),LEFT('1 - Opstart Importark'!$B$28,3),IF(I154=\"\",\"\",\"-\"),I154,IF(K154=\"\",\"\",\"-\"),K154,IF(M154=\"\",\"\",\"-\"),M154,IF(O154=\"\",\"\",\"-\"),O154),CONCATENATE(LEFT('1 - Opstart Importark'!$B$3,1),(LEFT('1 - Opstart Importark'!$B$15,2)),(LEFT('1 - Opstart Importark'!$B$18,3)),IF(I154=\"\",\"\",\"-\"),I154,IF(K154=\"\",\"\",\"-\"),K154,IF(M154=\"\",\"\",\"-\"),M154,IF(O154=\"\",\"\",\"-\"),O154))))","v":""},null," ",{"$nulls":11},{"$f":"IF(LEN('1 - Opstart Importark'!$B$6)>0,'1 - Opstart Importark'!$B$6,\"\")","v":""},{"$f":"IF(LEN('1 - Opstart Importark'!$B$9)>0,'1 - Opstart Importark'!$B$9,\"\")","v":""},{"$f":"IF(LEN('1 - Opstart Importark'!$B$31)>0,'1 - Opstart Importark'!$B$31,\"\")","v":""},{"$nulls":12},"",{"$nulls":8},0,"","","objektnogle_"]
[144,null,{"$f":"IF('1 - Opstart Importark'!$B$6=\"\",\"\",(IF('1 - Opstart Importark'!$B$15=\"\",CONCATENATE(LEFT('1 - Opstart Importark'!$B$3,1),(LEFT('1 - Opstart Importark'!$B$24,2)),LEFT('1 - Opstart Importark'!$B$28,3),IF(I155=\"\",\"\",\"-\"),I155,IF(K155=\"\",\"\",\"-\"),K155,IF(M155=\"\",\"\",\"-\"),M155,IF(O155=\"\",\"\",\"-\"),O155),CONCATENATE(LEFT('1 - Opstart Importark'!$B$3,1),(LEFT('1 - Opstart Importark'!$B$15,2)),(LEFT('1 - Opstart Importark'!$B$18,3)),IF(I155=\"\",\"\",\"-\"),I155,IF(K155=\"\",\"\",\"-\"),K155,IF(M155=\"\",\"\",\"-\"),M155,IF(O155=\"\",\"\",\"-\"),O155))))","v":""},null," ",{"$nulls":11},{"$f":"IF(LEN('1 - Opstart Importark'!$B$6)>0,'1 - Opstart Importark'!$B$6,\"\")","v":""},{"$f":"IF(LEN('1 - Opstart Importark'!$B$9)>0,'1 - Opstart Importark'!$B$9,\"\")","v":""},{"$f":"IF(LEN('1 - Opstart Importark'!$B$31)>0,'1 - Opstart Importark'!$B$31,\"\")","v":""},{"$nulls":12},"",{"$nulls":8},0,"","","objektnogle_"]
[145,null,{"$f":"IF('1 - Opstart Importark'!$B$6=\"\",\"\",(IF('1 - Opstart Importark'!$B$15=\"\",CONCATENATE(LEFT('1 - Opstart Importark'!$B$3,1),(LEFT('1 - Opstart Importark'!$B$24,2)),LEFT('1 - Opstart Importark'!$B$28,3),IF(I156=\"\",\"\",\"-\"),I156,IF(K156=\"\",\"\",\"-\"),K156,IF(M156=\"\",\"\",\"-\"),M156,IF(O156=\"\",\"\",\"-\"),O156),CONCATENATE(LEFT('1 - Opstart Importark'!$B$3,1),(LEFT('1 - Opstart Importark'!$B$15,2)),(LEFT('1 - Opstart Importark'!$B$18,3)),IF(I156=\"\",\"\",\"-\"),I156,IF(K156=\"\",\"\",\"-\"),K156,IF(M156=\"\",\"\",\"-\"),M156,IF(O156=\"\",\"\",\"-\"),O156))))","v":""},null," ",{"$nulls":11},{"$f":"IF(LEN('1 - Opstart Importark'!$B$6)>0,'1 - Opstart Importark'!$B$6,\"\")","v":""},{"$f":"IF(LEN('1 - Opstart Importark'!$B$9)>0,'1 - Opstart Importark'!$B$9,\"\")","v":""},{"$f":"IF(LEN('1 - Opstart Importark'!$B$31)>0,'1 - Opstart Importark'!$B$31,\"\")","v":""},{"$nulls":12},"",{"$nulls":8},0,"","","objektnogle_"]
[146,null,{"$f":"IF('1 - Opstart Importark'!$B$6=\"\",\"\",(IF('1 - Opstart Importark'!$B$15=\"\",CONCATENATE(LEFT('1 - Opstart Importark'!$B$3,1),(LEFT('1 - Opstart Importark'!$B$24,2)),LEFT('1 - Opstart Importark'!$B$28,3),IF(I157=\"\",\"\",\"-\"),I157,IF(K157=\"\",\"\",\"-\"),K157,IF(M157=\"\",\"\",\"-\"),M157,IF(O157=\"\",\"\",\"-\"),O157),CONCATENATE(LEFT('1 - Opstart Importark'!$B$3,1),(LEFT('1 - Opstart Importark'!$B$15,2)),(LEFT('1 - Opstart Importark'!$B$18,3)),IF(I157=\"\",\"\",\"-\"),I157,IF(K157=\"\",\"\",\"-\"),K157,IF(M157=\"\",\"\",\"-\"),M157,IF(O157=\"\",\"\",\"-\"),O157))))","v":""},null," ",{"$nulls":11},{"$f":"IF(LEN('1 - Opstart Importark'!$B$6)>0,'1 - Opstart Importark'!$B$6,\"\")","v":""},{"$f":"IF(LEN('1 - Opstart Importark'!$B$9)>0,'1 - Opstart Importark'!$B$9,\"\")","v":""},{"$f":"IF(LEN('1 - Opstart Importark'!$B$31)>0,'1 - Opstart Importark'!$B$31,\"\")","v":""},{"$nulls":12},"",{"$nulls":8},0,"","","objektnogle_"]
[147,null,{"$f":"IF('1 - Opstart Importark'!$B$6=\"\",\"\",(IF('1 - Opstart Importark'!$B$15=\"\",CONCATENATE(LEFT('1 - Opstart Importark'!$B$3,1),(LEFT('1 - Opstart Importark'!$B$24,2)),LEFT('1 - Opstart Importark'!$B$28,3),IF(I158=\"\",\"\",\"-\"),I158,IF(K158=\"\",\"\",\"-\"),K158,IF(M158=\"\",\"\",\"-\"),M158,IF(O158=\"\",\"\",\"-\"),O158),CONCATENATE(LEFT('1 - Opstart Importark'!$B$3,1),(LEFT('1 - Opstart Importark'!$B$15,2)),(LEFT('1 - Opstart Importark'!$B$18,3)),IF(I158=\"\",\"\",\"-\"),I158,IF(K158=\"\",\"\",\"-\"),K158,IF(M158=\"\",\"\",\"-\"),M158,IF(O158=\"\",\"\",\"-\"),O158))))","v":""},null," ",{"$nulls":11},{"$f":"IF(LEN('1 - Opstart Importark'!$B$6)>0,'1 - Opstart Importark'!$B$6,\"\")","v":""},{"$f":"IF(LEN('1 - Opstart Importark'!$B$9)>0,'1 - Opstart Importark'!$B$9,\"\")","v":""},{"$f":"IF(LEN('1 - Opstart Importark'!$B$31)>0,'1 - Opstart Importark'!$B$31,\"\")","v":""},{"$nulls":12},"",{"$nulls":8},0,"","","objektnogle_"]
[148,null,{"$f":"IF('1 - Opstart Importark'!$B$6=\"\",\"\",(IF('1 - Opstart Importark'!$B$15=\"\",CONCATENATE(LEFT('1 - Opstart Importark'!$B$3,1),(LEFT('1 - Opstart Importark'!$B$24,2)),LEFT('1 - Opstart Importark'!$B$28,3),IF(I159=\"\",\"\",\"-\"),I159,IF(K159=\"\",\"\",\"-\"),K159,IF(M159=\"\",\"\",\"-\"),M159,IF(O159=\"\",\"\",\"-\"),O159),CONCATENATE(LEFT('1 - Opstart Importark'!$B$3,1),(LEFT('1 - Opstart Importark'!$B$15,2)),(LEFT('1 - Opstart Importark'!$B$18,3)),IF(I159=\"\",\"\",\"-\"),I159,IF(K159=\"\",\"\",\"-\"),K159,IF(M159=\"\",\"\",\"-\"),M159,IF(O159=\"\",\"\",\"-\"),O159))))","v":""},null," ",{"$nulls":11},{"$f":"IF(LEN('1 - Opstart Importark'!$B$6)>0,'1 - Opstart Importark'!$B$6,\"\")","v":""},{"$f":"IF(LEN('1 - Opstart Importark'!$B$9)>0,'1 - Opstart Importark'!$B$9,\"\")","v":""},{"$f":"IF(LEN('1 - Opstart Importark'!$B$31)>0,'1 - Opstart Importark'!$B$31,\"\")","v":""},{"$nulls":12},"",{"$nulls":8},0,"","","objektnogle_"]
[149,null,{"$f":"IF('1 - Opstart Importark'!$B$6=\"\",\"\",(IF('1 - Opstart Importark'!$B$15=\"\",CONCATENATE(LEFT('1 - Opstart Importark'!$B$3,1),(LEFT('1 - Opstart Importark'!$B$24,2)),LEFT('1 - Opstart Importark'!$B$28,3),IF(I160=\"\",\"\",\"-\"),I160,IF(K160=\"\",\"\",\"-\"),K160,IF(M160=\"\",\"\",\"-\"),M160,IF(O160=\"\",\"\",\"-\"),O160),CONCATENATE(LEFT('1 - Opstart Importark'!$B$3,1),(LEFT('1 - Opstart Importark'!$B$15,2)),(LEFT('1 - Opstart Importark'!$B$18,3)),IF(I160=\"\",\"\",\"-\"),I160,IF(K160=\"\",\"\",\"-\"),K160,IF(M160=\"\",\"\",\"-\"),M160,IF(O160=\"\",\"\",\"-\"),O160))))","v":""},null," ",{"$nulls":11},{"$f":"IF(LEN('1 - Opstart Importark'!$B$6)>0,'1 - Opstart Importark'!$B$6,\"\")","v":""},{"$f":"IF(LEN('1 - Opstart Importark'!$B$9)>0,'1 - Opstart Importark'!$B$9,\"\")","v":""},{"$f":"IF(LEN('1 - Opstart Importark'!$B$31)>0,'1 - Opstart Importark'!$B$31,\"\")","v":""},{"$nulls":12},"",{"$nulls":8},0,"","","objektnogle_"]
[150,null,{"$f":"IF('1 - Opstart Importark'!$B$6=\"\",\"\",(IF('1 - Opstart Importark'!$B$15=\"\",CONCATENATE(LEFT('1 - Opstart Importark'!$B$3,1),(LEFT('1 - Opstart Importark'!$B$24,2)),LEFT('1 - Opstart Importark'!$B$28,3),IF(I161=\"\",\"\",\"-\"),I161,IF(K161=\"\",\"\",\"-\"),K161,IF(M161=\"\",\"\",\"-\"),M161,IF(O161=\"\",\"\",\"-\"),O161),CONCATENATE(LEFT('1 - Opstart Importark'!$B$3,1),(LEFT('1 - Opstart Importark'!$B$15,2)),(LEFT('1 - Opstart Importark'!$B$18,3)),IF(I161=\"\",\"\",\"-\"),I161,IF(K161=\"\",\"\",\"-\"),K161,IF(M161=\"\",\"\",\"-\"),M161,IF(O161=\"\",\"\",\"-\"),O161))))","v":""},null," ",{"$nulls":11},{"$f":"IF(LEN('1 - Opstart Importark'!$B$6)>0,'1 - Opstart Importark'!$B$6,\"\")","v":""},{"$f":"IF(LEN('1 - Opstart Importark'!$B$9)>0,'1 - Opstart Importark'!$B$9,\"\")","v":""},{"$f":"IF(LEN('1 - Opstart Importark'!$B$31)>0,'1 - Opstart Importark'!$B$31,\"\")","v":""},{"$nulls":12},"",{"$nulls":8},0,"","","objektnogle_"]
[151,null,{"$f":"IF('1 - Opstart Importark'!$B$6=\"\",\"\",(IF('1 - Opstart Importark'!$B$15=\"\",CONCATENATE(LEFT('1 - Opstart Importark'!$B$3,1),(LEFT('1 - Opstart Importark'!$B$24,2)),LEFT('1 - Opstart Importark'!$B$28,3),IF(I162=\"\",\"\",\"-\"),I162,IF(K162=\"\",\"\",\"-\"),K162,IF(M162=\"\",\"\",\"-\"),M162,IF(O162=\"\",\"\",\"-\"),O162),CONCATENATE(LEFT('1 - Opstart Importark'!$B$3,1),(LEFT('1 - Opstart Importark'!$B$15,2)),(LEFT('1 - Opstart Importark'!$B$18,3)),IF(I162=\"\",\"\",\"-\"),I162,IF(K162=\"\",\"\",\"-\"),K162,IF(M162=\"\",\"\",\"-\"),M162,IF(O162=\"\",\"\",\"-\"),O162))))","v":""},null," ",{"$nulls":11},{"$f":"IF(LEN('1 - Opstart Importark'!$B$6)>0,'1 - Opstart Importark'!$B$6,\"\")","v":""},{"$f":"IF(LEN('1 - Opstart Importark'!$B$9)>0,'1 - Opstart Importark'!$B$9,\"\")","v":""},{"$f":"IF(LEN('1 - Opstart Importark'!$B$31)>0,'1 - Opstart Importark'!$B$31,\"\")","v":""},{"$nulls":12},"",{"$nulls":8},0,"","","objektnogle_"]
[152,null,{"$f":"IF('1 - Opstart Importark'!$B$6=\"\",\"\",(IF('1 - Opstart Importark'!$B$15=\"\",CONCATENATE(LEFT('1 - Opstart Importark'!$B$3,1),(LEFT('1 - Opstart Importark'!$B$24,2)),LEFT('1 - Opstart Importark'!$B$28,3),IF(I163=\"\",\"\",\"-\"),I163,IF(K163=\"\",\"\",\"-\"),K163,IF(M163=\"\",\"\",\"-\"),M163,IF(O163=\"\",\"\",\"-\"),O163),CONCATENATE(LEFT('1 - Opstart Importark'!$B$3,1),(LEFT('1 - Opstart Importark'!$B$15,2)),(LEFT('1 - Opstart Importark'!$B$18,3)),IF(I163=\"\",\"\",\"-\"),I163,IF(K163=\"\",\"\",\"-\"),K163,IF(M163=\"\",\"\",\"-\"),M163,IF(O163=\"\",\"\",\"-\"),O163))))","v":""},null," ",{"$nulls":11},{"$f":"IF(LEN('1 - Opstart Importark'!$B$6)>0,'1 - Opstart Importark'!$B$6,\"\")","v":""},{"$f":"IF(LEN('1 - Opstart Importark'!$B$9)>0,'1 - Opstart Importark'!$B$9,\"\")","v":""},{"$f":"IF(LEN('1 - Opstart Importark'!$B$31)>0,'1 - Opstart Importark'!$B$31,\"\")","v":""},{"$nulls":12},"",{"$nulls":8},0,"","","objektnogle_"]
[153,null,{"$f":"IF('1 - Opstart Importark'!$B$6=\"\",\"\",(IF('1 - Opstart Importark'!$B$15=\"\",CONCATENATE(LEFT('1 - Opstart Importark'!$B$3,1),(LEFT('1 - Opstart Importark'!$B$24,2)),LEFT('1 - Opstart Importark'!$B$28,3),IF(I164=\"\",\"\",\"-\"),I164,IF(K164=\"\",\"\",\"-\"),K164,IF(M164=\"\",\"\",\"-\"),M164,IF(O164=\"\",\"\",\"-\"),O164),CONCATENATE(LEFT('1 - Opstart Importark'!$B$3,1),(LEFT('1 - Opstart Importark'!$B$15,2)),(LEFT('1 - Opstart Importark'!$B$18,3)),IF(I164=\"\",\"\",\"-\"),I164,IF(K164=\"\",\"\",\"-\"),K164,IF(M164=\"\",\"\",\"-\"),M164,IF(O164=\"\",\"\",\"-\"),O164))))","v":""},null," ",{"$nulls":11},{"$f":"IF(LEN('1 - Opstart Importark'!$B$6)>0,'1 - Opstart Importark'!$B$6,\"\")","v":""},{"$f":"IF(LEN('1 - Opstart Importark'!$B$9)>0,'1 - Opstart Importark'!$B$9,\"\")","v":""},{"$f":"IF(LEN('1 - Opstart Importark'!$B$31)>0,'1 - Opstart Importark'!$B$31,\"\")","v":""},{"$nulls":12},"",{"$nulls":8},0,"","","objektnogle_"]
[154,null,{"$f":"IF('1 - Opstart Importark'!$B$6=\"\",\"\",(IF('1 - Opstart Importark'!$B$15=\"\",CONCATENATE(LEFT('1 - Opstart Importark'!$B$3,1),(LEFT('1 - Opstart Importark'!$B$24,2)),LEFT('1 - Opstart Importark'!$B$28,3),IF(I165=\"\",\"\",\"-\"),I165,IF(K165=\"\",\"\",\"-\"),K165,IF(M165=\"\",\"\",\"-\"),M165,IF(O165=\"\",\"\",\"-\"),O165),CONCATENATE(LEFT('1 - Opstart Importark'!$B$3,1),(LEFT('1 - Opstart Importark'!$B$15,2)),(LEFT('1 - Opstart Importark'!$B$18,3)),IF(I165=\"\",\"\",\"-\"),I165,IF(K165=\"\",\"\",\"-\"),K165,IF(M165=\"\",\"\",\"-\"),M165,IF(O165=\"\",\"\",\"-\"),O165))))","v":""},null," ",{"$nulls":11},{"$f":"IF(LEN('1 - Opstart Importark'!$B$6)>0,'1 - Opstart Importark'!$B$6,\"\")","v":""},{"$f":"IF(LEN('1 - Opstart Importark'!$B$9)>0,'1 - Opstart Importark'!$B$9,\"\")","v":""},{"$f":"IF(LEN('1 - Opstart Importark'!$B$31)>0,'1 - Opstart Importark'!$B$31,\"\")","v":""},{"$nulls":12},"",{"$nulls":8},0,"","","objektnogle_"]
[155,null,{"$f":"IF('1 - Opstart Importark'!$B$6=\"\",\"\",(IF('1 - Opstart Importark'!$B$15=\"\",CONCATENATE(LEFT('1 - Opstart Importark'!$B$3,1),(LEFT('1 - Opstart Importark'!$B$24,2)),LEFT('1 - Opstart Importark'!$B$28,3),IF(I166=\"\",\"\",\"-\"),I166,IF(K166=\"\",\"\",\"-\"),K166,IF(M166=\"\",\"\",\"-\"),M166,IF(O166=\"\",\"\",\"-\"),O166),CONCATENATE(LEFT('1 - Opstart Importark'!$B$3,1),(LEFT('1 - Opstart Importark'!$B$15,2)),(LEFT('1 - Opstart Importark'!$B$18,3)),IF(I166=\"\",\"\",\"-\"),I166,IF(K166=\"\",\"\",\"-\"),K166,IF(M166=\"\",\"\",\"-\"),M166,IF(O166=\"\",\"\",\"-\"),O166))))","v":""},null," ",{"$nulls":11},{"$f":"IF(LEN('1 - Opstart Importark'!$B$6)>0,'1 - Opstart Importark'!$B$6,\"\")","v":""},{"$f":"IF(LEN('1 - Opstart Importark'!$B$9)>0,'1 - Opstart Importark'!$B$9,\"\")","v":""},{"$f":"IF(LEN('1 - Opstart Importark'!$B$31)>0,'1 - Opstart Importark'!$B$31,\"\")","v":""},{"$nulls":12},"",{"$nulls":8},0,"","","objektnogle_"]
[156,null,{"$f":"IF('1 - Opstart Importark'!$B$6=\"\",\"\",(IF('1 - Opstart Importark'!$B$15=\"\",CONCATENATE(LEFT('1 - Opstart Importark'!$B$3,1),(LEFT('1 - Opstart Importark'!$B$24,2)),LEFT('1 - Opstart Importark'!$B$28,3),IF(I167=\"\",\"\",\"-\"),I167,IF(K167=\"\",\"\",\"-\"),K167,IF(M167=\"\",\"\",\"-\"),M167,IF(O167=\"\",\"\",\"-\"),O167),CONCATENATE(LEFT('1 - Opstart Importark'!$B$3,1),(LEFT('1 - Opstart Importark'!$B$15,2)),(LEFT('1 - Opstart Importark'!$B$18,3)),IF(I167=\"\",\"\",\"-\"),I167,IF(K167=\"\",\"\",\"-\"),K167,IF(M167=\"\",\"\",\"-\"),M167,IF(O167=\"\",\"\",\"-\"),O167))))","v":""},null," ",{"$nulls":11},{"$f":"IF(LEN('1 - Opstart Importark'!$B$6)>0,'1 - Opstart Importark'!$B$6,\"\")","v":""},{"$f":"IF(LEN('1 - Opstart Importark'!$B$9)>0,'1 - Opstart Importark'!$B$9,\"\")","v":""},{"$f":"IF(LEN('1 - Opstart Importark'!$B$31)>0,'1 - Opstart Importark'!$B$31,\"\")","v":""},{"$nulls":12},"",{"$nulls":8},0,"","","objektnogle_"]
[157,null,{"$f":"IF('1 - Opstart Importark'!$B$6=\"\",\"\",(IF('1 - Opstart Importark'!$B$15=\"\",CONCATENATE(LEFT('1 - Opstart Importark'!$B$3,1),(LEFT('1 - Opstart Importark'!$B$24,2)),LEFT('1 - Opstart Importark'!$B$28,3),IF(I168=\"\",\"\",\"-\"),I168,IF(K168=\"\",\"\",\"-\"),K168,IF(M168=\"\",\"\",\"-\"),M168,IF(O168=\"\",\"\",\"-\"),O168),CONCATENATE(LEFT('1 - Opstart Importark'!$B$3,1),(LEFT('1 - Opstart Importark'!$B$15,2)),(LEFT('1 - Opstart Importark'!$B$18,3)),IF(I168=\"\",\"\",\"-\"),I168,IF(K168=\"\",\"\",\"-\"),K168,IF(M168=\"\",\"\",\"-\"),M168,IF(O168=\"\",\"\",\"-\"),O168))))","v":""},null," ",{"$nulls":11},{"$f":"IF(LEN('1 - Opstart Importark'!$B$6)>0,'1 - Opstart Importark'!$B$6,\"\")","v":""},{"$f":"IF(LEN('1 - Opstart Importark'!$B$9)>0,'1 - Opstart Importark'!$B$9,\"\")","v":""},{"$f":"IF(LEN('1 - Opstart Importark'!$B$31)>0,'1 - Opstart Importark'!$B$31,\"\")","v":""},{"$nulls":12},"",{"$nulls":8},0,"","","objektnogle_"]
[158,null,{"$f":"IF('1 - Opstart Importark'!$B$6=\"\",\"\",(IF('1 - Opstart Importark'!$B$15=\"\",CONCATENATE(LEFT('1 - Opstart Importark'!$B$3,1),(LEFT('1 - Opstart Importark'!$B$24,2)),LEFT('1 - Opstart Importark'!$B$28,3),IF(I169=\"\",\"\",\"-\"),I169,IF(K169=\"\",\"\",\"-\"),K169,IF(M169=\"\",\"\",\"-\"),M169,IF(O169=\"\",\"\",\"-\"),O169),CONCATENATE(LEFT('1 - Opstart Importark'!$B$3,1),(LEFT('1 - Opstart Importark'!$B$15,2)),(LEFT('1 - Opstart Importark'!$B$18,3)),IF(I169=\"\",\"\",\"-\"),I169,IF(K169=\"\",\"\",\"-\"),K169,IF(M169=\"\",\"\",\"-\"),M169,IF(O169=\"\",\"\",\"-\"),O169))))","v":""},null," ",{"$nulls":11},{"$f":"IF(LEN('1 - Opstart Importark'!$B$6)>0,'1 - Opstart Importark'!$B$6,\"\")","v":""},{"$f":"IF(LEN('1 - Opstart Importark'!$B$9)>0,'1 - Opstart Importark'!$B$9,\"\")","v":""},{"$f":"IF(LEN('1 - Opstart Importark'!$B$31)>0,'1 - Opstart Importark'!$B$31,\"\")","v":""},{"$nulls":12},"",{"$nulls":8},0,"","","objektnogle_"]
[159,null,{"$f":"IF('1 - Opstart Importark'!$B$6=\"\",\"\",(IF('1 - Opstart Importark'!$B$15=\"\",CONCATENATE(LEFT('1 - Opstart Importark'!$B$3,1),(LEFT('1 - Opstart Importark'!$B$24,2)),LEFT('1 - Opstart Importark'!$B$28,3),IF(I170=\"\",\"\",\"-\"),I170,IF(K170=\"\",\"\",\"-\"),K170,IF(M170=\"\",\"\",\"-\"),M170,IF(O170=\"\",\"\",\"-\"),O170),CONCATENATE(LEFT('1 - Opstart Importark'!$B$3,1),(LEFT('1 - Opstart Importark'!$B$15,2)),(LEFT('1 - Opstart Importark'!$B$18,3)),IF(I170=\"\",\"\",\"-\"),I170,IF(K170=\"\",\"\",\"-\"),K170,IF(M170=\"\",\"\",\"-\"),M170,IF(O170=\"\",\"\",\"-\"),O170))))","v":""},null," ",{"$nulls":11},{"$f":"IF(LEN('1 - Opstart Importark'!$B$6)>0,'1 - Opstart Importark'!$B$6,\"\")","v":""},{"$f":"IF(LEN('1 - Opstart Importark'!$B$9)>0,'1 - Opstart Importark'!$B$9,\"\")","v":""},{"$f":"IF(LEN('1 - Opstart Importark'!$B$31)>0,'1 - Opstart Importark'!$B$31,\"\")","v":""},{"$nulls":12},"",{"$nulls":8},0,"","","objektnogle_"]
[160,null,{"$f":"IF('1 - Opstart Importark'!$B$6=\"\",\"\",(IF('1 - Opstart Importark'!$B$15=\"\",CONCATENATE(LEFT('1 - Opstart Importark'!$B$3,1),(LEFT('1 - Opstart Importark'!$B$24,2)),LEFT('1 - Opstart Importark'!$B$28,3),IF(I171=\"\",\"\",\"-\"),I171,IF(K171=\"\",\"\",\"-\"),K171,IF(M171=\"\",\"\",\"-\"),M171,IF(O171=\"\",\"\",\"-\"),O171),CONCATENATE(LEFT('1 - Opstart Importark'!$B$3,1),(LEFT('1 - Opstart Importark'!$B$15,2)),(LEFT('1 - Opstart Importark'!$B$18,3)),IF(I171=\"\",\"\",\"-\"),I171,IF(K171=\"\",\"\",\"-\"),K171,IF(M171=\"\",\"\",\"-\"),M171,IF(O171=\"\",\"\",\"-\"),O171))))","v":""},null," ",{"$nulls":11},{"$f":"IF(LEN('1 - Opstart Importark'!$B$6)>0,'1 - Opstart Importark'!$B$6,\"\")","v":""},{"$f":"IF(LEN('1 - Opstart Importark'!$B$9)>0,'1 - Opstart Importark'!$B$9,\"\")","v":""},{"$f":"IF(LEN('1 - Opstart Importark'!$B$31)>0,'1 - Opstart Importark'!$B$31,\"\")","v":""},{"$nulls":12},"",{"$nulls":8},0,"","","objektnogle_"]
[161,null,{"$f":"IF('1 - Opstart Importark'!$B$6=\"\",\"\",(IF('1 - Opstart Importark'!$B$15=\"\",CONCATENATE(LEFT('1 - Opstart Importark'!$B$3,1),(LEFT('1 - Opstart Importark'!$B$24,2)),LEFT('1 - Opstart Importark'!$B$28,3),IF(I172=\"\",\"\",\"-\"),I172,IF(K172=\"\",\"\",\"-\"),K172,IF(M172=\"\",\"\",\"-\"),M172,IF(O172=\"\",\"\",\"-\"),O172),CONCATENATE(LEFT('1 - Opstart Importark'!$B$3,1),(LEFT('1 - Opstart Importark'!$B$15,2)),(LEFT('1 - Opstart Importark'!$B$18,3)),IF(I172=\"\",\"\",\"-\"),I172,IF(K172=\"\",\"\",\"-\"),K172,IF(M172=\"\",\"\",\"-\"),M172,IF(O172=\"\",\"\",\"-\"),O172))))","v":""},null," ",{"$nulls":11},{"$f":"IF(LEN('1 - Opstart Importark'!$B$6)>0,'1 - Opstart Importark'!$B$6,\"\")","v":""},{"$f":"IF(LEN('1 - Opstart Importark'!$B$9)>0,'1 - Opstart Importark'!$B$9,\"\")","v":""},{"$f":"IF(LEN('1 - Opstart Importark'!$B$31)>0,'1 - Opstart Importark'!$B$31,\"\")","v":""},{"$nulls":12},"",{"$nulls":8},0,"","","objektnogle_"]
[162,null,{"$f":"IF('1 - Opstart Importark'!$B$6=\"\",\"\",(IF('1 - Opstart Importark'!$B$15=\"\",CONCATENATE(LEFT('1 - Opstart Importark'!$B$3,1),(LEFT('1 - Opstart Importark'!$B$24,2)),LEFT('1 - Opstart Importark'!$B$28,3),IF(I173=\"\",\"\",\"-\"),I173,IF(K173=\"\",\"\",\"-\"),K173,IF(M173=\"\",\"\",\"-\"),M173,IF(O173=\"\",\"\",\"-\"),O173),CONCATENATE(LEFT('1 - Opstart Importark'!$B$3,1),(LEFT('1 - Opstart Importark'!$B$15,2)),(LEFT('1 - Opstart Importark'!$B$18,3)),IF(I173=\"\",\"\",\"-\"),I173,IF(K173=\"\",\"\",\"-\"),K173,IF(M173=\"\",\"\",\"-\"),M173,IF(O173=\"\",\"\",\"-\"),O173))))","v":""},null," ",{"$nulls":11},{"$f":"IF(LEN('1 - Opstart Importark'!$B$6)>0,'1 - Opstart Importark'!$B$6,\"\")","v":""},{"$f":"IF(LEN('1 - Opstart Importark'!$B$9)>0,'1 - Opstart Importark'!$B$9,\"\")","v":""},{"$f":"IF(LEN('1 - Opstart Importark'!$B$31)>0,'1 - Opstart Importark'!$B$31,\"\")","v":""},{"$nulls":12},"",{"$nulls":8},0,"","","objektnogle_"]
[163,null,{"$f":"IF('1 - Opstart Importark'!$B$6=\"\",\"\",(IF('1 - Opstart Importark'!$B$15=\"\",CONCATENATE(LEFT('1 - Opstart Importark'!$B$3,1),(LEFT('1 - Opstart Importark'!$B$24,2)),LEFT('1 - Opstart Importark'!$B$28,3),IF(I174=\"\",\"\",\"-\"),I174,IF(K174=\"\",\"\",\"-\"),K174,IF(M174=\"\",\"\",\"-\"),M174,IF(O174=\"\",\"\",\"-\"),O174),CONCATENATE(LEFT('1 - Opstart Importark'!$B$3,1),(LEFT('1 - Opstart Importark'!$B$15,2)),(LEFT('1 - Opstart Importark'!$B$18,3)),IF(I174=\"\",\"\",\"-\"),I174,IF(K174=\"\",\"\",\"-\"),K174,IF(M174=\"\",\"\",\"-\"),M174,IF(O174=\"\",\"\",\"-\"),O174))))","v":""},null," ",{"$nulls":11},{"$f":"IF(LEN('1 - Opstart Importark'!$B$6)>0,'1 - Opstart Importark'!$B$6,\"\")","v":""},{"$f":"IF(LEN('1 - Opstart Importark'!$B$9)>0,'1 - Opstart Importark'!$B$9,\"\")","v":""},{"$f":"IF(LEN('1 - Opstart Importark'!$B$31)>0,'1 - Opstart Importark'!$B$31,\"\")","v":""},{"$nulls":12},"",{"$nulls":8},0,"","","objektnogle_"]
[164,null,{"$f":"IF('1 - Opstart Importark'!$B$6=\"\",\"\",(IF('1 - Opstart Importark'!$B$15=\"\",CONCATENATE(LEFT('1 - Opstart Importark'!$B$3,1),(LEFT('1 - Opstart Importark'!$B$24,2)),LEFT('1 - Opstart Importark'!$B$28,3),IF(I175=\"\",\"\",\"-\"),I175,IF(K175=\"\",\"\",\"-\"),K175,IF(M175=\"\",\"\",\"-\"),M175,IF(O175=\"\",\"\",\"-\"),O175),CONCATENATE(LEFT('1 - Opstart Importark'!$B$3,1),(LEFT('1 - Opstart Importark'!$B$15,2)),(LEFT('1 - Opstart Importark'!$B$18,3)),IF(I175=\"\",\"\",\"-\"),I175,IF(K175=\"\",\"\",\"-\"),K175,IF(M175=\"\",\"\",\"-\"),M175,IF(O175=\"\",\"\",\"-\"),O175))))","v":""},null," ",{"$nulls":11},{"$f":"IF(LEN('1 - Opstart Importark'!$B$6)>0,'1 - Opstart Importark'!$B$6,\"\")","v":""},{"$f":"IF(LEN('1 - Opstart Importark'!$B$9)>0,'1 - Opstart Importark'!$B$9,\"\")","v":""},{"$f":"IF(LEN('1 - Opstart Importark'!$B$31)>0,'1 - Opstart Importark'!$B$31,\"\")","v":""},{"$nulls":12},"",{"$nulls":8},0,"","","objektnogle_"]
[165,null,{"$f":"IF('1 - Opstart Importark'!$B$6=\"\",\"\",(IF('1 - Opstart Importark'!$B$15=\"\",CONCATENATE(LEFT('1 - Opstart Importark'!$B$3,1),(LEFT('1 - Opstart Importark'!$B$24,2)),LEFT('1 - Opstart Importark'!$B$28,3),IF(I176=\"\",\"\",\"-\"),I176,IF(K176=\"\",\"\",\"-\"),K176,IF(M176=\"\",\"\",\"-\"),M176,IF(O176=\"\",\"\",\"-\"),O176),CONCATENATE(LEFT('1 - Opstart Importark'!$B$3,1),(LEFT('1 - Opstart Importark'!$B$15,2)),(LEFT('1 - Opstart Importark'!$B$18,3)),IF(I176=\"\",\"\",\"-\"),I176,IF(K176=\"\",\"\",\"-\"),K176,IF(M176=\"\",\"\",\"-\"),M176,IF(O176=\"\",\"\",\"-\"),O176))))","v":""},null," ",{"$nulls":11},{"$f":"IF(LEN('1 - Opstart Importark'!$B$6)>0,'1 - Opstart Importark'!$B$6,\"\")","v":""},{"$f":"IF(LEN('1 - Opstart Importark'!$B$9)>0,'1 - Opstart Importark'!$B$9,\"\")","v":""},{"$f":"IF(LEN('1 - Opstart Importark'!$B$31)>0,'1 - Opstart Importark'!$B$31,\"\")","v":""},{"$nulls":12},"",{"$nulls":8},0,"","","objektnogle_"]
[166,null,{"$f":"IF('1 - Opstart Importark'!$B$6=\"\",\"\",(IF('1 - Opstart Importark'!$B$15=\"\",CONCATENATE(LEFT('1 - Opstart Importark'!$B$3,1),(LEFT('1 - Opstart Importark'!$B$24,2)),LEFT('1 - Opstart Importark'!$B$28,3),IF(I177=\"\",\"\",\"-\"),I177,IF(K177=\"\",\"\",\"-\"),K177,IF(M177=\"\",\"\",\"-\"),M177,IF(O177=\"\",\"\",\"-\"),O177),CONCATENATE(LEFT('1 - Opstart Importark'!$B$3,1),(LEFT('1 - Opstart Importark'!$B$15,2)),(LEFT('1 - Opstart Importark'!$B$18,3)),IF(I177=\"\",\"\",\"-\"),I177,IF(K177=\"\",\"\",\"-\"),K177,IF(M177=\"\",\"\",\"-\"),M177,IF(O177=\"\",\"\",\"-\"),O177))))","v":""},null," ",{"$nulls":11},{"$f":"IF(LEN('1 - Opstart Importark'!$B$6)>0,'1 - Opstart Importark'!$B$6,\"\")","v":""},{"$f":"IF(LEN('1 - Opstart Importark'!$B$9)>0,'1 - Opstart Importark'!$B$9,\"\")","v":""},{"$f":"IF(LEN('1 - Opstart Importark'!$B$31)>0,'1 - Opstart Importark'!$B$31,\"\")","v":""},{"$nulls":12},"",{"$nulls":8},0,"","","objektnogle_"]
[167,null,{"$f":"IF('1 - Opstart Importark'!$B$6=\"\",\"\",(IF('1 - Opstart Importark'!$B$15=\"\",CONCATENATE(LEFT('1 - Opstart Importark'!$B$3,1),(LEFT('1 - Opstart Importark'!$B$24,2)),LEFT('1 - Opstart Importark'!$B$28,3),IF(I178=\"\",\"\",\"-\"),I178,IF(K178=\"\",\"\",\"-\"),K178,IF(M178=\"\",\"\",\"-\"),M178,IF(O178=\"\",\"\",\"-\"),O178),CONCATENATE(LEFT('1 - Opstart Importark'!$B$3,1),(LEFT('1 - Opstart Importark'!$B$15,2)),(LEFT('1 - Opstart Importark'!$B$18,3)),IF(I178=\"\",\"\",\"-\"),I178,IF(K178=\"\",\"\",\"-\"),K178,IF(M178=\"\",\"\",\"-\"),M178,IF(O178=\"\",\"\",\"-\"),O178))))","v":""},null," ",{"$nulls":11},{"$f":"IF(LEN('1 - Opstart Importark'!$B$6)>0,'1 - Opstart Importark'!$B$6,\"\")","v":""},{"$f":"IF(LEN('1 - Opstart Importark'!$B$9)>0,'1 - Opstart Importark'!$B$9,\"\")","v":""},{"$f":"IF(LEN('1 - Opstart Importark'!$B$31)>0,'1 - Opstart Importark'!$B$31,\"\")","v":""},{"$nulls":12},"",{"$nulls":8},0,"","","objektnogle_"]
[168,null,{"$f":"IF('1 - Opstart Importark'!$B$6=\"\",\"\",(IF('1 - Opstart Importark'!$B$15=\"\",CONCATENATE(LEFT('1 - Opstart Importark'!$B$3,1),(LEFT('1 - Opstart Importark'!$B$24,2)),LEFT('1 - Opstart Importark'!$B$28,3),IF(I179=\"\",\"\",\"-\"),I179,IF(K179=\"\",\"\",\"-\"),K179,IF(M179=\"\",\"\",\"-\"),M179,IF(O179=\"\",\"\",\"-\"),O179),CONCATENATE(LEFT('1 - Opstart Importark'!$B$3,1),(LEFT('1 - Opstart Importark'!$B$15,2)),(LEFT('1 - Opstart Importark'!$B$18,3)),IF(I179=\"\",\"\",\"-\"),I179,IF(K179=\"\",\"\",\"-\"),K179,IF(M179=\"\",\"\",\"-\"),M179,IF(O179=\"\",\"\",\"-\"),O179))))","v":""},null," ",{"$nulls":11},{"$f":"IF(LEN('1 - Opstart Importark'!$B$6)>0,'1 - Opstart Importark'!$B$6,\"\")","v":""},{"$f":"IF(LEN('1 - Opstart Importark'!$B$9)>0,'1 - Opstart Importark'!$B$9,\"\")","v":""},{"$f":"IF(LEN('1 - Opstart Importark'!$B$31)>0,'1 - Opstart Importark'!$B$31,\"\")","v":""},{"$nulls":12},"",{"$nulls":8},0,"","","objektnogle_"]
[169,null,{"$f":"IF('1 - Opstart Importark'!$B$6=\"\",\"\",(IF('1 - Opstart Importark'!$B$15=\"\",CONCATENATE(LEFT('1 - Opstart Importark'!$B$3,1),(LEFT('1 - Opstart Importark'!$B$24,2)),LEFT('1 - Opstart Importark'!$B$28,3),IF(I180=\"\",\"\",\"-\"),I180,IF(K180=\"\",\"\",\"-\"),K180,IF(M180=\"\",\"\",\"-\"),M180,IF(O180=\"\",\"\",\"-\"),O180),CONCATENATE(LEFT('1 - Opstart Importark'!$B$3,1),(LEFT('1 - Opstart Importark'!$B$15,2)),(LEFT('1 - Opstart Importark'!$B$18,3)),IF(I180=\"\",\"\",\"-\"),I180,IF(K180=\"\",\"\",\"-\"),K180,IF(M180=\"\",\"\",\"-\"),M180,IF(O180=\"\",\"\",\"-\"),O180))))","v":""},null," ",{"$nulls":11},{"$f":"IF(LEN('1 - Opstart Importark'!$B$6)>0,'1 - Opstart Importark'!$B$6,\"\")","v":""},{"$f":"IF(LEN('1 - Opstart Importark'!$B$9)>0,'1 - Opstart Importark'!$B$9,\"\")","v":""},{"$f":"IF(LEN('1 - Opstart Importark'!$B$31)>0,'1 - Opstart Importark'!$B$31,\"\")","v":""},{"$nulls":12},"",{"$nulls":8},0,"","","objektnogle_"]
[170,null,{"$f":"IF('1 - Opstart Importark'!$B$6=\"\",\"\",(IF('1 - Opstart Importark'!$B$15=\"\",CONCATENATE(LEFT('1 - Opstart Importark'!$B$3,1),(LEFT('1 - Opstart Importark'!$B$24,2)),LEFT('1 - Opstart Importark'!$B$28,3),IF(I181=\"\",\"\",\"-\"),I181,IF(K181=\"\",\"\",\"-\"),K181,IF(M181=\"\",\"\",\"-\"),M181,IF(O181=\"\",\"\",\"-\"),O181),CONCATENATE(LEFT('1 - Opstart Importark'!$B$3,1),(LEFT('1 - Opstart Importark'!$B$15,2)),(LEFT('1 - Opstart Importark'!$B$18,3)),IF(I181=\"\",\"\",\"-\"),I181,IF(K181=\"\",\"\",\"-\"),K181,IF(M181=\"\",\"\",\"-\"),M181,IF(O181=\"\",\"\",\"-\"),O181))))","v":""},null," ",{"$nulls":11},{"$f":"IF(LEN('1 - Opstart Importark'!$B$6)>0,'1 - Opstart Importark'!$B$6,\"\")","v":""},{"$f":"IF(LEN('1 - Opstart Importark'!$B$9)>0,'1 - Opstart Importark'!$B$9,\"\")","v":""},{"$f":"IF(LEN('1 - Opstart Importark'!$B$31)>0,'1 - Opstart Importark'!$B$31,\"\")","v":""},{"$nulls":12},"",{"$nulls":8},0,"","","objektnogle_"]
[171,null,{"$f":"IF('1 - Opstart Importark'!$B$6=\"\",\"\",(IF('1 - Opstart Importark'!$B$15=\"\",CONCATENATE(LEFT('1 - Opstart Importark'!$B$3,1),(LEFT('1 - Opstart Importark'!$B$24,2)),LEFT('1 - Opstart Importark'!$B$28,3),IF(I182=\"\",\"\",\"-\"),I182,IF(K182=\"\",\"\",\"-\"),K182,IF(M182=\"\",\"\",\"-\"),M182,IF(O182=\"\",\"\",\"-\"),O182),CONCATENATE(LEFT('1 - Opstart Importark'!$B$3,1),(LEFT('1 - Opstart Importark'!$B$15,2)),(LEFT('1 - Opstart Importark'!$B$18,3)),IF(I182=\"\",\"\",\"-\"),I182,IF(K182=\"\",\"\",\"-\"),K182,IF(M182=\"\",\"\",\"-\"),M182,IF(O182=\"\",\"\",\"-\"),O182))))","v":""},null," ",{"$nulls":11},{"$f":"IF(LEN('1 - Opstart Importark'!$B$6)>0,'1 - Opstart Importark'!$B$6,\"\")","v":""},{"$f":"IF(LEN('1 - Opstart Importark'!$B$9)>0,'1 - Opstart Importark'!$B$9,\"\")","v":""},{"$f":"IF(LEN('1 - Opstart Importark'!$B$31)>0,'1 - Opstart Importark'!$B$31,\"\")","v":""},{"$nulls":12},"",{"$nulls":8},0,"","","objektnogle_"]
[172,null,{"$f":"IF('1 - Opstart Importark'!$B$6=\"\",\"\",(IF('1 - Opstart Importark'!$B$15=\"\",CONCATENATE(LEFT('1 - Opstart Importark'!$B$3,1),(LEFT('1 - Opstart Importark'!$B$24,2)),LEFT('1 - Opstart Importark'!$B$28,3),IF(I183=\"\",\"\",\"-\"),I183,IF(K183=\"\",\"\",\"-\"),K183,IF(M183=\"\",\"\",\"-\"),M183,IF(O183=\"\",\"\",\"-\"),O183),CONCATENATE(LEFT('1 - Opstart Importark'!$B$3,1),(LEFT('1 - Opstart Importark'!$B$15,2)),(LEFT('1 - Opstart Importark'!$B$18,3)),IF(I183=\"\",\"\",\"-\"),I183,IF(K183=\"\",\"\",\"-\"),K183,IF(M183=\"\",\"\",\"-\"),M183,IF(O183=\"\",\"\",\"-\"),O183))))","v":""},null," ",{"$nulls":11},{"$f":"IF(LEN('1 - Opstart Importark'!$B$6)>0,'1 - Opstart Importark'!$B$6,\"\")","v":""},{"$f":"IF(LEN('1 - Opstart Importark'!$B$9)>0,'1 - Opstart Importark'!$B$9,\"\")","v":""},{"$f":"IF(LEN('1 - Opstart Importark'!$B$31)>0,'1 - Opstart Importark'!$B$31,\"\")","v":""},{"$nulls":12},"",{"$nulls":8},0,"","","objektnogle_"]
[173,null,{"$f":"IF('1 - Opstart Importark'!$B$6=\"\",\"\",(IF('1 - Opstart Importark'!$B$15=\"\",CONCATENATE(LEFT('1 - Opstart Importark'!$B$3,1),(LEFT('1 - Opstart Importark'!$B$24,2)),LEFT('1 - Opstart Importark'!$B$28,3),IF(I184=\"\",\"\",\"-\"),I184,IF(K184=\"\",\"\",\"-\"),K184,IF(M184=\"\",\"\",\"-\"),M184,IF(O184=\"\",\"\",\"-\"),O184),CONCATENATE(LEFT('1 - Opstart Importark'!$B$3,1),(LEFT('1 - Opstart Importark'!$B$15,2)),(LEFT('1 - Opstart Importark'!$B$18,3)),IF(I184=\"\",\"\",\"-\"),I184,IF(K184=\"\",\"\",\"-\"),K184,IF(M184=\"\",\"\",\"-\"),M184,IF(O184=\"\",\"\",\"-\"),O184))))","v":""},null," ",{"$nulls":11},{"$f":"IF(LEN('1 - Opstart Importark'!$B$6)>0,'1 - Opstart Importark'!$B$6,\"\")","v":""},{"$f":"IF(LEN('1 - Opstart Importark'!$B$9)>0,'1 - Opstart Importark'!$B$9,\"\")","v":""},{"$f":"IF(LEN('1 - Opstart Importark'!$B$31)>0,'1 - Opstart Importark'!$B$31,\"\")","v":""},{"$nulls":12},"",{"$nulls":8},0,"","","objektnogle_"]
[174,null,{"$f":"IF('1 - Opstart Importark'!$B$6=\"\",\"\",(IF('1 - Opstart Importark'!$B$15=\"\",CONCATENATE(LEFT('1 - Opstart Importark'!$B$3,1),(LEFT('1 - Opstart Importark'!$B$24,2)),LEFT('1 - Opstart Importark'!$B$28,3),IF(I185=\"\",\"\",\"-\"),I185,IF(K185=\"\",\"\",\"-\"),K185,IF(M185=\"\",\"\",\"-\"),M185,IF(O185=\"\",\"\",\"-\"),O185),CONCATENATE(LEFT('1 - Opstart Importark'!$B$3,1),(LEFT('1 - Opstart Importark'!$B$15,2)),(LEFT('1 - Opstart Importark'!$B$18,3)),IF(I185=\"\",\"\",\"-\"),I185,IF(K185=\"\",\"\",\"-\"),K185,IF(M185=\"\",\"\",\"-\"),M185,IF(O185=\"\",\"\",\"-\"),O185))))","v":""},null," ",{"$nulls":11},{"$f":"IF(LEN('1 - Opstart Importark'!$B$6)>0,'1 - Opstart Importark'!$B$6,\"\")","v":""},{"$f":"IF(LEN('1 - Opstart Importark'!$B$9)>0,'1 - Opstart Importark'!$B$9,\"\")","v":""},{"$f":"IF(LEN('1 - Opstart Importark'!$B$31)>0,'1 - Opstart Importark'!$B$31,\"\")","v":""},{"$nulls":12},"",{"$nulls":8},0,"","","objektnogle_"]
[175,null,{"$f":"IF('1 - Opstart Importark'!$B$6=\"\",\"\",(IF('1 - Opstart Importark'!$B$15=\"\",CONCATENATE(LEFT('1 - Opstart Importark'!$B$3,1),(LEFT('1 - Opstart Importark'!$B$24,2)),LEFT('1 - Opstart Importark'!$B$28,3),IF(I186=\"\",\"\",\"-\"),I186,IF(K186=\"\",\"\",\"-\"),K186,IF(M186=\"\",\"\",\"-\"),M186,IF(O186=\"\",\"\",\"-\"),O186),CONCATENATE(LEFT('1 - Opstart Importark'!$B$3,1),(LEFT('1 - Opstart Importark'!$B$15,2)),(LEFT('1 - Opstart Importark'!$B$18,3)),IF(I186=\"\",\"\",\"-\"),I186,IF(K186=\"\",\"\",\"-\"),K186,IF(M186=\"\",\"\",\"-\"),M186,IF(O186=\"\",\"\",\"-\"),O186))))","v":""},null," ",{"$nulls":11},{"$f":"IF(LEN('1 - Opstart Importark'!$B$6)>0,'1 - Opstart Importark'!$B$6,\"\")","v":""},{"$f":"IF(LEN('1 - Opstart Importark'!$B$9)>0,'1 - Opstart Importark'!$B$9,\"\")","v":""},{"$f":"IF(LEN('1 - Opstart Importark'!$B$31)>0,'1 - Opstart Importark'!$B$31,\"\")","v":""},{"$nulls":12},"",{"$nulls":8},0,"","","objektnogle_"]
[176,null,{"$f":"IF('1 - Opstart Importark'!$B$6=\"\",\"\",(IF('1 - Opstart Importark'!$B$15=\"\",CONCATENATE(LEFT('1 - Opstart Importark'!$B$3,1),(LEFT('1 - Opstart Importark'!$B$24,2)),LEFT('1 - Opstart Importark'!$B$28,3),IF(I187=\"\",\"\",\"-\"),I187,IF(K187=\"\",\"\",\"-\"),K187,IF(M187=\"\",\"\",\"-\"),M187,IF(O187=\"\",\"\",\"-\"),O187),CONCATENATE(LEFT('1 - Opstart Importark'!$B$3,1),(LEFT('1 - Opstart Importark'!$B$15,2)),(LEFT('1 - Opstart Importark'!$B$18,3)),IF(I187=\"\",\"\",\"-\"),I187,IF(K187=\"\",\"\",\"-\"),K187,IF(M187=\"\",\"\",\"-\"),M187,IF(O187=\"\",\"\",\"-\"),O187))))","v":""},null," ",{"$nulls":11},{"$f":"IF(LEN('1 - Opstart Importark'!$B$6)>0,'1 - Opstart Importark'!$B$6,\"\")","v":""},{"$f":"IF(LEN('1 - Opstart Importark'!$B$9)>0,'1 - Opstart Importark'!$B$9,\"\")","v":""},{"$f":"IF(LEN('1 - Opstart Importark'!$B$31)>0,'1 - Opstart Importark'!$B$31,\"\")","v":""},{"$nulls":12},"",{"$nulls":8},0,"","","objektnogle_"]
[177,null,{"$f":"IF('1 - Opstart Importark'!$B$6=\"\",\"\",(IF('1 - Opstart Importark'!$B$15=\"\",CONCATENATE(LEFT('1 - Opstart Importark'!$B$3,1),(LEFT('1 - Opstart Importark'!$B$24,2)),LEFT('1 - Opstart Importark'!$B$28,3),IF(I188=\"\",\"\",\"-\"),I188,IF(K188=\"\",\"\",\"-\"),K188,IF(M188=\"\",\"\",\"-\"),M188,IF(O188=\"\",\"\",\"-\"),O188),CONCATENATE(LEFT('1 - Opstart Importark'!$B$3,1),(LEFT('1 - Opstart Importark'!$B$15,2)),(LEFT('1 - Opstart Importark'!$B$18,3)),IF(I188=\"\",\"\",\"-\"),I188,IF(K188=\"\",\"\",\"-\"),K188,IF(M188=\"\",\"\",\"-\"),M188,IF(O188=\"\",\"\",\"-\"),O188))))","v":""},null," ",{"$nulls":11},{"$f":"IF(LEN('1 - Opstart Importark'!$B$6)>0,'1 - Opstart Importark'!$B$6,\"\")","v":""},{"$f":"IF(LEN('1 - Opstart Importark'!$B$9)>0,'1 - Opstart Importark'!$B$9,\"\")","v":""},{"$f":"IF(LEN('1 - Opstart Importark'!$B$31)>0,'1 - Opstart Importark'!$B$31,\"\")","v":""},{"$nulls":12},"",{"$nulls":8},0,"","","objektnogle_"]
[178,null,{"$f":"IF('1 - Opstart Importark'!$B$6=\"\",\"\",(IF('1 - Opstart Importark'!$B$15=\"\",CONCATENATE(LEFT('1 - Opstart Importark'!$B$3,1),(LEFT('1 - Opstart Importark'!$B$24,2)),LEFT('1 - Opstart Importark'!$B$28,3),IF(I189=\"\",\"\",\"-\"),I189,IF(K189=\"\",\"\",\"-\"),K189,IF(M189=\"\",\"\",\"-\"),M189,IF(O189=\"\",\"\",\"-\"),O189),CONCATENATE(LEFT('1 - Opstart Importark'!$B$3,1),(LEFT('1 - Opstart Importark'!$B$15,2)),(LEFT('1 - Opstart Importark'!$B$18,3)),IF(I189=\"\",\"\",\"-\"),I189,IF(K189=\"\",\"\",\"-\"),K189,IF(M189=\"\",\"\",\"-\"),M189,IF(O189=\"\",\"\",\"-\"),O189))))","v":""},null," ",{"$nulls":11},{"$f":"IF(LEN('1 - Opstart Importark'!$B$6)>0,'1 - Opstart Importark'!$B$6,\"\")","v":""},{"$f":"IF(LEN('1 - Opstart Importark'!$B$9)>0,'1 - Opstart Importark'!$B$9,\"\")","v":""},{"$f":"IF(LEN('1 - Opstart Importark'!$B$31)>0,'1 - Opstart Importark'!$B$31,\"\")","v":""},{"$nulls":12},"",{"$nulls":8},0,"","","objektnogle_"]
[179,null,{"$f":"IF('1 - Opstart Importark'!$B$6=\"\",\"\",(IF('1 - Opstart Importark'!$B$15=\"\",CONCATENATE(LEFT('1 - Opstart Importark'!$B$3,1),(LEFT('1 - Opstart Importark'!$B$24,2)),LEFT('1 - Opstart Importark'!$B$28,3),IF(I190=\"\",\"\",\"-\"),I190,IF(K190=\"\",\"\",\"-\"),K190,IF(M190=\"\",\"\",\"-\"),M190,IF(O190=\"\",\"\",\"-\"),O190),CONCATENATE(LEFT('1 - Opstart Importark'!$B$3,1),(LEFT('1 - Opstart Importark'!$B$15,2)),(LEFT('1 - Opstart Importark'!$B$18,3)),IF(I190=\"\",\"\",\"-\"),I190,IF(K190=\"\",\"\",\"-\"),K190,IF(M190=\"\",\"\",\"-\"),M190,IF(O190=\"\",\"\",\"-\"),O190))))","v":""},null," ",{"$nulls":11},{"$f":"IF(LEN('1 - Opstart Importark'!$B$6)>0,'1 - Opstart Importark'!$B$6,\"\")","v":""},{"$f":"IF(LEN('1 - Opstart Importark'!$B$9)>0,'1 - Opstart Importark'!$B$9,\"\")","v":""},{"$f":"IF(LEN('1 - Opstart Importark'!$B$31)>0,'1 - Opstart Importark'!$B$31,\"\")","v":""},{"$nulls":12},"",{"$nulls":8},0,"","","objektnogle_"]
[180,null,{"$f":"IF('1 - Opstart Importark'!$B$6=\"\",\"\",(IF('1 - Opstart Importark'!$B$15=\"\",CONCATENATE(LEFT('1 - Opstart Importark'!$B$3,1),(LEFT('1 - Opstart Importark'!$B$24,2)),LEFT('1 - Opstart Importark'!$B$28,3),IF(I191=\"\",\"\",\"-\"),I191,IF(K191=\"\",\"\",\"-\"),K191,IF(M191=\"\",\"\",\"-\"),M191,IF(O191=\"\",\"\",\"-\"),O191),CONCATENATE(LEFT('1 - Opstart Importark'!$B$3,1),(LEFT('1 - Opstart Importark'!$B$15,2)),(LEFT('1 - Opstart Importark'!$B$18,3)),IF(I191=\"\",\"\",\"-\"),I191,IF(K191=\"\",\"\",\"-\"),K191,IF(M191=\"\",\"\",\"-\"),M191,IF(O191=\"\",\"\",\"-\"),O191))))","v":""},null," ",{"$nulls":11},{"$f":"IF(LEN('1 - Opstart Importark'!$B$6)>0,'1 - Opstart Importark'!$B$6,\"\")","v":""},{"$f":"IF(LEN('1 - Opstart Importark'!$B$9)>0,'1 - Opstart Importark'!$B$9,\"\")","v":""},{"$f":"IF(LEN('1 - Opstart Importark'!$B$31)>0,'1 - Opstart Importark'!$B$31,\"\")","v":""},{"$nulls":12},"",{"$nulls":8},0,"","","objektnogle_"]
[181,null,{"$f":"IF('1 - Opstart Importark'!$B$6=\"\",\"\",(IF('1 - Opstart Importark'!$B$15=\"\",CONCATENATE(LEFT('1 - Opstart Importark'!$B$3,1),(LEFT('1 - Opstart Importark'!$B$24,2)),LEFT('1 - Opstart Importark'!$B$28,3),IF(I192=\"\",\"\",\"-\"),I192,IF(K192=\"\",\"\",\"-\"),K192,IF(M192=\"\",\"\",\"-\"),M192,IF(O192=\"\",\"\",\"-\"),O192),CONCATENATE(LEFT('1 - Opstart Importark'!$B$3,1),(LEFT('1 - Opstart Importark'!$B$15,2)),(LEFT('1 - Opstart Importark'!$B$18,3)),IF(I192=\"\",\"\",\"-\"),I192,IF(K192=\"\",\"\",\"-\"),K192,IF(M192=\"\",\"\",\"-\"),M192,IF(O192=\"\",\"\",\"-\"),O192))))","v":""},null," ",{"$nulls":11},{"$f":"IF(LEN('1 - Opstart Importark'!$B$6)>0,'1 - Opstart Importark'!$B$6,\"\")","v":""},{"$f":"IF(LEN('1 - Opstart Importark'!$B$9)>0,'1 - Opstart Importark'!$B$9,\"\")","v":""},{"$f":"IF(LEN('1 - Opstart Importark'!$B$31)>0,'1 - Opstart Importark'!$B$31,\"\")","v":""},{"$nulls":12},"",{"$nulls":8},0,"","","objektnogle_"]
[182,null,{"$f":"IF('1 - Opstart Importark'!$B$6=\"\",\"\",(IF('1 - Opstart Importark'!$B$15=\"\",CONCATENATE(LEFT('1 - Opstart Importark'!$B$3,1),(LEFT('1 - Opstart Importark'!$B$24,2)),LEFT('1 - Opstart Importark'!$B$28,3),IF(I193=\"\",\"\",\"-\"),I193,IF(K193=\"\",\"\",\"-\"),K193,IF(M193=\"\",\"\",\"-\"),M193,IF(O193=\"\",\"\",\"-\"),O193),CONCATENATE(LEFT('1 - Opstart Importark'!$B$3,1),(LEFT('1 - Opstart Importark'!$B$15,2)),(LEFT('1 - Opstart Importark'!$B$18,3)),IF(I193=\"\",\"\",\"-\"),I193,IF(K193=\"\",\"\",\"-\"),K193,IF(M193=\"\",\"\",\"-\"),M193,IF(O193=\"\",\"\",\"-\"),O193))))","v":""},null," ",{"$nulls":11},{"$f":"IF(LEN('1 - Opstart Importark'!$B$6)>0,'1 - Opstart Importark'!$B$6,\"\")","v":""},{"$f":"IF(LEN('1 - Opstart Importark'!$B$9)>0,'1 - Opstart Importark'!$B$9,\"\")","v":""},{"$f":"IF(LEN('1 - Opstart Importark'!$B$31)>0,'1 - Opstart Importark'!$B$31,\"\")","v":""},{"$nulls":12},"",{"$nulls":8},0,"","","objektnogle_"]
[183,null,{"$f":"IF('1 - Opstart Importark'!$B$6=\"\",\"\",(IF('1 - Opstart Importark'!$B$15=\"\",CONCATENATE(LEFT('1 - Opstart Importark'!$B$3,1),(LEFT('1 - Opstart Importark'!$B$24,2)),LEFT('1 - Opstart Importark'!$B$28,3),IF(I194=\"\",\"\",\"-\"),I194,IF(K194=\"\",\"\",\"-\"),K194,IF(M194=\"\",\"\",\"-\"),M194,IF(O194=\"\",\"\",\"-\"),O194),CONCATENATE(LEFT('1 - Opstart Importark'!$B$3,1),(LEFT('1 - Opstart Importark'!$B$15,2)),(LEFT('1 - Opstart Importark'!$B$18,3)),IF(I194=\"\",\"\",\"-\"),I194,IF(K194=\"\",\"\",\"-\"),K194,IF(M194=\"\",\"\",\"-\"),M194,IF(O194=\"\",\"\",\"-\"),O194))))","v":""},null," ",{"$nulls":11},{"$f":"IF(LEN('1 - Opstart Importark'!$B$6)>0,'1 - Opstart Importark'!$B$6,\"\")","v":""},{"$f":"IF(LEN('1 - Opstart Importark'!$B$9)>0,'1 - Opstart Importark'!$B$9,\"\")","v":""},{"$f":"IF(LEN('1 - Opstart Importark'!$B$31)>0,'1 - Opstart Importark'!$B$31,\"\")","v":""},{"$nulls":12},"",{"$nulls":8},0,"","","objektnogle_"]
[184,null,{"$f":"IF('1 - Opstart Importark'!$B$6=\"\",\"\",(IF('1 - Opstart Importark'!$B$15=\"\",CONCATENATE(LEFT('1 - Opstart Importark'!$B$3,1),(LEFT('1 - Opstart Importark'!$B$24,2)),LEFT('1 - Opstart Importark'!$B$28,3),IF(I195=\"\",\"\",\"-\"),I195,IF(K195=\"\",\"\",\"-\"),K195,IF(M195=\"\",\"\",\"-\"),M195,IF(O195=\"\",\"\",\"-\"),O195),CONCATENATE(LEFT('1 - Opstart Importark'!$B$3,1),(LEFT('1 - Opstart Importark'!$B$15,2)),(LEFT('1 - Opstart Importark'!$B$18,3)),IF(I195=\"\",\"\",\"-\"),I195,IF(K195=\"\",\"\",\"-\"),K195,IF(M195=\"\",\"\",\"-\"),M195,IF(O195=\"\",\"\",\"-\"),O195))))","v":""},null," ",{"$nulls":11},{"$f":"IF(LEN('1 - Opstart Importark'!$B$6)>0,'1 - Opstart Importark'!$B$6,\"\")","v":""},{"$f":"IF(LEN('1 - Opstart Importark'!$B$9)>0,'1 - Opstart Importark'!$B$9,\"\")","v":""},{"$f":"IF(LEN('1 - Opstart Importark'!$B$31)>0,'1 - Opstart Importark'!$B$31,\"\")","v":""},{"$nulls":12},"",{"$nulls":8},0,"","","objektnogle_"]
[185,null,{"$f":"IF('1 - Opstart Importark'!$B$6=\"\",\"\",(IF('1 - Opstart Importark'!$B$15=\"\",CONCATENATE(LEFT('1 - Opstart Importark'!$B$3,1),(LEFT('1 - Opstart Importark'!$B$24,2)),LEFT('1 - Opstart Importark'!$B$28,3),IF(I196=\"\",\"\",\"-\"),I196,IF(K196=\"\",\"\",\"-\"),K196,IF(M196=\"\",\"\",\"-\"),M196,IF(O196=\"\",\"\",\"-\"),O196),CONCATENATE(LEFT('1 - Opstart Importark'!$B$3,1),(LEFT('1 - Opstart Importark'!$B$15,2)),(LEFT('1 - Opstart Importark'!$B$18,3)),IF(I196=\"\",\"\",\"-\"),I196,IF(K196=\"\",\"\",\"-\"),K196,IF(M196=\"\",\"\",\"-\"),M196,IF(O196=\"\",\"\",\"-\"),O196))))","v":""},null," ",{"$nulls":11},{"$f":"IF(LEN('1 - Opstart Importark'!$B$6)>0,'1 - Opstart Importark'!$B$6,\"\")","v":""},{"$f":"IF(LEN('1 - Opstart Importark'!$B$9)>0,'1 - Opstart Importark'!$B$9,\"\")","v":""},{"$f":"IF(LEN('1 - Opstart Importark'!$B$31)>0,'1 - Opstart Importark'!$B$31,\"\")","v":""},{"$nulls":12},"",{"$nulls":8},0,"","","objektnogle_"]
[186,null,{"$f":"IF('1 - Opstart Importark'!$B$6=\"\",\"\",(IF('1 - Opstart Importark'!$B$15=\"\",CONCATENATE(LEFT('1 - Opstart Importark'!$B$3,1),(LEFT('1 - Opstart Importark'!$B$24,2)),LEFT('1 - Opstart Importark'!$B$28,3),IF(I197=\"\",\"\",\"-\"),I197,IF(K197=\"\",\"\",\"-\"),K197,IF(M197=\"\",\"\",\"-\"),M197,IF(O197=\"\",\"\",\"-\"),O197),CONCATENATE(LEFT('1 - Opstart Importark'!$B$3,1),(LEFT('1 - Opstart Importark'!$B$15,2)),(LEFT('1 - Opstart Importark'!$B$18,3)),IF(I197=\"\",\"\",\"-\"),I197,IF(K197=\"\",\"\",\"-\"),K197,IF(M197=\"\",\"\",\"-\"),M197,IF(O197=\"\",\"\",\"-\"),O197))))","v":""},null," ",{"$nulls":11},{"$f":"IF(LEN('1 - Opstart Importark'!$B$6)>0,'1 - Opstart Importark'!$B$6,\"\")","v":""},{"$f":"IF(LEN('1 - Opstart Importark'!$B$9)>0,'1 - Opstart Importark'!$B$9,\"\")","v":""},{"$f":"IF(LEN('1 - Opstart Importark'!$B$31)>0,'1 - Opstart Importark'!$B$31,\"\")","v":""},{"$nulls":12},"",{"$nulls":8},0,"","","objektnogle_"]
[187,null,{"$f":"IF('1 - Opstart Importark'!$B$6=\"\",\"\",(IF('1 - Opstart Importark'!$B$15=\"\",CONCATENATE(LEFT('1 - Opstart Importark'!$B$3,1),(LEFT('1 - Opstart Importark'!$B$24,2)),LEFT('1 - Opstart Importark'!$B$28,3),IF(I198=\"\",\"\",\"-\"),I198,IF(K198=\"\",\"\",\"-\"),K198,IF(M198=\"\",\"\",\"-\"),M198,IF(O198=\"\",\"\",\"-\"),O198),CONCATENATE(LEFT('1 - Opstart Importark'!$B$3,1),(LEFT('1 - Opstart Importark'!$B$15,2)),(LEFT('1 - Opstart Importark'!$B$18,3)),IF(I198=\"\",\"\",\"-\"),I198,IF(K198=\"\",\"\",\"-\"),K198,IF(M198=\"\",\"\",\"-\"),M198,IF(O198=\"\",\"\",\"-\"),O198))))","v":""},null," ",{"$nulls":11},{"$f":"IF(LEN('1 - Opstart Importark'!$B$6)>0,'1 - Opstart Importark'!$B$6,\"\")","v":""},{"$f":"IF(LEN('1 - Opstart Importark'!$B$9)>0,'1 - Opstart Importark'!$B$9,\"\")","v":""},{"$f":"IF(LEN('1 - Opstart Importark'!$B$31)>0,'1 - Opstart Importark'!$B$31,\"\")","v":""},{"$nulls":12},"",{"$nulls":8},0,"","","objektnogle_"]
[188,null,{"$f":"IF('1 - Opstart Importark'!$B$6=\"\",\"\",(IF('1 - Opstart Importark'!$B$15=\"\",CONCATENATE(LEFT('1 - Opstart Importark'!$B$3,1),(LEFT('1 - Opstart Importark'!$B$24,2)),LEFT('1 - Opstart Importark'!$B$28,3),IF(I199=\"\",\"\",\"-\"),I199,IF(K199=\"\",\"\",\"-\"),K199,IF(M199=\"\",\"\",\"-\"),M199,IF(O199=\"\",\"\",\"-\"),O199),CONCATENATE(LEFT('1 - Opstart Importark'!$B$3,1),(LEFT('1 - Opstart Importark'!$B$15,2)),(LEFT('1 - Opstart Importark'!$B$18,3)),IF(I199=\"\",\"\",\"-\"),I199,IF(K199=\"\",\"\",\"-\"),K199,IF(M199=\"\",\"\",\"-\"),M199,IF(O199=\"\",\"\",\"-\"),O199))))","v":""},null," ",{"$nulls":11},{"$f":"IF(LEN('1 - Opstart Importark'!$B$6)>0,'1 - Opstart Importark'!$B$6,\"\")","v":""},{"$f":"IF(LEN('1 - Opstart Importark'!$B$9)>0,'1 - Opstart Importark'!$B$9,\"\")","v":""},{"$f":"IF(LEN('1 - Opstart Importark'!$B$31)>0,'1 - Opstart Importark'!$B$31,\"\")","v":""},{"$nulls":12},"",{"$nulls":8},0,"","","objektnogle_"]
[189,null,{"$f":"IF('1 - Opstart Importark'!$B$6=\"\",\"\",(IF('1 - Opstart Importark'!$B$15=\"\",CONCATENATE(LEFT('1 - Opstart Importark'!$B$3,1),(LEFT('1 - Opstart Importark'!$B$24,2)),LEFT('1 - Opstart Importark'!$B$28,3),IF(I200=\"\",\"\",\"-\"),I200,IF(K200=\"\",\"\",\"-\"),K200,IF(M200=\"\",\"\",\"-\"),M200,IF(O200=\"\",\"\",\"-\"),O200),CONCATENATE(LEFT('1 - Opstart Importark'!$B$3,1),(LEFT('1 - Opstart Importark'!$B$15,2)),(LEFT('1 - Opstart Importark'!$B$18,3)),IF(I200=\"\",\"\",\"-\"),I200,IF(K200=\"\",\"\",\"-\"),K200,IF(M200=\"\",\"\",\"-\"),M200,IF(O200=\"\",\"\",\"-\"),O200))))","v":""},null," ",{"$nulls":11},{"$f":"IF(LEN('1 - Opstart Importark'!$B$6)>0,'1 - Opstart Importark'!$B$6,\"\")","v":""},{"$f":"IF(LEN('1 - Opstart Importark'!$B$9)>0,'1 - Opstart Importark'!$B$9,\"\")","v":""},{"$f":"IF(LEN('1 - Opstart Importark'!$B$31)>0,'1 - Opstart Importark'!$B$31,\"\")","v":""},{"$nulls":12},"",{"$nulls":8},0,"","","objektnogle_"]
[190,null,{"$f":"IF('1 - Opstart Importark'!$B$6=\"\",\"\",(IF('1 - Opstart Importark'!$B$15=\"\",CONCATENATE(LEFT('1 - Opstart Importark'!$B$3,1),(LEFT('1 - Opstart Importark'!$B$24,2)),LEFT('1 - Opstart Importark'!$B$28,3),IF(I201=\"\",\"\",\"-\"),I201,IF(K201=\"\",\"\",\"-\"),K201,IF(M201=\"\",\"\",\"-\"),M201,IF(O201=\"\",\"\",\"-\"),O201),CONCATENATE(LEFT('1 - Opstart Importark'!$B$3,1),(LEFT('1 - Opstart Importark'!$B$15,2)),(LEFT('1 - Opstart Importark'!$B$18,3)),IF(I201=\"\",\"\",\"-\"),I201,IF(K201=\"\",\"\",\"-\"),K201,IF(M201=\"\",\"\",\"-\"),M201,IF(O201=\"\",\"\",\"-\"),O201))))","v":""},null," ",{"$nulls":11},{"$f":"IF(LEN('1 - Opstart Importark'!$B$6)>0,'1 - Opstart Importark'!$B$6,\"\")","v":""},{"$f":"IF(LEN('1 - Opstart Importark'!$B$9)>0,'1 - Opstart Importark'!$B$9,\"\")","v":""},{"$f":"IF(LEN('1 - Opstart Importark'!$B$31)>0,'1 - Opstart Importark'!$B$31,\"\")","v":""},{"$nulls":12},"",{"$nulls":8},0,"","","objektnogle_"]
[191,null,{"$f":"IF('1 - Opstart Importark'!$B$6=\"\",\"\",(IF('1 - Opstart Importark'!$B$15=\"\",CONCATENATE(LEFT('1 - Opstart Importark'!$B$3,1),(LEFT('1 - Opstart Importark'!$B$24,2)),LEFT('1 - Opstart Importark'!$B$28,3),IF(I202=\"\",\"\",\"-\"),I202,IF(K202=\"\",\"\",\"-\"),K202,IF(M202=\"\",\"\",\"-\"),M202,IF(O202=\"\",\"\",\"-\"),O202),CONCATENATE(LEFT('1 - Opstart Importark'!$B$3,1),(LEFT('1 - Opstart Importark'!$B$15,2)),(LEFT('1 - Opstart Importark'!$B$18,3)),IF(I202=\"\",\"\",\"-\"),I202,IF(K202=\"\",\"\",\"-\"),K202,IF(M202=\"\",\"\",\"-\"),M202,IF(O202=\"\",\"\",\"-\"),O202))))","v":""},null," ",{"$nulls":11},{"$f":"IF(LEN('1 - Opstart Importark'!$B$6)>0,'1 - Opstart Importark'!$B$6,\"\")","v":""},{"$f":"IF(LEN('1 - Opstart Importark'!$B$9)>0,'1 - Opstart Importark'!$B$9,\"\")","v":""},{"$f":"IF(LEN('1 - Opstart Importark'!$B$31)>0,'1 - Opstart Importark'!$B$31,\"\")","v":""},{"$nulls":12},"",{"$nulls":8},0,"","","objektnogle_"]
[192,null,{"$f":"IF('1 - Opstart Importark'!$B$6=\"\",\"\",(IF('1 - Opstart Importark'!$B$15=\"\",CONCATENATE(LEFT('1 - Opstart Importark'!$B$3,1),(LEFT('1 - Opstart Importark'!$B$24,2)),LEFT('1 - Opstart Importark'!$B$28,3),IF(I203=\"\",\"\",\"-\"),I203,IF(K203=\"\",\"\",\"-\"),K203,IF(M203=\"\",\"\",\"-\"),M203,IF(O203=\"\",\"\",\"-\"),O203),CONCATENATE(LEFT('1 - Opstart Importark'!$B$3,1),(LEFT('1 - Opstart Importark'!$B$15,2)),(LEFT('1 - Opstart Importark'!$B$18,3)),IF(I203=\"\",\"\",\"-\"),I203,IF(K203=\"\",\"\",\"-\"),K203,IF(M203=\"\",\"\",\"-\"),M203,IF(O203=\"\",\"\",\"-\"),O203))))","v":""},null," ",{"$nulls":11},{"$f":"IF(LEN('1 - Opstart Importark'!$B$6)>0,'1 - Opstart Importark'!$B$6,\"\")","v":""},{"$f":"IF(LEN('1 - Opstart Importark'!$B$9)>0,'1 - Opstart Importark'!$B$9,\"\")","v":""},{"$f":"IF(LEN('1 - Opstart Importark'!$B$31)>0,'1 - Opstart Importark'!$B$31,\"\")","v":""},{"$nulls":12},"",{"$nulls":8},0,"","","objektnogle_"]
[193,null,{"$f":"IF('1 - Opstart Importark'!$B$6=\"\",\"\",(IF('1 - Opstart Importark'!$B$15=\"\",CONCATENATE(LEFT('1 - Opstart Importark'!$B$3,1),(LEFT('1 - Opstart Importark'!$B$24,2)),LEFT('1 - Opstart Importark'!$B$28,3),IF(I204=\"\",\"\",\"-\"),I204,IF(K204=\"\",\"\",\"-\"),K204,IF(M204=\"\",\"\",\"-\"),M204,IF(O204=\"\",\"\",\"-\"),O204),CONCATENATE(LEFT('1 - Opstart Importark'!$B$3,1),(LEFT('1 - Opstart Importark'!$B$15,2)),(LEFT('1 - Opstart Importark'!$B$18,3)),IF(I204=\"\",\"\",\"-\"),I204,IF(K204=\"\",\"\",\"-\"),K204,IF(M204=\"\",\"\",\"-\"),M204,IF(O204=\"\",\"\",\"-\"),O204))))","v":""},null," ",{"$nulls":11},{"$f":"IF(LEN('1 - Opstart Importark'!$B$6)>0,'1 - Opstart Importark'!$B$6,\"\")","v":""},{"$f":"IF(LEN('1 - Opstart Importark'!$B$9)>0,'1 - Opstart Importark'!$B$9,\"\")","v":""},{"$f":"IF(LEN('1 - Opstart Importark'!$B$31)>0,'1 - Opstart Importark'!$B$31,\"\")","v":""},{"$nulls":12},{"$f":"IF(M204=\"\",\"\",VLOOKUP(LEFT(M204,1),objektfilter,2))","v":""},{"$nulls":8},0,"","","objektnogle_"]
[194,null,{"$f":"IF('1 - Opstart Importark'!$B$6=\"\",\"\",(IF('1 - Opstart Importark'!$B$15=\"\",CONCATENATE(LEFT('1 - Opstart Importark'!$B$3,1),(LEFT('1 - Opstart Importark'!$B$24,2)),LEFT('1 - Opstart Importark'!$B$28,3),IF(I205=\"\",\"\",\"-\"),I205,IF(K205=\"\",\"\",\"-\"),K205,IF(M205=\"\",\"\",\"-\"),M205,IF(O205=\"\",\"\",\"-\"),O205),CONCATENATE(LEFT('1 - Opstart Importark'!$B$3,1),(LEFT('1 - Opstart Importark'!$B$15,2)),(LEFT('1 - Opstart Importark'!$B$18,3)),IF(I205=\"\",\"\",\"-\"),I205,IF(K205=\"\",\"\",\"-\"),K205,IF(M205=\"\",\"\",\"-\"),M205,IF(O205=\"\",\"\",\"-\"),O205))))","v":""},null," ",{"$nulls":11},{"$f":"IF(LEN('1 - Opstart Importark'!$B$6)>0,'1 - Opstart Importark'!$B$6,\"\")","v":""},{"$f":"IF(LEN('1 - Opstart Importark'!$B$9)>0,'1 - Opstart Importark'!$B$9,\"\")","v":""},{"$f":"IF(LEN('1 - Opstart Importark'!$B$31)>0,'1 - Opstart Importark'!$B$31,\"\")","v":""},{"$nulls":12},"",{"$nulls":8},{"$f":"IFERROR(FIND(\".\",F205),)","v":0},{"$f":"IF(M205=\"\",\"\",IF(LEFT(M205,1)=\"E\",0,1))","v":""},{"$f":"IF(M205=\"\",\"\",IF(LEFT(M205,1)=\"E\",0,1))","v":""},{"$f":"IF(W205=\"\", CONCATENATE(\"objektnogle_\",LEFT(AF205,1)),CONCATENATE(\"objektnogle_\",LEFT(W205,1)))","v":"objektnogle_"}]
[195,null,{"$f":"IF('1 - Opstart Importark'!$B$6=\"\",\"\",(IF('1 - Opstart Importark'!$B$15=\"\",CONCATENATE(LEFT('1 - Opstart Importark'!$B$3,1),(LEFT('1 - Opstart Importark'!$B$24,2)),LEFT('1 - Opstart Importark'!$B$28,3),IF(I206=\"\",\"\",\"-\"),I206,IF(K206=\"\",\"\",\"-\"),K206,IF(M206=\"\",\"\",\"-\"),M206,IF(O206=\"\",\"\",\"-\"),O206),CONCATENATE(LEFT('1 - Opstart Importark'!$B$3,1),(LEFT('1 - Opstart Importark'!$B$15,2)),(LEFT('1 - Opstart Importark'!$B$18,3)),IF(I206=\"\",\"\",\"-\"),I206,IF(K206=\"\",\"\",\"-\"),K206,IF(M206=\"\",\"\",\"-\"),M206,IF(O206=\"\",\"\",\"-\"),O206))))","v":""},null," ",{"$nulls":11},{"$f":"IF(LEN('1 - Opstart Importark'!$B$6)>0,'1 - Opstart Importark'!$B$6,\"\")","v":""},{"$f":"IF(LEN('1 - Opstart Importark'!$B$9)>0,'1 - Opstart Importark'!$B$9,\"\")","v":""},{"$f":"IF(LEN('1 - Opstart Importark'!$B$31)>0,'1 - Opstart Importark'!$B$31,\"\")","v":""},{"$nulls":12},"",{"$nulls":8},0,"","","objektnogle_"]
[196,null,{"$f":"IF('1 - Opstart Importark'!$B$6=\"\",\"\",(IF('1 - Opstart Importark'!$B$15=\"\",CONCATENATE(LEFT('1 - Opstart Importark'!$B$3,1),(LEFT('1 - Opstart Importark'!$B$24,2)),LEFT('1 - Opstart Importark'!$B$28,3),IF(I207=\"\",\"\",\"-\"),I207,IF(K207=\"\",\"\",\"-\"),K207,IF(M207=\"\",\"\",\"-\"),M207,IF(O207=\"\",\"\",\"-\"),O207),CONCATENATE(LEFT('1 - Opstart Importark'!$B$3,1),(LEFT('1 - Opstart Importark'!$B$15,2)),(LEFT('1 - Opstart Importark'!$B$18,3)),IF(I207=\"\",\"\",\"-\"),I207,IF(K207=\"\",\"\",\"-\"),K207,IF(M207=\"\",\"\",\"-\"),M207,IF(O207=\"\",\"\",\"-\"),O207))))","v":""},null," ",{"$nulls":11},{"$f":"IF(LEN('1 - Opstart Importark'!$B$6)>0,'1 - Opstart Importark'!$B$6,\"\")","v":""},{"$f":"IF(LEN('1 - Opstart Importark'!$B$9)>0,'1 - Opstart Importark'!$B$9,\"\")","v":""},{"$f":"IF(LEN('1 - Opstart Importark'!$B$31)>0,'1 - Opstart Importark'!$B$31,\"\")","v":""},{"$nulls":12},"",{"$nulls":8},0,"","","objektnogle_"]
[197,null,{"$f":"IF('1 - Opstart Importark'!$B$6=\"\",\"\",(IF('1 - Opstart Importark'!$B$15=\"\",CONCATENATE(LEFT('1 - Opstart Importark'!$B$3,1),(LEFT('1 - Opstart Importark'!$B$24,2)),LEFT('1 - Opstart Importark'!$B$28,3),IF(I208=\"\",\"\",\"-\"),I208,IF(K208=\"\",\"\",\"-\"),K208,IF(M208=\"\",\"\",\"-\"),M208,IF(O208=\"\",\"\",\"-\"),O208),CONCATENATE(LEFT('1 - Opstart Importark'!$B$3,1),(LEFT('1 - Opstart Importark'!$B$15,2)),(LEFT('1 - Opstart Importark'!$B$18,3)),IF(I208=\"\",\"\",\"-\"),I208,IF(K208=\"\",\"\",\"-\"),K208,IF(M208=\"\",\"\",\"-\"),M208,IF(O208=\"\",\"\",\"-\"),O208))))","v":""},null," ",{"$nulls":11},{"$f":"IF(LEN('1 - Opstart Importark'!$B$6)>0,'1 - Opstart Importark'!$B$6,\"\")","v":""},{"$f":"IF(LEN('1 - Opstart Importark'!$B$9)>0,'1 - Opstart Importark'!$B$9,\"\")","v":""},{"$f":"IF(LEN('1 - Opstart Importark'!$B$31)>0,'1 - Opstart Importark'!$B$31,\"\")","v":""},{"$nulls":12},"",{"$nulls":8},0,"","","objektnogle_"]
[198,null,{"$f":"IF('1 - Opstart Importark'!$B$6=\"\",\"\",(IF('1 - Opstart Importark'!$B$15=\"\",CONCATENATE(LEFT('1 - Opstart Importark'!$B$3,1),(LEFT('1 - Opstart Importark'!$B$24,2)),LEFT('1 - Opstart Importark'!$B$28,3),IF(I209=\"\",\"\",\"-\"),I209,IF(K209=\"\",\"\",\"-\"),K209,IF(M209=\"\",\"\",\"-\"),M209,IF(O209=\"\",\"\",\"-\"),O209),CONCATENATE(LEFT('1 - Opstart Importark'!$B$3,1),(LEFT('1 - Opstart Importark'!$B$15,2)),(LEFT('1 - Opstart Importark'!$B$18,3)),IF(I209=\"\",\"\",\"-\"),I209,IF(K209=\"\",\"\",\"-\"),K209,IF(M209=\"\",\"\",\"-\"),M209,IF(O209=\"\",\"\",\"-\"),O209))))","v":""},null," ",{"$nulls":11},{"$f":"IF(LEN('1 - Opstart Importark'!$B$6)>0,'1 - Opstart Importark'!$B$6,\"\")","v":""},{"$f":"IF(LEN('1 - Opstart Importark'!$B$9)>0,'1 - Opstart Importark'!$B$9,\"\")","v":""},{"$f":"IF(LEN('1 - Opstart Importark'!$B$31)>0,'1 - Opstart Importark'!$B$31,\"\")","v":""},{"$nulls":12},"",{"$nulls":8},0,"","","objektnogle_"]
[199,null,{"$f":"IF('1 - Opstart Importark'!$B$6=\"\",\"\",(IF('1 - Opstart Importark'!$B$15=\"\",CONCATENATE(LEFT('1 - Opstart Importark'!$B$3,1),(LEFT('1 - Opstart Importark'!$B$24,2)),LEFT('1 - Opstart Importark'!$B$28,3),IF(I210=\"\",\"\",\"-\"),I210,IF(K210=\"\",\"\",\"-\"),K210,IF(M210=\"\",\"\",\"-\"),M210,IF(O210=\"\",\"\",\"-\"),O210),CONCATENATE(LEFT('1 - Opstart Importark'!$B$3,1),(LEFT('1 - Opstart Importark'!$B$15,2)),(LEFT('1 - Opstart Importark'!$B$18,3)),IF(I210=\"\",\"\",\"-\"),I210,IF(K210=\"\",\"\",\"-\"),K210,IF(M210=\"\",\"\",\"-\"),M210,IF(O210=\"\",\"\",\"-\"),O210))))","v":""},null," ",{"$nulls":11},{"$f":"IF(LEN('1 - Opstart Importark'!$B$6)>0,'1 - Opstart Importark'!$B$6,\"\")","v":""},{"$f":"IF(LEN('1 - Opstart Importark'!$B$9)>0,'1 - Opstart Importark'!$B$9,\"\")","v":""},{"$f":"IF(LEN('1 - Opstart Importark'!$B$31)>0,'1 - Opstart Importark'!$B$31,\"\")","v":""},{"$nulls":12},"",{"$nulls":8},0,"","","objektnogle_"]
[200,null,{"$f":"IF('1 - Opstart Importark'!$B$6=\"\",\"\",(IF('1 - Opstart Importark'!$B$15=\"\",CONCATENATE(LEFT('1 - Opstart Importark'!$B$3,1),(LEFT('1 - Opstart Importark'!$B$24,2)),LEFT('1 - Opstart Importark'!$B$28,3),IF(I211=\"\",\"\",\"-\"),I211,IF(K211=\"\",\"\",\"-\"),K211,IF(M211=\"\",\"\",\"-\"),M211,IF(O211=\"\",\"\",\"-\"),O211),CONCATENATE(LEFT('1 - Opstart Importark'!$B$3,1),(LEFT('1 - Opstart Importark'!$B$15,2)),(LEFT('1 - Opstart Importark'!$B$18,3)),IF(I211=\"\",\"\",\"-\"),I211,IF(K211=\"\",\"\",\"-\"),K211,IF(M211=\"\",\"\",\"-\"),M211,IF(O211=\"\",\"\",\"-\"),O211))))","v":""},null," ",{"$nulls":11},{"$f":"IF(LEN('1 - Opstart Importark'!$B$6)>0,'1 - Opstart Importark'!$B$6,\"\")","v":""},{"$f":"IF(LEN('1 - Opstart Importark'!$B$9)>0,'1 - Opstart Importark'!$B$9,\"\")","v":""},{"$f":"IF(LEN('1 - Opstart Importark'!$B$31)>0,'1 - Opstart Importark'!$B$31,\"\")","v":""},{"$nulls":12},"",{"$nulls":8},0,"","","objektnogle_"]
[201,null,{"$f":"IF('1 - Opstart Importark'!$B$6=\"\",\"\",(IF('1 - Opstart Importark'!$B$15=\"\",CONCATENATE(LEFT('1 - Opstart Importark'!$B$3,1),(LEFT('1 - Opstart Importark'!$B$24,2)),LEFT('1 - Opstart Importark'!$B$28,3),IF(I212=\"\",\"\",\"-\"),I212,IF(K212=\"\",\"\",\"-\"),K212,IF(M212=\"\",\"\",\"-\"),M212,IF(O212=\"\",\"\",\"-\"),O212),CONCATENATE(LEFT('1 - Opstart Importark'!$B$3,1),(LEFT('1 - Opstart Importark'!$B$15,2)),(LEFT('1 - Opstart Importark'!$B$18,3)),IF(I212=\"\",\"\",\"-\"),I212,IF(K212=\"\",\"\",\"-\"),K212,IF(M212=\"\",\"\",\"-\"),M212,IF(O212=\"\",\"\",\"-\"),O212))))","v":""},null," ",{"$nulls":11},{"$f":"IF(LEN('1 - Opstart Importark'!$B$6)>0,'1 - Opstart Importark'!$B$6,\"\")","v":""},{"$f":"IF(LEN('1 - Opstart Importark'!$B$9)>0,'1 - Opstart Importark'!$B$9,\"\")","v":""},{"$f":"IF(LEN('1 - Opstart Importark'!$B$31)>0,'1 - Opstart Importark'!$B$31,\"\")","v":""},{"$nulls":12},"",{"$nulls":8},0,"","","objektnogle_"]
[202,null,{"$f":"IF('1 - Opstart Importark'!$B$6=\"\",\"\",(IF('1 - Opstart Importark'!$B$15=\"\",CONCATENATE(LEFT('1 - Opstart Importark'!$B$3,1),(LEFT('1 - Opstart Importark'!$B$24,2)),LEFT('1 - Opstart Importark'!$B$28,3),IF(I213=\"\",\"\",\"-\"),I213,IF(K213=\"\",\"\",\"-\"),K213,IF(M213=\"\",\"\",\"-\"),M213,IF(O213=\"\",\"\",\"-\"),O213),CONCATENATE(LEFT('1 - Opstart Importark'!$B$3,1),(LEFT('1 - Opstart Importark'!$B$15,2)),(LEFT('1 - Opstart Importark'!$B$18,3)),IF(I213=\"\",\"\",\"-\"),I213,IF(K213=\"\",\"\",\"-\"),K213,IF(M213=\"\",\"\",\"-\"),M213,IF(O213=\"\",\"\",\"-\"),O213))))","v":""},null," ",{"$nulls":11},{"$f":"IF(LEN('1 - Opstart Importark'!$B$6)>0,'1 - Opstart Importark'!$B$6,\"\")","v":""},{"$f":"IF(LEN('1 - Opstart Importark'!$B$9)>0,'1 - Opstart Importark'!$B$9,\"\")","v":""},{"$f":"IF(LEN('1 - Opstart Importark'!$B$31)>0,'1 - Opstart Importark'!$B$31,\"\")","v":""},{"$nulls":12},"",{"$nulls":8},0,"","","objektnogle_"]
[203,null,{"$f":"IF('1 - Opstart Importark'!$B$6=\"\",\"\",(IF('1 - Opstart Importark'!$B$15=\"\",CONCATENATE(LEFT('1 - Opstart Importark'!$B$3,1),(LEFT('1 - Opstart Importark'!$B$24,2)),LEFT('1 - Opstart Importark'!$B$28,3),IF(I214=\"\",\"\",\"-\"),I214,IF(K214=\"\",\"\",\"-\"),K214,IF(M214=\"\",\"\",\"-\"),M214,IF(O214=\"\",\"\",\"-\"),O214),CONCATENATE(LEFT('1 - Opstart Importark'!$B$3,1),(LEFT('1 - Opstart Importark'!$B$15,2)),(LEFT('1 - Opstart Importark'!$B$18,3)),IF(I214=\"\",\"\",\"-\"),I214,IF(K214=\"\",\"\",\"-\"),K214,IF(M214=\"\",\"\",\"-\"),M214,IF(O214=\"\",\"\",\"-\"),O214))))","v":""},null," ",{"$nulls":11},{"$f":"IF(LEN('1 - Opstart Importark'!$B$6)>0,'1 - Opstart Importark'!$B$6,\"\")","v":""},{"$f":"IF(LEN('1 - Opstart Importark'!$B$9)>0,'1 - Opstart Importark'!$B$9,\"\")","v":""},{"$f":"IF(LEN('1 - Opstart Importark'!$B$31)>0,'1 - Opstart Importark'!$B$31,\"\")","v":""},{"$nulls":12},"",{"$nulls":8},0,"","","objektnogle_"]
[204,null,{"$f":"IF('1 - Opstart Importark'!$B$6=\"\",\"\",(IF('1 - Opstart Importark'!$B$15=\"\",CONCATENATE(LEFT('1 - Opstart Importark'!$B$3,1),(LEFT('1 - Opstart Importark'!$B$24,2)),LEFT('1 - Opstart Importark'!$B$28,3),IF(I215=\"\",\"\",\"-\"),I215,IF(K215=\"\",\"\",\"-\"),K215,IF(M215=\"\",\"\",\"-\"),M215,IF(O215=\"\",\"\",\"-\"),O215),CONCATENATE(LEFT('1 - Opstart Importark'!$B$3,1),(LEFT('1 - Opstart Importark'!$B$15,2)),(LEFT('1 - Opstart Importark'!$B$18,3)),IF(I215=\"\",\"\",\"-\"),I215,IF(K215=\"\",\"\",\"-\"),K215,IF(M215=\"\",\"\",\"-\"),M215,IF(O215=\"\",\"\",\"-\"),O215))))","v":""},null," ",{"$nulls":11},{"$f":"IF(LEN('1 - Opstart Importark'!$B$6)>0,'1 - Opstart Importark'!$B$6,\"\")","v":""},{"$f":"IF(LEN('1 - Opstart Importark'!$B$9)>0,'1 - Opstart Importark'!$B$9,\"\")","v":""},{"$f":"IF(LEN('1 - Opstart Importark'!$B$31)>0,'1 - Opstart Importark'!$B$31,\"\")","v":""},{"$nulls":12},"",{"$nulls":8},0,"","","objektnogle_"]
[205,null,{"$f":"IF('1 - Opstart Importark'!$B$6=\"\",\"\",(IF('1 - Opstart Importark'!$B$15=\"\",CONCATENATE(LEFT('1 - Opstart Importark'!$B$3,1),(LEFT('1 - Opstart Importark'!$B$24,2)),LEFT('1 - Opstart Importark'!$B$28,3),IF(I216=\"\",\"\",\"-\"),I216,IF(K216=\"\",\"\",\"-\"),K216,IF(M216=\"\",\"\",\"-\"),M216,IF(O216=\"\",\"\",\"-\"),O216),CONCATENATE(LEFT('1 - Opstart Importark'!$B$3,1),(LEFT('1 - Opstart Importark'!$B$15,2)),(LEFT('1 - Opstart Importark'!$B$18,3)),IF(I216=\"\",\"\",\"-\"),I216,IF(K216=\"\",\"\",\"-\"),K216,IF(M216=\"\",\"\",\"-\"),M216,IF(O216=\"\",\"\",\"-\"),O216))))","v":""},null," ",{"$nulls":11},{"$f":"IF(LEN('1 - Opstart Importark'!$B$6)>0,'1 - Opstart Importark'!$B$6,\"\")","v":""},{"$f":"IF(LEN('1 - Opstart Importark'!$B$9)>0,'1 - Opstart Importark'!$B$9,\"\")","v":""},{"$f":"IF(LEN('1 - Opstart Importark'!$B$31)>0,'1 - Opstart Importark'!$B$31,\"\")","v":""},{"$nulls":12},"",{"$nulls":8},0,"","","objektnogle_"]
[206,null,{"$f":"IF('1 - Opstart Importark'!$B$6=\"\",\"\",(IF('1 - Opstart Importark'!$B$15=\"\",CONCATENATE(LEFT('1 - Opstart Importark'!$B$3,1),(LEFT('1 - Opstart Importark'!$B$24,2)),LEFT('1 - Opstart Importark'!$B$28,3),IF(I217=\"\",\"\",\"-\"),I217,IF(K217=\"\",\"\",\"-\"),K217,IF(M217=\"\",\"\",\"-\"),M217,IF(O217=\"\",\"\",\"-\"),O217),CONCATENATE(LEFT('1 - Opstart Importark'!$B$3,1),(LEFT('1 - Opstart Importark'!$B$15,2)),(LEFT('1 - Opstart Importark'!$B$18,3)),IF(I217=\"\",\"\",\"-\"),I217,IF(K217=\"\",\"\",\"-\"),K217,IF(M217=\"\",\"\",\"-\"),M217,IF(O217=\"\",\"\",\"-\"),O217))))","v":""},null," ",{"$nulls":11},{"$f":"IF(LEN('1 - Opstart Importark'!$B$6)>0,'1 - Opstart Importark'!$B$6,\"\")","v":""},{"$f":"IF(LEN('1 - Opstart Importark'!$B$9)>0,'1 - Opstart Importark'!$B$9,\"\")","v":""},{"$f":"IF(LEN('1 - Opstart Importark'!$B$31)>0,'1 - Opstart Importark'!$B$31,\"\")","v":""},{"$nulls":12},"",{"$nulls":8},0,"","","objektnogle_"]
[207,null,{"$f":"IF('1 - Opstart Importark'!$B$6=\"\",\"\",(IF('1 - Opstart Importark'!$B$15=\"\",CONCATENATE(LEFT('1 - Opstart Importark'!$B$3,1),(LEFT('1 - Opstart Importark'!$B$24,2)),LEFT('1 - Opstart Importark'!$B$28,3),IF(I218=\"\",\"\",\"-\"),I218,IF(K218=\"\",\"\",\"-\"),K218,IF(M218=\"\",\"\",\"-\"),M218,IF(O218=\"\",\"\",\"-\"),O218),CONCATENATE(LEFT('1 - Opstart Importark'!$B$3,1),(LEFT('1 - Opstart Importark'!$B$15,2)),(LEFT('1 - Opstart Importark'!$B$18,3)),IF(I218=\"\",\"\",\"-\"),I218,IF(K218=\"\",\"\",\"-\"),K218,IF(M218=\"\",\"\",\"-\"),M218,IF(O218=\"\",\"\",\"-\"),O218))))","v":""},null," ",{"$nulls":11},{"$f":"IF(LEN('1 - Opstart Importark'!$B$6)>0,'1 - Opstart Importark'!$B$6,\"\")","v":""},{"$f":"IF(LEN('1 - Opstart Importark'!$B$9)>0,'1 - Opstart Importark'!$B$9,\"\")","v":""},{"$f":"IF(LEN('1 - Opstart Importark'!$B$31)>0,'1 - Opstart Importark'!$B$31,\"\")","v":""},{"$nulls":12},"",{"$nulls":8},0,"","","objektnogle_"]
[208,null,{"$f":"IF('1 - Opstart Importark'!$B$6=\"\",\"\",(IF('1 - Opstart Importark'!$B$15=\"\",CONCATENATE(LEFT('1 - Opstart Importark'!$B$3,1),(LEFT('1 - Opstart Importark'!$B$24,2)),LEFT('1 - Opstart Importark'!$B$28,3),IF(I219=\"\",\"\",\"-\"),I219,IF(K219=\"\",\"\",\"-\"),K219,IF(M219=\"\",\"\",\"-\"),M219,IF(O219=\"\",\"\",\"-\"),O219),CONCATENATE(LEFT('1 - Opstart Importark'!$B$3,1),(LEFT('1 - Opstart Importark'!$B$15,2)),(LEFT('1 - Opstart Importark'!$B$18,3)),IF(I219=\"\",\"\",\"-\"),I219,IF(K219=\"\",\"\",\"-\"),K219,IF(M219=\"\",\"\",\"-\"),M219,IF(O219=\"\",\"\",\"-\"),O219))))","v":""},null," ",{"$nulls":11},{"$f":"IF(LEN('1 - Opstart Importark'!$B$6)>0,'1 - Opstart Importark'!$B$6,\"\")","v":""},{"$f":"IF(LEN('1 - Opstart Importark'!$B$9)>0,'1 - Opstart Importark'!$B$9,\"\")","v":""},{"$f":"IF(LEN('1 - Opstart Importark'!$B$31)>0,'1 - Opstart Importark'!$B$31,\"\")","v":""},{"$nulls":12},"",{"$nulls":8},0,"","","objektnogle_"]
[209,null,{"$f":"IF('1 - Opstart Importark'!$B$6=\"\",\"\",(IF('1 - Opstart Importark'!$B$15=\"\",CONCATENATE(LEFT('1 - Opstart Importark'!$B$3,1),(LEFT('1 - Opstart Importark'!$B$24,2)),LEFT('1 - Opstart Importark'!$B$28,3),IF(I220=\"\",\"\",\"-\"),I220,IF(K220=\"\",\"\",\"-\"),K220,IF(M220=\"\",\"\",\"-\"),M220,IF(O220=\"\",\"\",\"-\"),O220),CONCATENATE(LEFT('1 - Opstart Importark'!$B$3,1),(LEFT('1 - Opstart Importark'!$B$15,2)),(LEFT('1 - Opstart Importark'!$B$18,3)),IF(I220=\"\",\"\",\"-\"),I220,IF(K220=\"\",\"\",\"-\"),K220,IF(M220=\"\",\"\",\"-\"),M220,IF(O220=\"\",\"\",\"-\"),O220))))","v":""},null," ",{"$nulls":11},{"$f":"IF(LEN('1 - Opstart Importark'!$B$6)>0,'1 - Opstart Importark'!$B$6,\"\")","v":""},{"$f":"IF(LEN('1 - Opstart Importark'!$B$9)>0,'1 - Opstart Importark'!$B$9,\"\")","v":""},{"$f":"IF(LEN('1 - Opstart Importark'!$B$31)>0,'1 - Opstart Importark'!$B$31,\"\")","v":""},{"$nulls":12},"",{"$nulls":8},0,"","","objektnogle_"]
[210,null,{"$f":"IF('1 - Opstart Importark'!$B$6=\"\",\"\",(IF('1 - Opstart Importark'!$B$15=\"\",CONCATENATE(LEFT('1 - Opstart Importark'!$B$3,1),(LEFT('1 - Opstart Importark'!$B$24,2)),LEFT('1 - Opstart Importark'!$B$28,3),IF(I221=\"\",\"\",\"-\"),I221,IF(K221=\"\",\"\",\"-\"),K221,IF(M221=\"\",\"\",\"-\"),M221,IF(O221=\"\",\"\",\"-\"),O221),CONCATENATE(LEFT('1 - Opstart Importark'!$B$3,1),(LEFT('1 - Opstart Importark'!$B$15,2)),(LEFT('1 - Opstart Importark'!$B$18,3)),IF(I221=\"\",\"\",\"-\"),I221,IF(K221=\"\",\"\",\"-\"),K221,IF(M221=\"\",\"\",\"-\"),M221,IF(O221=\"\",\"\",\"-\"),O221))))","v":""},null," ",{"$nulls":11},{"$f":"IF(LEN('1 - Opstart Importark'!$B$6)>0,'1 - Opstart Importark'!$B$6,\"\")","v":""},{"$f":"IF(LEN('1 - Opstart Importark'!$B$9)>0,'1 - Opstart Importark'!$B$9,\"\")","v":""},{"$f":"IF(LEN('1 - Opstart Importark'!$B$31)>0,'1 - Opstart Importark'!$B$31,\"\")","v":""},{"$nulls":12},"",{"$nulls":8},0,"","","objektnogle_"]
[211,null,{"$f":"IF('1 - Opstart Importark'!$B$6=\"\",\"\",(IF('1 - Opstart Importark'!$B$15=\"\",CONCATENATE(LEFT('1 - Opstart Importark'!$B$3,1),(LEFT('1 - Opstart Importark'!$B$24,2)),LEFT('1 - Opstart Importark'!$B$28,3),IF(I222=\"\",\"\",\"-\"),I222,IF(K222=\"\",\"\",\"-\"),K222,IF(M222=\"\",\"\",\"-\"),M222,IF(O222=\"\",\"\",\"-\"),O222),CONCATENATE(LEFT('1 - Opstart Importark'!$B$3,1),(LEFT('1 - Opstart Importark'!$B$15,2)),(LEFT('1 - Opstart Importark'!$B$18,3)),IF(I222=\"\",\"\",\"-\"),I222,IF(K222=\"\",\"\",\"-\"),K222,IF(M222=\"\",\"\",\"-\"),M222,IF(O222=\"\",\"\",\"-\"),O222))))","v":""},null," ",{"$nulls":11},{"$f":"IF(LEN('1 - Opstart Importark'!$B$6)>0,'1 - Opstart Importark'!$B$6,\"\")","v":""},{"$f":"IF(LEN('1 - Opstart Importark'!$B$9)>0,'1 - Opstart Importark'!$B$9,\"\")","v":""},{"$f":"IF(LEN('1 - Opstart Importark'!$B$31)>0,'1 - Opstart Importark'!$B$31,\"\")","v":""},{"$nulls":12},"",{"$nulls":8},0,"","","objektnogle_"]
[212,null,{"$f":"IF('1 - Opstart Importark'!$B$6=\"\",\"\",(IF('1 - Opstart Importark'!$B$15=\"\",CONCATENATE(LEFT('1 - Opstart Importark'!$B$3,1),(LEFT('1 - Opstart Importark'!$B$24,2)),LEFT('1 - Opstart Importark'!$B$28,3),IF(I223=\"\",\"\",\"-\"),I223,IF(K223=\"\",\"\",\"-\"),K223,IF(M223=\"\",\"\",\"-\"),M223,IF(O223=\"\",\"\",\"-\"),O223),CONCATENATE(LEFT('1 - Opstart Importark'!$B$3,1),(LEFT('1 - Opstart Importark'!$B$15,2)),(LEFT('1 - Opstart Importark'!$B$18,3)),IF(I223=\"\",\"\",\"-\"),I223,IF(K223=\"\",\"\",\"-\"),K223,IF(M223=\"\",\"\",\"-\"),M223,IF(O223=\"\",\"\",\"-\"),O223))))","v":""},null," ",{"$nulls":11},{"$f":"IF(LEN('1 - Opstart Importark'!$B$6)>0,'1 - Opstart Importark'!$B$6,\"\")","v":""},{"$f":"IF(LEN('1 - Opstart Importark'!$B$9)>0,'1 - Opstart Importark'!$B$9,\"\")","v":""},{"$f":"IF(LEN('1 - Opstart Importark'!$B$31)>0,'1 - Opstart Importark'!$B$31,\"\")","v":""},{"$nulls":12},"",{"$nulls":8},0,"","","objektnogle_"]
[213,null,{"$f":"IF('1 - Opstart Importark'!$B$6=\"\",\"\",(IF('1 - Opstart Importark'!$B$15=\"\",CONCATENATE(LEFT('1 - Opstart Importark'!$B$3,1),(LEFT('1 - Opstart Importark'!$B$24,2)),LEFT('1 - Opstart Importark'!$B$28,3),IF(I224=\"\",\"\",\"-\"),I224,IF(K224=\"\",\"\",\"-\"),K224,IF(M224=\"\",\"\",\"-\"),M224,IF(O224=\"\",\"\",\"-\"),O224),CONCATENATE(LEFT('1 - Opstart Importark'!$B$3,1),(LEFT('1 - Opstart Importark'!$B$15,2)),(LEFT('1 - Opstart Importark'!$B$18,3)),IF(I224=\"\",\"\",\"-\"),I224,IF(K224=\"\",\"\",\"-\"),K224,IF(M224=\"\",\"\",\"-\"),M224,IF(O224=\"\",\"\",\"-\"),O224))))","v":""},null," ",{"$nulls":11},{"$f":"IF(LEN('1 - Opstart Importark'!$B$6)>0,'1 - Opstart Importark'!$B$6,\"\")","v":""},{"$f":"IF(LEN('1 - Opstart Importark'!$B$9)>0,'1 - Opstart Importark'!$B$9,\"\")","v":""},{"$f":"IF(LEN('1 - Opstart Importark'!$B$31)>0,'1 - Opstart Importark'!$B$31,\"\")","v":""},{"$nulls":12},"",{"$nulls":8},0,"","","objektnogle_"]
[214,null,{"$f":"IF('1 - Opstart Importark'!$B$6=\"\",\"\",(IF('1 - Opstart Importark'!$B$15=\"\",CONCATENATE(LEFT('1 - Opstart Importark'!$B$3,1),(LEFT('1 - Opstart Importark'!$B$24,2)),LEFT('1 - Opstart Importark'!$B$28,3),IF(I225=\"\",\"\",\"-\"),I225,IF(K225=\"\",\"\",\"-\"),K225,IF(M225=\"\",\"\",\"-\"),M225,IF(O225=\"\",\"\",\"-\"),O225),CONCATENATE(LEFT('1 - Opstart Importark'!$B$3,1),(LEFT('1 - Opstart Importark'!$B$15,2)),(LEFT('1 - Opstart Importark'!$B$18,3)),IF(I225=\"\",\"\",\"-\"),I225,IF(K225=\"\",\"\",\"-\"),K225,IF(M225=\"\",\"\",\"-\"),M225,IF(O225=\"\",\"\",\"-\"),O225))))","v":""},null," ",{"$nulls":11},{"$f":"IF(LEN('1 - Opstart Importark'!$B$6)>0,'1 - Opstart Importark'!$B$6,\"\")","v":""},{"$f":"IF(LEN('1 - Opstart Importark'!$B$9)>0,'1 - Opstart Importark'!$B$9,\"\")","v":""},{"$f":"IF(LEN('1 - Opstart Importark'!$B$31)>0,'1 - Opstart Importark'!$B$31,\"\")","v":""},{"$nulls":12},"",{"$nulls":8},0,"","","objektnogle_"]
[215,null,{"$f":"IF('1 - Opstart Importark'!$B$6=\"\",\"\",(IF('1 - Opstart Importark'!$B$15=\"\",CONCATENATE(LEFT('1 - Opstart Importark'!$B$3,1),(LEFT('1 - Opstart Importark'!$B$24,2)),LEFT('1 - Opstart Importark'!$B$28,3),IF(I226=\"\",\"\",\"-\"),I226,IF(K226=\"\",\"\",\"-\"),K226,IF(M226=\"\",\"\",\"-\"),M226,IF(O226=\"\",\"\",\"-\"),O226),CONCATENATE(LEFT('1 - Opstart Importark'!$B$3,1),(LEFT('1 - Opstart Importark'!$B$15,2)),(LEFT('1 - Opstart Importark'!$B$18,3)),IF(I226=\"\",\"\",\"-\"),I226,IF(K226=\"\",\"\",\"-\"),K226,IF(M226=\"\",\"\",\"-\"),M226,IF(O226=\"\",\"\",\"-\"),O226))))","v":""},null," ",{"$nulls":11},{"$f":"IF(LEN('1 - Opstart Importark'!$B$6)>0,'1 - Opstart Importark'!$B$6,\"\")","v":""},{"$f":"IF(LEN('1 - Opstart Importark'!$B$9)>0,'1 - Opstart Importark'!$B$9,\"\")","v":""},{"$f":"IF(LEN('1 - Opstart Importark'!$B$31)>0,'1 - Opstart Importark'!$B$31,\"\")","v":""},{"$nulls":12},"",{"$nulls":8},0,"","","objektnogle_"]
[216,null,{"$f":"IF('1 - Opstart Importark'!$B$6=\"\",\"\",(IF('1 - Opstart Importark'!$B$15=\"\",CONCATENATE(LEFT('1 - Opstart Importark'!$B$3,1),(LEFT('1 - Opstart Importark'!$B$24,2)),LEFT('1 - Opstart Importark'!$B$28,3),IF(I227=\"\",\"\",\"-\"),I227,IF(K227=\"\",\"\",\"-\"),K227,IF(M227=\"\",\"\",\"-\"),M227,IF(O227=\"\",\"\",\"-\"),O227),CONCATENATE(LEFT('1 - Opstart Importark'!$B$3,1),(LEFT('1 - Opstart Importark'!$B$15,2)),(LEFT('1 - Opstart Importark'!$B$18,3)),IF(I227=\"\",\"\",\"-\"),I227,IF(K227=\"\",\"\",\"-\"),K227,IF(M227=\"\",\"\",\"-\"),M227,IF(O227=\"\",\"\",\"-\"),O227))))","v":""},null," ",{"$nulls":11},{"$f":"IF(LEN('1 - Opstart Importark'!$B$6)>0,'1 - Opstart Importark'!$B$6,\"\")","v":""},{"$f":"IF(LEN('1 - Opstart Importark'!$B$9)>0,'1 - Opstart Importark'!$B$9,\"\")","v":""},{"$f":"IF(LEN('1 - Opstart Importark'!$B$31)>0,'1 - Opstart Importark'!$B$31,\"\")","v":""},{"$nulls":12},"",{"$nulls":8},0,"","","objektnogle_"]
[217,null,{"$f":"IF('1 - Opstart Importark'!$B$6=\"\",\"\",(IF('1 - Opstart Importark'!$B$15=\"\",CONCATENATE(LEFT('1 - Opstart Importark'!$B$3,1),(LEFT('1 - Opstart Importark'!$B$24,2)),LEFT('1 - Opstart Importark'!$B$28,3),IF(I228=\"\",\"\",\"-\"),I228,IF(K228=\"\",\"\",\"-\"),K228,IF(M228=\"\",\"\",\"-\"),M228,IF(O228=\"\",\"\",\"-\"),O228),CONCATENATE(LEFT('1 - Opstart Importark'!$B$3,1),(LEFT('1 - Opstart Importark'!$B$15,2)),(LEFT('1 - Opstart Importark'!$B$18,3)),IF(I228=\"\",\"\",\"-\"),I228,IF(K228=\"\",\"\",\"-\"),K228,IF(M228=\"\",\"\",\"-\"),M228,IF(O228=\"\",\"\",\"-\"),O228))))","v":""},null," ",{"$nulls":11},{"$f":"IF(LEN('1 - Opstart Importark'!$B$6)>0,'1 - Opstart Importark'!$B$6,\"\")","v":""},{"$f":"IF(LEN('1 - Opstart Importark'!$B$9)>0,'1 - Opstart Importark'!$B$9,\"\")","v":""},{"$f":"IF(LEN('1 - Opstart Importark'!$B$31)>0,'1 - Opstart Importark'!$B$31,\"\")","v":""},{"$nulls":12},"",{"$nulls":8},0,"","","objektnogle_"]
[218,null,{"$f":"IF('1 - Opstart Importark'!$B$6=\"\",\"\",(IF('1 - Opstart Importark'!$B$15=\"\",CONCATENATE(LEFT('1 - Opstart Importark'!$B$3,1),(LEFT('1 - Opstart Importark'!$B$24,2)),LEFT('1 - Opstart Importark'!$B$28,3),IF(I229=\"\",\"\",\"-\"),I229,IF(K229=\"\",\"\",\"-\"),K229,IF(M229=\"\",\"\",\"-\"),M229,IF(O229=\"\",\"\",\"-\"),O229),CONCATENATE(LEFT('1 - Opstart Importark'!$B$3,1),(LEFT('1 - Opstart Importark'!$B$15,2)),(LEFT('1 - Opstart Importark'!$B$18,3)),IF(I229=\"\",\"\",\"-\"),I229,IF(K229=\"\",\"\",\"-\"),K229,IF(M229=\"\",\"\",\"-\"),M229,IF(O229=\"\",\"\",\"-\"),O229))))","v":""},null," ",{"$nulls":11},{"$f":"IF(LEN('1 - Opstart Importark'!$B$6)>0,'1 - Opstart Importark'!$B$6,\"\")","v":""},{"$f":"IF(LEN('1 - Opstart Importark'!$B$9)>0,'1 - Opstart Importark'!$B$9,\"\")","v":""},{"$f":"IF(LEN('1 - Opstart Importark'!$B$31)>0,'1 - Opstart Importark'!$B$31,\"\")","v":""},{"$nulls":12},"",{"$nulls":8},0,"","","objektnogle_"]
[219,null,{"$f":"IF('1 - Opstart Importark'!$B$6=\"\",\"\",(IF('1 - Opstart Importark'!$B$15=\"\",CONCATENATE(LEFT('1 - Opstart Importark'!$B$3,1),(LEFT('1 - Opstart Importark'!$B$24,2)),LEFT('1 - Opstart Importark'!$B$28,3),IF(I230=\"\",\"\",\"-\"),I230,IF(K230=\"\",\"\",\"-\"),K230,IF(M230=\"\",\"\",\"-\"),M230,IF(O230=\"\",\"\",\"-\"),O230),CONCATENATE(LEFT('1 - Opstart Importark'!$B$3,1),(LEFT('1 - Opstart Importark'!$B$15,2)),(LEFT('1 - Opstart Importark'!$B$18,3)),IF(I230=\"\",\"\",\"-\"),I230,IF(K230=\"\",\"\",\"-\"),K230,IF(M230=\"\",\"\",\"-\"),M230,IF(O230=\"\",\"\",\"-\"),O230))))","v":""},null," ",{"$nulls":11},{"$f":"IF(LEN('1 - Opstart Importark'!$B$6)>0,'1 - Opstart Importark'!$B$6,\"\")","v":""},{"$f":"IF(LEN('1 - Opstart Importark'!$B$9)>0,'1 - Opstart Importark'!$B$9,\"\")","v":""},{"$f":"IF(LEN('1 - Opstart Importark'!$B$31)>0,'1 - Opstart Importark'!$B$31,\"\")","v":""},{"$nulls":12},"",{"$nulls":8},0,"","","objektnogle_"]
[220,null,{"$f":"IF('1 - Opstart Importark'!$B$6=\"\",\"\",(IF('1 - Opstart Importark'!$B$15=\"\",CONCATENATE(LEFT('1 - Opstart Importark'!$B$3,1),(LEFT('1 - Opstart Importark'!$B$24,2)),LEFT('1 - Opstart Importark'!$B$28,3),IF(I231=\"\",\"\",\"-\"),I231,IF(K231=\"\",\"\",\"-\"),K231,IF(M231=\"\",\"\",\"-\"),M231,IF(O231=\"\",\"\",\"-\"),O231),CONCATENATE(LEFT('1 - Opstart Importark'!$B$3,1),(LEFT('1 - Opstart Importark'!$B$15,2)),(LEFT('1 - Opstart Importark'!$B$18,3)),IF(I231=\"\",\"\",\"-\"),I231,IF(K231=\"\",\"\",\"-\"),K231,IF(M231=\"\",\"\",\"-\"),M231,IF(O231=\"\",\"\",\"-\"),O231))))","v":""},null," ",{"$nulls":11},{"$f":"IF(LEN('1 - Opstart Importark'!$B$6)>0,'1 - Opstart Importark'!$B$6,\"\")","v":""},{"$f":"IF(LEN('1 - Opstart Importark'!$B$9)>0,'1 - Opstart Importark'!$B$9,\"\")","v":""},{"$f":"IF(LEN('1 - Opstart Importark'!$B$31)>0,'1 - Opstart Importark'!$B$31,\"\")","v":""},{"$nulls":12},"",{"$nulls":8},0,"","","objektnogle_"]
[221,null,{"$f":"IF('1 - Opstart Importark'!$B$6=\"\",\"\",(IF('1 - Opstart Importark'!$B$15=\"\",CONCATENATE(LEFT('1 - Opstart Importark'!$B$3,1),(LEFT('1 - Opstart Importark'!$B$24,2)),LEFT('1 - Opstart Importark'!$B$28,3),IF(I232=\"\",\"\",\"-\"),I232,IF(K232=\"\",\"\",\"-\"),K232,IF(M232=\"\",\"\",\"-\"),M232,IF(O232=\"\",\"\",\"-\"),O232),CONCATENATE(LEFT('1 - Opstart Importark'!$B$3,1),(LEFT('1 - Opstart Importark'!$B$15,2)),(LEFT('1 - Opstart Importark'!$B$18,3)),IF(I232=\"\",\"\",\"-\"),I232,IF(K232=\"\",\"\",\"-\"),K232,IF(M232=\"\",\"\",\"-\"),M232,IF(O232=\"\",\"\",\"-\"),O232))))","v":""},null," ",{"$nulls":11},{"$f":"IF(LEN('1 - Opstart Importark'!$B$6)>0,'1 - Opstart Importark'!$B$6,\"\")","v":""},{"$f":"IF(LEN('1 - Opstart Importark'!$B$9)>0,'1 - Opstart Importark'!$B$9,\"\")","v":""},{"$f":"IF(LEN('1 - Opstart Importark'!$B$31)>0,'1 - Opstart Importark'!$B$31,\"\")","v":""},{"$nulls":12},"",{"$nulls":8},0,"","","objektnogle_"]
[222,null,{"$f":"IF('1 - Opstart Importark'!$B$6=\"\",\"\",(IF('1 - Opstart Importark'!$B$15=\"\",CONCATENATE(LEFT('1 - Opstart Importark'!$B$3,1),(LEFT('1 - Opstart Importark'!$B$24,2)),LEFT('1 - Opstart Importark'!$B$28,3),IF(I233=\"\",\"\",\"-\"),I233,IF(K233=\"\",\"\",\"-\"),K233,IF(M233=\"\",\"\",\"-\"),M233,IF(O233=\"\",\"\",\"-\"),O233),CONCATENATE(LEFT('1 - Opstart Importark'!$B$3,1),(LEFT('1 - Opstart Importark'!$B$15,2)),(LEFT('1 - Opstart Importark'!$B$18,3)),IF(I233=\"\",\"\",\"-\"),I233,IF(K233=\"\",\"\",\"-\"),K233,IF(M233=\"\",\"\",\"-\"),M233,IF(O233=\"\",\"\",\"-\"),O233))))","v":""},null," ",{"$nulls":11},{"$f":"IF(LEN('1 - Opstart Importark'!$B$6)>0,'1 - Opstart Importark'!$B$6,\"\")","v":""},{"$f":"IF(LEN('1 - Opstart Importark'!$B$9)>0,'1 - Opstart Importark'!$B$9,\"\")","v":""},{"$f":"IF(LEN('1 - Opstart Importark'!$B$31)>0,'1 - Opstart Importark'!$B$31,\"\")","v":""},{"$nulls":12},"",{"$nulls":8},0,"","","objektnogle_"]
[223,null,{"$f":"IF('1 - Opstart Importark'!$B$6=\"\",\"\",(IF('1 - Opstart Importark'!$B$15=\"\",CONCATENATE(LEFT('1 - Opstart Importark'!$B$3,1),(LEFT('1 - Opstart Importark'!$B$24,2)),LEFT('1 - Opstart Importark'!$B$28,3),IF(I234=\"\",\"\",\"-\"),I234,IF(K234=\"\",\"\",\"-\"),K234,IF(M234=\"\",\"\",\"-\"),M234,IF(O234=\"\",\"\",\"-\"),O234),CONCATENATE(LEFT('1 - Opstart Importark'!$B$3,1),(LEFT('1 - Opstart Importark'!$B$15,2)),(LEFT('1 - Opstart Importark'!$B$18,3)),IF(I234=\"\",\"\",\"-\"),I234,IF(K234=\"\",\"\",\"-\"),K234,IF(M234=\"\",\"\",\"-\"),M234,IF(O234=\"\",\"\",\"-\"),O234))))","v":""},null," ",{"$nulls":11},{"$f":"IF(LEN('1 - Opstart Importark'!$B$6)>0,'1 - Opstart Importark'!$B$6,\"\")","v":""},{"$f":"IF(LEN('1 - Opstart Importark'!$B$9)>0,'1 - Opstart Importark'!$B$9,\"\")","v":""},{"$f":"IF(LEN('1 - Opstart Importark'!$B$31)>0,'1 - Opstart Importark'!$B$31,\"\")","v":""},{"$nulls":12},"",{"$nulls":8},0,"","","objektnogle_"]
[224,null,{"$f":"IF('1 - Opstart Importark'!$B$6=\"\",\"\",(IF('1 - Opstart Importark'!$B$15=\"\",CONCATENATE(LEFT('1 - Opstart Importark'!$B$3,1),(LEFT('1 - Opstart Importark'!$B$24,2)),LEFT('1 - Opstart Importark'!$B$28,3),IF(I235=\"\",\"\",\"-\"),I235,IF(K235=\"\",\"\",\"-\"),K235,IF(M235=\"\",\"\",\"-\"),M235,IF(O235=\"\",\"\",\"-\"),O235),CONCATENATE(LEFT('1 - Opstart Importark'!$B$3,1),(LEFT('1 - Opstart Importark'!$B$15,2)),(LEFT('1 - Opstart Importark'!$B$18,3)),IF(I235=\"\",\"\",\"-\"),I235,IF(K235=\"\",\"\",\"-\"),K235,IF(M235=\"\",\"\",\"-\"),M235,IF(O235=\"\",\"\",\"-\"),O235))))","v":""},null," ",{"$nulls":11},{"$f":"IF(LEN('1 - Opstart Importark'!$B$6)>0,'1 - Opstart Importark'!$B$6,\"\")","v":""},{"$f":"IF(LEN('1 - Opstart Importark'!$B$9)>0,'1 - Opstart Importark'!$B$9,\"\")","v":""},{"$f":"IF(LEN('1 - Opstart Importark'!$B$31)>0,'1 - Opstart Importark'!$B$31,\"\")","v":""},{"$nulls":12},"",{"$nulls":8},0,"","","objektnogle_"]
[225,null,{"$f":"IF('1 - Opstart Importark'!$B$6=\"\",\"\",(IF('1 - Opstart Importark'!$B$15=\"\",CONCATENATE(LEFT('1 - Opstart Importark'!$B$3,1),(LEFT('1 - Opstart Importark'!$B$24,2)),LEFT('1 - Opstart Importark'!$B$28,3),IF(I236=\"\",\"\",\"-\"),I236,IF(K236=\"\",\"\",\"-\"),K236,IF(M236=\"\",\"\",\"-\"),M236,IF(O236=\"\",\"\",\"-\"),O236),CONCATENATE(LEFT('1 - Opstart Importark'!$B$3,1),(LEFT('1 - Opstart Importark'!$B$15,2)),(LEFT('1 - Opstart Importark'!$B$18,3)),IF(I236=\"\",\"\",\"-\"),I236,IF(K236=\"\",\"\",\"-\"),K236,IF(M236=\"\",\"\",\"-\"),M236,IF(O236=\"\",\"\",\"-\"),O236))))","v":""},null," ",{"$nulls":11},{"$f":"IF(LEN('1 - Opstart Importark'!$B$6)>0,'1 - Opstart Importark'!$B$6,\"\")","v":""},{"$f":"IF(LEN('1 - Opstart Importark'!$B$9)>0,'1 - Opstart Importark'!$B$9,\"\")","v":""},{"$f":"IF(LEN('1 - Opstart Importark'!$B$31)>0,'1 - Opstart Importark'!$B$31,\"\")","v":""},{"$nulls":12},"",{"$nulls":8},0,"","","objektnogle_"]
[226,null,{"$f":"IF('1 - Opstart Importark'!$B$6=\"\",\"\",(IF('1 - Opstart Importark'!$B$15=\"\",CONCATENATE(LEFT('1 - Opstart Importark'!$B$3,1),(LEFT('1 - Opstart Importark'!$B$24,2)),LEFT('1 - Opstart Importark'!$B$28,3),IF(I237=\"\",\"\",\"-\"),I237,IF(K237=\"\",\"\",\"-\"),K237,IF(M237=\"\",\"\",\"-\"),M237,IF(O237=\"\",\"\",\"-\"),O237),CONCATENATE(LEFT('1 - Opstart Importark'!$B$3,1),(LEFT('1 - Opstart Importark'!$B$15,2)),(LEFT('1 - Opstart Importark'!$B$18,3)),IF(I237=\"\",\"\",\"-\"),I237,IF(K237=\"\",\"\",\"-\"),K237,IF(M237=\"\",\"\",\"-\"),M237,IF(O237=\"\",\"\",\"-\"),O237))))","v":""},null," ",{"$nulls":11},{"$f":"IF(LEN('1 - Opstart Importark'!$B$6)>0,'1 - Opstart Importark'!$B$6,\"\")","v":""},{"$f":"IF(LEN('1 - Opstart Importark'!$B$9)>0,'1 - Opstart Importark'!$B$9,\"\")","v":""},{"$f":"IF(LEN('1 - Opstart Importark'!$B$31)>0,'1 - Opstart Importark'!$B$31,\"\")","v":""},{"$nulls":12},"",{"$nulls":8},0,"","","objektnogle_"]
[227,null,{"$f":"IF('1 - Opstart Importark'!$B$6=\"\",\"\",(IF('1 - Opstart Importark'!$B$15=\"\",CONCATENATE(LEFT('1 - Opstart Importark'!$B$3,1),(LEFT('1 - Opstart Importark'!$B$24,2)),LEFT('1 - Opstart Importark'!$B$28,3),IF(I238=\"\",\"\",\"-\"),I238,IF(K238=\"\",\"\",\"-\"),K238,IF(M238=\"\",\"\",\"-\"),M238,IF(O238=\"\",\"\",\"-\"),O238),CONCATENATE(LEFT('1 - Opstart Importark'!$B$3,1),(LEFT('1 - Opstart Importark'!$B$15,2)),(LEFT('1 - Opstart Importark'!$B$18,3)),IF(I238=\"\",\"\",\"-\"),I238,IF(K238=\"\",\"\",\"-\"),K238,IF(M238=\"\",\"\",\"-\"),M238,IF(O238=\"\",\"\",\"-\"),O238))))","v":""},null," ",{"$nulls":11},{"$f":"IF(LEN('1 - Opstart Importark'!$B$6)>0,'1 - Opstart Importark'!$B$6,\"\")","v":""},{"$f":"IF(LEN('1 - Opstart Importark'!$B$9)>0,'1 - Opstart Importark'!$B$9,\"\")","v":""},{"$f":"IF(LEN('1 - Opstart Importark'!$B$31)>0,'1 - Opstart Importark'!$B$31,\"\")","v":""},{"$nulls":12},"",{"$nulls":8},0,"","","objektnogle_"]
[228,null,{"$f":"IF('1 - Opstart Importark'!$B$6=\"\",\"\",(IF('1 - Opstart Importark'!$B$15=\"\",CONCATENATE(LEFT('1 - Opstart Importark'!$B$3,1),(LEFT('1 - Opstart Importark'!$B$24,2)),LEFT('1 - Opstart Importark'!$B$28,3),IF(I239=\"\",\"\",\"-\"),I239,IF(K239=\"\",\"\",\"-\"),K239,IF(M239=\"\",\"\",\"-\"),M239,IF(O239=\"\",\"\",\"-\"),O239),CONCATENATE(LEFT('1 - Opstart Importark'!$B$3,1),(LEFT('1 - Opstart Importark'!$B$15,2)),(LEFT('1 - Opstart Importark'!$B$18,3)),IF(I239=\"\",\"\",\"-\"),I239,IF(K239=\"\",\"\",\"-\"),K239,IF(M239=\"\",\"\",\"-\"),M239,IF(O239=\"\",\"\",\"-\"),O239))))","v":""},null," ",{"$nulls":11},{"$f":"IF(LEN('1 - Opstart Importark'!$B$6)>0,'1 - Opstart Importark'!$B$6,\"\")","v":""},{"$f":"IF(LEN('1 - Opstart Importark'!$B$9)>0,'1 - Opstart Importark'!$B$9,\"\")","v":""},{"$f":"IF(LEN('1 - Opstart Importark'!$B$31)>0,'1 - Opstart Importark'!$B$31,\"\")","v":""},{"$nulls":12},"",{"$nulls":8},0,"","","objektnogle_"]
[229,null,{"$f":"IF('1 - Opstart Importark'!$B$6=\"\",\"\",(IF('1 - Opstart Importark'!$B$15=\"\",CONCATENATE(LEFT('1 - Opstart Importark'!$B$3,1),(LEFT('1 - Opstart Importark'!$B$24,2)),LEFT('1 - Opstart Importark'!$B$28,3),IF(I240=\"\",\"\",\"-\"),I240,IF(K240=\"\",\"\",\"-\"),K240,IF(M240=\"\",\"\",\"-\"),M240,IF(O240=\"\",\"\",\"-\"),O240),CONCATENATE(LEFT('1 - Opstart Importark'!$B$3,1),(LEFT('1 - Opstart Importark'!$B$15,2)),(LEFT('1 - Opstart Importark'!$B$18,3)),IF(I240=\"\",\"\",\"-\"),I240,IF(K240=\"\",\"\",\"-\"),K240,IF(M240=\"\",\"\",\"-\"),M240,IF(O240=\"\",\"\",\"-\"),O240))))","v":""},null," ",{"$nulls":11},{"$f":"IF(LEN('1 - Opstart Importark'!$B$6)>0,'1 - Opstart Importark'!$B$6,\"\")","v":""},{"$f":"IF(LEN('1 - Opstart Importark'!$B$9)>0,'1 - Opstart Importark'!$B$9,\"\")","v":""},{"$f":"IF(LEN('1 - Opstart Importark'!$B$31)>0,'1 - Opstart Importark'!$B$31,\"\")","v":""},{"$nulls":12},"",{"$nulls":8},0,"","","objektnogle_"]
[230,null,{"$f":"IF('1 - Opstart Importark'!$B$6=\"\",\"\",(IF('1 - Opstart Importark'!$B$15=\"\",CONCATENATE(LEFT('1 - Opstart Importark'!$B$3,1),(LEFT('1 - Opstart Importark'!$B$24,2)),LEFT('1 - Opstart Importark'!$B$28,3),IF(I241=\"\",\"\",\"-\"),I241,IF(K241=\"\",\"\",\"-\"),K241,IF(M241=\"\",\"\",\"-\"),M241,IF(O241=\"\",\"\",\"-\"),O241),CONCATENATE(LEFT('1 - Opstart Importark'!$B$3,1),(LEFT('1 - Opstart Importark'!$B$15,2)),(LEFT('1 - Opstart Importark'!$B$18,3)),IF(I241=\"\",\"\",\"-\"),I241,IF(K241=\"\",\"\",\"-\"),K241,IF(M241=\"\",\"\",\"-\"),M241,IF(O241=\"\",\"\",\"-\"),O241))))","v":""},null," ",{"$nulls":11},{"$f":"IF(LEN('1 - Opstart Importark'!$B$6)>0,'1 - Opstart Importark'!$B$6,\"\")","v":""},{"$f":"IF(LEN('1 - Opstart Importark'!$B$9)>0,'1 - Opstart Importark'!$B$9,\"\")","v":""},{"$f":"IF(LEN('1 - Opstart Importark'!$B$31)>0,'1 - Opstart Importark'!$B$31,\"\")","v":""},{"$nulls":12},"",{"$nulls":8},0,"","","objektnogle_"]
[231,null,{"$f":"IF('1 - Opstart Importark'!$B$6=\"\",\"\",(IF('1 - Opstart Importark'!$B$15=\"\",CONCATENATE(LEFT('1 - Opstart Importark'!$B$3,1),(LEFT('1 - Opstart Importark'!$B$24,2)),LEFT('1 - Opstart Importark'!$B$28,3),IF(I242=\"\",\"\",\"-\"),I242,IF(K242=\"\",\"\",\"-\"),K242,IF(M242=\"\",\"\",\"-\"),M242,IF(O242=\"\",\"\",\"-\"),O242),CONCATENATE(LEFT('1 - Opstart Importark'!$B$3,1),(LEFT('1 - Opstart Importark'!$B$15,2)),(LEFT('1 - Opstart Importark'!$B$18,3)),IF(I242=\"\",\"\",\"-\"),I242,IF(K242=\"\",\"\",\"-\"),K242,IF(M242=\"\",\"\",\"-\"),M242,IF(O242=\"\",\"\",\"-\"),O242))))","v":""},null," ",{"$nulls":11},{"$f":"IF(LEN('1 - Opstart Importark'!$B$6)>0,'1 - Opstart Importark'!$B$6,\"\")","v":""},{"$f":"IF(LEN('1 - Opstart Importark'!$B$9)>0,'1 - Opstart Importark'!$B$9,\"\")","v":""},{"$f":"IF(LEN('1 - Opstart Importark'!$B$31)>0,'1 - Opstart Importark'!$B$31,\"\")","v":""},{"$nulls":12},"",{"$nulls":8},0,"","","objektnogle_"]
[232,null,{"$f":"IF('1 - Opstart Importark'!$B$6=\"\",\"\",(IF('1 - Opstart Importark'!$B$15=\"\",CONCATENATE(LEFT('1 - Opstart Importark'!$B$3,1),(LEFT('1 - Opstart Importark'!$B$24,2)),LEFT('1 - Opstart Importark'!$B$28,3),IF(I243=\"\",\"\",\"-\"),I243,IF(K243=\"\",\"\",\"-\"),K243,IF(M243=\"\",\"\",\"-\"),M243,IF(O243=\"\",\"\",\"-\"),O243),CONCATENATE(LEFT('1 - Opstart Importark'!$B$3,1),(LEFT('1 - Opstart Importark'!$B$15,2)),(LEFT('1 - Opstart Importark'!$B$18,3)),IF(I243=\"\",\"\",\"-\"),I243,IF(K243=\"\",\"\",\"-\"),K243,IF(M243=\"\",\"\",\"-\"),M243,IF(O243=\"\",\"\",\"-\"),O243))))","v":""},null," ",{"$nulls":11},{"$f":"IF(LEN('1 - Opstart Importark'!$B$6)>0,'1 - Opstart Importark'!$B$6,\"\")","v":""},{"$f":"IF(LEN('1 - Opstart Importark'!$B$9)>0,'1 - Opstart Importark'!$B$9,\"\")","v":""},{"$f":"IF(LEN('1 - Opstart Importark'!$B$31)>0,'1 - Opstart Importark'!$B$31,\"\")","v":""},{"$nulls":12},"",{"$nulls":8},0,"","","objektnogle_"]
[233,null,{"$f":"IF('1 - Opstart Importark'!$B$6=\"\",\"\",(IF('1 - Opstart Importark'!$B$15=\"\",CONCATENATE(LEFT('1 - Opstart Importark'!$B$3,1),(LEFT('1 - Opstart Importark'!$B$24,2)),LEFT('1 - Opstart Importark'!$B$28,3),IF(I244=\"\",\"\",\"-\"),I244,IF(K244=\"\",\"\",\"-\"),K244,IF(M244=\"\",\"\",\"-\"),M244,IF(O244=\"\",\"\",\"-\"),O244),CONCATENATE(LEFT('1 - Opstart Importark'!$B$3,1),(LEFT('1 - Opstart Importark'!$B$15,2)),(LEFT('1 - Opstart Importark'!$B$18,3)),IF(I244=\"\",\"\",\"-\"),I244,IF(K244=\"\",\"\",\"-\"),K244,IF(M244=\"\",\"\",\"-\"),M244,IF(O244=\"\",\"\",\"-\"),O244))))","v":""},null," ",{"$nulls":11},{"$f":"IF(LEN('1 - Opstart Importark'!$B$6)>0,'1 - Opstart Importark'!$B$6,\"\")","v":""},{"$f":"IF(LEN('1 - Opstart Importark'!$B$9)>0,'1 - Opstart Importark'!$B$9,\"\")","v":""},{"$f":"IF(LEN('1 - Opstart Importark'!$B$31)>0,'1 - Opstart Importark'!$B$31,\"\")","v":""},{"$nulls":12},"",{"$nulls":8},0,"","","objektnogle_"]
[234,null,{"$f":"IF('1 - Opstart Importark'!$B$6=\"\",\"\",(IF('1 - Opstart Importark'!$B$15=\"\",CONCATENATE(LEFT('1 - Opstart Importark'!$B$3,1),(LEFT('1 - Opstart Importark'!$B$24,2)),LEFT('1 - Opstart Importark'!$B$28,3),IF(I245=\"\",\"\",\"-\"),I245,IF(K245=\"\",\"\",\"-\"),K245,IF(M245=\"\",\"\",\"-\"),M245,IF(O245=\"\",\"\",\"-\"),O245),CONCATENATE(LEFT('1 - Opstart Importark'!$B$3,1),(LEFT('1 - Opstart Importark'!$B$15,2)),(LEFT('1 - Opstart Importark'!$B$18,3)),IF(I245=\"\",\"\",\"-\"),I245,IF(K245=\"\",\"\",\"-\"),K245,IF(M245=\"\",\"\",\"-\"),M245,IF(O245=\"\",\"\",\"-\"),O245))))","v":""},null," ",{"$nulls":11},{"$f":"IF(LEN('1 - Opstart Importark'!$B$6)>0,'1 - Opstart Importark'!$B$6,\"\")","v":""},{"$f":"IF(LEN('1 - Opstart Importark'!$B$9)>0,'1 - Opstart Importark'!$B$9,\"\")","v":""},{"$f":"IF(LEN('1 - Opstart Importark'!$B$31)>0,'1 - Opstart Importark'!$B$31,\"\")","v":""},{"$nulls":12},"",{"$nulls":8},0,"","","objektnogle_"]
[235,null,{"$f":"IF('1 - Opstart Importark'!$B$6=\"\",\"\",(IF('1 - Opstart Importark'!$B$15=\"\",CONCATENATE(LEFT('1 - Opstart Importark'!$B$3,1),(LEFT('1 - Opstart Importark'!$B$24,2)),LEFT('1 - Opstart Importark'!$B$28,3),IF(I246=\"\",\"\",\"-\"),I246,IF(K246=\"\",\"\",\"-\"),K246,IF(M246=\"\",\"\",\"-\"),M246,IF(O246=\"\",\"\",\"-\"),O246),CONCATENATE(LEFT('1 - Opstart Importark'!$B$3,1),(LEFT('1 - Opstart Importark'!$B$15,2)),(LEFT('1 - Opstart Importark'!$B$18,3)),IF(I246=\"\",\"\",\"-\"),I246,IF(K246=\"\",\"\",\"-\"),K246,IF(M246=\"\",\"\",\"-\"),M246,IF(O246=\"\",\"\",\"-\"),O246))))","v":""},null," ",{"$nulls":11},{"$f":"IF(LEN('1 - Opstart Importark'!$B$6)>0,'1 - Opstart Importark'!$B$6,\"\")","v":""},{"$f":"IF(LEN('1 - Opstart Importark'!$B$9)>0,'1 - Opstart Importark'!$B$9,\"\")","v":""},{"$f":"IF(LEN('1 - Opstart Importark'!$B$31)>0,'1 - Opstart Importark'!$B$31,\"\")","v":""},{"$nulls":12},"",{"$nulls":8},0,"","","objektnogle_"]
[236,null,{"$f":"IF('1 - Opstart Importark'!$B$6=\"\",\"\",(IF('1 - Opstart Importark'!$B$15=\"\",CONCATENATE(LEFT('1 - Opstart Importark'!$B$3,1),(LEFT('1 - Opstart Importark'!$B$24,2)),LEFT('1 - Opstart Importark'!$B$28,3),IF(I247=\"\",\"\",\"-\"),I247,IF(K247=\"\",\"\",\"-\"),K247,IF(M247=\"\",\"\",\"-\"),M247,IF(O247=\"\",\"\",\"-\"),O247),CONCATENATE(LEFT('1 - Opstart Importark'!$B$3,1),(LEFT('1 - Opstart Importark'!$B$15,2)),(LEFT('1 - Opstart Importark'!$B$18,3)),IF(I247=\"\",\"\",\"-\"),I247,IF(K247=\"\",\"\",\"-\"),K247,IF(M247=\"\",\"\",\"-\"),M247,IF(O247=\"\",\"\",\"-\"),O247))))","v":""},null," ",{"$nulls":11},{"$f":"IF(LEN('1 - Opstart Importark'!$B$6)>0,'1 - Opstart Importark'!$B$6,\"\")","v":""},{"$f":"IF(LEN('1 - Opstart Importark'!$B$9)>0,'1 - Opstart Importark'!$B$9,\"\")","v":""},{"$f":"IF(LEN('1 - Opstart Importark'!$B$31)>0,'1 - Opstart Importark'!$B$31,\"\")","v":""},{"$nulls":12},"",{"$nulls":8},0,"","","objektnogle_"]
[237,null,{"$f":"IF('1 - Opstart Importark'!$B$6=\"\",\"\",(IF('1 - Opstart Importark'!$B$15=\"\",CONCATENATE(LEFT('1 - Opstart Importark'!$B$3,1),(LEFT('1 - Opstart Importark'!$B$24,2)),LEFT('1 - Opstart Importark'!$B$28,3),IF(I248=\"\",\"\",\"-\"),I248,IF(K248=\"\",\"\",\"-\"),K248,IF(M248=\"\",\"\",\"-\"),M248,IF(O248=\"\",\"\",\"-\"),O248),CONCATENATE(LEFT('1 - Opstart Importark'!$B$3,1),(LEFT('1 - Opstart Importark'!$B$15,2)),(LEFT('1 - Opstart Importark'!$B$18,3)),IF(I248=\"\",\"\",\"-\"),I248,IF(K248=\"\",\"\",\"-\"),K248,IF(M248=\"\",\"\",\"-\"),M248,IF(O248=\"\",\"\",\"-\"),O248))))","v":""},null," ",{"$nulls":11},{"$f":"IF(LEN('1 - Opstart Importark'!$B$6)>0,'1 - Opstart Importark'!$B$6,\"\")","v":""},{"$f":"IF(LEN('1 - Opstart Importark'!$B$9)>0,'1 - Opstart Importark'!$B$9,\"\")","v":""},{"$f":"IF(LEN('1 - Opstart Importark'!$B$31)>0,'1 - Opstart Importark'!$B$31,\"\")","v":""},{"$nulls":12},"",{"$nulls":8},0,"","","objektnogle_"]
[238,null,{"$f":"IF('1 - Opstart Importark'!$B$6=\"\",\"\",(IF('1 - Opstart Importark'!$B$15=\"\",CONCATENATE(LEFT('1 - Opstart Importark'!$B$3,1),(LEFT('1 - Opstart Importark'!$B$24,2)),LEFT('1 - Opstart Importark'!$B$28,3),IF(I249=\"\",\"\",\"-\"),I249,IF(K249=\"\",\"\",\"-\"),K249,IF(M249=\"\",\"\",\"-\"),M249,IF(O249=\"\",\"\",\"-\"),O249),CONCATENATE(LEFT('1 - Opstart Importark'!$B$3,1),(LEFT('1 - Opstart Importark'!$B$15,2)),(LEFT('1 - Opstart Importark'!$B$18,3)),IF(I249=\"\",\"\",\"-\"),I249,IF(K249=\"\",\"\",\"-\"),K249,IF(M249=\"\",\"\",\"-\"),M249,IF(O249=\"\",\"\",\"-\"),O249))))","v":""},null," ",{"$nulls":11},{"$f":"IF(LEN('1 - Opstart Importark'!$B$6)>0,'1 - Opstart Importark'!$B$6,\"\")","v":""},{"$f":"IF(LEN('1 - Opstart Importark'!$B$9)>0,'1 - Opstart Importark'!$B$9,\"\")","v":""},{"$f":"IF(LEN('1 - Opstart Importark'!$B$31)>0,'1 - Opstart Importark'!$B$31,\"\")","v":""},{"$nulls":12},"",{"$nulls":8},0,"","","objektnogle_"]
[239,null,{"$f":"IF('1 - Opstart Importark'!$B$6=\"\",\"\",(IF('1 - Opstart Importark'!$B$15=\"\",CONCATENATE(LEFT('1 - Opstart Importark'!$B$3,1),(LEFT('1 - Opstart Importark'!$B$24,2)),LEFT('1 - Opstart Importark'!$B$28,3),IF(I250=\"\",\"\",\"-\"),I250,IF(K250=\"\",\"\",\"-\"),K250,IF(M250=\"\",\"\",\"-\"),M250,IF(O250=\"\",\"\",\"-\"),O250),CONCATENATE(LEFT('1 - Opstart Importark'!$B$3,1),(LEFT('1 - Opstart Importark'!$B$15,2)),(LEFT('1 - Opstart Importark'!$B$18,3)),IF(I250=\"\",\"\",\"-\"),I250,IF(K250=\"\",\"\",\"-\"),K250,IF(M250=\"\",\"\",\"-\"),M250,IF(O250=\"\",\"\",\"-\"),O250))))","v":""},null," ",{"$nulls":11},{"$f":"IF(LEN('1 - Opstart Importark'!$B$6)>0,'1 - Opstart Importark'!$B$6,\"\")","v":""},{"$f":"IF(LEN('1 - Opstart Importark'!$B$9)>0,'1 - Opstart Importark'!$B$9,\"\")","v":""},{"$f":"IF(LEN('1 - Opstart Importark'!$B$31)>0,'1 - Opstart Importark'!$B$31,\"\")","v":""},{"$nulls":12},"",{"$nulls":8},0,"","","objektnogle_"]
[240,null,{"$f":"IF('1 - Opstart Importark'!$B$6=\"\",\"\",(IF('1 - Opstart Importark'!$B$15=\"\",CONCATENATE(LEFT('1 - Opstart Importark'!$B$3,1),(LEFT('1 - Opstart Importark'!$B$24,2)),LEFT('1 - Opstart Importark'!$B$28,3),IF(I251=\"\",\"\",\"-\"),I251,IF(K251=\"\",\"\",\"-\"),K251,IF(M251=\"\",\"\",\"-\"),M251,IF(O251=\"\",\"\",\"-\"),O251),CONCATENATE(LEFT('1 - Opstart Importark'!$B$3,1),(LEFT('1 - Opstart Importark'!$B$15,2)),(LEFT('1 - Opstart Importark'!$B$18,3)),IF(I251=\"\",\"\",\"-\"),I251,IF(K251=\"\",\"\",\"-\"),K251,IF(M251=\"\",\"\",\"-\"),M251,IF(O251=\"\",\"\",\"-\"),O251))))","v":""},null," ",{"$nulls":11},{"$f":"IF(LEN('1 - Opstart Importark'!$B$6)>0,'1 - Opstart Importark'!$B$6,\"\")","v":""},{"$f":"IF(LEN('1 - Opstart Importark'!$B$9)>0,'1 - Opstart Importark'!$B$9,\"\")","v":""},{"$f":"IF(LEN('1 - Opstart Importark'!$B$31)>0,'1 - Opstart Importark'!$B$31,\"\")","v":""},{"$nulls":12},"",{"$nulls":8},0,"","","objektnogle_"]
[241,null,{"$f":"IF('1 - Opstart Importark'!$B$6=\"\",\"\",(IF('1 - Opstart Importark'!$B$15=\"\",CONCATENATE(LEFT('1 - Opstart Importark'!$B$3,1),(LEFT('1 - Opstart Importark'!$B$24,2)),LEFT('1 - Opstart Importark'!$B$28,3),IF(I252=\"\",\"\",\"-\"),I252,IF(K252=\"\",\"\",\"-\"),K252,IF(M252=\"\",\"\",\"-\"),M252,IF(O252=\"\",\"\",\"-\"),O252),CONCATENATE(LEFT('1 - Opstart Importark'!$B$3,1),(LEFT('1 - Opstart Importark'!$B$15,2)),(LEFT('1 - Opstart Importark'!$B$18,3)),IF(I252=\"\",\"\",\"-\"),I252,IF(K252=\"\",\"\",\"-\"),K252,IF(M252=\"\",\"\",\"-\"),M252,IF(O252=\"\",\"\",\"-\"),O252))))","v":""},null," ",{"$nulls":11},{"$f":"IF(LEN('1 - Opstart Importark'!$B$6)>0,'1 - Opstart Importark'!$B$6,\"\")","v":""},{"$f":"IF(LEN('1 - Opstart Importark'!$B$9)>0,'1 - Opstart Importark'!$B$9,\"\")","v":""},{"$f":"IF(LEN('1 - Opstart Importark'!$B$31)>0,'1 - Opstart Importark'!$B$31,\"\")","v":""},{"$nulls":12},"",{"$nulls":8},0,"","","objektnogle_"]
[242,null,{"$f":"IF('1 - Opstart Importark'!$B$6=\"\",\"\",(IF('1 - Opstart Importark'!$B$15=\"\",CONCATENATE(LEFT('1 - Opstart Importark'!$B$3,1),(LEFT('1 - Opstart Importark'!$B$24,2)),LEFT('1 - Opstart Importark'!$B$28,3),IF(I253=\"\",\"\",\"-\"),I253,IF(K253=\"\",\"\",\"-\"),K253,IF(M253=\"\",\"\",\"-\"),M253,IF(O253=\"\",\"\",\"-\"),O253),CONCATENATE(LEFT('1 - Opstart Importark'!$B$3,1),(LEFT('1 - Opstart Importark'!$B$15,2)),(LEFT('1 - Opstart Importark'!$B$18,3)),IF(I253=\"\",\"\",\"-\"),I253,IF(K253=\"\",\"\",\"-\"),K253,IF(M253=\"\",\"\",\"-\"),M253,IF(O253=\"\",\"\",\"-\"),O253))))","v":""},null," ",{"$nulls":11},{"$f":"IF(LEN('1 - Opstart Importark'!$B$6)>0,'1 - Opstart Importark'!$B$6,\"\")","v":""},{"$f":"IF(LEN('1 - Opstart Importark'!$B$9)>0,'1 - Opstart Importark'!$B$9,\"\")","v":""},{"$f":"IF(LEN('1 - Opstart Importark'!$B$31)>0,'1 - Opstart Importark'!$B$31,\"\")","v":""},{"$nulls":12},"",{"$nulls":8},0,"","","objektnogle_"]
[243,null,{"$f":"IF('1 - Opstart Importark'!$B$6=\"\",\"\",(IF('1 - Opstart Importark'!$B$15=\"\",CONCATENATE(LEFT('1 - Opstart Importark'!$B$3,1),(LEFT('1 - Opstart Importark'!$B$24,2)),LEFT('1 - Opstart Importark'!$B$28,3),IF(I254=\"\",\"\",\"-\"),I254,IF(K254=\"\",\"\",\"-\"),K254,IF(M254=\"\",\"\",\"-\"),M254,IF(O254=\"\",\"\",\"-\"),O254),CONCATENATE(LEFT('1 - Opstart Importark'!$B$3,1),(LEFT('1 - Opstart Importark'!$B$15,2)),(LEFT('1 - Opstart Importark'!$B$18,3)),IF(I254=\"\",\"\",\"-\"),I254,IF(K254=\"\",\"\",\"-\"),K254,IF(M254=\"\",\"\",\"-\"),M254,IF(O254=\"\",\"\",\"-\"),O254))))","v":""},null," ",{"$nulls":11},{"$f":"IF(LEN('1 - Opstart Importark'!$B$6)>0,'1 - Opstart Importark'!$B$6,\"\")","v":""},{"$f":"IF(LEN('1 - Opstart Importark'!$B$9)>0,'1 - Opstart Importark'!$B$9,\"\")","v":""},{"$f":"IF(LEN('1 - Opstart Importark'!$B$31)>0,'1 - Opstart Importark'!$B$31,\"\")","v":""},{"$nulls":12},"",{"$nulls":8},0,"","","objektnogle_"]
[244,null,{"$f":"IF('1 - Opstart Importark'!$B$6=\"\",\"\",(IF('1 - Opstart Importark'!$B$15=\"\",CONCATENATE(LEFT('1 - Opstart Importark'!$B$3,1),(LEFT('1 - Opstart Importark'!$B$24,2)),LEFT('1 - Opstart Importark'!$B$28,3),IF(I255=\"\",\"\",\"-\"),I255,IF(K255=\"\",\"\",\"-\"),K255,IF(M255=\"\",\"\",\"-\"),M255,IF(O255=\"\",\"\",\"-\"),O255),CONCATENATE(LEFT('1 - Opstart Importark'!$B$3,1),(LEFT('1 - Opstart Importark'!$B$15,2)),(LEFT('1 - Opstart Importark'!$B$18,3)),IF(I255=\"\",\"\",\"-\"),I255,IF(K255=\"\",\"\",\"-\"),K255,IF(M255=\"\",\"\",\"-\"),M255,IF(O255=\"\",\"\",\"-\"),O255))))","v":""},null," ",{"$nulls":11},{"$f":"IF(LEN('1 - Opstart Importark'!$B$6)>0,'1 - Opstart Importark'!$B$6,\"\")","v":""},{"$f":"IF(LEN('1 - Opstart Importark'!$B$9)>0,'1 - Opstart Importark'!$B$9,\"\")","v":""},{"$f":"IF(LEN('1 - Opstart Importark'!$B$31)>0,'1 - Opstart Importark'!$B$31,\"\")","v":""},{"$nulls":12},"",{"$nulls":8},0,"","","objektnogle_"]
[245,null,{"$f":"IF('1 - Opstart Importark'!$B$6=\"\",\"\",(IF('1 - Opstart Importark'!$B$15=\"\",CONCATENATE(LEFT('1 - Opstart Importark'!$B$3,1),(LEFT('1 - Opstart Importark'!$B$24,2)),LEFT('1 - Opstart Importark'!$B$28,3),IF(I256=\"\",\"\",\"-\"),I256,IF(K256=\"\",\"\",\"-\"),K256,IF(M256=\"\",\"\",\"-\"),M256,IF(O256=\"\",\"\",\"-\"),O256),CONCATENATE(LEFT('1 - Opstart Importark'!$B$3,1),(LEFT('1 - Opstart Importark'!$B$15,2)),(LEFT('1 - Opstart Importark'!$B$18,3)),IF(I256=\"\",\"\",\"-\"),I256,IF(K256=\"\",\"\",\"-\"),K256,IF(M256=\"\",\"\",\"-\"),M256,IF(O256=\"\",\"\",\"-\"),O256))))","v":""},null," ",{"$nulls":11},{"$f":"IF(LEN('1 - Opstart Importark'!$B$6)>0,'1 - Opstart Importark'!$B$6,\"\")","v":""},{"$f":"IF(LEN('1 - Opstart Importark'!$B$9)>0,'1 - Opstart Importark'!$B$9,\"\")","v":""},{"$f":"IF(LEN('1 - Opstart Importark'!$B$31)>0,'1 - Opstart Importark'!$B$31,\"\")","v":""},{"$nulls":12},"",{"$nulls":8},0,"","","objektnogle_"]
[246,null,{"$f":"IF('1 - Opstart Importark'!$B$6=\"\",\"\",(IF('1 - Opstart Importark'!$B$15=\"\",CONCATENATE(LEFT('1 - Opstart Importark'!$B$3,1),(LEFT('1 - Opstart Importark'!$B$24,2)),LEFT('1 - Opstart Importark'!$B$28,3),IF(I257=\"\",\"\",\"-\"),I257,IF(K257=\"\",\"\",\"-\"),K257,IF(M257=\"\",\"\",\"-\"),M257,IF(O257=\"\",\"\",\"-\"),O257),CONCATENATE(LEFT('1 - Opstart Importark'!$B$3,1),(LEFT('1 - Opstart Importark'!$B$15,2)),(LEFT('1 - Opstart Importark'!$B$18,3)),IF(I257=\"\",\"\",\"-\"),I257,IF(K257=\"\",\"\",\"-\"),K257,IF(M257=\"\",\"\",\"-\"),M257,IF(O257=\"\",\"\",\"-\"),O257))))","v":""},null," ",{"$nulls":11},{"$f":"IF(LEN('1 - Opstart Importark'!$B$6)>0,'1 - Opstart Importark'!$B$6,\"\")","v":""},{"$f":"IF(LEN('1 - Opstart Importark'!$B$9)>0,'1 - Opstart Importark'!$B$9,\"\")","v":""},{"$f":"IF(LEN('1 - Opstart Importark'!$B$31)>0,'1 - Opstart Importark'!$B$31,\"\")","v":""},{"$nulls":12},"",{"$nulls":8},0,"","","objektnogle_"]
[247,null,{"$f":"IF('1 - Opstart Importark'!$B$6=\"\",\"\",(IF('1 - Opstart Importark'!$B$15=\"\",CONCATENATE(LEFT('1 - Opstart Importark'!$B$3,1),(LEFT('1 - Opstart Importark'!$B$24,2)),LEFT('1 - Opstart Importark'!$B$28,3),IF(I258=\"\",\"\",\"-\"),I258,IF(K258=\"\",\"\",\"-\"),K258,IF(M258=\"\",\"\",\"-\"),M258,IF(O258=\"\",\"\",\"-\"),O258),CONCATENATE(LEFT('1 - Opstart Importark'!$B$3,1),(LEFT('1 - Opstart Importark'!$B$15,2)),(LEFT('1 - Opstart Importark'!$B$18,3)),IF(I258=\"\",\"\",\"-\"),I258,IF(K258=\"\",\"\",\"-\"),K258,IF(M258=\"\",\"\",\"-\"),M258,IF(O258=\"\",\"\",\"-\"),O258))))","v":""},null," ",{"$nulls":11},{"$f":"IF(LEN('1 - Opstart Importark'!$B$6)>0,'1 - Opstart Importark'!$B$6,\"\")","v":""},{"$f":"IF(LEN('1 - Opstart Importark'!$B$9)>0,'1 - Opstart Importark'!$B$9,\"\")","v":""},{"$f":"IF(LEN('1 - Opstart Importark'!$B$31)>0,'1 - Opstart Importark'!$B$31,\"\")","v":""},{"$nulls":12},"",{"$nulls":8},0,"","","objektnogle_"]
[248,null,{"$f":"IF('1 - Opstart Importark'!$B$6=\"\",\"\",(IF('1 - Opstart Importark'!$B$15=\"\",CONCATENATE(LEFT('1 - Opstart Importark'!$B$3,1),(LEFT('1 - Opstart Importark'!$B$24,2)),LEFT('1 - Opstart Importark'!$B$28,3),IF(I259=\"\",\"\",\"-\"),I259,IF(K259=\"\",\"\",\"-\"),K259,IF(M259=\"\",\"\",\"-\"),M259,IF(O259=\"\",\"\",\"-\"),O259),CONCATENATE(LEFT('1 - Opstart Importark'!$B$3,1),(LEFT('1 - Opstart Importark'!$B$15,2)),(LEFT('1 - Opstart Importark'!$B$18,3)),IF(I259=\"\",\"\",\"-\"),I259,IF(K259=\"\",\"\",\"-\"),K259,IF(M259=\"\",\"\",\"-\"),M259,IF(O259=\"\",\"\",\"-\"),O259))))","v":""},null," ",{"$nulls":11},{"$f":"IF(LEN('1 - Opstart Importark'!$B$6)>0,'1 - Opstart Importark'!$B$6,\"\")","v":""},{"$f":"IF(LEN('1 - Opstart Importark'!$B$9)>0,'1 - Opstart Importark'!$B$9,\"\")","v":""},{"$f":"IF(LEN('1 - Opstart Importark'!$B$31)>0,'1 - Opstart Importark'!$B$31,\"\")","v":""},{"$nulls":12},"",{"$nulls":8},0,"","","objektnogle_"]
[249,null,{"$f":"IF('1 - Opstart Importark'!$B$6=\"\",\"\",(IF('1 - Opstart Importark'!$B$15=\"\",CONCATENATE(LEFT('1 - Opstart Importark'!$B$3,1),(LEFT('1 - Opstart Importark'!$B$24,2)),LEFT('1 - Opstart Importark'!$B$28,3),IF(I260=\"\",\"\",\"-\"),I260,IF(K260=\"\",\"\",\"-\"),K260,IF(M260=\"\",\"\",\"-\"),M260,IF(O260=\"\",\"\",\"-\"),O260),CONCATENATE(LEFT('1 - Opstart Importark'!$B$3,1),(LEFT('1 - Opstart Importark'!$B$15,2)),(LEFT('1 - Opstart Importark'!$B$18,3)),IF(I260=\"\",\"\",\"-\"),I260,IF(K260=\"\",\"\",\"-\"),K260,IF(M260=\"\",\"\",\"-\"),M260,IF(O260=\"\",\"\",\"-\"),O260))))","v":""},null," ",{"$nulls":11},{"$f":"IF(LEN('1 - Opstart Importark'!$B$6)>0,'1 - Opstart Importark'!$B$6,\"\")","v":""},{"$f":"IF(LEN('1 - Opstart Importark'!$B$9)>0,'1 - Opstart Importark'!$B$9,\"\")","v":""},{"$f":"IF(LEN('1 - Opstart Importark'!$B$31)>0,'1 - Opstart Importark'!$B$31,\"\")","v":""},{"$nulls":12},"",{"$nulls":8},0,"","","objektnogle_"]
[250,null,{"$f":"IF('1 - Opstart Importark'!$B$6=\"\",\"\",(IF('1 - Opstart Importark'!$B$15=\"\",CONCATENATE(LEFT('1 - Opstart Importark'!$B$3,1),(LEFT('1 - Opstart Importark'!$B$24,2)),LEFT('1 - Opstart Importark'!$B$28,3),IF(I261=\"\",\"\",\"-\"),I261,IF(K261=\"\",\"\",\"-\"),K261,IF(M261=\"\",\"\",\"-\"),M261,IF(O261=\"\",\"\",\"-\"),O261),CONCATENATE(LEFT('1 - Opstart Importark'!$B$3,1),(LEFT('1 - Opstart Importark'!$B$15,2)),(LEFT('1 - Opstart Importark'!$B$18,3)),IF(I261=\"\",\"\",\"-\"),I261,IF(K261=\"\",\"\",\"-\"),K261,IF(M261=\"\",\"\",\"-\"),M261,IF(O261=\"\",\"\",\"-\"),O261))))","v":""},null," ",{"$nulls":11},{"$f":"IF(LEN('1 - Opstart Importark'!$B$6)>0,'1 - Opstart Importark'!$B$6,\"\")","v":""},{"$f":"IF(LEN('1 - Opstart Importark'!$B$9)>0,'1 - Opstart Importark'!$B$9,\"\")","v":""},{"$f":"IF(LEN('1 - Opstart Importark'!$B$31)>0,'1 - Opstart Importark'!$B$31,\"\")","v":""},{"$nulls":12},"",{"$nulls":8},0,"","","objektnogle_"]
[251,null,{"$f":"IF('1 - Opstart Importark'!$B$6=\"\",\"\",(IF('1 - Opstart Importark'!$B$15=\"\",CONCATENATE(LEFT('1 - Opstart Importark'!$B$3,1),(LEFT('1 - Opstart Importark'!$B$24,2)),LEFT('1 - Opstart Importark'!$B$28,3),IF(I262=\"\",\"\",\"-\"),I262,IF(K262=\"\",\"\",\"-\"),K262,IF(M262=\"\",\"\",\"-\"),M262,IF(O262=\"\",\"\",\"-\"),O262),CONCATENATE(LEFT('1 - Opstart Importark'!$B$3,1),(LEFT('1 - Opstart Importark'!$B$15,2)),(LEFT('1 - Opstart Importark'!$B$18,3)),IF(I262=\"\",\"\",\"-\"),I262,IF(K262=\"\",\"\",\"-\"),K262,IF(M262=\"\",\"\",\"-\"),M262,IF(O262=\"\",\"\",\"-\"),O262))))","v":""},null," ",{"$nulls":11},{"$f":"IF(LEN('1 - Opstart Importark'!$B$6)>0,'1 - Opstart Importark'!$B$6,\"\")","v":""},{"$f":"IF(LEN('1 - Opstart Importark'!$B$9)>0,'1 - Opstart Importark'!$B$9,\"\")","v":""},{"$f":"IF(LEN('1 - Opstart Importark'!$B$31)>0,'1 - Opstart Importark'!$B$31,\"\")","v":""},{"$nulls":12},"",{"$nulls":8},0,"","","objektnogle_"]
[252,null,{"$f":"IF('1 - Opstart Importark'!$B$6=\"\",\"\",(IF('1 - Opstart Importark'!$B$15=\"\",CONCATENATE(LEFT('1 - Opstart Importark'!$B$3,1),(LEFT('1 - Opstart Importark'!$B$24,2)),LEFT('1 - Opstart Importark'!$B$28,3),IF(I263=\"\",\"\",\"-\"),I263,IF(K263=\"\",\"\",\"-\"),K263,IF(M263=\"\",\"\",\"-\"),M263,IF(O263=\"\",\"\",\"-\"),O263),CONCATENATE(LEFT('1 - Opstart Importark'!$B$3,1),(LEFT('1 - Opstart Importark'!$B$15,2)),(LEFT('1 - Opstart Importark'!$B$18,3)),IF(I263=\"\",\"\",\"-\"),I263,IF(K263=\"\",\"\",\"-\"),K263,IF(M263=\"\",\"\",\"-\"),M263,IF(O263=\"\",\"\",\"-\"),O263))))","v":""},null," ",{"$nulls":11},{"$f":"IF(LEN('1 - Opstart Importark'!$B$6)>0,'1 - Opstart Importark'!$B$6,\"\")","v":""},{"$f":"IF(LEN('1 - Opstart Importark'!$B$9)>0,'1 - Opstart Importark'!$B$9,\"\")","v":""},{"$f":"IF(LEN('1 - Opstart Importark'!$B$31)>0,'1 - Opstart Importark'!$B$31,\"\")","v":""},{"$nulls":12},"",{"$nulls":8},0,"","","objektnogle_"]
[253,null,{"$f":"IF('1 - Opstart Importark'!$B$6=\"\",\"\",(IF('1 - Opstart Importark'!$B$15=\"\",CONCATENATE(LEFT('1 - Opstart Importark'!$B$3,1),(LEFT('1 - Opstart Importark'!$B$24,2)),LEFT('1 - Opstart Importark'!$B$28,3),IF(I264=\"\",\"\",\"-\"),I264,IF(K264=\"\",\"\",\"-\"),K264,IF(M264=\"\",\"\",\"-\"),M264,IF(O264=\"\",\"\",\"-\"),O264),CONCATENATE(LEFT('1 - Opstart Importark'!$B$3,1),(LEFT('1 - Opstart Importark'!$B$15,2)),(LEFT('1 - Opstart Importark'!$B$18,3)),IF(I264=\"\",\"\",\"-\"),I264,IF(K264=\"\",\"\",\"-\"),K264,IF(M264=\"\",\"\",\"-\"),M264,IF(O264=\"\",\"\",\"-\"),O264))))","v":""},null," ",{"$nulls":11},{"$f":"IF(LEN('1 - Opstart Importark'!$B$6)>0,'1 - Opstart Importark'!$B$6,\"\")","v":""},{"$f":"IF(LEN('1 - Opstart Importark'!$B$9)>0,'1 - Opstart Importark'!$B$9,\"\")","v":""},{"$f":"IF(LEN('1 - Opstart Importark'!$B$31)>0,'1 - Opstart Importark'!$B$31,\"\")","v":""},{"$nulls":12},"",{"$nulls":8},0,"","","objektnogle_"]
[254,null,{"$f":"IF('1 - Opstart Importark'!$B$6=\"\",\"\",(IF('1 - Opstart Importark'!$B$15=\"\",CONCATENATE(LEFT('1 - Opstart Importark'!$B$3,1),(LEFT('1 - Opstart Importark'!$B$24,2)),LEFT('1 - Opstart Importark'!$B$28,3),IF(I265=\"\",\"\",\"-\"),I265,IF(K265=\"\",\"\",\"-\"),K265,IF(M265=\"\",\"\",\"-\"),M265,IF(O265=\"\",\"\",\"-\"),O265),CONCATENATE(LEFT('1 - Opstart Importark'!$B$3,1),(LEFT('1 - Opstart Importark'!$B$15,2)),(LEFT('1 - Opstart Importark'!$B$18,3)),IF(I265=\"\",\"\",\"-\"),I265,IF(K265=\"\",\"\",\"-\"),K265,IF(M265=\"\",\"\",\"-\"),M265,IF(O265=\"\",\"\",\"-\"),O265))))","v":""},null," ",{"$nulls":11},{"$f":"IF(LEN('1 - Opstart Importark'!$B$6)>0,'1 - Opstart Importark'!$B$6,\"\")","v":""},{"$f":"IF(LEN('1 - Opstart Importark'!$B$9)>0,'1 - Opstart Importark'!$B$9,\"\")","v":""},{"$f":"IF(LEN('1 - Opstart Importark'!$B$31)>0,'1 - Opstart Importark'!$B$31,\"\")","v":""},{"$nulls":12},"",{"$nulls":8},0,"","","objektnogle_"]
[255,null,{"$f":"IF('1 - Opstart Importark'!$B$6=\"\",\"\",(IF('1 - Opstart Importark'!$B$15=\"\",CONCATENATE(LEFT('1 - Opstart Importark'!$B$3,1),(LEFT('1 - Opstart Importark'!$B$24,2)),LEFT('1 - Opstart Importark'!$B$28,3),IF(I266=\"\",\"\",\"-\"),I266,IF(K266=\"\",\"\",\"-\"),K266,IF(M266=\"\",\"\",\"-\"),M266,IF(O266=\"\",\"\",\"-\"),O266),CONCATENATE(LEFT('1 - Opstart Importark'!$B$3,1),(LEFT('1 - Opstart Importark'!$B$15,2)),(LEFT('1 - Opstart Importark'!$B$18,3)),IF(I266=\"\",\"\",\"-\"),I266,IF(K266=\"\",\"\",\"-\"),K266,IF(M266=\"\",\"\",\"-\"),M266,IF(O266=\"\",\"\",\"-\"),O266))))","v":""},null," ",{"$nulls":11},{"$f":"IF(LEN('1 - Opstart Importark'!$B$6)>0,'1 - Opstart Importark'!$B$6,\"\")","v":""},{"$f":"IF(LEN('1 - Opstart Importark'!$B$9)>0,'1 - Opstart Importark'!$B$9,\"\")","v":""},{"$f":"IF(LEN('1 - Opstart Importark'!$B$31)>0,'1 - Opstart Importark'!$B$31,\"\")","v":""},{"$nulls":12},"",{"$nulls":8},0,"","","objektnogle_"]
[256,null,{"$f":"IF('1 - Opstart Importark'!$B$6=\"\",\"\",(IF('1 - Opstart Importark'!$B$15=\"\",CONCATENATE(LEFT('1 - Opstart Importark'!$B$3,1),(LEFT('1 - Opstart Importark'!$B$24,2)),LEFT('1 - Opstart Importark'!$B$28,3),IF(I267=\"\",\"\",\"-\"),I267,IF(K267=\"\",\"\",\"-\"),K267,IF(M267=\"\",\"\",\"-\"),M267,IF(O267=\"\",\"\",\"-\"),O267),CONCATENATE(LEFT('1 - Opstart Importark'!$B$3,1),(LEFT('1 - Opstart Importark'!$B$15,2)),(LEFT('1 - Opstart Importark'!$B$18,3)),IF(I267=\"\",\"\",\"-\"),I267,IF(K267=\"\",\"\",\"-\"),K267,IF(M267=\"\",\"\",\"-\"),M267,IF(O267=\"\",\"\",\"-\"),O267))))","v":""},null," ",{"$nulls":11},{"$f":"IF(LEN('1 - Opstart Importark'!$B$6)>0,'1 - Opstart Importark'!$B$6,\"\")","v":""},{"$f":"IF(LEN('1 - Opstart Importark'!$B$9)>0,'1 - Opstart Importark'!$B$9,\"\")","v":""},{"$f":"IF(LEN('1 - Opstart Importark'!$B$31)>0,'1 - Opstart Importark'!$B$31,\"\")","v":""},{"$nulls":12},"",{"$nulls":8},0,"","","objektnogle_"]
[257,null,{"$f":"IF('1 - Opstart Importark'!$B$6=\"\",\"\",(IF('1 - Opstart Importark'!$B$15=\"\",CONCATENATE(LEFT('1 - Opstart Importark'!$B$3,1),(LEFT('1 - Opstart Importark'!$B$24,2)),LEFT('1 - Opstart Importark'!$B$28,3),IF(I268=\"\",\"\",\"-\"),I268,IF(K268=\"\",\"\",\"-\"),K268,IF(M268=\"\",\"\",\"-\"),M268,IF(O268=\"\",\"\",\"-\"),O268),CONCATENATE(LEFT('1 - Opstart Importark'!$B$3,1),(LEFT('1 - Opstart Importark'!$B$15,2)),(LEFT('1 - Opstart Importark'!$B$18,3)),IF(I268=\"\",\"\",\"-\"),I268,IF(K268=\"\",\"\",\"-\"),K268,IF(M268=\"\",\"\",\"-\"),M268,IF(O268=\"\",\"\",\"-\"),O268))))","v":""},null," ",{"$nulls":11},{"$f":"IF(LEN('1 - Opstart Importark'!$B$6)>0,'1 - Opstart Importark'!$B$6,\"\")","v":""},{"$f":"IF(LEN('1 - Opstart Importark'!$B$9)>0,'1 - Opstart Importark'!$B$9,\"\")","v":""},{"$f":"IF(LEN('1 - Opstart Importark'!$B$31)>0,'1 - Opstart Importark'!$B$31,\"\")","v":""},{"$nulls":12},{"$f":"IF(M268=\"\",\"\",VLOOKUP(LEFT(M268,1),objektfilter,2))","v":""},{"$nulls":8},0,"","","objektnogle_"]
[258,null,{"$f":"IF('1 - Opstart Importark'!$B$6=\"\",\"\",(IF('1 - Opstart Importark'!$B$15=\"\",CONCATENATE(LEFT('1 - Opstart Importark'!$B$3,1),(LEFT('1 - Opstart Importark'!$B$24,2)),LEFT('1 - Opstart Importark'!$B$28,3),IF(I269=\"\",\"\",\"-\"),I269,IF(K269=\"\",\"\",\"-\"),K269,IF(M269=\"\",\"\",\"-\"),M269,IF(O269=\"\",\"\",\"-\"),O269),CONCATENATE(LEFT('1 - Opstart Importark'!$B$3,1),(LEFT('1 - Opstart Importark'!$B$15,2)),(LEFT('1 - Opstart Importark'!$B$18,3)),IF(I269=\"\",\"\",\"-\"),I269,IF(K269=\"\",\"\",\"-\"),K269,IF(M269=\"\",\"\",\"-\"),M269,IF(O269=\"\",\"\",\"-\"),O269))))","v":""},null," ",{"$nulls":11},{"$f":"IF(LEN('1 - Opstart Importark'!$B$6)>0,'1 - Opstart Importark'!$B$6,\"\")","v":""},{"$f":"IF(LEN('1 - Opstart Importark'!$B$9)>0,'1 - Opstart Importark'!$B$9,\"\")","v":""},{"$f":"IF(LEN('1 - Opstart Importark'!$B$31)>0,'1 - Opstart Importark'!$B$31,\"\")","v":""},{"$nulls":12},"",{"$nulls":8},{"$f":"IFERROR(FIND(\".\",F269),)","v":0},{"$f":"IF(M269=\"\",\"\",IF(LEFT(M269,1)=\"E\",0,1))","v":""},{"$f":"IF(M269=\"\",\"\",IF(LEFT(M269,1)=\"E\",0,1))","v":""},{"$f":"IF(W269=\"\", CONCATENATE(\"objektnogle_\",LEFT(AF269,1)),CONCATENATE(\"objektnogle_\",LEFT(W269,1)))","v":"objektnogle_"}]
[259,null,{"$f":"IF('1 - Opstart Importark'!$B$6=\"\",\"\",(IF('1 - Opstart Importark'!$B$15=\"\",CONCATENATE(LEFT('1 - Opstart Importark'!$B$3,1),(LEFT('1 - Opstart Importark'!$B$24,2)),LEFT('1 - Opstart Importark'!$B$28,3),IF(I270=\"\",\"\",\"-\"),I270,IF(K270=\"\",\"\",\"-\"),K270,IF(M270=\"\",\"\",\"-\"),M270,IF(O270=\"\",\"\",\"-\"),O270),CONCATENATE(LEFT('1 - Opstart Importark'!$B$3,1),(LEFT('1 - Opstart Importark'!$B$15,2)),(LEFT('1 - Opstart Importark'!$B$18,3)),IF(I270=\"\",\"\",\"-\"),I270,IF(K270=\"\",\"\",\"-\"),K270,IF(M270=\"\",\"\",\"-\"),M270,IF(O270=\"\",\"\",\"-\"),O270))))","v":""},null," ",{"$nulls":11},{"$f":"IF(LEN('1 - Opstart Importark'!$B$6)>0,'1 - Opstart Importark'!$B$6,\"\")","v":""},{"$f":"IF(LEN('1 - Opstart Importark'!$B$9)>0,'1 - Opstart Importark'!$B$9,\"\")","v":""},{"$f":"IF(LEN('1 - Opstart Importark'!$B$31)>0,'1 - Opstart Importark'!$B$31,\"\")","v":""},{"$nulls":12},"",{"$nulls":8},0,"","","objektnogle_"]
[260,null,{"$f":"IF('1 - Opstart Importark'!$B$6=\"\",\"\",(IF('1 - Opstart Importark'!$B$15=\"\",CONCATENATE(LEFT('1 - Opstart Importark'!$B$3,1),(LEFT('1 - Opstart Importark'!$B$24,2)),LEFT('1 - Opstart Importark'!$B$28,3),IF(I271=\"\",\"\",\"-\"),I271,IF(K271=\"\",\"\",\"-\"),K271,IF(M271=\"\",\"\",\"-\"),M271,IF(O271=\"\",\"\",\"-\"),O271),CONCATENATE(LEFT('1 - Opstart Importark'!$B$3,1),(LEFT('1 - Opstart Importark'!$B$15,2)),(LEFT('1 - Opstart Importark'!$B$18,3)),IF(I271=\"\",\"\",\"-\"),I271,IF(K271=\"\",\"\",\"-\"),K271,IF(M271=\"\",\"\",\"-\"),M271,IF(O271=\"\",\"\",\"-\"),O271))))","v":""},null," ",{"$nulls":11},{"$f":"IF(LEN('1 - Opstart Importark'!$B$6)>0,'1 - Opstart Importark'!$B$6,\"\")","v":""},{"$f":"IF(LEN('1 - Opstart Importark'!$B$9)>0,'1 - Opstart Importark'!$B$9,\"\")","v":""},{"$f":"IF(LEN('1 - Opstart Importark'!$B$31)>0,'1 - Opstart Importark'!$B$31,\"\")","v":""},{"$nulls":12},"",{"$nulls":8},0,"","","objektnogle_"]
[261,null,{"$f":"IF('1 - Opstart Importark'!$B$6=\"\",\"\",(IF('1 - Opstart Importark'!$B$15=\"\",CONCATENATE(LEFT('1 - Opstart Importark'!$B$3,1),(LEFT('1 - Opstart Importark'!$B$24,2)),LEFT('1 - Opstart Importark'!$B$28,3),IF(I272=\"\",\"\",\"-\"),I272,IF(K272=\"\",\"\",\"-\"),K272,IF(M272=\"\",\"\",\"-\"),M272,IF(O272=\"\",\"\",\"-\"),O272),CONCATENATE(LEFT('1 - Opstart Importark'!$B$3,1),(LEFT('1 - Opstart Importark'!$B$15,2)),(LEFT('1 - Opstart Importark'!$B$18,3)),IF(I272=\"\",\"\",\"-\"),I272,IF(K272=\"\",\"\",\"-\"),K272,IF(M272=\"\",\"\",\"-\"),M272,IF(O272=\"\",\"\",\"-\"),O272))))","v":""},null," ",{"$nulls":11},{"$f":"IF(LEN('1 - Opstart Importark'!$B$6)>0,'1 - Opstart Importark'!$B$6,\"\")","v":""},{"$f":"IF(LEN('1 - Opstart Importark'!$B$9)>0,'1 - Opstart Importark'!$B$9,\"\")","v":""},{"$f":"IF(LEN('1 - Opstart Importark'!$B$31)>0,'1 - Opstart Importark'!$B$31,\"\")","v":""},{"$nulls":12},"",{"$nulls":8},0,"","","objektnogle_"]
[262,null,{"$f":"IF('1 - Opstart Importark'!$B$6=\"\",\"\",(IF('1 - Opstart Importark'!$B$15=\"\",CONCATENATE(LEFT('1 - Opstart Importark'!$B$3,1),(LEFT('1 - Opstart Importark'!$B$24,2)),LEFT('1 - Opstart Importark'!$B$28,3),IF(I273=\"\",\"\",\"-\"),I273,IF(K273=\"\",\"\",\"-\"),K273,IF(M273=\"\",\"\",\"-\"),M273,IF(O273=\"\",\"\",\"-\"),O273),CONCATENATE(LEFT('1 - Opstart Importark'!$B$3,1),(LEFT('1 - Opstart Importark'!$B$15,2)),(LEFT('1 - Opstart Importark'!$B$18,3)),IF(I273=\"\",\"\",\"-\"),I273,IF(K273=\"\",\"\",\"-\"),K273,IF(M273=\"\",\"\",\"-\"),M273,IF(O273=\"\",\"\",\"-\"),O273))))","v":""},null," ",{"$nulls":11},{"$f":"IF(LEN('1 - Opstart Importark'!$B$6)>0,'1 - Opstart Importark'!$B$6,\"\")","v":""},{"$f":"IF(LEN('1 - Opstart Importark'!$B$9)>0,'1 - Opstart Importark'!$B$9,\"\")","v":""},{"$f":"IF(LEN('1 - Opstart Importark'!$B$31)>0,'1 - Opstart Importark'!$B$31,\"\")","v":""},{"$nulls":12},"",{"$nulls":8},0,"","","objektnogle_"]
[263,null,{"$f":"IF('1 - Opstart Importark'!$B$6=\"\",\"\",(IF('1 - Opstart Importark'!$B$15=\"\",CONCATENATE(LEFT('1 - Opstart Importark'!$B$3,1),(LEFT('1 - Opstart Importark'!$B$24,2)),LEFT('1 - Opstart Importark'!$B$28,3),IF(I274=\"\",\"\",\"-\"),I274,IF(K274=\"\",\"\",\"-\"),K274,IF(M274=\"\",\"\",\"-\"),M274,IF(O274=\"\",\"\",\"-\"),O274),CONCATENATE(LEFT('1 - Opstart Importark'!$B$3,1),(LEFT('1 - Opstart Importark'!$B$15,2)),(LEFT('1 - Opstart Importark'!$B$18,3)),IF(I274=\"\",\"\",\"-\"),I274,IF(K274=\"\",\"\",\"-\"),K274,IF(M274=\"\",\"\",\"-\"),M274,IF(O274=\"\",\"\",\"-\"),O274))))","v":""},null," ",{"$nulls":11},{"$f":"IF(LEN('1 - Opstart Importark'!$B$6)>0,'1 - Opstart Importark'!$B$6,\"\")","v":""},{"$f":"IF(LEN('1 - Opstart Importark'!$B$9)>0,'1 - Opstart Importark'!$B$9,\"\")","v":""},{"$f":"IF(LEN('1 - Opstart Importark'!$B$31)>0,'1 - Opstart Importark'!$B$31,\"\")","v":""},{"$nulls":12},"",{"$nulls":8},0,"","","objektnogle_"]
[264,null,{"$f":"IF('1 - Opstart Importark'!$B$6=\"\",\"\",(IF('1 - Opstart Importark'!$B$15=\"\",CONCATENATE(LEFT('1 - Opstart Importark'!$B$3,1),(LEFT('1 - Opstart Importark'!$B$24,2)),LEFT('1 - Opstart Importark'!$B$28,3),IF(I275=\"\",\"\",\"-\"),I275,IF(K275=\"\",\"\",\"-\"),K275,IF(M275=\"\",\"\",\"-\"),M275,IF(O275=\"\",\"\",\"-\"),O275),CONCATENATE(LEFT('1 - Opstart Importark'!$B$3,1),(LEFT('1 - Opstart Importark'!$B$15,2)),(LEFT('1 - Opstart Importark'!$B$18,3)),IF(I275=\"\",\"\",\"-\"),I275,IF(K275=\"\",\"\",\"-\"),K275,IF(M275=\"\",\"\",\"-\"),M275,IF(O275=\"\",\"\",\"-\"),O275))))","v":""},null," ",{"$nulls":11},{"$f":"IF(LEN('1 - Opstart Importark'!$B$6)>0,'1 - Opstart Importark'!$B$6,\"\")","v":""},{"$f":"IF(LEN('1 - Opstart Importark'!$B$9)>0,'1 - Opstart Importark'!$B$9,\"\")","v":""},{"$f":"IF(LEN('1 - Opstart Importark'!$B$31)>0,'1 - Opstart Importark'!$B$31,\"\")","v":""},{"$nulls":12},"",{"$nulls":8},0,"","","objektnogle_"]
[265,null,{"$f":"IF('1 - Opstart Importark'!$B$6=\"\",\"\",(IF('1 - Opstart Importark'!$B$15=\"\",CONCATENATE(LEFT('1 - Opstart Importark'!$B$3,1),(LEFT('1 - Opstart Importark'!$B$24,2)),LEFT('1 - Opstart Importark'!$B$28,3),IF(I276=\"\",\"\",\"-\"),I276,IF(K276=\"\",\"\",\"-\"),K276,IF(M276=\"\",\"\",\"-\"),M276,IF(O276=\"\",\"\",\"-\"),O276),CONCATENATE(LEFT('1 - Opstart Importark'!$B$3,1),(LEFT('1 - Opstart Importark'!$B$15,2)),(LEFT('1 - Opstart Importark'!$B$18,3)),IF(I276=\"\",\"\",\"-\"),I276,IF(K276=\"\",\"\",\"-\"),K276,IF(M276=\"\",\"\",\"-\"),M276,IF(O276=\"\",\"\",\"-\"),O276))))","v":""},null," ",{"$nulls":11},{"$f":"IF(LEN('1 - Opstart Importark'!$B$6)>0,'1 - Opstart Importark'!$B$6,\"\")","v":""},{"$f":"IF(LEN('1 - Opstart Importark'!$B$9)>0,'1 - Opstart Importark'!$B$9,\"\")","v":""},{"$f":"IF(LEN('1 - Opstart Importark'!$B$31)>0,'1 - Opstart Importark'!$B$31,\"\")","v":""},{"$nulls":12},"",{"$nulls":8},0,"","","objektnogle_"]
[266,null,{"$f":"IF('1 - Opstart Importark'!$B$6=\"\",\"\",(IF('1 - Opstart Importark'!$B$15=\"\",CONCATENATE(LEFT('1 - Opstart Importark'!$B$3,1),(LEFT('1 - Opstart Importark'!$B$24,2)),LEFT('1 - Opstart Importark'!$B$28,3),IF(I277=\"\",\"\",\"-\"),I277,IF(K277=\"\",\"\",\"-\"),K277,IF(M277=\"\",\"\",\"-\"),M277,IF(O277=\"\",\"\",\"-\"),O277),CONCATENATE(LEFT('1 - Opstart Importark'!$B$3,1),(LEFT('1 - Opstart Importark'!$B$15,2)),(LEFT('1 - Opstart Importark'!$B$18,3)),IF(I277=\"\",\"\",\"-\"),I277,IF(K277=\"\",\"\",\"-\"),K277,IF(M277=\"\",\"\",\"-\"),M277,IF(O277=\"\",\"\",\"-\"),O277))))","v":""},null," ",{"$nulls":11},{"$f":"IF(LEN('1 - Opstart Importark'!$B$6)>0,'1 - Opstart Importark'!$B$6,\"\")","v":""},{"$f":"IF(LEN('1 - Opstart Importark'!$B$9)>0,'1 - Opstart Importark'!$B$9,\"\")","v":""},{"$f":"IF(LEN('1 - Opstart Importark'!$B$31)>0,'1 - Opstart Importark'!$B$31,\"\")","v":""},{"$nulls":12},"",{"$nulls":8},0,"","","objektnogle_"]
[267,null,{"$f":"IF('1 - Opstart Importark'!$B$6=\"\",\"\",(IF('1 - Opstart Importark'!$B$15=\"\",CONCATENATE(LEFT('1 - Opstart Importark'!$B$3,1),(LEFT('1 - Opstart Importark'!$B$24,2)),LEFT('1 - Opstart Importark'!$B$28,3),IF(I278=\"\",\"\",\"-\"),I278,IF(K278=\"\",\"\",\"-\"),K278,IF(M278=\"\",\"\",\"-\"),M278,IF(O278=\"\",\"\",\"-\"),O278),CONCATENATE(LEFT('1 - Opstart Importark'!$B$3,1),(LEFT('1 - Opstart Importark'!$B$15,2)),(LEFT('1 - Opstart Importark'!$B$18,3)),IF(I278=\"\",\"\",\"-\"),I278,IF(K278=\"\",\"\",\"-\"),K278,IF(M278=\"\",\"\",\"-\"),M278,IF(O278=\"\",\"\",\"-\"),O278))))","v":""},null," ",{"$nulls":11},{"$f":"IF(LEN('1 - Opstart Importark'!$B$6)>0,'1 - Opstart Importark'!$B$6,\"\")","v":""},{"$f":"IF(LEN('1 - Opstart Importark'!$B$9)>0,'1 - Opstart Importark'!$B$9,\"\")","v":""},{"$f":"IF(LEN('1 - Opstart Importark'!$B$31)>0,'1 - Opstart Importark'!$B$31,\"\")","v":""},{"$nulls":12},"",{"$nulls":8},0,"","","objektnogle_"]
[268,null,{"$f":"IF('1 - Opstart Importark'!$B$6=\"\",\"\",(IF('1 - Opstart Importark'!$B$15=\"\",CONCATENATE(LEFT('1 - Opstart Importark'!$B$3,1),(LEFT('1 - Opstart Importark'!$B$24,2)),LEFT('1 - Opstart Importark'!$B$28,3),IF(I279=\"\",\"\",\"-\"),I279,IF(K279=\"\",\"\",\"-\"),K279,IF(M279=\"\",\"\",\"-\"),M279,IF(O279=\"\",\"\",\"-\"),O279),CONCATENATE(LEFT('1 - Opstart Importark'!$B$3,1),(LEFT('1 - Opstart Importark'!$B$15,2)),(LEFT('1 - Opstart Importark'!$B$18,3)),IF(I279=\"\",\"\",\"-\"),I279,IF(K279=\"\",\"\",\"-\"),K279,IF(M279=\"\",\"\",\"-\"),M279,IF(O279=\"\",\"\",\"-\"),O279))))","v":""},null," ",{"$nulls":11},{"$f":"IF(LEN('1 - Opstart Importark'!$B$6)>0,'1 - Opstart Importark'!$B$6,\"\")","v":""},{"$f":"IF(LEN('1 - Opstart Importark'!$B$9)>0,'1 - Opstart Importark'!$B$9,\"\")","v":""},{"$f":"IF(LEN('1 - Opstart Importark'!$B$31)>0,'1 - Opstart Importark'!$B$31,\"\")","v":""},{"$nulls":12},"",{"$nulls":8},0,"","","objektnogle_"]
[269,null,{"$f":"IF('1 - Opstart Importark'!$B$6=\"\",\"\",(IF('1 - Opstart Importark'!$B$15=\"\",CONCATENATE(LEFT('1 - Opstart Importark'!$B$3,1),(LEFT('1 - Opstart Importark'!$B$24,2)),LEFT('1 - Opstart Importark'!$B$28,3),IF(I280=\"\",\"\",\"-\"),I280,IF(K280=\"\",\"\",\"-\"),K280,IF(M280=\"\",\"\",\"-\"),M280,IF(O280=\"\",\"\",\"-\"),O280),CONCATENATE(LEFT('1 - Opstart Importark'!$B$3,1),(LEFT('1 - Opstart Importark'!$B$15,2)),(LEFT('1 - Opstart Importark'!$B$18,3)),IF(I280=\"\",\"\",\"-\"),I280,IF(K280=\"\",\"\",\"-\"),K280,IF(M280=\"\",\"\",\"-\"),M280,IF(O280=\"\",\"\",\"-\"),O280))))","v":""},null," ",{"$nulls":11},{"$f":"IF(LEN('1 - Opstart Importark'!$B$6)>0,'1 - Opstart Importark'!$B$6,\"\")","v":""},{"$f":"IF(LEN('1 - Opstart Importark'!$B$9)>0,'1 - Opstart Importark'!$B$9,\"\")","v":""},{"$f":"IF(LEN('1 - Opstart Importark'!$B$31)>0,'1 - Opstart Importark'!$B$31,\"\")","v":""},{"$nulls":12},"",{"$nulls":8},0,"","","objektnogle_"]
[270,null,{"$f":"IF('1 - Opstart Importark'!$B$6=\"\",\"\",(IF('1 - Opstart Importark'!$B$15=\"\",CONCATENATE(LEFT('1 - Opstart Importark'!$B$3,1),(LEFT('1 - Opstart Importark'!$B$24,2)),LEFT('1 - Opstart Importark'!$B$28,3),IF(I281=\"\",\"\",\"-\"),I281,IF(K281=\"\",\"\",\"-\"),K281,IF(M281=\"\",\"\",\"-\"),M281,IF(O281=\"\",\"\",\"-\"),O281),CONCATENATE(LEFT('1 - Opstart Importark'!$B$3,1),(LEFT('1 - Opstart Importark'!$B$15,2)),(LEFT('1 - Opstart Importark'!$B$18,3)),IF(I281=\"\",\"\",\"-\"),I281,IF(K281=\"\",\"\",\"-\"),K281,IF(M281=\"\",\"\",\"-\"),M281,IF(O281=\"\",\"\",\"-\"),O281))))","v":""},null," ",{"$nulls":11},{"$f":"IF(LEN('1 - Opstart Importark'!$B$6)>0,'1 - Opstart Importark'!$B$6,\"\")","v":""},{"$f":"IF(LEN('1 - Opstart Importark'!$B$9)>0,'1 - Opstart Importark'!$B$9,\"\")","v":""},{"$f":"IF(LEN('1 - Opstart Importark'!$B$31)>0,'1 - Opstart Importark'!$B$31,\"\")","v":""},{"$nulls":12},"",{"$nulls":8},0,"","","objektnogle_"]
[271,null,{"$f":"IF('1 - Opstart Importark'!$B$6=\"\",\"\",(IF('1 - Opstart Importark'!$B$15=\"\",CONCATENATE(LEFT('1 - Opstart Importark'!$B$3,1),(LEFT('1 - Opstart Importark'!$B$24,2)),LEFT('1 - Opstart Importark'!$B$28,3),IF(I282=\"\",\"\",\"-\"),I282,IF(K282=\"\",\"\",\"-\"),K282,IF(M282=\"\",\"\",\"-\"),M282,IF(O282=\"\",\"\",\"-\"),O282),CONCATENATE(LEFT('1 - Opstart Importark'!$B$3,1),(LEFT('1 - Opstart Importark'!$B$15,2)),(LEFT('1 - Opstart Importark'!$B$18,3)),IF(I282=\"\",\"\",\"-\"),I282,IF(K282=\"\",\"\",\"-\"),K282,IF(M282=\"\",\"\",\"-\"),M282,IF(O282=\"\",\"\",\"-\"),O282))))","v":""},null," ",{"$nulls":11},{"$f":"IF(LEN('1 - Opstart Importark'!$B$6)>0,'1 - Opstart Importark'!$B$6,\"\")","v":""},{"$f":"IF(LEN('1 - Opstart Importark'!$B$9)>0,'1 - Opstart Importark'!$B$9,\"\")","v":""},{"$f":"IF(LEN('1 - Opstart Importark'!$B$31)>0,'1 - Opstart Importark'!$B$31,\"\")","v":""},{"$nulls":12},"",{"$nulls":8},0,"","","objektnogle_"]
[272,null,{"$f":"IF('1 - Opstart Importark'!$B$6=\"\",\"\",(IF('1 - Opstart Importark'!$B$15=\"\",CONCATENATE(LEFT('1 - Opstart Importark'!$B$3,1),(LEFT('1 - Opstart Importark'!$B$24,2)),LEFT('1 - Opstart Importark'!$B$28,3),IF(I283=\"\",\"\",\"-\"),I283,IF(K283=\"\",\"\",\"-\"),K283,IF(M283=\"\",\"\",\"-\"),M283,IF(O283=\"\",\"\",\"-\"),O283),CONCATENATE(LEFT('1 - Opstart Importark'!$B$3,1),(LEFT('1 - Opstart Importark'!$B$15,2)),(LEFT('1 - Opstart Importark'!$B$18,3)),IF(I283=\"\",\"\",\"-\"),I283,IF(K283=\"\",\"\",\"-\"),K283,IF(M283=\"\",\"\",\"-\"),M283,IF(O283=\"\",\"\",\"-\"),O283))))","v":""},null," ",{"$nulls":11},{"$f":"IF(LEN('1 - Opstart Importark'!$B$6)>0,'1 - Opstart Importark'!$B$6,\"\")","v":""},{"$f":"IF(LEN('1 - Opstart Importark'!$B$9)>0,'1 - Opstart Importark'!$B$9,\"\")","v":""},{"$f":"IF(LEN('1 - Opstart Importark'!$B$31)>0,'1 - Opstart Importark'!$B$31,\"\")","v":""},{"$nulls":12},"",{"$nulls":8},0,"","","objektnogle_"]
[273,null,{"$f":"IF('1 - Opstart Importark'!$B$6=\"\",\"\",(IF('1 - Opstart Importark'!$B$15=\"\",CONCATENATE(LEFT('1 - Opstart Importark'!$B$3,1),(LEFT('1 - Opstart Importark'!$B$24,2)),LEFT('1 - Opstart Importark'!$B$28,3),IF(I284=\"\",\"\",\"-\"),I284,IF(K284=\"\",\"\",\"-\"),K284,IF(M284=\"\",\"\",\"-\"),M284,IF(O284=\"\",\"\",\"-\"),O284),CONCATENATE(LEFT('1 - Opstart Importark'!$B$3,1),(LEFT('1 - Opstart Importark'!$B$15,2)),(LEFT('1 - Opstart Importark'!$B$18,3)),IF(I284=\"\",\"\",\"-\"),I284,IF(K284=\"\",\"\",\"-\"),K284,IF(M284=\"\",\"\",\"-\"),M284,IF(O284=\"\",\"\",\"-\"),O284))))","v":""},null," ",{"$nulls":11},{"$f":"IF(LEN('1 - Opstart Importark'!$B$6)>0,'1 - Opstart Importark'!$B$6,\"\")","v":""},{"$f":"IF(LEN('1 - Opstart Importark'!$B$9)>0,'1 - Opstart Importark'!$B$9,\"\")","v":""},{"$f":"IF(LEN('1 - Opstart Importark'!$B$31)>0,'1 - Opstart Importark'!$B$31,\"\")","v":""},{"$nulls":12},"",{"$nulls":8},0,"","","objektnogle_"]
[274,null,{"$f":"IF('1 - Opstart Importark'!$B$6=\"\",\"\",(IF('1 - Opstart Importark'!$B$15=\"\",CONCATENATE(LEFT('1 - Opstart Importark'!$B$3,1),(LEFT('1 - Opstart Importark'!$B$24,2)),LEFT('1 - Opstart Importark'!$B$28,3),IF(I285=\"\",\"\",\"-\"),I285,IF(K285=\"\",\"\",\"-\"),K285,IF(M285=\"\",\"\",\"-\"),M285,IF(O285=\"\",\"\",\"-\"),O285),CONCATENATE(LEFT('1 - Opstart Importark'!$B$3,1),(LEFT('1 - Opstart Importark'!$B$15,2)),(LEFT('1 - Opstart Importark'!$B$18,3)),IF(I285=\"\",\"\",\"-\"),I285,IF(K285=\"\",\"\",\"-\"),K285,IF(M285=\"\",\"\",\"-\"),M285,IF(O285=\"\",\"\",\"-\"),O285))))","v":""},null," ",{"$nulls":11},{"$f":"IF(LEN('1 - Opstart Importark'!$B$6)>0,'1 - Opstart Importark'!$B$6,\"\")","v":""},{"$f":"IF(LEN('1 - Opstart Importark'!$B$9)>0,'1 - Opstart Importark'!$B$9,\"\")","v":""},{"$f":"IF(LEN('1 - Opstart Importark'!$B$31)>0,'1 - Opstart Importark'!$B$31,\"\")","v":""},{"$nulls":12},"",{"$nulls":8},0,"","","objektnogle_"]
[275,null,{"$f":"IF('1 - Opstart Importark'!$B$6=\"\",\"\",(IF('1 - Opstart Importark'!$B$15=\"\",CONCATENATE(LEFT('1 - Opstart Importark'!$B$3,1),(LEFT('1 - Opstart Importark'!$B$24,2)),LEFT('1 - Opstart Importark'!$B$28,3),IF(I286=\"\",\"\",\"-\"),I286,IF(K286=\"\",\"\",\"-\"),K286,IF(M286=\"\",\"\",\"-\"),M286,IF(O286=\"\",\"\",\"-\"),O286),CONCATENATE(LEFT('1 - Opstart Importark'!$B$3,1),(LEFT('1 - Opstart Importark'!$B$15,2)),(LEFT('1 - Opstart Importark'!$B$18,3)),IF(I286=\"\",\"\",\"-\"),I286,IF(K286=\"\",\"\",\"-\"),K286,IF(M286=\"\",\"\",\"-\"),M286,IF(O286=\"\",\"\",\"-\"),O286))))","v":""},null," ",{"$nulls":11},{"$f":"IF(LEN('1 - Opstart Importark'!$B$6)>0,'1 - Opstart Importark'!$B$6,\"\")","v":""},{"$f":"IF(LEN('1 - Opstart Importark'!$B$9)>0,'1 - Opstart Importark'!$B$9,\"\")","v":""},{"$f":"IF(LEN('1 - Opstart Importark'!$B$31)>0,'1 - Opstart Importark'!$B$31,\"\")","v":""},{"$nulls":12},"",{"$nulls":8},0,"","","objektnogle_"]
[276,null,{"$f":"IF('1 - Opstart Importark'!$B$6=\"\",\"\",(IF('1 - Opstart Importark'!$B$15=\"\",CONCATENATE(LEFT('1 - Opstart Importark'!$B$3,1),(LEFT('1 - Opstart Importark'!$B$24,2)),LEFT('1 - Opstart Importark'!$B$28,3),IF(I287=\"\",\"\",\"-\"),I287,IF(K287=\"\",\"\",\"-\"),K287,IF(M287=\"\",\"\",\"-\"),M287,IF(O287=\"\",\"\",\"-\"),O287),CONCATENATE(LEFT('1 - Opstart Importark'!$B$3,1),(LEFT('1 - Opstart Importark'!$B$15,2)),(LEFT('1 - Opstart Importark'!$B$18,3)),IF(I287=\"\",\"\",\"-\"),I287,IF(K287=\"\",\"\",\"-\"),K287,IF(M287=\"\",\"\",\"-\"),M287,IF(O287=\"\",\"\",\"-\"),O287))))","v":""},null," ",{"$nulls":11},{"$f":"IF(LEN('1 - Opstart Importark'!$B$6)>0,'1 - Opstart Importark'!$B$6,\"\")","v":""},{"$f":"IF(LEN('1 - Opstart Importark'!$B$9)>0,'1 - Opstart Importark'!$B$9,\"\")","v":""},{"$f":"IF(LEN('1 - Opstart Importark'!$B$31)>0,'1 - Opstart Importark'!$B$31,\"\")","v":""},{"$nulls":12},"",{"$nulls":8},0,"","","objektnogle_"]
[277,null,{"$f":"IF('1 - Opstart Importark'!$B$6=\"\",\"\",(IF('1 - Opstart Importark'!$B$15=\"\",CONCATENATE(LEFT('1 - Opstart Importark'!$B$3,1),(LEFT('1 - Opstart Importark'!$B$24,2)),LEFT('1 - Opstart Importark'!$B$28,3),IF(I288=\"\",\"\",\"-\"),I288,IF(K288=\"\",\"\",\"-\"),K288,IF(M288=\"\",\"\",\"-\"),M288,IF(O288=\"\",\"\",\"-\"),O288),CONCATENATE(LEFT('1 - Opstart Importark'!$B$3,1),(LEFT('1 - Opstart Importark'!$B$15,2)),(LEFT('1 - Opstart Importark'!$B$18,3)),IF(I288=\"\",\"\",\"-\"),I288,IF(K288=\"\",\"\",\"-\"),K288,IF(M288=\"\",\"\",\"-\"),M288,IF(O288=\"\",\"\",\"-\"),O288))))","v":""},null," ",{"$nulls":11},{"$f":"IF(LEN('1 - Opstart Importark'!$B$6)>0,'1 - Opstart Importark'!$B$6,\"\")","v":""},{"$f":"IF(LEN('1 - Opstart Importark'!$B$9)>0,'1 - Opstart Importark'!$B$9,\"\")","v":""},{"$f":"IF(LEN('1 - Opstart Importark'!$B$31)>0,'1 - Opstart Importark'!$B$31,\"\")","v":""},{"$nulls":12},"",{"$nulls":8},0,"","","objektnogle_"]
[278,null,{"$f":"IF('1 - Opstart Importark'!$B$6=\"\",\"\",(IF('1 - Opstart Importark'!$B$15=\"\",CONCATENATE(LEFT('1 - Opstart Importark'!$B$3,1),(LEFT('1 - Opstart Importark'!$B$24,2)),LEFT('1 - Opstart Importark'!$B$28,3),IF(I289=\"\",\"\",\"-\"),I289,IF(K289=\"\",\"\",\"-\"),K289,IF(M289=\"\",\"\",\"-\"),M289,IF(O289=\"\",\"\",\"-\"),O289),CONCATENATE(LEFT('1 - Opstart Importark'!$B$3,1),(LEFT('1 - Opstart Importark'!$B$15,2)),(LEFT('1 - Opstart Importark'!$B$18,3)),IF(I289=\"\",\"\",\"-\"),I289,IF(K289=\"\",\"\",\"-\"),K289,IF(M289=\"\",\"\",\"-\"),M289,IF(O289=\"\",\"\",\"-\"),O289))))","v":""},null," ",{"$nulls":11},{"$f":"IF(LEN('1 - Opstart Importark'!$B$6)>0,'1 - Opstart Importark'!$B$6,\"\")","v":""},{"$f":"IF(LEN('1 - Opstart Importark'!$B$9)>0,'1 - Opstart Importark'!$B$9,\"\")","v":""},{"$f":"IF(LEN('1 - Opstart Importark'!$B$31)>0,'1 - Opstart Importark'!$B$31,\"\")","v":""},{"$nulls":12},"",{"$nulls":8},0,"","","objektnogle_"]
[279,null,{"$f":"IF('1 - Opstart Importark'!$B$6=\"\",\"\",(IF('1 - Opstart Importark'!$B$15=\"\",CONCATENATE(LEFT('1 - Opstart Importark'!$B$3,1),(LEFT('1 - Opstart Importark'!$B$24,2)),LEFT('1 - Opstart Importark'!$B$28,3),IF(I290=\"\",\"\",\"-\"),I290,IF(K290=\"\",\"\",\"-\"),K290,IF(M290=\"\",\"\",\"-\"),M290,IF(O290=\"\",\"\",\"-\"),O290),CONCATENATE(LEFT('1 - Opstart Importark'!$B$3,1),(LEFT('1 - Opstart Importark'!$B$15,2)),(LEFT('1 - Opstart Importark'!$B$18,3)),IF(I290=\"\",\"\",\"-\"),I290,IF(K290=\"\",\"\",\"-\"),K290,IF(M290=\"\",\"\",\"-\"),M290,IF(O290=\"\",\"\",\"-\"),O290))))","v":""},null," ",{"$nulls":11},{"$f":"IF(LEN('1 - Opstart Importark'!$B$6)>0,'1 - Opstart Importark'!$B$6,\"\")","v":""},{"$f":"IF(LEN('1 - Opstart Importark'!$B$9)>0,'1 - Opstart Importark'!$B$9,\"\")","v":""},{"$f":"IF(LEN('1 - Opstart Importark'!$B$31)>0,'1 - Opstart Importark'!$B$31,\"\")","v":""},{"$nulls":12},"",{"$nulls":8},0,"","","objektnogle_"]
[280,null,{"$f":"IF('1 - Opstart Importark'!$B$6=\"\",\"\",(IF('1 - Opstart Importark'!$B$15=\"\",CONCATENATE(LEFT('1 - Opstart Importark'!$B$3,1),(LEFT('1 - Opstart Importark'!$B$24,2)),LEFT('1 - Opstart Importark'!$B$28,3),IF(I291=\"\",\"\",\"-\"),I291,IF(K291=\"\",\"\",\"-\"),K291,IF(M291=\"\",\"\",\"-\"),M291,IF(O291=\"\",\"\",\"-\"),O291),CONCATENATE(LEFT('1 - Opstart Importark'!$B$3,1),(LEFT('1 - Opstart Importark'!$B$15,2)),(LEFT('1 - Opstart Importark'!$B$18,3)),IF(I291=\"\",\"\",\"-\"),I291,IF(K291=\"\",\"\",\"-\"),K291,IF(M291=\"\",\"\",\"-\"),M291,IF(O291=\"\",\"\",\"-\"),O291))))","v":""},null," ",{"$nulls":11},{"$f":"IF(LEN('1 - Opstart Importark'!$B$6)>0,'1 - Opstart Importark'!$B$6,\"\")","v":""},{"$f":"IF(LEN('1 - Opstart Importark'!$B$9)>0,'1 - Opstart Importark'!$B$9,\"\")","v":""},{"$f":"IF(LEN('1 - Opstart Importark'!$B$31)>0,'1 - Opstart Importark'!$B$31,\"\")","v":""},{"$nulls":12},"",{"$nulls":8},0,"","","objektnogle_"]
[281,null,{"$f":"IF('1 - Opstart Importark'!$B$6=\"\",\"\",(IF('1 - Opstart Importark'!$B$15=\"\",CONCATENATE(LEFT('1 - Opstart Importark'!$B$3,1),(LEFT('1 - Opstart Importark'!$B$24,2)),LEFT('1 - Opstart Importark'!$B$28,3),IF(I292=\"\",\"\",\"-\"),I292,IF(K292=\"\",\"\",\"-\"),K292,IF(M292=\"\",\"\",\"-\"),M292,IF(O292=\"\",\"\",\"-\"),O292),CONCATENATE(LEFT('1 - Opstart Importark'!$B$3,1),(LEFT('1 - Opstart Importark'!$B$15,2)),(LEFT('1 - Opstart Importark'!$B$18,3)),IF(I292=\"\",\"\",\"-\"),I292,IF(K292=\"\",\"\",\"-\"),K292,IF(M292=\"\",\"\",\"-\"),M292,IF(O292=\"\",\"\",\"-\"),O292))))","v":""},null," ",{"$nulls":11},{"$f":"IF(LEN('1 - Opstart Importark'!$B$6)>0,'1 - Opstart Importark'!$B$6,\"\")","v":""},{"$f":"IF(LEN('1 - Opstart Importark'!$B$9)>0,'1 - Opstart Importark'!$B$9,\"\")","v":""},{"$f":"IF(LEN('1 - Opstart Importark'!$B$31)>0,'1 - Opstart Importark'!$B$31,\"\")","v":""},{"$nulls":12},"",{"$nulls":8},0,"","","objektnogle_"]
[282,null,{"$f":"IF('1 - Opstart Importark'!$B$6=\"\",\"\",(IF('1 - Opstart Importark'!$B$15=\"\",CONCATENATE(LEFT('1 - Opstart Importark'!$B$3,1),(LEFT('1 - Opstart Importark'!$B$24,2)),LEFT('1 - Opstart Importark'!$B$28,3),IF(I293=\"\",\"\",\"-\"),I293,IF(K293=\"\",\"\",\"-\"),K293,IF(M293=\"\",\"\",\"-\"),M293,IF(O293=\"\",\"\",\"-\"),O293),CONCATENATE(LEFT('1 - Opstart Importark'!$B$3,1),(LEFT('1 - Opstart Importark'!$B$15,2)),(LEFT('1 - Opstart Importark'!$B$18,3)),IF(I293=\"\",\"\",\"-\"),I293,IF(K293=\"\",\"\",\"-\"),K293,IF(M293=\"\",\"\",\"-\"),M293,IF(O293=\"\",\"\",\"-\"),O293))))","v":""},null," ",{"$nulls":11},{"$f":"IF(LEN('1 - Opstart Importark'!$B$6)>0,'1 - Opstart Importark'!$B$6,\"\")","v":""},{"$f":"IF(LEN('1 - Opstart Importark'!$B$9)>0,'1 - Opstart Importark'!$B$9,\"\")","v":""},{"$f":"IF(LEN('1 - Opstart Importark'!$B$31)>0,'1 - Opstart Importark'!$B$31,\"\")","v":""},{"$nulls":12},"",{"$nulls":8},0,"","","objektnogle_"]
[283,null,{"$f":"IF('1 - Opstart Importark'!$B$6=\"\",\"\",(IF('1 - Opstart Importark'!$B$15=\"\",CONCATENATE(LEFT('1 - Opstart Importark'!$B$3,1),(LEFT('1 - Opstart Importark'!$B$24,2)),LEFT('1 - Opstart Importark'!$B$28,3),IF(I294=\"\",\"\",\"-\"),I294,IF(K294=\"\",\"\",\"-\"),K294,IF(M294=\"\",\"\",\"-\"),M294,IF(O294=\"\",\"\",\"-\"),O294),CONCATENATE(LEFT('1 - Opstart Importark'!$B$3,1),(LEFT('1 - Opstart Importark'!$B$15,2)),(LEFT('1 - Opstart Importark'!$B$18,3)),IF(I294=\"\",\"\",\"-\"),I294,IF(K294=\"\",\"\",\"-\"),K294,IF(M294=\"\",\"\",\"-\"),M294,IF(O294=\"\",\"\",\"-\"),O294))))","v":""},null," ",{"$nulls":11},{"$f":"IF(LEN('1 - Opstart Importark'!$B$6)>0,'1 - Opstart Importark'!$B$6,\"\")","v":""},{"$f":"IF(LEN('1 - Opstart Importark'!$B$9)>0,'1 - Opstart Importark'!$B$9,\"\")","v":""},{"$f":"IF(LEN('1 - Opstart Importark'!$B$31)>0,'1 - Opstart Importark'!$B$31,\"\")","v":""},{"$nulls":12},"",{"$nulls":8},0,"","","objektnogle_"]
[284,null,{"$f":"IF('1 - Opstart Importark'!$B$6=\"\",\"\",(IF('1 - Opstart Importark'!$B$15=\"\",CONCATENATE(LEFT('1 - Opstart Importark'!$B$3,1),(LEFT('1 - Opstart Importark'!$B$24,2)),LEFT('1 - Opstart Importark'!$B$28,3),IF(I295=\"\",\"\",\"-\"),I295,IF(K295=\"\",\"\",\"-\"),K295,IF(M295=\"\",\"\",\"-\"),M295,IF(O295=\"\",\"\",\"-\"),O295),CONCATENATE(LEFT('1 - Opstart Importark'!$B$3,1),(LEFT('1 - Opstart Importark'!$B$15,2)),(LEFT('1 - Opstart Importark'!$B$18,3)),IF(I295=\"\",\"\",\"-\"),I295,IF(K295=\"\",\"\",\"-\"),K295,IF(M295=\"\",\"\",\"-\"),M295,IF(O295=\"\",\"\",\"-\"),O295))))","v":""},null," ",{"$nulls":11},{"$f":"IF(LEN('1 - Opstart Importark'!$B$6)>0,'1 - Opstart Importark'!$B$6,\"\")","v":""},{"$f":"IF(LEN('1 - Opstart Importark'!$B$9)>0,'1 - Opstart Importark'!$B$9,\"\")","v":""},{"$f":"IF(LEN('1 - Opstart Importark'!$B$31)>0,'1 - Opstart Importark'!$B$31,\"\")","v":""},{"$nulls":12},"",{"$nulls":8},0,"","","objektnogle_"]
[285,null,{"$f":"IF('1 - Opstart Importark'!$B$6=\"\",\"\",(IF('1 - Opstart Importark'!$B$15=\"\",CONCATENATE(LEFT('1 - Opstart Importark'!$B$3,1),(LEFT('1 - Opstart Importark'!$B$24,2)),LEFT('1 - Opstart Importark'!$B$28,3),IF(I296=\"\",\"\",\"-\"),I296,IF(K296=\"\",\"\",\"-\"),K296,IF(M296=\"\",\"\",\"-\"),M296,IF(O296=\"\",\"\",\"-\"),O296),CONCATENATE(LEFT('1 - Opstart Importark'!$B$3,1),(LEFT('1 - Opstart Importark'!$B$15,2)),(LEFT('1 - Opstart Importark'!$B$18,3)),IF(I296=\"\",\"\",\"-\"),I296,IF(K296=\"\",\"\",\"-\"),K296,IF(M296=\"\",\"\",\"-\"),M296,IF(O296=\"\",\"\",\"-\"),O296))))","v":""},null," ",{"$nulls":11},{"$f":"IF(LEN('1 - Opstart Importark'!$B$6)>0,'1 - Opstart Importark'!$B$6,\"\")","v":""},{"$f":"IF(LEN('1 - Opstart Importark'!$B$9)>0,'1 - Opstart Importark'!$B$9,\"\")","v":""},{"$f":"IF(LEN('1 - Opstart Importark'!$B$31)>0,'1 - Opstart Importark'!$B$31,\"\")","v":""},{"$nulls":12},"",{"$nulls":8},0,"","","objektnogle_"]
[286,null,{"$f":"IF('1 - Opstart Importark'!$B$6=\"\",\"\",(IF('1 - Opstart Importark'!$B$15=\"\",CONCATENATE(LEFT('1 - Opstart Importark'!$B$3,1),(LEFT('1 - Opstart Importark'!$B$24,2)),LEFT('1 - Opstart Importark'!$B$28,3),IF(I297=\"\",\"\",\"-\"),I297,IF(K297=\"\",\"\",\"-\"),K297,IF(M297=\"\",\"\",\"-\"),M297,IF(O297=\"\",\"\",\"-\"),O297),CONCATENATE(LEFT('1 - Opstart Importark'!$B$3,1),(LEFT('1 - Opstart Importark'!$B$15,2)),(LEFT('1 - Opstart Importark'!$B$18,3)),IF(I297=\"\",\"\",\"-\"),I297,IF(K297=\"\",\"\",\"-\"),K297,IF(M297=\"\",\"\",\"-\"),M297,IF(O297=\"\",\"\",\"-\"),O297))))","v":""},null," ",{"$nulls":11},{"$f":"IF(LEN('1 - Opstart Importark'!$B$6)>0,'1 - Opstart Importark'!$B$6,\"\")","v":""},{"$f":"IF(LEN('1 - Opstart Importark'!$B$9)>0,'1 - Opstart Importark'!$B$9,\"\")","v":""},{"$f":"IF(LEN('1 - Opstart Importark'!$B$31)>0,'1 - Opstart Importark'!$B$31,\"\")","v":""},{"$nulls":12},"",{"$nulls":8},0,"","","objektnogle_"]
[287,null,{"$f":"IF('1 - Opstart Importark'!$B$6=\"\",\"\",(IF('1 - Opstart Importark'!$B$15=\"\",CONCATENATE(LEFT('1 - Opstart Importark'!$B$3,1),(LEFT('1 - Opstart Importark'!$B$24,2)),LEFT('1 - Opstart Importark'!$B$28,3),IF(I298=\"\",\"\",\"-\"),I298,IF(K298=\"\",\"\",\"-\"),K298,IF(M298=\"\",\"\",\"-\"),M298,IF(O298=\"\",\"\",\"-\"),O298),CONCATENATE(LEFT('1 - Opstart Importark'!$B$3,1),(LEFT('1 - Opstart Importark'!$B$15,2)),(LEFT('1 - Opstart Importark'!$B$18,3)),IF(I298=\"\",\"\",\"-\"),I298,IF(K298=\"\",\"\",\"-\"),K298,IF(M298=\"\",\"\",\"-\"),M298,IF(O298=\"\",\"\",\"-\"),O298))))","v":""},null," ",{"$nulls":11},{"$f":"IF(LEN('1 - Opstart Importark'!$B$6)>0,'1 - Opstart Importark'!$B$6,\"\")","v":""},{"$f":"IF(LEN('1 - Opstart Importark'!$B$9)>0,'1 - Opstart Importark'!$B$9,\"\")","v":""},{"$f":"IF(LEN('1 - Opstart Importark'!$B$31)>0,'1 - Opstart Importark'!$B$31,\"\")","v":""},{"$nulls":12},"",{"$nulls":8},0,"","","objektnogle_"]
[288,null,{"$f":"IF('1 - Opstart Importark'!$B$6=\"\",\"\",(IF('1 - Opstart Importark'!$B$15=\"\",CONCATENATE(LEFT('1 - Opstart Importark'!$B$3,1),(LEFT('1 - Opstart Importark'!$B$24,2)),LEFT('1 - Opstart Importark'!$B$28,3),IF(I299=\"\",\"\",\"-\"),I299,IF(K299=\"\",\"\",\"-\"),K299,IF(M299=\"\",\"\",\"-\"),M299,IF(O299=\"\",\"\",\"-\"),O299),CONCATENATE(LEFT('1 - Opstart Importark'!$B$3,1),(LEFT('1 - Opstart Importark'!$B$15,2)),(LEFT('1 - Opstart Importark'!$B$18,3)),IF(I299=\"\",\"\",\"-\"),I299,IF(K299=\"\",\"\",\"-\"),K299,IF(M299=\"\",\"\",\"-\"),M299,IF(O299=\"\",\"\",\"-\"),O299))))","v":""},null," ",{"$nulls":11},{"$f":"IF(LEN('1 - Opstart Importark'!$B$6)>0,'1 - Opstart Importark'!$B$6,\"\")","v":""},{"$f":"IF(LEN('1 - Opstart Importark'!$B$9)>0,'1 - Opstart Importark'!$B$9,\"\")","v":""},{"$f":"IF(LEN('1 - Opstart Importark'!$B$31)>0,'1 - Opstart Importark'!$B$31,\"\")","v":""},{"$nulls":12},"",{"$nulls":8},0,"","","objektnogle_"]
[289,null,{"$f":"IF('1 - Opstart Importark'!$B$6=\"\",\"\",(IF('1 - Opstart Importark'!$B$15=\"\",CONCATENATE(LEFT('1 - Opstart Importark'!$B$3,1),(LEFT('1 - Opstart Importark'!$B$24,2)),LEFT('1 - Opstart Importark'!$B$28,3),IF(I300=\"\",\"\",\"-\"),I300,IF(K300=\"\",\"\",\"-\"),K300,IF(M300=\"\",\"\",\"-\"),M300,IF(O300=\"\",\"\",\"-\"),O300),CONCATENATE(LEFT('1 - Opstart Importark'!$B$3,1),(LEFT('1 - Opstart Importark'!$B$15,2)),(LEFT('1 - Opstart Importark'!$B$18,3)),IF(I300=\"\",\"\",\"-\"),I300,IF(K300=\"\",\"\",\"-\"),K300,IF(M300=\"\",\"\",\"-\"),M300,IF(O300=\"\",\"\",\"-\"),O300))))","v":""},null," ",{"$nulls":11},{"$f":"IF(LEN('1 - Opstart Importark'!$B$6)>0,'1 - Opstart Importark'!$B$6,\"\")","v":""},{"$f":"IF(LEN('1 - Opstart Importark'!$B$9)>0,'1 - Opstart Importark'!$B$9,\"\")","v":""},{"$f":"IF(LEN('1 - Opstart Importark'!$B$31)>0,'1 - Opstart Importark'!$B$31,\"\")","v":""},{"$nulls":12},"",{"$nulls":8},0,"","","objektnogle_"]
[290,null,{"$f":"IF('1 - Opstart Importark'!$B$6=\"\",\"\",(IF('1 - Opstart Importark'!$B$15=\"\",CONCATENATE(LEFT('1 - Opstart Importark'!$B$3,1),(LEFT('1 - Opstart Importark'!$B$24,2)),LEFT('1 - Opstart Importark'!$B$28,3),IF(I301=\"\",\"\",\"-\"),I301,IF(K301=\"\",\"\",\"-\"),K301,IF(M301=\"\",\"\",\"-\"),M301,IF(O301=\"\",\"\",\"-\"),O301),CONCATENATE(LEFT('1 - Opstart Importark'!$B$3,1),(LEFT('1 - Opstart Importark'!$B$15,2)),(LEFT('1 - Opstart Importark'!$B$18,3)),IF(I301=\"\",\"\",\"-\"),I301,IF(K301=\"\",\"\",\"-\"),K301,IF(M301=\"\",\"\",\"-\"),M301,IF(O301=\"\",\"\",\"-\"),O301))))","v":""},null," ",{"$nulls":11},{"$f":"IF(LEN('1 - Opstart Importark'!$B$6)>0,'1 - Opstart Importark'!$B$6,\"\")","v":""},{"$f":"IF(LEN('1 - Opstart Importark'!$B$9)>0,'1 - Opstart Importark'!$B$9,\"\")","v":""},{"$f":"IF(LEN('1 - Opstart Importark'!$B$31)>0,'1 - Opstart Importark'!$B$31,\"\")","v":""},{"$nulls":12},"",{"$nulls":8},0,"","","objektnogle_"]
[291,null,{"$f":"IF('1 - Opstart Importark'!$B$6=\"\",\"\",(IF('1 - Opstart Importark'!$B$15=\"\",CONCATENATE(LEFT('1 - Opstart Importark'!$B$3,1),(LEFT('1 - Opstart Importark'!$B$24,2)),LEFT('1 - Opstart Importark'!$B$28,3),IF(I302=\"\",\"\",\"-\"),I302,IF(K302=\"\",\"\",\"-\"),K302,IF(M302=\"\",\"\",\"-\"),M302,IF(O302=\"\",\"\",\"-\"),O302),CONCATENATE(LEFT('1 - Opstart Importark'!$B$3,1),(LEFT('1 - Opstart Importark'!$B$15,2)),(LEFT('1 - Opstart Importark'!$B$18,3)),IF(I302=\"\",\"\",\"-\"),I302,IF(K302=\"\",\"\",\"-\"),K302,IF(M302=\"\",\"\",\"-\"),M302,IF(O302=\"\",\"\",\"-\"),O302))))","v":""},null," ",{"$nulls":11},{"$f":"IF(LEN('1 - Opstart Importark'!$B$6)>0,'1 - Opstart Importark'!$B$6,\"\")","v":""},{"$f":"IF(LEN('1 - Opstart Importark'!$B$9)>0,'1 - Opstart Importark'!$B$9,\"\")","v":""},{"$f":"IF(LEN('1 - Opstart Importark'!$B$31)>0,'1 - Opstart Importark'!$B$31,\"\")","v":""},{"$nulls":12},"",{"$nulls":8},0,"","","objektnogle_"]
[292,null,{"$f":"IF('1 - Opstart Importark'!$B$6=\"\",\"\",(IF('1 - Opstart Importark'!$B$15=\"\",CONCATENATE(LEFT('1 - Opstart Importark'!$B$3,1),(LEFT('1 - Opstart Importark'!$B$24,2)),LEFT('1 - Opstart Importark'!$B$28,3),IF(I303=\"\",\"\",\"-\"),I303,IF(K303=\"\",\"\",\"-\"),K303,IF(M303=\"\",\"\",\"-\"),M303,IF(O303=\"\",\"\",\"-\"),O303),CONCATENATE(LEFT('1 - Opstart Importark'!$B$3,1),(LEFT('1 - Opstart Importark'!$B$15,2)),(LEFT('1 - Opstart Importark'!$B$18,3)),IF(I303=\"\",\"\",\"-\"),I303,IF(K303=\"\",\"\",\"-\"),K303,IF(M303=\"\",\"\",\"-\"),M303,IF(O303=\"\",\"\",\"-\"),O303))))","v":""},null," ",{"$nulls":11},{"$f":"IF(LEN('1 - Opstart Importark'!$B$6)>0,'1 - Opstart Importark'!$B$6,\"\")","v":""},{"$f":"IF(LEN('1 - Opstart Importark'!$B$9)>0,'1 - Opstart Importark'!$B$9,\"\")","v":""},{"$f":"IF(LEN('1 - Opstart Importark'!$B$31)>0,'1 - Opstart Importark'!$B$31,\"\")","v":""},{"$nulls":12},"",{"$nulls":8},0,"","","objektnogle_"]
[293,null,{"$f":"IF('1 - Opstart Importark'!$B$6=\"\",\"\",(IF('1 - Opstart Importark'!$B$15=\"\",CONCATENATE(LEFT('1 - Opstart Importark'!$B$3,1),(LEFT('1 - Opstart Importark'!$B$24,2)),LEFT('1 - Opstart Importark'!$B$28,3),IF(I304=\"\",\"\",\"-\"),I304,IF(K304=\"\",\"\",\"-\"),K304,IF(M304=\"\",\"\",\"-\"),M304,IF(O304=\"\",\"\",\"-\"),O304),CONCATENATE(LEFT('1 - Opstart Importark'!$B$3,1),(LEFT('1 - Opstart Importark'!$B$15,2)),(LEFT('1 - Opstart Importark'!$B$18,3)),IF(I304=\"\",\"\",\"-\"),I304,IF(K304=\"\",\"\",\"-\"),K304,IF(M304=\"\",\"\",\"-\"),M304,IF(O304=\"\",\"\",\"-\"),O304))))","v":""},null," ",{"$nulls":11},{"$f":"IF(LEN('1 - Opstart Importark'!$B$6)>0,'1 - Opstart Importark'!$B$6,\"\")","v":""},{"$f":"IF(LEN('1 - Opstart Importark'!$B$9)>0,'1 - Opstart Importark'!$B$9,\"\")","v":""},{"$f":"IF(LEN('1 - Opstart Importark'!$B$31)>0,'1 - Opstart Importark'!$B$31,\"\")","v":""},{"$nulls":12},"",{"$nulls":8},0,"","","objektnogle_"]
[294,null,{"$f":"IF('1 - Opstart Importark'!$B$6=\"\",\"\",(IF('1 - Opstart Importark'!$B$15=\"\",CONCATENATE(LEFT('1 - Opstart Importark'!$B$3,1),(LEFT('1 - Opstart Importark'!$B$24,2)),LEFT('1 - Opstart Importark'!$B$28,3),IF(I305=\"\",\"\",\"-\"),I305,IF(K305=\"\",\"\",\"-\"),K305,IF(M305=\"\",\"\",\"-\"),M305,IF(O305=\"\",\"\",\"-\"),O305),CONCATENATE(LEFT('1 - Opstart Importark'!$B$3,1),(LEFT('1 - Opstart Importark'!$B$15,2)),(LEFT('1 - Opstart Importark'!$B$18,3)),IF(I305=\"\",\"\",\"-\"),I305,IF(K305=\"\",\"\",\"-\"),K305,IF(M305=\"\",\"\",\"-\"),M305,IF(O305=\"\",\"\",\"-\"),O305))))","v":""},null," ",{"$nulls":11},{"$f":"IF(LEN('1 - Opstart Importark'!$B$6)>0,'1 - Opstart Importark'!$B$6,\"\")","v":""},{"$f":"IF(LEN('1 - Opstart Importark'!$B$9)>0,'1 - Opstart Importark'!$B$9,\"\")","v":""},{"$f":"IF(LEN('1 - Opstart Importark'!$B$31)>0,'1 - Opstart Importark'!$B$31,\"\")","v":""},{"$nulls":12},"",{"$nulls":8},0,"","","objektnogle_"]
[295,null,{"$f":"IF('1 - Opstart Importark'!$B$6=\"\",\"\",(IF('1 - Opstart Importark'!$B$15=\"\",CONCATENATE(LEFT('1 - Opstart Importark'!$B$3,1),(LEFT('1 - Opstart Importark'!$B$24,2)),LEFT('1 - Opstart Importark'!$B$28,3),IF(I306=\"\",\"\",\"-\"),I306,IF(K306=\"\",\"\",\"-\"),K306,IF(M306=\"\",\"\",\"-\"),M306,IF(O306=\"\",\"\",\"-\"),O306),CONCATENATE(LEFT('1 - Opstart Importark'!$B$3,1),(LEFT('1 - Opstart Importark'!$B$15,2)),(LEFT('1 - Opstart Importark'!$B$18,3)),IF(I306=\"\",\"\",\"-\"),I306,IF(K306=\"\",\"\",\"-\"),K306,IF(M306=\"\",\"\",\"-\"),M306,IF(O306=\"\",\"\",\"-\"),O306))))","v":""},null," ",{"$nulls":11},{"$f":"IF(LEN('1 - Opstart Importark'!$B$6)>0,'1 - Opstart Importark'!$B$6,\"\")","v":""},{"$f":"IF(LEN('1 - Opstart Importark'!$B$9)>0,'1 - Opstart Importark'!$B$9,\"\")","v":""},{"$f":"IF(LEN('1 - Opstart Importark'!$B$31)>0,'1 - Opstart Importark'!$B$31,\"\")","v":""},{"$nulls":12},"",{"$nulls":8},0,"","","objektnogle_"]
[296,null,{"$f":"IF('1 - Opstart Importark'!$B$6=\"\",\"\",(IF('1 - Opstart Importark'!$B$15=\"\",CONCATENATE(LEFT('1 - Opstart Importark'!$B$3,1),(LEFT('1 - Opstart Importark'!$B$24,2)),LEFT('1 - Opstart Importark'!$B$28,3),IF(I307=\"\",\"\",\"-\"),I307,IF(K307=\"\",\"\",\"-\"),K307,IF(M307=\"\",\"\",\"-\"),M307,IF(O307=\"\",\"\",\"-\"),O307),CONCATENATE(LEFT('1 - Opstart Importark'!$B$3,1),(LEFT('1 - Opstart Importark'!$B$15,2)),(LEFT('1 - Opstart Importark'!$B$18,3)),IF(I307=\"\",\"\",\"-\"),I307,IF(K307=\"\",\"\",\"-\"),K307,IF(M307=\"\",\"\",\"-\"),M307,IF(O307=\"\",\"\",\"-\"),O307))))","v":""},null," ",{"$nulls":11},{"$f":"IF(LEN('1 - Opstart Importark'!$B$6)>0,'1 - Opstart Importark'!$B$6,\"\")","v":""},{"$f":"IF(LEN('1 - Opstart Importark'!$B$9)>0,'1 - Opstart Importark'!$B$9,\"\")","v":""},{"$f":"IF(LEN('1 - Opstart Importark'!$B$31)>0,'1 - Opstart Importark'!$B$31,\"\")","v":""},{"$nulls":12},"",{"$nulls":8},0,"","","objektnogle_"]
[297,null,{"$f":"IF('1 - Opstart Importark'!$B$6=\"\",\"\",(IF('1 - Opstart Importark'!$B$15=\"\",CONCATENATE(LEFT('1 - Opstart Importark'!$B$3,1),(LEFT('1 - Opstart Importark'!$B$24,2)),LEFT('1 - Opstart Importark'!$B$28,3),IF(I308=\"\",\"\",\"-\"),I308,IF(K308=\"\",\"\",\"-\"),K308,IF(M308=\"\",\"\",\"-\"),M308,IF(O308=\"\",\"\",\"-\"),O308),CONCATENATE(LEFT('1 - Opstart Importark'!$B$3,1),(LEFT('1 - Opstart Importark'!$B$15,2)),(LEFT('1 - Opstart Importark'!$B$18,3)),IF(I308=\"\",\"\",\"-\"),I308,IF(K308=\"\",\"\",\"-\"),K308,IF(M308=\"\",\"\",\"-\"),M308,IF(O308=\"\",\"\",\"-\"),O308))))","v":""},null," ",{"$nulls":11},{"$f":"IF(LEN('1 - Opstart Importark'!$B$6)>0,'1 - Opstart Importark'!$B$6,\"\")","v":""},{"$f":"IF(LEN('1 - Opstart Importark'!$B$9)>0,'1 - Opstart Importark'!$B$9,\"\")","v":""},{"$f":"IF(LEN('1 - Opstart Importark'!$B$31)>0,'1 - Opstart Importark'!$B$31,\"\")","v":""},{"$nulls":12},"",{"$nulls":8},0,"","","objektnogle_"]
[298,null,{"$f":"IF('1 - Opstart Importark'!$B$6=\"\",\"\",(IF('1 - Opstart Importark'!$B$15=\"\",CONCATENATE(LEFT('1 - Opstart Importark'!$B$3,1),(LEFT('1 - Opstart Importark'!$B$24,2)),LEFT('1 - Opstart Importark'!$B$28,3),IF(I309=\"\",\"\",\"-\"),I309,IF(K309=\"\",\"\",\"-\"),K309,IF(M309=\"\",\"\",\"-\"),M309,IF(O309=\"\",\"\",\"-\"),O309),CONCATENATE(LEFT('1 - Opstart Importark'!$B$3,1),(LEFT('1 - Opstart Importark'!$B$15,2)),(LEFT('1 - Opstart Importark'!$B$18,3)),IF(I309=\"\",\"\",\"-\"),I309,IF(K309=\"\",\"\",\"-\"),K309,IF(M309=\"\",\"\",\"-\"),M309,IF(O309=\"\",\"\",\"-\"),O309))))","v":""},null," ",{"$nulls":11},{"$f":"IF(LEN('1 - Opstart Importark'!$B$6)>0,'1 - Opstart Importark'!$B$6,\"\")","v":""},{"$f":"IF(LEN('1 - Opstart Importark'!$B$9)>0,'1 - Opstart Importark'!$B$9,\"\")","v":""},{"$f":"IF(LEN('1 - Opstart Importark'!$B$31)>0,'1 - Opstart Importark'!$B$31,\"\")","v":""},{"$nulls":12},"",{"$nulls":8},0,"","","objektnogle_"]
[299,null,{"$f":"IF('1 - Opstart Importark'!$B$6=\"\",\"\",(IF('1 - Opstart Importark'!$B$15=\"\",CONCATENATE(LEFT('1 - Opstart Importark'!$B$3,1),(LEFT('1 - Opstart Importark'!$B$24,2)),LEFT('1 - Opstart Importark'!$B$28,3),IF(I310=\"\",\"\",\"-\"),I310,IF(K310=\"\",\"\",\"-\"),K310,IF(M310=\"\",\"\",\"-\"),M310,IF(O310=\"\",\"\",\"-\"),O310),CONCATENATE(LEFT('1 - Opstart Importark'!$B$3,1),(LEFT('1 - Opstart Importark'!$B$15,2)),(LEFT('1 - Opstart Importark'!$B$18,3)),IF(I310=\"\",\"\",\"-\"),I310,IF(K310=\"\",\"\",\"-\"),K310,IF(M310=\"\",\"\",\"-\"),M310,IF(O310=\"\",\"\",\"-\"),O310))))","v":""},null," ",{"$nulls":11},{"$f":"IF(LEN('1 - Opstart Importark'!$B$6)>0,'1 - Opstart Importark'!$B$6,\"\")","v":""},{"$f":"IF(LEN('1 - Opstart Importark'!$B$9)>0,'1 - Opstart Importark'!$B$9,\"\")","v":""},{"$f":"IF(LEN('1 - Opstart Importark'!$B$31)>0,'1 - Opstart Importark'!$B$31,\"\")","v":""},{"$nulls":12},"",{"$nulls":8},0,"","","objektnogle_"]
[300,null,{"$f":"IF('1 - Opstart Importark'!$B$6=\"\",\"\",(IF('1 - Opstart Importark'!$B$15=\"\",CONCATENATE(LEFT('1 - Opstart Importark'!$B$3,1),(LEFT('1 - Opstart Importark'!$B$24,2)),LEFT('1 - Opstart Importark'!$B$28,3),IF(I311=\"\",\"\",\"-\"),I311,IF(K311=\"\",\"\",\"-\"),K311,IF(M311=\"\",\"\",\"-\"),M311,IF(O311=\"\",\"\",\"-\"),O311),CONCATENATE(LEFT('1 - Opstart Importark'!$B$3,1),(LEFT('1 - Opstart Importark'!$B$15,2)),(LEFT('1 - Opstart Importark'!$B$18,3)),IF(I311=\"\",\"\",\"-\"),I311,IF(K311=\"\",\"\",\"-\"),K311,IF(M311=\"\",\"\",\"-\"),M311,IF(O311=\"\",\"\",\"-\"),O311))))","v":""},null," ",{"$nulls":11},{"$f":"IF(LEN('1 - Opstart Importark'!$B$6)>0,'1 - Opstart Importark'!$B$6,\"\")","v":""},{"$f":"IF(LEN('1 - Opstart Importark'!$B$9)>0,'1 - Opstart Importark'!$B$9,\"\")","v":""},{"$f":"IF(LEN('1 - Opstart Importark'!$B$31)>0,'1 - Opstart Importark'!$B$31,\"\")","v":""},{"$nulls":12},"",{"$nulls":8},0,"","","objektnogle_"]
[301,null,{"$f":"IF('1 - Opstart Importark'!$B$6=\"\",\"\",(IF('1 - Opstart Importark'!$B$15=\"\",CONCATENATE(LEFT('1 - Opstart Importark'!$B$3,1),(LEFT('1 - Opstart Importark'!$B$24,2)),LEFT('1 - Opstart Importark'!$B$28,3),IF(I312=\"\",\"\",\"-\"),I312,IF(K312=\"\",\"\",\"-\"),K312,IF(M312=\"\",\"\",\"-\"),M312,IF(O312=\"\",\"\",\"-\"),O312),CONCATENATE(LEFT('1 - Opstart Importark'!$B$3,1),(LEFT('1 - Opstart Importark'!$B$15,2)),(LEFT('1 - Opstart Importark'!$B$18,3)),IF(I312=\"\",\"\",\"-\"),I312,IF(K312=\"\",\"\",\"-\"),K312,IF(M312=\"\",\"\",\"-\"),M312,IF(O312=\"\",\"\",\"-\"),O312))))","v":""},null," ",{"$nulls":11},{"$f":"IF(LEN('1 - Opstart Importark'!$B$6)>0,'1 - Opstart Importark'!$B$6,\"\")","v":""},{"$f":"IF(LEN('1 - Opstart Importark'!$B$9)>0,'1 - Opstart Importark'!$B$9,\"\")","v":""},{"$f":"IF(LEN('1 - Opstart Importark'!$B$31)>0,'1 - Opstart Importark'!$B$31,\"\")","v":""},{"$nulls":12},"",{"$nulls":8},0,"","","objektnogle_"]
[302,null,{"$f":"IF('1 - Opstart Importark'!$B$6=\"\",\"\",(IF('1 - Opstart Importark'!$B$15=\"\",CONCATENATE(LEFT('1 - Opstart Importark'!$B$3,1),(LEFT('1 - Opstart Importark'!$B$24,2)),LEFT('1 - Opstart Importark'!$B$28,3),IF(I313=\"\",\"\",\"-\"),I313,IF(K313=\"\",\"\",\"-\"),K313,IF(M313=\"\",\"\",\"-\"),M313,IF(O313=\"\",\"\",\"-\"),O313),CONCATENATE(LEFT('1 - Opstart Importark'!$B$3,1),(LEFT('1 - Opstart Importark'!$B$15,2)),(LEFT('1 - Opstart Importark'!$B$18,3)),IF(I313=\"\",\"\",\"-\"),I313,IF(K313=\"\",\"\",\"-\"),K313,IF(M313=\"\",\"\",\"-\"),M313,IF(O313=\"\",\"\",\"-\"),O313))))","v":""},null," ",{"$nulls":11},{"$f":"IF(LEN('1 - Opstart Importark'!$B$6)>0,'1 - Opstart Importark'!$B$6,\"\")","v":""},{"$f":"IF(LEN('1 - Opstart Importark'!$B$9)>0,'1 - Opstart Importark'!$B$9,\"\")","v":""},{"$f":"IF(LEN('1 - Opstart Importark'!$B$31)>0,'1 - Opstart Importark'!$B$31,\"\")","v":""},{"$nulls":12},"",{"$nulls":8},0,"","","objektnogle_"]
[303,null,{"$f":"IF('1 - Opstart Importark'!$B$6=\"\",\"\",(IF('1 - Opstart Importark'!$B$15=\"\",CONCATENATE(LEFT('1 - Opstart Importark'!$B$3,1),(LEFT('1 - Opstart Importark'!$B$24,2)),LEFT('1 - Opstart Importark'!$B$28,3),IF(I314=\"\",\"\",\"-\"),I314,IF(K314=\"\",\"\",\"-\"),K314,IF(M314=\"\",\"\",\"-\"),M314,IF(O314=\"\",\"\",\"-\"),O314),CONCATENATE(LEFT('1 - Opstart Importark'!$B$3,1),(LEFT('1 - Opstart Importark'!$B$15,2)),(LEFT('1 - Opstart Importark'!$B$18,3)),IF(I314=\"\",\"\",\"-\"),I314,IF(K314=\"\",\"\",\"-\"),K314,IF(M314=\"\",\"\",\"-\"),M314,IF(O314=\"\",\"\",\"-\"),O314))))","v":""},null," ",{"$nulls":11},{"$f":"IF(LEN('1 - Opstart Importark'!$B$6)>0,'1 - Opstart Importark'!$B$6,\"\")","v":""},{"$f":"IF(LEN('1 - Opstart Importark'!$B$9)>0,'1 - Opstart Importark'!$B$9,\"\")","v":""},{"$f":"IF(LEN('1 - Opstart Importark'!$B$31)>0,'1 - Opstart Importark'!$B$31,\"\")","v":""},{"$nulls":12},"",{"$nulls":8},0,"","","objektnogle_"]
[304,null,{"$f":"IF('1 - Opstart Importark'!$B$6=\"\",\"\",(IF('1 - Opstart Importark'!$B$15=\"\",CONCATENATE(LEFT('1 - Opstart Importark'!$B$3,1),(LEFT('1 - Opstart Importark'!$B$24,2)),LEFT('1 - Opstart Importark'!$B$28,3),IF(I315=\"\",\"\",\"-\"),I315,IF(K315=\"\",\"\",\"-\"),K315,IF(M315=\"\",\"\",\"-\"),M315,IF(O315=\"\",\"\",\"-\"),O315),CONCATENATE(LEFT('1 - Opstart Importark'!$B$3,1),(LEFT('1 - Opstart Importark'!$B$15,2)),(LEFT('1 - Opstart Importark'!$B$18,3)),IF(I315=\"\",\"\",\"-\"),I315,IF(K315=\"\",\"\",\"-\"),K315,IF(M315=\"\",\"\",\"-\"),M315,IF(O315=\"\",\"\",\"-\"),O315))))","v":""},null," ",{"$nulls":11},{"$f":"IF(LEN('1 - Opstart Importark'!$B$6)>0,'1 - Opstart Importark'!$B$6,\"\")","v":""},{"$f":"IF(LEN('1 - Opstart Importark'!$B$9)>0,'1 - Opstart Importark'!$B$9,\"\")","v":""},{"$f":"IF(LEN('1 - Opstart Importark'!$B$31)>0,'1 - Opstart Importark'!$B$31,\"\")","v":""},{"$nulls":12},"",{"$nulls":8},0,"","","objektnogle_"]
[305,null,{"$f":"IF('1 - Opstart Importark'!$B$6=\"\",\"\",(IF('1 - Opstart Importark'!$B$15=\"\",CONCATENATE(LEFT('1 - Opstart Importark'!$B$3,1),(LEFT('1 - Opstart Importark'!$B$24,2)),LEFT('1 - Opstart Importark'!$B$28,3),IF(I316=\"\",\"\",\"-\"),I316,IF(K316=\"\",\"\",\"-\"),K316,IF(M316=\"\",\"\",\"-\"),M316,IF(O316=\"\",\"\",\"-\"),O316),CONCATENATE(LEFT('1 - Opstart Importark'!$B$3,1),(LEFT('1 - Opstart Importark'!$B$15,2)),(LEFT('1 - Opstart Importark'!$B$18,3)),IF(I316=\"\",\"\",\"-\"),I316,IF(K316=\"\",\"\",\"-\"),K316,IF(M316=\"\",\"\",\"-\"),M316,IF(O316=\"\",\"\",\"-\"),O316))))","v":""},null," ",{"$nulls":11},{"$f":"IF(LEN('1 - Opstart Importark'!$B$6)>0,'1 - Opstart Importark'!$B$6,\"\")","v":""},{"$f":"IF(LEN('1 - Opstart Importark'!$B$9)>0,'1 - Opstart Importark'!$B$9,\"\")","v":""},{"$f":"IF(LEN('1 - Opstart Importark'!$B$31)>0,'1 - Opstart Importark'!$B$31,\"\")","v":""},{"$nulls":12},"",{"$nulls":8},0,"","","objektnogle_"]
[306,null,{"$f":"IF('1 - Opstart Importark'!$B$6=\"\",\"\",(IF('1 - Opstart Importark'!$B$15=\"\",CONCATENATE(LEFT('1 - Opstart Importark'!$B$3,1),(LEFT('1 - Opstart Importark'!$B$24,2)),LEFT('1 - Opstart Importark'!$B$28,3),IF(I317=\"\",\"\",\"-\"),I317,IF(K317=\"\",\"\",\"-\"),K317,IF(M317=\"\",\"\",\"-\"),M317,IF(O317=\"\",\"\",\"-\"),O317),CONCATENATE(LEFT('1 - Opstart Importark'!$B$3,1),(LEFT('1 - Opstart Importark'!$B$15,2)),(LEFT('1 - Opstart Importark'!$B$18,3)),IF(I317=\"\",\"\",\"-\"),I317,IF(K317=\"\",\"\",\"-\"),K317,IF(M317=\"\",\"\",\"-\"),M317,IF(O317=\"\",\"\",\"-\"),O317))))","v":""},null," ",{"$nulls":11},{"$f":"IF(LEN('1 - Opstart Importark'!$B$6)>0,'1 - Opstart Importark'!$B$6,\"\")","v":""},{"$f":"IF(LEN('1 - Opstart Importark'!$B$9)>0,'1 - Opstart Importark'!$B$9,\"\")","v":""},{"$f":"IF(LEN('1 - Opstart Importark'!$B$31)>0,'1 - Opstart Importark'!$B$31,\"\")","v":""},{"$nulls":12},"",{"$nulls":8},0,"","","objektnogle_"]
[307,null,{"$f":"IF('1 - Opstart Importark'!$B$6=\"\",\"\",(IF('1 - Opstart Importark'!$B$15=\"\",CONCATENATE(LEFT('1 - Opstart Importark'!$B$3,1),(LEFT('1 - Opstart Importark'!$B$24,2)),LEFT('1 - Opstart Importark'!$B$28,3),IF(I318=\"\",\"\",\"-\"),I318,IF(K318=\"\",\"\",\"-\"),K318,IF(M318=\"\",\"\",\"-\"),M318,IF(O318=\"\",\"\",\"-\"),O318),CONCATENATE(LEFT('1 - Opstart Importark'!$B$3,1),(LEFT('1 - Opstart Importark'!$B$15,2)),(LEFT('1 - Opstart Importark'!$B$18,3)),IF(I318=\"\",\"\",\"-\"),I318,IF(K318=\"\",\"\",\"-\"),K318,IF(M318=\"\",\"\",\"-\"),M318,IF(O318=\"\",\"\",\"-\"),O318))))","v":""},null," ",{"$nulls":11},{"$f":"IF(LEN('1 - Opstart Importark'!$B$6)>0,'1 - Opstart Importark'!$B$6,\"\")","v":""},{"$f":"IF(LEN('1 - Opstart Importark'!$B$9)>0,'1 - Opstart Importark'!$B$9,\"\")","v":""},{"$f":"IF(LEN('1 - Opstart Importark'!$B$31)>0,'1 - Opstart Importark'!$B$31,\"\")","v":""},{"$nulls":12},"",{"$nulls":8},0,"","","objektnogle_"]
[308,null,{"$f":"IF('1 - Opstart Importark'!$B$6=\"\",\"\",(IF('1 - Opstart Importark'!$B$15=\"\",CONCATENATE(LEFT('1 - Opstart Importark'!$B$3,1),(LEFT('1 - Opstart Importark'!$B$24,2)),LEFT('1 - Opstart Importark'!$B$28,3),IF(I319=\"\",\"\",\"-\"),I319,IF(K319=\"\",\"\",\"-\"),K319,IF(M319=\"\",\"\",\"-\"),M319,IF(O319=\"\",\"\",\"-\"),O319),CONCATENATE(LEFT('1 - Opstart Importark'!$B$3,1),(LEFT('1 - Opstart Importark'!$B$15,2)),(LEFT('1 - Opstart Importark'!$B$18,3)),IF(I319=\"\",\"\",\"-\"),I319,IF(K319=\"\",\"\",\"-\"),K319,IF(M319=\"\",\"\",\"-\"),M319,IF(O319=\"\",\"\",\"-\"),O319))))","v":""},null," ",{"$nulls":11},{"$f":"IF(LEN('1 - Opstart Importark'!$B$6)>0,'1 - Opstart Importark'!$B$6,\"\")","v":""},{"$f":"IF(LEN('1 - Opstart Importark'!$B$9)>0,'1 - Opstart Importark'!$B$9,\"\")","v":""},{"$f":"IF(LEN('1 - Opstart Importark'!$B$31)>0,'1 - Opstart Importark'!$B$31,\"\")","v":""},{"$nulls":12},"",{"$nulls":8},0,"","","objektnogle_"]
[309,null,{"$f":"IF('1 - Opstart Importark'!$B$6=\"\",\"\",(IF('1 - Opstart Importark'!$B$15=\"\",CONCATENATE(LEFT('1 - Opstart Importark'!$B$3,1),(LEFT('1 - Opstart Importark'!$B$24,2)),LEFT('1 - Opstart Importark'!$B$28,3),IF(I320=\"\",\"\",\"-\"),I320,IF(K320=\"\",\"\",\"-\"),K320,IF(M320=\"\",\"\",\"-\"),M320,IF(O320=\"\",\"\",\"-\"),O320),CONCATENATE(LEFT('1 - Opstart Importark'!$B$3,1),(LEFT('1 - Opstart Importark'!$B$15,2)),(LEFT('1 - Opstart Importark'!$B$18,3)),IF(I320=\"\",\"\",\"-\"),I320,IF(K320=\"\",\"\",\"-\"),K320,IF(M320=\"\",\"\",\"-\"),M320,IF(O320=\"\",\"\",\"-\"),O320))))","v":""},null," ",{"$nulls":11},{"$f":"IF(LEN('1 - Opstart Importark'!$B$6)>0,'1 - Opstart Importark'!$B$6,\"\")","v":""},{"$f":"IF(LEN('1 - Opstart Importark'!$B$9)>0,'1 - Opstart Importark'!$B$9,\"\")","v":""},{"$f":"IF(LEN('1 - Opstart Importark'!$B$31)>0,'1 - Opstart Importark'!$B$31,\"\")","v":""},{"$nulls":12},"",{"$nulls":8},0,"","","objektnogle_"]
[310,null,{"$f":"IF('1 - Opstart Importark'!$B$6=\"\",\"\",(IF('1 - Opstart Importark'!$B$15=\"\",CONCATENATE(LEFT('1 - Opstart Importark'!$B$3,1),(LEFT('1 - Opstart Importark'!$B$24,2)),LEFT('1 - Opstart Importark'!$B$28,3),IF(I321=\"\",\"\",\"-\"),I321,IF(K321=\"\",\"\",\"-\"),K321,IF(M321=\"\",\"\",\"-\"),M321,IF(O321=\"\",\"\",\"-\"),O321),CONCATENATE(LEFT('1 - Opstart Importark'!$B$3,1),(LEFT('1 - Opstart Importark'!$B$15,2)),(LEFT('1 - Opstart Importark'!$B$18,3)),IF(I321=\"\",\"\",\"-\"),I321,IF(K321=\"\",\"\",\"-\"),K321,IF(M321=\"\",\"\",\"-\"),M321,IF(O321=\"\",\"\",\"-\"),O321))))","v":""},null," ",{"$nulls":11},{"$f":"IF(LEN('1 - Opstart Importark'!$B$6)>0,'1 - Opstart Importark'!$B$6,\"\")","v":""},{"$f":"IF(LEN('1 - Opstart Importark'!$B$9)>0,'1 - Opstart Importark'!$B$9,\"\")","v":""},{"$f":"IF(LEN('1 - Opstart Importark'!$B$31)>0,'1 - Opstart Importark'!$B$31,\"\")","v":""},{"$nulls":12},"",{"$nulls":8},0,"","","objektnogle_"]
[311,null,{"$f":"IF('1 - Opstart Importark'!$B$6=\"\",\"\",(IF('1 - Opstart Importark'!$B$15=\"\",CONCATENATE(LEFT('1 - Opstart Importark'!$B$3,1),(LEFT('1 - Opstart Importark'!$B$24,2)),LEFT('1 - Opstart Importark'!$B$28,3),IF(I322=\"\",\"\",\"-\"),I322,IF(K322=\"\",\"\",\"-\"),K322,IF(M322=\"\",\"\",\"-\"),M322,IF(O322=\"\",\"\",\"-\"),O322),CONCATENATE(LEFT('1 - Opstart Importark'!$B$3,1),(LEFT('1 - Opstart Importark'!$B$15,2)),(LEFT('1 - Opstart Importark'!$B$18,3)),IF(I322=\"\",\"\",\"-\"),I322,IF(K322=\"\",\"\",\"-\"),K322,IF(M322=\"\",\"\",\"-\"),M322,IF(O322=\"\",\"\",\"-\"),O322))))","v":""},null," ",{"$nulls":11},{"$f":"IF(LEN('1 - Opstart Importark'!$B$6)>0,'1 - Opstart Importark'!$B$6,\"\")","v":""},{"$f":"IF(LEN('1 - Opstart Importark'!$B$9)>0,'1 - Opstart Importark'!$B$9,\"\")","v":""},{"$f":"IF(LEN('1 - Opstart Importark'!$B$31)>0,'1 - Opstart Importark'!$B$31,\"\")","v":""},{"$nulls":12},"",{"$nulls":8},0,"","","objektnogle_"]
[312,null,{"$f":"IF('1 - Opstart Importark'!$B$6=\"\",\"\",(IF('1 - Opstart Importark'!$B$15=\"\",CONCATENATE(LEFT('1 - Opstart Importark'!$B$3,1),(LEFT('1 - Opstart Importark'!$B$24,2)),LEFT('1 - Opstart Importark'!$B$28,3),IF(I323=\"\",\"\",\"-\"),I323,IF(K323=\"\",\"\",\"-\"),K323,IF(M323=\"\",\"\",\"-\"),M323,IF(O323=\"\",\"\",\"-\"),O323),CONCATENATE(LEFT('1 - Opstart Importark'!$B$3,1),(LEFT('1 - Opstart Importark'!$B$15,2)),(LEFT('1 - Opstart Importark'!$B$18,3)),IF(I323=\"\",\"\",\"-\"),I323,IF(K323=\"\",\"\",\"-\"),K323,IF(M323=\"\",\"\",\"-\"),M323,IF(O323=\"\",\"\",\"-\"),O323))))","v":""},null," ",{"$nulls":11},{"$f":"IF(LEN('1 - Opstart Importark'!$B$6)>0,'1 - Opstart Importark'!$B$6,\"\")","v":""},{"$f":"IF(LEN('1 - Opstart Importark'!$B$9)>0,'1 - Opstart Importark'!$B$9,\"\")","v":""},{"$f":"IF(LEN('1 - Opstart Importark'!$B$31)>0,'1 - Opstart Importark'!$B$31,\"\")","v":""},{"$nulls":12},"",{"$nulls":8},0,"","","objektnogle_"]
[313,null,{"$f":"IF('1 - Opstart Importark'!$B$6=\"\",\"\",(IF('1 - Opstart Importark'!$B$15=\"\",CONCATENATE(LEFT('1 - Opstart Importark'!$B$3,1),(LEFT('1 - Opstart Importark'!$B$24,2)),LEFT('1 - Opstart Importark'!$B$28,3),IF(I324=\"\",\"\",\"-\"),I324,IF(K324=\"\",\"\",\"-\"),K324,IF(M324=\"\",\"\",\"-\"),M324,IF(O324=\"\",\"\",\"-\"),O324),CONCATENATE(LEFT('1 - Opstart Importark'!$B$3,1),(LEFT('1 - Opstart Importark'!$B$15,2)),(LEFT('1 - Opstart Importark'!$B$18,3)),IF(I324=\"\",\"\",\"-\"),I324,IF(K324=\"\",\"\",\"-\"),K324,IF(M324=\"\",\"\",\"-\"),M324,IF(O324=\"\",\"\",\"-\"),O324))))","v":""},null," ",{"$nulls":11},{"$f":"IF(LEN('1 - Opstart Importark'!$B$6)>0,'1 - Opstart Importark'!$B$6,\"\")","v":""},{"$f":"IF(LEN('1 - Opstart Importark'!$B$9)>0,'1 - Opstart Importark'!$B$9,\"\")","v":""},{"$f":"IF(LEN('1 - Opstart Importark'!$B$31)>0,'1 - Opstart Importark'!$B$31,\"\")","v":""},{"$nulls":12},"",{"$nulls":8},0,"","","objektnogle_"]
[314,null,{"$f":"IF('1 - Opstart Importark'!$B$6=\"\",\"\",(IF('1 - Opstart Importark'!$B$15=\"\",CONCATENATE(LEFT('1 - Opstart Importark'!$B$3,1),(LEFT('1 - Opstart Importark'!$B$24,2)),LEFT('1 - Opstart Importark'!$B$28,3),IF(I325=\"\",\"\",\"-\"),I325,IF(K325=\"\",\"\",\"-\"),K325,IF(M325=\"\",\"\",\"-\"),M325,IF(O325=\"\",\"\",\"-\"),O325),CONCATENATE(LEFT('1 - Opstart Importark'!$B$3,1),(LEFT('1 - Opstart Importark'!$B$15,2)),(LEFT('1 - Opstart Importark'!$B$18,3)),IF(I325=\"\",\"\",\"-\"),I325,IF(K325=\"\",\"\",\"-\"),K325,IF(M325=\"\",\"\",\"-\"),M325,IF(O325=\"\",\"\",\"-\"),O325))))","v":""},null," ",{"$nulls":11},{"$f":"IF(LEN('1 - Opstart Importark'!$B$6)>0,'1 - Opstart Importark'!$B$6,\"\")","v":""},{"$f":"IF(LEN('1 - Opstart Importark'!$B$9)>0,'1 - Opstart Importark'!$B$9,\"\")","v":""},{"$f":"IF(LEN('1 - Opstart Importark'!$B$31)>0,'1 - Opstart Importark'!$B$31,\"\")","v":""},{"$nulls":12},"",{"$nulls":8},0,"","","objektnogle_"]
[315,null,{"$f":"IF('1 - Opstart Importark'!$B$6=\"\",\"\",(IF('1 - Opstart Importark'!$B$15=\"\",CONCATENATE(LEFT('1 - Opstart Importark'!$B$3,1),(LEFT('1 - Opstart Importark'!$B$24,2)),LEFT('1 - Opstart Importark'!$B$28,3),IF(I326=\"\",\"\",\"-\"),I326,IF(K326=\"\",\"\",\"-\"),K326,IF(M326=\"\",\"\",\"-\"),M326,IF(O326=\"\",\"\",\"-\"),O326),CONCATENATE(LEFT('1 - Opstart Importark'!$B$3,1),(LEFT('1 - Opstart Importark'!$B$15,2)),(LEFT('1 - Opstart Importark'!$B$18,3)),IF(I326=\"\",\"\",\"-\"),I326,IF(K326=\"\",\"\",\"-\"),K326,IF(M326=\"\",\"\",\"-\"),M326,IF(O326=\"\",\"\",\"-\"),O326))))","v":""},null," ",{"$nulls":11},{"$f":"IF(LEN('1 - Opstart Importark'!$B$6)>0,'1 - Opstart Importark'!$B$6,\"\")","v":""},{"$f":"IF(LEN('1 - Opstart Importark'!$B$9)>0,'1 - Opstart Importark'!$B$9,\"\")","v":""},{"$f":"IF(LEN('1 - Opstart Importark'!$B$31)>0,'1 - Opstart Importark'!$B$31,\"\")","v":""},{"$nulls":12},"",{"$nulls":8},0,"","","objektnogle_"]
[316,null,{"$f":"IF('1 - Opstart Importark'!$B$6=\"\",\"\",(IF('1 - Opstart Importark'!$B$15=\"\",CONCATENATE(LEFT('1 - Opstart Importark'!$B$3,1),(LEFT('1 - Opstart Importark'!$B$24,2)),LEFT('1 - Opstart Importark'!$B$28,3),IF(I327=\"\",\"\",\"-\"),I327,IF(K327=\"\",\"\",\"-\"),K327,IF(M327=\"\",\"\",\"-\"),M327,IF(O327=\"\",\"\",\"-\"),O327),CONCATENATE(LEFT('1 - Opstart Importark'!$B$3,1),(LEFT('1 - Opstart Importark'!$B$15,2)),(LEFT('1 - Opstart Importark'!$B$18,3)),IF(I327=\"\",\"\",\"-\"),I327,IF(K327=\"\",\"\",\"-\"),K327,IF(M327=\"\",\"\",\"-\"),M327,IF(O327=\"\",\"\",\"-\"),O327))))","v":""},null," ",{"$nulls":11},{"$f":"IF(LEN('1 - Opstart Importark'!$B$6)>0,'1 - Opstart Importark'!$B$6,\"\")","v":""},{"$f":"IF(LEN('1 - Opstart Importark'!$B$9)>0,'1 - Opstart Importark'!$B$9,\"\")","v":""},{"$f":"IF(LEN('1 - Opstart Importark'!$B$31)>0,'1 - Opstart Importark'!$B$31,\"\")","v":""},{"$nulls":12},"",{"$nulls":8},0,"","","objektnogle_"]
[317,null,{"$f":"IF('1 - Opstart Importark'!$B$6=\"\",\"\",(IF('1 - Opstart Importark'!$B$15=\"\",CONCATENATE(LEFT('1 - Opstart Importark'!$B$3,1),(LEFT('1 - Opstart Importark'!$B$24,2)),LEFT('1 - Opstart Importark'!$B$28,3),IF(I328=\"\",\"\",\"-\"),I328,IF(K328=\"\",\"\",\"-\"),K328,IF(M328=\"\",\"\",\"-\"),M328,IF(O328=\"\",\"\",\"-\"),O328),CONCATENATE(LEFT('1 - Opstart Importark'!$B$3,1),(LEFT('1 - Opstart Importark'!$B$15,2)),(LEFT('1 - Opstart Importark'!$B$18,3)),IF(I328=\"\",\"\",\"-\"),I328,IF(K328=\"\",\"\",\"-\"),K328,IF(M328=\"\",\"\",\"-\"),M328,IF(O328=\"\",\"\",\"-\"),O328))))","v":""},null," ",{"$nulls":11},{"$f":"IF(LEN('1 - Opstart Importark'!$B$6)>0,'1 - Opstart Importark'!$B$6,\"\")","v":""},{"$f":"IF(LEN('1 - Opstart Importark'!$B$9)>0,'1 - Opstart Importark'!$B$9,\"\")","v":""},{"$f":"IF(LEN('1 - Opstart Importark'!$B$31)>0,'1 - Opstart Importark'!$B$31,\"\")","v":""},{"$nulls":12},"",{"$nulls":8},0,"","","objektnogle_"]
[318,null,{"$f":"IF('1 - Opstart Importark'!$B$6=\"\",\"\",(IF('1 - Opstart Importark'!$B$15=\"\",CONCATENATE(LEFT('1 - Opstart Importark'!$B$3,1),(LEFT('1 - Opstart Importark'!$B$24,2)),LEFT('1 - Opstart Importark'!$B$28,3),IF(I329=\"\",\"\",\"-\"),I329,IF(K329=\"\",\"\",\"-\"),K329,IF(M329=\"\",\"\",\"-\"),M329,IF(O329=\"\",\"\",\"-\"),O329),CONCATENATE(LEFT('1 - Opstart Importark'!$B$3,1),(LEFT('1 - Opstart Importark'!$B$15,2)),(LEFT('1 - Opstart Importark'!$B$18,3)),IF(I329=\"\",\"\",\"-\"),I329,IF(K329=\"\",\"\",\"-\"),K329,IF(M329=\"\",\"\",\"-\"),M329,IF(O329=\"\",\"\",\"-\"),O329))))","v":""},null," ",{"$nulls":11},{"$f":"IF(LEN('1 - Opstart Importark'!$B$6)>0,'1 - Opstart Importark'!$B$6,\"\")","v":""},{"$f":"IF(LEN('1 - Opstart Importark'!$B$9)>0,'1 - Opstart Importark'!$B$9,\"\")","v":""},{"$f":"IF(LEN('1 - Opstart Importark'!$B$31)>0,'1 - Opstart Importark'!$B$31,\"\")","v":""},{"$nulls":12},"",{"$nulls":8},0,"","","objektnogle_"]
[319,null,{"$f":"IF('1 - Opstart Importark'!$B$6=\"\",\"\",(IF('1 - Opstart Importark'!$B$15=\"\",CONCATENATE(LEFT('1 - Opstart Importark'!$B$3,1),(LEFT('1 - Opstart Importark'!$B$24,2)),LEFT('1 - Opstart Importark'!$B$28,3),IF(I330=\"\",\"\",\"-\"),I330,IF(K330=\"\",\"\",\"-\"),K330,IF(M330=\"\",\"\",\"-\"),M330,IF(O330=\"\",\"\",\"-\"),O330),CONCATENATE(LEFT('1 - Opstart Importark'!$B$3,1),(LEFT('1 - Opstart Importark'!$B$15,2)),(LEFT('1 - Opstart Importark'!$B$18,3)),IF(I330=\"\",\"\",\"-\"),I330,IF(K330=\"\",\"\",\"-\"),K330,IF(M330=\"\",\"\",\"-\"),M330,IF(O330=\"\",\"\",\"-\"),O330))))","v":""},null," ",{"$nulls":11},{"$f":"IF(LEN('1 - Opstart Importark'!$B$6)>0,'1 - Opstart Importark'!$B$6,\"\")","v":""},{"$f":"IF(LEN('1 - Opstart Importark'!$B$9)>0,'1 - Opstart Importark'!$B$9,\"\")","v":""},{"$f":"IF(LEN('1 - Opstart Importark'!$B$31)>0,'1 - Opstart Importark'!$B$31,\"\")","v":""},{"$nulls":12},"",{"$nulls":8},0,"","","objektnogle_"]
[320,null,{"$f":"IF('1 - Opstart Importark'!$B$6=\"\",\"\",(IF('1 - Opstart Importark'!$B$15=\"\",CONCATENATE(LEFT('1 - Opstart Importark'!$B$3,1),(LEFT('1 - Opstart Importark'!$B$24,2)),LEFT('1 - Opstart Importark'!$B$28,3),IF(I331=\"\",\"\",\"-\"),I331,IF(K331=\"\",\"\",\"-\"),K331,IF(M331=\"\",\"\",\"-\"),M331,IF(O331=\"\",\"\",\"-\"),O331),CONCATENATE(LEFT('1 - Opstart Importark'!$B$3,1),(LEFT('1 - Opstart Importark'!$B$15,2)),(LEFT('1 - Opstart Importark'!$B$18,3)),IF(I331=\"\",\"\",\"-\"),I331,IF(K331=\"\",\"\",\"-\"),K331,IF(M331=\"\",\"\",\"-\"),M331,IF(O331=\"\",\"\",\"-\"),O331))))","v":""},null," ",{"$nulls":11},{"$f":"IF(LEN('1 - Opstart Importark'!$B$6)>0,'1 - Opstart Importark'!$B$6,\"\")","v":""},{"$f":"IF(LEN('1 - Opstart Importark'!$B$9)>0,'1 - Opstart Importark'!$B$9,\"\")","v":""},{"$f":"IF(LEN('1 - Opstart Importark'!$B$31)>0,'1 - Opstart Importark'!$B$31,\"\")","v":""},{"$nulls":12},"",{"$nulls":8},0,"","","objektnogle_"]
[321,null,{"$f":"IF('1 - Opstart Importark'!$B$6=\"\",\"\",(IF('1 - Opstart Importark'!$B$15=\"\",CONCATENATE(LEFT('1 - Opstart Importark'!$B$3,1),(LEFT('1 - Opstart Importark'!$B$24,2)),LEFT('1 - Opstart Importark'!$B$28,3),IF(I332=\"\",\"\",\"-\"),I332,IF(K332=\"\",\"\",\"-\"),K332,IF(M332=\"\",\"\",\"-\"),M332,IF(O332=\"\",\"\",\"-\"),O332),CONCATENATE(LEFT('1 - Opstart Importark'!$B$3,1),(LEFT('1 - Opstart Importark'!$B$15,2)),(LEFT('1 - Opstart Importark'!$B$18,3)),IF(I332=\"\",\"\",\"-\"),I332,IF(K332=\"\",\"\",\"-\"),K332,IF(M332=\"\",\"\",\"-\"),M332,IF(O332=\"\",\"\",\"-\"),O332))))","v":""},null," ",{"$nulls":11},{"$f":"IF(LEN('1 - Opstart Importark'!$B$6)>0,'1 - Opstart Importark'!$B$6,\"\")","v":""},{"$f":"IF(LEN('1 - Opstart Importark'!$B$9)>0,'1 - Opstart Importark'!$B$9,\"\")","v":""},{"$f":"IF(LEN('1 - Opstart Importark'!$B$31)>0,'1 - Opstart Importark'!$B$31,\"\")","v":""},{"$nulls":12},{"$f":"IF(M332=\"\",\"\",VLOOKUP(LEFT(M332,1),objektfilter,2))","v":""},{"$nulls":8},0,"","","objektnogle_"]
[322,null,{"$f":"IF('1 - Opstart Importark'!$B$6=\"\",\"\",(IF('1 - Opstart Importark'!$B$15=\"\",CONCATENATE(LEFT('1 - Opstart Importark'!$B$3,1),(LEFT('1 - Opstart Importark'!$B$24,2)),LEFT('1 - Opstart Importark'!$B$28,3),IF(I333=\"\",\"\",\"-\"),I333,IF(K333=\"\",\"\",\"-\"),K333,IF(M333=\"\",\"\",\"-\"),M333,IF(O333=\"\",\"\",\"-\"),O333),CONCATENATE(LEFT('1 - Opstart Importark'!$B$3,1),(LEFT('1 - Opstart Importark'!$B$15,2)),(LEFT('1 - Opstart Importark'!$B$18,3)),IF(I333=\"\",\"\",\"-\"),I333,IF(K333=\"\",\"\",\"-\"),K333,IF(M333=\"\",\"\",\"-\"),M333,IF(O333=\"\",\"\",\"-\"),O333))))","v":""},null," ",{"$nulls":11},{"$f":"IF(LEN('1 - Opstart Importark'!$B$6)>0,'1 - Opstart Importark'!$B$6,\"\")","v":""},{"$f":"IF(LEN('1 - Opstart Importark'!$B$9)>0,'1 - Opstart Importark'!$B$9,\"\")","v":""},{"$f":"IF(LEN('1 - Opstart Importark'!$B$31)>0,'1 - Opstart Importark'!$B$31,\"\")","v":""},{"$nulls":12},"",{"$nulls":8},{"$f":"IFERROR(FIND(\".\",F333),)","v":0},{"$f":"IF(M333=\"\",\"\",IF(LEFT(M333,1)=\"E\",0,1))","v":""},{"$f":"IF(M333=\"\",\"\",IF(LEFT(M333,1)=\"E\",0,1))","v":""},{"$f":"IF(W333=\"\", CONCATENATE(\"objektnogle_\",LEFT(AF333,1)),CONCATENATE(\"objektnogle_\",LEFT(W333,1)))","v":"objektnogle_"}]
[323,null,{"$f":"IF('1 - Opstart Importark'!$B$6=\"\",\"\",(IF('1 - Opstart Importark'!$B$15=\"\",CONCATENATE(LEFT('1 - Opstart Importark'!$B$3,1),(LEFT('1 - Opstart Importark'!$B$24,2)),LEFT('1 - Opstart Importark'!$B$28,3),IF(I334=\"\",\"\",\"-\"),I334,IF(K334=\"\",\"\",\"-\"),K334,IF(M334=\"\",\"\",\"-\"),M334,IF(O334=\"\",\"\",\"-\"),O334),CONCATENATE(LEFT('1 - Opstart Importark'!$B$3,1),(LEFT('1 - Opstart Importark'!$B$15,2)),(LEFT('1 - Opstart Importark'!$B$18,3)),IF(I334=\"\",\"\",\"-\"),I334,IF(K334=\"\",\"\",\"-\"),K334,IF(M334=\"\",\"\",\"-\"),M334,IF(O334=\"\",\"\",\"-\"),O334))))","v":""},null," ",{"$nulls":11},{"$f":"IF(LEN('1 - Opstart Importark'!$B$6)>0,'1 - Opstart Importark'!$B$6,\"\")","v":""},{"$f":"IF(LEN('1 - Opstart Importark'!$B$9)>0,'1 - Opstart Importark'!$B$9,\"\")","v":""},{"$f":"IF(LEN('1 - Opstart Importark'!$B$31)>0,'1 - Opstart Importark'!$B$31,\"\")","v":""},{"$nulls":12},"",{"$nulls":8},0,"","","objektnogle_"]
[324,null,{"$f":"IF('1 - Opstart Importark'!$B$6=\"\",\"\",(IF('1 - Opstart Importark'!$B$15=\"\",CONCATENATE(LEFT('1 - Opstart Importark'!$B$3,1),(LEFT('1 - Opstart Importark'!$B$24,2)),LEFT('1 - Opstart Importark'!$B$28,3),IF(I335=\"\",\"\",\"-\"),I335,IF(K335=\"\",\"\",\"-\"),K335,IF(M335=\"\",\"\",\"-\"),M335,IF(O335=\"\",\"\",\"-\"),O335),CONCATENATE(LEFT('1 - Opstart Importark'!$B$3,1),(LEFT('1 - Opstart Importark'!$B$15,2)),(LEFT('1 - Opstart Importark'!$B$18,3)),IF(I335=\"\",\"\",\"-\"),I335,IF(K335=\"\",\"\",\"-\"),K335,IF(M335=\"\",\"\",\"-\"),M335,IF(O335=\"\",\"\",\"-\"),O335))))","v":""},null," ",{"$nulls":11},{"$f":"IF(LEN('1 - Opstart Importark'!$B$6)>0,'1 - Opstart Importark'!$B$6,\"\")","v":""},{"$f":"IF(LEN('1 - Opstart Importark'!$B$9)>0,'1 - Opstart Importark'!$B$9,\"\")","v":""},{"$f":"IF(LEN('1 - Opstart Importark'!$B$31)>0,'1 - Opstart Importark'!$B$31,\"\")","v":""},{"$nulls":12},"",{"$nulls":8},0,"","","objektnogle_"]
[325,null,{"$f":"IF('1 - Opstart Importark'!$B$6=\"\",\"\",(IF('1 - Opstart Importark'!$B$15=\"\",CONCATENATE(LEFT('1 - Opstart Importark'!$B$3,1),(LEFT('1 - Opstart Importark'!$B$24,2)),LEFT('1 - Opstart Importark'!$B$28,3),IF(I336=\"\",\"\",\"-\"),I336,IF(K336=\"\",\"\",\"-\"),K336,IF(M336=\"\",\"\",\"-\"),M336,IF(O336=\"\",\"\",\"-\"),O336),CONCATENATE(LEFT('1 - Opstart Importark'!$B$3,1),(LEFT('1 - Opstart Importark'!$B$15,2)),(LEFT('1 - Opstart Importark'!$B$18,3)),IF(I336=\"\",\"\",\"-\"),I336,IF(K336=\"\",\"\",\"-\"),K336,IF(M336=\"\",\"\",\"-\"),M336,IF(O336=\"\",\"\",\"-\"),O336))))","v":""},null," ",{"$nulls":11},{"$f":"IF(LEN('1 - Opstart Importark'!$B$6)>0,'1 - Opstart Importark'!$B$6,\"\")","v":""},{"$f":"IF(LEN('1 - Opstart Importark'!$B$9)>0,'1 - Opstart Importark'!$B$9,\"\")","v":""},{"$f":"IF(LEN('1 - Opstart Importark'!$B$31)>0,'1 - Opstart Importark'!$B$31,\"\")","v":""},{"$nulls":12},"",{"$nulls":8},0,"","","objektnogle_"]
[326,null,{"$f":"IF('1 - Opstart Importark'!$B$6=\"\",\"\",(IF('1 - Opstart Importark'!$B$15=\"\",CONCATENATE(LEFT('1 - Opstart Importark'!$B$3,1),(LEFT('1 - Opstart Importark'!$B$24,2)),LEFT('1 - Opstart Importark'!$B$28,3),IF(I337=\"\",\"\",\"-\"),I337,IF(K337=\"\",\"\",\"-\"),K337,IF(M337=\"\",\"\",\"-\"),M337,IF(O337=\"\",\"\",\"-\"),O337),CONCATENATE(LEFT('1 - Opstart Importark'!$B$3,1),(LEFT('1 - Opstart Importark'!$B$15,2)),(LEFT('1 - Opstart Importark'!$B$18,3)),IF(I337=\"\",\"\",\"-\"),I337,IF(K337=\"\",\"\",\"-\"),K337,IF(M337=\"\",\"\",\"-\"),M337,IF(O337=\"\",\"\",\"-\"),O337))))","v":""},null," ",{"$nulls":11},{"$f":"IF(LEN('1 - Opstart Importark'!$B$6)>0,'1 - Opstart Importark'!$B$6,\"\")","v":""},{"$f":"IF(LEN('1 - Opstart Importark'!$B$9)>0,'1 - Opstart Importark'!$B$9,\"\")","v":""},{"$f":"IF(LEN('1 - Opstart Importark'!$B$31)>0,'1 - Opstart Importark'!$B$31,\"\")","v":""},{"$nulls":12},"",{"$nulls":8},0,"","","objektnogle_"]
[327,null,{"$f":"IF('1 - Opstart Importark'!$B$6=\"\",\"\",(IF('1 - Opstart Importark'!$B$15=\"\",CONCATENATE(LEFT('1 - Opstart Importark'!$B$3,1),(LEFT('1 - Opstart Importark'!$B$24,2)),LEFT('1 - Opstart Importark'!$B$28,3),IF(I338=\"\",\"\",\"-\"),I338,IF(K338=\"\",\"\",\"-\"),K338,IF(M338=\"\",\"\",\"-\"),M338,IF(O338=\"\",\"\",\"-\"),O338),CONCATENATE(LEFT('1 - Opstart Importark'!$B$3,1),(LEFT('1 - Opstart Importark'!$B$15,2)),(LEFT('1 - Opstart Importark'!$B$18,3)),IF(I338=\"\",\"\",\"-\"),I338,IF(K338=\"\",\"\",\"-\"),K338,IF(M338=\"\",\"\",\"-\"),M338,IF(O338=\"\",\"\",\"-\"),O338))))","v":""},null," ",{"$nulls":11},{"$f":"IF(LEN('1 - Opstart Importark'!$B$6)>0,'1 - Opstart Importark'!$B$6,\"\")","v":""},{"$f":"IF(LEN('1 - Opstart Importark'!$B$9)>0,'1 - Opstart Importark'!$B$9,\"\")","v":""},{"$f":"IF(LEN('1 - Opstart Importark'!$B$31)>0,'1 - Opstart Importark'!$B$31,\"\")","v":""},{"$nulls":12},"",{"$nulls":8},0,"","","objektnogle_"]
[328,null,{"$f":"IF('1 - Opstart Importark'!$B$6=\"\",\"\",(IF('1 - Opstart Importark'!$B$15=\"\",CONCATENATE(LEFT('1 - Opstart Importark'!$B$3,1),(LEFT('1 - Opstart Importark'!$B$24,2)),LEFT('1 - Opstart Importark'!$B$28,3),IF(I339=\"\",\"\",\"-\"),I339,IF(K339=\"\",\"\",\"-\"),K339,IF(M339=\"\",\"\",\"-\"),M339,IF(O339=\"\",\"\",\"-\"),O339),CONCATENATE(LEFT('1 - Opstart Importark'!$B$3,1),(LEFT('1 - Opstart Importark'!$B$15,2)),(LEFT('1 - Opstart Importark'!$B$18,3)),IF(I339=\"\",\"\",\"-\"),I339,IF(K339=\"\",\"\",\"-\"),K339,IF(M339=\"\",\"\",\"-\"),M339,IF(O339=\"\",\"\",\"-\"),O339))))","v":""},null," ",{"$nulls":11},{"$f":"IF(LEN('1 - Opstart Importark'!$B$6)>0,'1 - Opstart Importark'!$B$6,\"\")","v":""},{"$f":"IF(LEN('1 - Opstart Importark'!$B$9)>0,'1 - Opstart Importark'!$B$9,\"\")","v":""},{"$f":"IF(LEN('1 - Opstart Importark'!$B$31)>0,'1 - Opstart Importark'!$B$31,\"\")","v":""},{"$nulls":12},"",{"$nulls":8},0,"","","objektnogle_"]
[329,null,{"$f":"IF('1 - Opstart Importark'!$B$6=\"\",\"\",(IF('1 - Opstart Importark'!$B$15=\"\",CONCATENATE(LEFT('1 - Opstart Importark'!$B$3,1),(LEFT('1 - Opstart Importark'!$B$24,2)),LEFT('1 - Opstart Importark'!$B$28,3),IF(I340=\"\",\"\",\"-\"),I340,IF(K340=\"\",\"\",\"-\"),K340,IF(M340=\"\",\"\",\"-\"),M340,IF(O340=\"\",\"\",\"-\"),O340),CONCATENATE(LEFT('1 - Opstart Importark'!$B$3,1),(LEFT('1 - Opstart Importark'!$B$15,2)),(LEFT('1 - Opstart Importark'!$B$18,3)),IF(I340=\"\",\"\",\"-\"),I340,IF(K340=\"\",\"\",\"-\"),K340,IF(M340=\"\",\"\",\"-\"),M340,IF(O340=\"\",\"\",\"-\"),O340))))","v":""},null," ",{"$nulls":11},{"$f":"IF(LEN('1 - Opstart Importark'!$B$6)>0,'1 - Opstart Importark'!$B$6,\"\")","v":""},{"$f":"IF(LEN('1 - Opstart Importark'!$B$9)>0,'1 - Opstart Importark'!$B$9,\"\")","v":""},{"$f":"IF(LEN('1 - Opstart Importark'!$B$31)>0,'1 - Opstart Importark'!$B$31,\"\")","v":""},{"$nulls":12},"",{"$nulls":8},0,"","","objektnogle_"]
[330,null,{"$f":"IF('1 - Opstart Importark'!$B$6=\"\",\"\",(IF('1 - Opstart Importark'!$B$15=\"\",CONCATENATE(LEFT('1 - Opstart Importark'!$B$3,1),(LEFT('1 - Opstart Importark'!$B$24,2)),LEFT('1 - Opstart Importark'!$B$28,3),IF(I341=\"\",\"\",\"-\"),I341,IF(K341=\"\",\"\",\"-\"),K341,IF(M341=\"\",\"\",\"-\"),M341,IF(O341=\"\",\"\",\"-\"),O341),CONCATENATE(LEFT('1 - Opstart Importark'!$B$3,1),(LEFT('1 - Opstart Importark'!$B$15,2)),(LEFT('1 - Opstart Importark'!$B$18,3)),IF(I341=\"\",\"\",\"-\"),I341,IF(K341=\"\",\"\",\"-\"),K341,IF(M341=\"\",\"\",\"-\"),M341,IF(O341=\"\",\"\",\"-\"),O341))))","v":""},null," ",{"$nulls":11},{"$f":"IF(LEN('1 - Opstart Importark'!$B$6)>0,'1 - Opstart Importark'!$B$6,\"\")","v":""},{"$f":"IF(LEN('1 - Opstart Importark'!$B$9)>0,'1 - Opstart Importark'!$B$9,\"\")","v":""},{"$f":"IF(LEN('1 - Opstart Importark'!$B$31)>0,'1 - Opstart Importark'!$B$31,\"\")","v":""},{"$nulls":12},"",{"$nulls":8},0,"","","objektnogle_"]
[331,null,{"$f":"IF('1 - Opstart Importark'!$B$6=\"\",\"\",(IF('1 - Opstart Importark'!$B$15=\"\",CONCATENATE(LEFT('1 - Opstart Importark'!$B$3,1),(LEFT('1 - Opstart Importark'!$B$24,2)),LEFT('1 - Opstart Importark'!$B$28,3),IF(I342=\"\",\"\",\"-\"),I342,IF(K342=\"\",\"\",\"-\"),K342,IF(M342=\"\",\"\",\"-\"),M342,IF(O342=\"\",\"\",\"-\"),O342),CONCATENATE(LEFT('1 - Opstart Importark'!$B$3,1),(LEFT('1 - Opstart Importark'!$B$15,2)),(LEFT('1 - Opstart Importark'!$B$18,3)),IF(I342=\"\",\"\",\"-\"),I342,IF(K342=\"\",\"\",\"-\"),K342,IF(M342=\"\",\"\",\"-\"),M342,IF(O342=\"\",\"\",\"-\"),O342))))","v":""},null," ",{"$nulls":11},{"$f":"IF(LEN('1 - Opstart Importark'!$B$6)>0,'1 - Opstart Importark'!$B$6,\"\")","v":""},{"$f":"IF(LEN('1 - Opstart Importark'!$B$9)>0,'1 - Opstart Importark'!$B$9,\"\")","v":""},{"$f":"IF(LEN('1 - Opstart Importark'!$B$31)>0,'1 - Opstart Importark'!$B$31,\"\")","v":""},{"$nulls":12},"",{"$nulls":8},0,"","","objektnogle_"]
[332,null,{"$f":"IF('1 - Opstart Importark'!$B$6=\"\",\"\",(IF('1 - Opstart Importark'!$B$15=\"\",CONCATENATE(LEFT('1 - Opstart Importark'!$B$3,1),(LEFT('1 - Opstart Importark'!$B$24,2)),LEFT('1 - Opstart Importark'!$B$28,3),IF(I343=\"\",\"\",\"-\"),I343,IF(K343=\"\",\"\",\"-\"),K343,IF(M343=\"\",\"\",\"-\"),M343,IF(O343=\"\",\"\",\"-\"),O343),CONCATENATE(LEFT('1 - Opstart Importark'!$B$3,1),(LEFT('1 - Opstart Importark'!$B$15,2)),(LEFT('1 - Opstart Importark'!$B$18,3)),IF(I343=\"\",\"\",\"-\"),I343,IF(K343=\"\",\"\",\"-\"),K343,IF(M343=\"\",\"\",\"-\"),M343,IF(O343=\"\",\"\",\"-\"),O343))))","v":""},null," ",{"$nulls":11},{"$f":"IF(LEN('1 - Opstart Importark'!$B$6)>0,'1 - Opstart Importark'!$B$6,\"\")","v":""},{"$f":"IF(LEN('1 - Opstart Importark'!$B$9)>0,'1 - Opstart Importark'!$B$9,\"\")","v":""},{"$f":"IF(LEN('1 - Opstart Importark'!$B$31)>0,'1 - Opstart Importark'!$B$31,\"\")","v":""},{"$nulls":12},"",{"$nulls":8},0,"","","objektnogle_"]
[333,null,{"$f":"IF('1 - Opstart Importark'!$B$6=\"\",\"\",(IF('1 - Opstart Importark'!$B$15=\"\",CONCATENATE(LEFT('1 - Opstart Importark'!$B$3,1),(LEFT('1 - Opstart Importark'!$B$24,2)),LEFT('1 - Opstart Importark'!$B$28,3),IF(I344=\"\",\"\",\"-\"),I344,IF(K344=\"\",\"\",\"-\"),K344,IF(M344=\"\",\"\",\"-\"),M344,IF(O344=\"\",\"\",\"-\"),O344),CONCATENATE(LEFT('1 - Opstart Importark'!$B$3,1),(LEFT('1 - Opstart Importark'!$B$15,2)),(LEFT('1 - Opstart Importark'!$B$18,3)),IF(I344=\"\",\"\",\"-\"),I344,IF(K344=\"\",\"\",\"-\"),K344,IF(M344=\"\",\"\",\"-\"),M344,IF(O344=\"\",\"\",\"-\"),O344))))","v":""},null," ",{"$nulls":11},{"$f":"IF(LEN('1 - Opstart Importark'!$B$6)>0,'1 - Opstart Importark'!$B$6,\"\")","v":""},{"$f":"IF(LEN('1 - Opstart Importark'!$B$9)>0,'1 - Opstart Importark'!$B$9,\"\")","v":""},{"$f":"IF(LEN('1 - Opstart Importark'!$B$31)>0,'1 - Opstart Importark'!$B$31,\"\")","v":""},{"$nulls":12},"",{"$nulls":8},0,"","","objektnogle_"]
[334,null,{"$f":"IF('1 - Opstart Importark'!$B$6=\"\",\"\",(IF('1 - Opstart Importark'!$B$15=\"\",CONCATENATE(LEFT('1 - Opstart Importark'!$B$3,1),(LEFT('1 - Opstart Importark'!$B$24,2)),LEFT('1 - Opstart Importark'!$B$28,3),IF(I345=\"\",\"\",\"-\"),I345,IF(K345=\"\",\"\",\"-\"),K345,IF(M345=\"\",\"\",\"-\"),M345,IF(O345=\"\",\"\",\"-\"),O345),CONCATENATE(LEFT('1 - Opstart Importark'!$B$3,1),(LEFT('1 - Opstart Importark'!$B$15,2)),(LEFT('1 - Opstart Importark'!$B$18,3)),IF(I345=\"\",\"\",\"-\"),I345,IF(K345=\"\",\"\",\"-\"),K345,IF(M345=\"\",\"\",\"-\"),M345,IF(O345=\"\",\"\",\"-\"),O345))))","v":""},null," ",{"$nulls":11},{"$f":"IF(LEN('1 - Opstart Importark'!$B$6)>0,'1 - Opstart Importark'!$B$6,\"\")","v":""},{"$f":"IF(LEN('1 - Opstart Importark'!$B$9)>0,'1 - Opstart Importark'!$B$9,\"\")","v":""},{"$f":"IF(LEN('1 - Opstart Importark'!$B$31)>0,'1 - Opstart Importark'!$B$31,\"\")","v":""},{"$nulls":12},"",{"$nulls":8},0,"","","objektnogle_"]
[335,null,{"$f":"IF('1 - Opstart Importark'!$B$6=\"\",\"\",(IF('1 - Opstart Importark'!$B$15=\"\",CONCATENATE(LEFT('1 - Opstart Importark'!$B$3,1),(LEFT('1 - Opstart Importark'!$B$24,2)),LEFT('1 - Opstart Importark'!$B$28,3),IF(I346=\"\",\"\",\"-\"),I346,IF(K346=\"\",\"\",\"-\"),K346,IF(M346=\"\",\"\",\"-\"),M346,IF(O346=\"\",\"\",\"-\"),O346),CONCATENATE(LEFT('1 - Opstart Importark'!$B$3,1),(LEFT('1 - Opstart Importark'!$B$15,2)),(LEFT('1 - Opstart Importark'!$B$18,3)),IF(I346=\"\",\"\",\"-\"),I346,IF(K346=\"\",\"\",\"-\"),K346,IF(M346=\"\",\"\",\"-\"),M346,IF(O346=\"\",\"\",\"-\"),O346))))","v":""},null," ",{"$nulls":11},{"$f":"IF(LEN('1 - Opstart Importark'!$B$6)>0,'1 - Opstart Importark'!$B$6,\"\")","v":""},{"$f":"IF(LEN('1 - Opstart Importark'!$B$9)>0,'1 - Opstart Importark'!$B$9,\"\")","v":""},{"$f":"IF(LEN('1 - Opstart Importark'!$B$31)>0,'1 - Opstart Importark'!$B$31,\"\")","v":""},{"$nulls":12},"",{"$nulls":8},0,"","","objektnogle_"]
[336,null,{"$f":"IF('1 - Opstart Importark'!$B$6=\"\",\"\",(IF('1 - Opstart Importark'!$B$15=\"\",CONCATENATE(LEFT('1 - Opstart Importark'!$B$3,1),(LEFT('1 - Opstart Importark'!$B$24,2)),LEFT('1 - Opstart Importark'!$B$28,3),IF(I347=\"\",\"\",\"-\"),I347,IF(K347=\"\",\"\",\"-\"),K347,IF(M347=\"\",\"\",\"-\"),M347,IF(O347=\"\",\"\",\"-\"),O347),CONCATENATE(LEFT('1 - Opstart Importark'!$B$3,1),(LEFT('1 - Opstart Importark'!$B$15,2)),(LEFT('1 - Opstart Importark'!$B$18,3)),IF(I347=\"\",\"\",\"-\"),I347,IF(K347=\"\",\"\",\"-\"),K347,IF(M347=\"\",\"\",\"-\"),M347,IF(O347=\"\",\"\",\"-\"),O347))))","v":""},null," ",{"$nulls":11},{"$f":"IF(LEN('1 - Opstart Importark'!$B$6)>0,'1 - Opstart Importark'!$B$6,\"\")","v":""},{"$f":"IF(LEN('1 - Opstart Importark'!$B$9)>0,'1 - Opstart Importark'!$B$9,\"\")","v":""},{"$f":"IF(LEN('1 - Opstart Importark'!$B$31)>0,'1 - Opstart Importark'!$B$31,\"\")","v":""},{"$nulls":12},"",{"$nulls":8},0,"","","objektnogle_"]
[337,null,{"$f":"IF('1 - Opstart Importark'!$B$6=\"\",\"\",(IF('1 - Opstart Importark'!$B$15=\"\",CONCATENATE(LEFT('1 - Opstart Importark'!$B$3,1),(LEFT('1 - Opstart Importark'!$B$24,2)),LEFT('1 - Opstart Importark'!$B$28,3),IF(I348=\"\",\"\",\"-\"),I348,IF(K348=\"\",\"\",\"-\"),K348,IF(M348=\"\",\"\",\"-\"),M348,IF(O348=\"\",\"\",\"-\"),O348),CONCATENATE(LEFT('1 - Opstart Importark'!$B$3,1),(LEFT('1 - Opstart Importark'!$B$15,2)),(LEFT('1 - Opstart Importark'!$B$18,3)),IF(I348=\"\",\"\",\"-\"),I348,IF(K348=\"\",\"\",\"-\"),K348,IF(M348=\"\",\"\",\"-\"),M348,IF(O348=\"\",\"\",\"-\"),O348))))","v":""},null," ",{"$nulls":11},{"$f":"IF(LEN('1 - Opstart Importark'!$B$6)>0,'1 - Opstart Importark'!$B$6,\"\")","v":""},{"$f":"IF(LEN('1 - Opstart Importark'!$B$9)>0,'1 - Opstart Importark'!$B$9,\"\")","v":""},{"$f":"IF(LEN('1 - Opstart Importark'!$B$31)>0,'1 - Opstart Importark'!$B$31,\"\")","v":""},{"$nulls":12},"",{"$nulls":8},0,"","","objektnogle_"]
[338,null,{"$f":"IF('1 - Opstart Importark'!$B$6=\"\",\"\",(IF('1 - Opstart Importark'!$B$15=\"\",CONCATENATE(LEFT('1 - Opstart Importark'!$B$3,1),(LEFT('1 - Opstart Importark'!$B$24,2)),LEFT('1 - Opstart Importark'!$B$28,3),IF(I349=\"\",\"\",\"-\"),I349,IF(K349=\"\",\"\",\"-\"),K349,IF(M349=\"\",\"\",\"-\"),M349,IF(O349=\"\",\"\",\"-\"),O349),CONCATENATE(LEFT('1 - Opstart Importark'!$B$3,1),(LEFT('1 - Opstart Importark'!$B$15,2)),(LEFT('1 - Opstart Importark'!$B$18,3)),IF(I349=\"\",\"\",\"-\"),I349,IF(K349=\"\",\"\",\"-\"),K349,IF(M349=\"\",\"\",\"-\"),M349,IF(O349=\"\",\"\",\"-\"),O349))))","v":""},null," ",{"$nulls":11},{"$f":"IF(LEN('1 - Opstart Importark'!$B$6)>0,'1 - Opstart Importark'!$B$6,\"\")","v":""},{"$f":"IF(LEN('1 - Opstart Importark'!$B$9)>0,'1 - Opstart Importark'!$B$9,\"\")","v":""},{"$f":"IF(LEN('1 - Opstart Importark'!$B$31)>0,'1 - Opstart Importark'!$B$31,\"\")","v":""},{"$nulls":12},"",{"$nulls":8},0,"","","objektnogle_"]
[339,null,{"$f":"IF('1 - Opstart Importark'!$B$6=\"\",\"\",(IF('1 - Opstart Importark'!$B$15=\"\",CONCATENATE(LEFT('1 - Opstart Importark'!$B$3,1),(LEFT('1 - Opstart Importark'!$B$24,2)),LEFT('1 - Opstart Importark'!$B$28,3),IF(I350=\"\",\"\",\"-\"),I350,IF(K350=\"\",\"\",\"-\"),K350,IF(M350=\"\",\"\",\"-\"),M350,IF(O350=\"\",\"\",\"-\"),O350),CONCATENATE(LEFT('1 - Opstart Importark'!$B$3,1),(LEFT('1 - Opstart Importark'!$B$15,2)),(LEFT('1 - Opstart Importark'!$B$18,3)),IF(I350=\"\",\"\",\"-\"),I350,IF(K350=\"\",\"\",\"-\"),K350,IF(M350=\"\",\"\",\"-\"),M350,IF(O350=\"\",\"\",\"-\"),O350))))","v":""},null," ",{"$nulls":11},{"$f":"IF(LEN('1 - Opstart Importark'!$B$6)>0,'1 - Opstart Importark'!$B$6,\"\")","v":""},{"$f":"IF(LEN('1 - Opstart Importark'!$B$9)>0,'1 - Opstart Importark'!$B$9,\"\")","v":""},{"$f":"IF(LEN('1 - Opstart Importark'!$B$31)>0,'1 - Opstart Importark'!$B$31,\"\")","v":""},{"$nulls":12},"",{"$nulls":8},0,"","","objektnogle_"]
[340,null,{"$f":"IF('1 - Opstart Importark'!$B$6=\"\",\"\",(IF('1 - Opstart Importark'!$B$15=\"\",CONCATENATE(LEFT('1 - Opstart Importark'!$B$3,1),(LEFT('1 - Opstart Importark'!$B$24,2)),LEFT('1 - Opstart Importark'!$B$28,3),IF(I351=\"\",\"\",\"-\"),I351,IF(K351=\"\",\"\",\"-\"),K351,IF(M351=\"\",\"\",\"-\"),M351,IF(O351=\"\",\"\",\"-\"),O351),CONCATENATE(LEFT('1 - Opstart Importark'!$B$3,1),(LEFT('1 - Opstart Importark'!$B$15,2)),(LEFT('1 - Opstart Importark'!$B$18,3)),IF(I351=\"\",\"\",\"-\"),I351,IF(K351=\"\",\"\",\"-\"),K351,IF(M351=\"\",\"\",\"-\"),M351,IF(O351=\"\",\"\",\"-\"),O351))))","v":""},null," ",{"$nulls":11},{"$f":"IF(LEN('1 - Opstart Importark'!$B$6)>0,'1 - Opstart Importark'!$B$6,\"\")","v":""},{"$f":"IF(LEN('1 - Opstart Importark'!$B$9)>0,'1 - Opstart Importark'!$B$9,\"\")","v":""},{"$f":"IF(LEN('1 - Opstart Importark'!$B$31)>0,'1 - Opstart Importark'!$B$31,\"\")","v":""},{"$nulls":12},"",{"$nulls":8},0,"","","objektnogle_"]
[341,null,{"$f":"IF('1 - Opstart Importark'!$B$6=\"\",\"\",(IF('1 - Opstart Importark'!$B$15=\"\",CONCATENATE(LEFT('1 - Opstart Importark'!$B$3,1),(LEFT('1 - Opstart Importark'!$B$24,2)),LEFT('1 - Opstart Importark'!$B$28,3),IF(I352=\"\",\"\",\"-\"),I352,IF(K352=\"\",\"\",\"-\"),K352,IF(M352=\"\",\"\",\"-\"),M352,IF(O352=\"\",\"\",\"-\"),O352),CONCATENATE(LEFT('1 - Opstart Importark'!$B$3,1),(LEFT('1 - Opstart Importark'!$B$15,2)),(LEFT('1 - Opstart Importark'!$B$18,3)),IF(I352=\"\",\"\",\"-\"),I352,IF(K352=\"\",\"\",\"-\"),K352,IF(M352=\"\",\"\",\"-\"),M352,IF(O352=\"\",\"\",\"-\"),O352))))","v":""},null," ",{"$nulls":11},{"$f":"IF(LEN('1 - Opstart Importark'!$B$6)>0,'1 - Opstart Importark'!$B$6,\"\")","v":""},{"$f":"IF(LEN('1 - Opstart Importark'!$B$9)>0,'1 - Opstart Importark'!$B$9,\"\")","v":""},{"$f":"IF(LEN('1 - Opstart Importark'!$B$31)>0,'1 - Opstart Importark'!$B$31,\"\")","v":""},{"$nulls":12},"",{"$nulls":8},0,"","","objektnogle_"]
[342,null,{"$f":"IF('1 - Opstart Importark'!$B$6=\"\",\"\",(IF('1 - Opstart Importark'!$B$15=\"\",CONCATENATE(LEFT('1 - Opstart Importark'!$B$3,1),(LEFT('1 - Opstart Importark'!$B$24,2)),LEFT('1 - Opstart Importark'!$B$28,3),IF(I353=\"\",\"\",\"-\"),I353,IF(K353=\"\",\"\",\"-\"),K353,IF(M353=\"\",\"\",\"-\"),M353,IF(O353=\"\",\"\",\"-\"),O353),CONCATENATE(LEFT('1 - Opstart Importark'!$B$3,1),(LEFT('1 - Opstart Importark'!$B$15,2)),(LEFT('1 - Opstart Importark'!$B$18,3)),IF(I353=\"\",\"\",\"-\"),I353,IF(K353=\"\",\"\",\"-\"),K353,IF(M353=\"\",\"\",\"-\"),M353,IF(O353=\"\",\"\",\"-\"),O353))))","v":""},null," ",{"$nulls":11},{"$f":"IF(LEN('1 - Opstart Importark'!$B$6)>0,'1 - Opstart Importark'!$B$6,\"\")","v":""},{"$f":"IF(LEN('1 - Opstart Importark'!$B$9)>0,'1 - Opstart Importark'!$B$9,\"\")","v":""},{"$f":"IF(LEN('1 - Opstart Importark'!$B$31)>0,'1 - Opstart Importark'!$B$31,\"\")","v":""},{"$nulls":12},"",{"$nulls":8},0,"","","objektnogle_"]
[343,null,{"$f":"IF('1 - Opstart Importark'!$B$6=\"\",\"\",(IF('1 - Opstart Importark'!$B$15=\"\",CONCATENATE(LEFT('1 - Opstart Importark'!$B$3,1),(LEFT('1 - Opstart Importark'!$B$24,2)),LEFT('1 - Opstart Importark'!$B$28,3),IF(I354=\"\",\"\",\"-\"),I354,IF(K354=\"\",\"\",\"-\"),K354,IF(M354=\"\",\"\",\"-\"),M354,IF(O354=\"\",\"\",\"-\"),O354),CONCATENATE(LEFT('1 - Opstart Importark'!$B$3,1),(LEFT('1 - Opstart Importark'!$B$15,2)),(LEFT('1 - Opstart Importark'!$B$18,3)),IF(I354=\"\",\"\",\"-\"),I354,IF(K354=\"\",\"\",\"-\"),K354,IF(M354=\"\",\"\",\"-\"),M354,IF(O354=\"\",\"\",\"-\"),O354))))","v":""},null," ",{"$nulls":11},{"$f":"IF(LEN('1 - Opstart Importark'!$B$6)>0,'1 - Opstart Importark'!$B$6,\"\")","v":""},{"$f":"IF(LEN('1 - Opstart Importark'!$B$9)>0,'1 - Opstart Importark'!$B$9,\"\")","v":""},{"$f":"IF(LEN('1 - Opstart Importark'!$B$31)>0,'1 - Opstart Importark'!$B$31,\"\")","v":""},{"$nulls":12},"",{"$nulls":8},0,"","","objektnogle_"]
[344,null,{"$f":"IF('1 - Opstart Importark'!$B$6=\"\",\"\",(IF('1 - Opstart Importark'!$B$15=\"\",CONCATENATE(LEFT('1 - Opstart Importark'!$B$3,1),(LEFT('1 - Opstart Importark'!$B$24,2)),LEFT('1 - Opstart Importark'!$B$28,3),IF(I355=\"\",\"\",\"-\"),I355,IF(K355=\"\",\"\",\"-\"),K355,IF(M355=\"\",\"\",\"-\"),M355,IF(O355=\"\",\"\",\"-\"),O355),CONCATENATE(LEFT('1 - Opstart Importark'!$B$3,1),(LEFT('1 - Opstart Importark'!$B$15,2)),(LEFT('1 - Opstart Importark'!$B$18,3)),IF(I355=\"\",\"\",\"-\"),I355,IF(K355=\"\",\"\",\"-\"),K355,IF(M355=\"\",\"\",\"-\"),M355,IF(O355=\"\",\"\",\"-\"),O355))))","v":""},null," ",{"$nulls":11},{"$f":"IF(LEN('1 - Opstart Importark'!$B$6)>0,'1 - Opstart Importark'!$B$6,\"\")","v":""},{"$f":"IF(LEN('1 - Opstart Importark'!$B$9)>0,'1 - Opstart Importark'!$B$9,\"\")","v":""},{"$f":"IF(LEN('1 - Opstart Importark'!$B$31)>0,'1 - Opstart Importark'!$B$31,\"\")","v":""},{"$nulls":12},"",{"$nulls":8},0,"","","objektnogle_"]
[345,null,{"$f":"IF('1 - Opstart Importark'!$B$6=\"\",\"\",(IF('1 - Opstart Importark'!$B$15=\"\",CONCATENATE(LEFT('1 - Opstart Importark'!$B$3,1),(LEFT('1 - Opstart Importark'!$B$24,2)),LEFT('1 - Opstart Importark'!$B$28,3),IF(I356=\"\",\"\",\"-\"),I356,IF(K356=\"\",\"\",\"-\"),K356,IF(M356=\"\",\"\",\"-\"),M356,IF(O356=\"\",\"\",\"-\"),O356),CONCATENATE(LEFT('1 - Opstart Importark'!$B$3,1),(LEFT('1 - Opstart Importark'!$B$15,2)),(LEFT('1 - Opstart Importark'!$B$18,3)),IF(I356=\"\",\"\",\"-\"),I356,IF(K356=\"\",\"\",\"-\"),K356,IF(M356=\"\",\"\",\"-\"),M356,IF(O356=\"\",\"\",\"-\"),O356))))","v":""},null," ",{"$nulls":11},{"$f":"IF(LEN('1 - Opstart Importark'!$B$6)>0,'1 - Opstart Importark'!$B$6,\"\")","v":""},{"$f":"IF(LEN('1 - Opstart Importark'!$B$9)>0,'1 - Opstart Importark'!$B$9,\"\")","v":""},{"$f":"IF(LEN('1 - Opstart Importark'!$B$31)>0,'1 - Opstart Importark'!$B$31,\"\")","v":""},{"$nulls":12},"",{"$nulls":8},0,"","","objektnogle_"]
[346,null,{"$f":"IF('1 - Opstart Importark'!$B$6=\"\",\"\",(IF('1 - Opstart Importark'!$B$15=\"\",CONCATENATE(LEFT('1 - Opstart Importark'!$B$3,1),(LEFT('1 - Opstart Importark'!$B$24,2)),LEFT('1 - Opstart Importark'!$B$28,3),IF(I357=\"\",\"\",\"-\"),I357,IF(K357=\"\",\"\",\"-\"),K357,IF(M357=\"\",\"\",\"-\"),M357,IF(O357=\"\",\"\",\"-\"),O357),CONCATENATE(LEFT('1 - Opstart Importark'!$B$3,1),(LEFT('1 - Opstart Importark'!$B$15,2)),(LEFT('1 - Opstart Importark'!$B$18,3)),IF(I357=\"\",\"\",\"-\"),I357,IF(K357=\"\",\"\",\"-\"),K357,IF(M357=\"\",\"\",\"-\"),M357,IF(O357=\"\",\"\",\"-\"),O357))))","v":""},null," ",{"$nulls":11},{"$f":"IF(LEN('1 - Opstart Importark'!$B$6)>0,'1 - Opstart Importark'!$B$6,\"\")","v":""},{"$f":"IF(LEN('1 - Opstart Importark'!$B$9)>0,'1 - Opstart Importark'!$B$9,\"\")","v":""},{"$f":"IF(LEN('1 - Opstart Importark'!$B$31)>0,'1 - Opstart Importark'!$B$31,\"\")","v":""},{"$nulls":12},"",{"$nulls":8},0,"","","objektnogle_"]
[347,null,{"$f":"IF('1 - Opstart Importark'!$B$6=\"\",\"\",(IF('1 - Opstart Importark'!$B$15=\"\",CONCATENATE(LEFT('1 - Opstart Importark'!$B$3,1),(LEFT('1 - Opstart Importark'!$B$24,2)),LEFT('1 - Opstart Importark'!$B$28,3),IF(I358=\"\",\"\",\"-\"),I358,IF(K358=\"\",\"\",\"-\"),K358,IF(M358=\"\",\"\",\"-\"),M358,IF(O358=\"\",\"\",\"-\"),O358),CONCATENATE(LEFT('1 - Opstart Importark'!$B$3,1),(LEFT('1 - Opstart Importark'!$B$15,2)),(LEFT('1 - Opstart Importark'!$B$18,3)),IF(I358=\"\",\"\",\"-\"),I358,IF(K358=\"\",\"\",\"-\"),K358,IF(M358=\"\",\"\",\"-\"),M358,IF(O358=\"\",\"\",\"-\"),O358))))","v":""},null," ",{"$nulls":11},{"$f":"IF(LEN('1 - Opstart Importark'!$B$6)>0,'1 - Opstart Importark'!$B$6,\"\")","v":""},{"$f":"IF(LEN('1 - Opstart Importark'!$B$9)>0,'1 - Opstart Importark'!$B$9,\"\")","v":""},{"$f":"IF(LEN('1 - Opstart Importark'!$B$31)>0,'1 - Opstart Importark'!$B$31,\"\")","v":""},{"$nulls":12},"",{"$nulls":8},0,"","","objektnogle_"]
[348,null,{"$f":"IF('1 - Opstart Importark'!$B$6=\"\",\"\",(IF('1 - Opstart Importark'!$B$15=\"\",CONCATENATE(LEFT('1 - Opstart Importark'!$B$3,1),(LEFT('1 - Opstart Importark'!$B$24,2)),LEFT('1 - Opstart Importark'!$B$28,3),IF(I359=\"\",\"\",\"-\"),I359,IF(K359=\"\",\"\",\"-\"),K359,IF(M359=\"\",\"\",\"-\"),M359,IF(O359=\"\",\"\",\"-\"),O359),CONCATENATE(LEFT('1 - Opstart Importark'!$B$3,1),(LEFT('1 - Opstart Importark'!$B$15,2)),(LEFT('1 - Opstart Importark'!$B$18,3)),IF(I359=\"\",\"\",\"-\"),I359,IF(K359=\"\",\"\",\"-\"),K359,IF(M359=\"\",\"\",\"-\"),M359,IF(O359=\"\",\"\",\"-\"),O359))))","v":""},null," ",{"$nulls":11},{"$f":"IF(LEN('1 - Opstart Importark'!$B$6)>0,'1 - Opstart Importark'!$B$6,\"\")","v":""},{"$f":"IF(LEN('1 - Opstart Importark'!$B$9)>0,'1 - Opstart Importark'!$B$9,\"\")","v":""},{"$f":"IF(LEN('1 - Opstart Importark'!$B$31)>0,'1 - Opstart Importark'!$B$31,\"\")","v":""},{"$nulls":12},"",{"$nulls":8},0,"","","objektnogle_"]
[349,null,{"$f":"IF('1 - Opstart Importark'!$B$6=\"\",\"\",(IF('1 - Opstart Importark'!$B$15=\"\",CONCATENATE(LEFT('1 - Opstart Importark'!$B$3,1),(LEFT('1 - Opstart Importark'!$B$24,2)),LEFT('1 - Opstart Importark'!$B$28,3),IF(I360=\"\",\"\",\"-\"),I360,IF(K360=\"\",\"\",\"-\"),K360,IF(M360=\"\",\"\",\"-\"),M360,IF(O360=\"\",\"\",\"-\"),O360),CONCATENATE(LEFT('1 - Opstart Importark'!$B$3,1),(LEFT('1 - Opstart Importark'!$B$15,2)),(LEFT('1 - Opstart Importark'!$B$18,3)),IF(I360=\"\",\"\",\"-\"),I360,IF(K360=\"\",\"\",\"-\"),K360,IF(M360=\"\",\"\",\"-\"),M360,IF(O360=\"\",\"\",\"-\"),O360))))","v":""},null," ",{"$nulls":11},{"$f":"IF(LEN('1 - Opstart Importark'!$B$6)>0,'1 - Opstart Importark'!$B$6,\"\")","v":""},{"$f":"IF(LEN('1 - Opstart Importark'!$B$9)>0,'1 - Opstart Importark'!$B$9,\"\")","v":""},{"$f":"IF(LEN('1 - Opstart Importark'!$B$31)>0,'1 - Opstart Importark'!$B$31,\"\")","v":""},{"$nulls":12},"",{"$nulls":8},0,"","","objektnogle_"]
[350,null,{"$f":"IF('1 - Opstart Importark'!$B$6=\"\",\"\",(IF('1 - Opstart Importark'!$B$15=\"\",CONCATENATE(LEFT('1 - Opstart Importark'!$B$3,1),(LEFT('1 - Opstart Importark'!$B$24,2)),LEFT('1 - Opstart Importark'!$B$28,3),IF(I361=\"\",\"\",\"-\"),I361,IF(K361=\"\",\"\",\"-\"),K361,IF(M361=\"\",\"\",\"-\"),M361,IF(O361=\"\",\"\",\"-\"),O361),CONCATENATE(LEFT('1 - Opstart Importark'!$B$3,1),(LEFT('1 - Opstart Importark'!$B$15,2)),(LEFT('1 - Opstart Importark'!$B$18,3)),IF(I361=\"\",\"\",\"-\"),I361,IF(K361=\"\",\"\",\"-\"),K361,IF(M361=\"\",\"\",\"-\"),M361,IF(O361=\"\",\"\",\"-\"),O361))))","v":""},null," ",{"$nulls":11},{"$f":"IF(LEN('1 - Opstart Importark'!$B$6)>0,'1 - Opstart Importark'!$B$6,\"\")","v":""},{"$f":"IF(LEN('1 - Opstart Importark'!$B$9)>0,'1 - Opstart Importark'!$B$9,\"\")","v":""},{"$f":"IF(LEN('1 - Opstart Importark'!$B$31)>0,'1 - Opstart Importark'!$B$31,\"\")","v":""},{"$nulls":12},"",{"$nulls":8},0,"","","objektnogle_"]
[351,null,{"$f":"IF('1 - Opstart Importark'!$B$6=\"\",\"\",(IF('1 - Opstart Importark'!$B$15=\"\",CONCATENATE(LEFT('1 - Opstart Importark'!$B$3,1),(LEFT('1 - Opstart Importark'!$B$24,2)),LEFT('1 - Opstart Importark'!$B$28,3),IF(I362=\"\",\"\",\"-\"),I362,IF(K362=\"\",\"\",\"-\"),K362,IF(M362=\"\",\"\",\"-\"),M362,IF(O362=\"\",\"\",\"-\"),O362),CONCATENATE(LEFT('1 - Opstart Importark'!$B$3,1),(LEFT('1 - Opstart Importark'!$B$15,2)),(LEFT('1 - Opstart Importark'!$B$18,3)),IF(I362=\"\",\"\",\"-\"),I362,IF(K362=\"\",\"\",\"-\"),K362,IF(M362=\"\",\"\",\"-\"),M362,IF(O362=\"\",\"\",\"-\"),O362))))","v":""},null," ",{"$nulls":11},{"$f":"IF(LEN('1 - Opstart Importark'!$B$6)>0,'1 - Opstart Importark'!$B$6,\"\")","v":""},{"$f":"IF(LEN('1 - Opstart Importark'!$B$9)>0,'1 - Opstart Importark'!$B$9,\"\")","v":""},{"$f":"IF(LEN('1 - Opstart Importark'!$B$31)>0,'1 - Opstart Importark'!$B$31,\"\")","v":""},{"$nulls":12},"",{"$nulls":8},0,"","","objektnogle_"]
[352,null,{"$f":"IF('1 - Opstart Importark'!$B$6=\"\",\"\",(IF('1 - Opstart Importark'!$B$15=\"\",CONCATENATE(LEFT('1 - Opstart Importark'!$B$3,1),(LEFT('1 - Opstart Importark'!$B$24,2)),LEFT('1 - Opstart Importark'!$B$28,3),IF(I363=\"\",\"\",\"-\"),I363,IF(K363=\"\",\"\",\"-\"),K363,IF(M363=\"\",\"\",\"-\"),M363,IF(O363=\"\",\"\",\"-\"),O363),CONCATENATE(LEFT('1 - Opstart Importark'!$B$3,1),(LEFT('1 - Opstart Importark'!$B$15,2)),(LEFT('1 - Opstart Importark'!$B$18,3)),IF(I363=\"\",\"\",\"-\"),I363,IF(K363=\"\",\"\",\"-\"),K363,IF(M363=\"\",\"\",\"-\"),M363,IF(O363=\"\",\"\",\"-\"),O363))))","v":""},null," ",{"$nulls":11},{"$f":"IF(LEN('1 - Opstart Importark'!$B$6)>0,'1 - Opstart Importark'!$B$6,\"\")","v":""},{"$f":"IF(LEN('1 - Opstart Importark'!$B$9)>0,'1 - Opstart Importark'!$B$9,\"\")","v":""},{"$f":"IF(LEN('1 - Opstart Importark'!$B$31)>0,'1 - Opstart Importark'!$B$31,\"\")","v":""},{"$nulls":12},"",{"$nulls":8},0,"","","objektnogle_"]
[353,null,{"$f":"IF('1 - Opstart Importark'!$B$6=\"\",\"\",(IF('1 - Opstart Importark'!$B$15=\"\",CONCATENATE(LEFT('1 - Opstart Importark'!$B$3,1),(LEFT('1 - Opstart Importark'!$B$24,2)),LEFT('1 - Opstart Importark'!$B$28,3),IF(I364=\"\",\"\",\"-\"),I364,IF(K364=\"\",\"\",\"-\"),K364,IF(M364=\"\",\"\",\"-\"),M364,IF(O364=\"\",\"\",\"-\"),O364),CONCATENATE(LEFT('1 - Opstart Importark'!$B$3,1),(LEFT('1 - Opstart Importark'!$B$15,2)),(LEFT('1 - Opstart Importark'!$B$18,3)),IF(I364=\"\",\"\",\"-\"),I364,IF(K364=\"\",\"\",\"-\"),K364,IF(M364=\"\",\"\",\"-\"),M364,IF(O364=\"\",\"\",\"-\"),O364))))","v":""},null," ",{"$nulls":11},{"$f":"IF(LEN('1 - Opstart Importark'!$B$6)>0,'1 - Opstart Importark'!$B$6,\"\")","v":""},{"$f":"IF(LEN('1 - Opstart Importark'!$B$9)>0,'1 - Opstart Importark'!$B$9,\"\")","v":""},{"$f":"IF(LEN('1 - Opstart Importark'!$B$31)>0,'1 - Opstart Importark'!$B$31,\"\")","v":""},{"$nulls":12},"",{"$nulls":8},0,"","","objektnogle_"]
[354,null,{"$f":"IF('1 - Opstart Importark'!$B$6=\"\",\"\",(IF('1 - Opstart Importark'!$B$15=\"\",CONCATENATE(LEFT('1 - Opstart Importark'!$B$3,1),(LEFT('1 - Opstart Importark'!$B$24,2)),LEFT('1 - Opstart Importark'!$B$28,3),IF(I365=\"\",\"\",\"-\"),I365,IF(K365=\"\",\"\",\"-\"),K365,IF(M365=\"\",\"\",\"-\"),M365,IF(O365=\"\",\"\",\"-\"),O365),CONCATENATE(LEFT('1 - Opstart Importark'!$B$3,1),(LEFT('1 - Opstart Importark'!$B$15,2)),(LEFT('1 - Opstart Importark'!$B$18,3)),IF(I365=\"\",\"\",\"-\"),I365,IF(K365=\"\",\"\",\"-\"),K365,IF(M365=\"\",\"\",\"-\"),M365,IF(O365=\"\",\"\",\"-\"),O365))))","v":""},null," ",{"$nulls":11},{"$f":"IF(LEN('1 - Opstart Importark'!$B$6)>0,'1 - Opstart Importark'!$B$6,\"\")","v":""},{"$f":"IF(LEN('1 - Opstart Importark'!$B$9)>0,'1 - Opstart Importark'!$B$9,\"\")","v":""},{"$f":"IF(LEN('1 - Opstart Importark'!$B$31)>0,'1 - Opstart Importark'!$B$31,\"\")","v":""},{"$nulls":12},"",{"$nulls":8},0,"","","objektnogle_"]
[355,null,{"$f":"IF('1 - Opstart Importark'!$B$6=\"\",\"\",(IF('1 - Opstart Importark'!$B$15=\"\",CONCATENATE(LEFT('1 - Opstart Importark'!$B$3,1),(LEFT('1 - Opstart Importark'!$B$24,2)),LEFT('1 - Opstart Importark'!$B$28,3),IF(I366=\"\",\"\",\"-\"),I366,IF(K366=\"\",\"\",\"-\"),K366,IF(M366=\"\",\"\",\"-\"),M366,IF(O366=\"\",\"\",\"-\"),O366),CONCATENATE(LEFT('1 - Opstart Importark'!$B$3,1),(LEFT('1 - Opstart Importark'!$B$15,2)),(LEFT('1 - Opstart Importark'!$B$18,3)),IF(I366=\"\",\"\",\"-\"),I366,IF(K366=\"\",\"\",\"-\"),K366,IF(M366=\"\",\"\",\"-\"),M366,IF(O366=\"\",\"\",\"-\"),O366))))","v":""},null," ",{"$nulls":11},{"$f":"IF(LEN('1 - Opstart Importark'!$B$6)>0,'1 - Opstart Importark'!$B$6,\"\")","v":""},{"$f":"IF(LEN('1 - Opstart Importark'!$B$9)>0,'1 - Opstart Importark'!$B$9,\"\")","v":""},{"$f":"IF(LEN('1 - Opstart Importark'!$B$31)>0,'1 - Opstart Importark'!$B$31,\"\")","v":""},{"$nulls":12},"",{"$nulls":8},0,"","","objektnogle_"]
[356,null,{"$f":"IF('1 - Opstart Importark'!$B$6=\"\",\"\",(IF('1 - Opstart Importark'!$B$15=\"\",CONCATENATE(LEFT('1 - Opstart Importark'!$B$3,1),(LEFT('1 - Opstart Importark'!$B$24,2)),LEFT('1 - Opstart Importark'!$B$28,3),IF(I367=\"\",\"\",\"-\"),I367,IF(K367=\"\",\"\",\"-\"),K367,IF(M367=\"\",\"\",\"-\"),M367,IF(O367=\"\",\"\",\"-\"),O367),CONCATENATE(LEFT('1 - Opstart Importark'!$B$3,1),(LEFT('1 - Opstart Importark'!$B$15,2)),(LEFT('1 - Opstart Importark'!$B$18,3)),IF(I367=\"\",\"\",\"-\"),I367,IF(K367=\"\",\"\",\"-\"),K367,IF(M367=\"\",\"\",\"-\"),M367,IF(O367=\"\",\"\",\"-\"),O367))))","v":""},null," ",{"$nulls":11},{"$f":"IF(LEN('1 - Opstart Importark'!$B$6)>0,'1 - Opstart Importark'!$B$6,\"\")","v":""},{"$f":"IF(LEN('1 - Opstart Importark'!$B$9)>0,'1 - Opstart Importark'!$B$9,\"\")","v":""},{"$f":"IF(LEN('1 - Opstart Importark'!$B$31)>0,'1 - Opstart Importark'!$B$31,\"\")","v":""},{"$nulls":12},"",{"$nulls":8},0,"","","objektnogle_"]
[357,null,{"$f":"IF('1 - Opstart Importark'!$B$6=\"\",\"\",(IF('1 - Opstart Importark'!$B$15=\"\",CONCATENATE(LEFT('1 - Opstart Importark'!$B$3,1),(LEFT('1 - Opstart Importark'!$B$24,2)),LEFT('1 - Opstart Importark'!$B$28,3),IF(I368=\"\",\"\",\"-\"),I368,IF(K368=\"\",\"\",\"-\"),K368,IF(M368=\"\",\"\",\"-\"),M368,IF(O368=\"\",\"\",\"-\"),O368),CONCATENATE(LEFT('1 - Opstart Importark'!$B$3,1),(LEFT('1 - Opstart Importark'!$B$15,2)),(LEFT('1 - Opstart Importark'!$B$18,3)),IF(I368=\"\",\"\",\"-\"),I368,IF(K368=\"\",\"\",\"-\"),K368,IF(M368=\"\",\"\",\"-\"),M368,IF(O368=\"\",\"\",\"-\"),O368))))","v":""},null," ",{"$nulls":11},{"$f":"IF(LEN('1 - Opstart Importark'!$B$6)>0,'1 - Opstart Importark'!$B$6,\"\")","v":""},{"$f":"IF(LEN('1 - Opstart Importark'!$B$9)>0,'1 - Opstart Importark'!$B$9,\"\")","v":""},{"$f":"IF(LEN('1 - Opstart Importark'!$B$31)>0,'1 - Opstart Importark'!$B$31,\"\")","v":""},{"$nulls":12},"",{"$nulls":8},0,"","","objektnogle_"]
[358,null,{"$f":"IF('1 - Opstart Importark'!$B$6=\"\",\"\",(IF('1 - Opstart Importark'!$B$15=\"\",CONCATENATE(LEFT('1 - Opstart Importark'!$B$3,1),(LEFT('1 - Opstart Importark'!$B$24,2)),LEFT('1 - Opstart Importark'!$B$28,3),IF(I369=\"\",\"\",\"-\"),I369,IF(K369=\"\",\"\",\"-\"),K369,IF(M369=\"\",\"\",\"-\"),M369,IF(O369=\"\",\"\",\"-\"),O369),CONCATENATE(LEFT('1 - Opstart Importark'!$B$3,1),(LEFT('1 - Opstart Importark'!$B$15,2)),(LEFT('1 - Opstart Importark'!$B$18,3)),IF(I369=\"\",\"\",\"-\"),I369,IF(K369=\"\",\"\",\"-\"),K369,IF(M369=\"\",\"\",\"-\"),M369,IF(O369=\"\",\"\",\"-\"),O369))))","v":""},null," ",{"$nulls":11},{"$f":"IF(LEN('1 - Opstart Importark'!$B$6)>0,'1 - Opstart Importark'!$B$6,\"\")","v":""},{"$f":"IF(LEN('1 - Opstart Importark'!$B$9)>0,'1 - Opstart Importark'!$B$9,\"\")","v":""},{"$f":"IF(LEN('1 - Opstart Importark'!$B$31)>0,'1 - Opstart Importark'!$B$31,\"\")","v":""},{"$nulls":12},"",{"$nulls":8},0,"","","objektnogle_"]
[359,null,{"$f":"IF('1 - Opstart Importark'!$B$6=\"\",\"\",(IF('1 - Opstart Importark'!$B$15=\"\",CONCATENATE(LEFT('1 - Opstart Importark'!$B$3,1),(LEFT('1 - Opstart Importark'!$B$24,2)),LEFT('1 - Opstart Importark'!$B$28,3),IF(I370=\"\",\"\",\"-\"),I370,IF(K370=\"\",\"\",\"-\"),K370,IF(M370=\"\",\"\",\"-\"),M370,IF(O370=\"\",\"\",\"-\"),O370),CONCATENATE(LEFT('1 - Opstart Importark'!$B$3,1),(LEFT('1 - Opstart Importark'!$B$15,2)),(LEFT('1 - Opstart Importark'!$B$18,3)),IF(I370=\"\",\"\",\"-\"),I370,IF(K370=\"\",\"\",\"-\"),K370,IF(M370=\"\",\"\",\"-\"),M370,IF(O370=\"\",\"\",\"-\"),O370))))","v":""},null," ",{"$nulls":11},{"$f":"IF(LEN('1 - Opstart Importark'!$B$6)>0,'1 - Opstart Importark'!$B$6,\"\")","v":""},{"$f":"IF(LEN('1 - Opstart Importark'!$B$9)>0,'1 - Opstart Importark'!$B$9,\"\")","v":""},{"$f":"IF(LEN('1 - Opstart Importark'!$B$31)>0,'1 - Opstart Importark'!$B$31,\"\")","v":""},{"$nulls":12},"",{"$nulls":8},0,"","","objektnogle_"]
[360,null,{"$f":"IF('1 - Opstart Importark'!$B$6=\"\",\"\",(IF('1 - Opstart Importark'!$B$15=\"\",CONCATENATE(LEFT('1 - Opstart Importark'!$B$3,1),(LEFT('1 - Opstart Importark'!$B$24,2)),LEFT('1 - Opstart Importark'!$B$28,3),IF(I371=\"\",\"\",\"-\"),I371,IF(K371=\"\",\"\",\"-\"),K371,IF(M371=\"\",\"\",\"-\"),M371,IF(O371=\"\",\"\",\"-\"),O371),CONCATENATE(LEFT('1 - Opstart Importark'!$B$3,1),(LEFT('1 - Opstart Importark'!$B$15,2)),(LEFT('1 - Opstart Importark'!$B$18,3)),IF(I371=\"\",\"\",\"-\"),I371,IF(K371=\"\",\"\",\"-\"),K371,IF(M371=\"\",\"\",\"-\"),M371,IF(O371=\"\",\"\",\"-\"),O371))))","v":""},null," ",{"$nulls":11},{"$f":"IF(LEN('1 - Opstart Importark'!$B$6)>0,'1 - Opstart Importark'!$B$6,\"\")","v":""},{"$f":"IF(LEN('1 - Opstart Importark'!$B$9)>0,'1 - Opstart Importark'!$B$9,\"\")","v":""},{"$f":"IF(LEN('1 - Opstart Importark'!$B$31)>0,'1 - Opstart Importark'!$B$31,\"\")","v":""},{"$nulls":12},"",{"$nulls":8},0,"","","objektnogle_"]
[361,null,{"$f":"IF('1 - Opstart Importark'!$B$6=\"\",\"\",(IF('1 - Opstart Importark'!$B$15=\"\",CONCATENATE(LEFT('1 - Opstart Importark'!$B$3,1),(LEFT('1 - Opstart Importark'!$B$24,2)),LEFT('1 - Opstart Importark'!$B$28,3),IF(I372=\"\",\"\",\"-\"),I372,IF(K372=\"\",\"\",\"-\"),K372,IF(M372=\"\",\"\",\"-\"),M372,IF(O372=\"\",\"\",\"-\"),O372),CONCATENATE(LEFT('1 - Opstart Importark'!$B$3,1),(LEFT('1 - Opstart Importark'!$B$15,2)),(LEFT('1 - Opstart Importark'!$B$18,3)),IF(I372=\"\",\"\",\"-\"),I372,IF(K372=\"\",\"\",\"-\"),K372,IF(M372=\"\",\"\",\"-\"),M372,IF(O372=\"\",\"\",\"-\"),O372))))","v":""},null," ",{"$nulls":11},{"$f":"IF(LEN('1 - Opstart Importark'!$B$6)>0,'1 - Opstart Importark'!$B$6,\"\")","v":""},{"$f":"IF(LEN('1 - Opstart Importark'!$B$9)>0,'1 - Opstart Importark'!$B$9,\"\")","v":""},{"$f":"IF(LEN('1 - Opstart Importark'!$B$31)>0,'1 - Opstart Importark'!$B$31,\"\")","v":""},{"$nulls":12},"",{"$nulls":8},0,"","","objektnogle_"]
[362,null,{"$f":"IF('1 - Opstart Importark'!$B$6=\"\",\"\",(IF('1 - Opstart Importark'!$B$15=\"\",CONCATENATE(LEFT('1 - Opstart Importark'!$B$3,1),(LEFT('1 - Opstart Importark'!$B$24,2)),LEFT('1 - Opstart Importark'!$B$28,3),IF(I373=\"\",\"\",\"-\"),I373,IF(K373=\"\",\"\",\"-\"),K373,IF(M373=\"\",\"\",\"-\"),M373,IF(O373=\"\",\"\",\"-\"),O373),CONCATENATE(LEFT('1 - Opstart Importark'!$B$3,1),(LEFT('1 - Opstart Importark'!$B$15,2)),(LEFT('1 - Opstart Importark'!$B$18,3)),IF(I373=\"\",\"\",\"-\"),I373,IF(K373=\"\",\"\",\"-\"),K373,IF(M373=\"\",\"\",\"-\"),M373,IF(O373=\"\",\"\",\"-\"),O373))))","v":""},null," ",{"$nulls":11},{"$f":"IF(LEN('1 - Opstart Importark'!$B$6)>0,'1 - Opstart Importark'!$B$6,\"\")","v":""},{"$f":"IF(LEN('1 - Opstart Importark'!$B$9)>0,'1 - Opstart Importark'!$B$9,\"\")","v":""},{"$f":"IF(LEN('1 - Opstart Importark'!$B$31)>0,'1 - Opstart Importark'!$B$31,\"\")","v":""},{"$nulls":12},"",{"$nulls":8},0,"","","objektnogle_"]
[363,null,{"$f":"IF('1 - Opstart Importark'!$B$6=\"\",\"\",(IF('1 - Opstart Importark'!$B$15=\"\",CONCATENATE(LEFT('1 - Opstart Importark'!$B$3,1),(LEFT('1 - Opstart Importark'!$B$24,2)),LEFT('1 - Opstart Importark'!$B$28,3),IF(I374=\"\",\"\",\"-\"),I374,IF(K374=\"\",\"\",\"-\"),K374,IF(M374=\"\",\"\",\"-\"),M374,IF(O374=\"\",\"\",\"-\"),O374),CONCATENATE(LEFT('1 - Opstart Importark'!$B$3,1),(LEFT('1 - Opstart Importark'!$B$15,2)),(LEFT('1 - Opstart Importark'!$B$18,3)),IF(I374=\"\",\"\",\"-\"),I374,IF(K374=\"\",\"\",\"-\"),K374,IF(M374=\"\",\"\",\"-\"),M374,IF(O374=\"\",\"\",\"-\"),O374))))","v":""},null," ",{"$nulls":11},{"$f":"IF(LEN('1 - Opstart Importark'!$B$6)>0,'1 - Opstart Importark'!$B$6,\"\")","v":""},{"$f":"IF(LEN('1 - Opstart Importark'!$B$9)>0,'1 - Opstart Importark'!$B$9,\"\")","v":""},{"$f":"IF(LEN('1 - Opstart Importark'!$B$31)>0,'1 - Opstart Importark'!$B$31,\"\")","v":""},{"$nulls":12},"",{"$nulls":8},0,"","","objektnogle_"]
[364,null,{"$f":"IF('1 - Opstart Importark'!$B$6=\"\",\"\",(IF('1 - Opstart Importark'!$B$15=\"\",CONCATENATE(LEFT('1 - Opstart Importark'!$B$3,1),(LEFT('1 - Opstart Importark'!$B$24,2)),LEFT('1 - Opstart Importark'!$B$28,3),IF(I375=\"\",\"\",\"-\"),I375,IF(K375=\"\",\"\",\"-\"),K375,IF(M375=\"\",\"\",\"-\"),M375,IF(O375=\"\",\"\",\"-\"),O375),CONCATENATE(LEFT('1 - Opstart Importark'!$B$3,1),(LEFT('1 - Opstart Importark'!$B$15,2)),(LEFT('1 - Opstart Importark'!$B$18,3)),IF(I375=\"\",\"\",\"-\"),I375,IF(K375=\"\",\"\",\"-\"),K375,IF(M375=\"\",\"\",\"-\"),M375,IF(O375=\"\",\"\",\"-\"),O375))))","v":""},null," ",{"$nulls":11},{"$f":"IF(LEN('1 - Opstart Importark'!$B$6)>0,'1 - Opstart Importark'!$B$6,\"\")","v":""},{"$f":"IF(LEN('1 - Opstart Importark'!$B$9)>0,'1 - Opstart Importark'!$B$9,\"\")","v":""},{"$f":"IF(LEN('1 - Opstart Importark'!$B$31)>0,'1 - Opstart Importark'!$B$31,\"\")","v":""},{"$nulls":12},"",{"$nulls":8},0,"","","objektnogle_"]
[365,null,{"$f":"IF('1 - Opstart Importark'!$B$6=\"\",\"\",(IF('1 - Opstart Importark'!$B$15=\"\",CONCATENATE(LEFT('1 - Opstart Importark'!$B$3,1),(LEFT('1 - Opstart Importark'!$B$24,2)),LEFT('1 - Opstart Importark'!$B$28,3),IF(I376=\"\",\"\",\"-\"),I376,IF(K376=\"\",\"\",\"-\"),K376,IF(M376=\"\",\"\",\"-\"),M376,IF(O376=\"\",\"\",\"-\"),O376),CONCATENATE(LEFT('1 - Opstart Importark'!$B$3,1),(LEFT('1 - Opstart Importark'!$B$15,2)),(LEFT('1 - Opstart Importark'!$B$18,3)),IF(I376=\"\",\"\",\"-\"),I376,IF(K376=\"\",\"\",\"-\"),K376,IF(M376=\"\",\"\",\"-\"),M376,IF(O376=\"\",\"\",\"-\"),O376))))","v":""},null," ",{"$nulls":11},{"$f":"IF(LEN('1 - Opstart Importark'!$B$6)>0,'1 - Opstart Importark'!$B$6,\"\")","v":""},{"$f":"IF(LEN('1 - Opstart Importark'!$B$9)>0,'1 - Opstart Importark'!$B$9,\"\")","v":""},{"$f":"IF(LEN('1 - Opstart Importark'!$B$31)>0,'1 - Opstart Importark'!$B$31,\"\")","v":""},{"$nulls":12},"",{"$nulls":8},0,"","","objektnogle_"]
[366,null,{"$f":"IF('1 - Opstart Importark'!$B$6=\"\",\"\",(IF('1 - Opstart Importark'!$B$15=\"\",CONCATENATE(LEFT('1 - Opstart Importark'!$B$3,1),(LEFT('1 - Opstart Importark'!$B$24,2)),LEFT('1 - Opstart Importark'!$B$28,3),IF(I377=\"\",\"\",\"-\"),I377,IF(K377=\"\",\"\",\"-\"),K377,IF(M377=\"\",\"\",\"-\"),M377,IF(O377=\"\",\"\",\"-\"),O377),CONCATENATE(LEFT('1 - Opstart Importark'!$B$3,1),(LEFT('1 - Opstart Importark'!$B$15,2)),(LEFT('1 - Opstart Importark'!$B$18,3)),IF(I377=\"\",\"\",\"-\"),I377,IF(K377=\"\",\"\",\"-\"),K377,IF(M377=\"\",\"\",\"-\"),M377,IF(O377=\"\",\"\",\"-\"),O377))))","v":""},null," ",{"$nulls":11},{"$f":"IF(LEN('1 - Opstart Importark'!$B$6)>0,'1 - Opstart Importark'!$B$6,\"\")","v":""},{"$f":"IF(LEN('1 - Opstart Importark'!$B$9)>0,'1 - Opstart Importark'!$B$9,\"\")","v":""},{"$f":"IF(LEN('1 - Opstart Importark'!$B$31)>0,'1 - Opstart Importark'!$B$31,\"\")","v":""},{"$nulls":12},"",{"$nulls":8},0,"","","objektnogle_"]
[367,null,{"$f":"IF('1 - Opstart Importark'!$B$6=\"\",\"\",(IF('1 - Opstart Importark'!$B$15=\"\",CONCATENATE(LEFT('1 - Opstart Importark'!$B$3,1),(LEFT('1 - Opstart Importark'!$B$24,2)),LEFT('1 - Opstart Importark'!$B$28,3),IF(I378=\"\",\"\",\"-\"),I378,IF(K378=\"\",\"\",\"-\"),K378,IF(M378=\"\",\"\",\"-\"),M378,IF(O378=\"\",\"\",\"-\"),O378),CONCATENATE(LEFT('1 - Opstart Importark'!$B$3,1),(LEFT('1 - Opstart Importark'!$B$15,2)),(LEFT('1 - Opstart Importark'!$B$18,3)),IF(I378=\"\",\"\",\"-\"),I378,IF(K378=\"\",\"\",\"-\"),K378,IF(M378=\"\",\"\",\"-\"),M378,IF(O378=\"\",\"\",\"-\"),O378))))","v":""},null," ",{"$nulls":11},{"$f":"IF(LEN('1 - Opstart Importark'!$B$6)>0,'1 - Opstart Importark'!$B$6,\"\")","v":""},{"$f":"IF(LEN('1 - Opstart Importark'!$B$9)>0,'1 - Opstart Importark'!$B$9,\"\")","v":""},{"$f":"IF(LEN('1 - Opstart Importark'!$B$31)>0,'1 - Opstart Importark'!$B$31,\"\")","v":""},{"$nulls":12},"",{"$nulls":8},0,"","","objektnogle_"]
[368,null,{"$f":"IF('1 - Opstart Importark'!$B$6=\"\",\"\",(IF('1 - Opstart Importark'!$B$15=\"\",CONCATENATE(LEFT('1 - Opstart Importark'!$B$3,1),(LEFT('1 - Opstart Importark'!$B$24,2)),LEFT('1 - Opstart Importark'!$B$28,3),IF(I379=\"\",\"\",\"-\"),I379,IF(K379=\"\",\"\",\"-\"),K379,IF(M379=\"\",\"\",\"-\"),M379,IF(O379=\"\",\"\",\"-\"),O379),CONCATENATE(LEFT('1 - Opstart Importark'!$B$3,1),(LEFT('1 - Opstart Importark'!$B$15,2)),(LEFT('1 - Opstart Importark'!$B$18,3)),IF(I379=\"\",\"\",\"-\"),I379,IF(K379=\"\",\"\",\"-\"),K379,IF(M379=\"\",\"\",\"-\"),M379,IF(O379=\"\",\"\",\"-\"),O379))))","v":""},null," ",{"$nulls":11},{"$f":"IF(LEN('1 - Opstart Importark'!$B$6)>0,'1 - Opstart Importark'!$B$6,\"\")","v":""},{"$f":"IF(LEN('1 - Opstart Importark'!$B$9)>0,'1 - Opstart Importark'!$B$9,\"\")","v":""},{"$f":"IF(LEN('1 - Opstart Importark'!$B$31)>0,'1 - Opstart Importark'!$B$31,\"\")","v":""},{"$nulls":12},"",{"$nulls":8},0,"","","objektnogle_"]
[369,null,{"$f":"IF('1 - Opstart Importark'!$B$6=\"\",\"\",(IF('1 - Opstart Importark'!$B$15=\"\",CONCATENATE(LEFT('1 - Opstart Importark'!$B$3,1),(LEFT('1 - Opstart Importark'!$B$24,2)),LEFT('1 - Opstart Importark'!$B$28,3),IF(I380=\"\",\"\",\"-\"),I380,IF(K380=\"\",\"\",\"-\"),K380,IF(M380=\"\",\"\",\"-\"),M380,IF(O380=\"\",\"\",\"-\"),O380),CONCATENATE(LEFT('1 - Opstart Importark'!$B$3,1),(LEFT('1 - Opstart Importark'!$B$15,2)),(LEFT('1 - Opstart Importark'!$B$18,3)),IF(I380=\"\",\"\",\"-\"),I380,IF(K380=\"\",\"\",\"-\"),K380,IF(M380=\"\",\"\",\"-\"),M380,IF(O380=\"\",\"\",\"-\"),O380))))","v":""},null," ",{"$nulls":11},{"$f":"IF(LEN('1 - Opstart Importark'!$B$6)>0,'1 - Opstart Importark'!$B$6,\"\")","v":""},{"$f":"IF(LEN('1 - Opstart Importark'!$B$9)>0,'1 - Opstart Importark'!$B$9,\"\")","v":""},{"$f":"IF(LEN('1 - Opstart Importark'!$B$31)>0,'1 - Opstart Importark'!$B$31,\"\")","v":""},{"$nulls":12},"",{"$nulls":8},0,"","","objektnogle_"]
[370,null,{"$f":"IF('1 - Opstart Importark'!$B$6=\"\",\"\",(IF('1 - Opstart Importark'!$B$15=\"\",CONCATENATE(LEFT('1 - Opstart Importark'!$B$3,1),(LEFT('1 - Opstart Importark'!$B$24,2)),LEFT('1 - Opstart Importark'!$B$28,3),IF(I381=\"\",\"\",\"-\"),I381,IF(K381=\"\",\"\",\"-\"),K381,IF(M381=\"\",\"\",\"-\"),M381,IF(O381=\"\",\"\",\"-\"),O381),CONCATENATE(LEFT('1 - Opstart Importark'!$B$3,1),(LEFT('1 - Opstart Importark'!$B$15,2)),(LEFT('1 - Opstart Importark'!$B$18,3)),IF(I381=\"\",\"\",\"-\"),I381,IF(K381=\"\",\"\",\"-\"),K381,IF(M381=\"\",\"\",\"-\"),M381,IF(O381=\"\",\"\",\"-\"),O381))))","v":""},null," ",{"$nulls":11},{"$f":"IF(LEN('1 - Opstart Importark'!$B$6)>0,'1 - Opstart Importark'!$B$6,\"\")","v":""},{"$f":"IF(LEN('1 - Opstart Importark'!$B$9)>0,'1 - Opstart Importark'!$B$9,\"\")","v":""},{"$f":"IF(LEN('1 - Opstart Importark'!$B$31)>0,'1 - Opstart Importark'!$B$31,\"\")","v":""},{"$nulls":12},"",{"$nulls":8},0,"","","objektnogle_"]
[371,null,{"$f":"IF('1 - Opstart Importark'!$B$6=\"\",\"\",(IF('1 - Opstart Importark'!$B$15=\"\",CONCATENATE(LEFT('1 - Opstart Importark'!$B$3,1),(LEFT('1 - Opstart Importark'!$B$24,2)),LEFT('1 - Opstart Importark'!$B$28,3),IF(I382=\"\",\"\",\"-\"),I382,IF(K382=\"\",\"\",\"-\"),K382,IF(M382=\"\",\"\",\"-\"),M382,IF(O382=\"\",\"\",\"-\"),O382),CONCATENATE(LEFT('1 - Opstart Importark'!$B$3,1),(LEFT('1 - Opstart Importark'!$B$15,2)),(LEFT('1 - Opstart Importark'!$B$18,3)),IF(I382=\"\",\"\",\"-\"),I382,IF(K382=\"\",\"\",\"-\"),K382,IF(M382=\"\",\"\",\"-\"),M382,IF(O382=\"\",\"\",\"-\"),O382))))","v":""},null," ",{"$nulls":11},{"$f":"IF(LEN('1 - Opstart Importark'!$B$6)>0,'1 - Opstart Importark'!$B$6,\"\")","v":""},{"$f":"IF(LEN('1 - Opstart Importark'!$B$9)>0,'1 - Opstart Importark'!$B$9,\"\")","v":""},{"$f":"IF(LEN('1 - Opstart Importark'!$B$31)>0,'1 - Opstart Importark'!$B$31,\"\")","v":""},{"$nulls":12},"",{"$nulls":8},0,"","","objektnogle_"]
[372,null,{"$f":"IF('1 - Opstart Importark'!$B$6=\"\",\"\",(IF('1 - Opstart Importark'!$B$15=\"\",CONCATENATE(LEFT('1 - Opstart Importark'!$B$3,1),(LEFT('1 - Opstart Importark'!$B$24,2)),LEFT('1 - Opstart Importark'!$B$28,3),IF(I383=\"\",\"\",\"-\"),I383,IF(K383=\"\",\"\",\"-\"),K383,IF(M383=\"\",\"\",\"-\"),M383,IF(O383=\"\",\"\",\"-\"),O383),CONCATENATE(LEFT('1 - Opstart Importark'!$B$3,1),(LEFT('1 - Opstart Importark'!$B$15,2)),(LEFT('1 - Opstart Importark'!$B$18,3)),IF(I383=\"\",\"\",\"-\"),I383,IF(K383=\"\",\"\",\"-\"),K383,IF(M383=\"\",\"\",\"-\"),M383,IF(O383=\"\",\"\",\"-\"),O383))))","v":""},null," ",{"$nulls":11},{"$f":"IF(LEN('1 - Opstart Importark'!$B$6)>0,'1 - Opstart Importark'!$B$6,\"\")","v":""},{"$f":"IF(LEN('1 - Opstart Importark'!$B$9)>0,'1 - Opstart Importark'!$B$9,\"\")","v":""},{"$f":"IF(LEN('1 - Opstart Importark'!$B$31)>0,'1 - Opstart Importark'!$B$31,\"\")","v":""},{"$nulls":12},"",{"$nulls":8},0,"","","objektnogle_"]
[373,null,{"$f":"IF('1 - Opstart Importark'!$B$6=\"\",\"\",(IF('1 - Opstart Importark'!$B$15=\"\",CONCATENATE(LEFT('1 - Opstart Importark'!$B$3,1),(LEFT('1 - Opstart Importark'!$B$24,2)),LEFT('1 - Opstart Importark'!$B$28,3),IF(I384=\"\",\"\",\"-\"),I384,IF(K384=\"\",\"\",\"-\"),K384,IF(M384=\"\",\"\",\"-\"),M384,IF(O384=\"\",\"\",\"-\"),O384),CONCATENATE(LEFT('1 - Opstart Importark'!$B$3,1),(LEFT('1 - Opstart Importark'!$B$15,2)),(LEFT('1 - Opstart Importark'!$B$18,3)),IF(I384=\"\",\"\",\"-\"),I384,IF(K384=\"\",\"\",\"-\"),K384,IF(M384=\"\",\"\",\"-\"),M384,IF(O384=\"\",\"\",\"-\"),O384))))","v":""},null," ",{"$nulls":11},{"$f":"IF(LEN('1 - Opstart Importark'!$B$6)>0,'1 - Opstart Importark'!$B$6,\"\")","v":""},{"$f":"IF(LEN('1 - Opstart Importark'!$B$9)>0,'1 - Opstart Importark'!$B$9,\"\")","v":""},{"$f":"IF(LEN('1 - Opstart Importark'!$B$31)>0,'1 - Opstart Importark'!$B$31,\"\")","v":""},{"$nulls":12},"",{"$nulls":8},0,"","","objektnogle_"]
[374,null,{"$f":"IF('1 - Opstart Importark'!$B$6=\"\",\"\",(IF('1 - Opstart Importark'!$B$15=\"\",CONCATENATE(LEFT('1 - Opstart Importark'!$B$3,1),(LEFT('1 - Opstart Importark'!$B$24,2)),LEFT('1 - Opstart Importark'!$B$28,3),IF(I385=\"\",\"\",\"-\"),I385,IF(K385=\"\",\"\",\"-\"),K385,IF(M385=\"\",\"\",\"-\"),M385,IF(O385=\"\",\"\",\"-\"),O385),CONCATENATE(LEFT('1 - Opstart Importark'!$B$3,1),(LEFT('1 - Opstart Importark'!$B$15,2)),(LEFT('1 - Opstart Importark'!$B$18,3)),IF(I385=\"\",\"\",\"-\"),I385,IF(K385=\"\",\"\",\"-\"),K385,IF(M385=\"\",\"\",\"-\"),M385,IF(O385=\"\",\"\",\"-\"),O385))))","v":""},null," ",{"$nulls":11},{"$f":"IF(LEN('1 - Opstart Importark'!$B$6)>0,'1 - Opstart Importark'!$B$6,\"\")","v":""},{"$f":"IF(LEN('1 - Opstart Importark'!$B$9)>0,'1 - Opstart Importark'!$B$9,\"\")","v":""},{"$f":"IF(LEN('1 - Opstart Importark'!$B$31)>0,'1 - Opstart Importark'!$B$31,\"\")","v":""},{"$nulls":12},"",{"$nulls":8},0,"","","objektnogle_"]
[375,null,{"$f":"IF('1 - Opstart Importark'!$B$6=\"\",\"\",(IF('1 - Opstart Importark'!$B$15=\"\",CONCATENATE(LEFT('1 - Opstart Importark'!$B$3,1),(LEFT('1 - Opstart Importark'!$B$24,2)),LEFT('1 - Opstart Importark'!$B$28,3),IF(I386=\"\",\"\",\"-\"),I386,IF(K386=\"\",\"\",\"-\"),K386,IF(M386=\"\",\"\",\"-\"),M386,IF(O386=\"\",\"\",\"-\"),O386),CONCATENATE(LEFT('1 - Opstart Importark'!$B$3,1),(LEFT('1 - Opstart Importark'!$B$15,2)),(LEFT('1 - Opstart Importark'!$B$18,3)),IF(I386=\"\",\"\",\"-\"),I386,IF(K386=\"\",\"\",\"-\"),K386,IF(M386=\"\",\"\",\"-\"),M386,IF(O386=\"\",\"\",\"-\"),O386))))","v":""},null," ",{"$nulls":11},{"$f":"IF(LEN('1 - Opstart Importark'!$B$6)>0,'1 - Opstart Importark'!$B$6,\"\")","v":""},{"$f":"IF(LEN('1 - Opstart Importark'!$B$9)>0,'1 - Opstart Importark'!$B$9,\"\")","v":""},{"$f":"IF(LEN('1 - Opstart Importark'!$B$31)>0,'1 - Opstart Importark'!$B$31,\"\")","v":""},{"$nulls":12},"",{"$nulls":8},0,"","","objektnogle_"]
[376,null,{"$f":"IF('1 - Opstart Importark'!$B$6=\"\",\"\",(IF('1 - Opstart Importark'!$B$15=\"\",CONCATENATE(LEFT('1 - Opstart Importark'!$B$3,1),(LEFT('1 - Opstart Importark'!$B$24,2)),LEFT('1 - Opstart Importark'!$B$28,3),IF(I387=\"\",\"\",\"-\"),I387,IF(K387=\"\",\"\",\"-\"),K387,IF(M387=\"\",\"\",\"-\"),M387,IF(O387=\"\",\"\",\"-\"),O387),CONCATENATE(LEFT('1 - Opstart Importark'!$B$3,1),(LEFT('1 - Opstart Importark'!$B$15,2)),(LEFT('1 - Opstart Importark'!$B$18,3)),IF(I387=\"\",\"\",\"-\"),I387,IF(K387=\"\",\"\",\"-\"),K387,IF(M387=\"\",\"\",\"-\"),M387,IF(O387=\"\",\"\",\"-\"),O387))))","v":""},null," ",{"$nulls":11},{"$f":"IF(LEN('1 - Opstart Importark'!$B$6)>0,'1 - Opstart Importark'!$B$6,\"\")","v":""},{"$f":"IF(LEN('1 - Opstart Importark'!$B$9)>0,'1 - Opstart Importark'!$B$9,\"\")","v":""},{"$f":"IF(LEN('1 - Opstart Importark'!$B$31)>0,'1 - Opstart Importark'!$B$31,\"\")","v":""},{"$nulls":12},"",{"$nulls":8},0,"","","objektnogle_"]
[377,null,{"$f":"IF('1 - Opstart Importark'!$B$6=\"\",\"\",(IF('1 - Opstart Importark'!$B$15=\"\",CONCATENATE(LEFT('1 - Opstart Importark'!$B$3,1),(LEFT('1 - Opstart Importark'!$B$24,2)),LEFT('1 - Opstart Importark'!$B$28,3),IF(I388=\"\",\"\",\"-\"),I388,IF(K388=\"\",\"\",\"-\"),K388,IF(M388=\"\",\"\",\"-\"),M388,IF(O388=\"\",\"\",\"-\"),O388),CONCATENATE(LEFT('1 - Opstart Importark'!$B$3,1),(LEFT('1 - Opstart Importark'!$B$15,2)),(LEFT('1 - Opstart Importark'!$B$18,3)),IF(I388=\"\",\"\",\"-\"),I388,IF(K388=\"\",\"\",\"-\"),K388,IF(M388=\"\",\"\",\"-\"),M388,IF(O388=\"\",\"\",\"-\"),O388))))","v":""},null," ",{"$nulls":11},{"$f":"IF(LEN('1 - Opstart Importark'!$B$6)>0,'1 - Opstart Importark'!$B$6,\"\")","v":""},{"$f":"IF(LEN('1 - Opstart Importark'!$B$9)>0,'1 - Opstart Importark'!$B$9,\"\")","v":""},{"$f":"IF(LEN('1 - Opstart Importark'!$B$31)>0,'1 - Opstart Importark'!$B$31,\"\")","v":""},{"$nulls":12},"",{"$nulls":8},0,"","","objektnogle_"]
[378,null,{"$f":"IF('1 - Opstart Importark'!$B$6=\"\",\"\",(IF('1 - Opstart Importark'!$B$15=\"\",CONCATENATE(LEFT('1 - Opstart Importark'!$B$3,1),(LEFT('1 - Opstart Importark'!$B$24,2)),LEFT('1 - Opstart Importark'!$B$28,3),IF(I389=\"\",\"\",\"-\"),I389,IF(K389=\"\",\"\",\"-\"),K389,IF(M389=\"\",\"\",\"-\"),M389,IF(O389=\"\",\"\",\"-\"),O389),CONCATENATE(LEFT('1 - Opstart Importark'!$B$3,1),(LEFT('1 - Opstart Importark'!$B$15,2)),(LEFT('1 - Opstart Importark'!$B$18,3)),IF(I389=\"\",\"\",\"-\"),I389,IF(K389=\"\",\"\",\"-\"),K389,IF(M389=\"\",\"\",\"-\"),M389,IF(O389=\"\",\"\",\"-\"),O389))))","v":""},null," ",{"$nulls":11},{"$f":"IF(LEN('1 - Opstart Importark'!$B$6)>0,'1 - Opstart Importark'!$B$6,\"\")","v":""},{"$f":"IF(LEN('1 - Opstart Importark'!$B$9)>0,'1 - Opstart Importark'!$B$9,\"\")","v":""},{"$f":"IF(LEN('1 - Opstart Importark'!$B$31)>0,'1 - Opstart Importark'!$B$31,\"\")","v":""},{"$nulls":12},"",{"$nulls":8},0,"","","objektnogle_"]
[379,null,{"$f":"IF('1 - Opstart Importark'!$B$6=\"\",\"\",(IF('1 - Opstart Importark'!$B$15=\"\",CONCATENATE(LEFT('1 - Opstart Importark'!$B$3,1),(LEFT('1 - Opstart Importark'!$B$24,2)),LEFT('1 - Opstart Importark'!$B$28,3),IF(I390=\"\",\"\",\"-\"),I390,IF(K390=\"\",\"\",\"-\"),K390,IF(M390=\"\",\"\",\"-\"),M390,IF(O390=\"\",\"\",\"-\"),O390),CONCATENATE(LEFT('1 - Opstart Importark'!$B$3,1),(LEFT('1 - Opstart Importark'!$B$15,2)),(LEFT('1 - Opstart Importark'!$B$18,3)),IF(I390=\"\",\"\",\"-\"),I390,IF(K390=\"\",\"\",\"-\"),K390,IF(M390=\"\",\"\",\"-\"),M390,IF(O390=\"\",\"\",\"-\"),O390))))","v":""},null," ",{"$nulls":11},{"$f":"IF(LEN('1 - Opstart Importark'!$B$6)>0,'1 - Opstart Importark'!$B$6,\"\")","v":""},{"$f":"IF(LEN('1 - Opstart Importark'!$B$9)>0,'1 - Opstart Importark'!$B$9,\"\")","v":""},{"$f":"IF(LEN('1 - Opstart Importark'!$B$31)>0,'1 - Opstart Importark'!$B$31,\"\")","v":""},{"$nulls":12},"",{"$nulls":8},0,"","","objektnogle_"]
[380,null,{"$f":"IF('1 - Opstart Importark'!$B$6=\"\",\"\",(IF('1 - Opstart Importark'!$B$15=\"\",CONCATENATE(LEFT('1 - Opstart Importark'!$B$3,1),(LEFT('1 - Opstart Importark'!$B$24,2)),LEFT('1 - Opstart Importark'!$B$28,3),IF(I391=\"\",\"\",\"-\"),I391,IF(K391=\"\",\"\",\"-\"),K391,IF(M391=\"\",\"\",\"-\"),M391,IF(O391=\"\",\"\",\"-\"),O391),CONCATENATE(LEFT('1 - Opstart Importark'!$B$3,1),(LEFT('1 - Opstart Importark'!$B$15,2)),(LEFT('1 - Opstart Importark'!$B$18,3)),IF(I391=\"\",\"\",\"-\"),I391,IF(K391=\"\",\"\",\"-\"),K391,IF(M391=\"\",\"\",\"-\"),M391,IF(O391=\"\",\"\",\"-\"),O391))))","v":""},null," ",{"$nulls":11},{"$f":"IF(LEN('1 - Opstart Importark'!$B$6)>0,'1 - Opstart Importark'!$B$6,\"\")","v":""},{"$f":"IF(LEN('1 - Opstart Importark'!$B$9)>0,'1 - Opstart Importark'!$B$9,\"\")","v":""},{"$f":"IF(LEN('1 - Opstart Importark'!$B$31)>0,'1 - Opstart Importark'!$B$31,\"\")","v":""},{"$nulls":12},"",{"$nulls":8},0,"","","objektnogle_"]
[381,null,{"$f":"IF('1 - Opstart Importark'!$B$6=\"\",\"\",(IF('1 - Opstart Importark'!$B$15=\"\",CONCATENATE(LEFT('1 - Opstart Importark'!$B$3,1),(LEFT('1 - Opstart Importark'!$B$24,2)),LEFT('1 - Opstart Importark'!$B$28,3),IF(I392=\"\",\"\",\"-\"),I392,IF(K392=\"\",\"\",\"-\"),K392,IF(M392=\"\",\"\",\"-\"),M392,IF(O392=\"\",\"\",\"-\"),O392),CONCATENATE(LEFT('1 - Opstart Importark'!$B$3,1),(LEFT('1 - Opstart Importark'!$B$15,2)),(LEFT('1 - Opstart Importark'!$B$18,3)),IF(I392=\"\",\"\",\"-\"),I392,IF(K392=\"\",\"\",\"-\"),K392,IF(M392=\"\",\"\",\"-\"),M392,IF(O392=\"\",\"\",\"-\"),O392))))","v":""},null," ",{"$nulls":11},{"$f":"IF(LEN('1 - Opstart Importark'!$B$6)>0,'1 - Opstart Importark'!$B$6,\"\")","v":""},{"$f":"IF(LEN('1 - Opstart Importark'!$B$9)>0,'1 - Opstart Importark'!$B$9,\"\")","v":""},{"$f":"IF(LEN('1 - Opstart Importark'!$B$31)>0,'1 - Opstart Importark'!$B$31,\"\")","v":""},{"$nulls":12},"",{"$nulls":8},0,"","","objektnogle_"]
[382,null,{"$f":"IF('1 - Opstart Importark'!$B$6=\"\",\"\",(IF('1 - Opstart Importark'!$B$15=\"\",CONCATENATE(LEFT('1 - Opstart Importark'!$B$3,1),(LEFT('1 - Opstart Importark'!$B$24,2)),LEFT('1 - Opstart Importark'!$B$28,3),IF(I393=\"\",\"\",\"-\"),I393,IF(K393=\"\",\"\",\"-\"),K393,IF(M393=\"\",\"\",\"-\"),M393,IF(O393=\"\",\"\",\"-\"),O393),CONCATENATE(LEFT('1 - Opstart Importark'!$B$3,1),(LEFT('1 - Opstart Importark'!$B$15,2)),(LEFT('1 - Opstart Importark'!$B$18,3)),IF(I393=\"\",\"\",\"-\"),I393,IF(K393=\"\",\"\",\"-\"),K393,IF(M393=\"\",\"\",\"-\"),M393,IF(O393=\"\",\"\",\"-\"),O393))))","v":""},null," ",{"$nulls":11},{"$f":"IF(LEN('1 - Opstart Importark'!$B$6)>0,'1 - Opstart Importark'!$B$6,\"\")","v":""},{"$f":"IF(LEN('1 - Opstart Importark'!$B$9)>0,'1 - Opstart Importark'!$B$9,\"\")","v":""},{"$f":"IF(LEN('1 - Opstart Importark'!$B$31)>0,'1 - Opstart Importark'!$B$31,\"\")","v":""},{"$nulls":12},"",{"$nulls":8},0,"","","objektnogle_"]
[383,null,{"$f":"IF('1 - Opstart Importark'!$B$6=\"\",\"\",(IF('1 - Opstart Importark'!$B$15=\"\",CONCATENATE(LEFT('1 - Opstart Importark'!$B$3,1),(LEFT('1 - Opstart Importark'!$B$24,2)),LEFT('1 - Opstart Importark'!$B$28,3),IF(I394=\"\",\"\",\"-\"),I394,IF(K394=\"\",\"\",\"-\"),K394,IF(M394=\"\",\"\",\"-\"),M394,IF(O394=\"\",\"\",\"-\"),O394),CONCATENATE(LEFT('1 - Opstart Importark'!$B$3,1),(LEFT('1 - Opstart Importark'!$B$15,2)),(LEFT('1 - Opstart Importark'!$B$18,3)),IF(I394=\"\",\"\",\"-\"),I394,IF(K394=\"\",\"\",\"-\"),K394,IF(M394=\"\",\"\",\"-\"),M394,IF(O394=\"\",\"\",\"-\"),O394))))","v":""},null," ",{"$nulls":11},{"$f":"IF(LEN('1 - Opstart Importark'!$B$6)>0,'1 - Opstart Importark'!$B$6,\"\")","v":""},{"$f":"IF(LEN('1 - Opstart Importark'!$B$9)>0,'1 - Opstart Importark'!$B$9,\"\")","v":""},{"$f":"IF(LEN('1 - Opstart Importark'!$B$31)>0,'1 - Opstart Importark'!$B$31,\"\")","v":""},{"$nulls":12},"",{"$nulls":8},0,"","","objektnogle_"]
[384,null,{"$f":"IF('1 - Opstart Importark'!$B$6=\"\",\"\",(IF('1 - Opstart Importark'!$B$15=\"\",CONCATENATE(LEFT('1 - Opstart Importark'!$B$3,1),(LEFT('1 - Opstart Importark'!$B$24,2)),LEFT('1 - Opstart Importark'!$B$28,3),IF(I395=\"\",\"\",\"-\"),I395,IF(K395=\"\",\"\",\"-\"),K395,IF(M395=\"\",\"\",\"-\"),M395,IF(O395=\"\",\"\",\"-\"),O395),CONCATENATE(LEFT('1 - Opstart Importark'!$B$3,1),(LEFT('1 - Opstart Importark'!$B$15,2)),(LEFT('1 - Opstart Importark'!$B$18,3)),IF(I395=\"\",\"\",\"-\"),I395,IF(K395=\"\",\"\",\"-\"),K395,IF(M395=\"\",\"\",\"-\"),M395,IF(O395=\"\",\"\",\"-\"),O395))))","v":""},null," ",{"$nulls":11},{"$f":"IF(LEN('1 - Opstart Importark'!$B$6)>0,'1 - Opstart Importark'!$B$6,\"\")","v":""},{"$f":"IF(LEN('1 - Opstart Importark'!$B$9)>0,'1 - Opstart Importark'!$B$9,\"\")","v":""},{"$f":"IF(LEN('1 - Opstart Importark'!$B$31)>0,'1 - Opstart Importark'!$B$31,\"\")","v":""},{"$nulls":12},"",{"$nulls":8},0,"","","objektnogle_"]
[385,null,{"$f":"IF('1 - Opstart Importark'!$B$6=\"\",\"\",(IF('1 - Opstart Importark'!$B$15=\"\",CONCATENATE(LEFT('1 - Opstart Importark'!$B$3,1),(LEFT('1 - Opstart Importark'!$B$24,2)),LEFT('1 - Opstart Importark'!$B$28,3),IF(I396=\"\",\"\",\"-\"),I396,IF(K396=\"\",\"\",\"-\"),K396,IF(M396=\"\",\"\",\"-\"),M396,IF(O396=\"\",\"\",\"-\"),O396),CONCATENATE(LEFT('1 - Opstart Importark'!$B$3,1),(LEFT('1 - Opstart Importark'!$B$15,2)),(LEFT('1 - Opstart Importark'!$B$18,3)),IF(I396=\"\",\"\",\"-\"),I396,IF(K396=\"\",\"\",\"-\"),K396,IF(M396=\"\",\"\",\"-\"),M396,IF(O396=\"\",\"\",\"-\"),O396))))","v":""},null," ",{"$nulls":11},{"$f":"IF(LEN('1 - Opstart Importark'!$B$6)>0,'1 - Opstart Importark'!$B$6,\"\")","v":""},{"$f":"IF(LEN('1 - Opstart Importark'!$B$9)>0,'1 - Opstart Importark'!$B$9,\"\")","v":""},{"$f":"IF(LEN('1 - Opstart Importark'!$B$31)>0,'1 - Opstart Importark'!$B$31,\"\")","v":""},{"$nulls":12},{"$f":"IF(M396=\"\",\"\",VLOOKUP(LEFT(M396,1),objektfilter,2))","v":""},{"$nulls":8},0,"","","objektnogle_"]
[386,null,{"$f":"IF('1 - Opstart Importark'!$B$6=\"\",\"\",(IF('1 - Opstart Importark'!$B$15=\"\",CONCATENATE(LEFT('1 - Opstart Importark'!$B$3,1),(LEFT('1 - Opstart Importark'!$B$24,2)),LEFT('1 - Opstart Importark'!$B$28,3),IF(I397=\"\",\"\",\"-\"),I397,IF(K397=\"\",\"\",\"-\"),K397,IF(M397=\"\",\"\",\"-\"),M397,IF(O397=\"\",\"\",\"-\"),O397),CONCATENATE(LEFT('1 - Opstart Importark'!$B$3,1),(LEFT('1 - Opstart Importark'!$B$15,2)),(LEFT('1 - Opstart Importark'!$B$18,3)),IF(I397=\"\",\"\",\"-\"),I397,IF(K397=\"\",\"\",\"-\"),K397,IF(M397=\"\",\"\",\"-\"),M397,IF(O397=\"\",\"\",\"-\"),O397))))","v":""},null," ",{"$nulls":11},{"$f":"IF(LEN('1 - Opstart Importark'!$B$6)>0,'1 - Opstart Importark'!$B$6,\"\")","v":""},{"$f":"IF(LEN('1 - Opstart Importark'!$B$9)>0,'1 - Opstart Importark'!$B$9,\"\")","v":""},{"$f":"IF(LEN('1 - Opstart Importark'!$B$31)>0,'1 - Opstart Importark'!$B$31,\"\")","v":""},{"$nulls":12},"",{"$nulls":8},{"$f":"IFERROR(FIND(\".\",F397),)","v":0},{"$f":"IF(M397=\"\",\"\",IF(LEFT(M397,1)=\"E\",0,1))","v":""},{"$f":"IF(M397=\"\",\"\",IF(LEFT(M397,1)=\"E\",0,1))","v":""},{"$f":"IF(W397=\"\", CONCATENATE(\"objektnogle_\",LEFT(AF397,1)),CONCATENATE(\"objektnogle_\",LEFT(W397,1)))","v":"objektnogle_"}]
[387,null,{"$f":"IF('1 - Opstart Importark'!$B$6=\"\",\"\",(IF('1 - Opstart Importark'!$B$15=\"\",CONCATENATE(LEFT('1 - Opstart Importark'!$B$3,1),(LEFT('1 - Opstart Importark'!$B$24,2)),LEFT('1 - Opstart Importark'!$B$28,3),IF(I398=\"\",\"\",\"-\"),I398,IF(K398=\"\",\"\",\"-\"),K398,IF(M398=\"\",\"\",\"-\"),M398,IF(O398=\"\",\"\",\"-\"),O398),CONCATENATE(LEFT('1 - Opstart Importark'!$B$3,1),(LEFT('1 - Opstart Importark'!$B$15,2)),(LEFT('1 - Opstart Importark'!$B$18,3)),IF(I398=\"\",\"\",\"-\"),I398,IF(K398=\"\",\"\",\"-\"),K398,IF(M398=\"\",\"\",\"-\"),M398,IF(O398=\"\",\"\",\"-\"),O398))))","v":""},null," ",{"$nulls":11},{"$f":"IF(LEN('1 - Opstart Importark'!$B$6)>0,'1 - Opstart Importark'!$B$6,\"\")","v":""},{"$f":"IF(LEN('1 - Opstart Importark'!$B$9)>0,'1 - Opstart Importark'!$B$9,\"\")","v":""},{"$f":"IF(LEN('1 - Opstart Importark'!$B$31)>0,'1 - Opstart Importark'!$B$31,\"\")","v":""},{"$nulls":12},"",{"$nulls":8},0,"","","objektnogle_"]
[388,null,{"$f":"IF('1 - Opstart Importark'!$B$6=\"\",\"\",(IF('1 - Opstart Importark'!$B$15=\"\",CONCATENATE(LEFT('1 - Opstart Importark'!$B$3,1),(LEFT('1 - Opstart Importark'!$B$24,2)),LEFT('1 - Opstart Importark'!$B$28,3),IF(I399=\"\",\"\",\"-\"),I399,IF(K399=\"\",\"\",\"-\"),K399,IF(M399=\"\",\"\",\"-\"),M399,IF(O399=\"\",\"\",\"-\"),O399),CONCATENATE(LEFT('1 - Opstart Importark'!$B$3,1),(LEFT('1 - Opstart Importark'!$B$15,2)),(LEFT('1 - Opstart Importark'!$B$18,3)),IF(I399=\"\",\"\",\"-\"),I399,IF(K399=\"\",\"\",\"-\"),K399,IF(M399=\"\",\"\",\"-\"),M399,IF(O399=\"\",\"\",\"-\"),O399))))","v":""},null," ",{"$nulls":11},{"$f":"IF(LEN('1 - Opstart Importark'!$B$6)>0,'1 - Opstart Importark'!$B$6,\"\")","v":""},{"$f":"IF(LEN('1 - Opstart Importark'!$B$9)>0,'1 - Opstart Importark'!$B$9,\"\")","v":""},{"$f":"IF(LEN('1 - Opstart Importark'!$B$31)>0,'1 - Opstart Importark'!$B$31,\"\")","v":""},{"$nulls":12},"",{"$nulls":8},0,"","","objektnogle_"]
[389,null,{"$f":"IF('1 - Opstart Importark'!$B$6=\"\",\"\",(IF('1 - Opstart Importark'!$B$15=\"\",CONCATENATE(LEFT('1 - Opstart Importark'!$B$3,1),(LEFT('1 - Opstart Importark'!$B$24,2)),LEFT('1 - Opstart Importark'!$B$28,3),IF(I400=\"\",\"\",\"-\"),I400,IF(K400=\"\",\"\",\"-\"),K400,IF(M400=\"\",\"\",\"-\"),M400,IF(O400=\"\",\"\",\"-\"),O400),CONCATENATE(LEFT('1 - Opstart Importark'!$B$3,1),(LEFT('1 - Opstart Importark'!$B$15,2)),(LEFT('1 - Opstart Importark'!$B$18,3)),IF(I400=\"\",\"\",\"-\"),I400,IF(K400=\"\",\"\",\"-\"),K400,IF(M400=\"\",\"\",\"-\"),M400,IF(O400=\"\",\"\",\"-\"),O400))))","v":""},null," ",{"$nulls":11},{"$f":"IF(LEN('1 - Opstart Importark'!$B$6)>0,'1 - Opstart Importark'!$B$6,\"\")","v":""},{"$f":"IF(LEN('1 - Opstart Importark'!$B$9)>0,'1 - Opstart Importark'!$B$9,\"\")","v":""},{"$f":"IF(LEN('1 - Opstart Importark'!$B$31)>0,'1 - Opstart Importark'!$B$31,\"\")","v":""},{"$nulls":12},"",{"$nulls":8},0,"","","objektnogle_"]
[390,null,{"$f":"IF('1 - Opstart Importark'!$B$6=\"\",\"\",(IF('1 - Opstart Importark'!$B$15=\"\",CONCATENATE(LEFT('1 - Opstart Importark'!$B$3,1),(LEFT('1 - Opstart Importark'!$B$24,2)),LEFT('1 - Opstart Importark'!$B$28,3),IF(I401=\"\",\"\",\"-\"),I401,IF(K401=\"\",\"\",\"-\"),K401,IF(M401=\"\",\"\",\"-\"),M401,IF(O401=\"\",\"\",\"-\"),O401),CONCATENATE(LEFT('1 - Opstart Importark'!$B$3,1),(LEFT('1 - Opstart Importark'!$B$15,2)),(LEFT('1 - Opstart Importark'!$B$18,3)),IF(I401=\"\",\"\",\"-\"),I401,IF(K401=\"\",\"\",\"-\"),K401,IF(M401=\"\",\"\",\"-\"),M401,IF(O401=\"\",\"\",\"-\"),O401))))","v":""},null," ",{"$nulls":11},{"$f":"IF(LEN('1 - Opstart Importark'!$B$6)>0,'1 - Opstart Importark'!$B$6,\"\")","v":""},{"$f":"IF(LEN('1 - Opstart Importark'!$B$9)>0,'1 - Opstart Importark'!$B$9,\"\")","v":""},{"$f":"IF(LEN('1 - Opstart Importark'!$B$31)>0,'1 - Opstart Importark'!$B$31,\"\")","v":""},{"$nulls":12},"",{"$nulls":8},0,"","","objektnogle_"]
[391,null,{"$f":"IF('1 - Opstart Importark'!$B$6=\"\",\"\",(IF('1 - Opstart Importark'!$B$15=\"\",CONCATENATE(LEFT('1 - Opstart Importark'!$B$3,1),(LEFT('1 - Opstart Importark'!$B$24,2)),LEFT('1 - Opstart Importark'!$B$28,3),IF(I402=\"\",\"\",\"-\"),I402,IF(K402=\"\",\"\",\"-\"),K402,IF(M402=\"\",\"\",\"-\"),M402,IF(O402=\"\",\"\",\"-\"),O402),CONCATENATE(LEFT('1 - Opstart Importark'!$B$3,1),(LEFT('1 - Opstart Importark'!$B$15,2)),(LEFT('1 - Opstart Importark'!$B$18,3)),IF(I402=\"\",\"\",\"-\"),I402,IF(K402=\"\",\"\",\"-\"),K402,IF(M402=\"\",\"\",\"-\"),M402,IF(O402=\"\",\"\",\"-\"),O402))))","v":""},null," ",{"$nulls":11},{"$f":"IF(LEN('1 - Opstart Importark'!$B$6)>0,'1 - Opstart Importark'!$B$6,\"\")","v":""},{"$f":"IF(LEN('1 - Opstart Importark'!$B$9)>0,'1 - Opstart Importark'!$B$9,\"\")","v":""},{"$f":"IF(LEN('1 - Opstart Importark'!$B$31)>0,'1 - Opstart Importark'!$B$31,\"\")","v":""},{"$nulls":12},"",{"$nulls":8},0,"","","objektnogle_"]
[392,null,{"$f":"IF('1 - Opstart Importark'!$B$6=\"\",\"\",(IF('1 - Opstart Importark'!$B$15=\"\",CONCATENATE(LEFT('1 - Opstart Importark'!$B$3,1),(LEFT('1 - Opstart Importark'!$B$24,2)),LEFT('1 - Opstart Importark'!$B$28,3),IF(I403=\"\",\"\",\"-\"),I403,IF(K403=\"\",\"\",\"-\"),K403,IF(M403=\"\",\"\",\"-\"),M403,IF(O403=\"\",\"\",\"-\"),O403),CONCATENATE(LEFT('1 - Opstart Importark'!$B$3,1),(LEFT('1 - Opstart Importark'!$B$15,2)),(LEFT('1 - Opstart Importark'!$B$18,3)),IF(I403=\"\",\"\",\"-\"),I403,IF(K403=\"\",\"\",\"-\"),K403,IF(M403=\"\",\"\",\"-\"),M403,IF(O403=\"\",\"\",\"-\"),O403))))","v":""},null," ",{"$nulls":11},{"$f":"IF(LEN('1 - Opstart Importark'!$B$6)>0,'1 - Opstart Importark'!$B$6,\"\")","v":""},{"$f":"IF(LEN('1 - Opstart Importark'!$B$9)>0,'1 - Opstart Importark'!$B$9,\"\")","v":""},{"$f":"IF(LEN('1 - Opstart Importark'!$B$31)>0,'1 - Opstart Importark'!$B$31,\"\")","v":""},{"$nulls":12},"",{"$nulls":8},0,"","","objektnogle_"]
[393,null,{"$f":"IF('1 - Opstart Importark'!$B$6=\"\",\"\",(IF('1 - Opstart Importark'!$B$15=\"\",CONCATENATE(LEFT('1 - Opstart Importark'!$B$3,1),(LEFT('1 - Opstart Importark'!$B$24,2)),LEFT('1 - Opstart Importark'!$B$28,3),IF(I404=\"\",\"\",\"-\"),I404,IF(K404=\"\",\"\",\"-\"),K404,IF(M404=\"\",\"\",\"-\"),M404,IF(O404=\"\",\"\",\"-\"),O404),CONCATENATE(LEFT('1 - Opstart Importark'!$B$3,1),(LEFT('1 - Opstart Importark'!$B$15,2)),(LEFT('1 - Opstart Importark'!$B$18,3)),IF(I404=\"\",\"\",\"-\"),I404,IF(K404=\"\",\"\",\"-\"),K404,IF(M404=\"\",\"\",\"-\"),M404,IF(O404=\"\",\"\",\"-\"),O404))))","v":""},null," ",{"$nulls":11},{"$f":"IF(LEN('1 - Opstart Importark'!$B$6)>0,'1 - Opstart Importark'!$B$6,\"\")","v":""},{"$f":"IF(LEN('1 - Opstart Importark'!$B$9)>0,'1 - Opstart Importark'!$B$9,\"\")","v":""},{"$f":"IF(LEN('1 - Opstart Importark'!$B$31)>0,'1 - Opstart Importark'!$B$31,\"\")","v":""},{"$nulls":12},"",{"$nulls":8},0,"","","objektnogle_"]
[394,null,{"$f":"IF('1 - Opstart Importark'!$B$6=\"\",\"\",(IF('1 - Opstart Importark'!$B$15=\"\",CONCATENATE(LEFT('1 - Opstart Importark'!$B$3,1),(LEFT('1 - Opstart Importark'!$B$24,2)),LEFT('1 - Opstart Importark'!$B$28,3),IF(I405=\"\",\"\",\"-\"),I405,IF(K405=\"\",\"\",\"-\"),K405,IF(M405=\"\",\"\",\"-\"),M405,IF(O405=\"\",\"\",\"-\"),O405),CONCATENATE(LEFT('1 - Opstart Importark'!$B$3,1),(LEFT('1 - Opstart Importark'!$B$15,2)),(LEFT('1 - Opstart Importark'!$B$18,3)),IF(I405=\"\",\"\",\"-\"),I405,IF(K405=\"\",\"\",\"-\"),K405,IF(M405=\"\",\"\",\"-\"),M405,IF(O405=\"\",\"\",\"-\"),O405))))","v":""},null," ",{"$nulls":11},{"$f":"IF(LEN('1 - Opstart Importark'!$B$6)>0,'1 - Opstart Importark'!$B$6,\"\")","v":""},{"$f":"IF(LEN('1 - Opstart Importark'!$B$9)>0,'1 - Opstart Importark'!$B$9,\"\")","v":""},{"$f":"IF(LEN('1 - Opstart Importark'!$B$31)>0,'1 - Opstart Importark'!$B$31,\"\")","v":""},{"$nulls":12},"",{"$nulls":8},0,"","","objektnogle_"]
[395,null,{"$f":"IF('1 - Opstart Importark'!$B$6=\"\",\"\",(IF('1 - Opstart Importark'!$B$15=\"\",CONCATENATE(LEFT('1 - Opstart Importark'!$B$3,1),(LEFT('1 - Opstart Importark'!$B$24,2)),LEFT('1 - Opstart Importark'!$B$28,3),IF(I406=\"\",\"\",\"-\"),I406,IF(K406=\"\",\"\",\"-\"),K406,IF(M406=\"\",\"\",\"-\"),M406,IF(O406=\"\",\"\",\"-\"),O406),CONCATENATE(LEFT('1 - Opstart Importark'!$B$3,1),(LEFT('1 - Opstart Importark'!$B$15,2)),(LEFT('1 - Opstart Importark'!$B$18,3)),IF(I406=\"\",\"\",\"-\"),I406,IF(K406=\"\",\"\",\"-\"),K406,IF(M406=\"\",\"\",\"-\"),M406,IF(O406=\"\",\"\",\"-\"),O406))))","v":""},null," ",{"$nulls":11},{"$f":"IF(LEN('1 - Opstart Importark'!$B$6)>0,'1 - Opstart Importark'!$B$6,\"\")","v":""},{"$f":"IF(LEN('1 - Opstart Importark'!$B$9)>0,'1 - Opstart Importark'!$B$9,\"\")","v":""},{"$f":"IF(LEN('1 - Opstart Importark'!$B$31)>0,'1 - Opstart Importark'!$B$31,\"\")","v":""},{"$nulls":12},"",{"$nulls":8},0,"","","objektnogle_"]
[396,null,{"$f":"IF('1 - Opstart Importark'!$B$6=\"\",\"\",(IF('1 - Opstart Importark'!$B$15=\"\",CONCATENATE(LEFT('1 - Opstart Importark'!$B$3,1),(LEFT('1 - Opstart Importark'!$B$24,2)),LEFT('1 - Opstart Importark'!$B$28,3),IF(I407=\"\",\"\",\"-\"),I407,IF(K407=\"\",\"\",\"-\"),K407,IF(M407=\"\",\"\",\"-\"),M407,IF(O407=\"\",\"\",\"-\"),O407),CONCATENATE(LEFT('1 - Opstart Importark'!$B$3,1),(LEFT('1 - Opstart Importark'!$B$15,2)),(LEFT('1 - Opstart Importark'!$B$18,3)),IF(I407=\"\",\"\",\"-\"),I407,IF(K407=\"\",\"\",\"-\"),K407,IF(M407=\"\",\"\",\"-\"),M407,IF(O407=\"\",\"\",\"-\"),O407))))","v":""},null," ",{"$nulls":11},{"$f":"IF(LEN('1 - Opstart Importark'!$B$6)>0,'1 - Opstart Importark'!$B$6,\"\")","v":""},{"$f":"IF(LEN('1 - Opstart Importark'!$B$9)>0,'1 - Opstart Importark'!$B$9,\"\")","v":""},{"$f":"IF(LEN('1 - Opstart Importark'!$B$31)>0,'1 - Opstart Importark'!$B$31,\"\")","v":""},{"$nulls":12},"",{"$nulls":8},0,"","","objektnogle_"]
[397,null,{"$f":"IF('1 - Opstart Importark'!$B$6=\"\",\"\",(IF('1 - Opstart Importark'!$B$15=\"\",CONCATENATE(LEFT('1 - Opstart Importark'!$B$3,1),(LEFT('1 - Opstart Importark'!$B$24,2)),LEFT('1 - Opstart Importark'!$B$28,3),IF(I408=\"\",\"\",\"-\"),I408,IF(K408=\"\",\"\",\"-\"),K408,IF(M408=\"\",\"\",\"-\"),M408,IF(O408=\"\",\"\",\"-\"),O408),CONCATENATE(LEFT('1 - Opstart Importark'!$B$3,1),(LEFT('1 - Opstart Importark'!$B$15,2)),(LEFT('1 - Opstart Importark'!$B$18,3)),IF(I408=\"\",\"\",\"-\"),I408,IF(K408=\"\",\"\",\"-\"),K408,IF(M408=\"\",\"\",\"-\"),M408,IF(O408=\"\",\"\",\"-\"),O408))))","v":""},null," ",{"$nulls":11},{"$f":"IF(LEN('1 - Opstart Importark'!$B$6)>0,'1 - Opstart Importark'!$B$6,\"\")","v":""},{"$f":"IF(LEN('1 - Opstart Importark'!$B$9)>0,'1 - Opstart Importark'!$B$9,\"\")","v":""},{"$f":"IF(LEN('1 - Opstart Importark'!$B$31)>0,'1 - Opstart Importark'!$B$31,\"\")","v":""},{"$nulls":12},"",{"$nulls":8},0,"","","objektnogle_"]
[398,null,{"$f":"IF('1 - Opstart Importark'!$B$6=\"\",\"\",(IF('1 - Opstart Importark'!$B$15=\"\",CONCATENATE(LEFT('1 - Opstart Importark'!$B$3,1),(LEFT('1 - Opstart Importark'!$B$24,2)),LEFT('1 - Opstart Importark'!$B$28,3),IF(I409=\"\",\"\",\"-\"),I409,IF(K409=\"\",\"\",\"-\"),K409,IF(M409=\"\",\"\",\"-\"),M409,IF(O409=\"\",\"\",\"-\"),O409),CONCATENATE(LEFT('1 - Opstart Importark'!$B$3,1),(LEFT('1 - Opstart Importark'!$B$15,2)),(LEFT('1 - Opstart Importark'!$B$18,3)),IF(I409=\"\",\"\",\"-\"),I409,IF(K409=\"\",\"\",\"-\"),K409,IF(M409=\"\",\"\",\"-\"),M409,IF(O409=\"\",\"\",\"-\"),O409))))","v":""},null," ",{"$nulls":11},{"$f":"IF(LEN('1 - Opstart Importark'!$B$6)>0,'1 - Opstart Importark'!$B$6,\"\")","v":""},{"$f":"IF(LEN('1 - Opstart Importark'!$B$9)>0,'1 - Opstart Importark'!$B$9,\"\")","v":""},{"$f":"IF(LEN('1 - Opstart Importark'!$B$31)>0,'1 - Opstart Importark'!$B$31,\"\")","v":""},{"$nulls":12},"",{"$nulls":8},0,"","","objektnogle_"]
[399,null,{"$f":"IF('1 - Opstart Importark'!$B$6=\"\",\"\",(IF('1 - Opstart Importark'!$B$15=\"\",CONCATENATE(LEFT('1 - Opstart Importark'!$B$3,1),(LEFT('1 - Opstart Importark'!$B$24,2)),LEFT('1 - Opstart Importark'!$B$28,3),IF(I410=\"\",\"\",\"-\"),I410,IF(K410=\"\",\"\",\"-\"),K410,IF(M410=\"\",\"\",\"-\"),M410,IF(O410=\"\",\"\",\"-\"),O410),CONCATENATE(LEFT('1 - Opstart Importark'!$B$3,1),(LEFT('1 - Opstart Importark'!$B$15,2)),(LEFT('1 - Opstart Importark'!$B$18,3)),IF(I410=\"\",\"\",\"-\"),I410,IF(K410=\"\",\"\",\"-\"),K410,IF(M410=\"\",\"\",\"-\"),M410,IF(O410=\"\",\"\",\"-\"),O410))))","v":""},null," ",{"$nulls":11},{"$f":"IF(LEN('1 - Opstart Importark'!$B$6)>0,'1 - Opstart Importark'!$B$6,\"\")","v":""},{"$f":"IF(LEN('1 - Opstart Importark'!$B$9)>0,'1 - Opstart Importark'!$B$9,\"\")","v":""},{"$f":"IF(LEN('1 - Opstart Importark'!$B$31)>0,'1 - Opstart Importark'!$B$31,\"\")","v":""},{"$nulls":12},"",{"$nulls":8},0,"","","objektnogle_"]
[400,null,{"$f":"IF('1 - Opstart Importark'!$B$6=\"\",\"\",(IF('1 - Opstart Importark'!$B$15=\"\",CONCATENATE(LEFT('1 - Opstart Importark'!$B$3,1),(LEFT('1 - Opstart Importark'!$B$24,2)),LEFT('1 - Opstart Importark'!$B$28,3),IF(I411=\"\",\"\",\"-\"),I411,IF(K411=\"\",\"\",\"-\"),K411,IF(M411=\"\",\"\",\"-\"),M411,IF(O411=\"\",\"\",\"-\"),O411),CONCATENATE(LEFT('1 - Opstart Importark'!$B$3,1),(LEFT('1 - Opstart Importark'!$B$15,2)),(LEFT('1 - Opstart Importark'!$B$18,3)),IF(I411=\"\",\"\",\"-\"),I411,IF(K411=\"\",\"\",\"-\"),K411,IF(M411=\"\",\"\",\"-\"),M411,IF(O411=\"\",\"\",\"-\"),O411))))","v":""},null," ",{"$nulls":11},{"$f":"IF(LEN('1 - Opstart Importark'!$B$6)>0,'1 - Opstart Importark'!$B$6,\"\")","v":""},{"$f":"IF(LEN('1 - Opstart Importark'!$B$9)>0,'1 - Opstart Importark'!$B$9,\"\")","v":""},{"$f":"IF(LEN('1 - Opstart Importark'!$B$31)>0,'1 - Opstart Importark'!$B$31,\"\")","v":""},{"$nulls":12},"",{"$nulls":8},0,"","","objektnogle_"]
[401,null,{"$f":"IF('1 - Opstart Importark'!$B$6=\"\",\"\",(IF('1 - Opstart Importark'!$B$15=\"\",CONCATENATE(LEFT('1 - Opstart Importark'!$B$3,1),(LEFT('1 - Opstart Importark'!$B$24,2)),LEFT('1 - Opstart Importark'!$B$28,3),IF(I412=\"\",\"\",\"-\"),I412,IF(K412=\"\",\"\",\"-\"),K412,IF(M412=\"\",\"\",\"-\"),M412,IF(O412=\"\",\"\",\"-\"),O412),CONCATENATE(LEFT('1 - Opstart Importark'!$B$3,1),(LEFT('1 - Opstart Importark'!$B$15,2)),(LEFT('1 - Opstart Importark'!$B$18,3)),IF(I412=\"\",\"\",\"-\"),I412,IF(K412=\"\",\"\",\"-\"),K412,IF(M412=\"\",\"\",\"-\"),M412,IF(O412=\"\",\"\",\"-\"),O412))))","v":""},null," ",{"$nulls":11},{"$f":"IF(LEN('1 - Opstart Importark'!$B$6)>0,'1 - Opstart Importark'!$B$6,\"\")","v":""},{"$f":"IF(LEN('1 - Opstart Importark'!$B$9)>0,'1 - Opstart Importark'!$B$9,\"\")","v":""},{"$f":"IF(LEN('1 - Opstart Importark'!$B$31)>0,'1 - Opstart Importark'!$B$31,\"\")","v":""},{"$nulls":12},"",{"$nulls":8},0,"","","objektnogle_"]
[402,null,{"$f":"IF('1 - Opstart Importark'!$B$6=\"\",\"\",(IF('1 - Opstart Importark'!$B$15=\"\",CONCATENATE(LEFT('1 - Opstart Importark'!$B$3,1),(LEFT('1 - Opstart Importark'!$B$24,2)),LEFT('1 - Opstart Importark'!$B$28,3),IF(I413=\"\",\"\",\"-\"),I413,IF(K413=\"\",\"\",\"-\"),K413,IF(M413=\"\",\"\",\"-\"),M413,IF(O413=\"\",\"\",\"-\"),O413),CONCATENATE(LEFT('1 - Opstart Importark'!$B$3,1),(LEFT('1 - Opstart Importark'!$B$15,2)),(LEFT('1 - Opstart Importark'!$B$18,3)),IF(I413=\"\",\"\",\"-\"),I413,IF(K413=\"\",\"\",\"-\"),K413,IF(M413=\"\",\"\",\"-\"),M413,IF(O413=\"\",\"\",\"-\"),O413))))","v":""},null," ",{"$nulls":11},{"$f":"IF(LEN('1 - Opstart Importark'!$B$6)>0,'1 - Opstart Importark'!$B$6,\"\")","v":""},{"$f":"IF(LEN('1 - Opstart Importark'!$B$9)>0,'1 - Opstart Importark'!$B$9,\"\")","v":""},{"$f":"IF(LEN('1 - Opstart Importark'!$B$31)>0,'1 - Opstart Importark'!$B$31,\"\")","v":""},{"$nulls":12},"",{"$nulls":8},0,"","","objektnogle_"]
[403,null,{"$f":"IF('1 - Opstart Importark'!$B$6=\"\",\"\",(IF('1 - Opstart Importark'!$B$15=\"\",CONCATENATE(LEFT('1 - Opstart Importark'!$B$3,1),(LEFT('1 - Opstart Importark'!$B$24,2)),LEFT('1 - Opstart Importark'!$B$28,3),IF(I414=\"\",\"\",\"-\"),I414,IF(K414=\"\",\"\",\"-\"),K414,IF(M414=\"\",\"\",\"-\"),M414,IF(O414=\"\",\"\",\"-\"),O414),CONCATENATE(LEFT('1 - Opstart Importark'!$B$3,1),(LEFT('1 - Opstart Importark'!$B$15,2)),(LEFT('1 - Opstart Importark'!$B$18,3)),IF(I414=\"\",\"\",\"-\"),I414,IF(K414=\"\",\"\",\"-\"),K414,IF(M414=\"\",\"\",\"-\"),M414,IF(O414=\"\",\"\",\"-\"),O414))))","v":""},null," ",{"$nulls":11},{"$f":"IF(LEN('1 - Opstart Importark'!$B$6)>0,'1 - Opstart Importark'!$B$6,\"\")","v":""},{"$f":"IF(LEN('1 - Opstart Importark'!$B$9)>0,'1 - Opstart Importark'!$B$9,\"\")","v":""},{"$f":"IF(LEN('1 - Opstart Importark'!$B$31)>0,'1 - Opstart Importark'!$B$31,\"\")","v":""},{"$nulls":12},"",{"$nulls":8},0,"","","objektnogle_"]
[404,null,{"$f":"IF('1 - Opstart Importark'!$B$6=\"\",\"\",(IF('1 - Opstart Importark'!$B$15=\"\",CONCATENATE(LEFT('1 - Opstart Importark'!$B$3,1),(LEFT('1 - Opstart Importark'!$B$24,2)),LEFT('1 - Opstart Importark'!$B$28,3),IF(I415=\"\",\"\",\"-\"),I415,IF(K415=\"\",\"\",\"-\"),K415,IF(M415=\"\",\"\",\"-\"),M415,IF(O415=\"\",\"\",\"-\"),O415),CONCATENATE(LEFT('1 - Opstart Importark'!$B$3,1),(LEFT('1 - Opstart Importark'!$B$15,2)),(LEFT('1 - Opstart Importark'!$B$18,3)),IF(I415=\"\",\"\",\"-\"),I415,IF(K415=\"\",\"\",\"-\"),K415,IF(M415=\"\",\"\",\"-\"),M415,IF(O415=\"\",\"\",\"-\"),O415))))","v":""},null," ",{"$nulls":11},{"$f":"IF(LEN('1 - Opstart Importark'!$B$6)>0,'1 - Opstart Importark'!$B$6,\"\")","v":""},{"$f":"IF(LEN('1 - Opstart Importark'!$B$9)>0,'1 - Opstart Importark'!$B$9,\"\")","v":""},{"$f":"IF(LEN('1 - Opstart Importark'!$B$31)>0,'1 - Opstart Importark'!$B$31,\"\")","v":""},{"$nulls":12},"",{"$nulls":8},0,"","","objektnogle_"]
[405,null,{"$f":"IF('1 - Opstart Importark'!$B$6=\"\",\"\",(IF('1 - Opstart Importark'!$B$15=\"\",CONCATENATE(LEFT('1 - Opstart Importark'!$B$3,1),(LEFT('1 - Opstart Importark'!$B$24,2)),LEFT('1 - Opstart Importark'!$B$28,3),IF(I416=\"\",\"\",\"-\"),I416,IF(K416=\"\",\"\",\"-\"),K416,IF(M416=\"\",\"\",\"-\"),M416,IF(O416=\"\",\"\",\"-\"),O416),CONCATENATE(LEFT('1 - Opstart Importark'!$B$3,1),(LEFT('1 - Opstart Importark'!$B$15,2)),(LEFT('1 - Opstart Importark'!$B$18,3)),IF(I416=\"\",\"\",\"-\"),I416,IF(K416=\"\",\"\",\"-\"),K416,IF(M416=\"\",\"\",\"-\"),M416,IF(O416=\"\",\"\",\"-\"),O416))))","v":""},null," ",{"$nulls":11},{"$f":"IF(LEN('1 - Opstart Importark'!$B$6)>0,'1 - Opstart Importark'!$B$6,\"\")","v":""},{"$f":"IF(LEN('1 - Opstart Importark'!$B$9)>0,'1 - Opstart Importark'!$B$9,\"\")","v":""},{"$f":"IF(LEN('1 - Opstart Importark'!$B$31)>0,'1 - Opstart Importark'!$B$31,\"\")","v":""},{"$nulls":12},"",{"$nulls":8},0,"","","objektnogle_"]
[406,null,{"$f":"IF('1 - Opstart Importark'!$B$6=\"\",\"\",(IF('1 - Opstart Importark'!$B$15=\"\",CONCATENATE(LEFT('1 - Opstart Importark'!$B$3,1),(LEFT('1 - Opstart Importark'!$B$24,2)),LEFT('1 - Opstart Importark'!$B$28,3),IF(I417=\"\",\"\",\"-\"),I417,IF(K417=\"\",\"\",\"-\"),K417,IF(M417=\"\",\"\",\"-\"),M417,IF(O417=\"\",\"\",\"-\"),O417),CONCATENATE(LEFT('1 - Opstart Importark'!$B$3,1),(LEFT('1 - Opstart Importark'!$B$15,2)),(LEFT('1 - Opstart Importark'!$B$18,3)),IF(I417=\"\",\"\",\"-\"),I417,IF(K417=\"\",\"\",\"-\"),K417,IF(M417=\"\",\"\",\"-\"),M417,IF(O417=\"\",\"\",\"-\"),O417))))","v":""},null," ",{"$nulls":11},{"$f":"IF(LEN('1 - Opstart Importark'!$B$6)>0,'1 - Opstart Importark'!$B$6,\"\")","v":""},{"$f":"IF(LEN('1 - Opstart Importark'!$B$9)>0,'1 - Opstart Importark'!$B$9,\"\")","v":""},{"$f":"IF(LEN('1 - Opstart Importark'!$B$31)>0,'1 - Opstart Importark'!$B$31,\"\")","v":""},{"$nulls":12},"",{"$nulls":8},0,"","","objektnogle_"]
[407,null,{"$f":"IF('1 - Opstart Importark'!$B$6=\"\",\"\",(IF('1 - Opstart Importark'!$B$15=\"\",CONCATENATE(LEFT('1 - Opstart Importark'!$B$3,1),(LEFT('1 - Opstart Importark'!$B$24,2)),LEFT('1 - Opstart Importark'!$B$28,3),IF(I418=\"\",\"\",\"-\"),I418,IF(K418=\"\",\"\",\"-\"),K418,IF(M418=\"\",\"\",\"-\"),M418,IF(O418=\"\",\"\",\"-\"),O418),CONCATENATE(LEFT('1 - Opstart Importark'!$B$3,1),(LEFT('1 - Opstart Importark'!$B$15,2)),(LEFT('1 - Opstart Importark'!$B$18,3)),IF(I418=\"\",\"\",\"-\"),I418,IF(K418=\"\",\"\",\"-\"),K418,IF(M418=\"\",\"\",\"-\"),M418,IF(O418=\"\",\"\",\"-\"),O418))))","v":""},null," ",{"$nulls":11},{"$f":"IF(LEN('1 - Opstart Importark'!$B$6)>0,'1 - Opstart Importark'!$B$6,\"\")","v":""},{"$f":"IF(LEN('1 - Opstart Importark'!$B$9)>0,'1 - Opstart Importark'!$B$9,\"\")","v":""},{"$f":"IF(LEN('1 - Opstart Importark'!$B$31)>0,'1 - Opstart Importark'!$B$31,\"\")","v":""},{"$nulls":12},"",{"$nulls":8},0,"","","objektnogle_"]
[408,null,{"$f":"IF('1 - Opstart Importark'!$B$6=\"\",\"\",(IF('1 - Opstart Importark'!$B$15=\"\",CONCATENATE(LEFT('1 - Opstart Importark'!$B$3,1),(LEFT('1 - Opstart Importark'!$B$24,2)),LEFT('1 - Opstart Importark'!$B$28,3),IF(I419=\"\",\"\",\"-\"),I419,IF(K419=\"\",\"\",\"-\"),K419,IF(M419=\"\",\"\",\"-\"),M419,IF(O419=\"\",\"\",\"-\"),O419),CONCATENATE(LEFT('1 - Opstart Importark'!$B$3,1),(LEFT('1 - Opstart Importark'!$B$15,2)),(LEFT('1 - Opstart Importark'!$B$18,3)),IF(I419=\"\",\"\",\"-\"),I419,IF(K419=\"\",\"\",\"-\"),K419,IF(M419=\"\",\"\",\"-\"),M419,IF(O419=\"\",\"\",\"-\"),O419))))","v":""},null," ",{"$nulls":11},{"$f":"IF(LEN('1 - Opstart Importark'!$B$6)>0,'1 - Opstart Importark'!$B$6,\"\")","v":""},{"$f":"IF(LEN('1 - Opstart Importark'!$B$9)>0,'1 - Opstart Importark'!$B$9,\"\")","v":""},{"$f":"IF(LEN('1 - Opstart Importark'!$B$31)>0,'1 - Opstart Importark'!$B$31,\"\")","v":""},{"$nulls":12},"",{"$nulls":8},0,"","","objektnogle_"]
[409,null,{"$f":"IF('1 - Opstart Importark'!$B$6=\"\",\"\",(IF('1 - Opstart Importark'!$B$15=\"\",CONCATENATE(LEFT('1 - Opstart Importark'!$B$3,1),(LEFT('1 - Opstart Importark'!$B$24,2)),LEFT('1 - Opstart Importark'!$B$28,3),IF(I420=\"\",\"\",\"-\"),I420,IF(K420=\"\",\"\",\"-\"),K420,IF(M420=\"\",\"\",\"-\"),M420,IF(O420=\"\",\"\",\"-\"),O420),CONCATENATE(LEFT('1 - Opstart Importark'!$B$3,1),(LEFT('1 - Opstart Importark'!$B$15,2)),(LEFT('1 - Opstart Importark'!$B$18,3)),IF(I420=\"\",\"\",\"-\"),I420,IF(K420=\"\",\"\",\"-\"),K420,IF(M420=\"\",\"\",\"-\"),M420,IF(O420=\"\",\"\",\"-\"),O420))))","v":""},null," ",{"$nulls":11},{"$f":"IF(LEN('1 - Opstart Importark'!$B$6)>0,'1 - Opstart Importark'!$B$6,\"\")","v":""},{"$f":"IF(LEN('1 - Opstart Importark'!$B$9)>0,'1 - Opstart Importark'!$B$9,\"\")","v":""},{"$f":"IF(LEN('1 - Opstart Importark'!$B$31)>0,'1 - Opstart Importark'!$B$31,\"\")","v":""},{"$nulls":12},"",{"$nulls":8},0,"","","objektnogle_"]
[410,null,{"$f":"IF('1 - Opstart Importark'!$B$6=\"\",\"\",(IF('1 - Opstart Importark'!$B$15=\"\",CONCATENATE(LEFT('1 - Opstart Importark'!$B$3,1),(LEFT('1 - Opstart Importark'!$B$24,2)),LEFT('1 - Opstart Importark'!$B$28,3),IF(I421=\"\",\"\",\"-\"),I421,IF(K421=\"\",\"\",\"-\"),K421,IF(M421=\"\",\"\",\"-\"),M421,IF(O421=\"\",\"\",\"-\"),O421),CONCATENATE(LEFT('1 - Opstart Importark'!$B$3,1),(LEFT('1 - Opstart Importark'!$B$15,2)),(LEFT('1 - Opstart Importark'!$B$18,3)),IF(I421=\"\",\"\",\"-\"),I421,IF(K421=\"\",\"\",\"-\"),K421,IF(M421=\"\",\"\",\"-\"),M421,IF(O421=\"\",\"\",\"-\"),O421))))","v":""},null," ",{"$nulls":11},{"$f":"IF(LEN('1 - Opstart Importark'!$B$6)>0,'1 - Opstart Importark'!$B$6,\"\")","v":""},{"$f":"IF(LEN('1 - Opstart Importark'!$B$9)>0,'1 - Opstart Importark'!$B$9,\"\")","v":""},{"$f":"IF(LEN('1 - Opstart Importark'!$B$31)>0,'1 - Opstart Importark'!$B$31,\"\")","v":""},{"$nulls":12},"",{"$nulls":8},0,"","","objektnogle_"]
[411,null,{"$f":"IF('1 - Opstart Importark'!$B$6=\"\",\"\",(IF('1 - Opstart Importark'!$B$15=\"\",CONCATENATE(LEFT('1 - Opstart Importark'!$B$3,1),(LEFT('1 - Opstart Importark'!$B$24,2)),LEFT('1 - Opstart Importark'!$B$28,3),IF(I422=\"\",\"\",\"-\"),I422,IF(K422=\"\",\"\",\"-\"),K422,IF(M422=\"\",\"\",\"-\"),M422,IF(O422=\"\",\"\",\"-\"),O422),CONCATENATE(LEFT('1 - Opstart Importark'!$B$3,1),(LEFT('1 - Opstart Importark'!$B$15,2)),(LEFT('1 - Opstart Importark'!$B$18,3)),IF(I422=\"\",\"\",\"-\"),I422,IF(K422=\"\",\"\",\"-\"),K422,IF(M422=\"\",\"\",\"-\"),M422,IF(O422=\"\",\"\",\"-\"),O422))))","v":""},null," ",{"$nulls":11},{"$f":"IF(LEN('1 - Opstart Importark'!$B$6)>0,'1 - Opstart Importark'!$B$6,\"\")","v":""},{"$f":"IF(LEN('1 - Opstart Importark'!$B$9)>0,'1 - Opstart Importark'!$B$9,\"\")","v":""},{"$f":"IF(LEN('1 - Opstart Importark'!$B$31)>0,'1 - Opstart Importark'!$B$31,\"\")","v":""},{"$nulls":12},"",{"$nulls":8},0,"","","objektnogle_"]
[412,null,{"$f":"IF('1 - Opstart Importark'!$B$6=\"\",\"\",(IF('1 - Opstart Importark'!$B$15=\"\",CONCATENATE(LEFT('1 - Opstart Importark'!$B$3,1),(LEFT('1 - Opstart Importark'!$B$24,2)),LEFT('1 - Opstart Importark'!$B$28,3),IF(I423=\"\",\"\",\"-\"),I423,IF(K423=\"\",\"\",\"-\"),K423,IF(M423=\"\",\"\",\"-\"),M423,IF(O423=\"\",\"\",\"-\"),O423),CONCATENATE(LEFT('1 - Opstart Importark'!$B$3,1),(LEFT('1 - Opstart Importark'!$B$15,2)),(LEFT('1 - Opstart Importark'!$B$18,3)),IF(I423=\"\",\"\",\"-\"),I423,IF(K423=\"\",\"\",\"-\"),K423,IF(M423=\"\",\"\",\"-\"),M423,IF(O423=\"\",\"\",\"-\"),O423))))","v":""},null," ",{"$nulls":11},{"$f":"IF(LEN('1 - Opstart Importark'!$B$6)>0,'1 - Opstart Importark'!$B$6,\"\")","v":""},{"$f":"IF(LEN('1 - Opstart Importark'!$B$9)>0,'1 - Opstart Importark'!$B$9,\"\")","v":""},{"$f":"IF(LEN('1 - Opstart Importark'!$B$31)>0,'1 - Opstart Importark'!$B$31,\"\")","v":""},{"$nulls":12},"",{"$nulls":8},0,"","","objektnogle_"]
[413,null,{"$f":"IF('1 - Opstart Importark'!$B$6=\"\",\"\",(IF('1 - Opstart Importark'!$B$15=\"\",CONCATENATE(LEFT('1 - Opstart Importark'!$B$3,1),(LEFT('1 - Opstart Importark'!$B$24,2)),LEFT('1 - Opstart Importark'!$B$28,3),IF(I424=\"\",\"\",\"-\"),I424,IF(K424=\"\",\"\",\"-\"),K424,IF(M424=\"\",\"\",\"-\"),M424,IF(O424=\"\",\"\",\"-\"),O424),CONCATENATE(LEFT('1 - Opstart Importark'!$B$3,1),(LEFT('1 - Opstart Importark'!$B$15,2)),(LEFT('1 - Opstart Importark'!$B$18,3)),IF(I424=\"\",\"\",\"-\"),I424,IF(K424=\"\",\"\",\"-\"),K424,IF(M424=\"\",\"\",\"-\"),M424,IF(O424=\"\",\"\",\"-\"),O424))))","v":""},null," ",{"$nulls":11},{"$f":"IF(LEN('1 - Opstart Importark'!$B$6)>0,'1 - Opstart Importark'!$B$6,\"\")","v":""},{"$f":"IF(LEN('1 - Opstart Importark'!$B$9)>0,'1 - Opstart Importark'!$B$9,\"\")","v":""},{"$f":"IF(LEN('1 - Opstart Importark'!$B$31)>0,'1 - Opstart Importark'!$B$31,\"\")","v":""},{"$nulls":12},"",{"$nulls":8},0,"","","objektnogle_"]
[414,null,{"$f":"IF('1 - Opstart Importark'!$B$6=\"\",\"\",(IF('1 - Opstart Importark'!$B$15=\"\",CONCATENATE(LEFT('1 - Opstart Importark'!$B$3,1),(LEFT('1 - Opstart Importark'!$B$24,2)),LEFT('1 - Opstart Importark'!$B$28,3),IF(I425=\"\",\"\",\"-\"),I425,IF(K425=\"\",\"\",\"-\"),K425,IF(M425=\"\",\"\",\"-\"),M425,IF(O425=\"\",\"\",\"-\"),O425),CONCATENATE(LEFT('1 - Opstart Importark'!$B$3,1),(LEFT('1 - Opstart Importark'!$B$15,2)),(LEFT('1 - Opstart Importark'!$B$18,3)),IF(I425=\"\",\"\",\"-\"),I425,IF(K425=\"\",\"\",\"-\"),K425,IF(M425=\"\",\"\",\"-\"),M425,IF(O425=\"\",\"\",\"-\"),O425))))","v":""},{"$nulls":13},{"$f":"IF(LEN('1 - Opstart Importark'!$B$6)>0,'1 - Opstart Importark'!$B$6,\"\")","v":""},{"$f":"IF(LEN('1 - Opstart Importark'!$B$9)>0,'1 - Opstart Importark'!$B$9,\"\")","v":""},{"$f":"IF(LEN('1 - Opstart Importark'!$B$31)>0,'1 - Opstart Importark'!$B$31,\"\")","v":""},{"$nulls":12},"",{"$nulls":8},0,"","","objektnogle_"]
[415,null,{"$f":"IF('1 - Opstart Importark'!$B$6=\"\",\"\",(IF('1 - Opstart Importark'!$B$15=\"\",CONCATENATE(LEFT('1 - Opstart Importark'!$B$3,1),(LEFT('1 - Opstart Importark'!$B$24,2)),LEFT('1 - Opstart Importark'!$B$28,3),IF(I426=\"\",\"\",\"-\"),I426,IF(K426=\"\",\"\",\"-\"),K426,IF(M426=\"\",\"\",\"-\"),M426,IF(O426=\"\",\"\",\"-\"),O426),CONCATENATE(LEFT('1 - Opstart Importark'!$B$3,1),(LEFT('1 - Opstart Importark'!$B$15,2)),(LEFT('1 - Opstart Importark'!$B$18,3)),IF(I426=\"\",\"\",\"-\"),I426,IF(K426=\"\",\"\",\"-\"),K426,IF(M426=\"\",\"\",\"-\"),M426,IF(O426=\"\",\"\",\"-\"),O426))))","v":""},{"$nulls":13},{"$f":"IF(LEN('1 - Opstart Importark'!$B$6)>0,'1 - Opstart Importark'!$B$6,\"\")","v":""},{"$f":"IF(LEN('1 - Opstart Importark'!$B$9)>0,'1 - Opstart Importark'!$B$9,\"\")","v":""},{"$f":"IF(LEN('1 - Opstart Importark'!$B$31)>0,'1 - Opstart Importark'!$B$31,\"\")","v":""},{"$nulls":12},"",{"$nulls":8},0,"","","objektnogle_"]
[416,null,{"$f":"IF('1 - Opstart Importark'!$B$6=\"\",\"\",(IF('1 - Opstart Importark'!$B$15=\"\",CONCATENATE(LEFT('1 - Opstart Importark'!$B$3,1),(LEFT('1 - Opstart Importark'!$B$24,2)),LEFT('1 - Opstart Importark'!$B$28,3),IF(I427=\"\",\"\",\"-\"),I427,IF(K427=\"\",\"\",\"-\"),K427,IF(M427=\"\",\"\",\"-\"),M427,IF(O427=\"\",\"\",\"-\"),O427),CONCATENATE(LEFT('1 - Opstart Importark'!$B$3,1),(LEFT('1 - Opstart Importark'!$B$15,2)),(LEFT('1 - Opstart Importark'!$B$18,3)),IF(I427=\"\",\"\",\"-\"),I427,IF(K427=\"\",\"\",\"-\"),K427,IF(M427=\"\",\"\",\"-\"),M427,IF(O427=\"\",\"\",\"-\"),O427))))","v":""},{"$nulls":13},{"$f":"IF(LEN('1 - Opstart Importark'!$B$6)>0,'1 - Opstart Importark'!$B$6,\"\")","v":""},{"$f":"IF(LEN('1 - Opstart Importark'!$B$9)>0,'1 - Opstart Importark'!$B$9,\"\")","v":""},{"$f":"IF(LEN('1 - Opstart Importark'!$B$31)>0,'1 - Opstart Importark'!$B$31,\"\")","v":""},{"$nulls":12},"",{"$nulls":8},0,"","","objektnogle_"]
[417,null,{"$f":"IF('1 - Opstart Importark'!$B$6=\"\",\"\",(IF('1 - Opstart Importark'!$B$15=\"\",CONCATENATE(LEFT('1 - Opstart Importark'!$B$3,1),(LEFT('1 - Opstart Importark'!$B$24,2)),LEFT('1 - Opstart Importark'!$B$28,3),IF(I428=\"\",\"\",\"-\"),I428,IF(K428=\"\",\"\",\"-\"),K428,IF(M428=\"\",\"\",\"-\"),M428,IF(O428=\"\",\"\",\"-\"),O428),CONCATENATE(LEFT('1 - Opstart Importark'!$B$3,1),(LEFT('1 - Opstart Importark'!$B$15,2)),(LEFT('1 - Opstart Importark'!$B$18,3)),IF(I428=\"\",\"\",\"-\"),I428,IF(K428=\"\",\"\",\"-\"),K428,IF(M428=\"\",\"\",\"-\"),M428,IF(O428=\"\",\"\",\"-\"),O428))))","v":""},{"$nulls":13},{"$f":"IF(LEN('1 - Opstart Importark'!$B$6)>0,'1 - Opstart Importark'!$B$6,\"\")","v":""},{"$f":"IF(LEN('1 - Opstart Importark'!$B$9)>0,'1 - Opstart Importark'!$B$9,\"\")","v":""},{"$f":"IF(LEN('1 - Opstart Importark'!$B$31)>0,'1 - Opstart Importark'!$B$31,\"\")","v":""},{"$nulls":12},"",{"$nulls":8},0,"","","objektnogle_"]
[418,null,{"$f":"IF('1 - Opstart Importark'!$B$6=\"\",\"\",(IF('1 - Opstart Importark'!$B$15=\"\",CONCATENATE(LEFT('1 - Opstart Importark'!$B$3,1),(LEFT('1 - Opstart Importark'!$B$24,2)),LEFT('1 - Opstart Importark'!$B$28,3),IF(I429=\"\",\"\",\"-\"),I429,IF(K429=\"\",\"\",\"-\"),K429,IF(M429=\"\",\"\",\"-\"),M429,IF(O429=\"\",\"\",\"-\"),O429),CONCATENATE(LEFT('1 - Opstart Importark'!$B$3,1),(LEFT('1 - Opstart Importark'!$B$15,2)),(LEFT('1 - Opstart Importark'!$B$18,3)),IF(I429=\"\",\"\",\"-\"),I429,IF(K429=\"\",\"\",\"-\"),K429,IF(M429=\"\",\"\",\"-\"),M429,IF(O429=\"\",\"\",\"-\"),O429))))","v":""},{"$nulls":13},{"$f":"IF(LEN('1 - Opstart Importark'!$B$6)>0,'1 - Opstart Importark'!$B$6,\"\")","v":""},{"$f":"IF(LEN('1 - Opstart Importark'!$B$9)>0,'1 - Opstart Importark'!$B$9,\"\")","v":""},{"$f":"IF(LEN('1 - Opstart Importark'!$B$31)>0,'1 - Opstart Importark'!$B$31,\"\")","v":""},{"$nulls":12},"",{"$nulls":8},0,"","","objektnogle_"]
[419,null,{"$f":"IF('1 - Opstart Importark'!$B$6=\"\",\"\",(IF('1 - Opstart Importark'!$B$15=\"\",CONCATENATE(LEFT('1 - Opstart Importark'!$B$3,1),(LEFT('1 - Opstart Importark'!$B$24,2)),LEFT('1 - Opstart Importark'!$B$28,3),IF(I430=\"\",\"\",\"-\"),I430,IF(K430=\"\",\"\",\"-\"),K430,IF(M430=\"\",\"\",\"-\"),M430,IF(O430=\"\",\"\",\"-\"),O430),CONCATENATE(LEFT('1 - Opstart Importark'!$B$3,1),(LEFT('1 - Opstart Importark'!$B$15,2)),(LEFT('1 - Opstart Importark'!$B$18,3)),IF(I430=\"\",\"\",\"-\"),I430,IF(K430=\"\",\"\",\"-\"),K430,IF(M430=\"\",\"\",\"-\"),M430,IF(O430=\"\",\"\",\"-\"),O430))))","v":""},{"$nulls":13},{"$f":"IF(LEN('1 - Opstart Importark'!$B$6)>0,'1 - Opstart Importark'!$B$6,\"\")","v":""},{"$f":"IF(LEN('1 - Opstart Importark'!$B$9)>0,'1 - Opstart Importark'!$B$9,\"\")","v":""},{"$f":"IF(LEN('1 - Opstart Importark'!$B$31)>0,'1 - Opstart Importark'!$B$31,\"\")","v":""},{"$nulls":12},"",{"$nulls":8},0,"","","objektnogle_"]
[420,null,{"$f":"IF('1 - Opstart Importark'!$B$6=\"\",\"\",(IF('1 - Opstart Importark'!$B$15=\"\",CONCATENATE(LEFT('1 - Opstart Importark'!$B$3,1),(LEFT('1 - Opstart Importark'!$B$24,2)),LEFT('1 - Opstart Importark'!$B$28,3),IF(I431=\"\",\"\",\"-\"),I431,IF(K431=\"\",\"\",\"-\"),K431,IF(M431=\"\",\"\",\"-\"),M431,IF(O431=\"\",\"\",\"-\"),O431),CONCATENATE(LEFT('1 - Opstart Importark'!$B$3,1),(LEFT('1 - Opstart Importark'!$B$15,2)),(LEFT('1 - Opstart Importark'!$B$18,3)),IF(I431=\"\",\"\",\"-\"),I431,IF(K431=\"\",\"\",\"-\"),K431,IF(M431=\"\",\"\",\"-\"),M431,IF(O431=\"\",\"\",\"-\"),O431))))","v":""},{"$nulls":13},{"$f":"IF(LEN('1 - Opstart Importark'!$B$6)>0,'1 - Opstart Importark'!$B$6,\"\")","v":""},{"$f":"IF(LEN('1 - Opstart Importark'!$B$9)>0,'1 - Opstart Importark'!$B$9,\"\")","v":""},{"$f":"IF(LEN('1 - Opstart Importark'!$B$31)>0,'1 - Opstart Importark'!$B$31,\"\")","v":""},{"$nulls":12},"",{"$nulls":8},0,"","","objektnogle_"]
[421,null,{"$f":"IF('1 - Opstart Importark'!$B$6=\"\",\"\",(IF('1 - Opstart Importark'!$B$15=\"\",CONCATENATE(LEFT('1 - Opstart Importark'!$B$3,1),(LEFT('1 - Opstart Importark'!$B$24,2)),LEFT('1 - Opstart Importark'!$B$28,3),IF(I432=\"\",\"\",\"-\"),I432,IF(K432=\"\",\"\",\"-\"),K432,IF(M432=\"\",\"\",\"-\"),M432,IF(O432=\"\",\"\",\"-\"),O432),CONCATENATE(LEFT('1 - Opstart Importark'!$B$3,1),(LEFT('1 - Opstart Importark'!$B$15,2)),(LEFT('1 - Opstart Importark'!$B$18,3)),IF(I432=\"\",\"\",\"-\"),I432,IF(K432=\"\",\"\",\"-\"),K432,IF(M432=\"\",\"\",\"-\"),M432,IF(O432=\"\",\"\",\"-\"),O432))))","v":""},{"$nulls":13},{"$f":"IF(LEN('1 - Opstart Importark'!$B$6)>0,'1 - Opstart Importark'!$B$6,\"\")","v":""},{"$f":"IF(LEN('1 - Opstart Importark'!$B$9)>0,'1 - Opstart Importark'!$B$9,\"\")","v":""},{"$f":"IF(LEN('1 - Opstart Importark'!$B$31)>0,'1 - Opstart Importark'!$B$31,\"\")","v":""},{"$nulls":12},"",{"$nulls":8},0,"","","objektnogle_"]
[422,null,{"$f":"IF('1 - Opstart Importark'!$B$6=\"\",\"\",(IF('1 - Opstart Importark'!$B$15=\"\",CONCATENATE(LEFT('1 - Opstart Importark'!$B$3,1),(LEFT('1 - Opstart Importark'!$B$24,2)),LEFT('1 - Opstart Importark'!$B$28,3),IF(I433=\"\",\"\",\"-\"),I433,IF(K433=\"\",\"\",\"-\"),K433,IF(M433=\"\",\"\",\"-\"),M433,IF(O433=\"\",\"\",\"-\"),O433),CONCATENATE(LEFT('1 - Opstart Importark'!$B$3,1),(LEFT('1 - Opstart Importark'!$B$15,2)),(LEFT('1 - Opstart Importark'!$B$18,3)),IF(I433=\"\",\"\",\"-\"),I433,IF(K433=\"\",\"\",\"-\"),K433,IF(M433=\"\",\"\",\"-\"),M433,IF(O433=\"\",\"\",\"-\"),O433))))","v":""},{"$nulls":13},{"$f":"IF(LEN('1 - Opstart Importark'!$B$6)>0,'1 - Opstart Importark'!$B$6,\"\")","v":""},{"$f":"IF(LEN('1 - Opstart Importark'!$B$9)>0,'1 - Opstart Importark'!$B$9,\"\")","v":""},{"$f":"IF(LEN('1 - Opstart Importark'!$B$31)>0,'1 - Opstart Importark'!$B$31,\"\")","v":""},{"$nulls":12},"",{"$nulls":8},0,"","","objektnogle_"]
[423,null,{"$f":"IF('1 - Opstart Importark'!$B$6=\"\",\"\",(IF('1 - Opstart Importark'!$B$15=\"\",CONCATENATE(LEFT('1 - Opstart Importark'!$B$3,1),(LEFT('1 - Opstart Importark'!$B$24,2)),LEFT('1 - Opstart Importark'!$B$28,3),IF(I434=\"\",\"\",\"-\"),I434,IF(K434=\"\",\"\",\"-\"),K434,IF(M434=\"\",\"\",\"-\"),M434,IF(O434=\"\",\"\",\"-\"),O434),CONCATENATE(LEFT('1 - Opstart Importark'!$B$3,1),(LEFT('1 - Opstart Importark'!$B$15,2)),(LEFT('1 - Opstart Importark'!$B$18,3)),IF(I434=\"\",\"\",\"-\"),I434,IF(K434=\"\",\"\",\"-\"),K434,IF(M434=\"\",\"\",\"-\"),M434,IF(O434=\"\",\"\",\"-\"),O434))))","v":""},{"$nulls":13},{"$f":"IF(LEN('1 - Opstart Importark'!$B$6)>0,'1 - Opstart Importark'!$B$6,\"\")","v":""},{"$f":"IF(LEN('1 - Opstart Importark'!$B$9)>0,'1 - Opstart Importark'!$B$9,\"\")","v":""},{"$f":"IF(LEN('1 - Opstart Importark'!$B$31)>0,'1 - Opstart Importark'!$B$31,\"\")","v":""},{"$nulls":12},"",{"$nulls":8},0,"","","objektnogle_"]
[424,null,{"$f":"IF('1 - Opstart Importark'!$B$6=\"\",\"\",(IF('1 - Opstart Importark'!$B$15=\"\",CONCATENATE(LEFT('1 - Opstart Importark'!$B$3,1),(LEFT('1 - Opstart Importark'!$B$24,2)),LEFT('1 - Opstart Importark'!$B$28,3),IF(I435=\"\",\"\",\"-\"),I435,IF(K435=\"\",\"\",\"-\"),K435,IF(M435=\"\",\"\",\"-\"),M435,IF(O435=\"\",\"\",\"-\"),O435),CONCATENATE(LEFT('1 - Opstart Importark'!$B$3,1),(LEFT('1 - Opstart Importark'!$B$15,2)),(LEFT('1 - Opstart Importark'!$B$18,3)),IF(I435=\"\",\"\",\"-\"),I435,IF(K435=\"\",\"\",\"-\"),K435,IF(M435=\"\",\"\",\"-\"),M435,IF(O435=\"\",\"\",\"-\"),O435))))","v":""},{"$nulls":13},{"$f":"IF(LEN('1 - Opstart Importark'!$B$6)>0,'1 - Opstart Importark'!$B$6,\"\")","v":""},{"$f":"IF(LEN('1 - Opstart Importark'!$B$9)>0,'1 - Opstart Importark'!$B$9,\"\")","v":""},{"$f":"IF(LEN('1 - Opstart Importark'!$B$31)>0,'1 - Opstart Importark'!$B$31,\"\")","v":""},{"$nulls":12},"",{"$nulls":8},0,"","","objektnogle_"]
[425,null,{"$f":"IF('1 - Opstart Importark'!$B$6=\"\",\"\",(IF('1 - Opstart Importark'!$B$15=\"\",CONCATENATE(LEFT('1 - Opstart Importark'!$B$3,1),(LEFT('1 - Opstart Importark'!$B$24,2)),LEFT('1 - Opstart Importark'!$B$28,3),IF(I436=\"\",\"\",\"-\"),I436,IF(K436=\"\",\"\",\"-\"),K436,IF(M436=\"\",\"\",\"-\"),M436,IF(O436=\"\",\"\",\"-\"),O436),CONCATENATE(LEFT('1 - Opstart Importark'!$B$3,1),(LEFT('1 - Opstart Importark'!$B$15,2)),(LEFT('1 - Opstart Importark'!$B$18,3)),IF(I436=\"\",\"\",\"-\"),I436,IF(K436=\"\",\"\",\"-\"),K436,IF(M436=\"\",\"\",\"-\"),M436,IF(O436=\"\",\"\",\"-\"),O436))))","v":""},{"$nulls":13},{"$f":"IF(LEN('1 - Opstart Importark'!$B$6)>0,'1 - Opstart Importark'!$B$6,\"\")","v":""},{"$f":"IF(LEN('1 - Opstart Importark'!$B$9)>0,'1 - Opstart Importark'!$B$9,\"\")","v":""},{"$f":"IF(LEN('1 - Opstart Importark'!$B$31)>0,'1 - Opstart Importark'!$B$31,\"\")","v":""},{"$nulls":12},"",{"$nulls":8},0,"","","objektnogle_"]
[426,null,{"$f":"IF('1 - Opstart Importark'!$B$6=\"\",\"\",(IF('1 - Opstart Importark'!$B$15=\"\",CONCATENATE(LEFT('1 - Opstart Importark'!$B$3,1),(LEFT('1 - Opstart Importark'!$B$24,2)),LEFT('1 - Opstart Importark'!$B$28,3),IF(I437=\"\",\"\",\"-\"),I437,IF(K437=\"\",\"\",\"-\"),K437,IF(M437=\"\",\"\",\"-\"),M437,IF(O437=\"\",\"\",\"-\"),O437),CONCATENATE(LEFT('1 - Opstart Importark'!$B$3,1),(LEFT('1 - Opstart Importark'!$B$15,2)),(LEFT('1 - Opstart Importark'!$B$18,3)),IF(I437=\"\",\"\",\"-\"),I437,IF(K437=\"\",\"\",\"-\"),K437,IF(M437=\"\",\"\",\"-\"),M437,IF(O437=\"\",\"\",\"-\"),O437))))","v":""},{"$nulls":13},{"$f":"IF(LEN('1 - Opstart Importark'!$B$6)>0,'1 - Opstart Importark'!$B$6,\"\")","v":""},{"$f":"IF(LEN('1 - Opstart Importark'!$B$9)>0,'1 - Opstart Importark'!$B$9,\"\")","v":""},{"$f":"IF(LEN('1 - Opstart Importark'!$B$31)>0,'1 - Opstart Importark'!$B$31,\"\")","v":""},{"$nulls":12},"",{"$nulls":8},0,"","","objektnogle_"]
[427,null,{"$f":"IF('1 - Opstart Importark'!$B$6=\"\",\"\",(IF('1 - Opstart Importark'!$B$15=\"\",CONCATENATE(LEFT('1 - Opstart Importark'!$B$3,1),(LEFT('1 - Opstart Importark'!$B$24,2)),LEFT('1 - Opstart Importark'!$B$28,3),IF(I438=\"\",\"\",\"-\"),I438,IF(K438=\"\",\"\",\"-\"),K438,IF(M438=\"\",\"\",\"-\"),M438,IF(O438=\"\",\"\",\"-\"),O438),CONCATENATE(LEFT('1 - Opstart Importark'!$B$3,1),(LEFT('1 - Opstart Importark'!$B$15,2)),(LEFT('1 - Opstart Importark'!$B$18,3)),IF(I438=\"\",\"\",\"-\"),I438,IF(K438=\"\",\"\",\"-\"),K438,IF(M438=\"\",\"\",\"-\"),M438,IF(O438=\"\",\"\",\"-\"),O438))))","v":""},{"$nulls":13},{"$f":"IF(LEN('1 - Opstart Importark'!$B$6)>0,'1 - Opstart Importark'!$B$6,\"\")","v":""},{"$f":"IF(LEN('1 - Opstart Importark'!$B$9)>0,'1 - Opstart Importark'!$B$9,\"\")","v":""},{"$f":"IF(LEN('1 - Opstart Importark'!$B$31)>0,'1 - Opstart Importark'!$B$31,\"\")","v":""},{"$nulls":12},"",{"$nulls":8},0,"","","objektnogle_"]
[428,null,{"$f":"IF('1 - Opstart Importark'!$B$6=\"\",\"\",(IF('1 - Opstart Importark'!$B$15=\"\",CONCATENATE(LEFT('1 - Opstart Importark'!$B$3,1),(LEFT('1 - Opstart Importark'!$B$24,2)),LEFT('1 - Opstart Importark'!$B$28,3),IF(I439=\"\",\"\",\"-\"),I439,IF(K439=\"\",\"\",\"-\"),K439,IF(M439=\"\",\"\",\"-\"),M439,IF(O439=\"\",\"\",\"-\"),O439),CONCATENATE(LEFT('1 - Opstart Importark'!$B$3,1),(LEFT('1 - Opstart Importark'!$B$15,2)),(LEFT('1 - Opstart Importark'!$B$18,3)),IF(I439=\"\",\"\",\"-\"),I439,IF(K439=\"\",\"\",\"-\"),K439,IF(M439=\"\",\"\",\"-\"),M439,IF(O439=\"\",\"\",\"-\"),O439))))","v":""},{"$nulls":13},{"$f":"IF(LEN('1 - Opstart Importark'!$B$6)>0,'1 - Opstart Importark'!$B$6,\"\")","v":""},{"$f":"IF(LEN('1 - Opstart Importark'!$B$9)>0,'1 - Opstart Importark'!$B$9,\"\")","v":""},{"$f":"IF(LEN('1 - Opstart Importark'!$B$31)>0,'1 - Opstart Importark'!$B$31,\"\")","v":""},{"$nulls":12},"",{"$nulls":8},0,"","","objektnogle_"]
[429,null,{"$f":"IF('1 - Opstart Importark'!$B$6=\"\",\"\",(IF('1 - Opstart Importark'!$B$15=\"\",CONCATENATE(LEFT('1 - Opstart Importark'!$B$3,1),(LEFT('1 - Opstart Importark'!$B$24,2)),LEFT('1 - Opstart Importark'!$B$28,3),IF(I440=\"\",\"\",\"-\"),I440,IF(K440=\"\",\"\",\"-\"),K440,IF(M440=\"\",\"\",\"-\"),M440,IF(O440=\"\",\"\",\"-\"),O440),CONCATENATE(LEFT('1 - Opstart Importark'!$B$3,1),(LEFT('1 - Opstart Importark'!$B$15,2)),(LEFT('1 - Opstart Importark'!$B$18,3)),IF(I440=\"\",\"\",\"-\"),I440,IF(K440=\"\",\"\",\"-\"),K440,IF(M440=\"\",\"\",\"-\"),M440,IF(O440=\"\",\"\",\"-\"),O440))))","v":""},{"$nulls":13},{"$f":"IF(LEN('1 - Opstart Importark'!$B$6)>0,'1 - Opstart Importark'!$B$6,\"\")","v":""},{"$f":"IF(LEN('1 - Opstart Importark'!$B$9)>0,'1 - Opstart Importark'!$B$9,\"\")","v":""},{"$f":"IF(LEN('1 - Opstart Importark'!$B$31)>0,'1 - Opstart Importark'!$B$31,\"\")","v":""},{"$nulls":12},"",{"$nulls":8},0,"","","objektnogle_"]
[430,null,{"$f":"IF('1 - Opstart Importark'!$B$6=\"\",\"\",(IF('1 - Opstart Importark'!$B$15=\"\",CONCATENATE(LEFT('1 - Opstart Importark'!$B$3,1),(LEFT('1 - Opstart Importark'!$B$24,2)),LEFT('1 - Opstart Importark'!$B$28,3),IF(I441=\"\",\"\",\"-\"),I441,IF(K441=\"\",\"\",\"-\"),K441,IF(M441=\"\",\"\",\"-\"),M441,IF(O441=\"\",\"\",\"-\"),O441),CONCATENATE(LEFT('1 - Opstart Importark'!$B$3,1),(LEFT('1 - Opstart Importark'!$B$15,2)),(LEFT('1 - Opstart Importark'!$B$18,3)),IF(I441=\"\",\"\",\"-\"),I441,IF(K441=\"\",\"\",\"-\"),K441,IF(M441=\"\",\"\",\"-\"),M441,IF(O441=\"\",\"\",\"-\"),O441))))","v":""},{"$nulls":13},{"$f":"IF(LEN('1 - Opstart Importark'!$B$6)>0,'1 - Opstart Importark'!$B$6,\"\")","v":""},{"$f":"IF(LEN('1 - Opstart Importark'!$B$9)>0,'1 - Opstart Importark'!$B$9,\"\")","v":""},{"$f":"IF(LEN('1 - Opstart Importark'!$B$31)>0,'1 - Opstart Importark'!$B$31,\"\")","v":""},{"$nulls":12},"",{"$nulls":8},0,"","","objektnogle_"]
[431,null,{"$f":"IF('1 - Opstart Importark'!$B$6=\"\",\"\",(IF('1 - Opstart Importark'!$B$15=\"\",CONCATENATE(LEFT('1 - Opstart Importark'!$B$3,1),(LEFT('1 - Opstart Importark'!$B$24,2)),LEFT('1 - Opstart Importark'!$B$28,3),IF(I442=\"\",\"\",\"-\"),I442,IF(K442=\"\",\"\",\"-\"),K442,IF(M442=\"\",\"\",\"-\"),M442,IF(O442=\"\",\"\",\"-\"),O442),CONCATENATE(LEFT('1 - Opstart Importark'!$B$3,1),(LEFT('1 - Opstart Importark'!$B$15,2)),(LEFT('1 - Opstart Importark'!$B$18,3)),IF(I442=\"\",\"\",\"-\"),I442,IF(K442=\"\",\"\",\"-\"),K442,IF(M442=\"\",\"\",\"-\"),M442,IF(O442=\"\",\"\",\"-\"),O442))))","v":""},{"$nulls":13},{"$f":"IF(LEN('1 - Opstart Importark'!$B$6)>0,'1 - Opstart Importark'!$B$6,\"\")","v":""},{"$f":"IF(LEN('1 - Opstart Importark'!$B$9)>0,'1 - Opstart Importark'!$B$9,\"\")","v":""},{"$f":"IF(LEN('1 - Opstart Importark'!$B$31)>0,'1 - Opstart Importark'!$B$31,\"\")","v":""},{"$nulls":12},"",{"$nulls":8},0,"","","objektnogle_"]
[432,null,{"$f":"IF('1 - Opstart Importark'!$B$6=\"\",\"\",(IF('1 - Opstart Importark'!$B$15=\"\",CONCATENATE(LEFT('1 - Opstart Importark'!$B$3,1),(LEFT('1 - Opstart Importark'!$B$24,2)),LEFT('1 - Opstart Importark'!$B$28,3),IF(I443=\"\",\"\",\"-\"),I443,IF(K443=\"\",\"\",\"-\"),K443,IF(M443=\"\",\"\",\"-\"),M443,IF(O443=\"\",\"\",\"-\"),O443),CONCATENATE(LEFT('1 - Opstart Importark'!$B$3,1),(LEFT('1 - Opstart Importark'!$B$15,2)),(LEFT('1 - Opstart Importark'!$B$18,3)),IF(I443=\"\",\"\",\"-\"),I443,IF(K443=\"\",\"\",\"-\"),K443,IF(M443=\"\",\"\",\"-\"),M443,IF(O443=\"\",\"\",\"-\"),O443))))","v":""},{"$nulls":13},{"$f":"IF(LEN('1 - Opstart Importark'!$B$6)>0,'1 - Opstart Importark'!$B$6,\"\")","v":""},{"$f":"IF(LEN('1 - Opstart Importark'!$B$9)>0,'1 - Opstart Importark'!$B$9,\"\")","v":""},{"$f":"IF(LEN('1 - Opstart Importark'!$B$31)>0,'1 - Opstart Importark'!$B$31,\"\")","v":""},{"$nulls":12},"",{"$nulls":8},0,"","","objektnogle_"]
[433,null,{"$f":"IF('1 - Opstart Importark'!$B$6=\"\",\"\",(IF('1 - Opstart Importark'!$B$15=\"\",CONCATENATE(LEFT('1 - Opstart Importark'!$B$3,1),(LEFT('1 - Opstart Importark'!$B$24,2)),LEFT('1 - Opstart Importark'!$B$28,3),IF(I444=\"\",\"\",\"-\"),I444,IF(K444=\"\",\"\",\"-\"),K444,IF(M444=\"\",\"\",\"-\"),M444,IF(O444=\"\",\"\",\"-\"),O444),CONCATENATE(LEFT('1 - Opstart Importark'!$B$3,1),(LEFT('1 - Opstart Importark'!$B$15,2)),(LEFT('1 - Opstart Importark'!$B$18,3)),IF(I444=\"\",\"\",\"-\"),I444,IF(K444=\"\",\"\",\"-\"),K444,IF(M444=\"\",\"\",\"-\"),M444,IF(O444=\"\",\"\",\"-\"),O444))))","v":""},{"$nulls":13},{"$f":"IF(LEN('1 - Opstart Importark'!$B$6)>0,'1 - Opstart Importark'!$B$6,\"\")","v":""},{"$f":"IF(LEN('1 - Opstart Importark'!$B$9)>0,'1 - Opstart Importark'!$B$9,\"\")","v":""},{"$f":"IF(LEN('1 - Opstart Importark'!$B$31)>0,'1 - Opstart Importark'!$B$31,\"\")","v":""},{"$nulls":12},"",{"$nulls":8},0,"","","objektnogle_"]
[434,null,{"$f":"IF('1 - Opstart Importark'!$B$6=\"\",\"\",(IF('1 - Opstart Importark'!$B$15=\"\",CONCATENATE(LEFT('1 - Opstart Importark'!$B$3,1),(LEFT('1 - Opstart Importark'!$B$24,2)),LEFT('1 - Opstart Importark'!$B$28,3),IF(I445=\"\",\"\",\"-\"),I445,IF(K445=\"\",\"\",\"-\"),K445,IF(M445=\"\",\"\",\"-\"),M445,IF(O445=\"\",\"\",\"-\"),O445),CONCATENATE(LEFT('1 - Opstart Importark'!$B$3,1),(LEFT('1 - Opstart Importark'!$B$15,2)),(LEFT('1 - Opstart Importark'!$B$18,3)),IF(I445=\"\",\"\",\"-\"),I445,IF(K445=\"\",\"\",\"-\"),K445,IF(M445=\"\",\"\",\"-\"),M445,IF(O445=\"\",\"\",\"-\"),O445))))","v":""},{"$nulls":13},{"$f":"IF(LEN('1 - Opstart Importark'!$B$6)>0,'1 - Opstart Importark'!$B$6,\"\")","v":""},{"$f":"IF(LEN('1 - Opstart Importark'!$B$9)>0,'1 - Opstart Importark'!$B$9,\"\")","v":""},{"$f":"IF(LEN('1 - Opstart Importark'!$B$31)>0,'1 - Opstart Importark'!$B$31,\"\")","v":""},{"$nulls":12},"",{"$nulls":8},0,"","","objektnogle_"]
[435,null,{"$f":"IF('1 - Opstart Importark'!$B$6=\"\",\"\",(IF('1 - Opstart Importark'!$B$15=\"\",CONCATENATE(LEFT('1 - Opstart Importark'!$B$3,1),(LEFT('1 - Opstart Importark'!$B$24,2)),LEFT('1 - Opstart Importark'!$B$28,3),IF(I446=\"\",\"\",\"-\"),I446,IF(K446=\"\",\"\",\"-\"),K446,IF(M446=\"\",\"\",\"-\"),M446,IF(O446=\"\",\"\",\"-\"),O446),CONCATENATE(LEFT('1 - Opstart Importark'!$B$3,1),(LEFT('1 - Opstart Importark'!$B$15,2)),(LEFT('1 - Opstart Importark'!$B$18,3)),IF(I446=\"\",\"\",\"-\"),I446,IF(K446=\"\",\"\",\"-\"),K446,IF(M446=\"\",\"\",\"-\"),M446,IF(O446=\"\",\"\",\"-\"),O446))))","v":""},{"$nulls":13},{"$f":"IF(LEN('1 - Opstart Importark'!$B$6)>0,'1 - Opstart Importark'!$B$6,\"\")","v":""},{"$f":"IF(LEN('1 - Opstart Importark'!$B$9)>0,'1 - Opstart Importark'!$B$9,\"\")","v":""},{"$f":"IF(LEN('1 - Opstart Importark'!$B$31)>0,'1 - Opstart Importark'!$B$31,\"\")","v":""},{"$nulls":12},"",{"$nulls":8},0,"","","objektnogle_"]
[436,null,{"$f":"IF('1 - Opstart Importark'!$B$6=\"\",\"\",(IF('1 - Opstart Importark'!$B$15=\"\",CONCATENATE(LEFT('1 - Opstart Importark'!$B$3,1),(LEFT('1 - Opstart Importark'!$B$24,2)),LEFT('1 - Opstart Importark'!$B$28,3),IF(I447=\"\",\"\",\"-\"),I447,IF(K447=\"\",\"\",\"-\"),K447,IF(M447=\"\",\"\",\"-\"),M447,IF(O447=\"\",\"\",\"-\"),O447),CONCATENATE(LEFT('1 - Opstart Importark'!$B$3,1),(LEFT('1 - Opstart Importark'!$B$15,2)),(LEFT('1 - Opstart Importark'!$B$18,3)),IF(I447=\"\",\"\",\"-\"),I447,IF(K447=\"\",\"\",\"-\"),K447,IF(M447=\"\",\"\",\"-\"),M447,IF(O447=\"\",\"\",\"-\"),O447))))","v":""},{"$nulls":13},{"$f":"IF(LEN('1 - Opstart Importark'!$B$6)>0,'1 - Opstart Importark'!$B$6,\"\")","v":""},{"$f":"IF(LEN('1 - Opstart Importark'!$B$9)>0,'1 - Opstart Importark'!$B$9,\"\")","v":""},{"$f":"IF(LEN('1 - Opstart Importark'!$B$31)>0,'1 - Opstart Importark'!$B$31,\"\")","v":""},{"$nulls":12},"",{"$nulls":8},0,"","","objektnogle_"]
[437,null,{"$f":"IF('1 - Opstart Importark'!$B$6=\"\",\"\",(IF('1 - Opstart Importark'!$B$15=\"\",CONCATENATE(LEFT('1 - Opstart Importark'!$B$3,1),(LEFT('1 - Opstart Importark'!$B$24,2)),LEFT('1 - Opstart Importark'!$B$28,3),IF(I448=\"\",\"\",\"-\"),I448,IF(K448=\"\",\"\",\"-\"),K448,IF(M448=\"\",\"\",\"-\"),M448,IF(O448=\"\",\"\",\"-\"),O448),CONCATENATE(LEFT('1 - Opstart Importark'!$B$3,1),(LEFT('1 - Opstart Importark'!$B$15,2)),(LEFT('1 - Opstart Importark'!$B$18,3)),IF(I448=\"\",\"\",\"-\"),I448,IF(K448=\"\",\"\",\"-\"),K448,IF(M448=\"\",\"\",\"-\"),M448,IF(O448=\"\",\"\",\"-\"),O448))))","v":""},{"$nulls":13},{"$f":"IF(LEN('1 - Opstart Importark'!$B$6)>0,'1 - Opstart Importark'!$B$6,\"\")","v":""},{"$f":"IF(LEN('1 - Opstart Importark'!$B$9)>0,'1 - Opstart Importark'!$B$9,\"\")","v":""},{"$f":"IF(LEN('1 - Opstart Importark'!$B$31)>0,'1 - Opstart Importark'!$B$31,\"\")","v":""},{"$nulls":12},"",{"$nulls":8},0,"","","objektnogle_"]
[438,null,{"$f":"IF('1 - Opstart Importark'!$B$6=\"\",\"\",(IF('1 - Opstart Importark'!$B$15=\"\",CONCATENATE(LEFT('1 - Opstart Importark'!$B$3,1),(LEFT('1 - Opstart Importark'!$B$24,2)),LEFT('1 - Opstart Importark'!$B$28,3),IF(I449=\"\",\"\",\"-\"),I449,IF(K449=\"\",\"\",\"-\"),K449,IF(M449=\"\",\"\",\"-\"),M449,IF(O449=\"\",\"\",\"-\"),O449),CONCATENATE(LEFT('1 - Opstart Importark'!$B$3,1),(LEFT('1 - Opstart Importark'!$B$15,2)),(LEFT('1 - Opstart Importark'!$B$18,3)),IF(I449=\"\",\"\",\"-\"),I449,IF(K449=\"\",\"\",\"-\"),K449,IF(M449=\"\",\"\",\"-\"),M449,IF(O449=\"\",\"\",\"-\"),O449))))","v":""},{"$nulls":13},{"$f":"IF(LEN('1 - Opstart Importark'!$B$6)>0,'1 - Opstart Importark'!$B$6,\"\")","v":""},{"$f":"IF(LEN('1 - Opstart Importark'!$B$9)>0,'1 - Opstart Importark'!$B$9,\"\")","v":""},{"$f":"IF(LEN('1 - Opstart Importark'!$B$31)>0,'1 - Opstart Importark'!$B$31,\"\")","v":""},{"$nulls":12},"",{"$nulls":8},0,"","","objektnogle_"]
[439,null,{"$f":"IF('1 - Opstart Importark'!$B$6=\"\",\"\",(IF('1 - Opstart Importark'!$B$15=\"\",CONCATENATE(LEFT('1 - Opstart Importark'!$B$3,1),(LEFT('1 - Opstart Importark'!$B$24,2)),LEFT('1 - Opstart Importark'!$B$28,3),IF(I450=\"\",\"\",\"-\"),I450,IF(K450=\"\",\"\",\"-\"),K450,IF(M450=\"\",\"\",\"-\"),M450,IF(O450=\"\",\"\",\"-\"),O450),CONCATENATE(LEFT('1 - Opstart Importark'!$B$3,1),(LEFT('1 - Opstart Importark'!$B$15,2)),(LEFT('1 - Opstart Importark'!$B$18,3)),IF(I450=\"\",\"\",\"-\"),I450,IF(K450=\"\",\"\",\"-\"),K450,IF(M450=\"\",\"\",\"-\"),M450,IF(O450=\"\",\"\",\"-\"),O450))))","v":""},{"$nulls":13},{"$f":"IF(LEN('1 - Opstart Importark'!$B$6)>0,'1 - Opstart Importark'!$B$6,\"\")","v":""},{"$f":"IF(LEN('1 - Opstart Importark'!$B$9)>0,'1 - Opstart Importark'!$B$9,\"\")","v":""},{"$f":"IF(LEN('1 - Opstart Importark'!$B$31)>0,'1 - Opstart Importark'!$B$31,\"\")","v":""},{"$nulls":12},"",{"$nulls":8},0,"","","objektnogle_"]
[440,null,{"$f":"IF('1 - Opstart Importark'!$B$6=\"\",\"\",(IF('1 - Opstart Importark'!$B$15=\"\",CONCATENATE(LEFT('1 - Opstart Importark'!$B$3,1),(LEFT('1 - Opstart Importark'!$B$24,2)),LEFT('1 - Opstart Importark'!$B$28,3),IF(I451=\"\",\"\",\"-\"),I451,IF(K451=\"\",\"\",\"-\"),K451,IF(M451=\"\",\"\",\"-\"),M451,IF(O451=\"\",\"\",\"-\"),O451),CONCATENATE(LEFT('1 - Opstart Importark'!$B$3,1),(LEFT('1 - Opstart Importark'!$B$15,2)),(LEFT('1 - Opstart Importark'!$B$18,3)),IF(I451=\"\",\"\",\"-\"),I451,IF(K451=\"\",\"\",\"-\"),K451,IF(M451=\"\",\"\",\"-\"),M451,IF(O451=\"\",\"\",\"-\"),O451))))","v":""},{"$nulls":13},{"$f":"IF(LEN('1 - Opstart Importark'!$B$6)>0,'1 - Opstart Importark'!$B$6,\"\")","v":""},{"$f":"IF(LEN('1 - Opstart Importark'!$B$9)>0,'1 - Opstart Importark'!$B$9,\"\")","v":""},{"$f":"IF(LEN('1 - Opstart Importark'!$B$31)>0,'1 - Opstart Importark'!$B$31,\"\")","v":""},{"$nulls":12},"",{"$nulls":8},0,"","","objektnogle_"]
[441,null,{"$f":"IF('1 - Opstart Importark'!$B$6=\"\",\"\",(IF('1 - Opstart Importark'!$B$15=\"\",CONCATENATE(LEFT('1 - Opstart Importark'!$B$3,1),(LEFT('1 - Opstart Importark'!$B$24,2)),LEFT('1 - Opstart Importark'!$B$28,3),IF(I452=\"\",\"\",\"-\"),I452,IF(K452=\"\",\"\",\"-\"),K452,IF(M452=\"\",\"\",\"-\"),M452,IF(O452=\"\",\"\",\"-\"),O452),CONCATENATE(LEFT('1 - Opstart Importark'!$B$3,1),(LEFT('1 - Opstart Importark'!$B$15,2)),(LEFT('1 - Opstart Importark'!$B$18,3)),IF(I452=\"\",\"\",\"-\"),I452,IF(K452=\"\",\"\",\"-\"),K452,IF(M452=\"\",\"\",\"-\"),M452,IF(O452=\"\",\"\",\"-\"),O452))))","v":""},{"$nulls":13},{"$f":"IF(LEN('1 - Opstart Importark'!$B$6)>0,'1 - Opstart Importark'!$B$6,\"\")","v":""},{"$f":"IF(LEN('1 - Opstart Importark'!$B$9)>0,'1 - Opstart Importark'!$B$9,\"\")","v":""},{"$f":"IF(LEN('1 - Opstart Importark'!$B$31)>0,'1 - Opstart Importark'!$B$31,\"\")","v":""},{"$nulls":12},"",{"$nulls":8},0,"","","objektnogle_"]
[442,null,{"$f":"IF('1 - Opstart Importark'!$B$6=\"\",\"\",(IF('1 - Opstart Importark'!$B$15=\"\",CONCATENATE(LEFT('1 - Opstart Importark'!$B$3,1),(LEFT('1 - Opstart Importark'!$B$24,2)),LEFT('1 - Opstart Importark'!$B$28,3),IF(I453=\"\",\"\",\"-\"),I453,IF(K453=\"\",\"\",\"-\"),K453,IF(M453=\"\",\"\",\"-\"),M453,IF(O453=\"\",\"\",\"-\"),O453),CONCATENATE(LEFT('1 - Opstart Importark'!$B$3,1),(LEFT('1 - Opstart Importark'!$B$15,2)),(LEFT('1 - Opstart Importark'!$B$18,3)),IF(I453=\"\",\"\",\"-\"),I453,IF(K453=\"\",\"\",\"-\"),K453,IF(M453=\"\",\"\",\"-\"),M453,IF(O453=\"\",\"\",\"-\"),O453))))","v":""},{"$nulls":13},{"$f":"IF(LEN('1 - Opstart Importark'!$B$6)>0,'1 - Opstart Importark'!$B$6,\"\")","v":""},{"$f":"IF(LEN('1 - Opstart Importark'!$B$9)>0,'1 - Opstart Importark'!$B$9,\"\")","v":""},{"$f":"IF(LEN('1 - Opstart Importark'!$B$31)>0,'1 - Opstart Importark'!$B$31,\"\")","v":""},{"$nulls":12},"",{"$nulls":8},0,"","","objektnogle_"]
[443,null,{"$f":"IF('1 - Opstart Importark'!$B$6=\"\",\"\",(IF('1 - Opstart Importark'!$B$15=\"\",CONCATENATE(LEFT('1 - Opstart Importark'!$B$3,1),(LEFT('1 - Opstart Importark'!$B$24,2)),LEFT('1 - Opstart Importark'!$B$28,3),IF(I454=\"\",\"\",\"-\"),I454,IF(K454=\"\",\"\",\"-\"),K454,IF(M454=\"\",\"\",\"-\"),M454,IF(O454=\"\",\"\",\"-\"),O454),CONCATENATE(LEFT('1 - Opstart Importark'!$B$3,1),(LEFT('1 - Opstart Importark'!$B$15,2)),(LEFT('1 - Opstart Importark'!$B$18,3)),IF(I454=\"\",\"\",\"-\"),I454,IF(K454=\"\",\"\",\"-\"),K454,IF(M454=\"\",\"\",\"-\"),M454,IF(O454=\"\",\"\",\"-\"),O454))))","v":""},{"$nulls":13},{"$f":"IF(LEN('1 - Opstart Importark'!$B$6)>0,'1 - Opstart Importark'!$B$6,\"\")","v":""},{"$f":"IF(LEN('1 - Opstart Importark'!$B$9)>0,'1 - Opstart Importark'!$B$9,\"\")","v":""},{"$f":"IF(LEN('1 - Opstart Importark'!$B$31)>0,'1 - Opstart Importark'!$B$31,\"\")","v":""},{"$nulls":12},"",{"$nulls":8},0,"","","objektnogle_"]
[444,null,{"$f":"IF('1 - Opstart Importark'!$B$6=\"\",\"\",(IF('1 - Opstart Importark'!$B$15=\"\",CONCATENATE(LEFT('1 - Opstart Importark'!$B$3,1),(LEFT('1 - Opstart Importark'!$B$24,2)),LEFT('1 - Opstart Importark'!$B$28,3),IF(I455=\"\",\"\",\"-\"),I455,IF(K455=\"\",\"\",\"-\"),K455,IF(M455=\"\",\"\",\"-\"),M455,IF(O455=\"\",\"\",\"-\"),O455),CONCATENATE(LEFT('1 - Opstart Importark'!$B$3,1),(LEFT('1 - Opstart Importark'!$B$15,2)),(LEFT('1 - Opstart Importark'!$B$18,3)),IF(I455=\"\",\"\",\"-\"),I455,IF(K455=\"\",\"\",\"-\"),K455,IF(M455=\"\",\"\",\"-\"),M455,IF(O455=\"\",\"\",\"-\"),O455))))","v":""},{"$nulls":13},{"$f":"IF(LEN('1 - Opstart Importark'!$B$6)>0,'1 - Opstart Importark'!$B$6,\"\")","v":""},{"$f":"IF(LEN('1 - Opstart Importark'!$B$9)>0,'1 - Opstart Importark'!$B$9,\"\")","v":""},{"$f":"IF(LEN('1 - Opstart Importark'!$B$31)>0,'1 - Opstart Importark'!$B$31,\"\")","v":""},{"$nulls":12},"",{"$nulls":8},0,"","","objektnogle_"]
[445,null,{"$f":"IF('1 - Opstart Importark'!$B$6=\"\",\"\",(IF('1 - Opstart Importark'!$B$15=\"\",CONCATENATE(LEFT('1 - Opstart Importark'!$B$3,1),(LEFT('1 - Opstart Importark'!$B$24,2)),LEFT('1 - Opstart Importark'!$B$28,3),IF(I456=\"\",\"\",\"-\"),I456,IF(K456=\"\",\"\",\"-\"),K456,IF(M456=\"\",\"\",\"-\"),M456,IF(O456=\"\",\"\",\"-\"),O456),CONCATENATE(LEFT('1 - Opstart Importark'!$B$3,1),(LEFT('1 - Opstart Importark'!$B$15,2)),(LEFT('1 - Opstart Importark'!$B$18,3)),IF(I456=\"\",\"\",\"-\"),I456,IF(K456=\"\",\"\",\"-\"),K456,IF(M456=\"\",\"\",\"-\"),M456,IF(O456=\"\",\"\",\"-\"),O456))))","v":""},{"$nulls":13},{"$f":"IF(LEN('1 - Opstart Importark'!$B$6)>0,'1 - Opstart Importark'!$B$6,\"\")","v":""},{"$f":"IF(LEN('1 - Opstart Importark'!$B$9)>0,'1 - Opstart Importark'!$B$9,\"\")","v":""},{"$f":"IF(LEN('1 - Opstart Importark'!$B$31)>0,'1 - Opstart Importark'!$B$31,\"\")","v":""},{"$nulls":12},"",{"$nulls":8},0,"","","objektnogle_"]
[446,null,{"$f":"IF('1 - Opstart Importark'!$B$6=\"\",\"\",(IF('1 - Opstart Importark'!$B$15=\"\",CONCATENATE(LEFT('1 - Opstart Importark'!$B$3,1),(LEFT('1 - Opstart Importark'!$B$24,2)),LEFT('1 - Opstart Importark'!$B$28,3),IF(I457=\"\",\"\",\"-\"),I457,IF(K457=\"\",\"\",\"-\"),K457,IF(M457=\"\",\"\",\"-\"),M457,IF(O457=\"\",\"\",\"-\"),O457),CONCATENATE(LEFT('1 - Opstart Importark'!$B$3,1),(LEFT('1 - Opstart Importark'!$B$15,2)),(LEFT('1 - Opstart Importark'!$B$18,3)),IF(I457=\"\",\"\",\"-\"),I457,IF(K457=\"\",\"\",\"-\"),K457,IF(M457=\"\",\"\",\"-\"),M457,IF(O457=\"\",\"\",\"-\"),O457))))","v":""},{"$nulls":13},{"$f":"IF(LEN('1 - Opstart Importark'!$B$6)>0,'1 - Opstart Importark'!$B$6,\"\")","v":""},{"$f":"IF(LEN('1 - Opstart Importark'!$B$9)>0,'1 - Opstart Importark'!$B$9,\"\")","v":""},{"$f":"IF(LEN('1 - Opstart Importark'!$B$31)>0,'1 - Opstart Importark'!$B$31,\"\")","v":""},{"$nulls":12},"",{"$nulls":8},0,"","","objektnogle_"]
[447,null,{"$f":"IF('1 - Opstart Importark'!$B$6=\"\",\"\",(IF('1 - Opstart Importark'!$B$15=\"\",CONCATENATE(LEFT('1 - Opstart Importark'!$B$3,1),(LEFT('1 - Opstart Importark'!$B$24,2)),LEFT('1 - Opstart Importark'!$B$28,3),IF(I458=\"\",\"\",\"-\"),I458,IF(K458=\"\",\"\",\"-\"),K458,IF(M458=\"\",\"\",\"-\"),M458,IF(O458=\"\",\"\",\"-\"),O458),CONCATENATE(LEFT('1 - Opstart Importark'!$B$3,1),(LEFT('1 - Opstart Importark'!$B$15,2)),(LEFT('1 - Opstart Importark'!$B$18,3)),IF(I458=\"\",\"\",\"-\"),I458,IF(K458=\"\",\"\",\"-\"),K458,IF(M458=\"\",\"\",\"-\"),M458,IF(O458=\"\",\"\",\"-\"),O458))))","v":""},{"$nulls":13},{"$f":"IF(LEN('1 - Opstart Importark'!$B$6)>0,'1 - Opstart Importark'!$B$6,\"\")","v":""},{"$f":"IF(LEN('1 - Opstart Importark'!$B$9)>0,'1 - Opstart Importark'!$B$9,\"\")","v":""},{"$f":"IF(LEN('1 - Opstart Importark'!$B$31)>0,'1 - Opstart Importark'!$B$31,\"\")","v":""},{"$nulls":12},"",{"$nulls":8},0,"","","objektnogle_"]
[448,null,{"$f":"IF('1 - Opstart Importark'!$B$6=\"\",\"\",(IF('1 - Opstart Importark'!$B$15=\"\",CONCATENATE(LEFT('1 - Opstart Importark'!$B$3,1),(LEFT('1 - Opstart Importark'!$B$24,2)),LEFT('1 - Opstart Importark'!$B$28,3),IF(I459=\"\",\"\",\"-\"),I459,IF(K459=\"\",\"\",\"-\"),K459,IF(M459=\"\",\"\",\"-\"),M459,IF(O459=\"\",\"\",\"-\"),O459),CONCATENATE(LEFT('1 - Opstart Importark'!$B$3,1),(LEFT('1 - Opstart Importark'!$B$15,2)),(LEFT('1 - Opstart Importark'!$B$18,3)),IF(I459=\"\",\"\",\"-\"),I459,IF(K459=\"\",\"\",\"-\"),K459,IF(M459=\"\",\"\",\"-\"),M459,IF(O459=\"\",\"\",\"-\"),O459))))","v":""},{"$nulls":13},{"$f":"IF(LEN('1 - Opstart Importark'!$B$6)>0,'1 - Opstart Importark'!$B$6,\"\")","v":""},{"$f":"IF(LEN('1 - Opstart Importark'!$B$9)>0,'1 - Opstart Importark'!$B$9,\"\")","v":""},{"$f":"IF(LEN('1 - Opstart Importark'!$B$31)>0,'1 - Opstart Importark'!$B$31,\"\")","v":""},{"$nulls":12},"",{"$nulls":8},0,"","","objektnogle_"]
[449,null,{"$f":"IF('1 - Opstart Importark'!$B$6=\"\",\"\",(IF('1 - Opstart Importark'!$B$15=\"\",CONCATENATE(LEFT('1 - Opstart Importark'!$B$3,1),(LEFT('1 - Opstart Importark'!$B$24,2)),LEFT('1 - Opstart Importark'!$B$28,3),IF(I460=\"\",\"\",\"-\"),I460,IF(K460=\"\",\"\",\"-\"),K460,IF(M460=\"\",\"\",\"-\"),M460,IF(O460=\"\",\"\",\"-\"),O460),CONCATENATE(LEFT('1 - Opstart Importark'!$B$3,1),(LEFT('1 - Opstart Importark'!$B$15,2)),(LEFT('1 - Opstart Importark'!$B$18,3)),IF(I460=\"\",\"\",\"-\"),I460,IF(K460=\"\",\"\",\"-\"),K460,IF(M460=\"\",\"\",\"-\"),M460,IF(O460=\"\",\"\",\"-\"),O460))))","v":""},{"$nulls":13},{"$f":"IF(LEN('1 - Opstart Importark'!$B$6)>0,'1 - Opstart Importark'!$B$6,\"\")","v":""},{"$f":"IF(LEN('1 - Opstart Importark'!$B$9)>0,'1 - Opstart Importark'!$B$9,\"\")","v":""},{"$f":"IF(LEN('1 - Opstart Importark'!$B$31)>0,'1 - Opstart Importark'!$B$31,\"\")","v":""},{"$nulls":12},{"$f":"IF(M460=\"\",\"\",VLOOKUP(LEFT(M460,1),objektfilter,2))","v":""},{"$nulls":8},0,"","","objektnogle_"]
[450,null,{"$f":"IF('1 - Opstart Importark'!$B$6=\"\",\"\",(IF('1 - Opstart Importark'!$B$15=\"\",CONCATENATE(LEFT('1 - Opstart Importark'!$B$3,1),(LEFT('1 - Opstart Importark'!$B$24,2)),LEFT('1 - Opstart Importark'!$B$28,3),IF(I461=\"\",\"\",\"-\"),I461,IF(K461=\"\",\"\",\"-\"),K461,IF(M461=\"\",\"\",\"-\"),M461,IF(O461=\"\",\"\",\"-\"),O461),CONCATENATE(LEFT('1 - Opstart Importark'!$B$3,1),(LEFT('1 - Opstart Importark'!$B$15,2)),(LEFT('1 - Opstart Importark'!$B$18,3)),IF(I461=\"\",\"\",\"-\"),I461,IF(K461=\"\",\"\",\"-\"),K461,IF(M461=\"\",\"\",\"-\"),M461,IF(O461=\"\",\"\",\"-\"),O461))))","v":""},{"$nulls":13},{"$f":"IF(LEN('1 - Opstart Importark'!$B$6)>0,'1 - Opstart Importark'!$B$6,\"\")","v":""},{"$f":"IF(LEN('1 - Opstart Importark'!$B$9)>0,'1 - Opstart Importark'!$B$9,\"\")","v":""},{"$f":"IF(LEN('1 - Opstart Importark'!$B$31)>0,'1 - Opstart Importark'!$B$31,\"\")","v":""},{"$nulls":12},"",{"$nulls":8},{"$f":"IFERROR(FIND(\".\",F461),)","v":0},{"$f":"IF(M461=\"\",\"\",IF(LEFT(M461,1)=\"E\",0,1))","v":""},{"$f":"IF(M461=\"\",\"\",IF(LEFT(M461,1)=\"E\",0,1))","v":""},{"$f":"IF(W461=\"\", CONCATENATE(\"objektnogle_\",LEFT(AF461,1)),CONCATENATE(\"objektnogle_\",LEFT(W461,1)))","v":"objektnogle_"}]
[451,null,{"$f":"IF('1 - Opstart Importark'!$B$6=\"\",\"\",(IF('1 - Opstart Importark'!$B$15=\"\",CONCATENATE(LEFT('1 - Opstart Importark'!$B$3,1),(LEFT('1 - Opstart Importark'!$B$24,2)),LEFT('1 - Opstart Importark'!$B$28,3),IF(I462=\"\",\"\",\"-\"),I462,IF(K462=\"\",\"\",\"-\"),K462,IF(M462=\"\",\"\",\"-\"),M462,IF(O462=\"\",\"\",\"-\"),O462),CONCATENATE(LEFT('1 - Opstart Importark'!$B$3,1),(LEFT('1 - Opstart Importark'!$B$15,2)),(LEFT('1 - Opstart Importark'!$B$18,3)),IF(I462=\"\",\"\",\"-\"),I462,IF(K462=\"\",\"\",\"-\"),K462,IF(M462=\"\",\"\",\"-\"),M462,IF(O462=\"\",\"\",\"-\"),O462))))","v":""},{"$nulls":13},{"$f":"IF(LEN('1 - Opstart Importark'!$B$6)>0,'1 - Opstart Importark'!$B$6,\"\")","v":""},{"$f":"IF(LEN('1 - Opstart Importark'!$B$9)>0,'1 - Opstart Importark'!$B$9,\"\")","v":""},{"$f":"IF(LEN('1 - Opstart Importark'!$B$31)>0,'1 - Opstart Importark'!$B$31,\"\")","v":""},{"$nulls":12},"",{"$nulls":8},0,"","","objektnogle_"]
[452,null,{"$f":"IF('1 - Opstart Importark'!$B$6=\"\",\"\",(IF('1 - Opstart Importark'!$B$15=\"\",CONCATENATE(LEFT('1 - Opstart Importark'!$B$3,1),(LEFT('1 - Opstart Importark'!$B$24,2)),LEFT('1 - Opstart Importark'!$B$28,3),IF(I463=\"\",\"\",\"-\"),I463,IF(K463=\"\",\"\",\"-\"),K463,IF(M463=\"\",\"\",\"-\"),M463,IF(O463=\"\",\"\",\"-\"),O463),CONCATENATE(LEFT('1 - Opstart Importark'!$B$3,1),(LEFT('1 - Opstart Importark'!$B$15,2)),(LEFT('1 - Opstart Importark'!$B$18,3)),IF(I463=\"\",\"\",\"-\"),I463,IF(K463=\"\",\"\",\"-\"),K463,IF(M463=\"\",\"\",\"-\"),M463,IF(O463=\"\",\"\",\"-\"),O463))))","v":""},{"$nulls":13},{"$f":"IF(LEN('1 - Opstart Importark'!$B$6)>0,'1 - Opstart Importark'!$B$6,\"\")","v":""},{"$f":"IF(LEN('1 - Opstart Importark'!$B$9)>0,'1 - Opstart Importark'!$B$9,\"\")","v":""},{"$f":"IF(LEN('1 - Opstart Importark'!$B$31)>0,'1 - Opstart Importark'!$B$31,\"\")","v":""},{"$nulls":12},"",{"$nulls":8},0,"","","objektnogle_"]
[453,null,{"$f":"IF('1 - Opstart Importark'!$B$6=\"\",\"\",(IF('1 - Opstart Importark'!$B$15=\"\",CONCATENATE(LEFT('1 - Opstart Importark'!$B$3,1),(LEFT('1 - Opstart Importark'!$B$24,2)),LEFT('1 - Opstart Importark'!$B$28,3),IF(I464=\"\",\"\",\"-\"),I464,IF(K464=\"\",\"\",\"-\"),K464,IF(M464=\"\",\"\",\"-\"),M464,IF(O464=\"\",\"\",\"-\"),O464),CONCATENATE(LEFT('1 - Opstart Importark'!$B$3,1),(LEFT('1 - Opstart Importark'!$B$15,2)),(LEFT('1 - Opstart Importark'!$B$18,3)),IF(I464=\"\",\"\",\"-\"),I464,IF(K464=\"\",\"\",\"-\"),K464,IF(M464=\"\",\"\",\"-\"),M464,IF(O464=\"\",\"\",\"-\"),O464))))","v":""},{"$nulls":13},{"$f":"IF(LEN('1 - Opstart Importark'!$B$6)>0,'1 - Opstart Importark'!$B$6,\"\")","v":""},{"$f":"IF(LEN('1 - Opstart Importark'!$B$9)>0,'1 - Opstart Importark'!$B$9,\"\")","v":""},{"$f":"IF(LEN('1 - Opstart Importark'!$B$31)>0,'1 - Opstart Importark'!$B$31,\"\")","v":""},{"$nulls":12},"",{"$nulls":8},0,"","","objektnogle_"]
[454,null,{"$f":"IF('1 - Opstart Importark'!$B$6=\"\",\"\",(IF('1 - Opstart Importark'!$B$15=\"\",CONCATENATE(LEFT('1 - Opstart Importark'!$B$3,1),(LEFT('1 - Opstart Importark'!$B$24,2)),LEFT('1 - Opstart Importark'!$B$28,3),IF(I465=\"\",\"\",\"-\"),I465,IF(K465=\"\",\"\",\"-\"),K465,IF(M465=\"\",\"\",\"-\"),M465,IF(O465=\"\",\"\",\"-\"),O465),CONCATENATE(LEFT('1 - Opstart Importark'!$B$3,1),(LEFT('1 - Opstart Importark'!$B$15,2)),(LEFT('1 - Opstart Importark'!$B$18,3)),IF(I465=\"\",\"\",\"-\"),I465,IF(K465=\"\",\"\",\"-\"),K465,IF(M465=\"\",\"\",\"-\"),M465,IF(O465=\"\",\"\",\"-\"),O465))))","v":""},{"$nulls":13},{"$f":"IF(LEN('1 - Opstart Importark'!$B$6)>0,'1 - Opstart Importark'!$B$6,\"\")","v":""},{"$f":"IF(LEN('1 - Opstart Importark'!$B$9)>0,'1 - Opstart Importark'!$B$9,\"\")","v":""},{"$f":"IF(LEN('1 - Opstart Importark'!$B$31)>0,'1 - Opstart Importark'!$B$31,\"\")","v":""},{"$nulls":12},"",{"$nulls":8},0,"","","objektnogle_"]
[455,null,{"$f":"IF('1 - Opstart Importark'!$B$6=\"\",\"\",(IF('1 - Opstart Importark'!$B$15=\"\",CONCATENATE(LEFT('1 - Opstart Importark'!$B$3,1),(LEFT('1 - Opstart Importark'!$B$24,2)),LEFT('1 - Opstart Importark'!$B$28,3),IF(I466=\"\",\"\",\"-\"),I466,IF(K466=\"\",\"\",\"-\"),K466,IF(M466=\"\",\"\",\"-\"),M466,IF(O466=\"\",\"\",\"-\"),O466),CONCATENATE(LEFT('1 - Opstart Importark'!$B$3,1),(LEFT('1 - Opstart Importark'!$B$15,2)),(LEFT('1 - Opstart Importark'!$B$18,3)),IF(I466=\"\",\"\",\"-\"),I466,IF(K466=\"\",\"\",\"-\"),K466,IF(M466=\"\",\"\",\"-\"),M466,IF(O466=\"\",\"\",\"-\"),O466))))","v":""},{"$nulls":13},{"$f":"IF(LEN('1 - Opstart Importark'!$B$6)>0,'1 - Opstart Importark'!$B$6,\"\")","v":""},{"$f":"IF(LEN('1 - Opstart Importark'!$B$9)>0,'1 - Opstart Importark'!$B$9,\"\")","v":""},{"$f":"IF(LEN('1 - Opstart Importark'!$B$31)>0,'1 - Opstart Importark'!$B$31,\"\")","v":""},{"$nulls":12},"",{"$nulls":8},0,"","","objektnogle_"]
[456,null,{"$f":"IF('1 - Opstart Importark'!$B$6=\"\",\"\",(IF('1 - Opstart Importark'!$B$15=\"\",CONCATENATE(LEFT('1 - Opstart Importark'!$B$3,1),(LEFT('1 - Opstart Importark'!$B$24,2)),LEFT('1 - Opstart Importark'!$B$28,3),IF(I467=\"\",\"\",\"-\"),I467,IF(K467=\"\",\"\",\"-\"),K467,IF(M467=\"\",\"\",\"-\"),M467,IF(O467=\"\",\"\",\"-\"),O467),CONCATENATE(LEFT('1 - Opstart Importark'!$B$3,1),(LEFT('1 - Opstart Importark'!$B$15,2)),(LEFT('1 - Opstart Importark'!$B$18,3)),IF(I467=\"\",\"\",\"-\"),I467,IF(K467=\"\",\"\",\"-\"),K467,IF(M467=\"\",\"\",\"-\"),M467,IF(O467=\"\",\"\",\"-\"),O467))))","v":""},{"$nulls":13},{"$f":"IF(LEN('1 - Opstart Importark'!$B$6)>0,'1 - Opstart Importark'!$B$6,\"\")","v":""},{"$f":"IF(LEN('1 - Opstart Importark'!$B$9)>0,'1 - Opstart Importark'!$B$9,\"\")","v":""},{"$f":"IF(LEN('1 - Opstart Importark'!$B$31)>0,'1 - Opstart Importark'!$B$31,\"\")","v":""},{"$nulls":12},"",{"$nulls":8},0,"","","objektnogle_"]
[457,null,{"$f":"IF('1 - Opstart Importark'!$B$6=\"\",\"\",(IF('1 - Opstart Importark'!$B$15=\"\",CONCATENATE(LEFT('1 - Opstart Importark'!$B$3,1),(LEFT('1 - Opstart Importark'!$B$24,2)),LEFT('1 - Opstart Importark'!$B$28,3),IF(I468=\"\",\"\",\"-\"),I468,IF(K468=\"\",\"\",\"-\"),K468,IF(M468=\"\",\"\",\"-\"),M468,IF(O468=\"\",\"\",\"-\"),O468),CONCATENATE(LEFT('1 - Opstart Importark'!$B$3,1),(LEFT('1 - Opstart Importark'!$B$15,2)),(LEFT('1 - Opstart Importark'!$B$18,3)),IF(I468=\"\",\"\",\"-\"),I468,IF(K468=\"\",\"\",\"-\"),K468,IF(M468=\"\",\"\",\"-\"),M468,IF(O468=\"\",\"\",\"-\"),O468))))","v":""},{"$nulls":13},{"$f":"IF(LEN('1 - Opstart Importark'!$B$6)>0,'1 - Opstart Importark'!$B$6,\"\")","v":""},{"$f":"IF(LEN('1 - Opstart Importark'!$B$9)>0,'1 - Opstart Importark'!$B$9,\"\")","v":""},{"$f":"IF(LEN('1 - Opstart Importark'!$B$31)>0,'1 - Opstart Importark'!$B$31,\"\")","v":""},{"$nulls":12},"",{"$nulls":8},0,"","","objektnogle_"]
[458,null,{"$f":"IF('1 - Opstart Importark'!$B$6=\"\",\"\",(IF('1 - Opstart Importark'!$B$15=\"\",CONCATENATE(LEFT('1 - Opstart Importark'!$B$3,1),(LEFT('1 - Opstart Importark'!$B$24,2)),LEFT('1 - Opstart Importark'!$B$28,3),IF(I469=\"\",\"\",\"-\"),I469,IF(K469=\"\",\"\",\"-\"),K469,IF(M469=\"\",\"\",\"-\"),M469,IF(O469=\"\",\"\",\"-\"),O469),CONCATENATE(LEFT('1 - Opstart Importark'!$B$3,1),(LEFT('1 - Opstart Importark'!$B$15,2)),(LEFT('1 - Opstart Importark'!$B$18,3)),IF(I469=\"\",\"\",\"-\"),I469,IF(K469=\"\",\"\",\"-\"),K469,IF(M469=\"\",\"\",\"-\"),M469,IF(O469=\"\",\"\",\"-\"),O469))))","v":""},{"$nulls":13},{"$f":"IF(LEN('1 - Opstart Importark'!$B$6)>0,'1 - Opstart Importark'!$B$6,\"\")","v":""},{"$f":"IF(LEN('1 - Opstart Importark'!$B$9)>0,'1 - Opstart Importark'!$B$9,\"\")","v":""},{"$f":"IF(LEN('1 - Opstart Importark'!$B$31)>0,'1 - Opstart Importark'!$B$31,\"\")","v":""},{"$nulls":12},"",{"$nulls":8},0,"","","objektnogle_"]
[459,null,{"$f":"IF('1 - Opstart Importark'!$B$6=\"\",\"\",(IF('1 - Opstart Importark'!$B$15=\"\",CONCATENATE(LEFT('1 - Opstart Importark'!$B$3,1),(LEFT('1 - Opstart Importark'!$B$24,2)),LEFT('1 - Opstart Importark'!$B$28,3),IF(I470=\"\",\"\",\"-\"),I470,IF(K470=\"\",\"\",\"-\"),K470,IF(M470=\"\",\"\",\"-\"),M470,IF(O470=\"\",\"\",\"-\"),O470),CONCATENATE(LEFT('1 - Opstart Importark'!$B$3,1),(LEFT('1 - Opstart Importark'!$B$15,2)),(LEFT('1 - Opstart Importark'!$B$18,3)),IF(I470=\"\",\"\",\"-\"),I470,IF(K470=\"\",\"\",\"-\"),K470,IF(M470=\"\",\"\",\"-\"),M470,IF(O470=\"\",\"\",\"-\"),O470))))","v":""},{"$nulls":13},{"$f":"IF(LEN('1 - Opstart Importark'!$B$6)>0,'1 - Opstart Importark'!$B$6,\"\")","v":""},{"$f":"IF(LEN('1 - Opstart Importark'!$B$9)>0,'1 - Opstart Importark'!$B$9,\"\")","v":""},{"$f":"IF(LEN('1 - Opstart Importark'!$B$31)>0,'1 - Opstart Importark'!$B$31,\"\")","v":""},{"$nulls":12},"",{"$nulls":8},0,"","","objektnogle_"]
[460,null,{"$f":"IF('1 - Opstart Importark'!$B$6=\"\",\"\",(IF('1 - Opstart Importark'!$B$15=\"\",CONCATENATE(LEFT('1 - Opstart Importark'!$B$3,1),(LEFT('1 - Opstart Importark'!$B$24,2)),LEFT('1 - Opstart Importark'!$B$28,3),IF(I471=\"\",\"\",\"-\"),I471,IF(K471=\"\",\"\",\"-\"),K471,IF(M471=\"\",\"\",\"-\"),M471,IF(O471=\"\",\"\",\"-\"),O471),CONCATENATE(LEFT('1 - Opstart Importark'!$B$3,1),(LEFT('1 - Opstart Importark'!$B$15,2)),(LEFT('1 - Opstart Importark'!$B$18,3)),IF(I471=\"\",\"\",\"-\"),I471,IF(K471=\"\",\"\",\"-\"),K471,IF(M471=\"\",\"\",\"-\"),M471,IF(O471=\"\",\"\",\"-\"),O471))))","v":""},{"$nulls":13},{"$f":"IF(LEN('1 - Opstart Importark'!$B$6)>0,'1 - Opstart Importark'!$B$6,\"\")","v":""},{"$f":"IF(LEN('1 - Opstart Importark'!$B$9)>0,'1 - Opstart Importark'!$B$9,\"\")","v":""},{"$f":"IF(LEN('1 - Opstart Importark'!$B$31)>0,'1 - Opstart Importark'!$B$31,\"\")","v":""},{"$nulls":12},"",{"$nulls":8},0,"","","objektnogle_"]
[461,null,{"$f":"IF('1 - Opstart Importark'!$B$6=\"\",\"\",(IF('1 - Opstart Importark'!$B$15=\"\",CONCATENATE(LEFT('1 - Opstart Importark'!$B$3,1),(LEFT('1 - Opstart Importark'!$B$24,2)),LEFT('1 - Opstart Importark'!$B$28,3),IF(I472=\"\",\"\",\"-\"),I472,IF(K472=\"\",\"\",\"-\"),K472,IF(M472=\"\",\"\",\"-\"),M472,IF(O472=\"\",\"\",\"-\"),O472),CONCATENATE(LEFT('1 - Opstart Importark'!$B$3,1),(LEFT('1 - Opstart Importark'!$B$15,2)),(LEFT('1 - Opstart Importark'!$B$18,3)),IF(I472=\"\",\"\",\"-\"),I472,IF(K472=\"\",\"\",\"-\"),K472,IF(M472=\"\",\"\",\"-\"),M472,IF(O472=\"\",\"\",\"-\"),O472))))","v":""},{"$nulls":13},{"$f":"IF(LEN('1 - Opstart Importark'!$B$6)>0,'1 - Opstart Importark'!$B$6,\"\")","v":""},{"$f":"IF(LEN('1 - Opstart Importark'!$B$9)>0,'1 - Opstart Importark'!$B$9,\"\")","v":""},{"$f":"IF(LEN('1 - Opstart Importark'!$B$31)>0,'1 - Opstart Importark'!$B$31,\"\")","v":""},{"$nulls":12},"",{"$nulls":8},0,"","","objektnogle_"]
[462,null,{"$f":"IF('1 - Opstart Importark'!$B$6=\"\",\"\",(IF('1 - Opstart Importark'!$B$15=\"\",CONCATENATE(LEFT('1 - Opstart Importark'!$B$3,1),(LEFT('1 - Opstart Importark'!$B$24,2)),LEFT('1 - Opstart Importark'!$B$28,3),IF(I473=\"\",\"\",\"-\"),I473,IF(K473=\"\",\"\",\"-\"),K473,IF(M473=\"\",\"\",\"-\"),M473,IF(O473=\"\",\"\",\"-\"),O473),CONCATENATE(LEFT('1 - Opstart Importark'!$B$3,1),(LEFT('1 - Opstart Importark'!$B$15,2)),(LEFT('1 - Opstart Importark'!$B$18,3)),IF(I473=\"\",\"\",\"-\"),I473,IF(K473=\"\",\"\",\"-\"),K473,IF(M473=\"\",\"\",\"-\"),M473,IF(O473=\"\",\"\",\"-\"),O473))))","v":""},{"$nulls":13},{"$f":"IF(LEN('1 - Opstart Importark'!$B$6)>0,'1 - Opstart Importark'!$B$6,\"\")","v":""},{"$f":"IF(LEN('1 - Opstart Importark'!$B$9)>0,'1 - Opstart Importark'!$B$9,\"\")","v":""},{"$f":"IF(LEN('1 - Opstart Importark'!$B$31)>0,'1 - Opstart Importark'!$B$31,\"\")","v":""},{"$nulls":12},"",{"$nulls":8},0,"","","objektnogle_"]
[463,null,{"$f":"IF('1 - Opstart Importark'!$B$6=\"\",\"\",(IF('1 - Opstart Importark'!$B$15=\"\",CONCATENATE(LEFT('1 - Opstart Importark'!$B$3,1),(LEFT('1 - Opstart Importark'!$B$24,2)),LEFT('1 - Opstart Importark'!$B$28,3),IF(I474=\"\",\"\",\"-\"),I474,IF(K474=\"\",\"\",\"-\"),K474,IF(M474=\"\",\"\",\"-\"),M474,IF(O474=\"\",\"\",\"-\"),O474),CONCATENATE(LEFT('1 - Opstart Importark'!$B$3,1),(LEFT('1 - Opstart Importark'!$B$15,2)),(LEFT('1 - Opstart Importark'!$B$18,3)),IF(I474=\"\",\"\",\"-\"),I474,IF(K474=\"\",\"\",\"-\"),K474,IF(M474=\"\",\"\",\"-\"),M474,IF(O474=\"\",\"\",\"-\"),O474))))","v":""},{"$nulls":13},{"$f":"IF(LEN('1 - Opstart Importark'!$B$6)>0,'1 - Opstart Importark'!$B$6,\"\")","v":""},{"$f":"IF(LEN('1 - Opstart Importark'!$B$9)>0,'1 - Opstart Importark'!$B$9,\"\")","v":""},{"$f":"IF(LEN('1 - Opstart Importark'!$B$31)>0,'1 - Opstart Importark'!$B$31,\"\")","v":""},{"$nulls":12},"",{"$nulls":8},0,"","","objektnogle_"]
[464,null,{"$f":"IF('1 - Opstart Importark'!$B$6=\"\",\"\",(IF('1 - Opstart Importark'!$B$15=\"\",CONCATENATE(LEFT('1 - Opstart Importark'!$B$3,1),(LEFT('1 - Opstart Importark'!$B$24,2)),LEFT('1 - Opstart Importark'!$B$28,3),IF(I475=\"\",\"\",\"-\"),I475,IF(K475=\"\",\"\",\"-\"),K475,IF(M475=\"\",\"\",\"-\"),M475,IF(O475=\"\",\"\",\"-\"),O475),CONCATENATE(LEFT('1 - Opstart Importark'!$B$3,1),(LEFT('1 - Opstart Importark'!$B$15,2)),(LEFT('1 - Opstart Importark'!$B$18,3)),IF(I475=\"\",\"\",\"-\"),I475,IF(K475=\"\",\"\",\"-\"),K475,IF(M475=\"\",\"\",\"-\"),M475,IF(O475=\"\",\"\",\"-\"),O475))))","v":""},{"$nulls":13},{"$f":"IF(LEN('1 - Opstart Importark'!$B$6)>0,'1 - Opstart Importark'!$B$6,\"\")","v":""},{"$f":"IF(LEN('1 - Opstart Importark'!$B$9)>0,'1 - Opstart Importark'!$B$9,\"\")","v":""},{"$f":"IF(LEN('1 - Opstart Importark'!$B$31)>0,'1 - Opstart Importark'!$B$31,\"\")","v":""},{"$nulls":12},"",{"$nulls":8},0,"","","objektnogle_"]
[465,null,{"$f":"IF('1 - Opstart Importark'!$B$6=\"\",\"\",(IF('1 - Opstart Importark'!$B$15=\"\",CONCATENATE(LEFT('1 - Opstart Importark'!$B$3,1),(LEFT('1 - Opstart Importark'!$B$24,2)),LEFT('1 - Opstart Importark'!$B$28,3),IF(I476=\"\",\"\",\"-\"),I476,IF(K476=\"\",\"\",\"-\"),K476,IF(M476=\"\",\"\",\"-\"),M476,IF(O476=\"\",\"\",\"-\"),O476),CONCATENATE(LEFT('1 - Opstart Importark'!$B$3,1),(LEFT('1 - Opstart Importark'!$B$15,2)),(LEFT('1 - Opstart Importark'!$B$18,3)),IF(I476=\"\",\"\",\"-\"),I476,IF(K476=\"\",\"\",\"-\"),K476,IF(M476=\"\",\"\",\"-\"),M476,IF(O476=\"\",\"\",\"-\"),O476))))","v":""},{"$nulls":13},{"$f":"IF(LEN('1 - Opstart Importark'!$B$6)>0,'1 - Opstart Importark'!$B$6,\"\")","v":""},{"$f":"IF(LEN('1 - Opstart Importark'!$B$9)>0,'1 - Opstart Importark'!$B$9,\"\")","v":""},{"$f":"IF(LEN('1 - Opstart Importark'!$B$31)>0,'1 - Opstart Importark'!$B$31,\"\")","v":""},{"$nulls":12},"",{"$nulls":8},0,"","","objektnogle_"]
[466,null,{"$f":"IF('1 - Opstart Importark'!$B$6=\"\",\"\",(IF('1 - Opstart Importark'!$B$15=\"\",CONCATENATE(LEFT('1 - Opstart Importark'!$B$3,1),(LEFT('1 - Opstart Importark'!$B$24,2)),LEFT('1 - Opstart Importark'!$B$28,3),IF(I477=\"\",\"\",\"-\"),I477,IF(K477=\"\",\"\",\"-\"),K477,IF(M477=\"\",\"\",\"-\"),M477,IF(O477=\"\",\"\",\"-\"),O477),CONCATENATE(LEFT('1 - Opstart Importark'!$B$3,1),(LEFT('1 - Opstart Importark'!$B$15,2)),(LEFT('1 - Opstart Importark'!$B$18,3)),IF(I477=\"\",\"\",\"-\"),I477,IF(K477=\"\",\"\",\"-\"),K477,IF(M477=\"\",\"\",\"-\"),M477,IF(O477=\"\",\"\",\"-\"),O477))))","v":""},{"$nulls":13},{"$f":"IF(LEN('1 - Opstart Importark'!$B$6)>0,'1 - Opstart Importark'!$B$6,\"\")","v":""},{"$f":"IF(LEN('1 - Opstart Importark'!$B$9)>0,'1 - Opstart Importark'!$B$9,\"\")","v":""},{"$f":"IF(LEN('1 - Opstart Importark'!$B$31)>0,'1 - Opstart Importark'!$B$31,\"\")","v":""},{"$nulls":12},"",{"$nulls":8},0,"","","objektnogle_"]
[467,null,{"$f":"IF('1 - Opstart Importark'!$B$6=\"\",\"\",(IF('1 - Opstart Importark'!$B$15=\"\",CONCATENATE(LEFT('1 - Opstart Importark'!$B$3,1),(LEFT('1 - Opstart Importark'!$B$24,2)),LEFT('1 - Opstart Importark'!$B$28,3),IF(I478=\"\",\"\",\"-\"),I478,IF(K478=\"\",\"\",\"-\"),K478,IF(M478=\"\",\"\",\"-\"),M478,IF(O478=\"\",\"\",\"-\"),O478),CONCATENATE(LEFT('1 - Opstart Importark'!$B$3,1),(LEFT('1 - Opstart Importark'!$B$15,2)),(LEFT('1 - Opstart Importark'!$B$18,3)),IF(I478=\"\",\"\",\"-\"),I478,IF(K478=\"\",\"\",\"-\"),K478,IF(M478=\"\",\"\",\"-\"),M478,IF(O478=\"\",\"\",\"-\"),O478))))","v":""},{"$nulls":13},{"$f":"IF(LEN('1 - Opstart Importark'!$B$6)>0,'1 - Opstart Importark'!$B$6,\"\")","v":""},{"$f":"IF(LEN('1 - Opstart Importark'!$B$9)>0,'1 - Opstart Importark'!$B$9,\"\")","v":""},{"$f":"IF(LEN('1 - Opstart Importark'!$B$31)>0,'1 - Opstart Importark'!$B$31,\"\")","v":""},{"$nulls":12},"",{"$nulls":8},0,"","","objektnogle_"]
[468,null,{"$f":"IF('1 - Opstart Importark'!$B$6=\"\",\"\",(IF('1 - Opstart Importark'!$B$15=\"\",CONCATENATE(LEFT('1 - Opstart Importark'!$B$3,1),(LEFT('1 - Opstart Importark'!$B$24,2)),LEFT('1 - Opstart Importark'!$B$28,3),IF(I479=\"\",\"\",\"-\"),I479,IF(K479=\"\",\"\",\"-\"),K479,IF(M479=\"\",\"\",\"-\"),M479,IF(O479=\"\",\"\",\"-\"),O479),CONCATENATE(LEFT('1 - Opstart Importark'!$B$3,1),(LEFT('1 - Opstart Importark'!$B$15,2)),(LEFT('1 - Opstart Importark'!$B$18,3)),IF(I479=\"\",\"\",\"-\"),I479,IF(K479=\"\",\"\",\"-\"),K479,IF(M479=\"\",\"\",\"-\"),M479,IF(O479=\"\",\"\",\"-\"),O479))))","v":""},{"$nulls":13},{"$f":"IF(LEN('1 - Opstart Importark'!$B$6)>0,'1 - Opstart Importark'!$B$6,\"\")","v":""},{"$f":"IF(LEN('1 - Opstart Importark'!$B$9)>0,'1 - Opstart Importark'!$B$9,\"\")","v":""},{"$f":"IF(LEN('1 - Opstart Importark'!$B$31)>0,'1 - Opstart Importark'!$B$31,\"\")","v":""},{"$nulls":12},"",{"$nulls":8},0,"","","objektnogle_"]
[469,null,{"$f":"IF('1 - Opstart Importark'!$B$6=\"\",\"\",(IF('1 - Opstart Importark'!$B$15=\"\",CONCATENATE(LEFT('1 - Opstart Importark'!$B$3,1),(LEFT('1 - Opstart Importark'!$B$24,2)),LEFT('1 - Opstart Importark'!$B$28,3),IF(I480=\"\",\"\",\"-\"),I480,IF(K480=\"\",\"\",\"-\"),K480,IF(M480=\"\",\"\",\"-\"),M480,IF(O480=\"\",\"\",\"-\"),O480),CONCATENATE(LEFT('1 - Opstart Importark'!$B$3,1),(LEFT('1 - Opstart Importark'!$B$15,2)),(LEFT('1 - Opstart Importark'!$B$18,3)),IF(I480=\"\",\"\",\"-\"),I480,IF(K480=\"\",\"\",\"-\"),K480,IF(M480=\"\",\"\",\"-\"),M480,IF(O480=\"\",\"\",\"-\"),O480))))","v":""},{"$nulls":13},{"$f":"IF(LEN('1 - Opstart Importark'!$B$6)>0,'1 - Opstart Importark'!$B$6,\"\")","v":""},{"$f":"IF(LEN('1 - Opstart Importark'!$B$9)>0,'1 - Opstart Importark'!$B$9,\"\")","v":""},{"$f":"IF(LEN('1 - Opstart Importark'!$B$31)>0,'1 - Opstart Importark'!$B$31,\"\")","v":""},{"$nulls":12},"",{"$nulls":8},0,"","","objektnogle_"]
[470,null,{"$f":"IF('1 - Opstart Importark'!$B$6=\"\",\"\",(IF('1 - Opstart Importark'!$B$15=\"\",CONCATENATE(LEFT('1 - Opstart Importark'!$B$3,1),(LEFT('1 - Opstart Importark'!$B$24,2)),LEFT('1 - Opstart Importark'!$B$28,3),IF(I481=\"\",\"\",\"-\"),I481,IF(K481=\"\",\"\",\"-\"),K481,IF(M481=\"\",\"\",\"-\"),M481,IF(O481=\"\",\"\",\"-\"),O481),CONCATENATE(LEFT('1 - Opstart Importark'!$B$3,1),(LEFT('1 - Opstart Importark'!$B$15,2)),(LEFT('1 - Opstart Importark'!$B$18,3)),IF(I481=\"\",\"\",\"-\"),I481,IF(K481=\"\",\"\",\"-\"),K481,IF(M481=\"\",\"\",\"-\"),M481,IF(O481=\"\",\"\",\"-\"),O481))))","v":""},{"$nulls":13},{"$f":"IF(LEN('1 - Opstart Importark'!$B$6)>0,'1 - Opstart Importark'!$B$6,\"\")","v":""},{"$f":"IF(LEN('1 - Opstart Importark'!$B$9)>0,'1 - Opstart Importark'!$B$9,\"\")","v":""},{"$f":"IF(LEN('1 - Opstart Importark'!$B$31)>0,'1 - Opstart Importark'!$B$31,\"\")","v":""},{"$nulls":12},"",{"$nulls":8},0,"","","objektnogle_"]
[471,null,{"$f":"IF('1 - Opstart Importark'!$B$6=\"\",\"\",(IF('1 - Opstart Importark'!$B$15=\"\",CONCATENATE(LEFT('1 - Opstart Importark'!$B$3,1),(LEFT('1 - Opstart Importark'!$B$24,2)),LEFT('1 - Opstart Importark'!$B$28,3),IF(I482=\"\",\"\",\"-\"),I482,IF(K482=\"\",\"\",\"-\"),K482,IF(M482=\"\",\"\",\"-\"),M482,IF(O482=\"\",\"\",\"-\"),O482),CONCATENATE(LEFT('1 - Opstart Importark'!$B$3,1),(LEFT('1 - Opstart Importark'!$B$15,2)),(LEFT('1 - Opstart Importark'!$B$18,3)),IF(I482=\"\",\"\",\"-\"),I482,IF(K482=\"\",\"\",\"-\"),K482,IF(M482=\"\",\"\",\"-\"),M482,IF(O482=\"\",\"\",\"-\"),O482))))","v":""},{"$nulls":13},{"$f":"IF(LEN('1 - Opstart Importark'!$B$6)>0,'1 - Opstart Importark'!$B$6,\"\")","v":""},{"$f":"IF(LEN('1 - Opstart Importark'!$B$9)>0,'1 - Opstart Importark'!$B$9,\"\")","v":""},{"$f":"IF(LEN('1 - Opstart Importark'!$B$31)>0,'1 - Opstart Importark'!$B$31,\"\")","v":""},{"$nulls":12},"",{"$nulls":8},0,"","","objektnogle_"]
[472,null,{"$f":"IF('1 - Opstart Importark'!$B$6=\"\",\"\",(IF('1 - Opstart Importark'!$B$15=\"\",CONCATENATE(LEFT('1 - Opstart Importark'!$B$3,1),(LEFT('1 - Opstart Importark'!$B$24,2)),LEFT('1 - Opstart Importark'!$B$28,3),IF(I483=\"\",\"\",\"-\"),I483,IF(K483=\"\",\"\",\"-\"),K483,IF(M483=\"\",\"\",\"-\"),M483,IF(O483=\"\",\"\",\"-\"),O483),CONCATENATE(LEFT('1 - Opstart Importark'!$B$3,1),(LEFT('1 - Opstart Importark'!$B$15,2)),(LEFT('1 - Opstart Importark'!$B$18,3)),IF(I483=\"\",\"\",\"-\"),I483,IF(K483=\"\",\"\",\"-\"),K483,IF(M483=\"\",\"\",\"-\"),M483,IF(O483=\"\",\"\",\"-\"),O483))))","v":""},{"$nulls":13},{"$f":"IF(LEN('1 - Opstart Importark'!$B$6)>0,'1 - Opstart Importark'!$B$6,\"\")","v":""},{"$f":"IF(LEN('1 - Opstart Importark'!$B$9)>0,'1 - Opstart Importark'!$B$9,\"\")","v":""},{"$f":"IF(LEN('1 - Opstart Importark'!$B$31)>0,'1 - Opstart Importark'!$B$31,\"\")","v":""},{"$nulls":12},"",{"$nulls":8},0,"","","objektnogle_"]
[473,null,{"$f":"IF('1 - Opstart Importark'!$B$6=\"\",\"\",(IF('1 - Opstart Importark'!$B$15=\"\",CONCATENATE(LEFT('1 - Opstart Importark'!$B$3,1),(LEFT('1 - Opstart Importark'!$B$24,2)),LEFT('1 - Opstart Importark'!$B$28,3),IF(I484=\"\",\"\",\"-\"),I484,IF(K484=\"\",\"\",\"-\"),K484,IF(M484=\"\",\"\",\"-\"),M484,IF(O484=\"\",\"\",\"-\"),O484),CONCATENATE(LEFT('1 - Opstart Importark'!$B$3,1),(LEFT('1 - Opstart Importark'!$B$15,2)),(LEFT('1 - Opstart Importark'!$B$18,3)),IF(I484=\"\",\"\",\"-\"),I484,IF(K484=\"\",\"\",\"-\"),K484,IF(M484=\"\",\"\",\"-\"),M484,IF(O484=\"\",\"\",\"-\"),O484))))","v":""},{"$nulls":13},{"$f":"IF(LEN('1 - Opstart Importark'!$B$6)>0,'1 - Opstart Importark'!$B$6,\"\")","v":""},{"$f":"IF(LEN('1 - Opstart Importark'!$B$9)>0,'1 - Opstart Importark'!$B$9,\"\")","v":""},{"$f":"IF(LEN('1 - Opstart Importark'!$B$31)>0,'1 - Opstart Importark'!$B$31,\"\")","v":""},{"$nulls":12},"",{"$nulls":8},0,"","","objektnogle_"]
[474,null,{"$f":"IF('1 - Opstart Importark'!$B$6=\"\",\"\",(IF('1 - Opstart Importark'!$B$15=\"\",CONCATENATE(LEFT('1 - Opstart Importark'!$B$3,1),(LEFT('1 - Opstart Importark'!$B$24,2)),LEFT('1 - Opstart Importark'!$B$28,3),IF(I485=\"\",\"\",\"-\"),I485,IF(K485=\"\",\"\",\"-\"),K485,IF(M485=\"\",\"\",\"-\"),M485,IF(O485=\"\",\"\",\"-\"),O485),CONCATENATE(LEFT('1 - Opstart Importark'!$B$3,1),(LEFT('1 - Opstart Importark'!$B$15,2)),(LEFT('1 - Opstart Importark'!$B$18,3)),IF(I485=\"\",\"\",\"-\"),I485,IF(K485=\"\",\"\",\"-\"),K485,IF(M485=\"\",\"\",\"-\"),M485,IF(O485=\"\",\"\",\"-\"),O485))))","v":""},{"$nulls":13},{"$f":"IF(LEN('1 - Opstart Importark'!$B$6)>0,'1 - Opstart Importark'!$B$6,\"\")","v":""},{"$f":"IF(LEN('1 - Opstart Importark'!$B$9)>0,'1 - Opstart Importark'!$B$9,\"\")","v":""},{"$f":"IF(LEN('1 - Opstart Importark'!$B$31)>0,'1 - Opstart Importark'!$B$31,\"\")","v":""},{"$nulls":12},"",{"$nulls":8},0,"","","objektnogle_"]
[475,null,{"$f":"IF('1 - Opstart Importark'!$B$6=\"\",\"\",(IF('1 - Opstart Importark'!$B$15=\"\",CONCATENATE(LEFT('1 - Opstart Importark'!$B$3,1),(LEFT('1 - Opstart Importark'!$B$24,2)),LEFT('1 - Opstart Importark'!$B$28,3),IF(I486=\"\",\"\",\"-\"),I486,IF(K486=\"\",\"\",\"-\"),K486,IF(M486=\"\",\"\",\"-\"),M486,IF(O486=\"\",\"\",\"-\"),O486),CONCATENATE(LEFT('1 - Opstart Importark'!$B$3,1),(LEFT('1 - Opstart Importark'!$B$15,2)),(LEFT('1 - Opstart Importark'!$B$18,3)),IF(I486=\"\",\"\",\"-\"),I486,IF(K486=\"\",\"\",\"-\"),K486,IF(M486=\"\",\"\",\"-\"),M486,IF(O486=\"\",\"\",\"-\"),O486))))","v":""},{"$nulls":13},{"$f":"IF(LEN('1 - Opstart Importark'!$B$6)>0,'1 - Opstart Importark'!$B$6,\"\")","v":""},{"$f":"IF(LEN('1 - Opstart Importark'!$B$9)>0,'1 - Opstart Importark'!$B$9,\"\")","v":""},{"$f":"IF(LEN('1 - Opstart Importark'!$B$31)>0,'1 - Opstart Importark'!$B$31,\"\")","v":""},{"$nulls":12},"",{"$nulls":8},0,"","","objektnogle_"]
[476,null,{"$f":"IF('1 - Opstart Importark'!$B$6=\"\",\"\",(IF('1 - Opstart Importark'!$B$15=\"\",CONCATENATE(LEFT('1 - Opstart Importark'!$B$3,1),(LEFT('1 - Opstart Importark'!$B$24,2)),LEFT('1 - Opstart Importark'!$B$28,3),IF(I487=\"\",\"\",\"-\"),I487,IF(K487=\"\",\"\",\"-\"),K487,IF(M487=\"\",\"\",\"-\"),M487,IF(O487=\"\",\"\",\"-\"),O487),CONCATENATE(LEFT('1 - Opstart Importark'!$B$3,1),(LEFT('1 - Opstart Importark'!$B$15,2)),(LEFT('1 - Opstart Importark'!$B$18,3)),IF(I487=\"\",\"\",\"-\"),I487,IF(K487=\"\",\"\",\"-\"),K487,IF(M487=\"\",\"\",\"-\"),M487,IF(O487=\"\",\"\",\"-\"),O487))))","v":""},{"$nulls":13},{"$f":"IF(LEN('1 - Opstart Importark'!$B$6)>0,'1 - Opstart Importark'!$B$6,\"\")","v":""},{"$f":"IF(LEN('1 - Opstart Importark'!$B$9)>0,'1 - Opstart Importark'!$B$9,\"\")","v":""},{"$f":"IF(LEN('1 - Opstart Importark'!$B$31)>0,'1 - Opstart Importark'!$B$31,\"\")","v":""},{"$nulls":12},"",{"$nulls":8},0,"","","objektnogle_"]
[477,null,{"$f":"IF('1 - Opstart Importark'!$B$6=\"\",\"\",(IF('1 - Opstart Importark'!$B$15=\"\",CONCATENATE(LEFT('1 - Opstart Importark'!$B$3,1),(LEFT('1 - Opstart Importark'!$B$24,2)),LEFT('1 - Opstart Importark'!$B$28,3),IF(I488=\"\",\"\",\"-\"),I488,IF(K488=\"\",\"\",\"-\"),K488,IF(M488=\"\",\"\",\"-\"),M488,IF(O488=\"\",\"\",\"-\"),O488),CONCATENATE(LEFT('1 - Opstart Importark'!$B$3,1),(LEFT('1 - Opstart Importark'!$B$15,2)),(LEFT('1 - Opstart Importark'!$B$18,3)),IF(I488=\"\",\"\",\"-\"),I488,IF(K488=\"\",\"\",\"-\"),K488,IF(M488=\"\",\"\",\"-\"),M488,IF(O488=\"\",\"\",\"-\"),O488))))","v":""},{"$nulls":13},{"$f":"IF(LEN('1 - Opstart Importark'!$B$6)>0,'1 - Opstart Importark'!$B$6,\"\")","v":""},{"$f":"IF(LEN('1 - Opstart Importark'!$B$9)>0,'1 - Opstart Importark'!$B$9,\"\")","v":""},{"$f":"IF(LEN('1 - Opstart Importark'!$B$31)>0,'1 - Opstart Importark'!$B$31,\"\")","v":""},{"$nulls":12},"",{"$nulls":8},0,"","","objektnogle_"]
[478,null,{"$f":"IF('1 - Opstart Importark'!$B$6=\"\",\"\",(IF('1 - Opstart Importark'!$B$15=\"\",CONCATENATE(LEFT('1 - Opstart Importark'!$B$3,1),(LEFT('1 - Opstart Importark'!$B$24,2)),LEFT('1 - Opstart Importark'!$B$28,3),IF(I489=\"\",\"\",\"-\"),I489,IF(K489=\"\",\"\",\"-\"),K489,IF(M489=\"\",\"\",\"-\"),M489,IF(O489=\"\",\"\",\"-\"),O489),CONCATENATE(LEFT('1 - Opstart Importark'!$B$3,1),(LEFT('1 - Opstart Importark'!$B$15,2)),(LEFT('1 - Opstart Importark'!$B$18,3)),IF(I489=\"\",\"\",\"-\"),I489,IF(K489=\"\",\"\",\"-\"),K489,IF(M489=\"\",\"\",\"-\"),M489,IF(O489=\"\",\"\",\"-\"),O489))))","v":""},{"$nulls":13},{"$f":"IF(LEN('1 - Opstart Importark'!$B$6)>0,'1 - Opstart Importark'!$B$6,\"\")","v":""},{"$f":"IF(LEN('1 - Opstart Importark'!$B$9)>0,'1 - Opstart Importark'!$B$9,\"\")","v":""},{"$f":"IF(LEN('1 - Opstart Importark'!$B$31)>0,'1 - Opstart Importark'!$B$31,\"\")","v":""},{"$nulls":12},"",{"$nulls":8},0,"","","objektnogle_"]
[479,null,{"$f":"IF('1 - Opstart Importark'!$B$6=\"\",\"\",(IF('1 - Opstart Importark'!$B$15=\"\",CONCATENATE(LEFT('1 - Opstart Importark'!$B$3,1),(LEFT('1 - Opstart Importark'!$B$24,2)),LEFT('1 - Opstart Importark'!$B$28,3),IF(I490=\"\",\"\",\"-\"),I490,IF(K490=\"\",\"\",\"-\"),K490,IF(M490=\"\",\"\",\"-\"),M490,IF(O490=\"\",\"\",\"-\"),O490),CONCATENATE(LEFT('1 - Opstart Importark'!$B$3,1),(LEFT('1 - Opstart Importark'!$B$15,2)),(LEFT('1 - Opstart Importark'!$B$18,3)),IF(I490=\"\",\"\",\"-\"),I490,IF(K490=\"\",\"\",\"-\"),K490,IF(M490=\"\",\"\",\"-\"),M490,IF(O490=\"\",\"\",\"-\"),O490))))","v":""},{"$nulls":13},{"$f":"IF(LEN('1 - Opstart Importark'!$B$6)>0,'1 - Opstart Importark'!$B$6,\"\")","v":""},{"$f":"IF(LEN('1 - Opstart Importark'!$B$9)>0,'1 - Opstart Importark'!$B$9,\"\")","v":""},{"$f":"IF(LEN('1 - Opstart Importark'!$B$31)>0,'1 - Opstart Importark'!$B$31,\"\")","v":""},{"$nulls":12},"",{"$nulls":8},0,"","","objektnogle_"]
[480,null,{"$f":"IF('1 - Opstart Importark'!$B$6=\"\",\"\",(IF('1 - Opstart Importark'!$B$15=\"\",CONCATENATE(LEFT('1 - Opstart Importark'!$B$3,1),(LEFT('1 - Opstart Importark'!$B$24,2)),LEFT('1 - Opstart Importark'!$B$28,3),IF(I491=\"\",\"\",\"-\"),I491,IF(K491=\"\",\"\",\"-\"),K491,IF(M491=\"\",\"\",\"-\"),M491,IF(O491=\"\",\"\",\"-\"),O491),CONCATENATE(LEFT('1 - Opstart Importark'!$B$3,1),(LEFT('1 - Opstart Importark'!$B$15,2)),(LEFT('1 - Opstart Importark'!$B$18,3)),IF(I491=\"\",\"\",\"-\"),I491,IF(K491=\"\",\"\",\"-\"),K491,IF(M491=\"\",\"\",\"-\"),M491,IF(O491=\"\",\"\",\"-\"),O491))))","v":""},{"$nulls":13},{"$f":"IF(LEN('1 - Opstart Importark'!$B$6)>0,'1 - Opstart Importark'!$B$6,\"\")","v":""},{"$f":"IF(LEN('1 - Opstart Importark'!$B$9)>0,'1 - Opstart Importark'!$B$9,\"\")","v":""},{"$f":"IF(LEN('1 - Opstart Importark'!$B$31)>0,'1 - Opstart Importark'!$B$31,\"\")","v":""},{"$nulls":12},"",{"$nulls":8},0,"","","objektnogle_"]
[481,null,{"$f":"IF('1 - Opstart Importark'!$B$6=\"\",\"\",(IF('1 - Opstart Importark'!$B$15=\"\",CONCATENATE(LEFT('1 - Opstart Importark'!$B$3,1),(LEFT('1 - Opstart Importark'!$B$24,2)),LEFT('1 - Opstart Importark'!$B$28,3),IF(I492=\"\",\"\",\"-\"),I492,IF(K492=\"\",\"\",\"-\"),K492,IF(M492=\"\",\"\",\"-\"),M492,IF(O492=\"\",\"\",\"-\"),O492),CONCATENATE(LEFT('1 - Opstart Importark'!$B$3,1),(LEFT('1 - Opstart Importark'!$B$15,2)),(LEFT('1 - Opstart Importark'!$B$18,3)),IF(I492=\"\",\"\",\"-\"),I492,IF(K492=\"\",\"\",\"-\"),K492,IF(M492=\"\",\"\",\"-\"),M492,IF(O492=\"\",\"\",\"-\"),O492))))","v":""},{"$nulls":13},{"$f":"IF(LEN('1 - Opstart Importark'!$B$6)>0,'1 - Opstart Importark'!$B$6,\"\")","v":""},{"$f":"IF(LEN('1 - Opstart Importark'!$B$9)>0,'1 - Opstart Importark'!$B$9,\"\")","v":""},{"$f":"IF(LEN('1 - Opstart Importark'!$B$31)>0,'1 - Opstart Importark'!$B$31,\"\")","v":""},{"$nulls":12},"",{"$nulls":8},0,"","","objektnogle_"]
[482,null,{"$f":"IF('1 - Opstart Importark'!$B$6=\"\",\"\",(IF('1 - Opstart Importark'!$B$15=\"\",CONCATENATE(LEFT('1 - Opstart Importark'!$B$3,1),(LEFT('1 - Opstart Importark'!$B$24,2)),LEFT('1 - Opstart Importark'!$B$28,3),IF(I493=\"\",\"\",\"-\"),I493,IF(K493=\"\",\"\",\"-\"),K493,IF(M493=\"\",\"\",\"-\"),M493,IF(O493=\"\",\"\",\"-\"),O493),CONCATENATE(LEFT('1 - Opstart Importark'!$B$3,1),(LEFT('1 - Opstart Importark'!$B$15,2)),(LEFT('1 - Opstart Importark'!$B$18,3)),IF(I493=\"\",\"\",\"-\"),I493,IF(K493=\"\",\"\",\"-\"),K493,IF(M493=\"\",\"\",\"-\"),M493,IF(O493=\"\",\"\",\"-\"),O493))))","v":""},{"$nulls":13},{"$f":"IF(LEN('1 - Opstart Importark'!$B$6)>0,'1 - Opstart Importark'!$B$6,\"\")","v":""},{"$f":"IF(LEN('1 - Opstart Importark'!$B$9)>0,'1 - Opstart Importark'!$B$9,\"\")","v":""},{"$f":"IF(LEN('1 - Opstart Importark'!$B$31)>0,'1 - Opstart Importark'!$B$31,\"\")","v":""},{"$nulls":12},"",{"$nulls":8},0,"","","objektnogle_"]
[483,null,{"$f":"IF('1 - Opstart Importark'!$B$6=\"\",\"\",(IF('1 - Opstart Importark'!$B$15=\"\",CONCATENATE(LEFT('1 - Opstart Importark'!$B$3,1),(LEFT('1 - Opstart Importark'!$B$24,2)),LEFT('1 - Opstart Importark'!$B$28,3),IF(I494=\"\",\"\",\"-\"),I494,IF(K494=\"\",\"\",\"-\"),K494,IF(M494=\"\",\"\",\"-\"),M494,IF(O494=\"\",\"\",\"-\"),O494),CONCATENATE(LEFT('1 - Opstart Importark'!$B$3,1),(LEFT('1 - Opstart Importark'!$B$15,2)),(LEFT('1 - Opstart Importark'!$B$18,3)),IF(I494=\"\",\"\",\"-\"),I494,IF(K494=\"\",\"\",\"-\"),K494,IF(M494=\"\",\"\",\"-\"),M494,IF(O494=\"\",\"\",\"-\"),O494))))","v":""},{"$nulls":13},{"$f":"IF(LEN('1 - Opstart Importark'!$B$6)>0,'1 - Opstart Importark'!$B$6,\"\")","v":""},{"$f":"IF(LEN('1 - Opstart Importark'!$B$9)>0,'1 - Opstart Importark'!$B$9,\"\")","v":""},{"$f":"IF(LEN('1 - Opstart Importark'!$B$31)>0,'1 - Opstart Importark'!$B$31,\"\")","v":""},{"$nulls":12},"",{"$nulls":8},0,"","","objektnogle_"]
[484,null,{"$f":"IF('1 - Opstart Importark'!$B$6=\"\",\"\",(IF('1 - Opstart Importark'!$B$15=\"\",CONCATENATE(LEFT('1 - Opstart Importark'!$B$3,1),(LEFT('1 - Opstart Importark'!$B$24,2)),LEFT('1 - Opstart Importark'!$B$28,3),IF(I495=\"\",\"\",\"-\"),I495,IF(K495=\"\",\"\",\"-\"),K495,IF(M495=\"\",\"\",\"-\"),M495,IF(O495=\"\",\"\",\"-\"),O495),CONCATENATE(LEFT('1 - Opstart Importark'!$B$3,1),(LEFT('1 - Opstart Importark'!$B$15,2)),(LEFT('1 - Opstart Importark'!$B$18,3)),IF(I495=\"\",\"\",\"-\"),I495,IF(K495=\"\",\"\",\"-\"),K495,IF(M495=\"\",\"\",\"-\"),M495,IF(O495=\"\",\"\",\"-\"),O495))))","v":""},{"$nulls":13},{"$f":"IF(LEN('1 - Opstart Importark'!$B$6)>0,'1 - Opstart Importark'!$B$6,\"\")","v":""},{"$f":"IF(LEN('1 - Opstart Importark'!$B$9)>0,'1 - Opstart Importark'!$B$9,\"\")","v":""},{"$f":"IF(LEN('1 - Opstart Importark'!$B$31)>0,'1 - Opstart Importark'!$B$31,\"\")","v":""},{"$nulls":12},"",{"$nulls":8},0,"","","objektnogle_"]
[485,null,{"$f":"IF('1 - Opstart Importark'!$B$6=\"\",\"\",(IF('1 - Opstart Importark'!$B$15=\"\",CONCATENATE(LEFT('1 - Opstart Importark'!$B$3,1),(LEFT('1 - Opstart Importark'!$B$24,2)),LEFT('1 - Opstart Importark'!$B$28,3),IF(I496=\"\",\"\",\"-\"),I496,IF(K496=\"\",\"\",\"-\"),K496,IF(M496=\"\",\"\",\"-\"),M496,IF(O496=\"\",\"\",\"-\"),O496),CONCATENATE(LEFT('1 - Opstart Importark'!$B$3,1),(LEFT('1 - Opstart Importark'!$B$15,2)),(LEFT('1 - Opstart Importark'!$B$18,3)),IF(I496=\"\",\"\",\"-\"),I496,IF(K496=\"\",\"\",\"-\"),K496,IF(M496=\"\",\"\",\"-\"),M496,IF(O496=\"\",\"\",\"-\"),O496))))","v":""},{"$nulls":13},{"$f":"IF(LEN('1 - Opstart Importark'!$B$6)>0,'1 - Opstart Importark'!$B$6,\"\")","v":""},{"$f":"IF(LEN('1 - Opstart Importark'!$B$9)>0,'1 - Opstart Importark'!$B$9,\"\")","v":""},{"$f":"IF(LEN('1 - Opstart Importark'!$B$31)>0,'1 - Opstart Importark'!$B$31,\"\")","v":""},{"$nulls":12},"",{"$nulls":8},0,"","","objektnogle_"]
[486,null,{"$f":"IF('1 - Opstart Importark'!$B$6=\"\",\"\",(IF('1 - Opstart Importark'!$B$15=\"\",CONCATENATE(LEFT('1 - Opstart Importark'!$B$3,1),(LEFT('1 - Opstart Importark'!$B$24,2)),LEFT('1 - Opstart Importark'!$B$28,3),IF(I497=\"\",\"\",\"-\"),I497,IF(K497=\"\",\"\",\"-\"),K497,IF(M497=\"\",\"\",\"-\"),M497,IF(O497=\"\",\"\",\"-\"),O497),CONCATENATE(LEFT('1 - Opstart Importark'!$B$3,1),(LEFT('1 - Opstart Importark'!$B$15,2)),(LEFT('1 - Opstart Importark'!$B$18,3)),IF(I497=\"\",\"\",\"-\"),I497,IF(K497=\"\",\"\",\"-\"),K497,IF(M497=\"\",\"\",\"-\"),M497,IF(O497=\"\",\"\",\"-\"),O497))))","v":""},{"$nulls":13},{"$f":"IF(LEN('1 - Opstart Importark'!$B$6)>0,'1 - Opstart Importark'!$B$6,\"\")","v":""},{"$f":"IF(LEN('1 - Opstart Importark'!$B$9)>0,'1 - Opstart Importark'!$B$9,\"\")","v":""},{"$f":"IF(LEN('1 - Opstart Importark'!$B$31)>0,'1 - Opstart Importark'!$B$31,\"\")","v":""},{"$nulls":12},"",{"$nulls":8},0,"","","objektnogle_"]
[487,null,{"$f":"IF('1 - Opstart Importark'!$B$6=\"\",\"\",(IF('1 - Opstart Importark'!$B$15=\"\",CONCATENATE(LEFT('1 - Opstart Importark'!$B$3,1),(LEFT('1 - Opstart Importark'!$B$24,2)),LEFT('1 - Opstart Importark'!$B$28,3),IF(I498=\"\",\"\",\"-\"),I498,IF(K498=\"\",\"\",\"-\"),K498,IF(M498=\"\",\"\",\"-\"),M498,IF(O498=\"\",\"\",\"-\"),O498),CONCATENATE(LEFT('1 - Opstart Importark'!$B$3,1),(LEFT('1 - Opstart Importark'!$B$15,2)),(LEFT('1 - Opstart Importark'!$B$18,3)),IF(I498=\"\",\"\",\"-\"),I498,IF(K498=\"\",\"\",\"-\"),K498,IF(M498=\"\",\"\",\"-\"),M498,IF(O498=\"\",\"\",\"-\"),O498))))","v":""},{"$nulls":13},{"$f":"IF(LEN('1 - Opstart Importark'!$B$6)>0,'1 - Opstart Importark'!$B$6,\"\")","v":""},{"$f":"IF(LEN('1 - Opstart Importark'!$B$9)>0,'1 - Opstart Importark'!$B$9,\"\")","v":""},{"$f":"IF(LEN('1 - Opstart Importark'!$B$31)>0,'1 - Opstart Importark'!$B$31,\"\")","v":""},{"$nulls":12},"",{"$nulls":8},0,"","","objektnogle_"]
[488,null,{"$f":"IF('1 - Opstart Importark'!$B$6=\"\",\"\",(IF('1 - Opstart Importark'!$B$15=\"\",CONCATENATE(LEFT('1 - Opstart Importark'!$B$3,1),(LEFT('1 - Opstart Importark'!$B$24,2)),LEFT('1 - Opstart Importark'!$B$28,3),IF(I499=\"\",\"\",\"-\"),I499,IF(K499=\"\",\"\",\"-\"),K499,IF(M499=\"\",\"\",\"-\"),M499,IF(O499=\"\",\"\",\"-\"),O499),CONCATENATE(LEFT('1 - Opstart Importark'!$B$3,1),(LEFT('1 - Opstart Importark'!$B$15,2)),(LEFT('1 - Opstart Importark'!$B$18,3)),IF(I499=\"\",\"\",\"-\"),I499,IF(K499=\"\",\"\",\"-\"),K499,IF(M499=\"\",\"\",\"-\"),M499,IF(O499=\"\",\"\",\"-\"),O499))))","v":""},{"$nulls":13},{"$f":"IF(LEN('1 - Opstart Importark'!$B$6)>0,'1 - Opstart Importark'!$B$6,\"\")","v":""},{"$f":"IF(LEN('1 - Opstart Importark'!$B$9)>0,'1 - Opstart Importark'!$B$9,\"\")","v":""},{"$f":"IF(LEN('1 - Opstart Importark'!$B$31)>0,'1 - Opstart Importark'!$B$31,\"\")","v":""},{"$nulls":12},"",{"$nulls":8},0,"","","objektnogle_"]
[489,null,{"$f":"IF('1 - Opstart Importark'!$B$6=\"\",\"\",(IF('1 - Opstart Importark'!$B$15=\"\",CONCATENATE(LEFT('1 - Opstart Importark'!$B$3,1),(LEFT('1 - Opstart Importark'!$B$24,2)),LEFT('1 - Opstart Importark'!$B$28,3),IF(I500=\"\",\"\",\"-\"),I500,IF(K500=\"\",\"\",\"-\"),K500,IF(M500=\"\",\"\",\"-\"),M500,IF(O500=\"\",\"\",\"-\"),O500),CONCATENATE(LEFT('1 - Opstart Importark'!$B$3,1),(LEFT('1 - Opstart Importark'!$B$15,2)),(LEFT('1 - Opstart Importark'!$B$18,3)),IF(I500=\"\",\"\",\"-\"),I500,IF(K500=\"\",\"\",\"-\"),K500,IF(M500=\"\",\"\",\"-\"),M500,IF(O500=\"\",\"\",\"-\"),O500))))","v":""},{"$nulls":13},{"$f":"IF(LEN('1 - Opstart Importark'!$B$6)>0,'1 - Opstart Importark'!$B$6,\"\")","v":""},{"$f":"IF(LEN('1 - Opstart Importark'!$B$9)>0,'1 - Opstart Importark'!$B$9,\"\")","v":""},{"$f":"IF(LEN('1 - Opstart Importark'!$B$31)>0,'1 - Opstart Importark'!$B$31,\"\")","v":""},{"$nulls":12},"",{"$nulls":8},0,"","","objektnogle_"]
[490,null,{"$f":"IF('1 - Opstart Importark'!$B$6=\"\",\"\",(IF('1 - Opstart Importark'!$B$15=\"\",CONCATENATE(LEFT('1 - Opstart Importark'!$B$3,1),(LEFT('1 - Opstart Importark'!$B$24,2)),LEFT('1 - Opstart Importark'!$B$28,3),IF(I501=\"\",\"\",\"-\"),I501,IF(K501=\"\",\"\",\"-\"),K501,IF(M501=\"\",\"\",\"-\"),M501,IF(O501=\"\",\"\",\"-\"),O501),CONCATENATE(LEFT('1 - Opstart Importark'!$B$3,1),(LEFT('1 - Opstart Importark'!$B$15,2)),(LEFT('1 - Opstart Importark'!$B$18,3)),IF(I501=\"\",\"\",\"-\"),I501,IF(K501=\"\",\"\",\"-\"),K501,IF(M501=\"\",\"\",\"-\"),M501,IF(O501=\"\",\"\",\"-\"),O501))))","v":""},{"$nulls":13},{"$f":"IF(LEN('1 - Opstart Importark'!$B$6)>0,'1 - Opstart Importark'!$B$6,\"\")","v":""},{"$f":"IF(LEN('1 - Opstart Importark'!$B$9)>0,'1 - Opstart Importark'!$B$9,\"\")","v":""},{"$f":"IF(LEN('1 - Opstart Importark'!$B$31)>0,'1 - Opstart Importark'!$B$31,\"\")","v":""},{"$nulls":12},"",{"$nulls":8},0,"","","objektnogle_"]
[491,null,{"$f":"IF('1 - Opstart Importark'!$B$6=\"\",\"\",(IF('1 - Opstart Importark'!$B$15=\"\",CONCATENATE(LEFT('1 - Opstart Importark'!$B$3,1),(LEFT('1 - Opstart Importark'!$B$24,2)),LEFT('1 - Opstart Importark'!$B$28,3),IF(I502=\"\",\"\",\"-\"),I502,IF(K502=\"\",\"\",\"-\"),K502,IF(M502=\"\",\"\",\"-\"),M502,IF(O502=\"\",\"\",\"-\"),O502),CONCATENATE(LEFT('1 - Opstart Importark'!$B$3,1),(LEFT('1 - Opstart Importark'!$B$15,2)),(LEFT('1 - Opstart Importark'!$B$18,3)),IF(I502=\"\",\"\",\"-\"),I502,IF(K502=\"\",\"\",\"-\"),K502,IF(M502=\"\",\"\",\"-\"),M502,IF(O502=\"\",\"\",\"-\"),O502))))","v":""},{"$nulls":13},{"$f":"IF(LEN('1 - Opstart Importark'!$B$6)>0,'1 - Opstart Importark'!$B$6,\"\")","v":""},{"$f":"IF(LEN('1 - Opstart Importark'!$B$9)>0,'1 - Opstart Importark'!$B$9,\"\")","v":""},{"$f":"IF(LEN('1 - Opstart Importark'!$B$31)>0,'1 - Opstart Importark'!$B$31,\"\")","v":""},{"$nulls":12},"",{"$nulls":8},0,"","","objektnogle_"]
[492,null,{"$f":"IF('1 - Opstart Importark'!$B$6=\"\",\"\",(IF('1 - Opstart Importark'!$B$15=\"\",CONCATENATE(LEFT('1 - Opstart Importark'!$B$3,1),(LEFT('1 - Opstart Importark'!$B$24,2)),LEFT('1 - Opstart Importark'!$B$28,3),IF(I503=\"\",\"\",\"-\"),I503,IF(K503=\"\",\"\",\"-\"),K503,IF(M503=\"\",\"\",\"-\"),M503,IF(O503=\"\",\"\",\"-\"),O503),CONCATENATE(LEFT('1 - Opstart Importark'!$B$3,1),(LEFT('1 - Opstart Importark'!$B$15,2)),(LEFT('1 - Opstart Importark'!$B$18,3)),IF(I503=\"\",\"\",\"-\"),I503,IF(K503=\"\",\"\",\"-\"),K503,IF(M503=\"\",\"\",\"-\"),M503,IF(O503=\"\",\"\",\"-\"),O503))))","v":""},{"$nulls":13},{"$f":"IF(LEN('1 - Opstart Importark'!$B$6)>0,'1 - Opstart Importark'!$B$6,\"\")","v":""},{"$f":"IF(LEN('1 - Opstart Importark'!$B$9)>0,'1 - Opstart Importark'!$B$9,\"\")","v":""},{"$f":"IF(LEN('1 - Opstart Importark'!$B$31)>0,'1 - Opstart Importark'!$B$31,\"\")","v":""},{"$nulls":12},"",{"$nulls":8},0,"","","objektnogle_"]
[493,null,{"$f":"IF('1 - Opstart Importark'!$B$6=\"\",\"\",(IF('1 - Opstart Importark'!$B$15=\"\",CONCATENATE(LEFT('1 - Opstart Importark'!$B$3,1),(LEFT('1 - Opstart Importark'!$B$24,2)),LEFT('1 - Opstart Importark'!$B$28,3),IF(I504=\"\",\"\",\"-\"),I504,IF(K504=\"\",\"\",\"-\"),K504,IF(M504=\"\",\"\",\"-\"),M504,IF(O504=\"\",\"\",\"-\"),O504),CONCATENATE(LEFT('1 - Opstart Importark'!$B$3,1),(LEFT('1 - Opstart Importark'!$B$15,2)),(LEFT('1 - Opstart Importark'!$B$18,3)),IF(I504=\"\",\"\",\"-\"),I504,IF(K504=\"\",\"\",\"-\"),K504,IF(M504=\"\",\"\",\"-\"),M504,IF(O504=\"\",\"\",\"-\"),O504))))","v":""},{"$nulls":13},{"$f":"IF(LEN('1 - Opstart Importark'!$B$6)>0,'1 - Opstart Importark'!$B$6,\"\")","v":""},{"$f":"IF(LEN('1 - Opstart Importark'!$B$9)>0,'1 - Opstart Importark'!$B$9,\"\")","v":""},{"$f":"IF(LEN('1 - Opstart Importark'!$B$31)>0,'1 - Opstart Importark'!$B$31,\"\")","v":""},{"$nulls":12},"",{"$nulls":8},0,"","","objektnogle_"]
[494,null,{"$f":"IF('1 - Opstart Importark'!$B$6=\"\",\"\",(IF('1 - Opstart Importark'!$B$15=\"\",CONCATENATE(LEFT('1 - Opstart Importark'!$B$3,1),(LEFT('1 - Opstart Importark'!$B$24,2)),LEFT('1 - Opstart Importark'!$B$28,3),IF(I505=\"\",\"\",\"-\"),I505,IF(K505=\"\",\"\",\"-\"),K505,IF(M505=\"\",\"\",\"-\"),M505,IF(O505=\"\",\"\",\"-\"),O505),CONCATENATE(LEFT('1 - Opstart Importark'!$B$3,1),(LEFT('1 - Opstart Importark'!$B$15,2)),(LEFT('1 - Opstart Importark'!$B$18,3)),IF(I505=\"\",\"\",\"-\"),I505,IF(K505=\"\",\"\",\"-\"),K505,IF(M505=\"\",\"\",\"-\"),M505,IF(O505=\"\",\"\",\"-\"),O505))))","v":""},{"$nulls":13},{"$f":"IF(LEN('1 - Opstart Importark'!$B$6)>0,'1 - Opstart Importark'!$B$6,\"\")","v":""},{"$f":"IF(LEN('1 - Opstart Importark'!$B$9)>0,'1 - Opstart Importark'!$B$9,\"\")","v":""},{"$f":"IF(LEN('1 - Opstart Importark'!$B$31)>0,'1 - Opstart Importark'!$B$31,\"\")","v":""},{"$nulls":12},"",{"$nulls":8},0,"","","objektnogle_"]
[495,null,{"$f":"IF('1 - Opstart Importark'!$B$6=\"\",\"\",(IF('1 - Opstart Importark'!$B$15=\"\",CONCATENATE(LEFT('1 - Opstart Importark'!$B$3,1),(LEFT('1 - Opstart Importark'!$B$24,2)),LEFT('1 - Opstart Importark'!$B$28,3),IF(I506=\"\",\"\",\"-\"),I506,IF(K506=\"\",\"\",\"-\"),K506,IF(M506=\"\",\"\",\"-\"),M506,IF(O506=\"\",\"\",\"-\"),O506),CONCATENATE(LEFT('1 - Opstart Importark'!$B$3,1),(LEFT('1 - Opstart Importark'!$B$15,2)),(LEFT('1 - Opstart Importark'!$B$18,3)),IF(I506=\"\",\"\",\"-\"),I506,IF(K506=\"\",\"\",\"-\"),K506,IF(M506=\"\",\"\",\"-\"),M506,IF(O506=\"\",\"\",\"-\"),O506))))","v":""},{"$nulls":13},{"$f":"IF(LEN('1 - Opstart Importark'!$B$6)>0,'1 - Opstart Importark'!$B$6,\"\")","v":""},{"$f":"IF(LEN('1 - Opstart Importark'!$B$9)>0,'1 - Opstart Importark'!$B$9,\"\")","v":""},{"$f":"IF(LEN('1 - Opstart Importark'!$B$31)>0,'1 - Opstart Importark'!$B$31,\"\")","v":""},{"$nulls":12},"",{"$nulls":8},0,"","","objektnogle_"]
[496,null,{"$f":"IF('1 - Opstart Importark'!$B$6=\"\",\"\",(IF('1 - Opstart Importark'!$B$15=\"\",CONCATENATE(LEFT('1 - Opstart Importark'!$B$3,1),(LEFT('1 - Opstart Importark'!$B$24,2)),LEFT('1 - Opstart Importark'!$B$28,3),IF(I507=\"\",\"\",\"-\"),I507,IF(K507=\"\",\"\",\"-\"),K507,IF(M507=\"\",\"\",\"-\"),M507,IF(O507=\"\",\"\",\"-\"),O507),CONCATENATE(LEFT('1 - Opstart Importark'!$B$3,1),(LEFT('1 - Opstart Importark'!$B$15,2)),(LEFT('1 - Opstart Importark'!$B$18,3)),IF(I507=\"\",\"\",\"-\"),I507,IF(K507=\"\",\"\",\"-\"),K507,IF(M507=\"\",\"\",\"-\"),M507,IF(O507=\"\",\"\",\"-\"),O507))))","v":""},{"$nulls":13},{"$f":"IF(LEN('1 - Opstart Importark'!$B$6)>0,'1 - Opstart Importark'!$B$6,\"\")","v":""},{"$f":"IF(LEN('1 - Opstart Importark'!$B$9)>0,'1 - Opstart Importark'!$B$9,\"\")","v":""},{"$f":"IF(LEN('1 - Opstart Importark'!$B$31)>0,'1 - Opstart Importark'!$B$31,\"\")","v":""},{"$nulls":12},"",{"$nulls":8},0,"","","objektnogle_"]
[497,null,{"$f":"IF('1 - Opstart Importark'!$B$6=\"\",\"\",(IF('1 - Opstart Importark'!$B$15=\"\",CONCATENATE(LEFT('1 - Opstart Importark'!$B$3,1),(LEFT('1 - Opstart Importark'!$B$24,2)),LEFT('1 - Opstart Importark'!$B$28,3),IF(I508=\"\",\"\",\"-\"),I508,IF(K508=\"\",\"\",\"-\"),K508,IF(M508=\"\",\"\",\"-\"),M508,IF(O508=\"\",\"\",\"-\"),O508),CONCATENATE(LEFT('1 - Opstart Importark'!$B$3,1),(LEFT('1 - Opstart Importark'!$B$15,2)),(LEFT('1 - Opstart Importark'!$B$18,3)),IF(I508=\"\",\"\",\"-\"),I508,IF(K508=\"\",\"\",\"-\"),K508,IF(M508=\"\",\"\",\"-\"),M508,IF(O508=\"\",\"\",\"-\"),O508))))","v":""},{"$nulls":13},{"$f":"IF(LEN('1 - Opstart Importark'!$B$6)>0,'1 - Opstart Importark'!$B$6,\"\")","v":""},{"$f":"IF(LEN('1 - Opstart Importark'!$B$9)>0,'1 - Opstart Importark'!$B$9,\"\")","v":""},{"$f":"IF(LEN('1 - Opstart Importark'!$B$31)>0,'1 - Opstart Importark'!$B$31,\"\")","v":""},{"$nulls":12},"",{"$nulls":8},0,"","","objektnogle_"]
[498,null,{"$f":"IF('1 - Opstart Importark'!$B$6=\"\",\"\",(IF('1 - Opstart Importark'!$B$15=\"\",CONCATENATE(LEFT('1 - Opstart Importark'!$B$3,1),(LEFT('1 - Opstart Importark'!$B$24,2)),LEFT('1 - Opstart Importark'!$B$28,3),IF(I509=\"\",\"\",\"-\"),I509,IF(K509=\"\",\"\",\"-\"),K509,IF(M509=\"\",\"\",\"-\"),M509,IF(O509=\"\",\"\",\"-\"),O509),CONCATENATE(LEFT('1 - Opstart Importark'!$B$3,1),(LEFT('1 - Opstart Importark'!$B$15,2)),(LEFT('1 - Opstart Importark'!$B$18,3)),IF(I509=\"\",\"\",\"-\"),I509,IF(K509=\"\",\"\",\"-\"),K509,IF(M509=\"\",\"\",\"-\"),M509,IF(O509=\"\",\"\",\"-\"),O509))))","v":""},{"$nulls":13},{"$f":"IF(LEN('1 - Opstart Importark'!$B$6)>0,'1 - Opstart Importark'!$B$6,\"\")","v":""},{"$f":"IF(LEN('1 - Opstart Importark'!$B$9)>0,'1 - Opstart Importark'!$B$9,\"\")","v":""},{"$f":"IF(LEN('1 - Opstart Importark'!$B$31)>0,'1 - Opstart Importark'!$B$31,\"\")","v":""},{"$nulls":12},"",{"$nulls":8},0,"","","objektnogle_"]
[499,null,{"$f":"IF('1 - Opstart Importark'!$B$6=\"\",\"\",(IF('1 - Opstart Importark'!$B$15=\"\",CONCATENATE(LEFT('1 - Opstart Importark'!$B$3,1),(LEFT('1 - Opstart Importark'!$B$24,2)),LEFT('1 - Opstart Importark'!$B$28,3),IF(I510=\"\",\"\",\"-\"),I510,IF(K510=\"\",\"\",\"-\"),K510,IF(M510=\"\",\"\",\"-\"),M510,IF(O510=\"\",\"\",\"-\"),O510),CONCATENATE(LEFT('1 - Opstart Importark'!$B$3,1),(LEFT('1 - Opstart Importark'!$B$15,2)),(LEFT('1 - Opstart Importark'!$B$18,3)),IF(I510=\"\",\"\",\"-\"),I510,IF(K510=\"\",\"\",\"-\"),K510,IF(M510=\"\",\"\",\"-\"),M510,IF(O510=\"\",\"\",\"-\"),O510))))","v":""},{"$nulls":13},{"$f":"IF(LEN('1 - Opstart Importark'!$B$6)>0,'1 - Opstart Importark'!$B$6,\"\")","v":""},{"$f":"IF(LEN('1 - Opstart Importark'!$B$9)>0,'1 - Opstart Importark'!$B$9,\"\")","v":""},{"$f":"IF(LEN('1 - Opstart Importark'!$B$31)>0,'1 - Opstart Importark'!$B$31,\"\")","v":""},{"$nulls":12},"",{"$nulls":8},0,"","","objektnogle_"]
[500,null,{"$f":"IF('1 - Opstart Importark'!$B$6=\"\",\"\",(IF('1 - Opstart Importark'!$B$15=\"\",CONCATENATE(LEFT('1 - Opstart Importark'!$B$3,1),(LEFT('1 - Opstart Importark'!$B$24,2)),LEFT('1 - Opstart Importark'!$B$28,3),IF(I511=\"\",\"\",\"-\"),I511,IF(K511=\"\",\"\",\"-\"),K511,IF(M511=\"\",\"\",\"-\"),M511,IF(O511=\"\",\"\",\"-\"),O511),CONCATENATE(LEFT('1 - Opstart Importark'!$B$3,1),(LEFT('1 - Opstart Importark'!$B$15,2)),(LEFT('1 - Opstart Importark'!$B$18,3)),IF(I511=\"\",\"\",\"-\"),I511,IF(K511=\"\",\"\",\"-\"),K511,IF(M511=\"\",\"\",\"-\"),M511,IF(O511=\"\",\"\",\"-\"),O511))))","v":""},{"$nulls":13},{"$f":"IF(LEN('1 - Opstart Importark'!$B$6)>0,'1 - Opstart Importark'!$B$6,\"\")","v":""},{"$f":"IF(LEN('1 - Opstart Importark'!$B$9)>0,'1 - Opstart Importark'!$B$9,\"\")","v":""},{"$f":"IF(LEN('1 - Opstart Importark'!$B$31)>0,'1 - Opstart Importark'!$B$31,\"\")","v":""},{"$nulls":12},"",{"$nulls":8},0,"","","objektnogle_"]
[501,null,{"$f":"IF('1 - Opstart Importark'!$B$6=\"\",\"\",(IF('1 - Opstart Importark'!$B$15=\"\",CONCATENATE(LEFT('1 - Opstart Importark'!$B$3,1),(LEFT('1 - Opstart Importark'!$B$24,2)),LEFT('1 - Opstart Importark'!$B$28,3),IF(I512=\"\",\"\",\"-\"),I512,IF(K512=\"\",\"\",\"-\"),K512,IF(M512=\"\",\"\",\"-\"),M512,IF(O512=\"\",\"\",\"-\"),O512),CONCATENATE(LEFT('1 - Opstart Importark'!$B$3,1),(LEFT('1 - Opstart Importark'!$B$15,2)),(LEFT('1 - Opstart Importark'!$B$18,3)),IF(I512=\"\",\"\",\"-\"),I512,IF(K512=\"\",\"\",\"-\"),K512,IF(M512=\"\",\"\",\"-\"),M512,IF(O512=\"\",\"\",\"-\"),O512))))","v":""},{"$nulls":13},{"$f":"IF(LEN('1 - Opstart Importark'!$B$6)>0,'1 - Opstart Importark'!$B$6,\"\")","v":""},{"$f":"IF(LEN('1 - Opstart Importark'!$B$9)>0,'1 - Opstart Importark'!$B$9,\"\")","v":""},{"$f":"IF(LEN('1 - Opstart Importark'!$B$31)>0,'1 - Opstart Importark'!$B$31,\"\")","v":""},{"$nulls":12},"",{"$nulls":8},0,"","","objektnogle_"]
[502,null,{"$f":"IF('1 - Opstart Importark'!$B$6=\"\",\"\",(IF('1 - Opstart Importark'!$B$15=\"\",CONCATENATE(LEFT('1 - Opstart Importark'!$B$3,1),(LEFT('1 - Opstart Importark'!$B$24,2)),LEFT('1 - Opstart Importark'!$B$28,3),IF(I513=\"\",\"\",\"-\"),I513,IF(K513=\"\",\"\",\"-\"),K513,IF(M513=\"\",\"\",\"-\"),M513,IF(O513=\"\",\"\",\"-\"),O513),CONCATENATE(LEFT('1 - Opstart Importark'!$B$3,1),(LEFT('1 - Opstart Importark'!$B$15,2)),(LEFT('1 - Opstart Importark'!$B$18,3)),IF(I513=\"\",\"\",\"-\"),I513,IF(K513=\"\",\"\",\"-\"),K513,IF(M513=\"\",\"\",\"-\"),M513,IF(O513=\"\",\"\",\"-\"),O513))))","v":""},{"$nulls":13},{"$f":"IF(LEN('1 - Opstart Importark'!$B$6)>0,'1 - Opstart Importark'!$B$6,\"\")","v":""},{"$f":"IF(LEN('1 - Opstart Importark'!$B$9)>0,'1 - Opstart Importark'!$B$9,\"\")","v":""},{"$f":"IF(LEN('1 - Opstart Importark'!$B$31)>0,'1 - Opstart Importark'!$B$31,\"\")","v":""},{"$nulls":12},"",{"$nulls":8},0,"","","objektnogle_"]
[503,null,{"$f":"IF('1 - Opstart Importark'!$B$6=\"\",\"\",(IF('1 - Opstart Importark'!$B$15=\"\",CONCATENATE(LEFT('1 - Opstart Importark'!$B$3,1),(LEFT('1 - Opstart Importark'!$B$24,2)),LEFT('1 - Opstart Importark'!$B$28,3),IF(I514=\"\",\"\",\"-\"),I514,IF(K514=\"\",\"\",\"-\"),K514,IF(M514=\"\",\"\",\"-\"),M514,IF(O514=\"\",\"\",\"-\"),O514),CONCATENATE(LEFT('1 - Opstart Importark'!$B$3,1),(LEFT('1 - Opstart Importark'!$B$15,2)),(LEFT('1 - Opstart Importark'!$B$18,3)),IF(I514=\"\",\"\",\"-\"),I514,IF(K514=\"\",\"\",\"-\"),K514,IF(M514=\"\",\"\",\"-\"),M514,IF(O514=\"\",\"\",\"-\"),O514))))","v":""},{"$nulls":13},{"$f":"IF(LEN('1 - Opstart Importark'!$B$6)>0,'1 - Opstart Importark'!$B$6,\"\")","v":""},{"$f":"IF(LEN('1 - Opstart Importark'!$B$9)>0,'1 - Opstart Importark'!$B$9,\"\")","v":""},{"$f":"IF(LEN('1 - Opstart Importark'!$B$31)>0,'1 - Opstart Importark'!$B$31,\"\")","v":""},{"$nulls":12},"",{"$nulls":8},0,"","","objektnogle_"]
[504,null,{"$f":"IF('1 - Opstart Importark'!$B$6=\"\",\"\",(IF('1 - Opstart Importark'!$B$15=\"\",CONCATENATE(LEFT('1 - Opstart Importark'!$B$3,1),(LEFT('1 - Opstart Importark'!$B$24,2)),LEFT('1 - Opstart Importark'!$B$28,3),IF(I515=\"\",\"\",\"-\"),I515,IF(K515=\"\",\"\",\"-\"),K515,IF(M515=\"\",\"\",\"-\"),M515,IF(O515=\"\",\"\",\"-\"),O515),CONCATENATE(LEFT('1 - Opstart Importark'!$B$3,1),(LEFT('1 - Opstart Importark'!$B$15,2)),(LEFT('1 - Opstart Importark'!$B$18,3)),IF(I515=\"\",\"\",\"-\"),I515,IF(K515=\"\",\"\",\"-\"),K515,IF(M515=\"\",\"\",\"-\"),M515,IF(O515=\"\",\"\",\"-\"),O515))))","v":""},{"$nulls":13},{"$f":"IF(LEN('1 - Opstart Importark'!$B$6)>0,'1 - Opstart Importark'!$B$6,\"\")","v":""},{"$f":"IF(LEN('1 - Opstart Importark'!$B$9)>0,'1 - Opstart Importark'!$B$9,\"\")","v":""},{"$f":"IF(LEN('1 - Opstart Importark'!$B$31)>0,'1 - Opstart Importark'!$B$31,\"\")","v":""},{"$nulls":12},"",{"$nulls":8},0,"","","objektnogle_"]
[505,null,{"$f":"IF('1 - Opstart Importark'!$B$6=\"\",\"\",(IF('1 - Opstart Importark'!$B$15=\"\",CONCATENATE(LEFT('1 - Opstart Importark'!$B$3,1),(LEFT('1 - Opstart Importark'!$B$24,2)),LEFT('1 - Opstart Importark'!$B$28,3),IF(I516=\"\",\"\",\"-\"),I516,IF(K516=\"\",\"\",\"-\"),K516,IF(M516=\"\",\"\",\"-\"),M516,IF(O516=\"\",\"\",\"-\"),O516),CONCATENATE(LEFT('1 - Opstart Importark'!$B$3,1),(LEFT('1 - Opstart Importark'!$B$15,2)),(LEFT('1 - Opstart Importark'!$B$18,3)),IF(I516=\"\",\"\",\"-\"),I516,IF(K516=\"\",\"\",\"-\"),K516,IF(M516=\"\",\"\",\"-\"),M516,IF(O516=\"\",\"\",\"-\"),O516))))","v":""},{"$nulls":13},{"$f":"IF(LEN('1 - Opstart Importark'!$B$6)>0,'1 - Opstart Importark'!$B$6,\"\")","v":""},{"$f":"IF(LEN('1 - Opstart Importark'!$B$9)>0,'1 - Opstart Importark'!$B$9,\"\")","v":""},{"$f":"IF(LEN('1 - Opstart Importark'!$B$31)>0,'1 - Opstart Importark'!$B$31,\"\")","v":""},{"$nulls":12},"",{"$nulls":8},0,"","","objektnogle_"]
[506,null,{"$f":"IF('1 - Opstart Importark'!$B$6=\"\",\"\",(IF('1 - Opstart Importark'!$B$15=\"\",CONCATENATE(LEFT('1 - Opstart Importark'!$B$3,1),(LEFT('1 - Opstart Importark'!$B$24,2)),LEFT('1 - Opstart Importark'!$B$28,3),IF(I517=\"\",\"\",\"-\"),I517,IF(K517=\"\",\"\",\"-\"),K517,IF(M517=\"\",\"\",\"-\"),M517,IF(O517=\"\",\"\",\"-\"),O517),CONCATENATE(LEFT('1 - Opstart Importark'!$B$3,1),(LEFT('1 - Opstart Importark'!$B$15,2)),(LEFT('1 - Opstart Importark'!$B$18,3)),IF(I517=\"\",\"\",\"-\"),I517,IF(K517=\"\",\"\",\"-\"),K517,IF(M517=\"\",\"\",\"-\"),M517,IF(O517=\"\",\"\",\"-\"),O517))))","v":""},{"$nulls":13},{"$f":"IF(LEN('1 - Opstart Importark'!$B$6)>0,'1 - Opstart Importark'!$B$6,\"\")","v":""},{"$f":"IF(LEN('1 - Opstart Importark'!$B$9)>0,'1 - Opstart Importark'!$B$9,\"\")","v":""},{"$f":"IF(LEN('1 - Opstart Importark'!$B$31)>0,'1 - Opstart Importark'!$B$31,\"\")","v":""},{"$nulls":12},"",{"$nulls":8},0,"","","objektnogle_"]
[507,null,{"$f":"IF('1 - Opstart Importark'!$B$6=\"\",\"\",(IF('1 - Opstart Importark'!$B$15=\"\",CONCATENATE(LEFT('1 - Opstart Importark'!$B$3,1),(LEFT('1 - Opstart Importark'!$B$24,2)),LEFT('1 - Opstart Importark'!$B$28,3),IF(I518=\"\",\"\",\"-\"),I518,IF(K518=\"\",\"\",\"-\"),K518,IF(M518=\"\",\"\",\"-\"),M518,IF(O518=\"\",\"\",\"-\"),O518),CONCATENATE(LEFT('1 - Opstart Importark'!$B$3,1),(LEFT('1 - Opstart Importark'!$B$15,2)),(LEFT('1 - Opstart Importark'!$B$18,3)),IF(I518=\"\",\"\",\"-\"),I518,IF(K518=\"\",\"\",\"-\"),K518,IF(M518=\"\",\"\",\"-\"),M518,IF(O518=\"\",\"\",\"-\"),O518))))","v":""},{"$nulls":13},{"$f":"IF(LEN('1 - Opstart Importark'!$B$6)>0,'1 - Opstart Importark'!$B$6,\"\")","v":""},{"$f":"IF(LEN('1 - Opstart Importark'!$B$9)>0,'1 - Opstart Importark'!$B$9,\"\")","v":""},{"$f":"IF(LEN('1 - Opstart Importark'!$B$31)>0,'1 - Opstart Importark'!$B$31,\"\")","v":""},{"$nulls":12},"",{"$nulls":8},0,"","","objektnogle_"]
[508,null,{"$f":"IF('1 - Opstart Importark'!$B$6=\"\",\"\",(IF('1 - Opstart Importark'!$B$15=\"\",CONCATENATE(LEFT('1 - Opstart Importark'!$B$3,1),(LEFT('1 - Opstart Importark'!$B$24,2)),LEFT('1 - Opstart Importark'!$B$28,3),IF(I519=\"\",\"\",\"-\"),I519,IF(K519=\"\",\"\",\"-\"),K519,IF(M519=\"\",\"\",\"-\"),M519,IF(O519=\"\",\"\",\"-\"),O519),CONCATENATE(LEFT('1 - Opstart Importark'!$B$3,1),(LEFT('1 - Opstart Importark'!$B$15,2)),(LEFT('1 - Opstart Importark'!$B$18,3)),IF(I519=\"\",\"\",\"-\"),I519,IF(K519=\"\",\"\",\"-\"),K519,IF(M519=\"\",\"\",\"-\"),M519,IF(O519=\"\",\"\",\"-\"),O519))))","v":""},{"$nulls":13},{"$f":"IF(LEN('1 - Opstart Importark'!$B$6)>0,'1 - Opstart Importark'!$B$6,\"\")","v":""},{"$f":"IF(LEN('1 - Opstart Importark'!$B$9)>0,'1 - Opstart Importark'!$B$9,\"\")","v":""},{"$f":"IF(LEN('1 - Opstart Importark'!$B$31)>0,'1 - Opstart Importark'!$B$31,\"\")","v":""},{"$nulls":12},"",{"$nulls":8},0,"","","objektnogle_"]
[509,null,{"$f":"IF('1 - Opstart Importark'!$B$6=\"\",\"\",(IF('1 - Opstart Importark'!$B$15=\"\",CONCATENATE(LEFT('1 - Opstart Importark'!$B$3,1),(LEFT('1 - Opstart Importark'!$B$24,2)),LEFT('1 - Opstart Importark'!$B$28,3),IF(I520=\"\",\"\",\"-\"),I520,IF(K520=\"\",\"\",\"-\"),K520,IF(M520=\"\",\"\",\"-\"),M520,IF(O520=\"\",\"\",\"-\"),O520),CONCATENATE(LEFT('1 - Opstart Importark'!$B$3,1),(LEFT('1 - Opstart Importark'!$B$15,2)),(LEFT('1 - Opstart Importark'!$B$18,3)),IF(I520=\"\",\"\",\"-\"),I520,IF(K520=\"\",\"\",\"-\"),K520,IF(M520=\"\",\"\",\"-\"),M520,IF(O520=\"\",\"\",\"-\"),O520))))","v":""},{"$nulls":13},{"$f":"IF(LEN('1 - Opstart Importark'!$B$6)>0,'1 - Opstart Importark'!$B$6,\"\")","v":""},{"$f":"IF(LEN('1 - Opstart Importark'!$B$9)>0,'1 - Opstart Importark'!$B$9,\"\")","v":""},{"$f":"IF(LEN('1 - Opstart Importark'!$B$31)>0,'1 - Opstart Importark'!$B$31,\"\")","v":""},{"$nulls":12},"",{"$nulls":8},0,"","","objektnogle_"]
[510,null,{"$f":"IF('1 - Opstart Importark'!$B$6=\"\",\"\",(IF('1 - Opstart Importark'!$B$15=\"\",CONCATENATE(LEFT('1 - Opstart Importark'!$B$3,1),(LEFT('1 - Opstart Importark'!$B$24,2)),LEFT('1 - Opstart Importark'!$B$28,3),IF(I521=\"\",\"\",\"-\"),I521,IF(K521=\"\",\"\",\"-\"),K521,IF(M521=\"\",\"\",\"-\"),M521,IF(O521=\"\",\"\",\"-\"),O521),CONCATENATE(LEFT('1 - Opstart Importark'!$B$3,1),(LEFT('1 - Opstart Importark'!$B$15,2)),(LEFT('1 - Opstart Importark'!$B$18,3)),IF(I521=\"\",\"\",\"-\"),I521,IF(K521=\"\",\"\",\"-\"),K521,IF(M521=\"\",\"\",\"-\"),M521,IF(O521=\"\",\"\",\"-\"),O521))))","v":""},{"$nulls":13},{"$f":"IF(LEN('1 - Opstart Importark'!$B$6)>0,'1 - Opstart Importark'!$B$6,\"\")","v":""},{"$f":"IF(LEN('1 - Opstart Importark'!$B$9)>0,'1 - Opstart Importark'!$B$9,\"\")","v":""},{"$f":"IF(LEN('1 - Opstart Importark'!$B$31)>0,'1 - Opstart Importark'!$B$31,\"\")","v":""},{"$nulls":12},"",{"$nulls":8},0,"","","objektnogle_"]
[511,null,{"$f":"IF('1 - Opstart Importark'!$B$6=\"\",\"\",(IF('1 - Opstart Importark'!$B$15=\"\",CONCATENATE(LEFT('1 - Opstart Importark'!$B$3,1),(LEFT('1 - Opstart Importark'!$B$24,2)),LEFT('1 - Opstart Importark'!$B$28,3),IF(I522=\"\",\"\",\"-\"),I522,IF(K522=\"\",\"\",\"-\"),K522,IF(M522=\"\",\"\",\"-\"),M522,IF(O522=\"\",\"\",\"-\"),O522),CONCATENATE(LEFT('1 - Opstart Importark'!$B$3,1),(LEFT('1 - Opstart Importark'!$B$15,2)),(LEFT('1 - Opstart Importark'!$B$18,3)),IF(I522=\"\",\"\",\"-\"),I522,IF(K522=\"\",\"\",\"-\"),K522,IF(M522=\"\",\"\",\"-\"),M522,IF(O522=\"\",\"\",\"-\"),O522))))","v":""},{"$nulls":13},{"$f":"IF(LEN('1 - Opstart Importark'!$B$6)>0,'1 - Opstart Importark'!$B$6,\"\")","v":""},{"$f":"IF(LEN('1 - Opstart Importark'!$B$9)>0,'1 - Opstart Importark'!$B$9,\"\")","v":""},{"$f":"IF(LEN('1 - Opstart Importark'!$B$31)>0,'1 - Opstart Importark'!$B$31,\"\")","v":""},{"$nulls":12},"",{"$nulls":8},0,"","","objektnogle_"]
[512,null,{"$f":"IF('1 - Opstart Importark'!$B$6=\"\",\"\",(IF('1 - Opstart Importark'!$B$15=\"\",CONCATENATE(LEFT('1 - Opstart Importark'!$B$3,1),(LEFT('1 - Opstart Importark'!$B$24,2)),LEFT('1 - Opstart Importark'!$B$28,3),IF(I523=\"\",\"\",\"-\"),I523,IF(K523=\"\",\"\",\"-\"),K523,IF(M523=\"\",\"\",\"-\"),M523,IF(O523=\"\",\"\",\"-\"),O523),CONCATENATE(LEFT('1 - Opstart Importark'!$B$3,1),(LEFT('1 - Opstart Importark'!$B$15,2)),(LEFT('1 - Opstart Importark'!$B$18,3)),IF(I523=\"\",\"\",\"-\"),I523,IF(K523=\"\",\"\",\"-\"),K523,IF(M523=\"\",\"\",\"-\"),M523,IF(O523=\"\",\"\",\"-\"),O523))))","v":""},{"$nulls":13},{"$f":"IF(LEN('1 - Opstart Importark'!$B$6)>0,'1 - Opstart Importark'!$B$6,\"\")","v":""},{"$f":"IF(LEN('1 - Opstart Importark'!$B$9)>0,'1 - Opstart Importark'!$B$9,\"\")","v":""},{"$f":"IF(LEN('1 - Opstart Importark'!$B$31)>0,'1 - Opstart Importark'!$B$31,\"\")","v":""},{"$nulls":12},"",{"$nulls":8},0,"","","objektnogle_"]
[513,null,{"$f":"IF('1 - Opstart Importark'!$B$6=\"\",\"\",(IF('1 - Opstart Importark'!$B$15=\"\",CONCATENATE(LEFT('1 - Opstart Importark'!$B$3,1),(LEFT('1 - Opstart Importark'!$B$24,2)),LEFT('1 - Opstart Importark'!$B$28,3),IF(I524=\"\",\"\",\"-\"),I524,IF(K524=\"\",\"\",\"-\"),K524,IF(M524=\"\",\"\",\"-\"),M524,IF(O524=\"\",\"\",\"-\"),O524),CONCATENATE(LEFT('1 - Opstart Importark'!$B$3,1),(LEFT('1 - Opstart Importark'!$B$15,2)),(LEFT('1 - Opstart Importark'!$B$18,3)),IF(I524=\"\",\"\",\"-\"),I524,IF(K524=\"\",\"\",\"-\"),K524,IF(M524=\"\",\"\",\"-\"),M524,IF(O524=\"\",\"\",\"-\"),O524))))","v":""},{"$nulls":13},{"$f":"IF(LEN('1 - Opstart Importark'!$B$6)>0,'1 - Opstart Importark'!$B$6,\"\")","v":""},{"$f":"IF(LEN('1 - Opstart Importark'!$B$9)>0,'1 - Opstart Importark'!$B$9,\"\")","v":""},{"$f":"IF(LEN('1 - Opstart Importark'!$B$31)>0,'1 - Opstart Importark'!$B$31,\"\")","v":""},{"$nulls":12},{"$f":"IF(M524=\"\",\"\",VLOOKUP(LEFT(M524,1),objektfilter,2))","v":""},{"$nulls":8},0,"","","objektnogle_"]
[514,null,{"$f":"IF('1 - Opstart Importark'!$B$6=\"\",\"\",(IF('1 - Opstart Importark'!$B$15=\"\",CONCATENATE(LEFT('1 - Opstart Importark'!$B$3,1),(LEFT('1 - Opstart Importark'!$B$24,2)),LEFT('1 - Opstart Importark'!$B$28,3),IF(I525=\"\",\"\",\"-\"),I525,IF(K525=\"\",\"\",\"-\"),K525,IF(M525=\"\",\"\",\"-\"),M525,IF(O525=\"\",\"\",\"-\"),O525),CONCATENATE(LEFT('1 - Opstart Importark'!$B$3,1),(LEFT('1 - Opstart Importark'!$B$15,2)),(LEFT('1 - Opstart Importark'!$B$18,3)),IF(I525=\"\",\"\",\"-\"),I525,IF(K525=\"\",\"\",\"-\"),K525,IF(M525=\"\",\"\",\"-\"),M525,IF(O525=\"\",\"\",\"-\"),O525))))","v":""},{"$nulls":13},{"$f":"IF(LEN('1 - Opstart Importark'!$B$6)>0,'1 - Opstart Importark'!$B$6,\"\")","v":""},{"$f":"IF(LEN('1 - Opstart Importark'!$B$9)>0,'1 - Opstart Importark'!$B$9,\"\")","v":""},{"$f":"IF(LEN('1 - Opstart Importark'!$B$31)>0,'1 - Opstart Importark'!$B$31,\"\")","v":""},{"$nulls":12},"",{"$nulls":8},{"$f":"IFERROR(FIND(\".\",F525),)","v":0},{"$f":"IF(M525=\"\",\"\",IF(LEFT(M525,1)=\"E\",0,1))","v":""},{"$f":"IF(M525=\"\",\"\",IF(LEFT(M525,1)=\"E\",0,1))","v":""},{"$f":"IF(W525=\"\", CONCATENATE(\"objektnogle_\",LEFT(AF525,1)),CONCATENATE(\"objektnogle_\",LEFT(W525,1)))","v":"objektnogle_"}]
[515,null,{"$f":"IF('1 - Opstart Importark'!$B$6=\"\",\"\",(IF('1 - Opstart Importark'!$B$15=\"\",CONCATENATE(LEFT('1 - Opstart Importark'!$B$3,1),(LEFT('1 - Opstart Importark'!$B$24,2)),LEFT('1 - Opstart Importark'!$B$28,3),IF(I526=\"\",\"\",\"-\"),I526,IF(K526=\"\",\"\",\"-\"),K526,IF(M526=\"\",\"\",\"-\"),M526,IF(O526=\"\",\"\",\"-\"),O526),CONCATENATE(LEFT('1 - Opstart Importark'!$B$3,1),(LEFT('1 - Opstart Importark'!$B$15,2)),(LEFT('1 - Opstart Importark'!$B$18,3)),IF(I526=\"\",\"\",\"-\"),I526,IF(K526=\"\",\"\",\"-\"),K526,IF(M526=\"\",\"\",\"-\"),M526,IF(O526=\"\",\"\",\"-\"),O526))))","v":""},{"$nulls":13},{"$f":"IF(LEN('1 - Opstart Importark'!$B$6)>0,'1 - Opstart Importark'!$B$6,\"\")","v":""},{"$f":"IF(LEN('1 - Opstart Importark'!$B$9)>0,'1 - Opstart Importark'!$B$9,\"\")","v":""},{"$f":"IF(LEN('1 - Opstart Importark'!$B$31)>0,'1 - Opstart Importark'!$B$31,\"\")","v":""},{"$nulls":12},"",{"$nulls":8},0,"","","objektnogle_"]
[516,null,{"$f":"IF('1 - Opstart Importark'!$B$6=\"\",\"\",(IF('1 - Opstart Importark'!$B$15=\"\",CONCATENATE(LEFT('1 - Opstart Importark'!$B$3,1),(LEFT('1 - Opstart Importark'!$B$24,2)),LEFT('1 - Opstart Importark'!$B$28,3),IF(I527=\"\",\"\",\"-\"),I527,IF(K527=\"\",\"\",\"-\"),K527,IF(M527=\"\",\"\",\"-\"),M527,IF(O527=\"\",\"\",\"-\"),O527),CONCATENATE(LEFT('1 - Opstart Importark'!$B$3,1),(LEFT('1 - Opstart Importark'!$B$15,2)),(LEFT('1 - Opstart Importark'!$B$18,3)),IF(I527=\"\",\"\",\"-\"),I527,IF(K527=\"\",\"\",\"-\"),K527,IF(M527=\"\",\"\",\"-\"),M527,IF(O527=\"\",\"\",\"-\"),O527))))","v":""},{"$nulls":13},{"$f":"IF(LEN('1 - Opstart Importark'!$B$6)>0,'1 - Opstart Importark'!$B$6,\"\")","v":""},{"$f":"IF(LEN('1 - Opstart Importark'!$B$9)>0,'1 - Opstart Importark'!$B$9,\"\")","v":""},{"$f":"IF(LEN('1 - Opstart Importark'!$B$31)>0,'1 - Opstart Importark'!$B$31,\"\")","v":""},{"$nulls":12},"",{"$nulls":8},0,"","","objektnogle_"]
[517,null,{"$f":"IF('1 - Opstart Importark'!$B$6=\"\",\"\",(IF('1 - Opstart Importark'!$B$15=\"\",CONCATENATE(LEFT('1 - Opstart Importark'!$B$3,1),(LEFT('1 - Opstart Importark'!$B$24,2)),LEFT('1 - Opstart Importark'!$B$28,3),IF(I528=\"\",\"\",\"-\"),I528,IF(K528=\"\",\"\",\"-\"),K528,IF(M528=\"\",\"\",\"-\"),M528,IF(O528=\"\",\"\",\"-\"),O528),CONCATENATE(LEFT('1 - Opstart Importark'!$B$3,1),(LEFT('1 - Opstart Importark'!$B$15,2)),(LEFT('1 - Opstart Importark'!$B$18,3)),IF(I528=\"\",\"\",\"-\"),I528,IF(K528=\"\",\"\",\"-\"),K528,IF(M528=\"\",\"\",\"-\"),M528,IF(O528=\"\",\"\",\"-\"),O528))))","v":""},{"$nulls":13},{"$f":"IF(LEN('1 - Opstart Importark'!$B$6)>0,'1 - Opstart Importark'!$B$6,\"\")","v":""},{"$f":"IF(LEN('1 - Opstart Importark'!$B$9)>0,'1 - Opstart Importark'!$B$9,\"\")","v":""},{"$f":"IF(LEN('1 - Opstart Importark'!$B$31)>0,'1 - Opstart Importark'!$B$31,\"\")","v":""},{"$nulls":12},"",{"$nulls":8},0,"","","objektnogle_"]
[518,null,{"$f":"IF('1 - Opstart Importark'!$B$6=\"\",\"\",(IF('1 - Opstart Importark'!$B$15=\"\",CONCATENATE(LEFT('1 - Opstart Importark'!$B$3,1),(LEFT('1 - Opstart Importark'!$B$24,2)),LEFT('1 - Opstart Importark'!$B$28,3),IF(I529=\"\",\"\",\"-\"),I529,IF(K529=\"\",\"\",\"-\"),K529,IF(M529=\"\",\"\",\"-\"),M529,IF(O529=\"\",\"\",\"-\"),O529),CONCATENATE(LEFT('1 - Opstart Importark'!$B$3,1),(LEFT('1 - Opstart Importark'!$B$15,2)),(LEFT('1 - Opstart Importark'!$B$18,3)),IF(I529=\"\",\"\",\"-\"),I529,IF(K529=\"\",\"\",\"-\"),K529,IF(M529=\"\",\"\",\"-\"),M529,IF(O529=\"\",\"\",\"-\"),O529))))","v":""},{"$nulls":13},{"$f":"IF(LEN('1 - Opstart Importark'!$B$6)>0,'1 - Opstart Importark'!$B$6,\"\")","v":""},{"$f":"IF(LEN('1 - Opstart Importark'!$B$9)>0,'1 - Opstart Importark'!$B$9,\"\")","v":""},{"$f":"IF(LEN('1 - Opstart Importark'!$B$31)>0,'1 - Opstart Importark'!$B$31,\"\")","v":""},{"$nulls":12},"",{"$nulls":8},0,"","","objektnogle_"]
[519,null,{"$f":"IF('1 - Opstart Importark'!$B$6=\"\",\"\",(IF('1 - Opstart Importark'!$B$15=\"\",CONCATENATE(LEFT('1 - Opstart Importark'!$B$3,1),(LEFT('1 - Opstart Importark'!$B$24,2)),LEFT('1 - Opstart Importark'!$B$28,3),IF(I530=\"\",\"\",\"-\"),I530,IF(K530=\"\",\"\",\"-\"),K530,IF(M530=\"\",\"\",\"-\"),M530,IF(O530=\"\",\"\",\"-\"),O530),CONCATENATE(LEFT('1 - Opstart Importark'!$B$3,1),(LEFT('1 - Opstart Importark'!$B$15,2)),(LEFT('1 - Opstart Importark'!$B$18,3)),IF(I530=\"\",\"\",\"-\"),I530,IF(K530=\"\",\"\",\"-\"),K530,IF(M530=\"\",\"\",\"-\"),M530,IF(O530=\"\",\"\",\"-\"),O530))))","v":""},{"$nulls":13},{"$f":"IF(LEN('1 - Opstart Importark'!$B$6)>0,'1 - Opstart Importark'!$B$6,\"\")","v":""},{"$f":"IF(LEN('1 - Opstart Importark'!$B$9)>0,'1 - Opstart Importark'!$B$9,\"\")","v":""},{"$f":"IF(LEN('1 - Opstart Importark'!$B$31)>0,'1 - Opstart Importark'!$B$31,\"\")","v":""},{"$nulls":12},"",{"$nulls":8},0,"","","objektnogle_"]
[520,null,{"$f":"IF('1 - Opstart Importark'!$B$6=\"\",\"\",(IF('1 - Opstart Importark'!$B$15=\"\",CONCATENATE(LEFT('1 - Opstart Importark'!$B$3,1),(LEFT('1 - Opstart Importark'!$B$24,2)),LEFT('1 - Opstart Importark'!$B$28,3),IF(I531=\"\",\"\",\"-\"),I531,IF(K531=\"\",\"\",\"-\"),K531,IF(M531=\"\",\"\",\"-\"),M531,IF(O531=\"\",\"\",\"-\"),O531),CONCATENATE(LEFT('1 - Opstart Importark'!$B$3,1),(LEFT('1 - Opstart Importark'!$B$15,2)),(LEFT('1 - Opstart Importark'!$B$18,3)),IF(I531=\"\",\"\",\"-\"),I531,IF(K531=\"\",\"\",\"-\"),K531,IF(M531=\"\",\"\",\"-\"),M531,IF(O531=\"\",\"\",\"-\"),O531))))","v":""},{"$nulls":13},{"$f":"IF(LEN('1 - Opstart Importark'!$B$6)>0,'1 - Opstart Importark'!$B$6,\"\")","v":""},{"$f":"IF(LEN('1 - Opstart Importark'!$B$9)>0,'1 - Opstart Importark'!$B$9,\"\")","v":""},{"$f":"IF(LEN('1 - Opstart Importark'!$B$31)>0,'1 - Opstart Importark'!$B$31,\"\")","v":""},{"$nulls":12},"",{"$nulls":8},0,"","","objektnogle_"]
[521,null,{"$f":"IF('1 - Opstart Importark'!$B$6=\"\",\"\",(IF('1 - Opstart Importark'!$B$15=\"\",CONCATENATE(LEFT('1 - Opstart Importark'!$B$3,1),(LEFT('1 - Opstart Importark'!$B$24,2)),LEFT('1 - Opstart Importark'!$B$28,3),IF(I532=\"\",\"\",\"-\"),I532,IF(K532=\"\",\"\",\"-\"),K532,IF(M532=\"\",\"\",\"-\"),M532,IF(O532=\"\",\"\",\"-\"),O532),CONCATENATE(LEFT('1 - Opstart Importark'!$B$3,1),(LEFT('1 - Opstart Importark'!$B$15,2)),(LEFT('1 - Opstart Importark'!$B$18,3)),IF(I532=\"\",\"\",\"-\"),I532,IF(K532=\"\",\"\",\"-\"),K532,IF(M532=\"\",\"\",\"-\"),M532,IF(O532=\"\",\"\",\"-\"),O532))))","v":""},{"$nulls":13},{"$f":"IF(LEN('1 - Opstart Importark'!$B$6)>0,'1 - Opstart Importark'!$B$6,\"\")","v":""},{"$f":"IF(LEN('1 - Opstart Importark'!$B$9)>0,'1 - Opstart Importark'!$B$9,\"\")","v":""},{"$f":"IF(LEN('1 - Opstart Importark'!$B$31)>0,'1 - Opstart Importark'!$B$31,\"\")","v":""},{"$nulls":12},"",{"$nulls":8},0,"","","objektnogle_"]
[522,null,{"$f":"IF('1 - Opstart Importark'!$B$6=\"\",\"\",(IF('1 - Opstart Importark'!$B$15=\"\",CONCATENATE(LEFT('1 - Opstart Importark'!$B$3,1),(LEFT('1 - Opstart Importark'!$B$24,2)),LEFT('1 - Opstart Importark'!$B$28,3),IF(I533=\"\",\"\",\"-\"),I533,IF(K533=\"\",\"\",\"-\"),K533,IF(M533=\"\",\"\",\"-\"),M533,IF(O533=\"\",\"\",\"-\"),O533),CONCATENATE(LEFT('1 - Opstart Importark'!$B$3,1),(LEFT('1 - Opstart Importark'!$B$15,2)),(LEFT('1 - Opstart Importark'!$B$18,3)),IF(I533=\"\",\"\",\"-\"),I533,IF(K533=\"\",\"\",\"-\"),K533,IF(M533=\"\",\"\",\"-\"),M533,IF(O533=\"\",\"\",\"-\"),O533))))","v":""},{"$nulls":13},{"$f":"IF(LEN('1 - Opstart Importark'!$B$6)>0,'1 - Opstart Importark'!$B$6,\"\")","v":""},{"$f":"IF(LEN('1 - Opstart Importark'!$B$9)>0,'1 - Opstart Importark'!$B$9,\"\")","v":""},{"$f":"IF(LEN('1 - Opstart Importark'!$B$31)>0,'1 - Opstart Importark'!$B$31,\"\")","v":""},{"$nulls":12},"",{"$nulls":8},0,"","","objektnogle_"]
[523,null,{"$f":"IF('1 - Opstart Importark'!$B$6=\"\",\"\",(IF('1 - Opstart Importark'!$B$15=\"\",CONCATENATE(LEFT('1 - Opstart Importark'!$B$3,1),(LEFT('1 - Opstart Importark'!$B$24,2)),LEFT('1 - Opstart Importark'!$B$28,3),IF(I534=\"\",\"\",\"-\"),I534,IF(K534=\"\",\"\",\"-\"),K534,IF(M534=\"\",\"\",\"-\"),M534,IF(O534=\"\",\"\",\"-\"),O534),CONCATENATE(LEFT('1 - Opstart Importark'!$B$3,1),(LEFT('1 - Opstart Importark'!$B$15,2)),(LEFT('1 - Opstart Importark'!$B$18,3)),IF(I534=\"\",\"\",\"-\"),I534,IF(K534=\"\",\"\",\"-\"),K534,IF(M534=\"\",\"\",\"-\"),M534,IF(O534=\"\",\"\",\"-\"),O534))))","v":""},{"$nulls":13},{"$f":"IF(LEN('1 - Opstart Importark'!$B$6)>0,'1 - Opstart Importark'!$B$6,\"\")","v":""},{"$f":"IF(LEN('1 - Opstart Importark'!$B$9)>0,'1 - Opstart Importark'!$B$9,\"\")","v":""},{"$f":"IF(LEN('1 - Opstart Importark'!$B$31)>0,'1 - Opstart Importark'!$B$31,\"\")","v":""},{"$nulls":12},"",{"$nulls":8},0,"","","objektnogle_"]
[524,null,{"$f":"IF('1 - Opstart Importark'!$B$6=\"\",\"\",(IF('1 - Opstart Importark'!$B$15=\"\",CONCATENATE(LEFT('1 - Opstart Importark'!$B$3,1),(LEFT('1 - Opstart Importark'!$B$24,2)),LEFT('1 - Opstart Importark'!$B$28,3),IF(I535=\"\",\"\",\"-\"),I535,IF(K535=\"\",\"\",\"-\"),K535,IF(M535=\"\",\"\",\"-\"),M535,IF(O535=\"\",\"\",\"-\"),O535),CONCATENATE(LEFT('1 - Opstart Importark'!$B$3,1),(LEFT('1 - Opstart Importark'!$B$15,2)),(LEFT('1 - Opstart Importark'!$B$18,3)),IF(I535=\"\",\"\",\"-\"),I535,IF(K535=\"\",\"\",\"-\"),K535,IF(M535=\"\",\"\",\"-\"),M535,IF(O535=\"\",\"\",\"-\"),O535))))","v":""},{"$nulls":13},{"$f":"IF(LEN('1 - Opstart Importark'!$B$6)>0,'1 - Opstart Importark'!$B$6,\"\")","v":""},{"$f":"IF(LEN('1 - Opstart Importark'!$B$9)>0,'1 - Opstart Importark'!$B$9,\"\")","v":""},{"$f":"IF(LEN('1 - Opstart Importark'!$B$31)>0,'1 - Opstart Importark'!$B$31,\"\")","v":""},{"$nulls":12},"",{"$nulls":8},0,"","","objektnogle_"]
[525,null,{"$f":"IF('1 - Opstart Importark'!$B$6=\"\",\"\",(IF('1 - Opstart Importark'!$B$15=\"\",CONCATENATE(LEFT('1 - Opstart Importark'!$B$3,1),(LEFT('1 - Opstart Importark'!$B$24,2)),LEFT('1 - Opstart Importark'!$B$28,3),IF(I536=\"\",\"\",\"-\"),I536,IF(K536=\"\",\"\",\"-\"),K536,IF(M536=\"\",\"\",\"-\"),M536,IF(O536=\"\",\"\",\"-\"),O536),CONCATENATE(LEFT('1 - Opstart Importark'!$B$3,1),(LEFT('1 - Opstart Importark'!$B$15,2)),(LEFT('1 - Opstart Importark'!$B$18,3)),IF(I536=\"\",\"\",\"-\"),I536,IF(K536=\"\",\"\",\"-\"),K536,IF(M536=\"\",\"\",\"-\"),M536,IF(O536=\"\",\"\",\"-\"),O536))))","v":""},{"$nulls":13},{"$f":"IF(LEN('1 - Opstart Importark'!$B$6)>0,'1 - Opstart Importark'!$B$6,\"\")","v":""},{"$f":"IF(LEN('1 - Opstart Importark'!$B$9)>0,'1 - Opstart Importark'!$B$9,\"\")","v":""},{"$f":"IF(LEN('1 - Opstart Importark'!$B$31)>0,'1 - Opstart Importark'!$B$31,\"\")","v":""},{"$nulls":12},"",{"$nulls":8},0,"","","objektnogle_"]
[526,null,{"$f":"IF('1 - Opstart Importark'!$B$6=\"\",\"\",(IF('1 - Opstart Importark'!$B$15=\"\",CONCATENATE(LEFT('1 - Opstart Importark'!$B$3,1),(LEFT('1 - Opstart Importark'!$B$24,2)),LEFT('1 - Opstart Importark'!$B$28,3),IF(I537=\"\",\"\",\"-\"),I537,IF(K537=\"\",\"\",\"-\"),K537,IF(M537=\"\",\"\",\"-\"),M537,IF(O537=\"\",\"\",\"-\"),O537),CONCATENATE(LEFT('1 - Opstart Importark'!$B$3,1),(LEFT('1 - Opstart Importark'!$B$15,2)),(LEFT('1 - Opstart Importark'!$B$18,3)),IF(I537=\"\",\"\",\"-\"),I537,IF(K537=\"\",\"\",\"-\"),K537,IF(M537=\"\",\"\",\"-\"),M537,IF(O537=\"\",\"\",\"-\"),O537))))","v":""},{"$nulls":13},{"$f":"IF(LEN('1 - Opstart Importark'!$B$6)>0,'1 - Opstart Importark'!$B$6,\"\")","v":""},{"$f":"IF(LEN('1 - Opstart Importark'!$B$9)>0,'1 - Opstart Importark'!$B$9,\"\")","v":""},{"$f":"IF(LEN('1 - Opstart Importark'!$B$31)>0,'1 - Opstart Importark'!$B$31,\"\")","v":""},{"$nulls":12},"",{"$nulls":8},0,"","","objektnogle_"]
[527,null,{"$f":"IF('1 - Opstart Importark'!$B$6=\"\",\"\",(IF('1 - Opstart Importark'!$B$15=\"\",CONCATENATE(LEFT('1 - Opstart Importark'!$B$3,1),(LEFT('1 - Opstart Importark'!$B$24,2)),LEFT('1 - Opstart Importark'!$B$28,3),IF(I538=\"\",\"\",\"-\"),I538,IF(K538=\"\",\"\",\"-\"),K538,IF(M538=\"\",\"\",\"-\"),M538,IF(O538=\"\",\"\",\"-\"),O538),CONCATENATE(LEFT('1 - Opstart Importark'!$B$3,1),(LEFT('1 - Opstart Importark'!$B$15,2)),(LEFT('1 - Opstart Importark'!$B$18,3)),IF(I538=\"\",\"\",\"-\"),I538,IF(K538=\"\",\"\",\"-\"),K538,IF(M538=\"\",\"\",\"-\"),M538,IF(O538=\"\",\"\",\"-\"),O538))))","v":""},{"$nulls":13},{"$f":"IF(LEN('1 - Opstart Importark'!$B$6)>0,'1 - Opstart Importark'!$B$6,\"\")","v":""},{"$f":"IF(LEN('1 - Opstart Importark'!$B$9)>0,'1 - Opstart Importark'!$B$9,\"\")","v":""},{"$f":"IF(LEN('1 - Opstart Importark'!$B$31)>0,'1 - Opstart Importark'!$B$31,\"\")","v":""},{"$nulls":12},"",{"$nulls":8},0,"","","objektnogle_"]
[528,null,{"$f":"IF('1 - Opstart Importark'!$B$6=\"\",\"\",(IF('1 - Opstart Importark'!$B$15=\"\",CONCATENATE(LEFT('1 - Opstart Importark'!$B$3,1),(LEFT('1 - Opstart Importark'!$B$24,2)),LEFT('1 - Opstart Importark'!$B$28,3),IF(I539=\"\",\"\",\"-\"),I539,IF(K539=\"\",\"\",\"-\"),K539,IF(M539=\"\",\"\",\"-\"),M539,IF(O539=\"\",\"\",\"-\"),O539),CONCATENATE(LEFT('1 - Opstart Importark'!$B$3,1),(LEFT('1 - Opstart Importark'!$B$15,2)),(LEFT('1 - Opstart Importark'!$B$18,3)),IF(I539=\"\",\"\",\"-\"),I539,IF(K539=\"\",\"\",\"-\"),K539,IF(M539=\"\",\"\",\"-\"),M539,IF(O539=\"\",\"\",\"-\"),O539))))","v":""},{"$nulls":13},{"$f":"IF(LEN('1 - Opstart Importark'!$B$6)>0,'1 - Opstart Importark'!$B$6,\"\")","v":""},{"$f":"IF(LEN('1 - Opstart Importark'!$B$9)>0,'1 - Opstart Importark'!$B$9,\"\")","v":""},{"$f":"IF(LEN('1 - Opstart Importark'!$B$31)>0,'1 - Opstart Importark'!$B$31,\"\")","v":""},{"$nulls":12},"",{"$nulls":8},0,"","","objektnogle_"]
[529,null,{"$f":"IF('1 - Opstart Importark'!$B$6=\"\",\"\",(IF('1 - Opstart Importark'!$B$15=\"\",CONCATENATE(LEFT('1 - Opstart Importark'!$B$3,1),(LEFT('1 - Opstart Importark'!$B$24,2)),LEFT('1 - Opstart Importark'!$B$28,3),IF(I540=\"\",\"\",\"-\"),I540,IF(K540=\"\",\"\",\"-\"),K540,IF(M540=\"\",\"\",\"-\"),M540,IF(O540=\"\",\"\",\"-\"),O540),CONCATENATE(LEFT('1 - Opstart Importark'!$B$3,1),(LEFT('1 - Opstart Importark'!$B$15,2)),(LEFT('1 - Opstart Importark'!$B$18,3)),IF(I540=\"\",\"\",\"-\"),I540,IF(K540=\"\",\"\",\"-\"),K540,IF(M540=\"\",\"\",\"-\"),M540,IF(O540=\"\",\"\",\"-\"),O540))))","v":""},{"$nulls":13},{"$f":"IF(LEN('1 - Opstart Importark'!$B$6)>0,'1 - Opstart Importark'!$B$6,\"\")","v":""},{"$f":"IF(LEN('1 - Opstart Importark'!$B$9)>0,'1 - Opstart Importark'!$B$9,\"\")","v":""},{"$f":"IF(LEN('1 - Opstart Importark'!$B$31)>0,'1 - Opstart Importark'!$B$31,\"\")","v":""},{"$nulls":12},"",{"$nulls":8},0,"","","objektnogle_"]
[530,null,{"$f":"IF('1 - Opstart Importark'!$B$6=\"\",\"\",(IF('1 - Opstart Importark'!$B$15=\"\",CONCATENATE(LEFT('1 - Opstart Importark'!$B$3,1),(LEFT('1 - Opstart Importark'!$B$24,2)),LEFT('1 - Opstart Importark'!$B$28,3),IF(I541=\"\",\"\",\"-\"),I541,IF(K541=\"\",\"\",\"-\"),K541,IF(M541=\"\",\"\",\"-\"),M541,IF(O541=\"\",\"\",\"-\"),O541),CONCATENATE(LEFT('1 - Opstart Importark'!$B$3,1),(LEFT('1 - Opstart Importark'!$B$15,2)),(LEFT('1 - Opstart Importark'!$B$18,3)),IF(I541=\"\",\"\",\"-\"),I541,IF(K541=\"\",\"\",\"-\"),K541,IF(M541=\"\",\"\",\"-\"),M541,IF(O541=\"\",\"\",\"-\"),O541))))","v":""},{"$nulls":13},{"$f":"IF(LEN('1 - Opstart Importark'!$B$6)>0,'1 - Opstart Importark'!$B$6,\"\")","v":""},{"$f":"IF(LEN('1 - Opstart Importark'!$B$9)>0,'1 - Opstart Importark'!$B$9,\"\")","v":""},{"$f":"IF(LEN('1 - Opstart Importark'!$B$31)>0,'1 - Opstart Importark'!$B$31,\"\")","v":""},{"$nulls":12},"",{"$nulls":8},0,"","","objektnogle_"]
[531,null,{"$f":"IF('1 - Opstart Importark'!$B$6=\"\",\"\",(IF('1 - Opstart Importark'!$B$15=\"\",CONCATENATE(LEFT('1 - Opstart Importark'!$B$3,1),(LEFT('1 - Opstart Importark'!$B$24,2)),LEFT('1 - Opstart Importark'!$B$28,3),IF(I542=\"\",\"\",\"-\"),I542,IF(K542=\"\",\"\",\"-\"),K542,IF(M542=\"\",\"\",\"-\"),M542,IF(O542=\"\",\"\",\"-\"),O542),CONCATENATE(LEFT('1 - Opstart Importark'!$B$3,1),(LEFT('1 - Opstart Importark'!$B$15,2)),(LEFT('1 - Opstart Importark'!$B$18,3)),IF(I542=\"\",\"\",\"-\"),I542,IF(K542=\"\",\"\",\"-\"),K542,IF(M542=\"\",\"\",\"-\"),M542,IF(O542=\"\",\"\",\"-\"),O542))))","v":""},{"$nulls":13},{"$f":"IF(LEN('1 - Opstart Importark'!$B$6)>0,'1 - Opstart Importark'!$B$6,\"\")","v":""},{"$f":"IF(LEN('1 - Opstart Importark'!$B$9)>0,'1 - Opstart Importark'!$B$9,\"\")","v":""},{"$f":"IF(LEN('1 - Opstart Importark'!$B$31)>0,'1 - Opstart Importark'!$B$31,\"\")","v":""},{"$nulls":12},"",{"$nulls":8},0,"","","objektnogle_"]
[532,null,{"$f":"IF('1 - Opstart Importark'!$B$6=\"\",\"\",(IF('1 - Opstart Importark'!$B$15=\"\",CONCATENATE(LEFT('1 - Opstart Importark'!$B$3,1),(LEFT('1 - Opstart Importark'!$B$24,2)),LEFT('1 - Opstart Importark'!$B$28,3),IF(I543=\"\",\"\",\"-\"),I543,IF(K543=\"\",\"\",\"-\"),K543,IF(M543=\"\",\"\",\"-\"),M543,IF(O543=\"\",\"\",\"-\"),O543),CONCATENATE(LEFT('1 - Opstart Importark'!$B$3,1),(LEFT('1 - Opstart Importark'!$B$15,2)),(LEFT('1 - Opstart Importark'!$B$18,3)),IF(I543=\"\",\"\",\"-\"),I543,IF(K543=\"\",\"\",\"-\"),K543,IF(M543=\"\",\"\",\"-\"),M543,IF(O543=\"\",\"\",\"-\"),O543))))","v":""},{"$nulls":13},{"$f":"IF(LEN('1 - Opstart Importark'!$B$6)>0,'1 - Opstart Importark'!$B$6,\"\")","v":""},{"$f":"IF(LEN('1 - Opstart Importark'!$B$9)>0,'1 - Opstart Importark'!$B$9,\"\")","v":""},{"$f":"IF(LEN('1 - Opstart Importark'!$B$31)>0,'1 - Opstart Importark'!$B$31,\"\")","v":""},{"$nulls":12},"",{"$nulls":8},0,"","","objektnogle_"]
[533,null,{"$f":"IF('1 - Opstart Importark'!$B$6=\"\",\"\",(IF('1 - Opstart Importark'!$B$15=\"\",CONCATENATE(LEFT('1 - Opstart Importark'!$B$3,1),(LEFT('1 - Opstart Importark'!$B$24,2)),LEFT('1 - Opstart Importark'!$B$28,3),IF(I544=\"\",\"\",\"-\"),I544,IF(K544=\"\",\"\",\"-\"),K544,IF(M544=\"\",\"\",\"-\"),M544,IF(O544=\"\",\"\",\"-\"),O544),CONCATENATE(LEFT('1 - Opstart Importark'!$B$3,1),(LEFT('1 - Opstart Importark'!$B$15,2)),(LEFT('1 - Opstart Importark'!$B$18,3)),IF(I544=\"\",\"\",\"-\"),I544,IF(K544=\"\",\"\",\"-\"),K544,IF(M544=\"\",\"\",\"-\"),M544,IF(O544=\"\",\"\",\"-\"),O544))))","v":""},{"$nulls":13},{"$f":"IF(LEN('1 - Opstart Importark'!$B$6)>0,'1 - Opstart Importark'!$B$6,\"\")","v":""},{"$f":"IF(LEN('1 - Opstart Importark'!$B$9)>0,'1 - Opstart Importark'!$B$9,\"\")","v":""},{"$f":"IF(LEN('1 - Opstart Importark'!$B$31)>0,'1 - Opstart Importark'!$B$31,\"\")","v":""},{"$nulls":12},"",{"$nulls":8},0,"","","objektnogle_"]
[534,null,{"$f":"IF('1 - Opstart Importark'!$B$6=\"\",\"\",(IF('1 - Opstart Importark'!$B$15=\"\",CONCATENATE(LEFT('1 - Opstart Importark'!$B$3,1),(LEFT('1 - Opstart Importark'!$B$24,2)),LEFT('1 - Opstart Importark'!$B$28,3),IF(I545=\"\",\"\",\"-\"),I545,IF(K545=\"\",\"\",\"-\"),K545,IF(M545=\"\",\"\",\"-\"),M545,IF(O545=\"\",\"\",\"-\"),O545),CONCATENATE(LEFT('1 - Opstart Importark'!$B$3,1),(LEFT('1 - Opstart Importark'!$B$15,2)),(LEFT('1 - Opstart Importark'!$B$18,3)),IF(I545=\"\",\"\",\"-\"),I545,IF(K545=\"\",\"\",\"-\"),K545,IF(M545=\"\",\"\",\"-\"),M545,IF(O545=\"\",\"\",\"-\"),O545))))","v":""},{"$nulls":13},{"$f":"IF(LEN('1 - Opstart Importark'!$B$6)>0,'1 - Opstart Importark'!$B$6,\"\")","v":""},{"$f":"IF(LEN('1 - Opstart Importark'!$B$9)>0,'1 - Opstart Importark'!$B$9,\"\")","v":""},{"$f":"IF(LEN('1 - Opstart Importark'!$B$31)>0,'1 - Opstart Importark'!$B$31,\"\")","v":""},{"$nulls":12},"",{"$nulls":8},0,"","","objektnogle_"]
[535,null,{"$f":"IF('1 - Opstart Importark'!$B$6=\"\",\"\",(IF('1 - Opstart Importark'!$B$15=\"\",CONCATENATE(LEFT('1 - Opstart Importark'!$B$3,1),(LEFT('1 - Opstart Importark'!$B$24,2)),LEFT('1 - Opstart Importark'!$B$28,3),IF(I546=\"\",\"\",\"-\"),I546,IF(K546=\"\",\"\",\"-\"),K546,IF(M546=\"\",\"\",\"-\"),M546,IF(O546=\"\",\"\",\"-\"),O546),CONCATENATE(LEFT('1 - Opstart Importark'!$B$3,1),(LEFT('1 - Opstart Importark'!$B$15,2)),(LEFT('1 - Opstart Importark'!$B$18,3)),IF(I546=\"\",\"\",\"-\"),I546,IF(K546=\"\",\"\",\"-\"),K546,IF(M546=\"\",\"\",\"-\"),M546,IF(O546=\"\",\"\",\"-\"),O546))))","v":""},{"$nulls":13},{"$f":"IF(LEN('1 - Opstart Importark'!$B$6)>0,'1 - Opstart Importark'!$B$6,\"\")","v":""},{"$f":"IF(LEN('1 - Opstart Importark'!$B$9)>0,'1 - Opstart Importark'!$B$9,\"\")","v":""},{"$f":"IF(LEN('1 - Opstart Importark'!$B$31)>0,'1 - Opstart Importark'!$B$31,\"\")","v":""},{"$nulls":12},"",{"$nulls":8},0,"","","objektnogle_"]
[536,null,{"$f":"IF('1 - Opstart Importark'!$B$6=\"\",\"\",(IF('1 - Opstart Importark'!$B$15=\"\",CONCATENATE(LEFT('1 - Opstart Importark'!$B$3,1),(LEFT('1 - Opstart Importark'!$B$24,2)),LEFT('1 - Opstart Importark'!$B$28,3),IF(I547=\"\",\"\",\"-\"),I547,IF(K547=\"\",\"\",\"-\"),K547,IF(M547=\"\",\"\",\"-\"),M547,IF(O547=\"\",\"\",\"-\"),O547),CONCATENATE(LEFT('1 - Opstart Importark'!$B$3,1),(LEFT('1 - Opstart Importark'!$B$15,2)),(LEFT('1 - Opstart Importark'!$B$18,3)),IF(I547=\"\",\"\",\"-\"),I547,IF(K547=\"\",\"\",\"-\"),K547,IF(M547=\"\",\"\",\"-\"),M547,IF(O547=\"\",\"\",\"-\"),O547))))","v":""},{"$nulls":13},{"$f":"IF(LEN('1 - Opstart Importark'!$B$6)>0,'1 - Opstart Importark'!$B$6,\"\")","v":""},{"$f":"IF(LEN('1 - Opstart Importark'!$B$9)>0,'1 - Opstart Importark'!$B$9,\"\")","v":""},{"$f":"IF(LEN('1 - Opstart Importark'!$B$31)>0,'1 - Opstart Importark'!$B$31,\"\")","v":""},{"$nulls":12},"",{"$nulls":8},0,"","","objektnogle_"]
[537,null,{"$f":"IF('1 - Opstart Importark'!$B$6=\"\",\"\",(IF('1 - Opstart Importark'!$B$15=\"\",CONCATENATE(LEFT('1 - Opstart Importark'!$B$3,1),(LEFT('1 - Opstart Importark'!$B$24,2)),LEFT('1 - Opstart Importark'!$B$28,3),IF(I548=\"\",\"\",\"-\"),I548,IF(K548=\"\",\"\",\"-\"),K548,IF(M548=\"\",\"\",\"-\"),M548,IF(O548=\"\",\"\",\"-\"),O548),CONCATENATE(LEFT('1 - Opstart Importark'!$B$3,1),(LEFT('1 - Opstart Importark'!$B$15,2)),(LEFT('1 - Opstart Importark'!$B$18,3)),IF(I548=\"\",\"\",\"-\"),I548,IF(K548=\"\",\"\",\"-\"),K548,IF(M548=\"\",\"\",\"-\"),M548,IF(O548=\"\",\"\",\"-\"),O548))))","v":""},{"$nulls":13},{"$f":"IF(LEN('1 - Opstart Importark'!$B$6)>0,'1 - Opstart Importark'!$B$6,\"\")","v":""},{"$f":"IF(LEN('1 - Opstart Importark'!$B$9)>0,'1 - Opstart Importark'!$B$9,\"\")","v":""},{"$f":"IF(LEN('1 - Opstart Importark'!$B$31)>0,'1 - Opstart Importark'!$B$31,\"\")","v":""},{"$nulls":12},"",{"$nulls":8},0,"","","objektnogle_"]
[538,null,{"$f":"IF('1 - Opstart Importark'!$B$6=\"\",\"\",(IF('1 - Opstart Importark'!$B$15=\"\",CONCATENATE(LEFT('1 - Opstart Importark'!$B$3,1),(LEFT('1 - Opstart Importark'!$B$24,2)),LEFT('1 - Opstart Importark'!$B$28,3),IF(I549=\"\",\"\",\"-\"),I549,IF(K549=\"\",\"\",\"-\"),K549,IF(M549=\"\",\"\",\"-\"),M549,IF(O549=\"\",\"\",\"-\"),O549),CONCATENATE(LEFT('1 - Opstart Importark'!$B$3,1),(LEFT('1 - Opstart Importark'!$B$15,2)),(LEFT('1 - Opstart Importark'!$B$18,3)),IF(I549=\"\",\"\",\"-\"),I549,IF(K549=\"\",\"\",\"-\"),K549,IF(M549=\"\",\"\",\"-\"),M549,IF(O549=\"\",\"\",\"-\"),O549))))","v":""},{"$nulls":13},{"$f":"IF(LEN('1 - Opstart Importark'!$B$6)>0,'1 - Opstart Importark'!$B$6,\"\")","v":""},{"$f":"IF(LEN('1 - Opstart Importark'!$B$9)>0,'1 - Opstart Importark'!$B$9,\"\")","v":""},{"$f":"IF(LEN('1 - Opstart Importark'!$B$31)>0,'1 - Opstart Importark'!$B$31,\"\")","v":""},{"$nulls":12},"",{"$nulls":8},0,"","","objektnogle_"]
[539,null,{"$f":"IF('1 - Opstart Importark'!$B$6=\"\",\"\",(IF('1 - Opstart Importark'!$B$15=\"\",CONCATENATE(LEFT('1 - Opstart Importark'!$B$3,1),(LEFT('1 - Opstart Importark'!$B$24,2)),LEFT('1 - Opstart Importark'!$B$28,3),IF(I550=\"\",\"\",\"-\"),I550,IF(K550=\"\",\"\",\"-\"),K550,IF(M550=\"\",\"\",\"-\"),M550,IF(O550=\"\",\"\",\"-\"),O550),CONCATENATE(LEFT('1 - Opstart Importark'!$B$3,1),(LEFT('1 - Opstart Importark'!$B$15,2)),(LEFT('1 - Opstart Importark'!$B$18,3)),IF(I550=\"\",\"\",\"-\"),I550,IF(K550=\"\",\"\",\"-\"),K550,IF(M550=\"\",\"\",\"-\"),M550,IF(O550=\"\",\"\",\"-\"),O550))))","v":""},{"$nulls":13},{"$f":"IF(LEN('1 - Opstart Importark'!$B$6)>0,'1 - Opstart Importark'!$B$6,\"\")","v":""},{"$f":"IF(LEN('1 - Opstart Importark'!$B$9)>0,'1 - Opstart Importark'!$B$9,\"\")","v":""},{"$f":"IF(LEN('1 - Opstart Importark'!$B$31)>0,'1 - Opstart Importark'!$B$31,\"\")","v":""},{"$nulls":12},"",{"$nulls":8},0,"","","objektnogle_"]
[540,null,{"$f":"IF('1 - Opstart Importark'!$B$6=\"\",\"\",(IF('1 - Opstart Importark'!$B$15=\"\",CONCATENATE(LEFT('1 - Opstart Importark'!$B$3,1),(LEFT('1 - Opstart Importark'!$B$24,2)),LEFT('1 - Opstart Importark'!$B$28,3),IF(I551=\"\",\"\",\"-\"),I551,IF(K551=\"\",\"\",\"-\"),K551,IF(M551=\"\",\"\",\"-\"),M551,IF(O551=\"\",\"\",\"-\"),O551),CONCATENATE(LEFT('1 - Opstart Importark'!$B$3,1),(LEFT('1 - Opstart Importark'!$B$15,2)),(LEFT('1 - Opstart Importark'!$B$18,3)),IF(I551=\"\",\"\",\"-\"),I551,IF(K551=\"\",\"\",\"-\"),K551,IF(M551=\"\",\"\",\"-\"),M551,IF(O551=\"\",\"\",\"-\"),O551))))","v":""},{"$nulls":13},{"$f":"IF(LEN('1 - Opstart Importark'!$B$6)>0,'1 - Opstart Importark'!$B$6,\"\")","v":""},{"$f":"IF(LEN('1 - Opstart Importark'!$B$9)>0,'1 - Opstart Importark'!$B$9,\"\")","v":""},{"$f":"IF(LEN('1 - Opstart Importark'!$B$31)>0,'1 - Opstart Importark'!$B$31,\"\")","v":""},{"$nulls":12},"",{"$nulls":8},0,"","","objektnogle_"]
[541,null,{"$f":"IF('1 - Opstart Importark'!$B$6=\"\",\"\",(IF('1 - Opstart Importark'!$B$15=\"\",CONCATENATE(LEFT('1 - Opstart Importark'!$B$3,1),(LEFT('1 - Opstart Importark'!$B$24,2)),LEFT('1 - Opstart Importark'!$B$28,3),IF(I552=\"\",\"\",\"-\"),I552,IF(K552=\"\",\"\",\"-\"),K552,IF(M552=\"\",\"\",\"-\"),M552,IF(O552=\"\",\"\",\"-\"),O552),CONCATENATE(LEFT('1 - Opstart Importark'!$B$3,1),(LEFT('1 - Opstart Importark'!$B$15,2)),(LEFT('1 - Opstart Importark'!$B$18,3)),IF(I552=\"\",\"\",\"-\"),I552,IF(K552=\"\",\"\",\"-\"),K552,IF(M552=\"\",\"\",\"-\"),M552,IF(O552=\"\",\"\",\"-\"),O552))))","v":""},{"$nulls":13},{"$f":"IF(LEN('1 - Opstart Importark'!$B$6)>0,'1 - Opstart Importark'!$B$6,\"\")","v":""},{"$f":"IF(LEN('1 - Opstart Importark'!$B$9)>0,'1 - Opstart Importark'!$B$9,\"\")","v":""},{"$f":"IF(LEN('1 - Opstart Importark'!$B$31)>0,'1 - Opstart Importark'!$B$31,\"\")","v":""},{"$nulls":12},"",{"$nulls":8},0,"","","objektnogle_"]
[542,null,{"$f":"IF('1 - Opstart Importark'!$B$6=\"\",\"\",(IF('1 - Opstart Importark'!$B$15=\"\",CONCATENATE(LEFT('1 - Opstart Importark'!$B$3,1),(LEFT('1 - Opstart Importark'!$B$24,2)),LEFT('1 - Opstart Importark'!$B$28,3),IF(I553=\"\",\"\",\"-\"),I553,IF(K553=\"\",\"\",\"-\"),K553,IF(M553=\"\",\"\",\"-\"),M553,IF(O553=\"\",\"\",\"-\"),O553),CONCATENATE(LEFT('1 - Opstart Importark'!$B$3,1),(LEFT('1 - Opstart Importark'!$B$15,2)),(LEFT('1 - Opstart Importark'!$B$18,3)),IF(I553=\"\",\"\",\"-\"),I553,IF(K553=\"\",\"\",\"-\"),K553,IF(M553=\"\",\"\",\"-\"),M553,IF(O553=\"\",\"\",\"-\"),O553))))","v":""},{"$nulls":13},{"$f":"IF(LEN('1 - Opstart Importark'!$B$6)>0,'1 - Opstart Importark'!$B$6,\"\")","v":""},{"$f":"IF(LEN('1 - Opstart Importark'!$B$9)>0,'1 - Opstart Importark'!$B$9,\"\")","v":""},{"$f":"IF(LEN('1 - Opstart Importark'!$B$31)>0,'1 - Opstart Importark'!$B$31,\"\")","v":""},{"$nulls":12},"",{"$nulls":8},0,"","","objektnogle_"]
[543,null,{"$f":"IF('1 - Opstart Importark'!$B$6=\"\",\"\",(IF('1 - Opstart Importark'!$B$15=\"\",CONCATENATE(LEFT('1 - Opstart Importark'!$B$3,1),(LEFT('1 - Opstart Importark'!$B$24,2)),LEFT('1 - Opstart Importark'!$B$28,3),IF(I554=\"\",\"\",\"-\"),I554,IF(K554=\"\",\"\",\"-\"),K554,IF(M554=\"\",\"\",\"-\"),M554,IF(O554=\"\",\"\",\"-\"),O554),CONCATENATE(LEFT('1 - Opstart Importark'!$B$3,1),(LEFT('1 - Opstart Importark'!$B$15,2)),(LEFT('1 - Opstart Importark'!$B$18,3)),IF(I554=\"\",\"\",\"-\"),I554,IF(K554=\"\",\"\",\"-\"),K554,IF(M554=\"\",\"\",\"-\"),M554,IF(O554=\"\",\"\",\"-\"),O554))))","v":""},{"$nulls":13},{"$f":"IF(LEN('1 - Opstart Importark'!$B$6)>0,'1 - Opstart Importark'!$B$6,\"\")","v":""},{"$f":"IF(LEN('1 - Opstart Importark'!$B$9)>0,'1 - Opstart Importark'!$B$9,\"\")","v":""},{"$f":"IF(LEN('1 - Opstart Importark'!$B$31)>0,'1 - Opstart Importark'!$B$31,\"\")","v":""},{"$nulls":12},"",{"$nulls":8},0,"","","objektnogle_"]
[544,null,{"$f":"IF('1 - Opstart Importark'!$B$6=\"\",\"\",(IF('1 - Opstart Importark'!$B$15=\"\",CONCATENATE(LEFT('1 - Opstart Importark'!$B$3,1),(LEFT('1 - Opstart Importark'!$B$24,2)),LEFT('1 - Opstart Importark'!$B$28,3),IF(I555=\"\",\"\",\"-\"),I555,IF(K555=\"\",\"\",\"-\"),K555,IF(M555=\"\",\"\",\"-\"),M555,IF(O555=\"\",\"\",\"-\"),O555),CONCATENATE(LEFT('1 - Opstart Importark'!$B$3,1),(LEFT('1 - Opstart Importark'!$B$15,2)),(LEFT('1 - Opstart Importark'!$B$18,3)),IF(I555=\"\",\"\",\"-\"),I555,IF(K555=\"\",\"\",\"-\"),K555,IF(M555=\"\",\"\",\"-\"),M555,IF(O555=\"\",\"\",\"-\"),O555))))","v":""},{"$nulls":13},{"$f":"IF(LEN('1 - Opstart Importark'!$B$6)>0,'1 - Opstart Importark'!$B$6,\"\")","v":""},{"$f":"IF(LEN('1 - Opstart Importark'!$B$9)>0,'1 - Opstart Importark'!$B$9,\"\")","v":""},{"$f":"IF(LEN('1 - Opstart Importark'!$B$31)>0,'1 - Opstart Importark'!$B$31,\"\")","v":""},{"$nulls":12},"",{"$nulls":8},0,"","","objektnogle_"]
[545,null,{"$f":"IF('1 - Opstart Importark'!$B$6=\"\",\"\",(IF('1 - Opstart Importark'!$B$15=\"\",CONCATENATE(LEFT('1 - Opstart Importark'!$B$3,1),(LEFT('1 - Opstart Importark'!$B$24,2)),LEFT('1 - Opstart Importark'!$B$28,3),IF(I556=\"\",\"\",\"-\"),I556,IF(K556=\"\",\"\",\"-\"),K556,IF(M556=\"\",\"\",\"-\"),M556,IF(O556=\"\",\"\",\"-\"),O556),CONCATENATE(LEFT('1 - Opstart Importark'!$B$3,1),(LEFT('1 - Opstart Importark'!$B$15,2)),(LEFT('1 - Opstart Importark'!$B$18,3)),IF(I556=\"\",\"\",\"-\"),I556,IF(K556=\"\",\"\",\"-\"),K556,IF(M556=\"\",\"\",\"-\"),M556,IF(O556=\"\",\"\",\"-\"),O556))))","v":""},{"$nulls":13},{"$f":"IF(LEN('1 - Opstart Importark'!$B$6)>0,'1 - Opstart Importark'!$B$6,\"\")","v":""},{"$f":"IF(LEN('1 - Opstart Importark'!$B$9)>0,'1 - Opstart Importark'!$B$9,\"\")","v":""},{"$f":"IF(LEN('1 - Opstart Importark'!$B$31)>0,'1 - Opstart Importark'!$B$31,\"\")","v":""},{"$nulls":12},"",{"$nulls":8},0,"","","objektnogle_"]
[546,null,{"$f":"IF('1 - Opstart Importark'!$B$6=\"\",\"\",(IF('1 - Opstart Importark'!$B$15=\"\",CONCATENATE(LEFT('1 - Opstart Importark'!$B$3,1),(LEFT('1 - Opstart Importark'!$B$24,2)),LEFT('1 - Opstart Importark'!$B$28,3),IF(I557=\"\",\"\",\"-\"),I557,IF(K557=\"\",\"\",\"-\"),K557,IF(M557=\"\",\"\",\"-\"),M557,IF(O557=\"\",\"\",\"-\"),O557),CONCATENATE(LEFT('1 - Opstart Importark'!$B$3,1),(LEFT('1 - Opstart Importark'!$B$15,2)),(LEFT('1 - Opstart Importark'!$B$18,3)),IF(I557=\"\",\"\",\"-\"),I557,IF(K557=\"\",\"\",\"-\"),K557,IF(M557=\"\",\"\",\"-\"),M557,IF(O557=\"\",\"\",\"-\"),O557))))","v":""},{"$nulls":13},{"$f":"IF(LEN('1 - Opstart Importark'!$B$6)>0,'1 - Opstart Importark'!$B$6,\"\")","v":""},{"$f":"IF(LEN('1 - Opstart Importark'!$B$9)>0,'1 - Opstart Importark'!$B$9,\"\")","v":""},{"$f":"IF(LEN('1 - Opstart Importark'!$B$31)>0,'1 - Opstart Importark'!$B$31,\"\")","v":""},{"$nulls":12},"",{"$nulls":8},0,"","","objektnogle_"]
[547,null,{"$f":"IF('1 - Opstart Importark'!$B$6=\"\",\"\",(IF('1 - Opstart Importark'!$B$15=\"\",CONCATENATE(LEFT('1 - Opstart Importark'!$B$3,1),(LEFT('1 - Opstart Importark'!$B$24,2)),LEFT('1 - Opstart Importark'!$B$28,3),IF(I558=\"\",\"\",\"-\"),I558,IF(K558=\"\",\"\",\"-\"),K558,IF(M558=\"\",\"\",\"-\"),M558,IF(O558=\"\",\"\",\"-\"),O558),CONCATENATE(LEFT('1 - Opstart Importark'!$B$3,1),(LEFT('1 - Opstart Importark'!$B$15,2)),(LEFT('1 - Opstart Importark'!$B$18,3)),IF(I558=\"\",\"\",\"-\"),I558,IF(K558=\"\",\"\",\"-\"),K558,IF(M558=\"\",\"\",\"-\"),M558,IF(O558=\"\",\"\",\"-\"),O558))))","v":""},{"$nulls":13},{"$f":"IF(LEN('1 - Opstart Importark'!$B$6)>0,'1 - Opstart Importark'!$B$6,\"\")","v":""},{"$f":"IF(LEN('1 - Opstart Importark'!$B$9)>0,'1 - Opstart Importark'!$B$9,\"\")","v":""},{"$f":"IF(LEN('1 - Opstart Importark'!$B$31)>0,'1 - Opstart Importark'!$B$31,\"\")","v":""},{"$nulls":12},"",{"$nulls":8},0,"","","objektnogle_"]
[548,null,{"$f":"IF('1 - Opstart Importark'!$B$6=\"\",\"\",(IF('1 - Opstart Importark'!$B$15=\"\",CONCATENATE(LEFT('1 - Opstart Importark'!$B$3,1),(LEFT('1 - Opstart Importark'!$B$24,2)),LEFT('1 - Opstart Importark'!$B$28,3),IF(I559=\"\",\"\",\"-\"),I559,IF(K559=\"\",\"\",\"-\"),K559,IF(M559=\"\",\"\",\"-\"),M559,IF(O559=\"\",\"\",\"-\"),O559),CONCATENATE(LEFT('1 - Opstart Importark'!$B$3,1),(LEFT('1 - Opstart Importark'!$B$15,2)),(LEFT('1 - Opstart Importark'!$B$18,3)),IF(I559=\"\",\"\",\"-\"),I559,IF(K559=\"\",\"\",\"-\"),K559,IF(M559=\"\",\"\",\"-\"),M559,IF(O559=\"\",\"\",\"-\"),O559))))","v":""},{"$nulls":13},{"$f":"IF(LEN('1 - Opstart Importark'!$B$6)>0,'1 - Opstart Importark'!$B$6,\"\")","v":""},{"$f":"IF(LEN('1 - Opstart Importark'!$B$9)>0,'1 - Opstart Importark'!$B$9,\"\")","v":""},{"$f":"IF(LEN('1 - Opstart Importark'!$B$31)>0,'1 - Opstart Importark'!$B$31,\"\")","v":""},{"$nulls":12},"",{"$nulls":8},0,"","","objektnogle_"]
[549,null,{"$f":"IF('1 - Opstart Importark'!$B$6=\"\",\"\",(IF('1 - Opstart Importark'!$B$15=\"\",CONCATENATE(LEFT('1 - Opstart Importark'!$B$3,1),(LEFT('1 - Opstart Importark'!$B$24,2)),LEFT('1 - Opstart Importark'!$B$28,3),IF(I560=\"\",\"\",\"-\"),I560,IF(K560=\"\",\"\",\"-\"),K560,IF(M560=\"\",\"\",\"-\"),M560,IF(O560=\"\",\"\",\"-\"),O560),CONCATENATE(LEFT('1 - Opstart Importark'!$B$3,1),(LEFT('1 - Opstart Importark'!$B$15,2)),(LEFT('1 - Opstart Importark'!$B$18,3)),IF(I560=\"\",\"\",\"-\"),I560,IF(K560=\"\",\"\",\"-\"),K560,IF(M560=\"\",\"\",\"-\"),M560,IF(O560=\"\",\"\",\"-\"),O560))))","v":""},{"$nulls":13},{"$f":"IF(LEN('1 - Opstart Importark'!$B$6)>0,'1 - Opstart Importark'!$B$6,\"\")","v":""},{"$f":"IF(LEN('1 - Opstart Importark'!$B$9)>0,'1 - Opstart Importark'!$B$9,\"\")","v":""},{"$f":"IF(LEN('1 - Opstart Importark'!$B$31)>0,'1 - Opstart Importark'!$B$31,\"\")","v":""},{"$nulls":12},"",{"$nulls":8},0,"","","objektnogle_"]
[550,null,{"$f":"IF('1 - Opstart Importark'!$B$6=\"\",\"\",(IF('1 - Opstart Importark'!$B$15=\"\",CONCATENATE(LEFT('1 - Opstart Importark'!$B$3,1),(LEFT('1 - Opstart Importark'!$B$24,2)),LEFT('1 - Opstart Importark'!$B$28,3),IF(I561=\"\",\"\",\"-\"),I561,IF(K561=\"\",\"\",\"-\"),K561,IF(M561=\"\",\"\",\"-\"),M561,IF(O561=\"\",\"\",\"-\"),O561),CONCATENATE(LEFT('1 - Opstart Importark'!$B$3,1),(LEFT('1 - Opstart Importark'!$B$15,2)),(LEFT('1 - Opstart Importark'!$B$18,3)),IF(I561=\"\",\"\",\"-\"),I561,IF(K561=\"\",\"\",\"-\"),K561,IF(M561=\"\",\"\",\"-\"),M561,IF(O561=\"\",\"\",\"-\"),O561))))","v":""},{"$nulls":13},{"$f":"IF(LEN('1 - Opstart Importark'!$B$6)>0,'1 - Opstart Importark'!$B$6,\"\")","v":""},{"$f":"IF(LEN('1 - Opstart Importark'!$B$9)>0,'1 - Opstart Importark'!$B$9,\"\")","v":""},{"$f":"IF(LEN('1 - Opstart Importark'!$B$31)>0,'1 - Opstart Importark'!$B$31,\"\")","v":""},{"$nulls":12},"",{"$nulls":8},0,"","","objektnogle_"]
[551,null,{"$f":"IF('1 - Opstart Importark'!$B$6=\"\",\"\",(IF('1 - Opstart Importark'!$B$15=\"\",CONCATENATE(LEFT('1 - Opstart Importark'!$B$3,1),(LEFT('1 - Opstart Importark'!$B$24,2)),LEFT('1 - Opstart Importark'!$B$28,3),IF(I562=\"\",\"\",\"-\"),I562,IF(K562=\"\",\"\",\"-\"),K562,IF(M562=\"\",\"\",\"-\"),M562,IF(O562=\"\",\"\",\"-\"),O562),CONCATENATE(LEFT('1 - Opstart Importark'!$B$3,1),(LEFT('1 - Opstart Importark'!$B$15,2)),(LEFT('1 - Opstart Importark'!$B$18,3)),IF(I562=\"\",\"\",\"-\"),I562,IF(K562=\"\",\"\",\"-\"),K562,IF(M562=\"\",\"\",\"-\"),M562,IF(O562=\"\",\"\",\"-\"),O562))))","v":""},{"$nulls":13},{"$f":"IF(LEN('1 - Opstart Importark'!$B$6)>0,'1 - Opstart Importark'!$B$6,\"\")","v":""},{"$f":"IF(LEN('1 - Opstart Importark'!$B$9)>0,'1 - Opstart Importark'!$B$9,\"\")","v":""},{"$f":"IF(LEN('1 - Opstart Importark'!$B$31)>0,'1 - Opstart Importark'!$B$31,\"\")","v":""},{"$nulls":12},"",{"$nulls":8},0,"","","objektnogle_"]
[552,null,{"$f":"IF('1 - Opstart Importark'!$B$6=\"\",\"\",(IF('1 - Opstart Importark'!$B$15=\"\",CONCATENATE(LEFT('1 - Opstart Importark'!$B$3,1),(LEFT('1 - Opstart Importark'!$B$24,2)),LEFT('1 - Opstart Importark'!$B$28,3),IF(I563=\"\",\"\",\"-\"),I563,IF(K563=\"\",\"\",\"-\"),K563,IF(M563=\"\",\"\",\"-\"),M563,IF(O563=\"\",\"\",\"-\"),O563),CONCATENATE(LEFT('1 - Opstart Importark'!$B$3,1),(LEFT('1 - Opstart Importark'!$B$15,2)),(LEFT('1 - Opstart Importark'!$B$18,3)),IF(I563=\"\",\"\",\"-\"),I563,IF(K563=\"\",\"\",\"-\"),K563,IF(M563=\"\",\"\",\"-\"),M563,IF(O563=\"\",\"\",\"-\"),O563))))","v":""},{"$nulls":13},{"$f":"IF(LEN('1 - Opstart Importark'!$B$6)>0,'1 - Opstart Importark'!$B$6,\"\")","v":""},{"$f":"IF(LEN('1 - Opstart Importark'!$B$9)>0,'1 - Opstart Importark'!$B$9,\"\")","v":""},{"$f":"IF(LEN('1 - Opstart Importark'!$B$31)>0,'1 - Opstart Importark'!$B$31,\"\")","v":""},{"$nulls":12},"",{"$nulls":8},0,"","","objektnogle_"]
[553,null,{"$f":"IF('1 - Opstart Importark'!$B$6=\"\",\"\",(IF('1 - Opstart Importark'!$B$15=\"\",CONCATENATE(LEFT('1 - Opstart Importark'!$B$3,1),(LEFT('1 - Opstart Importark'!$B$24,2)),LEFT('1 - Opstart Importark'!$B$28,3),IF(I564=\"\",\"\",\"-\"),I564,IF(K564=\"\",\"\",\"-\"),K564,IF(M564=\"\",\"\",\"-\"),M564,IF(O564=\"\",\"\",\"-\"),O564),CONCATENATE(LEFT('1 - Opstart Importark'!$B$3,1),(LEFT('1 - Opstart Importark'!$B$15,2)),(LEFT('1 - Opstart Importark'!$B$18,3)),IF(I564=\"\",\"\",\"-\"),I564,IF(K564=\"\",\"\",\"-\"),K564,IF(M564=\"\",\"\",\"-\"),M564,IF(O564=\"\",\"\",\"-\"),O564))))","v":""},{"$nulls":13},{"$f":"IF(LEN('1 - Opstart Importark'!$B$6)>0,'1 - Opstart Importark'!$B$6,\"\")","v":""},{"$f":"IF(LEN('1 - Opstart Importark'!$B$9)>0,'1 - Opstart Importark'!$B$9,\"\")","v":""},{"$f":"IF(LEN('1 - Opstart Importark'!$B$31)>0,'1 - Opstart Importark'!$B$31,\"\")","v":""},{"$nulls":12},"",{"$nulls":8},0,"","","objektnogle_"]
[554,null,{"$f":"IF('1 - Opstart Importark'!$B$6=\"\",\"\",(IF('1 - Opstart Importark'!$B$15=\"\",CONCATENATE(LEFT('1 - Opstart Importark'!$B$3,1),(LEFT('1 - Opstart Importark'!$B$24,2)),LEFT('1 - Opstart Importark'!$B$28,3),IF(I565=\"\",\"\",\"-\"),I565,IF(K565=\"\",\"\",\"-\"),K565,IF(M565=\"\",\"\",\"-\"),M565,IF(O565=\"\",\"\",\"-\"),O565),CONCATENATE(LEFT('1 - Opstart Importark'!$B$3,1),(LEFT('1 - Opstart Importark'!$B$15,2)),(LEFT('1 - Opstart Importark'!$B$18,3)),IF(I565=\"\",\"\",\"-\"),I565,IF(K565=\"\",\"\",\"-\"),K565,IF(M565=\"\",\"\",\"-\"),M565,IF(O565=\"\",\"\",\"-\"),O565))))","v":""},{"$nulls":13},{"$f":"IF(LEN('1 - Opstart Importark'!$B$6)>0,'1 - Opstart Importark'!$B$6,\"\")","v":""},{"$f":"IF(LEN('1 - Opstart Importark'!$B$9)>0,'1 - Opstart Importark'!$B$9,\"\")","v":""},{"$f":"IF(LEN('1 - Opstart Importark'!$B$31)>0,'1 - Opstart Importark'!$B$31,\"\")","v":""},{"$nulls":12},"",{"$nulls":8},0,"","","objektnogle_"]
[555,null,{"$f":"IF('1 - Opstart Importark'!$B$6=\"\",\"\",(IF('1 - Opstart Importark'!$B$15=\"\",CONCATENATE(LEFT('1 - Opstart Importark'!$B$3,1),(LEFT('1 - Opstart Importark'!$B$24,2)),LEFT('1 - Opstart Importark'!$B$28,3),IF(I566=\"\",\"\",\"-\"),I566,IF(K566=\"\",\"\",\"-\"),K566,IF(M566=\"\",\"\",\"-\"),M566,IF(O566=\"\",\"\",\"-\"),O566),CONCATENATE(LEFT('1 - Opstart Importark'!$B$3,1),(LEFT('1 - Opstart Importark'!$B$15,2)),(LEFT('1 - Opstart Importark'!$B$18,3)),IF(I566=\"\",\"\",\"-\"),I566,IF(K566=\"\",\"\",\"-\"),K566,IF(M566=\"\",\"\",\"-\"),M566,IF(O566=\"\",\"\",\"-\"),O566))))","v":""},{"$nulls":13},{"$f":"IF(LEN('1 - Opstart Importark'!$B$6)>0,'1 - Opstart Importark'!$B$6,\"\")","v":""},{"$f":"IF(LEN('1 - Opstart Importark'!$B$9)>0,'1 - Opstart Importark'!$B$9,\"\")","v":""},{"$f":"IF(LEN('1 - Opstart Importark'!$B$31)>0,'1 - Opstart Importark'!$B$31,\"\")","v":""},{"$nulls":12},"",{"$nulls":8},0,"","","objektnogle_"]
[556,null,{"$f":"IF('1 - Opstart Importark'!$B$6=\"\",\"\",(IF('1 - Opstart Importark'!$B$15=\"\",CONCATENATE(LEFT('1 - Opstart Importark'!$B$3,1),(LEFT('1 - Opstart Importark'!$B$24,2)),LEFT('1 - Opstart Importark'!$B$28,3),IF(I567=\"\",\"\",\"-\"),I567,IF(K567=\"\",\"\",\"-\"),K567,IF(M567=\"\",\"\",\"-\"),M567,IF(O567=\"\",\"\",\"-\"),O567),CONCATENATE(LEFT('1 - Opstart Importark'!$B$3,1),(LEFT('1 - Opstart Importark'!$B$15,2)),(LEFT('1 - Opstart Importark'!$B$18,3)),IF(I567=\"\",\"\",\"-\"),I567,IF(K567=\"\",\"\",\"-\"),K567,IF(M567=\"\",\"\",\"-\"),M567,IF(O567=\"\",\"\",\"-\"),O567))))","v":""},{"$nulls":13},{"$f":"IF(LEN('1 - Opstart Importark'!$B$6)>0,'1 - Opstart Importark'!$B$6,\"\")","v":""},{"$f":"IF(LEN('1 - Opstart Importark'!$B$9)>0,'1 - Opstart Importark'!$B$9,\"\")","v":""},{"$f":"IF(LEN('1 - Opstart Importark'!$B$31)>0,'1 - Opstart Importark'!$B$31,\"\")","v":""},{"$nulls":12},"",{"$nulls":8},0,"","","objektnogle_"]
[557,null,{"$f":"IF('1 - Opstart Importark'!$B$6=\"\",\"\",(IF('1 - Opstart Importark'!$B$15=\"\",CONCATENATE(LEFT('1 - Opstart Importark'!$B$3,1),(LEFT('1 - Opstart Importark'!$B$24,2)),LEFT('1 - Opstart Importark'!$B$28,3),IF(I568=\"\",\"\",\"-\"),I568,IF(K568=\"\",\"\",\"-\"),K568,IF(M568=\"\",\"\",\"-\"),M568,IF(O568=\"\",\"\",\"-\"),O568),CONCATENATE(LEFT('1 - Opstart Importark'!$B$3,1),(LEFT('1 - Opstart Importark'!$B$15,2)),(LEFT('1 - Opstart Importark'!$B$18,3)),IF(I568=\"\",\"\",\"-\"),I568,IF(K568=\"\",\"\",\"-\"),K568,IF(M568=\"\",\"\",\"-\"),M568,IF(O568=\"\",\"\",\"-\"),O568))))","v":""},{"$nulls":13},{"$f":"IF(LEN('1 - Opstart Importark'!$B$6)>0,'1 - Opstart Importark'!$B$6,\"\")","v":""},{"$f":"IF(LEN('1 - Opstart Importark'!$B$9)>0,'1 - Opstart Importark'!$B$9,\"\")","v":""},{"$f":"IF(LEN('1 - Opstart Importark'!$B$31)>0,'1 - Opstart Importark'!$B$31,\"\")","v":""},{"$nulls":12},"",{"$nulls":8},0,"","","objektnogle_"]
[558,null,{"$f":"IF('1 - Opstart Importark'!$B$6=\"\",\"\",(IF('1 - Opstart Importark'!$B$15=\"\",CONCATENATE(LEFT('1 - Opstart Importark'!$B$3,1),(LEFT('1 - Opstart Importark'!$B$24,2)),LEFT('1 - Opstart Importark'!$B$28,3),IF(I569=\"\",\"\",\"-\"),I569,IF(K569=\"\",\"\",\"-\"),K569,IF(M569=\"\",\"\",\"-\"),M569,IF(O569=\"\",\"\",\"-\"),O569),CONCATENATE(LEFT('1 - Opstart Importark'!$B$3,1),(LEFT('1 - Opstart Importark'!$B$15,2)),(LEFT('1 - Opstart Importark'!$B$18,3)),IF(I569=\"\",\"\",\"-\"),I569,IF(K569=\"\",\"\",\"-\"),K569,IF(M569=\"\",\"\",\"-\"),M569,IF(O569=\"\",\"\",\"-\"),O569))))","v":""},{"$nulls":13},{"$f":"IF(LEN('1 - Opstart Importark'!$B$6)>0,'1 - Opstart Importark'!$B$6,\"\")","v":""},{"$f":"IF(LEN('1 - Opstart Importark'!$B$9)>0,'1 - Opstart Importark'!$B$9,\"\")","v":""},{"$f":"IF(LEN('1 - Opstart Importark'!$B$31)>0,'1 - Opstart Importark'!$B$31,\"\")","v":""},{"$nulls":12},"",{"$nulls":8},0,"","","objektnogle_"]
[559,null,{"$f":"IF('1 - Opstart Importark'!$B$6=\"\",\"\",(IF('1 - Opstart Importark'!$B$15=\"\",CONCATENATE(LEFT('1 - Opstart Importark'!$B$3,1),(LEFT('1 - Opstart Importark'!$B$24,2)),LEFT('1 - Opstart Importark'!$B$28,3),IF(I570=\"\",\"\",\"-\"),I570,IF(K570=\"\",\"\",\"-\"),K570,IF(M570=\"\",\"\",\"-\"),M570,IF(O570=\"\",\"\",\"-\"),O570),CONCATENATE(LEFT('1 - Opstart Importark'!$B$3,1),(LEFT('1 - Opstart Importark'!$B$15,2)),(LEFT('1 - Opstart Importark'!$B$18,3)),IF(I570=\"\",\"\",\"-\"),I570,IF(K570=\"\",\"\",\"-\"),K570,IF(M570=\"\",\"\",\"-\"),M570,IF(O570=\"\",\"\",\"-\"),O570))))","v":""},{"$nulls":13},{"$f":"IF(LEN('1 - Opstart Importark'!$B$6)>0,'1 - Opstart Importark'!$B$6,\"\")","v":""},{"$f":"IF(LEN('1 - Opstart Importark'!$B$9)>0,'1 - Opstart Importark'!$B$9,\"\")","v":""},{"$f":"IF(LEN('1 - Opstart Importark'!$B$31)>0,'1 - Opstart Importark'!$B$31,\"\")","v":""},{"$nulls":12},"",{"$nulls":8},0,"","","objektnogle_"]
[560,null,{"$f":"IF('1 - Opstart Importark'!$B$6=\"\",\"\",(IF('1 - Opstart Importark'!$B$15=\"\",CONCATENATE(LEFT('1 - Opstart Importark'!$B$3,1),(LEFT('1 - Opstart Importark'!$B$24,2)),LEFT('1 - Opstart Importark'!$B$28,3),IF(I571=\"\",\"\",\"-\"),I571,IF(K571=\"\",\"\",\"-\"),K571,IF(M571=\"\",\"\",\"-\"),M571,IF(O571=\"\",\"\",\"-\"),O571),CONCATENATE(LEFT('1 - Opstart Importark'!$B$3,1),(LEFT('1 - Opstart Importark'!$B$15,2)),(LEFT('1 - Opstart Importark'!$B$18,3)),IF(I571=\"\",\"\",\"-\"),I571,IF(K571=\"\",\"\",\"-\"),K571,IF(M571=\"\",\"\",\"-\"),M571,IF(O571=\"\",\"\",\"-\"),O571))))","v":""},{"$nulls":13},{"$f":"IF(LEN('1 - Opstart Importark'!$B$6)>0,'1 - Opstart Importark'!$B$6,\"\")","v":""},{"$f":"IF(LEN('1 - Opstart Importark'!$B$9)>0,'1 - Opstart Importark'!$B$9,\"\")","v":""},{"$f":"IF(LEN('1 - Opstart Importark'!$B$31)>0,'1 - Opstart Importark'!$B$31,\"\")","v":""},{"$nulls":12},"",{"$nulls":8},0,"","","objektnogle_"]
[561,null,{"$f":"IF('1 - Opstart Importark'!$B$6=\"\",\"\",(IF('1 - Opstart Importark'!$B$15=\"\",CONCATENATE(LEFT('1 - Opstart Importark'!$B$3,1),(LEFT('1 - Opstart Importark'!$B$24,2)),LEFT('1 - Opstart Importark'!$B$28,3),IF(I572=\"\",\"\",\"-\"),I572,IF(K572=\"\",\"\",\"-\"),K572,IF(M572=\"\",\"\",\"-\"),M572,IF(O572=\"\",\"\",\"-\"),O572),CONCATENATE(LEFT('1 - Opstart Importark'!$B$3,1),(LEFT('1 - Opstart Importark'!$B$15,2)),(LEFT('1 - Opstart Importark'!$B$18,3)),IF(I572=\"\",\"\",\"-\"),I572,IF(K572=\"\",\"\",\"-\"),K572,IF(M572=\"\",\"\",\"-\"),M572,IF(O572=\"\",\"\",\"-\"),O572))))","v":""},{"$nulls":13},{"$f":"IF(LEN('1 - Opstart Importark'!$B$6)>0,'1 - Opstart Importark'!$B$6,\"\")","v":""},{"$f":"IF(LEN('1 - Opstart Importark'!$B$9)>0,'1 - Opstart Importark'!$B$9,\"\")","v":""},{"$f":"IF(LEN('1 - Opstart Importark'!$B$31)>0,'1 - Opstart Importark'!$B$31,\"\")","v":""},{"$nulls":12},"",{"$nulls":8},0,"","","objektnogle_"]
[562,null,{"$f":"IF('1 - Opstart Importark'!$B$6=\"\",\"\",(IF('1 - Opstart Importark'!$B$15=\"\",CONCATENATE(LEFT('1 - Opstart Importark'!$B$3,1),(LEFT('1 - Opstart Importark'!$B$24,2)),LEFT('1 - Opstart Importark'!$B$28,3),IF(I573=\"\",\"\",\"-\"),I573,IF(K573=\"\",\"\",\"-\"),K573,IF(M573=\"\",\"\",\"-\"),M573,IF(O573=\"\",\"\",\"-\"),O573),CONCATENATE(LEFT('1 - Opstart Importark'!$B$3,1),(LEFT('1 - Opstart Importark'!$B$15,2)),(LEFT('1 - Opstart Importark'!$B$18,3)),IF(I573=\"\",\"\",\"-\"),I573,IF(K573=\"\",\"\",\"-\"),K573,IF(M573=\"\",\"\",\"-\"),M573,IF(O573=\"\",\"\",\"-\"),O573))))","v":""},{"$nulls":13},{"$f":"IF(LEN('1 - Opstart Importark'!$B$6)>0,'1 - Opstart Importark'!$B$6,\"\")","v":""},{"$f":"IF(LEN('1 - Opstart Importark'!$B$9)>0,'1 - Opstart Importark'!$B$9,\"\")","v":""},{"$f":"IF(LEN('1 - Opstart Importark'!$B$31)>0,'1 - Opstart Importark'!$B$31,\"\")","v":""},{"$nulls":12},"",{"$nulls":8},0,"","","objektnogle_"]
[563,null,{"$f":"IF('1 - Opstart Importark'!$B$6=\"\",\"\",(IF('1 - Opstart Importark'!$B$15=\"\",CONCATENATE(LEFT('1 - Opstart Importark'!$B$3,1),(LEFT('1 - Opstart Importark'!$B$24,2)),LEFT('1 - Opstart Importark'!$B$28,3),IF(I574=\"\",\"\",\"-\"),I574,IF(K574=\"\",\"\",\"-\"),K574,IF(M574=\"\",\"\",\"-\"),M574,IF(O574=\"\",\"\",\"-\"),O574),CONCATENATE(LEFT('1 - Opstart Importark'!$B$3,1),(LEFT('1 - Opstart Importark'!$B$15,2)),(LEFT('1 - Opstart Importark'!$B$18,3)),IF(I574=\"\",\"\",\"-\"),I574,IF(K574=\"\",\"\",\"-\"),K574,IF(M574=\"\",\"\",\"-\"),M574,IF(O574=\"\",\"\",\"-\"),O574))))","v":""},{"$nulls":13},{"$f":"IF(LEN('1 - Opstart Importark'!$B$6)>0,'1 - Opstart Importark'!$B$6,\"\")","v":""},{"$f":"IF(LEN('1 - Opstart Importark'!$B$9)>0,'1 - Opstart Importark'!$B$9,\"\")","v":""},{"$f":"IF(LEN('1 - Opstart Importark'!$B$31)>0,'1 - Opstart Importark'!$B$31,\"\")","v":""},{"$nulls":12},"",{"$nulls":8},0,"","","objektnogle_"]
[564,null,{"$f":"IF('1 - Opstart Importark'!$B$6=\"\",\"\",(IF('1 - Opstart Importark'!$B$15=\"\",CONCATENATE(LEFT('1 - Opstart Importark'!$B$3,1),(LEFT('1 - Opstart Importark'!$B$24,2)),LEFT('1 - Opstart Importark'!$B$28,3),IF(I575=\"\",\"\",\"-\"),I575,IF(K575=\"\",\"\",\"-\"),K575,IF(M575=\"\",\"\",\"-\"),M575,IF(O575=\"\",\"\",\"-\"),O575),CONCATENATE(LEFT('1 - Opstart Importark'!$B$3,1),(LEFT('1 - Opstart Importark'!$B$15,2)),(LEFT('1 - Opstart Importark'!$B$18,3)),IF(I575=\"\",\"\",\"-\"),I575,IF(K575=\"\",\"\",\"-\"),K575,IF(M575=\"\",\"\",\"-\"),M575,IF(O575=\"\",\"\",\"-\"),O575))))","v":""},{"$nulls":13},{"$f":"IF(LEN('1 - Opstart Importark'!$B$6)>0,'1 - Opstart Importark'!$B$6,\"\")","v":""},{"$f":"IF(LEN('1 - Opstart Importark'!$B$9)>0,'1 - Opstart Importark'!$B$9,\"\")","v":""},{"$f":"IF(LEN('1 - Opstart Importark'!$B$31)>0,'1 - Opstart Importark'!$B$31,\"\")","v":""},{"$nulls":12},"",{"$nulls":8},0,"","","objektnogle_"]
[565,null,{"$f":"IF('1 - Opstart Importark'!$B$6=\"\",\"\",(IF('1 - Opstart Importark'!$B$15=\"\",CONCATENATE(LEFT('1 - Opstart Importark'!$B$3,1),(LEFT('1 - Opstart Importark'!$B$24,2)),LEFT('1 - Opstart Importark'!$B$28,3),IF(I576=\"\",\"\",\"-\"),I576,IF(K576=\"\",\"\",\"-\"),K576,IF(M576=\"\",\"\",\"-\"),M576,IF(O576=\"\",\"\",\"-\"),O576),CONCATENATE(LEFT('1 - Opstart Importark'!$B$3,1),(LEFT('1 - Opstart Importark'!$B$15,2)),(LEFT('1 - Opstart Importark'!$B$18,3)),IF(I576=\"\",\"\",\"-\"),I576,IF(K576=\"\",\"\",\"-\"),K576,IF(M576=\"\",\"\",\"-\"),M576,IF(O576=\"\",\"\",\"-\"),O576))))","v":""},{"$nulls":13},{"$f":"IF(LEN('1 - Opstart Importark'!$B$6)>0,'1 - Opstart Importark'!$B$6,\"\")","v":""},{"$f":"IF(LEN('1 - Opstart Importark'!$B$9)>0,'1 - Opstart Importark'!$B$9,\"\")","v":""},{"$f":"IF(LEN('1 - Opstart Importark'!$B$31)>0,'1 - Opstart Importark'!$B$31,\"\")","v":""},{"$nulls":12},"",{"$nulls":8},0,"","","objektnogle_"]
[566,null,{"$f":"IF('1 - Opstart Importark'!$B$6=\"\",\"\",(IF('1 - Opstart Importark'!$B$15=\"\",CONCATENATE(LEFT('1 - Opstart Importark'!$B$3,1),(LEFT('1 - Opstart Importark'!$B$24,2)),LEFT('1 - Opstart Importark'!$B$28,3),IF(I577=\"\",\"\",\"-\"),I577,IF(K577=\"\",\"\",\"-\"),K577,IF(M577=\"\",\"\",\"-\"),M577,IF(O577=\"\",\"\",\"-\"),O577),CONCATENATE(LEFT('1 - Opstart Importark'!$B$3,1),(LEFT('1 - Opstart Importark'!$B$15,2)),(LEFT('1 - Opstart Importark'!$B$18,3)),IF(I577=\"\",\"\",\"-\"),I577,IF(K577=\"\",\"\",\"-\"),K577,IF(M577=\"\",\"\",\"-\"),M577,IF(O577=\"\",\"\",\"-\"),O577))))","v":""},{"$nulls":13},{"$f":"IF(LEN('1 - Opstart Importark'!$B$6)>0,'1 - Opstart Importark'!$B$6,\"\")","v":""},{"$f":"IF(LEN('1 - Opstart Importark'!$B$9)>0,'1 - Opstart Importark'!$B$9,\"\")","v":""},{"$f":"IF(LEN('1 - Opstart Importark'!$B$31)>0,'1 - Opstart Importark'!$B$31,\"\")","v":""},{"$nulls":12},"",{"$nulls":8},0,"","","objektnogle_"]
[567,null,{"$f":"IF('1 - Opstart Importark'!$B$6=\"\",\"\",(IF('1 - Opstart Importark'!$B$15=\"\",CONCATENATE(LEFT('1 - Opstart Importark'!$B$3,1),(LEFT('1 - Opstart Importark'!$B$24,2)),LEFT('1 - Opstart Importark'!$B$28,3),IF(I578=\"\",\"\",\"-\"),I578,IF(K578=\"\",\"\",\"-\"),K578,IF(M578=\"\",\"\",\"-\"),M578,IF(O578=\"\",\"\",\"-\"),O578),CONCATENATE(LEFT('1 - Opstart Importark'!$B$3,1),(LEFT('1 - Opstart Importark'!$B$15,2)),(LEFT('1 - Opstart Importark'!$B$18,3)),IF(I578=\"\",\"\",\"-\"),I578,IF(K578=\"\",\"\",\"-\"),K578,IF(M578=\"\",\"\",\"-\"),M578,IF(O578=\"\",\"\",\"-\"),O578))))","v":""},{"$nulls":13},{"$f":"IF(LEN('1 - Opstart Importark'!$B$6)>0,'1 - Opstart Importark'!$B$6,\"\")","v":""},{"$f":"IF(LEN('1 - Opstart Importark'!$B$9)>0,'1 - Opstart Importark'!$B$9,\"\")","v":""},{"$f":"IF(LEN('1 - Opstart Importark'!$B$31)>0,'1 - Opstart Importark'!$B$31,\"\")","v":""},{"$nulls":12},"",{"$nulls":8},0,"","","objektnogle_"]
[568,null,{"$f":"IF('1 - Opstart Importark'!$B$6=\"\",\"\",(IF('1 - Opstart Importark'!$B$15=\"\",CONCATENATE(LEFT('1 - Opstart Importark'!$B$3,1),(LEFT('1 - Opstart Importark'!$B$24,2)),LEFT('1 - Opstart Importark'!$B$28,3),IF(I579=\"\",\"\",\"-\"),I579,IF(K579=\"\",\"\",\"-\"),K579,IF(M579=\"\",\"\",\"-\"),M579,IF(O579=\"\",\"\",\"-\"),O579),CONCATENATE(LEFT('1 - Opstart Importark'!$B$3,1),(LEFT('1 - Opstart Importark'!$B$15,2)),(LEFT('1 - Opstart Importark'!$B$18,3)),IF(I579=\"\",\"\",\"-\"),I579,IF(K579=\"\",\"\",\"-\"),K579,IF(M579=\"\",\"\",\"-\"),M579,IF(O579=\"\",\"\",\"-\"),O579))))","v":""},{"$nulls":13},{"$f":"IF(LEN('1 - Opstart Importark'!$B$6)>0,'1 - Opstart Importark'!$B$6,\"\")","v":""},{"$f":"IF(LEN('1 - Opstart Importark'!$B$9)>0,'1 - Opstart Importark'!$B$9,\"\")","v":""},{"$f":"IF(LEN('1 - Opstart Importark'!$B$31)>0,'1 - Opstart Importark'!$B$31,\"\")","v":""},{"$nulls":12},"",{"$nulls":8},0,"","","objektnogle_"]
[569,null,{"$f":"IF('1 - Opstart Importark'!$B$6=\"\",\"\",(IF('1 - Opstart Importark'!$B$15=\"\",CONCATENATE(LEFT('1 - Opstart Importark'!$B$3,1),(LEFT('1 - Opstart Importark'!$B$24,2)),LEFT('1 - Opstart Importark'!$B$28,3),IF(I580=\"\",\"\",\"-\"),I580,IF(K580=\"\",\"\",\"-\"),K580,IF(M580=\"\",\"\",\"-\"),M580,IF(O580=\"\",\"\",\"-\"),O580),CONCATENATE(LEFT('1 - Opstart Importark'!$B$3,1),(LEFT('1 - Opstart Importark'!$B$15,2)),(LEFT('1 - Opstart Importark'!$B$18,3)),IF(I580=\"\",\"\",\"-\"),I580,IF(K580=\"\",\"\",\"-\"),K580,IF(M580=\"\",\"\",\"-\"),M580,IF(O580=\"\",\"\",\"-\"),O580))))","v":""},{"$nulls":13},{"$f":"IF(LEN('1 - Opstart Importark'!$B$6)>0,'1 - Opstart Importark'!$B$6,\"\")","v":""},{"$f":"IF(LEN('1 - Opstart Importark'!$B$9)>0,'1 - Opstart Importark'!$B$9,\"\")","v":""},{"$f":"IF(LEN('1 - Opstart Importark'!$B$31)>0,'1 - Opstart Importark'!$B$31,\"\")","v":""},{"$nulls":12},"",{"$nulls":8},0,"","","objektnogle_"]
[570,null,{"$f":"IF('1 - Opstart Importark'!$B$6=\"\",\"\",(IF('1 - Opstart Importark'!$B$15=\"\",CONCATENATE(LEFT('1 - Opstart Importark'!$B$3,1),(LEFT('1 - Opstart Importark'!$B$24,2)),LEFT('1 - Opstart Importark'!$B$28,3),IF(I581=\"\",\"\",\"-\"),I581,IF(K581=\"\",\"\",\"-\"),K581,IF(M581=\"\",\"\",\"-\"),M581,IF(O581=\"\",\"\",\"-\"),O581),CONCATENATE(LEFT('1 - Opstart Importark'!$B$3,1),(LEFT('1 - Opstart Importark'!$B$15,2)),(LEFT('1 - Opstart Importark'!$B$18,3)),IF(I581=\"\",\"\",\"-\"),I581,IF(K581=\"\",\"\",\"-\"),K581,IF(M581=\"\",\"\",\"-\"),M581,IF(O581=\"\",\"\",\"-\"),O581))))","v":""},{"$nulls":13},{"$f":"IF(LEN('1 - Opstart Importark'!$B$6)>0,'1 - Opstart Importark'!$B$6,\"\")","v":""},{"$f":"IF(LEN('1 - Opstart Importark'!$B$9)>0,'1 - Opstart Importark'!$B$9,\"\")","v":""},{"$f":"IF(LEN('1 - Opstart Importark'!$B$31)>0,'1 - Opstart Importark'!$B$31,\"\")","v":""},{"$nulls":12},"",{"$nulls":8},0,"","","objektnogle_"]
[571,null,{"$f":"IF('1 - Opstart Importark'!$B$6=\"\",\"\",(IF('1 - Opstart Importark'!$B$15=\"\",CONCATENATE(LEFT('1 - Opstart Importark'!$B$3,1),(LEFT('1 - Opstart Importark'!$B$24,2)),LEFT('1 - Opstart Importark'!$B$28,3),IF(I582=\"\",\"\",\"-\"),I582,IF(K582=\"\",\"\",\"-\"),K582,IF(M582=\"\",\"\",\"-\"),M582,IF(O582=\"\",\"\",\"-\"),O582),CONCATENATE(LEFT('1 - Opstart Importark'!$B$3,1),(LEFT('1 - Opstart Importark'!$B$15,2)),(LEFT('1 - Opstart Importark'!$B$18,3)),IF(I582=\"\",\"\",\"-\"),I582,IF(K582=\"\",\"\",\"-\"),K582,IF(M582=\"\",\"\",\"-\"),M582,IF(O582=\"\",\"\",\"-\"),O582))))","v":""},{"$nulls":13},{"$f":"IF(LEN('1 - Opstart Importark'!$B$6)>0,'1 - Opstart Importark'!$B$6,\"\")","v":""},{"$f":"IF(LEN('1 - Opstart Importark'!$B$9)>0,'1 - Opstart Importark'!$B$9,\"\")","v":""},{"$f":"IF(LEN('1 - Opstart Importark'!$B$31)>0,'1 - Opstart Importark'!$B$31,\"\")","v":""},{"$nulls":12},"",{"$nulls":8},0,"","","objektnogle_"]
[572,null,{"$f":"IF('1 - Opstart Importark'!$B$6=\"\",\"\",(IF('1 - Opstart Importark'!$B$15=\"\",CONCATENATE(LEFT('1 - Opstart Importark'!$B$3,1),(LEFT('1 - Opstart Importark'!$B$24,2)),LEFT('1 - Opstart Importark'!$B$28,3),IF(I583=\"\",\"\",\"-\"),I583,IF(K583=\"\",\"\",\"-\"),K583,IF(M583=\"\",\"\",\"-\"),M583,IF(O583=\"\",\"\",\"-\"),O583),CONCATENATE(LEFT('1 - Opstart Importark'!$B$3,1),(LEFT('1 - Opstart Importark'!$B$15,2)),(LEFT('1 - Opstart Importark'!$B$18,3)),IF(I583=\"\",\"\",\"-\"),I583,IF(K583=\"\",\"\",\"-\"),K583,IF(M583=\"\",\"\",\"-\"),M583,IF(O583=\"\",\"\",\"-\"),O583))))","v":""},{"$nulls":13},{"$f":"IF(LEN('1 - Opstart Importark'!$B$6)>0,'1 - Opstart Importark'!$B$6,\"\")","v":""},{"$f":"IF(LEN('1 - Opstart Importark'!$B$9)>0,'1 - Opstart Importark'!$B$9,\"\")","v":""},{"$f":"IF(LEN('1 - Opstart Importark'!$B$31)>0,'1 - Opstart Importark'!$B$31,\"\")","v":""},{"$nulls":12},"",{"$nulls":8},0,"","","objektnogle_"]
[573,null,{"$f":"IF('1 - Opstart Importark'!$B$6=\"\",\"\",(IF('1 - Opstart Importark'!$B$15=\"\",CONCATENATE(LEFT('1 - Opstart Importark'!$B$3,1),(LEFT('1 - Opstart Importark'!$B$24,2)),LEFT('1 - Opstart Importark'!$B$28,3),IF(I584=\"\",\"\",\"-\"),I584,IF(K584=\"\",\"\",\"-\"),K584,IF(M584=\"\",\"\",\"-\"),M584,IF(O584=\"\",\"\",\"-\"),O584),CONCATENATE(LEFT('1 - Opstart Importark'!$B$3,1),(LEFT('1 - Opstart Importark'!$B$15,2)),(LEFT('1 - Opstart Importark'!$B$18,3)),IF(I584=\"\",\"\",\"-\"),I584,IF(K584=\"\",\"\",\"-\"),K584,IF(M584=\"\",\"\",\"-\"),M584,IF(O584=\"\",\"\",\"-\"),O584))))","v":""},{"$nulls":13},{"$f":"IF(LEN('1 - Opstart Importark'!$B$6)>0,'1 - Opstart Importark'!$B$6,\"\")","v":""},{"$f":"IF(LEN('1 - Opstart Importark'!$B$9)>0,'1 - Opstart Importark'!$B$9,\"\")","v":""},{"$f":"IF(LEN('1 - Opstart Importark'!$B$31)>0,'1 - Opstart Importark'!$B$31,\"\")","v":""},{"$nulls":12},"",{"$nulls":8},0,"","","objektnogle_"]
[574,null,{"$f":"IF('1 - Opstart Importark'!$B$6=\"\",\"\",(IF('1 - Opstart Importark'!$B$15=\"\",CONCATENATE(LEFT('1 - Opstart Importark'!$B$3,1),(LEFT('1 - Opstart Importark'!$B$24,2)),LEFT('1 - Opstart Importark'!$B$28,3),IF(I585=\"\",\"\",\"-\"),I585,IF(K585=\"\",\"\",\"-\"),K585,IF(M585=\"\",\"\",\"-\"),M585,IF(O585=\"\",\"\",\"-\"),O585),CONCATENATE(LEFT('1 - Opstart Importark'!$B$3,1),(LEFT('1 - Opstart Importark'!$B$15,2)),(LEFT('1 - Opstart Importark'!$B$18,3)),IF(I585=\"\",\"\",\"-\"),I585,IF(K585=\"\",\"\",\"-\"),K585,IF(M585=\"\",\"\",\"-\"),M585,IF(O585=\"\",\"\",\"-\"),O585))))","v":""},{"$nulls":13},{"$f":"IF(LEN('1 - Opstart Importark'!$B$6)>0,'1 - Opstart Importark'!$B$6,\"\")","v":""},{"$f":"IF(LEN('1 - Opstart Importark'!$B$9)>0,'1 - Opstart Importark'!$B$9,\"\")","v":""},{"$f":"IF(LEN('1 - Opstart Importark'!$B$31)>0,'1 - Opstart Importark'!$B$31,\"\")","v":""},{"$nulls":12},"",{"$nulls":8},0,"","","objektnogle_"]
[575,null,{"$f":"IF('1 - Opstart Importark'!$B$6=\"\",\"\",(IF('1 - Opstart Importark'!$B$15=\"\",CONCATENATE(LEFT('1 - Opstart Importark'!$B$3,1),(LEFT('1 - Opstart Importark'!$B$24,2)),LEFT('1 - Opstart Importark'!$B$28,3),IF(I586=\"\",\"\",\"-\"),I586,IF(K586=\"\",\"\",\"-\"),K586,IF(M586=\"\",\"\",\"-\"),M586,IF(O586=\"\",\"\",\"-\"),O586),CONCATENATE(LEFT('1 - Opstart Importark'!$B$3,1),(LEFT('1 - Opstart Importark'!$B$15,2)),(LEFT('1 - Opstart Importark'!$B$18,3)),IF(I586=\"\",\"\",\"-\"),I586,IF(K586=\"\",\"\",\"-\"),K586,IF(M586=\"\",\"\",\"-\"),M586,IF(O586=\"\",\"\",\"-\"),O586))))","v":""},{"$nulls":13},{"$f":"IF(LEN('1 - Opstart Importark'!$B$6)>0,'1 - Opstart Importark'!$B$6,\"\")","v":""},{"$f":"IF(LEN('1 - Opstart Importark'!$B$9)>0,'1 - Opstart Importark'!$B$9,\"\")","v":""},{"$f":"IF(LEN('1 - Opstart Importark'!$B$31)>0,'1 - Opstart Importark'!$B$31,\"\")","v":""},{"$nulls":12},"",{"$nulls":8},0,"","","objektnogle_"]
[576,null,{"$f":"IF('1 - Opstart Importark'!$B$6=\"\",\"\",(IF('1 - Opstart Importark'!$B$15=\"\",CONCATENATE(LEFT('1 - Opstart Importark'!$B$3,1),(LEFT('1 - Opstart Importark'!$B$24,2)),LEFT('1 - Opstart Importark'!$B$28,3),IF(I587=\"\",\"\",\"-\"),I587,IF(K587=\"\",\"\",\"-\"),K587,IF(M587=\"\",\"\",\"-\"),M587,IF(O587=\"\",\"\",\"-\"),O587),CONCATENATE(LEFT('1 - Opstart Importark'!$B$3,1),(LEFT('1 - Opstart Importark'!$B$15,2)),(LEFT('1 - Opstart Importark'!$B$18,3)),IF(I587=\"\",\"\",\"-\"),I587,IF(K587=\"\",\"\",\"-\"),K587,IF(M587=\"\",\"\",\"-\"),M587,IF(O587=\"\",\"\",\"-\"),O587))))","v":""},{"$nulls":13},{"$f":"IF(LEN('1 - Opstart Importark'!$B$6)>0,'1 - Opstart Importark'!$B$6,\"\")","v":""},{"$f":"IF(LEN('1 - Opstart Importark'!$B$9)>0,'1 - Opstart Importark'!$B$9,\"\")","v":""},{"$f":"IF(LEN('1 - Opstart Importark'!$B$31)>0,'1 - Opstart Importark'!$B$31,\"\")","v":""},{"$nulls":12},"",{"$nulls":8},0,"","","objektnogle_"]
[577,null,{"$f":"IF('1 - Opstart Importark'!$B$6=\"\",\"\",(IF('1 - Opstart Importark'!$B$15=\"\",CONCATENATE(LEFT('1 - Opstart Importark'!$B$3,1),(LEFT('1 - Opstart Importark'!$B$24,2)),LEFT('1 - Opstart Importark'!$B$28,3),IF(I588=\"\",\"\",\"-\"),I588,IF(K588=\"\",\"\",\"-\"),K588,IF(M588=\"\",\"\",\"-\"),M588,IF(O588=\"\",\"\",\"-\"),O588),CONCATENATE(LEFT('1 - Opstart Importark'!$B$3,1),(LEFT('1 - Opstart Importark'!$B$15,2)),(LEFT('1 - Opstart Importark'!$B$18,3)),IF(I588=\"\",\"\",\"-\"),I588,IF(K588=\"\",\"\",\"-\"),K588,IF(M588=\"\",\"\",\"-\"),M588,IF(O588=\"\",\"\",\"-\"),O588))))","v":""},{"$nulls":13},{"$f":"IF(LEN('1 - Opstart Importark'!$B$6)>0,'1 - Opstart Importark'!$B$6,\"\")","v":""},{"$f":"IF(LEN('1 - Opstart Importark'!$B$9)>0,'1 - Opstart Importark'!$B$9,\"\")","v":""},{"$f":"IF(LEN('1 - Opstart Importark'!$B$31)>0,'1 - Opstart Importark'!$B$31,\"\")","v":""},{"$nulls":12},{"$f":"IF(M588=\"\",\"\",VLOOKUP(LEFT(M588,1),objektfilter,2))","v":""},{"$nulls":8},0,"","","objektnogle_"]
[578,null,{"$f":"IF('1 - Opstart Importark'!$B$6=\"\",\"\",(IF('1 - Opstart Importark'!$B$15=\"\",CONCATENATE(LEFT('1 - Opstart Importark'!$B$3,1),(LEFT('1 - Opstart Importark'!$B$24,2)),LEFT('1 - Opstart Importark'!$B$28,3),IF(I589=\"\",\"\",\"-\"),I589,IF(K589=\"\",\"\",\"-\"),K589,IF(M589=\"\",\"\",\"-\"),M589,IF(O589=\"\",\"\",\"-\"),O589),CONCATENATE(LEFT('1 - Opstart Importark'!$B$3,1),(LEFT('1 - Opstart Importark'!$B$15,2)),(LEFT('1 - Opstart Importark'!$B$18,3)),IF(I589=\"\",\"\",\"-\"),I589,IF(K589=\"\",\"\",\"-\"),K589,IF(M589=\"\",\"\",\"-\"),M589,IF(O589=\"\",\"\",\"-\"),O589))))","v":""},{"$nulls":13},{"$f":"IF(LEN('1 - Opstart Importark'!$B$6)>0,'1 - Opstart Importark'!$B$6,\"\")","v":""},{"$f":"IF(LEN('1 - Opstart Importark'!$B$9)>0,'1 - Opstart Importark'!$B$9,\"\")","v":""},{"$f":"IF(LEN('1 - Opstart Importark'!$B$31)>0,'1 - Opstart Importark'!$B$31,\"\")","v":""},{"$nulls":12},"",{"$nulls":8},{"$f":"IFERROR(FIND(\".\",F589),)","v":0},{"$f":"IF(M589=\"\",\"\",IF(LEFT(M589,1)=\"E\",0,1))","v":""},{"$f":"IF(M589=\"\",\"\",IF(LEFT(M589,1)=\"E\",0,1))","v":""},{"$f":"IF(W589=\"\", CONCATENATE(\"objektnogle_\",LEFT(AF589,1)),CONCATENATE(\"objektnogle_\",LEFT(W589,1)))","v":"objektnogle_"}]
[579,null,{"$f":"IF('1 - Opstart Importark'!$B$6=\"\",\"\",(IF('1 - Opstart Importark'!$B$15=\"\",CONCATENATE(LEFT('1 - Opstart Importark'!$B$3,1),(LEFT('1 - Opstart Importark'!$B$24,2)),LEFT('1 - Opstart Importark'!$B$28,3),IF(I590=\"\",\"\",\"-\"),I590,IF(K590=\"\",\"\",\"-\"),K590,IF(M590=\"\",\"\",\"-\"),M590,IF(O590=\"\",\"\",\"-\"),O590),CONCATENATE(LEFT('1 - Opstart Importark'!$B$3,1),(LEFT('1 - Opstart Importark'!$B$15,2)),(LEFT('1 - Opstart Importark'!$B$18,3)),IF(I590=\"\",\"\",\"-\"),I590,IF(K590=\"\",\"\",\"-\"),K590,IF(M590=\"\",\"\",\"-\"),M590,IF(O590=\"\",\"\",\"-\"),O590))))","v":""},{"$nulls":13},{"$f":"IF(LEN('1 - Opstart Importark'!$B$6)>0,'1 - Opstart Importark'!$B$6,\"\")","v":""},{"$f":"IF(LEN('1 - Opstart Importark'!$B$9)>0,'1 - Opstart Importark'!$B$9,\"\")","v":""},{"$f":"IF(LEN('1 - Opstart Importark'!$B$31)>0,'1 - Opstart Importark'!$B$31,\"\")","v":""},{"$nulls":12},"",{"$nulls":8},0,"","","objektnogle_"]
[580,null,{"$f":"IF('1 - Opstart Importark'!$B$6=\"\",\"\",(IF('1 - Opstart Importark'!$B$15=\"\",CONCATENATE(LEFT('1 - Opstart Importark'!$B$3,1),(LEFT('1 - Opstart Importark'!$B$24,2)),LEFT('1 - Opstart Importark'!$B$28,3),IF(I591=\"\",\"\",\"-\"),I591,IF(K591=\"\",\"\",\"-\"),K591,IF(M591=\"\",\"\",\"-\"),M591,IF(O591=\"\",\"\",\"-\"),O591),CONCATENATE(LEFT('1 - Opstart Importark'!$B$3,1),(LEFT('1 - Opstart Importark'!$B$15,2)),(LEFT('1 - Opstart Importark'!$B$18,3)),IF(I591=\"\",\"\",\"-\"),I591,IF(K591=\"\",\"\",\"-\"),K591,IF(M591=\"\",\"\",\"-\"),M591,IF(O591=\"\",\"\",\"-\"),O591))))","v":""},{"$nulls":13},{"$f":"IF(LEN('1 - Opstart Importark'!$B$6)>0,'1 - Opstart Importark'!$B$6,\"\")","v":""},{"$f":"IF(LEN('1 - Opstart Importark'!$B$9)>0,'1 - Opstart Importark'!$B$9,\"\")","v":""},{"$f":"IF(LEN('1 - Opstart Importark'!$B$31)>0,'1 - Opstart Importark'!$B$31,\"\")","v":""},{"$nulls":12},"",{"$nulls":8},0,"","","objektnogle_"]
[581,null,{"$f":"IF('1 - Opstart Importark'!$B$6=\"\",\"\",(IF('1 - Opstart Importark'!$B$15=\"\",CONCATENATE(LEFT('1 - Opstart Importark'!$B$3,1),(LEFT('1 - Opstart Importark'!$B$24,2)),LEFT('1 - Opstart Importark'!$B$28,3),IF(I592=\"\",\"\",\"-\"),I592,IF(K592=\"\",\"\",\"-\"),K592,IF(M592=\"\",\"\",\"-\"),M592,IF(O592=\"\",\"\",\"-\"),O592),CONCATENATE(LEFT('1 - Opstart Importark'!$B$3,1),(LEFT('1 - Opstart Importark'!$B$15,2)),(LEFT('1 - Opstart Importark'!$B$18,3)),IF(I592=\"\",\"\",\"-\"),I592,IF(K592=\"\",\"\",\"-\"),K592,IF(M592=\"\",\"\",\"-\"),M592,IF(O592=\"\",\"\",\"-\"),O592))))","v":""},{"$nulls":13},{"$f":"IF(LEN('1 - Opstart Importark'!$B$6)>0,'1 - Opstart Importark'!$B$6,\"\")","v":""},{"$f":"IF(LEN('1 - Opstart Importark'!$B$9)>0,'1 - Opstart Importark'!$B$9,\"\")","v":""},{"$f":"IF(LEN('1 - Opstart Importark'!$B$31)>0,'1 - Opstart Importark'!$B$31,\"\")","v":""},{"$nulls":12},"",{"$nulls":8},0,"","","objektnogle_"]
[582,null,{"$f":"IF('1 - Opstart Importark'!$B$6=\"\",\"\",(IF('1 - Opstart Importark'!$B$15=\"\",CONCATENATE(LEFT('1 - Opstart Importark'!$B$3,1),(LEFT('1 - Opstart Importark'!$B$24,2)),LEFT('1 - Opstart Importark'!$B$28,3),IF(I593=\"\",\"\",\"-\"),I593,IF(K593=\"\",\"\",\"-\"),K593,IF(M593=\"\",\"\",\"-\"),M593,IF(O593=\"\",\"\",\"-\"),O593),CONCATENATE(LEFT('1 - Opstart Importark'!$B$3,1),(LEFT('1 - Opstart Importark'!$B$15,2)),(LEFT('1 - Opstart Importark'!$B$18,3)),IF(I593=\"\",\"\",\"-\"),I593,IF(K593=\"\",\"\",\"-\"),K593,IF(M593=\"\",\"\",\"-\"),M593,IF(O593=\"\",\"\",\"-\"),O593))))","v":""},{"$nulls":13},{"$f":"IF(LEN('1 - Opstart Importark'!$B$6)>0,'1 - Opstart Importark'!$B$6,\"\")","v":""},{"$f":"IF(LEN('1 - Opstart Importark'!$B$9)>0,'1 - Opstart Importark'!$B$9,\"\")","v":""},{"$f":"IF(LEN('1 - Opstart Importark'!$B$31)>0,'1 - Opstart Importark'!$B$31,\"\")","v":""},{"$nulls":12},"",{"$nulls":8},0,"","","objektnogle_"]
[583,null,{"$f":"IF('1 - Opstart Importark'!$B$6=\"\",\"\",(IF('1 - Opstart Importark'!$B$15=\"\",CONCATENATE(LEFT('1 - Opstart Importark'!$B$3,1),(LEFT('1 - Opstart Importark'!$B$24,2)),LEFT('1 - Opstart Importark'!$B$28,3),IF(I594=\"\",\"\",\"-\"),I594,IF(K594=\"\",\"\",\"-\"),K594,IF(M594=\"\",\"\",\"-\"),M594,IF(O594=\"\",\"\",\"-\"),O594),CONCATENATE(LEFT('1 - Opstart Importark'!$B$3,1),(LEFT('1 - Opstart Importark'!$B$15,2)),(LEFT('1 - Opstart Importark'!$B$18,3)),IF(I594=\"\",\"\",\"-\"),I594,IF(K594=\"\",\"\",\"-\"),K594,IF(M594=\"\",\"\",\"-\"),M594,IF(O594=\"\",\"\",\"-\"),O594))))","v":""},{"$nulls":13},{"$f":"IF(LEN('1 - Opstart Importark'!$B$6)>0,'1 - Opstart Importark'!$B$6,\"\")","v":""},{"$f":"IF(LEN('1 - Opstart Importark'!$B$9)>0,'1 - Opstart Importark'!$B$9,\"\")","v":""},{"$f":"IF(LEN('1 - Opstart Importark'!$B$31)>0,'1 - Opstart Importark'!$B$31,\"\")","v":""},{"$nulls":12},"",{"$nulls":8},0,"","","objektnogle_"]
[584,null,{"$f":"IF('1 - Opstart Importark'!$B$6=\"\",\"\",(IF('1 - Opstart Importark'!$B$15=\"\",CONCATENATE(LEFT('1 - Opstart Importark'!$B$3,1),(LEFT('1 - Opstart Importark'!$B$24,2)),LEFT('1 - Opstart Importark'!$B$28,3),IF(I595=\"\",\"\",\"-\"),I595,IF(K595=\"\",\"\",\"-\"),K595,IF(M595=\"\",\"\",\"-\"),M595,IF(O595=\"\",\"\",\"-\"),O595),CONCATENATE(LEFT('1 - Opstart Importark'!$B$3,1),(LEFT('1 - Opstart Importark'!$B$15,2)),(LEFT('1 - Opstart Importark'!$B$18,3)),IF(I595=\"\",\"\",\"-\"),I595,IF(K595=\"\",\"\",\"-\"),K595,IF(M595=\"\",\"\",\"-\"),M595,IF(O595=\"\",\"\",\"-\"),O595))))","v":""},{"$nulls":13},{"$f":"IF(LEN('1 - Opstart Importark'!$B$6)>0,'1 - Opstart Importark'!$B$6,\"\")","v":""},{"$f":"IF(LEN('1 - Opstart Importark'!$B$9)>0,'1 - Opstart Importark'!$B$9,\"\")","v":""},{"$f":"IF(LEN('1 - Opstart Importark'!$B$31)>0,'1 - Opstart Importark'!$B$31,\"\")","v":""},{"$nulls":12},"",{"$nulls":8},0,"","","objektnogle_"]
[585,null,{"$f":"IF('1 - Opstart Importark'!$B$6=\"\",\"\",(IF('1 - Opstart Importark'!$B$15=\"\",CONCATENATE(LEFT('1 - Opstart Importark'!$B$3,1),(LEFT('1 - Opstart Importark'!$B$24,2)),LEFT('1 - Opstart Importark'!$B$28,3),IF(I596=\"\",\"\",\"-\"),I596,IF(K596=\"\",\"\",\"-\"),K596,IF(M596=\"\",\"\",\"-\"),M596,IF(O596=\"\",\"\",\"-\"),O596),CONCATENATE(LEFT('1 - Opstart Importark'!$B$3,1),(LEFT('1 - Opstart Importark'!$B$15,2)),(LEFT('1 - Opstart Importark'!$B$18,3)),IF(I596=\"\",\"\",\"-\"),I596,IF(K596=\"\",\"\",\"-\"),K596,IF(M596=\"\",\"\",\"-\"),M596,IF(O596=\"\",\"\",\"-\"),O596))))","v":""},{"$nulls":13},{"$f":"IF(LEN('1 - Opstart Importark'!$B$6)>0,'1 - Opstart Importark'!$B$6,\"\")","v":""},{"$f":"IF(LEN('1 - Opstart Importark'!$B$9)>0,'1 - Opstart Importark'!$B$9,\"\")","v":""},{"$f":"IF(LEN('1 - Opstart Importark'!$B$31)>0,'1 - Opstart Importark'!$B$31,\"\")","v":""},{"$nulls":12},"",{"$nulls":8},0,"","","objektnogle_"]
[586,null,{"$f":"IF('1 - Opstart Importark'!$B$6=\"\",\"\",(IF('1 - Opstart Importark'!$B$15=\"\",CONCATENATE(LEFT('1 - Opstart Importark'!$B$3,1),(LEFT('1 - Opstart Importark'!$B$24,2)),LEFT('1 - Opstart Importark'!$B$28,3),IF(I597=\"\",\"\",\"-\"),I597,IF(K597=\"\",\"\",\"-\"),K597,IF(M597=\"\",\"\",\"-\"),M597,IF(O597=\"\",\"\",\"-\"),O597),CONCATENATE(LEFT('1 - Opstart Importark'!$B$3,1),(LEFT('1 - Opstart Importark'!$B$15,2)),(LEFT('1 - Opstart Importark'!$B$18,3)),IF(I597=\"\",\"\",\"-\"),I597,IF(K597=\"\",\"\",\"-\"),K597,IF(M597=\"\",\"\",\"-\"),M597,IF(O597=\"\",\"\",\"-\"),O597))))","v":""},{"$nulls":13},{"$f":"IF(LEN('1 - Opstart Importark'!$B$6)>0,'1 - Opstart Importark'!$B$6,\"\")","v":""},{"$f":"IF(LEN('1 - Opstart Importark'!$B$9)>0,'1 - Opstart Importark'!$B$9,\"\")","v":""},{"$f":"IF(LEN('1 - Opstart Importark'!$B$31)>0,'1 - Opstart Importark'!$B$31,\"\")","v":""},{"$nulls":12},"",{"$nulls":8},0,"","","objektnogle_"]
[587,null,{"$f":"IF('1 - Opstart Importark'!$B$6=\"\",\"\",(IF('1 - Opstart Importark'!$B$15=\"\",CONCATENATE(LEFT('1 - Opstart Importark'!$B$3,1),(LEFT('1 - Opstart Importark'!$B$24,2)),LEFT('1 - Opstart Importark'!$B$28,3),IF(I598=\"\",\"\",\"-\"),I598,IF(K598=\"\",\"\",\"-\"),K598,IF(M598=\"\",\"\",\"-\"),M598,IF(O598=\"\",\"\",\"-\"),O598),CONCATENATE(LEFT('1 - Opstart Importark'!$B$3,1),(LEFT('1 - Opstart Importark'!$B$15,2)),(LEFT('1 - Opstart Importark'!$B$18,3)),IF(I598=\"\",\"\",\"-\"),I598,IF(K598=\"\",\"\",\"-\"),K598,IF(M598=\"\",\"\",\"-\"),M598,IF(O598=\"\",\"\",\"-\"),O598))))","v":""},{"$nulls":13},{"$f":"IF(LEN('1 - Opstart Importark'!$B$6)>0,'1 - Opstart Importark'!$B$6,\"\")","v":""},{"$f":"IF(LEN('1 - Opstart Importark'!$B$9)>0,'1 - Opstart Importark'!$B$9,\"\")","v":""},{"$f":"IF(LEN('1 - Opstart Importark'!$B$31)>0,'1 - Opstart Importark'!$B$31,\"\")","v":""},{"$nulls":12},"",{"$nulls":8},0,"","","objektnogle_"]
[588,null,{"$f":"IF('1 - Opstart Importark'!$B$6=\"\",\"\",(IF('1 - Opstart Importark'!$B$15=\"\",CONCATENATE(LEFT('1 - Opstart Importark'!$B$3,1),(LEFT('1 - Opstart Importark'!$B$24,2)),LEFT('1 - Opstart Importark'!$B$28,3),IF(I599=\"\",\"\",\"-\"),I599,IF(K599=\"\",\"\",\"-\"),K599,IF(M599=\"\",\"\",\"-\"),M599,IF(O599=\"\",\"\",\"-\"),O599),CONCATENATE(LEFT('1 - Opstart Importark'!$B$3,1),(LEFT('1 - Opstart Importark'!$B$15,2)),(LEFT('1 - Opstart Importark'!$B$18,3)),IF(I599=\"\",\"\",\"-\"),I599,IF(K599=\"\",\"\",\"-\"),K599,IF(M599=\"\",\"\",\"-\"),M599,IF(O599=\"\",\"\",\"-\"),O599))))","v":""},{"$nulls":13},{"$f":"IF(LEN('1 - Opstart Importark'!$B$6)>0,'1 - Opstart Importark'!$B$6,\"\")","v":""},{"$f":"IF(LEN('1 - Opstart Importark'!$B$9)>0,'1 - Opstart Importark'!$B$9,\"\")","v":""},{"$f":"IF(LEN('1 - Opstart Importark'!$B$31)>0,'1 - Opstart Importark'!$B$31,\"\")","v":""},{"$nulls":12},"",{"$nulls":8},0,"","","objektnogle_"]
[589,null,{"$f":"IF('1 - Opstart Importark'!$B$6=\"\",\"\",(IF('1 - Opstart Importark'!$B$15=\"\",CONCATENATE(LEFT('1 - Opstart Importark'!$B$3,1),(LEFT('1 - Opstart Importark'!$B$24,2)),LEFT('1 - Opstart Importark'!$B$28,3),IF(I600=\"\",\"\",\"-\"),I600,IF(K600=\"\",\"\",\"-\"),K600,IF(M600=\"\",\"\",\"-\"),M600,IF(O600=\"\",\"\",\"-\"),O600),CONCATENATE(LEFT('1 - Opstart Importark'!$B$3,1),(LEFT('1 - Opstart Importark'!$B$15,2)),(LEFT('1 - Opstart Importark'!$B$18,3)),IF(I600=\"\",\"\",\"-\"),I600,IF(K600=\"\",\"\",\"-\"),K600,IF(M600=\"\",\"\",\"-\"),M600,IF(O600=\"\",\"\",\"-\"),O600))))","v":""},{"$nulls":13},{"$f":"IF(LEN('1 - Opstart Importark'!$B$6)>0,'1 - Opstart Importark'!$B$6,\"\")","v":""},{"$f":"IF(LEN('1 - Opstart Importark'!$B$9)>0,'1 - Opstart Importark'!$B$9,\"\")","v":""},{"$f":"IF(LEN('1 - Opstart Importark'!$B$31)>0,'1 - Opstart Importark'!$B$31,\"\")","v":""},{"$nulls":12},"",{"$nulls":8},0,"","","objektnogle_"]
[590,null,{"$f":"IF('1 - Opstart Importark'!$B$6=\"\",\"\",(IF('1 - Opstart Importark'!$B$15=\"\",CONCATENATE(LEFT('1 - Opstart Importark'!$B$3,1),(LEFT('1 - Opstart Importark'!$B$24,2)),LEFT('1 - Opstart Importark'!$B$28,3),IF(I601=\"\",\"\",\"-\"),I601,IF(K601=\"\",\"\",\"-\"),K601,IF(M601=\"\",\"\",\"-\"),M601,IF(O601=\"\",\"\",\"-\"),O601),CONCATENATE(LEFT('1 - Opstart Importark'!$B$3,1),(LEFT('1 - Opstart Importark'!$B$15,2)),(LEFT('1 - Opstart Importark'!$B$18,3)),IF(I601=\"\",\"\",\"-\"),I601,IF(K601=\"\",\"\",\"-\"),K601,IF(M601=\"\",\"\",\"-\"),M601,IF(O601=\"\",\"\",\"-\"),O601))))","v":""},{"$nulls":13},{"$f":"IF(LEN('1 - Opstart Importark'!$B$6)>0,'1 - Opstart Importark'!$B$6,\"\")","v":""},{"$f":"IF(LEN('1 - Opstart Importark'!$B$9)>0,'1 - Opstart Importark'!$B$9,\"\")","v":""},{"$f":"IF(LEN('1 - Opstart Importark'!$B$31)>0,'1 - Opstart Importark'!$B$31,\"\")","v":""},{"$nulls":12},"",{"$nulls":8},0,"","","objektnogle_"]
[591,null,{"$f":"IF('1 - Opstart Importark'!$B$6=\"\",\"\",(IF('1 - Opstart Importark'!$B$15=\"\",CONCATENATE(LEFT('1 - Opstart Importark'!$B$3,1),(LEFT('1 - Opstart Importark'!$B$24,2)),LEFT('1 - Opstart Importark'!$B$28,3),IF(I602=\"\",\"\",\"-\"),I602,IF(K602=\"\",\"\",\"-\"),K602,IF(M602=\"\",\"\",\"-\"),M602,IF(O602=\"\",\"\",\"-\"),O602),CONCATENATE(LEFT('1 - Opstart Importark'!$B$3,1),(LEFT('1 - Opstart Importark'!$B$15,2)),(LEFT('1 - Opstart Importark'!$B$18,3)),IF(I602=\"\",\"\",\"-\"),I602,IF(K602=\"\",\"\",\"-\"),K602,IF(M602=\"\",\"\",\"-\"),M602,IF(O602=\"\",\"\",\"-\"),O602))))","v":""},{"$nulls":13},{"$f":"IF(LEN('1 - Opstart Importark'!$B$6)>0,'1 - Opstart Importark'!$B$6,\"\")","v":""},{"$f":"IF(LEN('1 - Opstart Importark'!$B$9)>0,'1 - Opstart Importark'!$B$9,\"\")","v":""},{"$f":"IF(LEN('1 - Opstart Importark'!$B$31)>0,'1 - Opstart Importark'!$B$31,\"\")","v":""},{"$nulls":12},"",{"$nulls":8},0,"","","objektnogle_"]
[592,null,{"$f":"IF('1 - Opstart Importark'!$B$6=\"\",\"\",(IF('1 - Opstart Importark'!$B$15=\"\",CONCATENATE(LEFT('1 - Opstart Importark'!$B$3,1),(LEFT('1 - Opstart Importark'!$B$24,2)),LEFT('1 - Opstart Importark'!$B$28,3),IF(I603=\"\",\"\",\"-\"),I603,IF(K603=\"\",\"\",\"-\"),K603,IF(M603=\"\",\"\",\"-\"),M603,IF(O603=\"\",\"\",\"-\"),O603),CONCATENATE(LEFT('1 - Opstart Importark'!$B$3,1),(LEFT('1 - Opstart Importark'!$B$15,2)),(LEFT('1 - Opstart Importark'!$B$18,3)),IF(I603=\"\",\"\",\"-\"),I603,IF(K603=\"\",\"\",\"-\"),K603,IF(M603=\"\",\"\",\"-\"),M603,IF(O603=\"\",\"\",\"-\"),O603))))","v":""},{"$nulls":13},{"$f":"IF(LEN('1 - Opstart Importark'!$B$6)>0,'1 - Opstart Importark'!$B$6,\"\")","v":""},{"$f":"IF(LEN('1 - Opstart Importark'!$B$9)>0,'1 - Opstart Importark'!$B$9,\"\")","v":""},{"$f":"IF(LEN('1 - Opstart Importark'!$B$31)>0,'1 - Opstart Importark'!$B$31,\"\")","v":""},{"$nulls":12},"",{"$nulls":8},0,"","","objektnogle_"]
[593,null,{"$f":"IF('1 - Opstart Importark'!$B$6=\"\",\"\",(IF('1 - Opstart Importark'!$B$15=\"\",CONCATENATE(LEFT('1 - Opstart Importark'!$B$3,1),(LEFT('1 - Opstart Importark'!$B$24,2)),LEFT('1 - Opstart Importark'!$B$28,3),IF(I604=\"\",\"\",\"-\"),I604,IF(K604=\"\",\"\",\"-\"),K604,IF(M604=\"\",\"\",\"-\"),M604,IF(O604=\"\",\"\",\"-\"),O604),CONCATENATE(LEFT('1 - Opstart Importark'!$B$3,1),(LEFT('1 - Opstart Importark'!$B$15,2)),(LEFT('1 - Opstart Importark'!$B$18,3)),IF(I604=\"\",\"\",\"-\"),I604,IF(K604=\"\",\"\",\"-\"),K604,IF(M604=\"\",\"\",\"-\"),M604,IF(O604=\"\",\"\",\"-\"),O604))))","v":""},{"$nulls":13},{"$f":"IF(LEN('1 - Opstart Importark'!$B$6)>0,'1 - Opstart Importark'!$B$6,\"\")","v":""},{"$f":"IF(LEN('1 - Opstart Importark'!$B$9)>0,'1 - Opstart Importark'!$B$9,\"\")","v":""},{"$f":"IF(LEN('1 - Opstart Importark'!$B$31)>0,'1 - Opstart Importark'!$B$31,\"\")","v":""},{"$nulls":12},"",{"$nulls":8},0,"","","objektnogle_"]
[594,null,{"$f":"IF('1 - Opstart Importark'!$B$6=\"\",\"\",(IF('1 - Opstart Importark'!$B$15=\"\",CONCATENATE(LEFT('1 - Opstart Importark'!$B$3,1),(LEFT('1 - Opstart Importark'!$B$24,2)),LEFT('1 - Opstart Importark'!$B$28,3),IF(I605=\"\",\"\",\"-\"),I605,IF(K605=\"\",\"\",\"-\"),K605,IF(M605=\"\",\"\",\"-\"),M605,IF(O605=\"\",\"\",\"-\"),O605),CONCATENATE(LEFT('1 - Opstart Importark'!$B$3,1),(LEFT('1 - Opstart Importark'!$B$15,2)),(LEFT('1 - Opstart Importark'!$B$18,3)),IF(I605=\"\",\"\",\"-\"),I605,IF(K605=\"\",\"\",\"-\"),K605,IF(M605=\"\",\"\",\"-\"),M605,IF(O605=\"\",\"\",\"-\"),O605))))","v":""},{"$nulls":13},{"$f":"IF(LEN('1 - Opstart Importark'!$B$6)>0,'1 - Opstart Importark'!$B$6,\"\")","v":""},{"$f":"IF(LEN('1 - Opstart Importark'!$B$9)>0,'1 - Opstart Importark'!$B$9,\"\")","v":""},{"$f":"IF(LEN('1 - Opstart Importark'!$B$31)>0,'1 - Opstart Importark'!$B$31,\"\")","v":""},{"$nulls":12},"",{"$nulls":8},0,"","","objektnogle_"]
[595,null,{"$f":"IF('1 - Opstart Importark'!$B$6=\"\",\"\",(IF('1 - Opstart Importark'!$B$15=\"\",CONCATENATE(LEFT('1 - Opstart Importark'!$B$3,1),(LEFT('1 - Opstart Importark'!$B$24,2)),LEFT('1 - Opstart Importark'!$B$28,3),IF(I606=\"\",\"\",\"-\"),I606,IF(K606=\"\",\"\",\"-\"),K606,IF(M606=\"\",\"\",\"-\"),M606,IF(O606=\"\",\"\",\"-\"),O606),CONCATENATE(LEFT('1 - Opstart Importark'!$B$3,1),(LEFT('1 - Opstart Importark'!$B$15,2)),(LEFT('1 - Opstart Importark'!$B$18,3)),IF(I606=\"\",\"\",\"-\"),I606,IF(K606=\"\",\"\",\"-\"),K606,IF(M606=\"\",\"\",\"-\"),M606,IF(O606=\"\",\"\",\"-\"),O606))))","v":""},{"$nulls":13},{"$f":"IF(LEN('1 - Opstart Importark'!$B$6)>0,'1 - Opstart Importark'!$B$6,\"\")","v":""},{"$f":"IF(LEN('1 - Opstart Importark'!$B$9)>0,'1 - Opstart Importark'!$B$9,\"\")","v":""},{"$f":"IF(LEN('1 - Opstart Importark'!$B$31)>0,'1 - Opstart Importark'!$B$31,\"\")","v":""},{"$nulls":12},"",{"$nulls":8},0,"","","objektnogle_"]
[596,null,{"$f":"IF('1 - Opstart Importark'!$B$6=\"\",\"\",(IF('1 - Opstart Importark'!$B$15=\"\",CONCATENATE(LEFT('1 - Opstart Importark'!$B$3,1),(LEFT('1 - Opstart Importark'!$B$24,2)),LEFT('1 - Opstart Importark'!$B$28,3),IF(I607=\"\",\"\",\"-\"),I607,IF(K607=\"\",\"\",\"-\"),K607,IF(M607=\"\",\"\",\"-\"),M607,IF(O607=\"\",\"\",\"-\"),O607),CONCATENATE(LEFT('1 - Opstart Importark'!$B$3,1),(LEFT('1 - Opstart Importark'!$B$15,2)),(LEFT('1 - Opstart Importark'!$B$18,3)),IF(I607=\"\",\"\",\"-\"),I607,IF(K607=\"\",\"\",\"-\"),K607,IF(M607=\"\",\"\",\"-\"),M607,IF(O607=\"\",\"\",\"-\"),O607))))","v":""},{"$nulls":13},{"$f":"IF(LEN('1 - Opstart Importark'!$B$6)>0,'1 - Opstart Importark'!$B$6,\"\")","v":""},{"$f":"IF(LEN('1 - Opstart Importark'!$B$9)>0,'1 - Opstart Importark'!$B$9,\"\")","v":""},{"$f":"IF(LEN('1 - Opstart Importark'!$B$31)>0,'1 - Opstart Importark'!$B$31,\"\")","v":""},{"$nulls":12},"",{"$nulls":8},0,"","","objektnogle_"]
[597,null,{"$f":"IF('1 - Opstart Importark'!$B$6=\"\",\"\",(IF('1 - Opstart Importark'!$B$15=\"\",CONCATENATE(LEFT('1 - Opstart Importark'!$B$3,1),(LEFT('1 - Opstart Importark'!$B$24,2)),LEFT('1 - Opstart Importark'!$B$28,3),IF(I608=\"\",\"\",\"-\"),I608,IF(K608=\"\",\"\",\"-\"),K608,IF(M608=\"\",\"\",\"-\"),M608,IF(O608=\"\",\"\",\"-\"),O608),CONCATENATE(LEFT('1 - Opstart Importark'!$B$3,1),(LEFT('1 - Opstart Importark'!$B$15,2)),(LEFT('1 - Opstart Importark'!$B$18,3)),IF(I608=\"\",\"\",\"-\"),I608,IF(K608=\"\",\"\",\"-\"),K608,IF(M608=\"\",\"\",\"-\"),M608,IF(O608=\"\",\"\",\"-\"),O608))))","v":""},{"$nulls":13},{"$f":"IF(LEN('1 - Opstart Importark'!$B$6)>0,'1 - Opstart Importark'!$B$6,\"\")","v":""},{"$f":"IF(LEN('1 - Opstart Importark'!$B$9)>0,'1 - Opstart Importark'!$B$9,\"\")","v":""},{"$f":"IF(LEN('1 - Opstart Importark'!$B$31)>0,'1 - Opstart Importark'!$B$31,\"\")","v":""},{"$nulls":12},"",{"$nulls":8},0,"","","objektnogle_"]
[598,null,{"$f":"IF('1 - Opstart Importark'!$B$6=\"\",\"\",(IF('1 - Opstart Importark'!$B$15=\"\",CONCATENATE(LEFT('1 - Opstart Importark'!$B$3,1),(LEFT('1 - Opstart Importark'!$B$24,2)),LEFT('1 - Opstart Importark'!$B$28,3),IF(I609=\"\",\"\",\"-\"),I609,IF(K609=\"\",\"\",\"-\"),K609,IF(M609=\"\",\"\",\"-\"),M609,IF(O609=\"\",\"\",\"-\"),O609),CONCATENATE(LEFT('1 - Opstart Importark'!$B$3,1),(LEFT('1 - Opstart Importark'!$B$15,2)),(LEFT('1 - Opstart Importark'!$B$18,3)),IF(I609=\"\",\"\",\"-\"),I609,IF(K609=\"\",\"\",\"-\"),K609,IF(M609=\"\",\"\",\"-\"),M609,IF(O609=\"\",\"\",\"-\"),O609))))","v":""},{"$nulls":13},{"$f":"IF(LEN('1 - Opstart Importark'!$B$6)>0,'1 - Opstart Importark'!$B$6,\"\")","v":""},{"$f":"IF(LEN('1 - Opstart Importark'!$B$9)>0,'1 - Opstart Importark'!$B$9,\"\")","v":""},{"$f":"IF(LEN('1 - Opstart Importark'!$B$31)>0,'1 - Opstart Importark'!$B$31,\"\")","v":""},{"$nulls":12},"",{"$nulls":8},0,"","","objektnogle_"]
[599,null,{"$f":"IF('1 - Opstart Importark'!$B$6=\"\",\"\",(IF('1 - Opstart Importark'!$B$15=\"\",CONCATENATE(LEFT('1 - Opstart Importark'!$B$3,1),(LEFT('1 - Opstart Importark'!$B$24,2)),LEFT('1 - Opstart Importark'!$B$28,3),IF(I610=\"\",\"\",\"-\"),I610,IF(K610=\"\",\"\",\"-\"),K610,IF(M610=\"\",\"\",\"-\"),M610,IF(O610=\"\",\"\",\"-\"),O610),CONCATENATE(LEFT('1 - Opstart Importark'!$B$3,1),(LEFT('1 - Opstart Importark'!$B$15,2)),(LEFT('1 - Opstart Importark'!$B$18,3)),IF(I610=\"\",\"\",\"-\"),I610,IF(K610=\"\",\"\",\"-\"),K610,IF(M610=\"\",\"\",\"-\"),M610,IF(O610=\"\",\"\",\"-\"),O610))))","v":""},{"$nulls":13},{"$f":"IF(LEN('1 - Opstart Importark'!$B$6)>0,'1 - Opstart Importark'!$B$6,\"\")","v":""},{"$f":"IF(LEN('1 - Opstart Importark'!$B$9)>0,'1 - Opstart Importark'!$B$9,\"\")","v":""},{"$f":"IF(LEN('1 - Opstart Importark'!$B$31)>0,'1 - Opstart Importark'!$B$31,\"\")","v":""},{"$nulls":12},"",{"$nulls":8},0,"","","objektnogle_"]
[600,null,{"$f":"IF('1 - Opstart Importark'!$B$6=\"\",\"\",(IF('1 - Opstart Importark'!$B$15=\"\",CONCATENATE(LEFT('1 - Opstart Importark'!$B$3,1),(LEFT('1 - Opstart Importark'!$B$24,2)),LEFT('1 - Opstart Importark'!$B$28,3),IF(I611=\"\",\"\",\"-\"),I611,IF(K611=\"\",\"\",\"-\"),K611,IF(M611=\"\",\"\",\"-\"),M611,IF(O611=\"\",\"\",\"-\"),O611),CONCATENATE(LEFT('1 - Opstart Importark'!$B$3,1),(LEFT('1 - Opstart Importark'!$B$15,2)),(LEFT('1 - Opstart Importark'!$B$18,3)),IF(I611=\"\",\"\",\"-\"),I611,IF(K611=\"\",\"\",\"-\"),K611,IF(M611=\"\",\"\",\"-\"),M611,IF(O611=\"\",\"\",\"-\"),O611))))","v":""},{"$nulls":13},{"$f":"IF(LEN('1 - Opstart Importark'!$B$6)>0,'1 - Opstart Importark'!$B$6,\"\")","v":""},{"$f":"IF(LEN('1 - Opstart Importark'!$B$9)>0,'1 - Opstart Importark'!$B$9,\"\")","v":""},{"$f":"IF(LEN('1 - Opstart Importark'!$B$31)>0,'1 - Opstart Importark'!$B$31,\"\")","v":""},{"$nulls":12},"",{"$nulls":8},0,"","","objektnogle_"]
[601,null,{"$f":"IF('1 - Opstart Importark'!$B$6=\"\",\"\",(IF('1 - Opstart Importark'!$B$15=\"\",CONCATENATE(LEFT('1 - Opstart Importark'!$B$3,1),(LEFT('1 - Opstart Importark'!$B$24,2)),LEFT('1 - Opstart Importark'!$B$28,3),IF(I612=\"\",\"\",\"-\"),I612,IF(K612=\"\",\"\",\"-\"),K612,IF(M612=\"\",\"\",\"-\"),M612,IF(O612=\"\",\"\",\"-\"),O612),CONCATENATE(LEFT('1 - Opstart Importark'!$B$3,1),(LEFT('1 - Opstart Importark'!$B$15,2)),(LEFT('1 - Opstart Importark'!$B$18,3)),IF(I612=\"\",\"\",\"-\"),I612,IF(K612=\"\",\"\",\"-\"),K612,IF(M612=\"\",\"\",\"-\"),M612,IF(O612=\"\",\"\",\"-\"),O612))))","v":""},{"$nulls":13},{"$f":"IF(LEN('1 - Opstart Importark'!$B$6)>0,'1 - Opstart Importark'!$B$6,\"\")","v":""},{"$f":"IF(LEN('1 - Opstart Importark'!$B$9)>0,'1 - Opstart Importark'!$B$9,\"\")","v":""},{"$f":"IF(LEN('1 - Opstart Importark'!$B$31)>0,'1 - Opstart Importark'!$B$31,\"\")","v":""},{"$nulls":12},"",{"$nulls":8},0,"","","objektnogle_"]
[602,null,{"$f":"IF('1 - Opstart Importark'!$B$6=\"\",\"\",(IF('1 - Opstart Importark'!$B$15=\"\",CONCATENATE(LEFT('1 - Opstart Importark'!$B$3,1),(LEFT('1 - Opstart Importark'!$B$24,2)),LEFT('1 - Opstart Importark'!$B$28,3),IF(I613=\"\",\"\",\"-\"),I613,IF(K613=\"\",\"\",\"-\"),K613,IF(M613=\"\",\"\",\"-\"),M613,IF(O613=\"\",\"\",\"-\"),O613),CONCATENATE(LEFT('1 - Opstart Importark'!$B$3,1),(LEFT('1 - Opstart Importark'!$B$15,2)),(LEFT('1 - Opstart Importark'!$B$18,3)),IF(I613=\"\",\"\",\"-\"),I613,IF(K613=\"\",\"\",\"-\"),K613,IF(M613=\"\",\"\",\"-\"),M613,IF(O613=\"\",\"\",\"-\"),O613))))","v":""},{"$nulls":13},{"$f":"IF(LEN('1 - Opstart Importark'!$B$6)>0,'1 - Opstart Importark'!$B$6,\"\")","v":""},{"$f":"IF(LEN('1 - Opstart Importark'!$B$9)>0,'1 - Opstart Importark'!$B$9,\"\")","v":""},{"$f":"IF(LEN('1 - Opstart Importark'!$B$31)>0,'1 - Opstart Importark'!$B$31,\"\")","v":""},{"$nulls":12},"",{"$nulls":8},0,"","","objektnogle_"]
[603,null,{"$f":"IF('1 - Opstart Importark'!$B$6=\"\",\"\",(IF('1 - Opstart Importark'!$B$15=\"\",CONCATENATE(LEFT('1 - Opstart Importark'!$B$3,1),(LEFT('1 - Opstart Importark'!$B$24,2)),LEFT('1 - Opstart Importark'!$B$28,3),IF(I614=\"\",\"\",\"-\"),I614,IF(K614=\"\",\"\",\"-\"),K614,IF(M614=\"\",\"\",\"-\"),M614,IF(O614=\"\",\"\",\"-\"),O614),CONCATENATE(LEFT('1 - Opstart Importark'!$B$3,1),(LEFT('1 - Opstart Importark'!$B$15,2)),(LEFT('1 - Opstart Importark'!$B$18,3)),IF(I614=\"\",\"\",\"-\"),I614,IF(K614=\"\",\"\",\"-\"),K614,IF(M614=\"\",\"\",\"-\"),M614,IF(O614=\"\",\"\",\"-\"),O614))))","v":""},{"$nulls":13},{"$f":"IF(LEN('1 - Opstart Importark'!$B$6)>0,'1 - Opstart Importark'!$B$6,\"\")","v":""},{"$f":"IF(LEN('1 - Opstart Importark'!$B$9)>0,'1 - Opstart Importark'!$B$9,\"\")","v":""},{"$f":"IF(LEN('1 - Opstart Importark'!$B$31)>0,'1 - Opstart Importark'!$B$31,\"\")","v":""},{"$nulls":12},"",{"$nulls":8},0,"","","objektnogle_"]
[604,null,{"$f":"IF('1 - Opstart Importark'!$B$6=\"\",\"\",(IF('1 - Opstart Importark'!$B$15=\"\",CONCATENATE(LEFT('1 - Opstart Importark'!$B$3,1),(LEFT('1 - Opstart Importark'!$B$24,2)),LEFT('1 - Opstart Importark'!$B$28,3),IF(I615=\"\",\"\",\"-\"),I615,IF(K615=\"\",\"\",\"-\"),K615,IF(M615=\"\",\"\",\"-\"),M615,IF(O615=\"\",\"\",\"-\"),O615),CONCATENATE(LEFT('1 - Opstart Importark'!$B$3,1),(LEFT('1 - Opstart Importark'!$B$15,2)),(LEFT('1 - Opstart Importark'!$B$18,3)),IF(I615=\"\",\"\",\"-\"),I615,IF(K615=\"\",\"\",\"-\"),K615,IF(M615=\"\",\"\",\"-\"),M615,IF(O615=\"\",\"\",\"-\"),O615))))","v":""},{"$nulls":13},{"$f":"IF(LEN('1 - Opstart Importark'!$B$6)>0,'1 - Opstart Importark'!$B$6,\"\")","v":""},{"$f":"IF(LEN('1 - Opstart Importark'!$B$9)>0,'1 - Opstart Importark'!$B$9,\"\")","v":""},{"$f":"IF(LEN('1 - Opstart Importark'!$B$31)>0,'1 - Opstart Importark'!$B$31,\"\")","v":""},{"$nulls":12},"",{"$nulls":8},0,"","","objektnogle_"]
[605,null,{"$f":"IF('1 - Opstart Importark'!$B$6=\"\",\"\",(IF('1 - Opstart Importark'!$B$15=\"\",CONCATENATE(LEFT('1 - Opstart Importark'!$B$3,1),(LEFT('1 - Opstart Importark'!$B$24,2)),LEFT('1 - Opstart Importark'!$B$28,3),IF(I616=\"\",\"\",\"-\"),I616,IF(K616=\"\",\"\",\"-\"),K616,IF(M616=\"\",\"\",\"-\"),M616,IF(O616=\"\",\"\",\"-\"),O616),CONCATENATE(LEFT('1 - Opstart Importark'!$B$3,1),(LEFT('1 - Opstart Importark'!$B$15,2)),(LEFT('1 - Opstart Importark'!$B$18,3)),IF(I616=\"\",\"\",\"-\"),I616,IF(K616=\"\",\"\",\"-\"),K616,IF(M616=\"\",\"\",\"-\"),M616,IF(O616=\"\",\"\",\"-\"),O616))))","v":""},{"$nulls":13},{"$f":"IF(LEN('1 - Opstart Importark'!$B$6)>0,'1 - Opstart Importark'!$B$6,\"\")","v":""},{"$f":"IF(LEN('1 - Opstart Importark'!$B$9)>0,'1 - Opstart Importark'!$B$9,\"\")","v":""},{"$f":"IF(LEN('1 - Opstart Importark'!$B$31)>0,'1 - Opstart Importark'!$B$31,\"\")","v":""},{"$nulls":12},"",{"$nulls":8},0,"","","objektnogle_"]
[606,null,{"$f":"IF('1 - Opstart Importark'!$B$6=\"\",\"\",(IF('1 - Opstart Importark'!$B$15=\"\",CONCATENATE(LEFT('1 - Opstart Importark'!$B$3,1),(LEFT('1 - Opstart Importark'!$B$24,2)),LEFT('1 - Opstart Importark'!$B$28,3),IF(I617=\"\",\"\",\"-\"),I617,IF(K617=\"\",\"\",\"-\"),K617,IF(M617=\"\",\"\",\"-\"),M617,IF(O617=\"\",\"\",\"-\"),O617),CONCATENATE(LEFT('1 - Opstart Importark'!$B$3,1),(LEFT('1 - Opstart Importark'!$B$15,2)),(LEFT('1 - Opstart Importark'!$B$18,3)),IF(I617=\"\",\"\",\"-\"),I617,IF(K617=\"\",\"\",\"-\"),K617,IF(M617=\"\",\"\",\"-\"),M617,IF(O617=\"\",\"\",\"-\"),O617))))","v":""},{"$nulls":13},{"$f":"IF(LEN('1 - Opstart Importark'!$B$6)>0,'1 - Opstart Importark'!$B$6,\"\")","v":""},{"$f":"IF(LEN('1 - Opstart Importark'!$B$9)>0,'1 - Opstart Importark'!$B$9,\"\")","v":""},{"$f":"IF(LEN('1 - Opstart Importark'!$B$31)>0,'1 - Opstart Importark'!$B$31,\"\")","v":""},{"$nulls":12},"",{"$nulls":8},0,"","","objektnogle_"]
[607,null,{"$f":"IF('1 - Opstart Importark'!$B$6=\"\",\"\",(IF('1 - Opstart Importark'!$B$15=\"\",CONCATENATE(LEFT('1 - Opstart Importark'!$B$3,1),(LEFT('1 - Opstart Importark'!$B$24,2)),LEFT('1 - Opstart Importark'!$B$28,3),IF(I618=\"\",\"\",\"-\"),I618,IF(K618=\"\",\"\",\"-\"),K618,IF(M618=\"\",\"\",\"-\"),M618,IF(O618=\"\",\"\",\"-\"),O618),CONCATENATE(LEFT('1 - Opstart Importark'!$B$3,1),(LEFT('1 - Opstart Importark'!$B$15,2)),(LEFT('1 - Opstart Importark'!$B$18,3)),IF(I618=\"\",\"\",\"-\"),I618,IF(K618=\"\",\"\",\"-\"),K618,IF(M618=\"\",\"\",\"-\"),M618,IF(O618=\"\",\"\",\"-\"),O618))))","v":""},{"$nulls":13},{"$f":"IF(LEN('1 - Opstart Importark'!$B$6)>0,'1 - Opstart Importark'!$B$6,\"\")","v":""},{"$f":"IF(LEN('1 - Opstart Importark'!$B$9)>0,'1 - Opstart Importark'!$B$9,\"\")","v":""},{"$f":"IF(LEN('1 - Opstart Importark'!$B$31)>0,'1 - Opstart Importark'!$B$31,\"\")","v":""},{"$nulls":12},"",{"$nulls":8},0,"","","objektnogle_"]
[608,null,{"$f":"IF('1 - Opstart Importark'!$B$6=\"\",\"\",(IF('1 - Opstart Importark'!$B$15=\"\",CONCATENATE(LEFT('1 - Opstart Importark'!$B$3,1),(LEFT('1 - Opstart Importark'!$B$24,2)),LEFT('1 - Opstart Importark'!$B$28,3),IF(I619=\"\",\"\",\"-\"),I619,IF(K619=\"\",\"\",\"-\"),K619,IF(M619=\"\",\"\",\"-\"),M619,IF(O619=\"\",\"\",\"-\"),O619),CONCATENATE(LEFT('1 - Opstart Importark'!$B$3,1),(LEFT('1 - Opstart Importark'!$B$15,2)),(LEFT('1 - Opstart Importark'!$B$18,3)),IF(I619=\"\",\"\",\"-\"),I619,IF(K619=\"\",\"\",\"-\"),K619,IF(M619=\"\",\"\",\"-\"),M619,IF(O619=\"\",\"\",\"-\"),O619))))","v":""},{"$nulls":13},{"$f":"IF(LEN('1 - Opstart Importark'!$B$6)>0,'1 - Opstart Importark'!$B$6,\"\")","v":""},{"$f":"IF(LEN('1 - Opstart Importark'!$B$9)>0,'1 - Opstart Importark'!$B$9,\"\")","v":""},{"$f":"IF(LEN('1 - Opstart Importark'!$B$31)>0,'1 - Opstart Importark'!$B$31,\"\")","v":""},{"$nulls":12},"",{"$nulls":8},0,"","","objektnogle_"]
[609,null,{"$f":"IF('1 - Opstart Importark'!$B$6=\"\",\"\",(IF('1 - Opstart Importark'!$B$15=\"\",CONCATENATE(LEFT('1 - Opstart Importark'!$B$3,1),(LEFT('1 - Opstart Importark'!$B$24,2)),LEFT('1 - Opstart Importark'!$B$28,3),IF(I620=\"\",\"\",\"-\"),I620,IF(K620=\"\",\"\",\"-\"),K620,IF(M620=\"\",\"\",\"-\"),M620,IF(O620=\"\",\"\",\"-\"),O620),CONCATENATE(LEFT('1 - Opstart Importark'!$B$3,1),(LEFT('1 - Opstart Importark'!$B$15,2)),(LEFT('1 - Opstart Importark'!$B$18,3)),IF(I620=\"\",\"\",\"-\"),I620,IF(K620=\"\",\"\",\"-\"),K620,IF(M620=\"\",\"\",\"-\"),M620,IF(O620=\"\",\"\",\"-\"),O620))))","v":""},{"$nulls":13},{"$f":"IF(LEN('1 - Opstart Importark'!$B$6)>0,'1 - Opstart Importark'!$B$6,\"\")","v":""},{"$f":"IF(LEN('1 - Opstart Importark'!$B$9)>0,'1 - Opstart Importark'!$B$9,\"\")","v":""},{"$f":"IF(LEN('1 - Opstart Importark'!$B$31)>0,'1 - Opstart Importark'!$B$31,\"\")","v":""},{"$nulls":12},"",{"$nulls":8},0,"","","objektnogle_"]
[610,null,{"$f":"IF('1 - Opstart Importark'!$B$6=\"\",\"\",(IF('1 - Opstart Importark'!$B$15=\"\",CONCATENATE(LEFT('1 - Opstart Importark'!$B$3,1),(LEFT('1 - Opstart Importark'!$B$24,2)),LEFT('1 - Opstart Importark'!$B$28,3),IF(I621=\"\",\"\",\"-\"),I621,IF(K621=\"\",\"\",\"-\"),K621,IF(M621=\"\",\"\",\"-\"),M621,IF(O621=\"\",\"\",\"-\"),O621),CONCATENATE(LEFT('1 - Opstart Importark'!$B$3,1),(LEFT('1 - Opstart Importark'!$B$15,2)),(LEFT('1 - Opstart Importark'!$B$18,3)),IF(I621=\"\",\"\",\"-\"),I621,IF(K621=\"\",\"\",\"-\"),K621,IF(M621=\"\",\"\",\"-\"),M621,IF(O621=\"\",\"\",\"-\"),O621))))","v":""},{"$nulls":13},{"$f":"IF(LEN('1 - Opstart Importark'!$B$6)>0,'1 - Opstart Importark'!$B$6,\"\")","v":""},{"$f":"IF(LEN('1 - Opstart Importark'!$B$9)>0,'1 - Opstart Importark'!$B$9,\"\")","v":""},{"$f":"IF(LEN('1 - Opstart Importark'!$B$31)>0,'1 - Opstart Importark'!$B$31,\"\")","v":""},{"$nulls":12},"",{"$nulls":8},0,"","","objektnogle_"]
[611,null,{"$f":"IF('1 - Opstart Importark'!$B$6=\"\",\"\",(IF('1 - Opstart Importark'!$B$15=\"\",CONCATENATE(LEFT('1 - Opstart Importark'!$B$3,1),(LEFT('1 - Opstart Importark'!$B$24,2)),LEFT('1 - Opstart Importark'!$B$28,3),IF(I622=\"\",\"\",\"-\"),I622,IF(K622=\"\",\"\",\"-\"),K622,IF(M622=\"\",\"\",\"-\"),M622,IF(O622=\"\",\"\",\"-\"),O622),CONCATENATE(LEFT('1 - Opstart Importark'!$B$3,1),(LEFT('1 - Opstart Importark'!$B$15,2)),(LEFT('1 - Opstart Importark'!$B$18,3)),IF(I622=\"\",\"\",\"-\"),I622,IF(K622=\"\",\"\",\"-\"),K622,IF(M622=\"\",\"\",\"-\"),M622,IF(O622=\"\",\"\",\"-\"),O622))))","v":""},{"$nulls":13},{"$f":"IF(LEN('1 - Opstart Importark'!$B$6)>0,'1 - Opstart Importark'!$B$6,\"\")","v":""},{"$f":"IF(LEN('1 - Opstart Importark'!$B$9)>0,'1 - Opstart Importark'!$B$9,\"\")","v":""},{"$f":"IF(LEN('1 - Opstart Importark'!$B$31)>0,'1 - Opstart Importark'!$B$31,\"\")","v":""},{"$nulls":12},"",{"$nulls":8},0,"","","objektnogle_"]
[612,null,{"$f":"IF('1 - Opstart Importark'!$B$6=\"\",\"\",(IF('1 - Opstart Importark'!$B$15=\"\",CONCATENATE(LEFT('1 - Opstart Importark'!$B$3,1),(LEFT('1 - Opstart Importark'!$B$24,2)),LEFT('1 - Opstart Importark'!$B$28,3),IF(I623=\"\",\"\",\"-\"),I623,IF(K623=\"\",\"\",\"-\"),K623,IF(M623=\"\",\"\",\"-\"),M623,IF(O623=\"\",\"\",\"-\"),O623),CONCATENATE(LEFT('1 - Opstart Importark'!$B$3,1),(LEFT('1 - Opstart Importark'!$B$15,2)),(LEFT('1 - Opstart Importark'!$B$18,3)),IF(I623=\"\",\"\",\"-\"),I623,IF(K623=\"\",\"\",\"-\"),K623,IF(M623=\"\",\"\",\"-\"),M623,IF(O623=\"\",\"\",\"-\"),O623))))","v":""},{"$nulls":13},{"$f":"IF(LEN('1 - Opstart Importark'!$B$6)>0,'1 - Opstart Importark'!$B$6,\"\")","v":""},{"$f":"IF(LEN('1 - Opstart Importark'!$B$9)>0,'1 - Opstart Importark'!$B$9,\"\")","v":""},{"$f":"IF(LEN('1 - Opstart Importark'!$B$31)>0,'1 - Opstart Importark'!$B$31,\"\")","v":""},{"$nulls":12},"",{"$nulls":8},0,"","","objektnogle_"]
[613,null,{"$f":"IF('1 - Opstart Importark'!$B$6=\"\",\"\",(IF('1 - Opstart Importark'!$B$15=\"\",CONCATENATE(LEFT('1 - Opstart Importark'!$B$3,1),(LEFT('1 - Opstart Importark'!$B$24,2)),LEFT('1 - Opstart Importark'!$B$28,3),IF(I624=\"\",\"\",\"-\"),I624,IF(K624=\"\",\"\",\"-\"),K624,IF(M624=\"\",\"\",\"-\"),M624,IF(O624=\"\",\"\",\"-\"),O624),CONCATENATE(LEFT('1 - Opstart Importark'!$B$3,1),(LEFT('1 - Opstart Importark'!$B$15,2)),(LEFT('1 - Opstart Importark'!$B$18,3)),IF(I624=\"\",\"\",\"-\"),I624,IF(K624=\"\",\"\",\"-\"),K624,IF(M624=\"\",\"\",\"-\"),M624,IF(O624=\"\",\"\",\"-\"),O624))))","v":""},{"$nulls":13},{"$f":"IF(LEN('1 - Opstart Importark'!$B$6)>0,'1 - Opstart Importark'!$B$6,\"\")","v":""},{"$f":"IF(LEN('1 - Opstart Importark'!$B$9)>0,'1 - Opstart Importark'!$B$9,\"\")","v":""},{"$f":"IF(LEN('1 - Opstart Importark'!$B$31)>0,'1 - Opstart Importark'!$B$31,\"\")","v":""},{"$nulls":12},"",{"$nulls":8},0,"","","objektnogle_"]
[614,null,{"$f":"IF('1 - Opstart Importark'!$B$6=\"\",\"\",(IF('1 - Opstart Importark'!$B$15=\"\",CONCATENATE(LEFT('1 - Opstart Importark'!$B$3,1),(LEFT('1 - Opstart Importark'!$B$24,2)),LEFT('1 - Opstart Importark'!$B$28,3),IF(I625=\"\",\"\",\"-\"),I625,IF(K625=\"\",\"\",\"-\"),K625,IF(M625=\"\",\"\",\"-\"),M625,IF(O625=\"\",\"\",\"-\"),O625),CONCATENATE(LEFT('1 - Opstart Importark'!$B$3,1),(LEFT('1 - Opstart Importark'!$B$15,2)),(LEFT('1 - Opstart Importark'!$B$18,3)),IF(I625=\"\",\"\",\"-\"),I625,IF(K625=\"\",\"\",\"-\"),K625,IF(M625=\"\",\"\",\"-\"),M625,IF(O625=\"\",\"\",\"-\"),O625))))","v":""},{"$nulls":13},{"$f":"IF(LEN('1 - Opstart Importark'!$B$6)>0,'1 - Opstart Importark'!$B$6,\"\")","v":""},{"$f":"IF(LEN('1 - Opstart Importark'!$B$9)>0,'1 - Opstart Importark'!$B$9,\"\")","v":""},{"$f":"IF(LEN('1 - Opstart Importark'!$B$31)>0,'1 - Opstart Importark'!$B$31,\"\")","v":""},{"$nulls":12},"",{"$nulls":8},0,"","","objektnogle_"]
[615,null,{"$f":"IF('1 - Opstart Importark'!$B$6=\"\",\"\",(IF('1 - Opstart Importark'!$B$15=\"\",CONCATENATE(LEFT('1 - Opstart Importark'!$B$3,1),(LEFT('1 - Opstart Importark'!$B$24,2)),LEFT('1 - Opstart Importark'!$B$28,3),IF(I626=\"\",\"\",\"-\"),I626,IF(K626=\"\",\"\",\"-\"),K626,IF(M626=\"\",\"\",\"-\"),M626,IF(O626=\"\",\"\",\"-\"),O626),CONCATENATE(LEFT('1 - Opstart Importark'!$B$3,1),(LEFT('1 - Opstart Importark'!$B$15,2)),(LEFT('1 - Opstart Importark'!$B$18,3)),IF(I626=\"\",\"\",\"-\"),I626,IF(K626=\"\",\"\",\"-\"),K626,IF(M626=\"\",\"\",\"-\"),M626,IF(O626=\"\",\"\",\"-\"),O626))))","v":""},{"$nulls":13},{"$f":"IF(LEN('1 - Opstart Importark'!$B$6)>0,'1 - Opstart Importark'!$B$6,\"\")","v":""},{"$f":"IF(LEN('1 - Opstart Importark'!$B$9)>0,'1 - Opstart Importark'!$B$9,\"\")","v":""},{"$f":"IF(LEN('1 - Opstart Importark'!$B$31)>0,'1 - Opstart Importark'!$B$31,\"\")","v":""},{"$nulls":12},"",{"$nulls":8},0,"","","objektnogle_"]
[616,null,{"$f":"IF('1 - Opstart Importark'!$B$6=\"\",\"\",(IF('1 - Opstart Importark'!$B$15=\"\",CONCATENATE(LEFT('1 - Opstart Importark'!$B$3,1),(LEFT('1 - Opstart Importark'!$B$24,2)),LEFT('1 - Opstart Importark'!$B$28,3),IF(I627=\"\",\"\",\"-\"),I627,IF(K627=\"\",\"\",\"-\"),K627,IF(M627=\"\",\"\",\"-\"),M627,IF(O627=\"\",\"\",\"-\"),O627),CONCATENATE(LEFT('1 - Opstart Importark'!$B$3,1),(LEFT('1 - Opstart Importark'!$B$15,2)),(LEFT('1 - Opstart Importark'!$B$18,3)),IF(I627=\"\",\"\",\"-\"),I627,IF(K627=\"\",\"\",\"-\"),K627,IF(M627=\"\",\"\",\"-\"),M627,IF(O627=\"\",\"\",\"-\"),O627))))","v":""},{"$nulls":13},{"$f":"IF(LEN('1 - Opstart Importark'!$B$6)>0,'1 - Opstart Importark'!$B$6,\"\")","v":""},{"$f":"IF(LEN('1 - Opstart Importark'!$B$9)>0,'1 - Opstart Importark'!$B$9,\"\")","v":""},{"$f":"IF(LEN('1 - Opstart Importark'!$B$31)>0,'1 - Opstart Importark'!$B$31,\"\")","v":""},{"$nulls":12},"",{"$nulls":8},0,"","","objektnogle_"]
[617,null,{"$f":"IF('1 - Opstart Importark'!$B$6=\"\",\"\",(IF('1 - Opstart Importark'!$B$15=\"\",CONCATENATE(LEFT('1 - Opstart Importark'!$B$3,1),(LEFT('1 - Opstart Importark'!$B$24,2)),LEFT('1 - Opstart Importark'!$B$28,3),IF(I628=\"\",\"\",\"-\"),I628,IF(K628=\"\",\"\",\"-\"),K628,IF(M628=\"\",\"\",\"-\"),M628,IF(O628=\"\",\"\",\"-\"),O628),CONCATENATE(LEFT('1 - Opstart Importark'!$B$3,1),(LEFT('1 - Opstart Importark'!$B$15,2)),(LEFT('1 - Opstart Importark'!$B$18,3)),IF(I628=\"\",\"\",\"-\"),I628,IF(K628=\"\",\"\",\"-\"),K628,IF(M628=\"\",\"\",\"-\"),M628,IF(O628=\"\",\"\",\"-\"),O628))))","v":""},{"$nulls":13},{"$f":"IF(LEN('1 - Opstart Importark'!$B$6)>0,'1 - Opstart Importark'!$B$6,\"\")","v":""},{"$f":"IF(LEN('1 - Opstart Importark'!$B$9)>0,'1 - Opstart Importark'!$B$9,\"\")","v":""},{"$f":"IF(LEN('1 - Opstart Importark'!$B$31)>0,'1 - Opstart Importark'!$B$31,\"\")","v":""},{"$nulls":12},"",{"$nulls":8},0,"","","objektnogle_"]
[618,null,{"$f":"IF('1 - Opstart Importark'!$B$6=\"\",\"\",(IF('1 - Opstart Importark'!$B$15=\"\",CONCATENATE(LEFT('1 - Opstart Importark'!$B$3,1),(LEFT('1 - Opstart Importark'!$B$24,2)),LEFT('1 - Opstart Importark'!$B$28,3),IF(I629=\"\",\"\",\"-\"),I629,IF(K629=\"\",\"\",\"-\"),K629,IF(M629=\"\",\"\",\"-\"),M629,IF(O629=\"\",\"\",\"-\"),O629),CONCATENATE(LEFT('1 - Opstart Importark'!$B$3,1),(LEFT('1 - Opstart Importark'!$B$15,2)),(LEFT('1 - Opstart Importark'!$B$18,3)),IF(I629=\"\",\"\",\"-\"),I629,IF(K629=\"\",\"\",\"-\"),K629,IF(M629=\"\",\"\",\"-\"),M629,IF(O629=\"\",\"\",\"-\"),O629))))","v":""},{"$nulls":13},{"$f":"IF(LEN('1 - Opstart Importark'!$B$6)>0,'1 - Opstart Importark'!$B$6,\"\")","v":""},{"$f":"IF(LEN('1 - Opstart Importark'!$B$9)>0,'1 - Opstart Importark'!$B$9,\"\")","v":""},{"$f":"IF(LEN('1 - Opstart Importark'!$B$31)>0,'1 - Opstart Importark'!$B$31,\"\")","v":""},{"$nulls":12},"",{"$nulls":8},0,"","","objektnogle_"]
[619,null,{"$f":"IF('1 - Opstart Importark'!$B$6=\"\",\"\",(IF('1 - Opstart Importark'!$B$15=\"\",CONCATENATE(LEFT('1 - Opstart Importark'!$B$3,1),(LEFT('1 - Opstart Importark'!$B$24,2)),LEFT('1 - Opstart Importark'!$B$28,3),IF(I630=\"\",\"\",\"-\"),I630,IF(K630=\"\",\"\",\"-\"),K630,IF(M630=\"\",\"\",\"-\"),M630,IF(O630=\"\",\"\",\"-\"),O630),CONCATENATE(LEFT('1 - Opstart Importark'!$B$3,1),(LEFT('1 - Opstart Importark'!$B$15,2)),(LEFT('1 - Opstart Importark'!$B$18,3)),IF(I630=\"\",\"\",\"-\"),I630,IF(K630=\"\",\"\",\"-\"),K630,IF(M630=\"\",\"\",\"-\"),M630,IF(O630=\"\",\"\",\"-\"),O630))))","v":""},{"$nulls":13},{"$f":"IF(LEN('1 - Opstart Importark'!$B$6)>0,'1 - Opstart Importark'!$B$6,\"\")","v":""},{"$f":"IF(LEN('1 - Opstart Importark'!$B$9)>0,'1 - Opstart Importark'!$B$9,\"\")","v":""},{"$f":"IF(LEN('1 - Opstart Importark'!$B$31)>0,'1 - Opstart Importark'!$B$31,\"\")","v":""},{"$nulls":12},"",{"$nulls":8},0,"","","objektnogle_"]
[620,null,{"$f":"IF('1 - Opstart Importark'!$B$6=\"\",\"\",(IF('1 - Opstart Importark'!$B$15=\"\",CONCATENATE(LEFT('1 - Opstart Importark'!$B$3,1),(LEFT('1 - Opstart Importark'!$B$24,2)),LEFT('1 - Opstart Importark'!$B$28,3),IF(I631=\"\",\"\",\"-\"),I631,IF(K631=\"\",\"\",\"-\"),K631,IF(M631=\"\",\"\",\"-\"),M631,IF(O631=\"\",\"\",\"-\"),O631),CONCATENATE(LEFT('1 - Opstart Importark'!$B$3,1),(LEFT('1 - Opstart Importark'!$B$15,2)),(LEFT('1 - Opstart Importark'!$B$18,3)),IF(I631=\"\",\"\",\"-\"),I631,IF(K631=\"\",\"\",\"-\"),K631,IF(M631=\"\",\"\",\"-\"),M631,IF(O631=\"\",\"\",\"-\"),O631))))","v":""},{"$nulls":13},{"$f":"IF(LEN('1 - Opstart Importark'!$B$6)>0,'1 - Opstart Importark'!$B$6,\"\")","v":""},{"$f":"IF(LEN('1 - Opstart Importark'!$B$9)>0,'1 - Opstart Importark'!$B$9,\"\")","v":""},{"$f":"IF(LEN('1 - Opstart Importark'!$B$31)>0,'1 - Opstart Importark'!$B$31,\"\")","v":""},{"$nulls":12},"",{"$nulls":8},0,"","","objektnogle_"]
[621,null,{"$f":"IF('1 - Opstart Importark'!$B$6=\"\",\"\",(IF('1 - Opstart Importark'!$B$15=\"\",CONCATENATE(LEFT('1 - Opstart Importark'!$B$3,1),(LEFT('1 - Opstart Importark'!$B$24,2)),LEFT('1 - Opstart Importark'!$B$28,3),IF(I632=\"\",\"\",\"-\"),I632,IF(K632=\"\",\"\",\"-\"),K632,IF(M632=\"\",\"\",\"-\"),M632,IF(O632=\"\",\"\",\"-\"),O632),CONCATENATE(LEFT('1 - Opstart Importark'!$B$3,1),(LEFT('1 - Opstart Importark'!$B$15,2)),(LEFT('1 - Opstart Importark'!$B$18,3)),IF(I632=\"\",\"\",\"-\"),I632,IF(K632=\"\",\"\",\"-\"),K632,IF(M632=\"\",\"\",\"-\"),M632,IF(O632=\"\",\"\",\"-\"),O632))))","v":""},{"$nulls":13},{"$f":"IF(LEN('1 - Opstart Importark'!$B$6)>0,'1 - Opstart Importark'!$B$6,\"\")","v":""},{"$f":"IF(LEN('1 - Opstart Importark'!$B$9)>0,'1 - Opstart Importark'!$B$9,\"\")","v":""},{"$f":"IF(LEN('1 - Opstart Importark'!$B$31)>0,'1 - Opstart Importark'!$B$31,\"\")","v":""},{"$nulls":12},"",{"$nulls":8},0,"","","objektnogle_"]
[622,null,{"$f":"IF('1 - Opstart Importark'!$B$6=\"\",\"\",(IF('1 - Opstart Importark'!$B$15=\"\",CONCATENATE(LEFT('1 - Opstart Importark'!$B$3,1),(LEFT('1 - Opstart Importark'!$B$24,2)),LEFT('1 - Opstart Importark'!$B$28,3),IF(I633=\"\",\"\",\"-\"),I633,IF(K633=\"\",\"\",\"-\"),K633,IF(M633=\"\",\"\",\"-\"),M633,IF(O633=\"\",\"\",\"-\"),O633),CONCATENATE(LEFT('1 - Opstart Importark'!$B$3,1),(LEFT('1 - Opstart Importark'!$B$15,2)),(LEFT('1 - Opstart Importark'!$B$18,3)),IF(I633=\"\",\"\",\"-\"),I633,IF(K633=\"\",\"\",\"-\"),K633,IF(M633=\"\",\"\",\"-\"),M633,IF(O633=\"\",\"\",\"-\"),O633))))","v":""},{"$nulls":13},{"$f":"IF(LEN('1 - Opstart Importark'!$B$6)>0,'1 - Opstart Importark'!$B$6,\"\")","v":""},{"$f":"IF(LEN('1 - Opstart Importark'!$B$9)>0,'1 - Opstart Importark'!$B$9,\"\")","v":""},{"$f":"IF(LEN('1 - Opstart Importark'!$B$31)>0,'1 - Opstart Importark'!$B$31,\"\")","v":""},{"$nulls":12},"",{"$nulls":8},0,"","","objektnogle_"]
[623,null,{"$f":"IF('1 - Opstart Importark'!$B$6=\"\",\"\",(IF('1 - Opstart Importark'!$B$15=\"\",CONCATENATE(LEFT('1 - Opstart Importark'!$B$3,1),(LEFT('1 - Opstart Importark'!$B$24,2)),LEFT('1 - Opstart Importark'!$B$28,3),IF(I634=\"\",\"\",\"-\"),I634,IF(K634=\"\",\"\",\"-\"),K634,IF(M634=\"\",\"\",\"-\"),M634,IF(O634=\"\",\"\",\"-\"),O634),CONCATENATE(LEFT('1 - Opstart Importark'!$B$3,1),(LEFT('1 - Opstart Importark'!$B$15,2)),(LEFT('1 - Opstart Importark'!$B$18,3)),IF(I634=\"\",\"\",\"-\"),I634,IF(K634=\"\",\"\",\"-\"),K634,IF(M634=\"\",\"\",\"-\"),M634,IF(O634=\"\",\"\",\"-\"),O634))))","v":""},{"$nulls":13},{"$f":"IF(LEN('1 - Opstart Importark'!$B$6)>0,'1 - Opstart Importark'!$B$6,\"\")","v":""},{"$f":"IF(LEN('1 - Opstart Importark'!$B$9)>0,'1 - Opstart Importark'!$B$9,\"\")","v":""},{"$f":"IF(LEN('1 - Opstart Importark'!$B$31)>0,'1 - Opstart Importark'!$B$31,\"\")","v":""},{"$nulls":12},"",{"$nulls":8},0,"","","objektnogle_"]
[624,null,{"$f":"IF('1 - Opstart Importark'!$B$6=\"\",\"\",(IF('1 - Opstart Importark'!$B$15=\"\",CONCATENATE(LEFT('1 - Opstart Importark'!$B$3,1),(LEFT('1 - Opstart Importark'!$B$24,2)),LEFT('1 - Opstart Importark'!$B$28,3),IF(I635=\"\",\"\",\"-\"),I635,IF(K635=\"\",\"\",\"-\"),K635,IF(M635=\"\",\"\",\"-\"),M635,IF(O635=\"\",\"\",\"-\"),O635),CONCATENATE(LEFT('1 - Opstart Importark'!$B$3,1),(LEFT('1 - Opstart Importark'!$B$15,2)),(LEFT('1 - Opstart Importark'!$B$18,3)),IF(I635=\"\",\"\",\"-\"),I635,IF(K635=\"\",\"\",\"-\"),K635,IF(M635=\"\",\"\",\"-\"),M635,IF(O635=\"\",\"\",\"-\"),O635))))","v":""},{"$nulls":13},{"$f":"IF(LEN('1 - Opstart Importark'!$B$6)>0,'1 - Opstart Importark'!$B$6,\"\")","v":""},{"$f":"IF(LEN('1 - Opstart Importark'!$B$9)>0,'1 - Opstart Importark'!$B$9,\"\")","v":""},{"$f":"IF(LEN('1 - Opstart Importark'!$B$31)>0,'1 - Opstart Importark'!$B$31,\"\")","v":""},{"$nulls":12},"",{"$nulls":8},0,"","","objektnogle_"]
[625,null,{"$f":"IF('1 - Opstart Importark'!$B$6=\"\",\"\",(IF('1 - Opstart Importark'!$B$15=\"\",CONCATENATE(LEFT('1 - Opstart Importark'!$B$3,1),(LEFT('1 - Opstart Importark'!$B$24,2)),LEFT('1 - Opstart Importark'!$B$28,3),IF(I636=\"\",\"\",\"-\"),I636,IF(K636=\"\",\"\",\"-\"),K636,IF(M636=\"\",\"\",\"-\"),M636,IF(O636=\"\",\"\",\"-\"),O636),CONCATENATE(LEFT('1 - Opstart Importark'!$B$3,1),(LEFT('1 - Opstart Importark'!$B$15,2)),(LEFT('1 - Opstart Importark'!$B$18,3)),IF(I636=\"\",\"\",\"-\"),I636,IF(K636=\"\",\"\",\"-\"),K636,IF(M636=\"\",\"\",\"-\"),M636,IF(O636=\"\",\"\",\"-\"),O636))))","v":""},{"$nulls":13},{"$f":"IF(LEN('1 - Opstart Importark'!$B$6)>0,'1 - Opstart Importark'!$B$6,\"\")","v":""},{"$f":"IF(LEN('1 - Opstart Importark'!$B$9)>0,'1 - Opstart Importark'!$B$9,\"\")","v":""},{"$f":"IF(LEN('1 - Opstart Importark'!$B$31)>0,'1 - Opstart Importark'!$B$31,\"\")","v":""},{"$nulls":12},"",{"$nulls":8},0,"","","objektnogle_"]
[626,null,{"$f":"IF('1 - Opstart Importark'!$B$6=\"\",\"\",(IF('1 - Opstart Importark'!$B$15=\"\",CONCATENATE(LEFT('1 - Opstart Importark'!$B$3,1),(LEFT('1 - Opstart Importark'!$B$24,2)),LEFT('1 - Opstart Importark'!$B$28,3),IF(I637=\"\",\"\",\"-\"),I637,IF(K637=\"\",\"\",\"-\"),K637,IF(M637=\"\",\"\",\"-\"),M637,IF(O637=\"\",\"\",\"-\"),O637),CONCATENATE(LEFT('1 - Opstart Importark'!$B$3,1),(LEFT('1 - Opstart Importark'!$B$15,2)),(LEFT('1 - Opstart Importark'!$B$18,3)),IF(I637=\"\",\"\",\"-\"),I637,IF(K637=\"\",\"\",\"-\"),K637,IF(M637=\"\",\"\",\"-\"),M637,IF(O637=\"\",\"\",\"-\"),O637))))","v":""},{"$nulls":13},{"$f":"IF(LEN('1 - Opstart Importark'!$B$6)>0,'1 - Opstart Importark'!$B$6,\"\")","v":""},{"$f":"IF(LEN('1 - Opstart Importark'!$B$9)>0,'1 - Opstart Importark'!$B$9,\"\")","v":""},{"$f":"IF(LEN('1 - Opstart Importark'!$B$31)>0,'1 - Opstart Importark'!$B$31,\"\")","v":""},{"$nulls":12},"",{"$nulls":8},0,"","","objektnogle_"]
[627,null,{"$f":"IF('1 - Opstart Importark'!$B$6=\"\",\"\",(IF('1 - Opstart Importark'!$B$15=\"\",CONCATENATE(LEFT('1 - Opstart Importark'!$B$3,1),(LEFT('1 - Opstart Importark'!$B$24,2)),LEFT('1 - Opstart Importark'!$B$28,3),IF(I638=\"\",\"\",\"-\"),I638,IF(K638=\"\",\"\",\"-\"),K638,IF(M638=\"\",\"\",\"-\"),M638,IF(O638=\"\",\"\",\"-\"),O638),CONCATENATE(LEFT('1 - Opstart Importark'!$B$3,1),(LEFT('1 - Opstart Importark'!$B$15,2)),(LEFT('1 - Opstart Importark'!$B$18,3)),IF(I638=\"\",\"\",\"-\"),I638,IF(K638=\"\",\"\",\"-\"),K638,IF(M638=\"\",\"\",\"-\"),M638,IF(O638=\"\",\"\",\"-\"),O638))))","v":""},{"$nulls":13},{"$f":"IF(LEN('1 - Opstart Importark'!$B$6)>0,'1 - Opstart Importark'!$B$6,\"\")","v":""},{"$f":"IF(LEN('1 - Opstart Importark'!$B$9)>0,'1 - Opstart Importark'!$B$9,\"\")","v":""},{"$f":"IF(LEN('1 - Opstart Importark'!$B$31)>0,'1 - Opstart Importark'!$B$31,\"\")","v":""},{"$nulls":12},"",{"$nulls":8},0,"","","objektnogle_"]
[628,null,{"$f":"IF('1 - Opstart Importark'!$B$6=\"\",\"\",(IF('1 - Opstart Importark'!$B$15=\"\",CONCATENATE(LEFT('1 - Opstart Importark'!$B$3,1),(LEFT('1 - Opstart Importark'!$B$24,2)),LEFT('1 - Opstart Importark'!$B$28,3),IF(I639=\"\",\"\",\"-\"),I639,IF(K639=\"\",\"\",\"-\"),K639,IF(M639=\"\",\"\",\"-\"),M639,IF(O639=\"\",\"\",\"-\"),O639),CONCATENATE(LEFT('1 - Opstart Importark'!$B$3,1),(LEFT('1 - Opstart Importark'!$B$15,2)),(LEFT('1 - Opstart Importark'!$B$18,3)),IF(I639=\"\",\"\",\"-\"),I639,IF(K639=\"\",\"\",\"-\"),K639,IF(M639=\"\",\"\",\"-\"),M639,IF(O639=\"\",\"\",\"-\"),O639))))","v":""},{"$nulls":13},{"$f":"IF(LEN('1 - Opstart Importark'!$B$6)>0,'1 - Opstart Importark'!$B$6,\"\")","v":""},{"$f":"IF(LEN('1 - Opstart Importark'!$B$9)>0,'1 - Opstart Importark'!$B$9,\"\")","v":""},{"$f":"IF(LEN('1 - Opstart Importark'!$B$31)>0,'1 - Opstart Importark'!$B$31,\"\")","v":""},{"$nulls":12},"",{"$nulls":8},0,"","","objektnogle_"]
[629,null,{"$f":"IF('1 - Opstart Importark'!$B$6=\"\",\"\",(IF('1 - Opstart Importark'!$B$15=\"\",CONCATENATE(LEFT('1 - Opstart Importark'!$B$3,1),(LEFT('1 - Opstart Importark'!$B$24,2)),LEFT('1 - Opstart Importark'!$B$28,3),IF(I640=\"\",\"\",\"-\"),I640,IF(K640=\"\",\"\",\"-\"),K640,IF(M640=\"\",\"\",\"-\"),M640,IF(O640=\"\",\"\",\"-\"),O640),CONCATENATE(LEFT('1 - Opstart Importark'!$B$3,1),(LEFT('1 - Opstart Importark'!$B$15,2)),(LEFT('1 - Opstart Importark'!$B$18,3)),IF(I640=\"\",\"\",\"-\"),I640,IF(K640=\"\",\"\",\"-\"),K640,IF(M640=\"\",\"\",\"-\"),M640,IF(O640=\"\",\"\",\"-\"),O640))))","v":""},{"$nulls":13},{"$f":"IF(LEN('1 - Opstart Importark'!$B$6)>0,'1 - Opstart Importark'!$B$6,\"\")","v":""},{"$f":"IF(LEN('1 - Opstart Importark'!$B$9)>0,'1 - Opstart Importark'!$B$9,\"\")","v":""},{"$f":"IF(LEN('1 - Opstart Importark'!$B$31)>0,'1 - Opstart Importark'!$B$31,\"\")","v":""},{"$nulls":12},"",{"$nulls":8},0,"","","objektnogle_"]
[630,null,{"$f":"IF('1 - Opstart Importark'!$B$6=\"\",\"\",(IF('1 - Opstart Importark'!$B$15=\"\",CONCATENATE(LEFT('1 - Opstart Importark'!$B$3,1),(LEFT('1 - Opstart Importark'!$B$24,2)),LEFT('1 - Opstart Importark'!$B$28,3),IF(I641=\"\",\"\",\"-\"),I641,IF(K641=\"\",\"\",\"-\"),K641,IF(M641=\"\",\"\",\"-\"),M641,IF(O641=\"\",\"\",\"-\"),O641),CONCATENATE(LEFT('1 - Opstart Importark'!$B$3,1),(LEFT('1 - Opstart Importark'!$B$15,2)),(LEFT('1 - Opstart Importark'!$B$18,3)),IF(I641=\"\",\"\",\"-\"),I641,IF(K641=\"\",\"\",\"-\"),K641,IF(M641=\"\",\"\",\"-\"),M641,IF(O641=\"\",\"\",\"-\"),O641))))","v":""},{"$nulls":13},{"$f":"IF(LEN('1 - Opstart Importark'!$B$6)>0,'1 - Opstart Importark'!$B$6,\"\")","v":""},{"$f":"IF(LEN('1 - Opstart Importark'!$B$9)>0,'1 - Opstart Importark'!$B$9,\"\")","v":""},{"$f":"IF(LEN('1 - Opstart Importark'!$B$31)>0,'1 - Opstart Importark'!$B$31,\"\")","v":""},{"$nulls":12},"",{"$nulls":8},0,"","","objektnogle_"]
[631,null,{"$f":"IF('1 - Opstart Importark'!$B$6=\"\",\"\",(IF('1 - Opstart Importark'!$B$15=\"\",CONCATENATE(LEFT('1 - Opstart Importark'!$B$3,1),(LEFT('1 - Opstart Importark'!$B$24,2)),LEFT('1 - Opstart Importark'!$B$28,3),IF(I642=\"\",\"\",\"-\"),I642,IF(K642=\"\",\"\",\"-\"),K642,IF(M642=\"\",\"\",\"-\"),M642,IF(O642=\"\",\"\",\"-\"),O642),CONCATENATE(LEFT('1 - Opstart Importark'!$B$3,1),(LEFT('1 - Opstart Importark'!$B$15,2)),(LEFT('1 - Opstart Importark'!$B$18,3)),IF(I642=\"\",\"\",\"-\"),I642,IF(K642=\"\",\"\",\"-\"),K642,IF(M642=\"\",\"\",\"-\"),M642,IF(O642=\"\",\"\",\"-\"),O642))))","v":""},{"$nulls":13},{"$f":"IF(LEN('1 - Opstart Importark'!$B$6)>0,'1 - Opstart Importark'!$B$6,\"\")","v":""},{"$f":"IF(LEN('1 - Opstart Importark'!$B$9)>0,'1 - Opstart Importark'!$B$9,\"\")","v":""},{"$f":"IF(LEN('1 - Opstart Importark'!$B$31)>0,'1 - Opstart Importark'!$B$31,\"\")","v":""},{"$nulls":12},"",{"$nulls":8},0,"","","objektnogle_"]
[632,null,{"$f":"IF('1 - Opstart Importark'!$B$6=\"\",\"\",(IF('1 - Opstart Importark'!$B$15=\"\",CONCATENATE(LEFT('1 - Opstart Importark'!$B$3,1),(LEFT('1 - Opstart Importark'!$B$24,2)),LEFT('1 - Opstart Importark'!$B$28,3),IF(I643=\"\",\"\",\"-\"),I643,IF(K643=\"\",\"\",\"-\"),K643,IF(M643=\"\",\"\",\"-\"),M643,IF(O643=\"\",\"\",\"-\"),O643),CONCATENATE(LEFT('1 - Opstart Importark'!$B$3,1),(LEFT('1 - Opstart Importark'!$B$15,2)),(LEFT('1 - Opstart Importark'!$B$18,3)),IF(I643=\"\",\"\",\"-\"),I643,IF(K643=\"\",\"\",\"-\"),K643,IF(M643=\"\",\"\",\"-\"),M643,IF(O643=\"\",\"\",\"-\"),O643))))","v":""},{"$nulls":13},{"$f":"IF(LEN('1 - Opstart Importark'!$B$6)>0,'1 - Opstart Importark'!$B$6,\"\")","v":""},{"$f":"IF(LEN('1 - Opstart Importark'!$B$9)>0,'1 - Opstart Importark'!$B$9,\"\")","v":""},{"$f":"IF(LEN('1 - Opstart Importark'!$B$31)>0,'1 - Opstart Importark'!$B$31,\"\")","v":""},{"$nulls":12},"",{"$nulls":8},0,"","","objektnogle_"]
[633,null,{"$f":"IF('1 - Opstart Importark'!$B$6=\"\",\"\",(IF('1 - Opstart Importark'!$B$15=\"\",CONCATENATE(LEFT('1 - Opstart Importark'!$B$3,1),(LEFT('1 - Opstart Importark'!$B$24,2)),LEFT('1 - Opstart Importark'!$B$28,3),IF(I644=\"\",\"\",\"-\"),I644,IF(K644=\"\",\"\",\"-\"),K644,IF(M644=\"\",\"\",\"-\"),M644,IF(O644=\"\",\"\",\"-\"),O644),CONCATENATE(LEFT('1 - Opstart Importark'!$B$3,1),(LEFT('1 - Opstart Importark'!$B$15,2)),(LEFT('1 - Opstart Importark'!$B$18,3)),IF(I644=\"\",\"\",\"-\"),I644,IF(K644=\"\",\"\",\"-\"),K644,IF(M644=\"\",\"\",\"-\"),M644,IF(O644=\"\",\"\",\"-\"),O644))))","v":""},{"$nulls":13},{"$f":"IF(LEN('1 - Opstart Importark'!$B$6)>0,'1 - Opstart Importark'!$B$6,\"\")","v":""},{"$f":"IF(LEN('1 - Opstart Importark'!$B$9)>0,'1 - Opstart Importark'!$B$9,\"\")","v":""},{"$f":"IF(LEN('1 - Opstart Importark'!$B$31)>0,'1 - Opstart Importark'!$B$31,\"\")","v":""},{"$nulls":12},"",{"$nulls":8},0,"","","objektnogle_"]
[634,null,{"$f":"IF('1 - Opstart Importark'!$B$6=\"\",\"\",(IF('1 - Opstart Importark'!$B$15=\"\",CONCATENATE(LEFT('1 - Opstart Importark'!$B$3,1),(LEFT('1 - Opstart Importark'!$B$24,2)),LEFT('1 - Opstart Importark'!$B$28,3),IF(I645=\"\",\"\",\"-\"),I645,IF(K645=\"\",\"\",\"-\"),K645,IF(M645=\"\",\"\",\"-\"),M645,IF(O645=\"\",\"\",\"-\"),O645),CONCATENATE(LEFT('1 - Opstart Importark'!$B$3,1),(LEFT('1 - Opstart Importark'!$B$15,2)),(LEFT('1 - Opstart Importark'!$B$18,3)),IF(I645=\"\",\"\",\"-\"),I645,IF(K645=\"\",\"\",\"-\"),K645,IF(M645=\"\",\"\",\"-\"),M645,IF(O645=\"\",\"\",\"-\"),O645))))","v":""},{"$nulls":13},{"$f":"IF(LEN('1 - Opstart Importark'!$B$6)>0,'1 - Opstart Importark'!$B$6,\"\")","v":""},{"$f":"IF(LEN('1 - Opstart Importark'!$B$9)>0,'1 - Opstart Importark'!$B$9,\"\")","v":""},{"$f":"IF(LEN('1 - Opstart Importark'!$B$31)>0,'1 - Opstart Importark'!$B$31,\"\")","v":""},{"$nulls":12},"",{"$nulls":8},0,"","","objektnogle_"]
[635,null,{"$f":"IF('1 - Opstart Importark'!$B$6=\"\",\"\",(IF('1 - Opstart Importark'!$B$15=\"\",CONCATENATE(LEFT('1 - Opstart Importark'!$B$3,1),(LEFT('1 - Opstart Importark'!$B$24,2)),LEFT('1 - Opstart Importark'!$B$28,3),IF(I646=\"\",\"\",\"-\"),I646,IF(K646=\"\",\"\",\"-\"),K646,IF(M646=\"\",\"\",\"-\"),M646,IF(O646=\"\",\"\",\"-\"),O646),CONCATENATE(LEFT('1 - Opstart Importark'!$B$3,1),(LEFT('1 - Opstart Importark'!$B$15,2)),(LEFT('1 - Opstart Importark'!$B$18,3)),IF(I646=\"\",\"\",\"-\"),I646,IF(K646=\"\",\"\",\"-\"),K646,IF(M646=\"\",\"\",\"-\"),M646,IF(O646=\"\",\"\",\"-\"),O646))))","v":""},{"$nulls":13},{"$f":"IF(LEN('1 - Opstart Importark'!$B$6)>0,'1 - Opstart Importark'!$B$6,\"\")","v":""},{"$f":"IF(LEN('1 - Opstart Importark'!$B$9)>0,'1 - Opstart Importark'!$B$9,\"\")","v":""},{"$f":"IF(LEN('1 - Opstart Importark'!$B$31)>0,'1 - Opstart Importark'!$B$31,\"\")","v":""},{"$nulls":12},"",{"$nulls":8},0,"","","objektnogle_"]
[636,null,{"$f":"IF('1 - Opstart Importark'!$B$6=\"\",\"\",(IF('1 - Opstart Importark'!$B$15=\"\",CONCATENATE(LEFT('1 - Opstart Importark'!$B$3,1),(LEFT('1 - Opstart Importark'!$B$24,2)),LEFT('1 - Opstart Importark'!$B$28,3),IF(I647=\"\",\"\",\"-\"),I647,IF(K647=\"\",\"\",\"-\"),K647,IF(M647=\"\",\"\",\"-\"),M647,IF(O647=\"\",\"\",\"-\"),O647),CONCATENATE(LEFT('1 - Opstart Importark'!$B$3,1),(LEFT('1 - Opstart Importark'!$B$15,2)),(LEFT('1 - Opstart Importark'!$B$18,3)),IF(I647=\"\",\"\",\"-\"),I647,IF(K647=\"\",\"\",\"-\"),K647,IF(M647=\"\",\"\",\"-\"),M647,IF(O647=\"\",\"\",\"-\"),O647))))","v":""},{"$nulls":13},{"$f":"IF(LEN('1 - Opstart Importark'!$B$6)>0,'1 - Opstart Importark'!$B$6,\"\")","v":""},{"$f":"IF(LEN('1 - Opstart Importark'!$B$9)>0,'1 - Opstart Importark'!$B$9,\"\")","v":""},{"$f":"IF(LEN('1 - Opstart Importark'!$B$31)>0,'1 - Opstart Importark'!$B$31,\"\")","v":""},{"$nulls":12},"",{"$nulls":8},0,"","","objektnogle_"]
[637,null,{"$f":"IF('1 - Opstart Importark'!$B$6=\"\",\"\",(IF('1 - Opstart Importark'!$B$15=\"\",CONCATENATE(LEFT('1 - Opstart Importark'!$B$3,1),(LEFT('1 - Opstart Importark'!$B$24,2)),LEFT('1 - Opstart Importark'!$B$28,3),IF(I648=\"\",\"\",\"-\"),I648,IF(K648=\"\",\"\",\"-\"),K648,IF(M648=\"\",\"\",\"-\"),M648,IF(O648=\"\",\"\",\"-\"),O648),CONCATENATE(LEFT('1 - Opstart Importark'!$B$3,1),(LEFT('1 - Opstart Importark'!$B$15,2)),(LEFT('1 - Opstart Importark'!$B$18,3)),IF(I648=\"\",\"\",\"-\"),I648,IF(K648=\"\",\"\",\"-\"),K648,IF(M648=\"\",\"\",\"-\"),M648,IF(O648=\"\",\"\",\"-\"),O648))))","v":""},{"$nulls":13},{"$f":"IF(LEN('1 - Opstart Importark'!$B$6)>0,'1 - Opstart Importark'!$B$6,\"\")","v":""},{"$f":"IF(LEN('1 - Opstart Importark'!$B$9)>0,'1 - Opstart Importark'!$B$9,\"\")","v":""},{"$f":"IF(LEN('1 - Opstart Importark'!$B$31)>0,'1 - Opstart Importark'!$B$31,\"\")","v":""},{"$nulls":12},"",{"$nulls":8},0,"","","objektnogle_"]
[638,null,{"$f":"IF('1 - Opstart Importark'!$B$6=\"\",\"\",(IF('1 - Opstart Importark'!$B$15=\"\",CONCATENATE(LEFT('1 - Opstart Importark'!$B$3,1),(LEFT('1 - Opstart Importark'!$B$24,2)),LEFT('1 - Opstart Importark'!$B$28,3),IF(I649=\"\",\"\",\"-\"),I649,IF(K649=\"\",\"\",\"-\"),K649,IF(M649=\"\",\"\",\"-\"),M649,IF(O649=\"\",\"\",\"-\"),O649),CONCATENATE(LEFT('1 - Opstart Importark'!$B$3,1),(LEFT('1 - Opstart Importark'!$B$15,2)),(LEFT('1 - Opstart Importark'!$B$18,3)),IF(I649=\"\",\"\",\"-\"),I649,IF(K649=\"\",\"\",\"-\"),K649,IF(M649=\"\",\"\",\"-\"),M649,IF(O649=\"\",\"\",\"-\"),O649))))","v":""},{"$nulls":13},{"$f":"IF(LEN('1 - Opstart Importark'!$B$6)>0,'1 - Opstart Importark'!$B$6,\"\")","v":""},{"$f":"IF(LEN('1 - Opstart Importark'!$B$9)>0,'1 - Opstart Importark'!$B$9,\"\")","v":""},{"$f":"IF(LEN('1 - Opstart Importark'!$B$31)>0,'1 - Opstart Importark'!$B$31,\"\")","v":""},{"$nulls":12},"",{"$nulls":8},0,"","","objektnogle_"]
[639,null,{"$f":"IF('1 - Opstart Importark'!$B$6=\"\",\"\",(IF('1 - Opstart Importark'!$B$15=\"\",CONCATENATE(LEFT('1 - Opstart Importark'!$B$3,1),(LEFT('1 - Opstart Importark'!$B$24,2)),LEFT('1 - Opstart Importark'!$B$28,3),IF(I650=\"\",\"\",\"-\"),I650,IF(K650=\"\",\"\",\"-\"),K650,IF(M650=\"\",\"\",\"-\"),M650,IF(O650=\"\",\"\",\"-\"),O650),CONCATENATE(LEFT('1 - Opstart Importark'!$B$3,1),(LEFT('1 - Opstart Importark'!$B$15,2)),(LEFT('1 - Opstart Importark'!$B$18,3)),IF(I650=\"\",\"\",\"-\"),I650,IF(K650=\"\",\"\",\"-\"),K650,IF(M650=\"\",\"\",\"-\"),M650,IF(O650=\"\",\"\",\"-\"),O650))))","v":""},{"$nulls":13},{"$f":"IF(LEN('1 - Opstart Importark'!$B$6)>0,'1 - Opstart Importark'!$B$6,\"\")","v":""},{"$f":"IF(LEN('1 - Opstart Importark'!$B$9)>0,'1 - Opstart Importark'!$B$9,\"\")","v":""},{"$f":"IF(LEN('1 - Opstart Importark'!$B$31)>0,'1 - Opstart Importark'!$B$31,\"\")","v":""},{"$nulls":12},"",{"$nulls":8},0,"","","objektnogle_"]
[640,null,{"$f":"IF('1 - Opstart Importark'!$B$6=\"\",\"\",(IF('1 - Opstart Importark'!$B$15=\"\",CONCATENATE(LEFT('1 - Opstart Importark'!$B$3,1),(LEFT('1 - Opstart Importark'!$B$24,2)),LEFT('1 - Opstart Importark'!$B$28,3),IF(I651=\"\",\"\",\"-\"),I651,IF(K651=\"\",\"\",\"-\"),K651,IF(M651=\"\",\"\",\"-\"),M651,IF(O651=\"\",\"\",\"-\"),O651),CONCATENATE(LEFT('1 - Opstart Importark'!$B$3,1),(LEFT('1 - Opstart Importark'!$B$15,2)),(LEFT('1 - Opstart Importark'!$B$18,3)),IF(I651=\"\",\"\",\"-\"),I651,IF(K651=\"\",\"\",\"-\"),K651,IF(M651=\"\",\"\",\"-\"),M651,IF(O651=\"\",\"\",\"-\"),O651))))","v":""},{"$nulls":13},{"$f":"IF(LEN('1 - Opstart Importark'!$B$6)>0,'1 - Opstart Importark'!$B$6,\"\")","v":""},{"$f":"IF(LEN('1 - Opstart Importark'!$B$9)>0,'1 - Opstart Importark'!$B$9,\"\")","v":""},{"$f":"IF(LEN('1 - Opstart Importark'!$B$31)>0,'1 - Opstart Importark'!$B$31,\"\")","v":""},{"$nulls":12},"",{"$nulls":8},0,"","","objektnogle_"]
[641,null,{"$f":"IF('1 - Opstart Importark'!$B$6=\"\",\"\",(IF('1 - Opstart Importark'!$B$15=\"\",CONCATENATE(LEFT('1 - Opstart Importark'!$B$3,1),(LEFT('1 - Opstart Importark'!$B$24,2)),LEFT('1 - Opstart Importark'!$B$28,3),IF(I652=\"\",\"\",\"-\"),I652,IF(K652=\"\",\"\",\"-\"),K652,IF(M652=\"\",\"\",\"-\"),M652,IF(O652=\"\",\"\",\"-\"),O652),CONCATENATE(LEFT('1 - Opstart Importark'!$B$3,1),(LEFT('1 - Opstart Importark'!$B$15,2)),(LEFT('1 - Opstart Importark'!$B$18,3)),IF(I652=\"\",\"\",\"-\"),I652,IF(K652=\"\",\"\",\"-\"),K652,IF(M652=\"\",\"\",\"-\"),M652,IF(O652=\"\",\"\",\"-\"),O652))))","v":""},{"$nulls":13},{"$f":"IF(LEN('1 - Opstart Importark'!$B$6)>0,'1 - Opstart Importark'!$B$6,\"\")","v":""},{"$f":"IF(LEN('1 - Opstart Importark'!$B$9)>0,'1 - Opstart Importark'!$B$9,\"\")","v":""},{"$f":"IF(LEN('1 - Opstart Importark'!$B$31)>0,'1 - Opstart Importark'!$B$31,\"\")","v":""},{"$nulls":12},{"$f":"IF(M652=\"\",\"\",VLOOKUP(LEFT(M652,1),objektfilter,2))","v":""},{"$nulls":8},0,"","","objektnogle_"]
[642,null,{"$f":"IF('1 - Opstart Importark'!$B$6=\"\",\"\",(IF('1 - Opstart Importark'!$B$15=\"\",CONCATENATE(LEFT('1 - Opstart Importark'!$B$3,1),(LEFT('1 - Opstart Importark'!$B$24,2)),LEFT('1 - Opstart Importark'!$B$28,3),IF(I653=\"\",\"\",\"-\"),I653,IF(K653=\"\",\"\",\"-\"),K653,IF(M653=\"\",\"\",\"-\"),M653,IF(O653=\"\",\"\",\"-\"),O653),CONCATENATE(LEFT('1 - Opstart Importark'!$B$3,1),(LEFT('1 - Opstart Importark'!$B$15,2)),(LEFT('1 - Opstart Importark'!$B$18,3)),IF(I653=\"\",\"\",\"-\"),I653,IF(K653=\"\",\"\",\"-\"),K653,IF(M653=\"\",\"\",\"-\"),M653,IF(O653=\"\",\"\",\"-\"),O653))))","v":""},{"$nulls":13},{"$f":"IF(LEN('1 - Opstart Importark'!$B$6)>0,'1 - Opstart Importark'!$B$6,\"\")","v":""},{"$f":"IF(LEN('1 - Opstart Importark'!$B$9)>0,'1 - Opstart Importark'!$B$9,\"\")","v":""},{"$f":"IF(LEN('1 - Opstart Importark'!$B$31)>0,'1 - Opstart Importark'!$B$31,\"\")","v":""},{"$nulls":12},"",{"$nulls":8},{"$f":"IFERROR(FIND(\".\",F653),)","v":0},{"$f":"IF(M653=\"\",\"\",IF(LEFT(M653,1)=\"E\",0,1))","v":""},{"$f":"IF(M653=\"\",\"\",IF(LEFT(M653,1)=\"E\",0,1))","v":""},{"$f":"IF(W653=\"\", CONCATENATE(\"objektnogle_\",LEFT(AF653,1)),CONCATENATE(\"objektnogle_\",LEFT(W653,1)))","v":"objektnogle_"}]
[643,null,{"$f":"IF('1 - Opstart Importark'!$B$6=\"\",\"\",(IF('1 - Opstart Importark'!$B$15=\"\",CONCATENATE(LEFT('1 - Opstart Importark'!$B$3,1),(LEFT('1 - Opstart Importark'!$B$24,2)),LEFT('1 - Opstart Importark'!$B$28,3),IF(I654=\"\",\"\",\"-\"),I654,IF(K654=\"\",\"\",\"-\"),K654,IF(M654=\"\",\"\",\"-\"),M654,IF(O654=\"\",\"\",\"-\"),O654),CONCATENATE(LEFT('1 - Opstart Importark'!$B$3,1),(LEFT('1 - Opstart Importark'!$B$15,2)),(LEFT('1 - Opstart Importark'!$B$18,3)),IF(I654=\"\",\"\",\"-\"),I654,IF(K654=\"\",\"\",\"-\"),K654,IF(M654=\"\",\"\",\"-\"),M654,IF(O654=\"\",\"\",\"-\"),O654))))","v":""},{"$nulls":13},{"$f":"IF(LEN('1 - Opstart Importark'!$B$6)>0,'1 - Opstart Importark'!$B$6,\"\")","v":""},{"$f":"IF(LEN('1 - Opstart Importark'!$B$9)>0,'1 - Opstart Importark'!$B$9,\"\")","v":""},{"$f":"IF(LEN('1 - Opstart Importark'!$B$31)>0,'1 - Opstart Importark'!$B$31,\"\")","v":""},{"$nulls":12},"",{"$nulls":8},0,"","","objektnogle_"]
[644,null,{"$f":"IF('1 - Opstart Importark'!$B$6=\"\",\"\",(IF('1 - Opstart Importark'!$B$15=\"\",CONCATENATE(LEFT('1 - Opstart Importark'!$B$3,1),(LEFT('1 - Opstart Importark'!$B$24,2)),LEFT('1 - Opstart Importark'!$B$28,3),IF(I655=\"\",\"\",\"-\"),I655,IF(K655=\"\",\"\",\"-\"),K655,IF(M655=\"\",\"\",\"-\"),M655,IF(O655=\"\",\"\",\"-\"),O655),CONCATENATE(LEFT('1 - Opstart Importark'!$B$3,1),(LEFT('1 - Opstart Importark'!$B$15,2)),(LEFT('1 - Opstart Importark'!$B$18,3)),IF(I655=\"\",\"\",\"-\"),I655,IF(K655=\"\",\"\",\"-\"),K655,IF(M655=\"\",\"\",\"-\"),M655,IF(O655=\"\",\"\",\"-\"),O655))))","v":""},{"$nulls":13},{"$f":"IF(LEN('1 - Opstart Importark'!$B$6)>0,'1 - Opstart Importark'!$B$6,\"\")","v":""},{"$f":"IF(LEN('1 - Opstart Importark'!$B$9)>0,'1 - Opstart Importark'!$B$9,\"\")","v":""},{"$f":"IF(LEN('1 - Opstart Importark'!$B$31)>0,'1 - Opstart Importark'!$B$31,\"\")","v":""},{"$nulls":12},"",{"$nulls":8},0,"","","objektnogle_"]
[645,null,{"$f":"IF('1 - Opstart Importark'!$B$6=\"\",\"\",(IF('1 - Opstart Importark'!$B$15=\"\",CONCATENATE(LEFT('1 - Opstart Importark'!$B$3,1),(LEFT('1 - Opstart Importark'!$B$24,2)),LEFT('1 - Opstart Importark'!$B$28,3),IF(I656=\"\",\"\",\"-\"),I656,IF(K656=\"\",\"\",\"-\"),K656,IF(M656=\"\",\"\",\"-\"),M656,IF(O656=\"\",\"\",\"-\"),O656),CONCATENATE(LEFT('1 - Opstart Importark'!$B$3,1),(LEFT('1 - Opstart Importark'!$B$15,2)),(LEFT('1 - Opstart Importark'!$B$18,3)),IF(I656=\"\",\"\",\"-\"),I656,IF(K656=\"\",\"\",\"-\"),K656,IF(M656=\"\",\"\",\"-\"),M656,IF(O656=\"\",\"\",\"-\"),O656))))","v":""},{"$nulls":13},{"$f":"IF(LEN('1 - Opstart Importark'!$B$6)>0,'1 - Opstart Importark'!$B$6,\"\")","v":""},{"$f":"IF(LEN('1 - Opstart Importark'!$B$9)>0,'1 - Opstart Importark'!$B$9,\"\")","v":""},{"$f":"IF(LEN('1 - Opstart Importark'!$B$31)>0,'1 - Opstart Importark'!$B$31,\"\")","v":""},{"$nulls":12},"",{"$nulls":8},0,"","","objektnogle_"]
[646,null,{"$f":"IF('1 - Opstart Importark'!$B$6=\"\",\"\",(IF('1 - Opstart Importark'!$B$15=\"\",CONCATENATE(LEFT('1 - Opstart Importark'!$B$3,1),(LEFT('1 - Opstart Importark'!$B$24,2)),LEFT('1 - Opstart Importark'!$B$28,3),IF(I657=\"\",\"\",\"-\"),I657,IF(K657=\"\",\"\",\"-\"),K657,IF(M657=\"\",\"\",\"-\"),M657,IF(O657=\"\",\"\",\"-\"),O657),CONCATENATE(LEFT('1 - Opstart Importark'!$B$3,1),(LEFT('1 - Opstart Importark'!$B$15,2)),(LEFT('1 - Opstart Importark'!$B$18,3)),IF(I657=\"\",\"\",\"-\"),I657,IF(K657=\"\",\"\",\"-\"),K657,IF(M657=\"\",\"\",\"-\"),M657,IF(O657=\"\",\"\",\"-\"),O657))))","v":""},{"$nulls":13},{"$f":"IF(LEN('1 - Opstart Importark'!$B$6)>0,'1 - Opstart Importark'!$B$6,\"\")","v":""},{"$f":"IF(LEN('1 - Opstart Importark'!$B$9)>0,'1 - Opstart Importark'!$B$9,\"\")","v":""},{"$f":"IF(LEN('1 - Opstart Importark'!$B$31)>0,'1 - Opstart Importark'!$B$31,\"\")","v":""},{"$nulls":12},"",{"$nulls":8},0,"","","objektnogle_"]
[647,null,{"$f":"IF('1 - Opstart Importark'!$B$6=\"\",\"\",(IF('1 - Opstart Importark'!$B$15=\"\",CONCATENATE(LEFT('1 - Opstart Importark'!$B$3,1),(LEFT('1 - Opstart Importark'!$B$24,2)),LEFT('1 - Opstart Importark'!$B$28,3),IF(I658=\"\",\"\",\"-\"),I658,IF(K658=\"\",\"\",\"-\"),K658,IF(M658=\"\",\"\",\"-\"),M658,IF(O658=\"\",\"\",\"-\"),O658),CONCATENATE(LEFT('1 - Opstart Importark'!$B$3,1),(LEFT('1 - Opstart Importark'!$B$15,2)),(LEFT('1 - Opstart Importark'!$B$18,3)),IF(I658=\"\",\"\",\"-\"),I658,IF(K658=\"\",\"\",\"-\"),K658,IF(M658=\"\",\"\",\"-\"),M658,IF(O658=\"\",\"\",\"-\"),O658))))","v":""},{"$nulls":13},{"$f":"IF(LEN('1 - Opstart Importark'!$B$6)>0,'1 - Opstart Importark'!$B$6,\"\")","v":""},{"$f":"IF(LEN('1 - Opstart Importark'!$B$9)>0,'1 - Opstart Importark'!$B$9,\"\")","v":""},{"$f":"IF(LEN('1 - Opstart Importark'!$B$31)>0,'1 - Opstart Importark'!$B$31,\"\")","v":""},{"$nulls":12},"",{"$nulls":8},0,"","","objektnogle_"]
[648,null,{"$f":"IF('1 - Opstart Importark'!$B$6=\"\",\"\",(IF('1 - Opstart Importark'!$B$15=\"\",CONCATENATE(LEFT('1 - Opstart Importark'!$B$3,1),(LEFT('1 - Opstart Importark'!$B$24,2)),LEFT('1 - Opstart Importark'!$B$28,3),IF(I659=\"\",\"\",\"-\"),I659,IF(K659=\"\",\"\",\"-\"),K659,IF(M659=\"\",\"\",\"-\"),M659,IF(O659=\"\",\"\",\"-\"),O659),CONCATENATE(LEFT('1 - Opstart Importark'!$B$3,1),(LEFT('1 - Opstart Importark'!$B$15,2)),(LEFT('1 - Opstart Importark'!$B$18,3)),IF(I659=\"\",\"\",\"-\"),I659,IF(K659=\"\",\"\",\"-\"),K659,IF(M659=\"\",\"\",\"-\"),M659,IF(O659=\"\",\"\",\"-\"),O659))))","v":""},{"$nulls":13},{"$f":"IF(LEN('1 - Opstart Importark'!$B$6)>0,'1 - Opstart Importark'!$B$6,\"\")","v":""},{"$f":"IF(LEN('1 - Opstart Importark'!$B$9)>0,'1 - Opstart Importark'!$B$9,\"\")","v":""},{"$f":"IF(LEN('1 - Opstart Importark'!$B$31)>0,'1 - Opstart Importark'!$B$31,\"\")","v":""},{"$nulls":12},"",{"$nulls":8},0,"","","objektnogle_"]
[649,null,{"$f":"IF('1 - Opstart Importark'!$B$6=\"\",\"\",(IF('1 - Opstart Importark'!$B$15=\"\",CONCATENATE(LEFT('1 - Opstart Importark'!$B$3,1),(LEFT('1 - Opstart Importark'!$B$24,2)),LEFT('1 - Opstart Importark'!$B$28,3),IF(I660=\"\",\"\",\"-\"),I660,IF(K660=\"\",\"\",\"-\"),K660,IF(M660=\"\",\"\",\"-\"),M660,IF(O660=\"\",\"\",\"-\"),O660),CONCATENATE(LEFT('1 - Opstart Importark'!$B$3,1),(LEFT('1 - Opstart Importark'!$B$15,2)),(LEFT('1 - Opstart Importark'!$B$18,3)),IF(I660=\"\",\"\",\"-\"),I660,IF(K660=\"\",\"\",\"-\"),K660,IF(M660=\"\",\"\",\"-\"),M660,IF(O660=\"\",\"\",\"-\"),O660))))","v":""},{"$nulls":13},{"$f":"IF(LEN('1 - Opstart Importark'!$B$6)>0,'1 - Opstart Importark'!$B$6,\"\")","v":""},{"$f":"IF(LEN('1 - Opstart Importark'!$B$9)>0,'1 - Opstart Importark'!$B$9,\"\")","v":""},{"$f":"IF(LEN('1 - Opstart Importark'!$B$31)>0,'1 - Opstart Importark'!$B$31,\"\")","v":""},{"$nulls":12},"",{"$nulls":8},0,"","","objektnogle_"]
[650,null,{"$f":"IF('1 - Opstart Importark'!$B$6=\"\",\"\",(IF('1 - Opstart Importark'!$B$15=\"\",CONCATENATE(LEFT('1 - Opstart Importark'!$B$3,1),(LEFT('1 - Opstart Importark'!$B$24,2)),LEFT('1 - Opstart Importark'!$B$28,3),IF(I661=\"\",\"\",\"-\"),I661,IF(K661=\"\",\"\",\"-\"),K661,IF(M661=\"\",\"\",\"-\"),M661,IF(O661=\"\",\"\",\"-\"),O661),CONCATENATE(LEFT('1 - Opstart Importark'!$B$3,1),(LEFT('1 - Opstart Importark'!$B$15,2)),(LEFT('1 - Opstart Importark'!$B$18,3)),IF(I661=\"\",\"\",\"-\"),I661,IF(K661=\"\",\"\",\"-\"),K661,IF(M661=\"\",\"\",\"-\"),M661,IF(O661=\"\",\"\",\"-\"),O661))))","v":""},{"$nulls":13},{"$f":"IF(LEN('1 - Opstart Importark'!$B$6)>0,'1 - Opstart Importark'!$B$6,\"\")","v":""},{"$f":"IF(LEN('1 - Opstart Importark'!$B$9)>0,'1 - Opstart Importark'!$B$9,\"\")","v":""},{"$f":"IF(LEN('1 - Opstart Importark'!$B$31)>0,'1 - Opstart Importark'!$B$31,\"\")","v":""},{"$nulls":12},"",{"$nulls":8},0,"","","objektnogle_"]
[651,null,{"$f":"IF('1 - Opstart Importark'!$B$6=\"\",\"\",(IF('1 - Opstart Importark'!$B$15=\"\",CONCATENATE(LEFT('1 - Opstart Importark'!$B$3,1),(LEFT('1 - Opstart Importark'!$B$24,2)),LEFT('1 - Opstart Importark'!$B$28,3),IF(I662=\"\",\"\",\"-\"),I662,IF(K662=\"\",\"\",\"-\"),K662,IF(M662=\"\",\"\",\"-\"),M662,IF(O662=\"\",\"\",\"-\"),O662),CONCATENATE(LEFT('1 - Opstart Importark'!$B$3,1),(LEFT('1 - Opstart Importark'!$B$15,2)),(LEFT('1 - Opstart Importark'!$B$18,3)),IF(I662=\"\",\"\",\"-\"),I662,IF(K662=\"\",\"\",\"-\"),K662,IF(M662=\"\",\"\",\"-\"),M662,IF(O662=\"\",\"\",\"-\"),O662))))","v":""},{"$nulls":13},{"$f":"IF(LEN('1 - Opstart Importark'!$B$6)>0,'1 - Opstart Importark'!$B$6,\"\")","v":""},{"$f":"IF(LEN('1 - Opstart Importark'!$B$9)>0,'1 - Opstart Importark'!$B$9,\"\")","v":""},{"$f":"IF(LEN('1 - Opstart Importark'!$B$31)>0,'1 - Opstart Importark'!$B$31,\"\")","v":""},{"$nulls":12},"",{"$nulls":8},0,"","","objektnogle_"]
[652,null,{"$f":"IF('1 - Opstart Importark'!$B$6=\"\",\"\",(IF('1 - Opstart Importark'!$B$15=\"\",CONCATENATE(LEFT('1 - Opstart Importark'!$B$3,1),(LEFT('1 - Opstart Importark'!$B$24,2)),LEFT('1 - Opstart Importark'!$B$28,3),IF(I663=\"\",\"\",\"-\"),I663,IF(K663=\"\",\"\",\"-\"),K663,IF(M663=\"\",\"\",\"-\"),M663,IF(O663=\"\",\"\",\"-\"),O663),CONCATENATE(LEFT('1 - Opstart Importark'!$B$3,1),(LEFT('1 - Opstart Importark'!$B$15,2)),(LEFT('1 - Opstart Importark'!$B$18,3)),IF(I663=\"\",\"\",\"-\"),I663,IF(K663=\"\",\"\",\"-\"),K663,IF(M663=\"\",\"\",\"-\"),M663,IF(O663=\"\",\"\",\"-\"),O663))))","v":""},{"$nulls":13},{"$f":"IF(LEN('1 - Opstart Importark'!$B$6)>0,'1 - Opstart Importark'!$B$6,\"\")","v":""},{"$f":"IF(LEN('1 - Opstart Importark'!$B$9)>0,'1 - Opstart Importark'!$B$9,\"\")","v":""},{"$f":"IF(LEN('1 - Opstart Importark'!$B$31)>0,'1 - Opstart Importark'!$B$31,\"\")","v":""},{"$nulls":12},"",{"$nulls":8},0,"","","objektnogle_"]
[653,null,{"$f":"IF('1 - Opstart Importark'!$B$6=\"\",\"\",(IF('1 - Opstart Importark'!$B$15=\"\",CONCATENATE(LEFT('1 - Opstart Importark'!$B$3,1),(LEFT('1 - Opstart Importark'!$B$24,2)),LEFT('1 - Opstart Importark'!$B$28,3),IF(I664=\"\",\"\",\"-\"),I664,IF(K664=\"\",\"\",\"-\"),K664,IF(M664=\"\",\"\",\"-\"),M664,IF(O664=\"\",\"\",\"-\"),O664),CONCATENATE(LEFT('1 - Opstart Importark'!$B$3,1),(LEFT('1 - Opstart Importark'!$B$15,2)),(LEFT('1 - Opstart Importark'!$B$18,3)),IF(I664=\"\",\"\",\"-\"),I664,IF(K664=\"\",\"\",\"-\"),K664,IF(M664=\"\",\"\",\"-\"),M664,IF(O664=\"\",\"\",\"-\"),O664))))","v":""},{"$nulls":13},{"$f":"IF(LEN('1 - Opstart Importark'!$B$6)>0,'1 - Opstart Importark'!$B$6,\"\")","v":""},{"$f":"IF(LEN('1 - Opstart Importark'!$B$9)>0,'1 - Opstart Importark'!$B$9,\"\")","v":""},{"$f":"IF(LEN('1 - Opstart Importark'!$B$31)>0,'1 - Opstart Importark'!$B$31,\"\")","v":""},{"$nulls":12},"",{"$nulls":8},0,"","","objektnogle_"]
[654,null,{"$f":"IF('1 - Opstart Importark'!$B$6=\"\",\"\",(IF('1 - Opstart Importark'!$B$15=\"\",CONCATENATE(LEFT('1 - Opstart Importark'!$B$3,1),(LEFT('1 - Opstart Importark'!$B$24,2)),LEFT('1 - Opstart Importark'!$B$28,3),IF(I665=\"\",\"\",\"-\"),I665,IF(K665=\"\",\"\",\"-\"),K665,IF(M665=\"\",\"\",\"-\"),M665,IF(O665=\"\",\"\",\"-\"),O665),CONCATENATE(LEFT('1 - Opstart Importark'!$B$3,1),(LEFT('1 - Opstart Importark'!$B$15,2)),(LEFT('1 - Opstart Importark'!$B$18,3)),IF(I665=\"\",\"\",\"-\"),I665,IF(K665=\"\",\"\",\"-\"),K665,IF(M665=\"\",\"\",\"-\"),M665,IF(O665=\"\",\"\",\"-\"),O665))))","v":""},{"$nulls":13},{"$f":"IF(LEN('1 - Opstart Importark'!$B$6)>0,'1 - Opstart Importark'!$B$6,\"\")","v":""},{"$f":"IF(LEN('1 - Opstart Importark'!$B$9)>0,'1 - Opstart Importark'!$B$9,\"\")","v":""},{"$f":"IF(LEN('1 - Opstart Importark'!$B$31)>0,'1 - Opstart Importark'!$B$31,\"\")","v":""},{"$nulls":12},"",{"$nulls":8},0,"","","objektnogle_"]
[655,null,{"$f":"IF('1 - Opstart Importark'!$B$6=\"\",\"\",(IF('1 - Opstart Importark'!$B$15=\"\",CONCATENATE(LEFT('1 - Opstart Importark'!$B$3,1),(LEFT('1 - Opstart Importark'!$B$24,2)),LEFT('1 - Opstart Importark'!$B$28,3),IF(I666=\"\",\"\",\"-\"),I666,IF(K666=\"\",\"\",\"-\"),K666,IF(M666=\"\",\"\",\"-\"),M666,IF(O666=\"\",\"\",\"-\"),O666),CONCATENATE(LEFT('1 - Opstart Importark'!$B$3,1),(LEFT('1 - Opstart Importark'!$B$15,2)),(LEFT('1 - Opstart Importark'!$B$18,3)),IF(I666=\"\",\"\",\"-\"),I666,IF(K666=\"\",\"\",\"-\"),K666,IF(M666=\"\",\"\",\"-\"),M666,IF(O666=\"\",\"\",\"-\"),O666))))","v":""},{"$nulls":13},{"$f":"IF(LEN('1 - Opstart Importark'!$B$6)>0,'1 - Opstart Importark'!$B$6,\"\")","v":""},{"$f":"IF(LEN('1 - Opstart Importark'!$B$9)>0,'1 - Opstart Importark'!$B$9,\"\")","v":""},{"$f":"IF(LEN('1 - Opstart Importark'!$B$31)>0,'1 - Opstart Importark'!$B$31,\"\")","v":""},{"$nulls":12},"",{"$nulls":8},0,"","","objektnogle_"]
[656,null,{"$f":"IF('1 - Opstart Importark'!$B$6=\"\",\"\",(IF('1 - Opstart Importark'!$B$15=\"\",CONCATENATE(LEFT('1 - Opstart Importark'!$B$3,1),(LEFT('1 - Opstart Importark'!$B$24,2)),LEFT('1 - Opstart Importark'!$B$28,3),IF(I667=\"\",\"\",\"-\"),I667,IF(K667=\"\",\"\",\"-\"),K667,IF(M667=\"\",\"\",\"-\"),M667,IF(O667=\"\",\"\",\"-\"),O667),CONCATENATE(LEFT('1 - Opstart Importark'!$B$3,1),(LEFT('1 - Opstart Importark'!$B$15,2)),(LEFT('1 - Opstart Importark'!$B$18,3)),IF(I667=\"\",\"\",\"-\"),I667,IF(K667=\"\",\"\",\"-\"),K667,IF(M667=\"\",\"\",\"-\"),M667,IF(O667=\"\",\"\",\"-\"),O667))))","v":""},{"$nulls":13},{"$f":"IF(LEN('1 - Opstart Importark'!$B$6)>0,'1 - Opstart Importark'!$B$6,\"\")","v":""},{"$f":"IF(LEN('1 - Opstart Importark'!$B$9)>0,'1 - Opstart Importark'!$B$9,\"\")","v":""},{"$f":"IF(LEN('1 - Opstart Importark'!$B$31)>0,'1 - Opstart Importark'!$B$31,\"\")","v":""},{"$nulls":12},"",{"$nulls":8},0,"","","objektnogle_"]
[657,null,{"$f":"IF('1 - Opstart Importark'!$B$6=\"\",\"\",(IF('1 - Opstart Importark'!$B$15=\"\",CONCATENATE(LEFT('1 - Opstart Importark'!$B$3,1),(LEFT('1 - Opstart Importark'!$B$24,2)),LEFT('1 - Opstart Importark'!$B$28,3),IF(I668=\"\",\"\",\"-\"),I668,IF(K668=\"\",\"\",\"-\"),K668,IF(M668=\"\",\"\",\"-\"),M668,IF(O668=\"\",\"\",\"-\"),O668),CONCATENATE(LEFT('1 - Opstart Importark'!$B$3,1),(LEFT('1 - Opstart Importark'!$B$15,2)),(LEFT('1 - Opstart Importark'!$B$18,3)),IF(I668=\"\",\"\",\"-\"),I668,IF(K668=\"\",\"\",\"-\"),K668,IF(M668=\"\",\"\",\"-\"),M668,IF(O668=\"\",\"\",\"-\"),O668))))","v":""},{"$nulls":13},{"$f":"IF(LEN('1 - Opstart Importark'!$B$6)>0,'1 - Opstart Importark'!$B$6,\"\")","v":""},{"$f":"IF(LEN('1 - Opstart Importark'!$B$9)>0,'1 - Opstart Importark'!$B$9,\"\")","v":""},{"$f":"IF(LEN('1 - Opstart Importark'!$B$31)>0,'1 - Opstart Importark'!$B$31,\"\")","v":""},{"$nulls":12},"",{"$nulls":8},0,"","","objektnogle_"]
[658,null,{"$f":"IF('1 - Opstart Importark'!$B$6=\"\",\"\",(IF('1 - Opstart Importark'!$B$15=\"\",CONCATENATE(LEFT('1 - Opstart Importark'!$B$3,1),(LEFT('1 - Opstart Importark'!$B$24,2)),LEFT('1 - Opstart Importark'!$B$28,3),IF(I669=\"\",\"\",\"-\"),I669,IF(K669=\"\",\"\",\"-\"),K669,IF(M669=\"\",\"\",\"-\"),M669,IF(O669=\"\",\"\",\"-\"),O669),CONCATENATE(LEFT('1 - Opstart Importark'!$B$3,1),(LEFT('1 - Opstart Importark'!$B$15,2)),(LEFT('1 - Opstart Importark'!$B$18,3)),IF(I669=\"\",\"\",\"-\"),I669,IF(K669=\"\",\"\",\"-\"),K669,IF(M669=\"\",\"\",\"-\"),M669,IF(O669=\"\",\"\",\"-\"),O669))))","v":""},{"$nulls":13},{"$f":"IF(LEN('1 - Opstart Importark'!$B$6)>0,'1 - Opstart Importark'!$B$6,\"\")","v":""},{"$f":"IF(LEN('1 - Opstart Importark'!$B$9)>0,'1 - Opstart Importark'!$B$9,\"\")","v":""},{"$f":"IF(LEN('1 - Opstart Importark'!$B$31)>0,'1 - Opstart Importark'!$B$31,\"\")","v":""},{"$nulls":12},"",{"$nulls":8},0,"","","objektnogle_"]
[659,null,{"$f":"IF('1 - Opstart Importark'!$B$6=\"\",\"\",(IF('1 - Opstart Importark'!$B$15=\"\",CONCATENATE(LEFT('1 - Opstart Importark'!$B$3,1),(LEFT('1 - Opstart Importark'!$B$24,2)),LEFT('1 - Opstart Importark'!$B$28,3),IF(I670=\"\",\"\",\"-\"),I670,IF(K670=\"\",\"\",\"-\"),K670,IF(M670=\"\",\"\",\"-\"),M670,IF(O670=\"\",\"\",\"-\"),O670),CONCATENATE(LEFT('1 - Opstart Importark'!$B$3,1),(LEFT('1 - Opstart Importark'!$B$15,2)),(LEFT('1 - Opstart Importark'!$B$18,3)),IF(I670=\"\",\"\",\"-\"),I670,IF(K670=\"\",\"\",\"-\"),K670,IF(M670=\"\",\"\",\"-\"),M670,IF(O670=\"\",\"\",\"-\"),O670))))","v":""},{"$nulls":13},{"$f":"IF(LEN('1 - Opstart Importark'!$B$6)>0,'1 - Opstart Importark'!$B$6,\"\")","v":""},{"$f":"IF(LEN('1 - Opstart Importark'!$B$9)>0,'1 - Opstart Importark'!$B$9,\"\")","v":""},{"$f":"IF(LEN('1 - Opstart Importark'!$B$31)>0,'1 - Opstart Importark'!$B$31,\"\")","v":""},{"$nulls":12},"",{"$nulls":8},0,"","","objektnogle_"]
[660,null,{"$f":"IF('1 - Opstart Importark'!$B$6=\"\",\"\",(IF('1 - Opstart Importark'!$B$15=\"\",CONCATENATE(LEFT('1 - Opstart Importark'!$B$3,1),(LEFT('1 - Opstart Importark'!$B$24,2)),LEFT('1 - Opstart Importark'!$B$28,3),IF(I671=\"\",\"\",\"-\"),I671,IF(K671=\"\",\"\",\"-\"),K671,IF(M671=\"\",\"\",\"-\"),M671,IF(O671=\"\",\"\",\"-\"),O671),CONCATENATE(LEFT('1 - Opstart Importark'!$B$3,1),(LEFT('1 - Opstart Importark'!$B$15,2)),(LEFT('1 - Opstart Importark'!$B$18,3)),IF(I671=\"\",\"\",\"-\"),I671,IF(K671=\"\",\"\",\"-\"),K671,IF(M671=\"\",\"\",\"-\"),M671,IF(O671=\"\",\"\",\"-\"),O671))))","v":""},{"$nulls":13},{"$f":"IF(LEN('1 - Opstart Importark'!$B$6)>0,'1 - Opstart Importark'!$B$6,\"\")","v":""},{"$f":"IF(LEN('1 - Opstart Importark'!$B$9)>0,'1 - Opstart Importark'!$B$9,\"\")","v":""},{"$f":"IF(LEN('1 - Opstart Importark'!$B$31)>0,'1 - Opstart Importark'!$B$31,\"\")","v":""},{"$nulls":12},"",{"$nulls":8},0,"","","objektnogle_"]
[661,null,{"$f":"IF('1 - Opstart Importark'!$B$6=\"\",\"\",(IF('1 - Opstart Importark'!$B$15=\"\",CONCATENATE(LEFT('1 - Opstart Importark'!$B$3,1),(LEFT('1 - Opstart Importark'!$B$24,2)),LEFT('1 - Opstart Importark'!$B$28,3),IF(I672=\"\",\"\",\"-\"),I672,IF(K672=\"\",\"\",\"-\"),K672,IF(M672=\"\",\"\",\"-\"),M672,IF(O672=\"\",\"\",\"-\"),O672),CONCATENATE(LEFT('1 - Opstart Importark'!$B$3,1),(LEFT('1 - Opstart Importark'!$B$15,2)),(LEFT('1 - Opstart Importark'!$B$18,3)),IF(I672=\"\",\"\",\"-\"),I672,IF(K672=\"\",\"\",\"-\"),K672,IF(M672=\"\",\"\",\"-\"),M672,IF(O672=\"\",\"\",\"-\"),O672))))","v":""},{"$nulls":13},{"$f":"IF(LEN('1 - Opstart Importark'!$B$6)>0,'1 - Opstart Importark'!$B$6,\"\")","v":""},{"$f":"IF(LEN('1 - Opstart Importark'!$B$9)>0,'1 - Opstart Importark'!$B$9,\"\")","v":""},{"$f":"IF(LEN('1 - Opstart Importark'!$B$31)>0,'1 - Opstart Importark'!$B$31,\"\")","v":""},{"$nulls":12},"",{"$nulls":8},0,"","","objektnogle_"]
[662,null,{"$f":"IF('1 - Opstart Importark'!$B$6=\"\",\"\",(IF('1 - Opstart Importark'!$B$15=\"\",CONCATENATE(LEFT('1 - Opstart Importark'!$B$3,1),(LEFT('1 - Opstart Importark'!$B$24,2)),LEFT('1 - Opstart Importark'!$B$28,3),IF(I673=\"\",\"\",\"-\"),I673,IF(K673=\"\",\"\",\"-\"),K673,IF(M673=\"\",\"\",\"-\"),M673,IF(O673=\"\",\"\",\"-\"),O673),CONCATENATE(LEFT('1 - Opstart Importark'!$B$3,1),(LEFT('1 - Opstart Importark'!$B$15,2)),(LEFT('1 - Opstart Importark'!$B$18,3)),IF(I673=\"\",\"\",\"-\"),I673,IF(K673=\"\",\"\",\"-\"),K673,IF(M673=\"\",\"\",\"-\"),M673,IF(O673=\"\",\"\",\"-\"),O673))))","v":""},{"$nulls":13},{"$f":"IF(LEN('1 - Opstart Importark'!$B$6)>0,'1 - Opstart Importark'!$B$6,\"\")","v":""},{"$f":"IF(LEN('1 - Opstart Importark'!$B$9)>0,'1 - Opstart Importark'!$B$9,\"\")","v":""},{"$f":"IF(LEN('1 - Opstart Importark'!$B$31)>0,'1 - Opstart Importark'!$B$31,\"\")","v":""},{"$nulls":12},"",{"$nulls":8},0,"","","objektnogle_"]
[663,null,{"$f":"IF('1 - Opstart Importark'!$B$6=\"\",\"\",(IF('1 - Opstart Importark'!$B$15=\"\",CONCATENATE(LEFT('1 - Opstart Importark'!$B$3,1),(LEFT('1 - Opstart Importark'!$B$24,2)),LEFT('1 - Opstart Importark'!$B$28,3),IF(I674=\"\",\"\",\"-\"),I674,IF(K674=\"\",\"\",\"-\"),K674,IF(M674=\"\",\"\",\"-\"),M674,IF(O674=\"\",\"\",\"-\"),O674),CONCATENATE(LEFT('1 - Opstart Importark'!$B$3,1),(LEFT('1 - Opstart Importark'!$B$15,2)),(LEFT('1 - Opstart Importark'!$B$18,3)),IF(I674=\"\",\"\",\"-\"),I674,IF(K674=\"\",\"\",\"-\"),K674,IF(M674=\"\",\"\",\"-\"),M674,IF(O674=\"\",\"\",\"-\"),O674))))","v":""},{"$nulls":13},{"$f":"IF(LEN('1 - Opstart Importark'!$B$6)>0,'1 - Opstart Importark'!$B$6,\"\")","v":""},{"$f":"IF(LEN('1 - Opstart Importark'!$B$9)>0,'1 - Opstart Importark'!$B$9,\"\")","v":""},{"$f":"IF(LEN('1 - Opstart Importark'!$B$31)>0,'1 - Opstart Importark'!$B$31,\"\")","v":""},{"$nulls":12},"",{"$nulls":8},0,"","","objektnogle_"]
[664,null,{"$f":"IF('1 - Opstart Importark'!$B$6=\"\",\"\",(IF('1 - Opstart Importark'!$B$15=\"\",CONCATENATE(LEFT('1 - Opstart Importark'!$B$3,1),(LEFT('1 - Opstart Importark'!$B$24,2)),LEFT('1 - Opstart Importark'!$B$28,3),IF(I675=\"\",\"\",\"-\"),I675,IF(K675=\"\",\"\",\"-\"),K675,IF(M675=\"\",\"\",\"-\"),M675,IF(O675=\"\",\"\",\"-\"),O675),CONCATENATE(LEFT('1 - Opstart Importark'!$B$3,1),(LEFT('1 - Opstart Importark'!$B$15,2)),(LEFT('1 - Opstart Importark'!$B$18,3)),IF(I675=\"\",\"\",\"-\"),I675,IF(K675=\"\",\"\",\"-\"),K675,IF(M675=\"\",\"\",\"-\"),M675,IF(O675=\"\",\"\",\"-\"),O675))))","v":""},{"$nulls":13},{"$f":"IF(LEN('1 - Opstart Importark'!$B$6)>0,'1 - Opstart Importark'!$B$6,\"\")","v":""},{"$f":"IF(LEN('1 - Opstart Importark'!$B$9)>0,'1 - Opstart Importark'!$B$9,\"\")","v":""},{"$f":"IF(LEN('1 - Opstart Importark'!$B$31)>0,'1 - Opstart Importark'!$B$31,\"\")","v":""},{"$nulls":12},"",{"$nulls":8},0,"","","objektnogle_"]
[665,null,{"$f":"IF('1 - Opstart Importark'!$B$6=\"\",\"\",(IF('1 - Opstart Importark'!$B$15=\"\",CONCATENATE(LEFT('1 - Opstart Importark'!$B$3,1),(LEFT('1 - Opstart Importark'!$B$24,2)),LEFT('1 - Opstart Importark'!$B$28,3),IF(I676=\"\",\"\",\"-\"),I676,IF(K676=\"\",\"\",\"-\"),K676,IF(M676=\"\",\"\",\"-\"),M676,IF(O676=\"\",\"\",\"-\"),O676),CONCATENATE(LEFT('1 - Opstart Importark'!$B$3,1),(LEFT('1 - Opstart Importark'!$B$15,2)),(LEFT('1 - Opstart Importark'!$B$18,3)),IF(I676=\"\",\"\",\"-\"),I676,IF(K676=\"\",\"\",\"-\"),K676,IF(M676=\"\",\"\",\"-\"),M676,IF(O676=\"\",\"\",\"-\"),O676))))","v":""},{"$nulls":13},{"$f":"IF(LEN('1 - Opstart Importark'!$B$6)>0,'1 - Opstart Importark'!$B$6,\"\")","v":""},{"$f":"IF(LEN('1 - Opstart Importark'!$B$9)>0,'1 - Opstart Importark'!$B$9,\"\")","v":""},{"$f":"IF(LEN('1 - Opstart Importark'!$B$31)>0,'1 - Opstart Importark'!$B$31,\"\")","v":""},{"$nulls":12},"",{"$nulls":8},0,"","","objektnogle_"]
[666,null,{"$f":"IF('1 - Opstart Importark'!$B$6=\"\",\"\",(IF('1 - Opstart Importark'!$B$15=\"\",CONCATENATE(LEFT('1 - Opstart Importark'!$B$3,1),(LEFT('1 - Opstart Importark'!$B$24,2)),LEFT('1 - Opstart Importark'!$B$28,3),IF(I677=\"\",\"\",\"-\"),I677,IF(K677=\"\",\"\",\"-\"),K677,IF(M677=\"\",\"\",\"-\"),M677,IF(O677=\"\",\"\",\"-\"),O677),CONCATENATE(LEFT('1 - Opstart Importark'!$B$3,1),(LEFT('1 - Opstart Importark'!$B$15,2)),(LEFT('1 - Opstart Importark'!$B$18,3)),IF(I677=\"\",\"\",\"-\"),I677,IF(K677=\"\",\"\",\"-\"),K677,IF(M677=\"\",\"\",\"-\"),M677,IF(O677=\"\",\"\",\"-\"),O677))))","v":""},{"$nulls":13},{"$f":"IF(LEN('1 - Opstart Importark'!$B$6)>0,'1 - Opstart Importark'!$B$6,\"\")","v":""},{"$f":"IF(LEN('1 - Opstart Importark'!$B$9)>0,'1 - Opstart Importark'!$B$9,\"\")","v":""},{"$f":"IF(LEN('1 - Opstart Importark'!$B$31)>0,'1 - Opstart Importark'!$B$31,\"\")","v":""},{"$nulls":12},"",{"$nulls":8},0,"","","objektnogle_"]
[667,null,{"$f":"IF('1 - Opstart Importark'!$B$6=\"\",\"\",(IF('1 - Opstart Importark'!$B$15=\"\",CONCATENATE(LEFT('1 - Opstart Importark'!$B$3,1),(LEFT('1 - Opstart Importark'!$B$24,2)),LEFT('1 - Opstart Importark'!$B$28,3),IF(I678=\"\",\"\",\"-\"),I678,IF(K678=\"\",\"\",\"-\"),K678,IF(M678=\"\",\"\",\"-\"),M678,IF(O678=\"\",\"\",\"-\"),O678),CONCATENATE(LEFT('1 - Opstart Importark'!$B$3,1),(LEFT('1 - Opstart Importark'!$B$15,2)),(LEFT('1 - Opstart Importark'!$B$18,3)),IF(I678=\"\",\"\",\"-\"),I678,IF(K678=\"\",\"\",\"-\"),K678,IF(M678=\"\",\"\",\"-\"),M678,IF(O678=\"\",\"\",\"-\"),O678))))","v":""},{"$nulls":13},{"$f":"IF(LEN('1 - Opstart Importark'!$B$6)>0,'1 - Opstart Importark'!$B$6,\"\")","v":""},{"$f":"IF(LEN('1 - Opstart Importark'!$B$9)>0,'1 - Opstart Importark'!$B$9,\"\")","v":""},{"$f":"IF(LEN('1 - Opstart Importark'!$B$31)>0,'1 - Opstart Importark'!$B$31,\"\")","v":""},{"$nulls":12},"",{"$nulls":8},0,"","","objektnogle_"]
[668,null,{"$f":"IF('1 - Opstart Importark'!$B$6=\"\",\"\",(IF('1 - Opstart Importark'!$B$15=\"\",CONCATENATE(LEFT('1 - Opstart Importark'!$B$3,1),(LEFT('1 - Opstart Importark'!$B$24,2)),LEFT('1 - Opstart Importark'!$B$28,3),IF(I679=\"\",\"\",\"-\"),I679,IF(K679=\"\",\"\",\"-\"),K679,IF(M679=\"\",\"\",\"-\"),M679,IF(O679=\"\",\"\",\"-\"),O679),CONCATENATE(LEFT('1 - Opstart Importark'!$B$3,1),(LEFT('1 - Opstart Importark'!$B$15,2)),(LEFT('1 - Opstart Importark'!$B$18,3)),IF(I679=\"\",\"\",\"-\"),I679,IF(K679=\"\",\"\",\"-\"),K679,IF(M679=\"\",\"\",\"-\"),M679,IF(O679=\"\",\"\",\"-\"),O679))))","v":""},{"$nulls":13},{"$f":"IF(LEN('1 - Opstart Importark'!$B$6)>0,'1 - Opstart Importark'!$B$6,\"\")","v":""},{"$f":"IF(LEN('1 - Opstart Importark'!$B$9)>0,'1 - Opstart Importark'!$B$9,\"\")","v":""},{"$f":"IF(LEN('1 - Opstart Importark'!$B$31)>0,'1 - Opstart Importark'!$B$31,\"\")","v":""},{"$nulls":12},"",{"$nulls":8},0,"","","objektnogle_"]
[669,null,{"$f":"IF('1 - Opstart Importark'!$B$6=\"\",\"\",(IF('1 - Opstart Importark'!$B$15=\"\",CONCATENATE(LEFT('1 - Opstart Importark'!$B$3,1),(LEFT('1 - Opstart Importark'!$B$24,2)),LEFT('1 - Opstart Importark'!$B$28,3),IF(I680=\"\",\"\",\"-\"),I680,IF(K680=\"\",\"\",\"-\"),K680,IF(M680=\"\",\"\",\"-\"),M680,IF(O680=\"\",\"\",\"-\"),O680),CONCATENATE(LEFT('1 - Opstart Importark'!$B$3,1),(LEFT('1 - Opstart Importark'!$B$15,2)),(LEFT('1 - Opstart Importark'!$B$18,3)),IF(I680=\"\",\"\",\"-\"),I680,IF(K680=\"\",\"\",\"-\"),K680,IF(M680=\"\",\"\",\"-\"),M680,IF(O680=\"\",\"\",\"-\"),O680))))","v":""},{"$nulls":13},{"$f":"IF(LEN('1 - Opstart Importark'!$B$6)>0,'1 - Opstart Importark'!$B$6,\"\")","v":""},{"$f":"IF(LEN('1 - Opstart Importark'!$B$9)>0,'1 - Opstart Importark'!$B$9,\"\")","v":""},{"$f":"IF(LEN('1 - Opstart Importark'!$B$31)>0,'1 - Opstart Importark'!$B$31,\"\")","v":""},{"$nulls":12},"",{"$nulls":8},0,"","","objektnogle_"]
[670,null,{"$f":"IF('1 - Opstart Importark'!$B$6=\"\",\"\",(IF('1 - Opstart Importark'!$B$15=\"\",CONCATENATE(LEFT('1 - Opstart Importark'!$B$3,1),(LEFT('1 - Opstart Importark'!$B$24,2)),LEFT('1 - Opstart Importark'!$B$28,3),IF(I681=\"\",\"\",\"-\"),I681,IF(K681=\"\",\"\",\"-\"),K681,IF(M681=\"\",\"\",\"-\"),M681,IF(O681=\"\",\"\",\"-\"),O681),CONCATENATE(LEFT('1 - Opstart Importark'!$B$3,1),(LEFT('1 - Opstart Importark'!$B$15,2)),(LEFT('1 - Opstart Importark'!$B$18,3)),IF(I681=\"\",\"\",\"-\"),I681,IF(K681=\"\",\"\",\"-\"),K681,IF(M681=\"\",\"\",\"-\"),M681,IF(O681=\"\",\"\",\"-\"),O681))))","v":""},{"$nulls":13},{"$f":"IF(LEN('1 - Opstart Importark'!$B$6)>0,'1 - Opstart Importark'!$B$6,\"\")","v":""},{"$f":"IF(LEN('1 - Opstart Importark'!$B$9)>0,'1 - Opstart Importark'!$B$9,\"\")","v":""},{"$f":"IF(LEN('1 - Opstart Importark'!$B$31)>0,'1 - Opstart Importark'!$B$31,\"\")","v":""},{"$nulls":12},"",{"$nulls":8},0,"","","objektnogle_"]
[671,null,{"$f":"IF('1 - Opstart Importark'!$B$6=\"\",\"\",(IF('1 - Opstart Importark'!$B$15=\"\",CONCATENATE(LEFT('1 - Opstart Importark'!$B$3,1),(LEFT('1 - Opstart Importark'!$B$24,2)),LEFT('1 - Opstart Importark'!$B$28,3),IF(I682=\"\",\"\",\"-\"),I682,IF(K682=\"\",\"\",\"-\"),K682,IF(M682=\"\",\"\",\"-\"),M682,IF(O682=\"\",\"\",\"-\"),O682),CONCATENATE(LEFT('1 - Opstart Importark'!$B$3,1),(LEFT('1 - Opstart Importark'!$B$15,2)),(LEFT('1 - Opstart Importark'!$B$18,3)),IF(I682=\"\",\"\",\"-\"),I682,IF(K682=\"\",\"\",\"-\"),K682,IF(M682=\"\",\"\",\"-\"),M682,IF(O682=\"\",\"\",\"-\"),O682))))","v":""},{"$nulls":13},{"$f":"IF(LEN('1 - Opstart Importark'!$B$6)>0,'1 - Opstart Importark'!$B$6,\"\")","v":""},{"$f":"IF(LEN('1 - Opstart Importark'!$B$9)>0,'1 - Opstart Importark'!$B$9,\"\")","v":""},{"$f":"IF(LEN('1 - Opstart Importark'!$B$31)>0,'1 - Opstart Importark'!$B$31,\"\")","v":""},{"$nulls":12},"",{"$nulls":8},0,"","","objektnogle_"]
[672,null,{"$f":"IF('1 - Opstart Importark'!$B$6=\"\",\"\",(IF('1 - Opstart Importark'!$B$15=\"\",CONCATENATE(LEFT('1 - Opstart Importark'!$B$3,1),(LEFT('1 - Opstart Importark'!$B$24,2)),LEFT('1 - Opstart Importark'!$B$28,3),IF(I683=\"\",\"\",\"-\"),I683,IF(K683=\"\",\"\",\"-\"),K683,IF(M683=\"\",\"\",\"-\"),M683,IF(O683=\"\",\"\",\"-\"),O683),CONCATENATE(LEFT('1 - Opstart Importark'!$B$3,1),(LEFT('1 - Opstart Importark'!$B$15,2)),(LEFT('1 - Opstart Importark'!$B$18,3)),IF(I683=\"\",\"\",\"-\"),I683,IF(K683=\"\",\"\",\"-\"),K683,IF(M683=\"\",\"\",\"-\"),M683,IF(O683=\"\",\"\",\"-\"),O683))))","v":""},{"$nulls":13},{"$f":"IF(LEN('1 - Opstart Importark'!$B$6)>0,'1 - Opstart Importark'!$B$6,\"\")","v":""},{"$f":"IF(LEN('1 - Opstart Importark'!$B$9)>0,'1 - Opstart Importark'!$B$9,\"\")","v":""},{"$f":"IF(LEN('1 - Opstart Importark'!$B$31)>0,'1 - Opstart Importark'!$B$31,\"\")","v":""},{"$nulls":12},"",{"$nulls":8},0,"","","objektnogle_"]
[673,null,{"$f":"IF('1 - Opstart Importark'!$B$6=\"\",\"\",(IF('1 - Opstart Importark'!$B$15=\"\",CONCATENATE(LEFT('1 - Opstart Importark'!$B$3,1),(LEFT('1 - Opstart Importark'!$B$24,2)),LEFT('1 - Opstart Importark'!$B$28,3),IF(I684=\"\",\"\",\"-\"),I684,IF(K684=\"\",\"\",\"-\"),K684,IF(M684=\"\",\"\",\"-\"),M684,IF(O684=\"\",\"\",\"-\"),O684),CONCATENATE(LEFT('1 - Opstart Importark'!$B$3,1),(LEFT('1 - Opstart Importark'!$B$15,2)),(LEFT('1 - Opstart Importark'!$B$18,3)),IF(I684=\"\",\"\",\"-\"),I684,IF(K684=\"\",\"\",\"-\"),K684,IF(M684=\"\",\"\",\"-\"),M684,IF(O684=\"\",\"\",\"-\"),O684))))","v":""},{"$nulls":13},{"$f":"IF(LEN('1 - Opstart Importark'!$B$6)>0,'1 - Opstart Importark'!$B$6,\"\")","v":""},{"$f":"IF(LEN('1 - Opstart Importark'!$B$9)>0,'1 - Opstart Importark'!$B$9,\"\")","v":""},{"$f":"IF(LEN('1 - Opstart Importark'!$B$31)>0,'1 - Opstart Importark'!$B$31,\"\")","v":""},{"$nulls":12},"",{"$nulls":8},0,"","","objektnogle_"]
[674,null,{"$f":"IF('1 - Opstart Importark'!$B$6=\"\",\"\",(IF('1 - Opstart Importark'!$B$15=\"\",CONCATENATE(LEFT('1 - Opstart Importark'!$B$3,1),(LEFT('1 - Opstart Importark'!$B$24,2)),LEFT('1 - Opstart Importark'!$B$28,3),IF(I685=\"\",\"\",\"-\"),I685,IF(K685=\"\",\"\",\"-\"),K685,IF(M685=\"\",\"\",\"-\"),M685,IF(O685=\"\",\"\",\"-\"),O685),CONCATENATE(LEFT('1 - Opstart Importark'!$B$3,1),(LEFT('1 - Opstart Importark'!$B$15,2)),(LEFT('1 - Opstart Importark'!$B$18,3)),IF(I685=\"\",\"\",\"-\"),I685,IF(K685=\"\",\"\",\"-\"),K685,IF(M685=\"\",\"\",\"-\"),M685,IF(O685=\"\",\"\",\"-\"),O685))))","v":""},{"$nulls":13},{"$f":"IF(LEN('1 - Opstart Importark'!$B$6)>0,'1 - Opstart Importark'!$B$6,\"\")","v":""},{"$f":"IF(LEN('1 - Opstart Importark'!$B$9)>0,'1 - Opstart Importark'!$B$9,\"\")","v":""},{"$f":"IF(LEN('1 - Opstart Importark'!$B$31)>0,'1 - Opstart Importark'!$B$31,\"\")","v":""},{"$nulls":12},"",{"$nulls":8},0,"","","objektnogle_"]
[675,null,{"$f":"IF('1 - Opstart Importark'!$B$6=\"\",\"\",(IF('1 - Opstart Importark'!$B$15=\"\",CONCATENATE(LEFT('1 - Opstart Importark'!$B$3,1),(LEFT('1 - Opstart Importark'!$B$24,2)),LEFT('1 - Opstart Importark'!$B$28,3),IF(I686=\"\",\"\",\"-\"),I686,IF(K686=\"\",\"\",\"-\"),K686,IF(M686=\"\",\"\",\"-\"),M686,IF(O686=\"\",\"\",\"-\"),O686),CONCATENATE(LEFT('1 - Opstart Importark'!$B$3,1),(LEFT('1 - Opstart Importark'!$B$15,2)),(LEFT('1 - Opstart Importark'!$B$18,3)),IF(I686=\"\",\"\",\"-\"),I686,IF(K686=\"\",\"\",\"-\"),K686,IF(M686=\"\",\"\",\"-\"),M686,IF(O686=\"\",\"\",\"-\"),O686))))","v":""},{"$nulls":13},{"$f":"IF(LEN('1 - Opstart Importark'!$B$6)>0,'1 - Opstart Importark'!$B$6,\"\")","v":""},{"$f":"IF(LEN('1 - Opstart Importark'!$B$9)>0,'1 - Opstart Importark'!$B$9,\"\")","v":""},{"$f":"IF(LEN('1 - Opstart Importark'!$B$31)>0,'1 - Opstart Importark'!$B$31,\"\")","v":""},{"$nulls":12},"",{"$nulls":8},0,"","","objektnogle_"]
[676,null,{"$f":"IF('1 - Opstart Importark'!$B$6=\"\",\"\",(IF('1 - Opstart Importark'!$B$15=\"\",CONCATENATE(LEFT('1 - Opstart Importark'!$B$3,1),(LEFT('1 - Opstart Importark'!$B$24,2)),LEFT('1 - Opstart Importark'!$B$28,3),IF(I687=\"\",\"\",\"-\"),I687,IF(K687=\"\",\"\",\"-\"),K687,IF(M687=\"\",\"\",\"-\"),M687,IF(O687=\"\",\"\",\"-\"),O687),CONCATENATE(LEFT('1 - Opstart Importark'!$B$3,1),(LEFT('1 - Opstart Importark'!$B$15,2)),(LEFT('1 - Opstart Importark'!$B$18,3)),IF(I687=\"\",\"\",\"-\"),I687,IF(K687=\"\",\"\",\"-\"),K687,IF(M687=\"\",\"\",\"-\"),M687,IF(O687=\"\",\"\",\"-\"),O687))))","v":""},{"$nulls":13},{"$f":"IF(LEN('1 - Opstart Importark'!$B$6)>0,'1 - Opstart Importark'!$B$6,\"\")","v":""},{"$f":"IF(LEN('1 - Opstart Importark'!$B$9)>0,'1 - Opstart Importark'!$B$9,\"\")","v":""},{"$f":"IF(LEN('1 - Opstart Importark'!$B$31)>0,'1 - Opstart Importark'!$B$31,\"\")","v":""},{"$nulls":12},"",{"$nulls":8},0,"","","objektnogle_"]
[677,null,{"$f":"IF('1 - Opstart Importark'!$B$6=\"\",\"\",(IF('1 - Opstart Importark'!$B$15=\"\",CONCATENATE(LEFT('1 - Opstart Importark'!$B$3,1),(LEFT('1 - Opstart Importark'!$B$24,2)),LEFT('1 - Opstart Importark'!$B$28,3),IF(I688=\"\",\"\",\"-\"),I688,IF(K688=\"\",\"\",\"-\"),K688,IF(M688=\"\",\"\",\"-\"),M688,IF(O688=\"\",\"\",\"-\"),O688),CONCATENATE(LEFT('1 - Opstart Importark'!$B$3,1),(LEFT('1 - Opstart Importark'!$B$15,2)),(LEFT('1 - Opstart Importark'!$B$18,3)),IF(I688=\"\",\"\",\"-\"),I688,IF(K688=\"\",\"\",\"-\"),K688,IF(M688=\"\",\"\",\"-\"),M688,IF(O688=\"\",\"\",\"-\"),O688))))","v":""},{"$nulls":13},{"$f":"IF(LEN('1 - Opstart Importark'!$B$6)>0,'1 - Opstart Importark'!$B$6,\"\")","v":""},{"$f":"IF(LEN('1 - Opstart Importark'!$B$9)>0,'1 - Opstart Importark'!$B$9,\"\")","v":""},{"$f":"IF(LEN('1 - Opstart Importark'!$B$31)>0,'1 - Opstart Importark'!$B$31,\"\")","v":""},{"$nulls":12},"",{"$nulls":8},0,"","","objektnogle_"]
[678,null,{"$f":"IF('1 - Opstart Importark'!$B$6=\"\",\"\",(IF('1 - Opstart Importark'!$B$15=\"\",CONCATENATE(LEFT('1 - Opstart Importark'!$B$3,1),(LEFT('1 - Opstart Importark'!$B$24,2)),LEFT('1 - Opstart Importark'!$B$28,3),IF(I689=\"\",\"\",\"-\"),I689,IF(K689=\"\",\"\",\"-\"),K689,IF(M689=\"\",\"\",\"-\"),M689,IF(O689=\"\",\"\",\"-\"),O689),CONCATENATE(LEFT('1 - Opstart Importark'!$B$3,1),(LEFT('1 - Opstart Importark'!$B$15,2)),(LEFT('1 - Opstart Importark'!$B$18,3)),IF(I689=\"\",\"\",\"-\"),I689,IF(K689=\"\",\"\",\"-\"),K689,IF(M689=\"\",\"\",\"-\"),M689,IF(O689=\"\",\"\",\"-\"),O689))))","v":""},{"$nulls":13},{"$f":"IF(LEN('1 - Opstart Importark'!$B$6)>0,'1 - Opstart Importark'!$B$6,\"\")","v":""},{"$f":"IF(LEN('1 - Opstart Importark'!$B$9)>0,'1 - Opstart Importark'!$B$9,\"\")","v":""},{"$f":"IF(LEN('1 - Opstart Importark'!$B$31)>0,'1 - Opstart Importark'!$B$31,\"\")","v":""},{"$nulls":12},"",{"$nulls":8},0,"","","objektnogle_"]
[679,null,{"$f":"IF('1 - Opstart Importark'!$B$6=\"\",\"\",(IF('1 - Opstart Importark'!$B$15=\"\",CONCATENATE(LEFT('1 - Opstart Importark'!$B$3,1),(LEFT('1 - Opstart Importark'!$B$24,2)),LEFT('1 - Opstart Importark'!$B$28,3),IF(I690=\"\",\"\",\"-\"),I690,IF(K690=\"\",\"\",\"-\"),K690,IF(M690=\"\",\"\",\"-\"),M690,IF(O690=\"\",\"\",\"-\"),O690),CONCATENATE(LEFT('1 - Opstart Importark'!$B$3,1),(LEFT('1 - Opstart Importark'!$B$15,2)),(LEFT('1 - Opstart Importark'!$B$18,3)),IF(I690=\"\",\"\",\"-\"),I690,IF(K690=\"\",\"\",\"-\"),K690,IF(M690=\"\",\"\",\"-\"),M690,IF(O690=\"\",\"\",\"-\"),O690))))","v":""},{"$nulls":13},{"$f":"IF(LEN('1 - Opstart Importark'!$B$6)>0,'1 - Opstart Importark'!$B$6,\"\")","v":""},{"$f":"IF(LEN('1 - Opstart Importark'!$B$9)>0,'1 - Opstart Importark'!$B$9,\"\")","v":""},{"$f":"IF(LEN('1 - Opstart Importark'!$B$31)>0,'1 - Opstart Importark'!$B$31,\"\")","v":""},{"$nulls":12},"",{"$nulls":8},0,"","","objektnogle_"]
[680,null,{"$f":"IF('1 - Opstart Importark'!$B$6=\"\",\"\",(IF('1 - Opstart Importark'!$B$15=\"\",CONCATENATE(LEFT('1 - Opstart Importark'!$B$3,1),(LEFT('1 - Opstart Importark'!$B$24,2)),LEFT('1 - Opstart Importark'!$B$28,3),IF(I691=\"\",\"\",\"-\"),I691,IF(K691=\"\",\"\",\"-\"),K691,IF(M691=\"\",\"\",\"-\"),M691,IF(O691=\"\",\"\",\"-\"),O691),CONCATENATE(LEFT('1 - Opstart Importark'!$B$3,1),(LEFT('1 - Opstart Importark'!$B$15,2)),(LEFT('1 - Opstart Importark'!$B$18,3)),IF(I691=\"\",\"\",\"-\"),I691,IF(K691=\"\",\"\",\"-\"),K691,IF(M691=\"\",\"\",\"-\"),M691,IF(O691=\"\",\"\",\"-\"),O691))))","v":""},{"$nulls":13},{"$f":"IF(LEN('1 - Opstart Importark'!$B$6)>0,'1 - Opstart Importark'!$B$6,\"\")","v":""},{"$f":"IF(LEN('1 - Opstart Importark'!$B$9)>0,'1 - Opstart Importark'!$B$9,\"\")","v":""},{"$f":"IF(LEN('1 - Opstart Importark'!$B$31)>0,'1 - Opstart Importark'!$B$31,\"\")","v":""},{"$nulls":12},"",{"$nulls":8},0,"","","objektnogle_"]
[681,null,{"$f":"IF('1 - Opstart Importark'!$B$6=\"\",\"\",(IF('1 - Opstart Importark'!$B$15=\"\",CONCATENATE(LEFT('1 - Opstart Importark'!$B$3,1),(LEFT('1 - Opstart Importark'!$B$24,2)),LEFT('1 - Opstart Importark'!$B$28,3),IF(I692=\"\",\"\",\"-\"),I692,IF(K692=\"\",\"\",\"-\"),K692,IF(M692=\"\",\"\",\"-\"),M692,IF(O692=\"\",\"\",\"-\"),O692),CONCATENATE(LEFT('1 - Opstart Importark'!$B$3,1),(LEFT('1 - Opstart Importark'!$B$15,2)),(LEFT('1 - Opstart Importark'!$B$18,3)),IF(I692=\"\",\"\",\"-\"),I692,IF(K692=\"\",\"\",\"-\"),K692,IF(M692=\"\",\"\",\"-\"),M692,IF(O692=\"\",\"\",\"-\"),O692))))","v":""},{"$nulls":13},{"$f":"IF(LEN('1 - Opstart Importark'!$B$6)>0,'1 - Opstart Importark'!$B$6,\"\")","v":""},{"$f":"IF(LEN('1 - Opstart Importark'!$B$9)>0,'1 - Opstart Importark'!$B$9,\"\")","v":""},{"$f":"IF(LEN('1 - Opstart Importark'!$B$31)>0,'1 - Opstart Importark'!$B$31,\"\")","v":""},{"$nulls":12},"",{"$nulls":8},0,"","","objektnogle_"]
[682,null,{"$f":"IF('1 - Opstart Importark'!$B$6=\"\",\"\",(IF('1 - Opstart Importark'!$B$15=\"\",CONCATENATE(LEFT('1 - Opstart Importark'!$B$3,1),(LEFT('1 - Opstart Importark'!$B$24,2)),LEFT('1 - Opstart Importark'!$B$28,3),IF(I693=\"\",\"\",\"-\"),I693,IF(K693=\"\",\"\",\"-\"),K693,IF(M693=\"\",\"\",\"-\"),M693,IF(O693=\"\",\"\",\"-\"),O693),CONCATENATE(LEFT('1 - Opstart Importark'!$B$3,1),(LEFT('1 - Opstart Importark'!$B$15,2)),(LEFT('1 - Opstart Importark'!$B$18,3)),IF(I693=\"\",\"\",\"-\"),I693,IF(K693=\"\",\"\",\"-\"),K693,IF(M693=\"\",\"\",\"-\"),M693,IF(O693=\"\",\"\",\"-\"),O693))))","v":""},{"$nulls":13},{"$f":"IF(LEN('1 - Opstart Importark'!$B$6)>0,'1 - Opstart Importark'!$B$6,\"\")","v":""},{"$f":"IF(LEN('1 - Opstart Importark'!$B$9)>0,'1 - Opstart Importark'!$B$9,\"\")","v":""},{"$f":"IF(LEN('1 - Opstart Importark'!$B$31)>0,'1 - Opstart Importark'!$B$31,\"\")","v":""},{"$nulls":12},"",{"$nulls":8},0,"","","objektnogle_"]
[683,null,{"$f":"IF('1 - Opstart Importark'!$B$6=\"\",\"\",(IF('1 - Opstart Importark'!$B$15=\"\",CONCATENATE(LEFT('1 - Opstart Importark'!$B$3,1),(LEFT('1 - Opstart Importark'!$B$24,2)),LEFT('1 - Opstart Importark'!$B$28,3),IF(I694=\"\",\"\",\"-\"),I694,IF(K694=\"\",\"\",\"-\"),K694,IF(M694=\"\",\"\",\"-\"),M694,IF(O694=\"\",\"\",\"-\"),O694),CONCATENATE(LEFT('1 - Opstart Importark'!$B$3,1),(LEFT('1 - Opstart Importark'!$B$15,2)),(LEFT('1 - Opstart Importark'!$B$18,3)),IF(I694=\"\",\"\",\"-\"),I694,IF(K694=\"\",\"\",\"-\"),K694,IF(M694=\"\",\"\",\"-\"),M694,IF(O694=\"\",\"\",\"-\"),O694))))","v":""},{"$nulls":13},{"$f":"IF(LEN('1 - Opstart Importark'!$B$6)>0,'1 - Opstart Importark'!$B$6,\"\")","v":""},{"$f":"IF(LEN('1 - Opstart Importark'!$B$9)>0,'1 - Opstart Importark'!$B$9,\"\")","v":""},{"$f":"IF(LEN('1 - Opstart Importark'!$B$31)>0,'1 - Opstart Importark'!$B$31,\"\")","v":""},{"$nulls":12},"",{"$nulls":8},0,"","","objektnogle_"]
[684,null,{"$f":"IF('1 - Opstart Importark'!$B$6=\"\",\"\",(IF('1 - Opstart Importark'!$B$15=\"\",CONCATENATE(LEFT('1 - Opstart Importark'!$B$3,1),(LEFT('1 - Opstart Importark'!$B$24,2)),LEFT('1 - Opstart Importark'!$B$28,3),IF(I695=\"\",\"\",\"-\"),I695,IF(K695=\"\",\"\",\"-\"),K695,IF(M695=\"\",\"\",\"-\"),M695,IF(O695=\"\",\"\",\"-\"),O695),CONCATENATE(LEFT('1 - Opstart Importark'!$B$3,1),(LEFT('1 - Opstart Importark'!$B$15,2)),(LEFT('1 - Opstart Importark'!$B$18,3)),IF(I695=\"\",\"\",\"-\"),I695,IF(K695=\"\",\"\",\"-\"),K695,IF(M695=\"\",\"\",\"-\"),M695,IF(O695=\"\",\"\",\"-\"),O695))))","v":""},{"$nulls":13},{"$f":"IF(LEN('1 - Opstart Importark'!$B$6)>0,'1 - Opstart Importark'!$B$6,\"\")","v":""},{"$f":"IF(LEN('1 - Opstart Importark'!$B$9)>0,'1 - Opstart Importark'!$B$9,\"\")","v":""},{"$f":"IF(LEN('1 - Opstart Importark'!$B$31)>0,'1 - Opstart Importark'!$B$31,\"\")","v":""},{"$nulls":12},"",{"$nulls":8},0,"","","objektnogle_"]
[685,null,{"$f":"IF('1 - Opstart Importark'!$B$6=\"\",\"\",(IF('1 - Opstart Importark'!$B$15=\"\",CONCATENATE(LEFT('1 - Opstart Importark'!$B$3,1),(LEFT('1 - Opstart Importark'!$B$24,2)),LEFT('1 - Opstart Importark'!$B$28,3),IF(I696=\"\",\"\",\"-\"),I696,IF(K696=\"\",\"\",\"-\"),K696,IF(M696=\"\",\"\",\"-\"),M696,IF(O696=\"\",\"\",\"-\"),O696),CONCATENATE(LEFT('1 - Opstart Importark'!$B$3,1),(LEFT('1 - Opstart Importark'!$B$15,2)),(LEFT('1 - Opstart Importark'!$B$18,3)),IF(I696=\"\",\"\",\"-\"),I696,IF(K696=\"\",\"\",\"-\"),K696,IF(M696=\"\",\"\",\"-\"),M696,IF(O696=\"\",\"\",\"-\"),O696))))","v":""},{"$nulls":13},{"$f":"IF(LEN('1 - Opstart Importark'!$B$6)>0,'1 - Opstart Importark'!$B$6,\"\")","v":""},{"$f":"IF(LEN('1 - Opstart Importark'!$B$9)>0,'1 - Opstart Importark'!$B$9,\"\")","v":""},{"$f":"IF(LEN('1 - Opstart Importark'!$B$31)>0,'1 - Opstart Importark'!$B$31,\"\")","v":""},{"$nulls":12},"",{"$nulls":8},0,"","","objektnogle_"]
[686,null,{"$f":"IF('1 - Opstart Importark'!$B$6=\"\",\"\",(IF('1 - Opstart Importark'!$B$15=\"\",CONCATENATE(LEFT('1 - Opstart Importark'!$B$3,1),(LEFT('1 - Opstart Importark'!$B$24,2)),LEFT('1 - Opstart Importark'!$B$28,3),IF(I697=\"\",\"\",\"-\"),I697,IF(K697=\"\",\"\",\"-\"),K697,IF(M697=\"\",\"\",\"-\"),M697,IF(O697=\"\",\"\",\"-\"),O697),CONCATENATE(LEFT('1 - Opstart Importark'!$B$3,1),(LEFT('1 - Opstart Importark'!$B$15,2)),(LEFT('1 - Opstart Importark'!$B$18,3)),IF(I697=\"\",\"\",\"-\"),I697,IF(K697=\"\",\"\",\"-\"),K697,IF(M697=\"\",\"\",\"-\"),M697,IF(O697=\"\",\"\",\"-\"),O697))))","v":""},{"$nulls":13},{"$f":"IF(LEN('1 - Opstart Importark'!$B$6)>0,'1 - Opstart Importark'!$B$6,\"\")","v":""},{"$f":"IF(LEN('1 - Opstart Importark'!$B$9)>0,'1 - Opstart Importark'!$B$9,\"\")","v":""},{"$f":"IF(LEN('1 - Opstart Importark'!$B$31)>0,'1 - Opstart Importark'!$B$31,\"\")","v":""},{"$nulls":12},"",{"$nulls":8},0,"","","objektnogle_"]
[687,null,{"$f":"IF('1 - Opstart Importark'!$B$6=\"\",\"\",(IF('1 - Opstart Importark'!$B$15=\"\",CONCATENATE(LEFT('1 - Opstart Importark'!$B$3,1),(LEFT('1 - Opstart Importark'!$B$24,2)),LEFT('1 - Opstart Importark'!$B$28,3),IF(I698=\"\",\"\",\"-\"),I698,IF(K698=\"\",\"\",\"-\"),K698,IF(M698=\"\",\"\",\"-\"),M698,IF(O698=\"\",\"\",\"-\"),O698),CONCATENATE(LEFT('1 - Opstart Importark'!$B$3,1),(LEFT('1 - Opstart Importark'!$B$15,2)),(LEFT('1 - Opstart Importark'!$B$18,3)),IF(I698=\"\",\"\",\"-\"),I698,IF(K698=\"\",\"\",\"-\"),K698,IF(M698=\"\",\"\",\"-\"),M698,IF(O698=\"\",\"\",\"-\"),O698))))","v":""},{"$nulls":13},{"$f":"IF(LEN('1 - Opstart Importark'!$B$6)>0,'1 - Opstart Importark'!$B$6,\"\")","v":""},{"$f":"IF(LEN('1 - Opstart Importark'!$B$9)>0,'1 - Opstart Importark'!$B$9,\"\")","v":""},{"$f":"IF(LEN('1 - Opstart Importark'!$B$31)>0,'1 - Opstart Importark'!$B$31,\"\")","v":""},{"$nulls":12},"",{"$nulls":8},0,"","","objektnogle_"]
[688,null,{"$f":"IF('1 - Opstart Importark'!$B$6=\"\",\"\",(IF('1 - Opstart Importark'!$B$15=\"\",CONCATENATE(LEFT('1 - Opstart Importark'!$B$3,1),(LEFT('1 - Opstart Importark'!$B$24,2)),LEFT('1 - Opstart Importark'!$B$28,3),IF(I699=\"\",\"\",\"-\"),I699,IF(K699=\"\",\"\",\"-\"),K699,IF(M699=\"\",\"\",\"-\"),M699,IF(O699=\"\",\"\",\"-\"),O699),CONCATENATE(LEFT('1 - Opstart Importark'!$B$3,1),(LEFT('1 - Opstart Importark'!$B$15,2)),(LEFT('1 - Opstart Importark'!$B$18,3)),IF(I699=\"\",\"\",\"-\"),I699,IF(K699=\"\",\"\",\"-\"),K699,IF(M699=\"\",\"\",\"-\"),M699,IF(O699=\"\",\"\",\"-\"),O699))))","v":""},{"$nulls":13},{"$f":"IF(LEN('1 - Opstart Importark'!$B$6)>0,'1 - Opstart Importark'!$B$6,\"\")","v":""},{"$f":"IF(LEN('1 - Opstart Importark'!$B$9)>0,'1 - Opstart Importark'!$B$9,\"\")","v":""},{"$f":"IF(LEN('1 - Opstart Importark'!$B$31)>0,'1 - Opstart Importark'!$B$31,\"\")","v":""},{"$nulls":12},"",{"$nulls":8},0,"","","objektnogle_"]
[689,null,{"$f":"IF('1 - Opstart Importark'!$B$6=\"\",\"\",(IF('1 - Opstart Importark'!$B$15=\"\",CONCATENATE(LEFT('1 - Opstart Importark'!$B$3,1),(LEFT('1 - Opstart Importark'!$B$24,2)),LEFT('1 - Opstart Importark'!$B$28,3),IF(I700=\"\",\"\",\"-\"),I700,IF(K700=\"\",\"\",\"-\"),K700,IF(M700=\"\",\"\",\"-\"),M700,IF(O700=\"\",\"\",\"-\"),O700),CONCATENATE(LEFT('1 - Opstart Importark'!$B$3,1),(LEFT('1 - Opstart Importark'!$B$15,2)),(LEFT('1 - Opstart Importark'!$B$18,3)),IF(I700=\"\",\"\",\"-\"),I700,IF(K700=\"\",\"\",\"-\"),K700,IF(M700=\"\",\"\",\"-\"),M700,IF(O700=\"\",\"\",\"-\"),O700))))","v":""},{"$nulls":13},{"$f":"IF(LEN('1 - Opstart Importark'!$B$6)>0,'1 - Opstart Importark'!$B$6,\"\")","v":""},{"$f":"IF(LEN('1 - Opstart Importark'!$B$9)>0,'1 - Opstart Importark'!$B$9,\"\")","v":""},{"$f":"IF(LEN('1 - Opstart Importark'!$B$31)>0,'1 - Opstart Importark'!$B$31,\"\")","v":""},{"$nulls":12},"",{"$nulls":8},0,"","","objektnogle_"]
[690,null,{"$f":"IF('1 - Opstart Importark'!$B$6=\"\",\"\",(IF('1 - Opstart Importark'!$B$15=\"\",CONCATENATE(LEFT('1 - Opstart Importark'!$B$3,1),(LEFT('1 - Opstart Importark'!$B$24,2)),LEFT('1 - Opstart Importark'!$B$28,3),IF(I701=\"\",\"\",\"-\"),I701,IF(K701=\"\",\"\",\"-\"),K701,IF(M701=\"\",\"\",\"-\"),M701,IF(O701=\"\",\"\",\"-\"),O701),CONCATENATE(LEFT('1 - Opstart Importark'!$B$3,1),(LEFT('1 - Opstart Importark'!$B$15,2)),(LEFT('1 - Opstart Importark'!$B$18,3)),IF(I701=\"\",\"\",\"-\"),I701,IF(K701=\"\",\"\",\"-\"),K701,IF(M701=\"\",\"\",\"-\"),M701,IF(O701=\"\",\"\",\"-\"),O701))))","v":""},{"$nulls":13},{"$f":"IF(LEN('1 - Opstart Importark'!$B$6)>0,'1 - Opstart Importark'!$B$6,\"\")","v":""},{"$f":"IF(LEN('1 - Opstart Importark'!$B$9)>0,'1 - Opstart Importark'!$B$9,\"\")","v":""},{"$f":"IF(LEN('1 - Opstart Importark'!$B$31)>0,'1 - Opstart Importark'!$B$31,\"\")","v":""},{"$nulls":12},"",{"$nulls":8},0,"","","objektnogle_"]
[691,null,{"$f":"IF('1 - Opstart Importark'!$B$6=\"\",\"\",(IF('1 - Opstart Importark'!$B$15=\"\",CONCATENATE(LEFT('1 - Opstart Importark'!$B$3,1),(LEFT('1 - Opstart Importark'!$B$24,2)),LEFT('1 - Opstart Importark'!$B$28,3),IF(I702=\"\",\"\",\"-\"),I702,IF(K702=\"\",\"\",\"-\"),K702,IF(M702=\"\",\"\",\"-\"),M702,IF(O702=\"\",\"\",\"-\"),O702),CONCATENATE(LEFT('1 - Opstart Importark'!$B$3,1),(LEFT('1 - Opstart Importark'!$B$15,2)),(LEFT('1 - Opstart Importark'!$B$18,3)),IF(I702=\"\",\"\",\"-\"),I702,IF(K702=\"\",\"\",\"-\"),K702,IF(M702=\"\",\"\",\"-\"),M702,IF(O702=\"\",\"\",\"-\"),O702))))","v":""},{"$nulls":13},{"$f":"IF(LEN('1 - Opstart Importark'!$B$6)>0,'1 - Opstart Importark'!$B$6,\"\")","v":""},{"$f":"IF(LEN('1 - Opstart Importark'!$B$9)>0,'1 - Opstart Importark'!$B$9,\"\")","v":""},{"$f":"IF(LEN('1 - Opstart Importark'!$B$31)>0,'1 - Opstart Importark'!$B$31,\"\")","v":""},{"$nulls":12},"",{"$nulls":8},0,"","","objektnogle_"]
[692,null,{"$f":"IF('1 - Opstart Importark'!$B$6=\"\",\"\",(IF('1 - Opstart Importark'!$B$15=\"\",CONCATENATE(LEFT('1 - Opstart Importark'!$B$3,1),(LEFT('1 - Opstart Importark'!$B$24,2)),LEFT('1 - Opstart Importark'!$B$28,3),IF(I703=\"\",\"\",\"-\"),I703,IF(K703=\"\",\"\",\"-\"),K703,IF(M703=\"\",\"\",\"-\"),M703,IF(O703=\"\",\"\",\"-\"),O703),CONCATENATE(LEFT('1 - Opstart Importark'!$B$3,1),(LEFT('1 - Opstart Importark'!$B$15,2)),(LEFT('1 - Opstart Importark'!$B$18,3)),IF(I703=\"\",\"\",\"-\"),I703,IF(K703=\"\",\"\",\"-\"),K703,IF(M703=\"\",\"\",\"-\"),M703,IF(O703=\"\",\"\",\"-\"),O703))))","v":""},{"$nulls":13},{"$f":"IF(LEN('1 - Opstart Importark'!$B$6)>0,'1 - Opstart Importark'!$B$6,\"\")","v":""},{"$f":"IF(LEN('1 - Opstart Importark'!$B$9)>0,'1 - Opstart Importark'!$B$9,\"\")","v":""},{"$f":"IF(LEN('1 - Opstart Importark'!$B$31)>0,'1 - Opstart Importark'!$B$31,\"\")","v":""},{"$nulls":12},"",{"$nulls":8},0,"","","objektnogle_"]
[693,null,{"$f":"IF('1 - Opstart Importark'!$B$6=\"\",\"\",(IF('1 - Opstart Importark'!$B$15=\"\",CONCATENATE(LEFT('1 - Opstart Importark'!$B$3,1),(LEFT('1 - Opstart Importark'!$B$24,2)),LEFT('1 - Opstart Importark'!$B$28,3),IF(I704=\"\",\"\",\"-\"),I704,IF(K704=\"\",\"\",\"-\"),K704,IF(M704=\"\",\"\",\"-\"),M704,IF(O704=\"\",\"\",\"-\"),O704),CONCATENATE(LEFT('1 - Opstart Importark'!$B$3,1),(LEFT('1 - Opstart Importark'!$B$15,2)),(LEFT('1 - Opstart Importark'!$B$18,3)),IF(I704=\"\",\"\",\"-\"),I704,IF(K704=\"\",\"\",\"-\"),K704,IF(M704=\"\",\"\",\"-\"),M704,IF(O704=\"\",\"\",\"-\"),O704))))","v":""},{"$nulls":13},{"$f":"IF(LEN('1 - Opstart Importark'!$B$6)>0,'1 - Opstart Importark'!$B$6,\"\")","v":""},{"$f":"IF(LEN('1 - Opstart Importark'!$B$9)>0,'1 - Opstart Importark'!$B$9,\"\")","v":""},{"$f":"IF(LEN('1 - Opstart Importark'!$B$31)>0,'1 - Opstart Importark'!$B$31,\"\")","v":""},{"$nulls":12},"",{"$nulls":8},0,"","","objektnogle_"]
[694,null,{"$f":"IF('1 - Opstart Importark'!$B$6=\"\",\"\",(IF('1 - Opstart Importark'!$B$15=\"\",CONCATENATE(LEFT('1 - Opstart Importark'!$B$3,1),(LEFT('1 - Opstart Importark'!$B$24,2)),LEFT('1 - Opstart Importark'!$B$28,3),IF(I705=\"\",\"\",\"-\"),I705,IF(K705=\"\",\"\",\"-\"),K705,IF(M705=\"\",\"\",\"-\"),M705,IF(O705=\"\",\"\",\"-\"),O705),CONCATENATE(LEFT('1 - Opstart Importark'!$B$3,1),(LEFT('1 - Opstart Importark'!$B$15,2)),(LEFT('1 - Opstart Importark'!$B$18,3)),IF(I705=\"\",\"\",\"-\"),I705,IF(K705=\"\",\"\",\"-\"),K705,IF(M705=\"\",\"\",\"-\"),M705,IF(O705=\"\",\"\",\"-\"),O705))))","v":""},{"$nulls":13},{"$f":"IF(LEN('1 - Opstart Importark'!$B$6)>0,'1 - Opstart Importark'!$B$6,\"\")","v":""},{"$f":"IF(LEN('1 - Opstart Importark'!$B$9)>0,'1 - Opstart Importark'!$B$9,\"\")","v":""},{"$f":"IF(LEN('1 - Opstart Importark'!$B$31)>0,'1 - Opstart Importark'!$B$31,\"\")","v":""},{"$nulls":12},"",{"$nulls":8},0,"","","objektnogle_"]
[695,null,{"$f":"IF('1 - Opstart Importark'!$B$6=\"\",\"\",(IF('1 - Opstart Importark'!$B$15=\"\",CONCATENATE(LEFT('1 - Opstart Importark'!$B$3,1),(LEFT('1 - Opstart Importark'!$B$24,2)),LEFT('1 - Opstart Importark'!$B$28,3),IF(I706=\"\",\"\",\"-\"),I706,IF(K706=\"\",\"\",\"-\"),K706,IF(M706=\"\",\"\",\"-\"),M706,IF(O706=\"\",\"\",\"-\"),O706),CONCATENATE(LEFT('1 - Opstart Importark'!$B$3,1),(LEFT('1 - Opstart Importark'!$B$15,2)),(LEFT('1 - Opstart Importark'!$B$18,3)),IF(I706=\"\",\"\",\"-\"),I706,IF(K706=\"\",\"\",\"-\"),K706,IF(M706=\"\",\"\",\"-\"),M706,IF(O706=\"\",\"\",\"-\"),O706))))","v":""},{"$nulls":13},{"$f":"IF(LEN('1 - Opstart Importark'!$B$6)>0,'1 - Opstart Importark'!$B$6,\"\")","v":""},{"$f":"IF(LEN('1 - Opstart Importark'!$B$9)>0,'1 - Opstart Importark'!$B$9,\"\")","v":""},{"$f":"IF(LEN('1 - Opstart Importark'!$B$31)>0,'1 - Opstart Importark'!$B$31,\"\")","v":""},{"$nulls":12},"",{"$nulls":8},0,"","","objektnogle_"]
[696,null,{"$f":"IF('1 - Opstart Importark'!$B$6=\"\",\"\",(IF('1 - Opstart Importark'!$B$15=\"\",CONCATENATE(LEFT('1 - Opstart Importark'!$B$3,1),(LEFT('1 - Opstart Importark'!$B$24,2)),LEFT('1 - Opstart Importark'!$B$28,3),IF(I707=\"\",\"\",\"-\"),I707,IF(K707=\"\",\"\",\"-\"),K707,IF(M707=\"\",\"\",\"-\"),M707,IF(O707=\"\",\"\",\"-\"),O707),CONCATENATE(LEFT('1 - Opstart Importark'!$B$3,1),(LEFT('1 - Opstart Importark'!$B$15,2)),(LEFT('1 - Opstart Importark'!$B$18,3)),IF(I707=\"\",\"\",\"-\"),I707,IF(K707=\"\",\"\",\"-\"),K707,IF(M707=\"\",\"\",\"-\"),M707,IF(O707=\"\",\"\",\"-\"),O707))))","v":""},{"$nulls":13},{"$f":"IF(LEN('1 - Opstart Importark'!$B$6)>0,'1 - Opstart Importark'!$B$6,\"\")","v":""},{"$f":"IF(LEN('1 - Opstart Importark'!$B$9)>0,'1 - Opstart Importark'!$B$9,\"\")","v":""},{"$f":"IF(LEN('1 - Opstart Importark'!$B$31)>0,'1 - Opstart Importark'!$B$31,\"\")","v":""},{"$nulls":12},"",{"$nulls":8},0,"","","objektnogle_"]
[697,null,{"$f":"IF('1 - Opstart Importark'!$B$6=\"\",\"\",(IF('1 - Opstart Importark'!$B$15=\"\",CONCATENATE(LEFT('1 - Opstart Importark'!$B$3,1),(LEFT('1 - Opstart Importark'!$B$24,2)),LEFT('1 - Opstart Importark'!$B$28,3),IF(I708=\"\",\"\",\"-\"),I708,IF(K708=\"\",\"\",\"-\"),K708,IF(M708=\"\",\"\",\"-\"),M708,IF(O708=\"\",\"\",\"-\"),O708),CONCATENATE(LEFT('1 - Opstart Importark'!$B$3,1),(LEFT('1 - Opstart Importark'!$B$15,2)),(LEFT('1 - Opstart Importark'!$B$18,3)),IF(I708=\"\",\"\",\"-\"),I708,IF(K708=\"\",\"\",\"-\"),K708,IF(M708=\"\",\"\",\"-\"),M708,IF(O708=\"\",\"\",\"-\"),O708))))","v":""},{"$nulls":13},{"$f":"IF(LEN('1 - Opstart Importark'!$B$6)>0,'1 - Opstart Importark'!$B$6,\"\")","v":""},{"$f":"IF(LEN('1 - Opstart Importark'!$B$9)>0,'1 - Opstart Importark'!$B$9,\"\")","v":""},{"$f":"IF(LEN('1 - Opstart Importark'!$B$31)>0,'1 - Opstart Importark'!$B$31,\"\")","v":""},{"$nulls":12},"",{"$nulls":8},0,"","","objektnogle_"]
[698,null,{"$f":"IF('1 - Opstart Importark'!$B$6=\"\",\"\",(IF('1 - Opstart Importark'!$B$15=\"\",CONCATENATE(LEFT('1 - Opstart Importark'!$B$3,1),(LEFT('1 - Opstart Importark'!$B$24,2)),LEFT('1 - Opstart Importark'!$B$28,3),IF(I709=\"\",\"\",\"-\"),I709,IF(K709=\"\",\"\",\"-\"),K709,IF(M709=\"\",\"\",\"-\"),M709,IF(O709=\"\",\"\",\"-\"),O709),CONCATENATE(LEFT('1 - Opstart Importark'!$B$3,1),(LEFT('1 - Opstart Importark'!$B$15,2)),(LEFT('1 - Opstart Importark'!$B$18,3)),IF(I709=\"\",\"\",\"-\"),I709,IF(K709=\"\",\"\",\"-\"),K709,IF(M709=\"\",\"\",\"-\"),M709,IF(O709=\"\",\"\",\"-\"),O709))))","v":""},{"$nulls":13},{"$f":"IF(LEN('1 - Opstart Importark'!$B$6)>0,'1 - Opstart Importark'!$B$6,\"\")","v":""},{"$f":"IF(LEN('1 - Opstart Importark'!$B$9)>0,'1 - Opstart Importark'!$B$9,\"\")","v":""},{"$f":"IF(LEN('1 - Opstart Importark'!$B$31)>0,'1 - Opstart Importark'!$B$31,\"\")","v":""},{"$nulls":12},"",{"$nulls":8},0,"","","objektnogle_"]
[699,null,{"$f":"IF('1 - Opstart Importark'!$B$6=\"\",\"\",(IF('1 - Opstart Importark'!$B$15=\"\",CONCATENATE(LEFT('1 - Opstart Importark'!$B$3,1),(LEFT('1 - Opstart Importark'!$B$24,2)),LEFT('1 - Opstart Importark'!$B$28,3),IF(I710=\"\",\"\",\"-\"),I710,IF(K710=\"\",\"\",\"-\"),K710,IF(M710=\"\",\"\",\"-\"),M710,IF(O710=\"\",\"\",\"-\"),O710),CONCATENATE(LEFT('1 - Opstart Importark'!$B$3,1),(LEFT('1 - Opstart Importark'!$B$15,2)),(LEFT('1 - Opstart Importark'!$B$18,3)),IF(I710=\"\",\"\",\"-\"),I710,IF(K710=\"\",\"\",\"-\"),K710,IF(M710=\"\",\"\",\"-\"),M710,IF(O710=\"\",\"\",\"-\"),O710))))","v":""},{"$nulls":13},{"$f":"IF(LEN('1 - Opstart Importark'!$B$6)>0,'1 - Opstart Importark'!$B$6,\"\")","v":""},{"$f":"IF(LEN('1 - Opstart Importark'!$B$9)>0,'1 - Opstart Importark'!$B$9,\"\")","v":""},{"$f":"IF(LEN('1 - Opstart Importark'!$B$31)>0,'1 - Opstart Importark'!$B$31,\"\")","v":""},{"$nulls":12},"",{"$nulls":8},0,"","","objektnogle_"]
[700,null,{"$f":"IF('1 - Opstart Importark'!$B$6=\"\",\"\",(IF('1 - Opstart Importark'!$B$15=\"\",CONCATENATE(LEFT('1 - Opstart Importark'!$B$3,1),(LEFT('1 - Opstart Importark'!$B$24,2)),LEFT('1 - Opstart Importark'!$B$28,3),IF(I711=\"\",\"\",\"-\"),I711,IF(K711=\"\",\"\",\"-\"),K711,IF(M711=\"\",\"\",\"-\"),M711,IF(O711=\"\",\"\",\"-\"),O711),CONCATENATE(LEFT('1 - Opstart Importark'!$B$3,1),(LEFT('1 - Opstart Importark'!$B$15,2)),(LEFT('1 - Opstart Importark'!$B$18,3)),IF(I711=\"\",\"\",\"-\"),I711,IF(K711=\"\",\"\",\"-\"),K711,IF(M711=\"\",\"\",\"-\"),M711,IF(O711=\"\",\"\",\"-\"),O711))))","v":""},{"$nulls":13},{"$f":"IF(LEN('1 - Opstart Importark'!$B$6)>0,'1 - Opstart Importark'!$B$6,\"\")","v":""},{"$f":"IF(LEN('1 - Opstart Importark'!$B$9)>0,'1 - Opstart Importark'!$B$9,\"\")","v":""},{"$f":"IF(LEN('1 - Opstart Importark'!$B$31)>0,'1 - Opstart Importark'!$B$31,\"\")","v":""},{"$nulls":12},"",{"$nulls":8},0,"","","objektnogle_"]
[701,null,{"$f":"IF('1 - Opstart Importark'!$B$6=\"\",\"\",(IF('1 - Opstart Importark'!$B$15=\"\",CONCATENATE(LEFT('1 - Opstart Importark'!$B$3,1),(LEFT('1 - Opstart Importark'!$B$24,2)),LEFT('1 - Opstart Importark'!$B$28,3),IF(I712=\"\",\"\",\"-\"),I712,IF(K712=\"\",\"\",\"-\"),K712,IF(M712=\"\",\"\",\"-\"),M712,IF(O712=\"\",\"\",\"-\"),O712),CONCATENATE(LEFT('1 - Opstart Importark'!$B$3,1),(LEFT('1 - Opstart Importark'!$B$15,2)),(LEFT('1 - Opstart Importark'!$B$18,3)),IF(I712=\"\",\"\",\"-\"),I712,IF(K712=\"\",\"\",\"-\"),K712,IF(M712=\"\",\"\",\"-\"),M712,IF(O712=\"\",\"\",\"-\"),O712))))","v":""},{"$nulls":13},{"$f":"IF(LEN('1 - Opstart Importark'!$B$6)>0,'1 - Opstart Importark'!$B$6,\"\")","v":""},{"$f":"IF(LEN('1 - Opstart Importark'!$B$9)>0,'1 - Opstart Importark'!$B$9,\"\")","v":""},{"$f":"IF(LEN('1 - Opstart Importark'!$B$31)>0,'1 - Opstart Importark'!$B$31,\"\")","v":""},{"$nulls":12},"",{"$nulls":8},0,"","","objektnogle_"]
[702,null,{"$f":"IF('1 - Opstart Importark'!$B$6=\"\",\"\",(IF('1 - Opstart Importark'!$B$15=\"\",CONCATENATE(LEFT('1 - Opstart Importark'!$B$3,1),(LEFT('1 - Opstart Importark'!$B$24,2)),LEFT('1 - Opstart Importark'!$B$28,3),IF(I713=\"\",\"\",\"-\"),I713,IF(K713=\"\",\"\",\"-\"),K713,IF(M713=\"\",\"\",\"-\"),M713,IF(O713=\"\",\"\",\"-\"),O713),CONCATENATE(LEFT('1 - Opstart Importark'!$B$3,1),(LEFT('1 - Opstart Importark'!$B$15,2)),(LEFT('1 - Opstart Importark'!$B$18,3)),IF(I713=\"\",\"\",\"-\"),I713,IF(K713=\"\",\"\",\"-\"),K713,IF(M713=\"\",\"\",\"-\"),M713,IF(O713=\"\",\"\",\"-\"),O713))))","v":""},{"$nulls":13},{"$f":"IF(LEN('1 - Opstart Importark'!$B$6)>0,'1 - Opstart Importark'!$B$6,\"\")","v":""},{"$f":"IF(LEN('1 - Opstart Importark'!$B$9)>0,'1 - Opstart Importark'!$B$9,\"\")","v":""},{"$f":"IF(LEN('1 - Opstart Importark'!$B$31)>0,'1 - Opstart Importark'!$B$31,\"\")","v":""},{"$nulls":12},"",{"$nulls":8},0,"","","objektnogle_"]
[703,null,{"$f":"IF('1 - Opstart Importark'!$B$6=\"\",\"\",(IF('1 - Opstart Importark'!$B$15=\"\",CONCATENATE(LEFT('1 - Opstart Importark'!$B$3,1),(LEFT('1 - Opstart Importark'!$B$24,2)),LEFT('1 - Opstart Importark'!$B$28,3),IF(I714=\"\",\"\",\"-\"),I714,IF(K714=\"\",\"\",\"-\"),K714,IF(M714=\"\",\"\",\"-\"),M714,IF(O714=\"\",\"\",\"-\"),O714),CONCATENATE(LEFT('1 - Opstart Importark'!$B$3,1),(LEFT('1 - Opstart Importark'!$B$15,2)),(LEFT('1 - Opstart Importark'!$B$18,3)),IF(I714=\"\",\"\",\"-\"),I714,IF(K714=\"\",\"\",\"-\"),K714,IF(M714=\"\",\"\",\"-\"),M714,IF(O714=\"\",\"\",\"-\"),O714))))","v":""},{"$nulls":13},{"$f":"IF(LEN('1 - Opstart Importark'!$B$6)>0,'1 - Opstart Importark'!$B$6,\"\")","v":""},{"$f":"IF(LEN('1 - Opstart Importark'!$B$9)>0,'1 - Opstart Importark'!$B$9,\"\")","v":""},{"$f":"IF(LEN('1 - Opstart Importark'!$B$31)>0,'1 - Opstart Importark'!$B$31,\"\")","v":""},{"$nulls":12},"",{"$nulls":8},0,"","","objektnogle_"]
[704,null,{"$f":"IF('1 - Opstart Importark'!$B$6=\"\",\"\",(IF('1 - Opstart Importark'!$B$15=\"\",CONCATENATE(LEFT('1 - Opstart Importark'!$B$3,1),(LEFT('1 - Opstart Importark'!$B$24,2)),LEFT('1 - Opstart Importark'!$B$28,3),IF(I715=\"\",\"\",\"-\"),I715,IF(K715=\"\",\"\",\"-\"),K715,IF(M715=\"\",\"\",\"-\"),M715,IF(O715=\"\",\"\",\"-\"),O715),CONCATENATE(LEFT('1 - Opstart Importark'!$B$3,1),(LEFT('1 - Opstart Importark'!$B$15,2)),(LEFT('1 - Opstart Importark'!$B$18,3)),IF(I715=\"\",\"\",\"-\"),I715,IF(K715=\"\",\"\",\"-\"),K715,IF(M715=\"\",\"\",\"-\"),M715,IF(O715=\"\",\"\",\"-\"),O715))))","v":""},{"$nulls":13},{"$f":"IF(LEN('1 - Opstart Importark'!$B$6)>0,'1 - Opstart Importark'!$B$6,\"\")","v":""},{"$f":"IF(LEN('1 - Opstart Importark'!$B$9)>0,'1 - Opstart Importark'!$B$9,\"\")","v":""},{"$f":"IF(LEN('1 - Opstart Importark'!$B$31)>0,'1 - Opstart Importark'!$B$31,\"\")","v":""},{"$nulls":12},"",{"$nulls":8},0,"","","objektnogle_"]
[705,null,{"$f":"IF('1 - Opstart Importark'!$B$6=\"\",\"\",(IF('1 - Opstart Importark'!$B$15=\"\",CONCATENATE(LEFT('1 - Opstart Importark'!$B$3,1),(LEFT('1 - Opstart Importark'!$B$24,2)),LEFT('1 - Opstart Importark'!$B$28,3),IF(I716=\"\",\"\",\"-\"),I716,IF(K716=\"\",\"\",\"-\"),K716,IF(M716=\"\",\"\",\"-\"),M716,IF(O716=\"\",\"\",\"-\"),O716),CONCATENATE(LEFT('1 - Opstart Importark'!$B$3,1),(LEFT('1 - Opstart Importark'!$B$15,2)),(LEFT('1 - Opstart Importark'!$B$18,3)),IF(I716=\"\",\"\",\"-\"),I716,IF(K716=\"\",\"\",\"-\"),K716,IF(M716=\"\",\"\",\"-\"),M716,IF(O716=\"\",\"\",\"-\"),O716))))","v":""},{"$nulls":13},{"$f":"IF(LEN('1 - Opstart Importark'!$B$6)>0,'1 - Opstart Importark'!$B$6,\"\")","v":""},{"$f":"IF(LEN('1 - Opstart Importark'!$B$9)>0,'1 - Opstart Importark'!$B$9,\"\")","v":""},{"$f":"IF(LEN('1 - Opstart Importark'!$B$31)>0,'1 - Opstart Importark'!$B$31,\"\")","v":""},{"$nulls":12},{"$f":"IF(M716=\"\",\"\",VLOOKUP(LEFT(M716,1),objektfilter,2))","v":""},{"$nulls":8},0,"","","objektnogle_"]
[706,null,{"$f":"IF('1 - Opstart Importark'!$B$6=\"\",\"\",(IF('1 - Opstart Importark'!$B$15=\"\",CONCATENATE(LEFT('1 - Opstart Importark'!$B$3,1),(LEFT('1 - Opstart Importark'!$B$24,2)),LEFT('1 - Opstart Importark'!$B$28,3),IF(I717=\"\",\"\",\"-\"),I717,IF(K717=\"\",\"\",\"-\"),K717,IF(M717=\"\",\"\",\"-\"),M717,IF(O717=\"\",\"\",\"-\"),O717),CONCATENATE(LEFT('1 - Opstart Importark'!$B$3,1),(LEFT('1 - Opstart Importark'!$B$15,2)),(LEFT('1 - Opstart Importark'!$B$18,3)),IF(I717=\"\",\"\",\"-\"),I717,IF(K717=\"\",\"\",\"-\"),K717,IF(M717=\"\",\"\",\"-\"),M717,IF(O717=\"\",\"\",\"-\"),O717))))","v":""},{"$nulls":13},{"$f":"IF(LEN('1 - Opstart Importark'!$B$6)>0,'1 - Opstart Importark'!$B$6,\"\")","v":""},{"$f":"IF(LEN('1 - Opstart Importark'!$B$9)>0,'1 - Opstart Importark'!$B$9,\"\")","v":""},{"$f":"IF(LEN('1 - Opstart Importark'!$B$31)>0,'1 - Opstart Importark'!$B$31,\"\")","v":""},{"$nulls":12},"",{"$nulls":8},{"$f":"IFERROR(FIND(\".\",F717),)","v":0},{"$f":"IF(M717=\"\",\"\",IF(LEFT(M717,1)=\"E\",0,1))","v":""},{"$f":"IF(M717=\"\",\"\",IF(LEFT(M717,1)=\"E\",0,1))","v":""},{"$f":"IF(W717=\"\", CONCATENATE(\"objektnogle_\",LEFT(AF717,1)),CONCATENATE(\"objektnogle_\",LEFT(W717,1)))","v":"objektnogle_"}]
[707,null,{"$f":"IF('1 - Opstart Importark'!$B$6=\"\",\"\",(IF('1 - Opstart Importark'!$B$15=\"\",CONCATENATE(LEFT('1 - Opstart Importark'!$B$3,1),(LEFT('1 - Opstart Importark'!$B$24,2)),LEFT('1 - Opstart Importark'!$B$28,3),IF(I718=\"\",\"\",\"-\"),I718,IF(K718=\"\",\"\",\"-\"),K718,IF(M718=\"\",\"\",\"-\"),M718,IF(O718=\"\",\"\",\"-\"),O718),CONCATENATE(LEFT('1 - Opstart Importark'!$B$3,1),(LEFT('1 - Opstart Importark'!$B$15,2)),(LEFT('1 - Opstart Importark'!$B$18,3)),IF(I718=\"\",\"\",\"-\"),I718,IF(K718=\"\",\"\",\"-\"),K718,IF(M718=\"\",\"\",\"-\"),M718,IF(O718=\"\",\"\",\"-\"),O718))))","v":""},{"$nulls":13},{"$f":"IF(LEN('1 - Opstart Importark'!$B$6)>0,'1 - Opstart Importark'!$B$6,\"\")","v":""},{"$f":"IF(LEN('1 - Opstart Importark'!$B$9)>0,'1 - Opstart Importark'!$B$9,\"\")","v":""},{"$f":"IF(LEN('1 - Opstart Importark'!$B$31)>0,'1 - Opstart Importark'!$B$31,\"\")","v":""},{"$nulls":12},"",{"$nulls":8},0,"","","objektnogle_"]
[708,null,{"$f":"IF('1 - Opstart Importark'!$B$6=\"\",\"\",(IF('1 - Opstart Importark'!$B$15=\"\",CONCATENATE(LEFT('1 - Opstart Importark'!$B$3,1),(LEFT('1 - Opstart Importark'!$B$24,2)),LEFT('1 - Opstart Importark'!$B$28,3),IF(I719=\"\",\"\",\"-\"),I719,IF(K719=\"\",\"\",\"-\"),K719,IF(M719=\"\",\"\",\"-\"),M719,IF(O719=\"\",\"\",\"-\"),O719),CONCATENATE(LEFT('1 - Opstart Importark'!$B$3,1),(LEFT('1 - Opstart Importark'!$B$15,2)),(LEFT('1 - Opstart Importark'!$B$18,3)),IF(I719=\"\",\"\",\"-\"),I719,IF(K719=\"\",\"\",\"-\"),K719,IF(M719=\"\",\"\",\"-\"),M719,IF(O719=\"\",\"\",\"-\"),O719))))","v":""},{"$nulls":13},{"$f":"IF(LEN('1 - Opstart Importark'!$B$6)>0,'1 - Opstart Importark'!$B$6,\"\")","v":""},{"$f":"IF(LEN('1 - Opstart Importark'!$B$9)>0,'1 - Opstart Importark'!$B$9,\"\")","v":""},{"$f":"IF(LEN('1 - Opstart Importark'!$B$31)>0,'1 - Opstart Importark'!$B$31,\"\")","v":""},{"$nulls":12},"",{"$nulls":8},0,"","","objektnogle_"]
[709,null,{"$f":"IF('1 - Opstart Importark'!$B$6=\"\",\"\",(IF('1 - Opstart Importark'!$B$15=\"\",CONCATENATE(LEFT('1 - Opstart Importark'!$B$3,1),(LEFT('1 - Opstart Importark'!$B$24,2)),LEFT('1 - Opstart Importark'!$B$28,3),IF(I720=\"\",\"\",\"-\"),I720,IF(K720=\"\",\"\",\"-\"),K720,IF(M720=\"\",\"\",\"-\"),M720,IF(O720=\"\",\"\",\"-\"),O720),CONCATENATE(LEFT('1 - Opstart Importark'!$B$3,1),(LEFT('1 - Opstart Importark'!$B$15,2)),(LEFT('1 - Opstart Importark'!$B$18,3)),IF(I720=\"\",\"\",\"-\"),I720,IF(K720=\"\",\"\",\"-\"),K720,IF(M720=\"\",\"\",\"-\"),M720,IF(O720=\"\",\"\",\"-\"),O720))))","v":""},{"$nulls":13},{"$f":"IF(LEN('1 - Opstart Importark'!$B$6)>0,'1 - Opstart Importark'!$B$6,\"\")","v":""},{"$f":"IF(LEN('1 - Opstart Importark'!$B$9)>0,'1 - Opstart Importark'!$B$9,\"\")","v":""},{"$f":"IF(LEN('1 - Opstart Importark'!$B$31)>0,'1 - Opstart Importark'!$B$31,\"\")","v":""},{"$nulls":12},"",{"$nulls":8},0,"","","objektnogle_"]
[710,null,{"$f":"IF('1 - Opstart Importark'!$B$6=\"\",\"\",(IF('1 - Opstart Importark'!$B$15=\"\",CONCATENATE(LEFT('1 - Opstart Importark'!$B$3,1),(LEFT('1 - Opstart Importark'!$B$24,2)),LEFT('1 - Opstart Importark'!$B$28,3),IF(I721=\"\",\"\",\"-\"),I721,IF(K721=\"\",\"\",\"-\"),K721,IF(M721=\"\",\"\",\"-\"),M721,IF(O721=\"\",\"\",\"-\"),O721),CONCATENATE(LEFT('1 - Opstart Importark'!$B$3,1),(LEFT('1 - Opstart Importark'!$B$15,2)),(LEFT('1 - Opstart Importark'!$B$18,3)),IF(I721=\"\",\"\",\"-\"),I721,IF(K721=\"\",\"\",\"-\"),K721,IF(M721=\"\",\"\",\"-\"),M721,IF(O721=\"\",\"\",\"-\"),O721))))","v":""},{"$nulls":13},{"$f":"IF(LEN('1 - Opstart Importark'!$B$6)>0,'1 - Opstart Importark'!$B$6,\"\")","v":""},{"$f":"IF(LEN('1 - Opstart Importark'!$B$9)>0,'1 - Opstart Importark'!$B$9,\"\")","v":""},{"$f":"IF(LEN('1 - Opstart Importark'!$B$31)>0,'1 - Opstart Importark'!$B$31,\"\")","v":""},{"$nulls":12},"",{"$nulls":8},0,"","","objektnogle_"]
[711,null,{"$f":"IF('1 - Opstart Importark'!$B$6=\"\",\"\",(IF('1 - Opstart Importark'!$B$15=\"\",CONCATENATE(LEFT('1 - Opstart Importark'!$B$3,1),(LEFT('1 - Opstart Importark'!$B$24,2)),LEFT('1 - Opstart Importark'!$B$28,3),IF(I722=\"\",\"\",\"-\"),I722,IF(K722=\"\",\"\",\"-\"),K722,IF(M722=\"\",\"\",\"-\"),M722,IF(O722=\"\",\"\",\"-\"),O722),CONCATENATE(LEFT('1 - Opstart Importark'!$B$3,1),(LEFT('1 - Opstart Importark'!$B$15,2)),(LEFT('1 - Opstart Importark'!$B$18,3)),IF(I722=\"\",\"\",\"-\"),I722,IF(K722=\"\",\"\",\"-\"),K722,IF(M722=\"\",\"\",\"-\"),M722,IF(O722=\"\",\"\",\"-\"),O722))))","v":""},{"$nulls":13},{"$f":"IF(LEN('1 - Opstart Importark'!$B$6)>0,'1 - Opstart Importark'!$B$6,\"\")","v":""},{"$f":"IF(LEN('1 - Opstart Importark'!$B$9)>0,'1 - Opstart Importark'!$B$9,\"\")","v":""},{"$f":"IF(LEN('1 - Opstart Importark'!$B$31)>0,'1 - Opstart Importark'!$B$31,\"\")","v":""},{"$nulls":12},"",{"$nulls":8},0,"","","objektnogle_"]
[712,null,{"$f":"IF('1 - Opstart Importark'!$B$6=\"\",\"\",(IF('1 - Opstart Importark'!$B$15=\"\",CONCATENATE(LEFT('1 - Opstart Importark'!$B$3,1),(LEFT('1 - Opstart Importark'!$B$24,2)),LEFT('1 - Opstart Importark'!$B$28,3),IF(I723=\"\",\"\",\"-\"),I723,IF(K723=\"\",\"\",\"-\"),K723,IF(M723=\"\",\"\",\"-\"),M723,IF(O723=\"\",\"\",\"-\"),O723),CONCATENATE(LEFT('1 - Opstart Importark'!$B$3,1),(LEFT('1 - Opstart Importark'!$B$15,2)),(LEFT('1 - Opstart Importark'!$B$18,3)),IF(I723=\"\",\"\",\"-\"),I723,IF(K723=\"\",\"\",\"-\"),K723,IF(M723=\"\",\"\",\"-\"),M723,IF(O723=\"\",\"\",\"-\"),O723))))","v":""},{"$nulls":13},{"$f":"IF(LEN('1 - Opstart Importark'!$B$6)>0,'1 - Opstart Importark'!$B$6,\"\")","v":""},{"$f":"IF(LEN('1 - Opstart Importark'!$B$9)>0,'1 - Opstart Importark'!$B$9,\"\")","v":""},{"$f":"IF(LEN('1 - Opstart Importark'!$B$31)>0,'1 - Opstart Importark'!$B$31,\"\")","v":""},{"$nulls":12},"",{"$nulls":8},0,"","","objektnogle_"]
[713,null,{"$f":"IF('1 - Opstart Importark'!$B$6=\"\",\"\",(IF('1 - Opstart Importark'!$B$15=\"\",CONCATENATE(LEFT('1 - Opstart Importark'!$B$3,1),(LEFT('1 - Opstart Importark'!$B$24,2)),LEFT('1 - Opstart Importark'!$B$28,3),IF(I724=\"\",\"\",\"-\"),I724,IF(K724=\"\",\"\",\"-\"),K724,IF(M724=\"\",\"\",\"-\"),M724,IF(O724=\"\",\"\",\"-\"),O724),CONCATENATE(LEFT('1 - Opstart Importark'!$B$3,1),(LEFT('1 - Opstart Importark'!$B$15,2)),(LEFT('1 - Opstart Importark'!$B$18,3)),IF(I724=\"\",\"\",\"-\"),I724,IF(K724=\"\",\"\",\"-\"),K724,IF(M724=\"\",\"\",\"-\"),M724,IF(O724=\"\",\"\",\"-\"),O724))))","v":""},{"$nulls":13},{"$f":"IF(LEN('1 - Opstart Importark'!$B$6)>0,'1 - Opstart Importark'!$B$6,\"\")","v":""},{"$f":"IF(LEN('1 - Opstart Importark'!$B$9)>0,'1 - Opstart Importark'!$B$9,\"\")","v":""},{"$f":"IF(LEN('1 - Opstart Importark'!$B$31)>0,'1 - Opstart Importark'!$B$31,\"\")","v":""},{"$nulls":12},"",{"$nulls":8},0,"","","objektnogle_"]
[714,null,{"$f":"IF('1 - Opstart Importark'!$B$6=\"\",\"\",(IF('1 - Opstart Importark'!$B$15=\"\",CONCATENATE(LEFT('1 - Opstart Importark'!$B$3,1),(LEFT('1 - Opstart Importark'!$B$24,2)),LEFT('1 - Opstart Importark'!$B$28,3),IF(I725=\"\",\"\",\"-\"),I725,IF(K725=\"\",\"\",\"-\"),K725,IF(M725=\"\",\"\",\"-\"),M725,IF(O725=\"\",\"\",\"-\"),O725),CONCATENATE(LEFT('1 - Opstart Importark'!$B$3,1),(LEFT('1 - Opstart Importark'!$B$15,2)),(LEFT('1 - Opstart Importark'!$B$18,3)),IF(I725=\"\",\"\",\"-\"),I725,IF(K725=\"\",\"\",\"-\"),K725,IF(M725=\"\",\"\",\"-\"),M725,IF(O725=\"\",\"\",\"-\"),O725))))","v":""},{"$nulls":13},{"$f":"IF(LEN('1 - Opstart Importark'!$B$6)>0,'1 - Opstart Importark'!$B$6,\"\")","v":""},{"$f":"IF(LEN('1 - Opstart Importark'!$B$9)>0,'1 - Opstart Importark'!$B$9,\"\")","v":""},{"$f":"IF(LEN('1 - Opstart Importark'!$B$31)>0,'1 - Opstart Importark'!$B$31,\"\")","v":""},{"$nulls":12},"",{"$nulls":8},0,"","","objektnogle_"]
[715,null,{"$f":"IF('1 - Opstart Importark'!$B$6=\"\",\"\",(IF('1 - Opstart Importark'!$B$15=\"\",CONCATENATE(LEFT('1 - Opstart Importark'!$B$3,1),(LEFT('1 - Opstart Importark'!$B$24,2)),LEFT('1 - Opstart Importark'!$B$28,3),IF(I726=\"\",\"\",\"-\"),I726,IF(K726=\"\",\"\",\"-\"),K726,IF(M726=\"\",\"\",\"-\"),M726,IF(O726=\"\",\"\",\"-\"),O726),CONCATENATE(LEFT('1 - Opstart Importark'!$B$3,1),(LEFT('1 - Opstart Importark'!$B$15,2)),(LEFT('1 - Opstart Importark'!$B$18,3)),IF(I726=\"\",\"\",\"-\"),I726,IF(K726=\"\",\"\",\"-\"),K726,IF(M726=\"\",\"\",\"-\"),M726,IF(O726=\"\",\"\",\"-\"),O726))))","v":""},{"$nulls":13},{"$f":"IF(LEN('1 - Opstart Importark'!$B$6)>0,'1 - Opstart Importark'!$B$6,\"\")","v":""},{"$f":"IF(LEN('1 - Opstart Importark'!$B$9)>0,'1 - Opstart Importark'!$B$9,\"\")","v":""},{"$f":"IF(LEN('1 - Opstart Importark'!$B$31)>0,'1 - Opstart Importark'!$B$31,\"\")","v":""},{"$nulls":12},"",{"$nulls":8},0,"","","objektnogle_"]
[716,null,{"$f":"IF('1 - Opstart Importark'!$B$6=\"\",\"\",(IF('1 - Opstart Importark'!$B$15=\"\",CONCATENATE(LEFT('1 - Opstart Importark'!$B$3,1),(LEFT('1 - Opstart Importark'!$B$24,2)),LEFT('1 - Opstart Importark'!$B$28,3),IF(I727=\"\",\"\",\"-\"),I727,IF(K727=\"\",\"\",\"-\"),K727,IF(M727=\"\",\"\",\"-\"),M727,IF(O727=\"\",\"\",\"-\"),O727),CONCATENATE(LEFT('1 - Opstart Importark'!$B$3,1),(LEFT('1 - Opstart Importark'!$B$15,2)),(LEFT('1 - Opstart Importark'!$B$18,3)),IF(I727=\"\",\"\",\"-\"),I727,IF(K727=\"\",\"\",\"-\"),K727,IF(M727=\"\",\"\",\"-\"),M727,IF(O727=\"\",\"\",\"-\"),O727))))","v":""},{"$nulls":13},{"$f":"IF(LEN('1 - Opstart Importark'!$B$6)>0,'1 - Opstart Importark'!$B$6,\"\")","v":""},{"$f":"IF(LEN('1 - Opstart Importark'!$B$9)>0,'1 - Opstart Importark'!$B$9,\"\")","v":""},{"$f":"IF(LEN('1 - Opstart Importark'!$B$31)>0,'1 - Opstart Importark'!$B$31,\"\")","v":""},{"$nulls":12},"",{"$nulls":8},0,"","","objektnogle_"]
[717,null,{"$f":"IF('1 - Opstart Importark'!$B$6=\"\",\"\",(IF('1 - Opstart Importark'!$B$15=\"\",CONCATENATE(LEFT('1 - Opstart Importark'!$B$3,1),(LEFT('1 - Opstart Importark'!$B$24,2)),LEFT('1 - Opstart Importark'!$B$28,3),IF(I728=\"\",\"\",\"-\"),I728,IF(K728=\"\",\"\",\"-\"),K728,IF(M728=\"\",\"\",\"-\"),M728,IF(O728=\"\",\"\",\"-\"),O728),CONCATENATE(LEFT('1 - Opstart Importark'!$B$3,1),(LEFT('1 - Opstart Importark'!$B$15,2)),(LEFT('1 - Opstart Importark'!$B$18,3)),IF(I728=\"\",\"\",\"-\"),I728,IF(K728=\"\",\"\",\"-\"),K728,IF(M728=\"\",\"\",\"-\"),M728,IF(O728=\"\",\"\",\"-\"),O728))))","v":""},{"$nulls":13},{"$f":"IF(LEN('1 - Opstart Importark'!$B$6)>0,'1 - Opstart Importark'!$B$6,\"\")","v":""},{"$f":"IF(LEN('1 - Opstart Importark'!$B$9)>0,'1 - Opstart Importark'!$B$9,\"\")","v":""},{"$f":"IF(LEN('1 - Opstart Importark'!$B$31)>0,'1 - Opstart Importark'!$B$31,\"\")","v":""},{"$nulls":12},"",{"$nulls":8},0,"","","objektnogle_"]
[718,null,{"$f":"IF('1 - Opstart Importark'!$B$6=\"\",\"\",(IF('1 - Opstart Importark'!$B$15=\"\",CONCATENATE(LEFT('1 - Opstart Importark'!$B$3,1),(LEFT('1 - Opstart Importark'!$B$24,2)),LEFT('1 - Opstart Importark'!$B$28,3),IF(I729=\"\",\"\",\"-\"),I729,IF(K729=\"\",\"\",\"-\"),K729,IF(M729=\"\",\"\",\"-\"),M729,IF(O729=\"\",\"\",\"-\"),O729),CONCATENATE(LEFT('1 - Opstart Importark'!$B$3,1),(LEFT('1 - Opstart Importark'!$B$15,2)),(LEFT('1 - Opstart Importark'!$B$18,3)),IF(I729=\"\",\"\",\"-\"),I729,IF(K729=\"\",\"\",\"-\"),K729,IF(M729=\"\",\"\",\"-\"),M729,IF(O729=\"\",\"\",\"-\"),O729))))","v":""},{"$nulls":13},{"$f":"IF(LEN('1 - Opstart Importark'!$B$6)>0,'1 - Opstart Importark'!$B$6,\"\")","v":""},{"$f":"IF(LEN('1 - Opstart Importark'!$B$9)>0,'1 - Opstart Importark'!$B$9,\"\")","v":""},{"$f":"IF(LEN('1 - Opstart Importark'!$B$31)>0,'1 - Opstart Importark'!$B$31,\"\")","v":""},{"$nulls":12},"",{"$nulls":8},0,"","","objektnogle_"]
[719,null,{"$f":"IF('1 - Opstart Importark'!$B$6=\"\",\"\",(IF('1 - Opstart Importark'!$B$15=\"\",CONCATENATE(LEFT('1 - Opstart Importark'!$B$3,1),(LEFT('1 - Opstart Importark'!$B$24,2)),LEFT('1 - Opstart Importark'!$B$28,3),IF(I730=\"\",\"\",\"-\"),I730,IF(K730=\"\",\"\",\"-\"),K730,IF(M730=\"\",\"\",\"-\"),M730,IF(O730=\"\",\"\",\"-\"),O730),CONCATENATE(LEFT('1 - Opstart Importark'!$B$3,1),(LEFT('1 - Opstart Importark'!$B$15,2)),(LEFT('1 - Opstart Importark'!$B$18,3)),IF(I730=\"\",\"\",\"-\"),I730,IF(K730=\"\",\"\",\"-\"),K730,IF(M730=\"\",\"\",\"-\"),M730,IF(O730=\"\",\"\",\"-\"),O730))))","v":""},{"$nulls":13},{"$f":"IF(LEN('1 - Opstart Importark'!$B$6)>0,'1 - Opstart Importark'!$B$6,\"\")","v":""},{"$f":"IF(LEN('1 - Opstart Importark'!$B$9)>0,'1 - Opstart Importark'!$B$9,\"\")","v":""},{"$f":"IF(LEN('1 - Opstart Importark'!$B$31)>0,'1 - Opstart Importark'!$B$31,\"\")","v":""},{"$nulls":12},"",{"$nulls":8},0,"","","objektnogle_"]
[720,null,{"$f":"IF('1 - Opstart Importark'!$B$6=\"\",\"\",(IF('1 - Opstart Importark'!$B$15=\"\",CONCATENATE(LEFT('1 - Opstart Importark'!$B$3,1),(LEFT('1 - Opstart Importark'!$B$24,2)),LEFT('1 - Opstart Importark'!$B$28,3),IF(I731=\"\",\"\",\"-\"),I731,IF(K731=\"\",\"\",\"-\"),K731,IF(M731=\"\",\"\",\"-\"),M731,IF(O731=\"\",\"\",\"-\"),O731),CONCATENATE(LEFT('1 - Opstart Importark'!$B$3,1),(LEFT('1 - Opstart Importark'!$B$15,2)),(LEFT('1 - Opstart Importark'!$B$18,3)),IF(I731=\"\",\"\",\"-\"),I731,IF(K731=\"\",\"\",\"-\"),K731,IF(M731=\"\",\"\",\"-\"),M731,IF(O731=\"\",\"\",\"-\"),O731))))","v":""},{"$nulls":13},{"$f":"IF(LEN('1 - Opstart Importark'!$B$6)>0,'1 - Opstart Importark'!$B$6,\"\")","v":""},{"$f":"IF(LEN('1 - Opstart Importark'!$B$9)>0,'1 - Opstart Importark'!$B$9,\"\")","v":""},{"$f":"IF(LEN('1 - Opstart Importark'!$B$31)>0,'1 - Opstart Importark'!$B$31,\"\")","v":""},{"$nulls":12},"",{"$nulls":8},0,"","","objektnogle_"]
[721,null,{"$f":"IF('1 - Opstart Importark'!$B$6=\"\",\"\",(IF('1 - Opstart Importark'!$B$15=\"\",CONCATENATE(LEFT('1 - Opstart Importark'!$B$3,1),(LEFT('1 - Opstart Importark'!$B$24,2)),LEFT('1 - Opstart Importark'!$B$28,3),IF(I732=\"\",\"\",\"-\"),I732,IF(K732=\"\",\"\",\"-\"),K732,IF(M732=\"\",\"\",\"-\"),M732,IF(O732=\"\",\"\",\"-\"),O732),CONCATENATE(LEFT('1 - Opstart Importark'!$B$3,1),(LEFT('1 - Opstart Importark'!$B$15,2)),(LEFT('1 - Opstart Importark'!$B$18,3)),IF(I732=\"\",\"\",\"-\"),I732,IF(K732=\"\",\"\",\"-\"),K732,IF(M732=\"\",\"\",\"-\"),M732,IF(O732=\"\",\"\",\"-\"),O732))))","v":""},{"$nulls":13},{"$f":"IF(LEN('1 - Opstart Importark'!$B$6)>0,'1 - Opstart Importark'!$B$6,\"\")","v":""},{"$f":"IF(LEN('1 - Opstart Importark'!$B$9)>0,'1 - Opstart Importark'!$B$9,\"\")","v":""},{"$f":"IF(LEN('1 - Opstart Importark'!$B$31)>0,'1 - Opstart Importark'!$B$31,\"\")","v":""},{"$nulls":12},"",{"$nulls":8},0,"","","objektnogle_"]
[722,null,{"$f":"IF('1 - Opstart Importark'!$B$6=\"\",\"\",(IF('1 - Opstart Importark'!$B$15=\"\",CONCATENATE(LEFT('1 - Opstart Importark'!$B$3,1),(LEFT('1 - Opstart Importark'!$B$24,2)),LEFT('1 - Opstart Importark'!$B$28,3),IF(I733=\"\",\"\",\"-\"),I733,IF(K733=\"\",\"\",\"-\"),K733,IF(M733=\"\",\"\",\"-\"),M733,IF(O733=\"\",\"\",\"-\"),O733),CONCATENATE(LEFT('1 - Opstart Importark'!$B$3,1),(LEFT('1 - Opstart Importark'!$B$15,2)),(LEFT('1 - Opstart Importark'!$B$18,3)),IF(I733=\"\",\"\",\"-\"),I733,IF(K733=\"\",\"\",\"-\"),K733,IF(M733=\"\",\"\",\"-\"),M733,IF(O733=\"\",\"\",\"-\"),O733))))","v":""},{"$nulls":13},{"$f":"IF(LEN('1 - Opstart Importark'!$B$6)>0,'1 - Opstart Importark'!$B$6,\"\")","v":""},{"$f":"IF(LEN('1 - Opstart Importark'!$B$9)>0,'1 - Opstart Importark'!$B$9,\"\")","v":""},{"$f":"IF(LEN('1 - Opstart Importark'!$B$31)>0,'1 - Opstart Importark'!$B$31,\"\")","v":""},{"$nulls":12},"",{"$nulls":8},0,"","","objektnogle_"]
[723,null,{"$f":"IF('1 - Opstart Importark'!$B$6=\"\",\"\",(IF('1 - Opstart Importark'!$B$15=\"\",CONCATENATE(LEFT('1 - Opstart Importark'!$B$3,1),(LEFT('1 - Opstart Importark'!$B$24,2)),LEFT('1 - Opstart Importark'!$B$28,3),IF(I734=\"\",\"\",\"-\"),I734,IF(K734=\"\",\"\",\"-\"),K734,IF(M734=\"\",\"\",\"-\"),M734,IF(O734=\"\",\"\",\"-\"),O734),CONCATENATE(LEFT('1 - Opstart Importark'!$B$3,1),(LEFT('1 - Opstart Importark'!$B$15,2)),(LEFT('1 - Opstart Importark'!$B$18,3)),IF(I734=\"\",\"\",\"-\"),I734,IF(K734=\"\",\"\",\"-\"),K734,IF(M734=\"\",\"\",\"-\"),M734,IF(O734=\"\",\"\",\"-\"),O734))))","v":""},{"$nulls":13},{"$f":"IF(LEN('1 - Opstart Importark'!$B$6)>0,'1 - Opstart Importark'!$B$6,\"\")","v":""},{"$f":"IF(LEN('1 - Opstart Importark'!$B$9)>0,'1 - Opstart Importark'!$B$9,\"\")","v":""},{"$f":"IF(LEN('1 - Opstart Importark'!$B$31)>0,'1 - Opstart Importark'!$B$31,\"\")","v":""},{"$nulls":12},"",{"$nulls":8},0,"","","objektnogle_"]
[724,null,{"$f":"IF('1 - Opstart Importark'!$B$6=\"\",\"\",(IF('1 - Opstart Importark'!$B$15=\"\",CONCATENATE(LEFT('1 - Opstart Importark'!$B$3,1),(LEFT('1 - Opstart Importark'!$B$24,2)),LEFT('1 - Opstart Importark'!$B$28,3),IF(I735=\"\",\"\",\"-\"),I735,IF(K735=\"\",\"\",\"-\"),K735,IF(M735=\"\",\"\",\"-\"),M735,IF(O735=\"\",\"\",\"-\"),O735),CONCATENATE(LEFT('1 - Opstart Importark'!$B$3,1),(LEFT('1 - Opstart Importark'!$B$15,2)),(LEFT('1 - Opstart Importark'!$B$18,3)),IF(I735=\"\",\"\",\"-\"),I735,IF(K735=\"\",\"\",\"-\"),K735,IF(M735=\"\",\"\",\"-\"),M735,IF(O735=\"\",\"\",\"-\"),O735))))","v":""},{"$nulls":13},{"$f":"IF(LEN('1 - Opstart Importark'!$B$6)>0,'1 - Opstart Importark'!$B$6,\"\")","v":""},{"$f":"IF(LEN('1 - Opstart Importark'!$B$9)>0,'1 - Opstart Importark'!$B$9,\"\")","v":""},{"$f":"IF(LEN('1 - Opstart Importark'!$B$31)>0,'1 - Opstart Importark'!$B$31,\"\")","v":""},{"$nulls":12},"",{"$nulls":8},0,"","","objektnogle_"]
[725,null,{"$f":"IF('1 - Opstart Importark'!$B$6=\"\",\"\",(IF('1 - Opstart Importark'!$B$15=\"\",CONCATENATE(LEFT('1 - Opstart Importark'!$B$3,1),(LEFT('1 - Opstart Importark'!$B$24,2)),LEFT('1 - Opstart Importark'!$B$28,3),IF(I736=\"\",\"\",\"-\"),I736,IF(K736=\"\",\"\",\"-\"),K736,IF(M736=\"\",\"\",\"-\"),M736,IF(O736=\"\",\"\",\"-\"),O736),CONCATENATE(LEFT('1 - Opstart Importark'!$B$3,1),(LEFT('1 - Opstart Importark'!$B$15,2)),(LEFT('1 - Opstart Importark'!$B$18,3)),IF(I736=\"\",\"\",\"-\"),I736,IF(K736=\"\",\"\",\"-\"),K736,IF(M736=\"\",\"\",\"-\"),M736,IF(O736=\"\",\"\",\"-\"),O736))))","v":""},{"$nulls":13},{"$f":"IF(LEN('1 - Opstart Importark'!$B$6)>0,'1 - Opstart Importark'!$B$6,\"\")","v":""},{"$f":"IF(LEN('1 - Opstart Importark'!$B$9)>0,'1 - Opstart Importark'!$B$9,\"\")","v":""},{"$f":"IF(LEN('1 - Opstart Importark'!$B$31)>0,'1 - Opstart Importark'!$B$31,\"\")","v":""},{"$nulls":12},"",{"$nulls":8},0,"","","objektnogle_"]
[726,null,{"$f":"IF('1 - Opstart Importark'!$B$6=\"\",\"\",(IF('1 - Opstart Importark'!$B$15=\"\",CONCATENATE(LEFT('1 - Opstart Importark'!$B$3,1),(LEFT('1 - Opstart Importark'!$B$24,2)),LEFT('1 - Opstart Importark'!$B$28,3),IF(I737=\"\",\"\",\"-\"),I737,IF(K737=\"\",\"\",\"-\"),K737,IF(M737=\"\",\"\",\"-\"),M737,IF(O737=\"\",\"\",\"-\"),O737),CONCATENATE(LEFT('1 - Opstart Importark'!$B$3,1),(LEFT('1 - Opstart Importark'!$B$15,2)),(LEFT('1 - Opstart Importark'!$B$18,3)),IF(I737=\"\",\"\",\"-\"),I737,IF(K737=\"\",\"\",\"-\"),K737,IF(M737=\"\",\"\",\"-\"),M737,IF(O737=\"\",\"\",\"-\"),O737))))","v":""},{"$nulls":13},{"$f":"IF(LEN('1 - Opstart Importark'!$B$6)>0,'1 - Opstart Importark'!$B$6,\"\")","v":""},{"$f":"IF(LEN('1 - Opstart Importark'!$B$9)>0,'1 - Opstart Importark'!$B$9,\"\")","v":""},{"$f":"IF(LEN('1 - Opstart Importark'!$B$31)>0,'1 - Opstart Importark'!$B$31,\"\")","v":""},{"$nulls":12},"",{"$nulls":8},0,"","","objektnogle_"]
[727,null,{"$f":"IF('1 - Opstart Importark'!$B$6=\"\",\"\",(IF('1 - Opstart Importark'!$B$15=\"\",CONCATENATE(LEFT('1 - Opstart Importark'!$B$3,1),(LEFT('1 - Opstart Importark'!$B$24,2)),LEFT('1 - Opstart Importark'!$B$28,3),IF(I738=\"\",\"\",\"-\"),I738,IF(K738=\"\",\"\",\"-\"),K738,IF(M738=\"\",\"\",\"-\"),M738,IF(O738=\"\",\"\",\"-\"),O738),CONCATENATE(LEFT('1 - Opstart Importark'!$B$3,1),(LEFT('1 - Opstart Importark'!$B$15,2)),(LEFT('1 - Opstart Importark'!$B$18,3)),IF(I738=\"\",\"\",\"-\"),I738,IF(K738=\"\",\"\",\"-\"),K738,IF(M738=\"\",\"\",\"-\"),M738,IF(O738=\"\",\"\",\"-\"),O738))))","v":""},{"$nulls":13},{"$f":"IF(LEN('1 - Opstart Importark'!$B$6)>0,'1 - Opstart Importark'!$B$6,\"\")","v":""},{"$f":"IF(LEN('1 - Opstart Importark'!$B$9)>0,'1 - Opstart Importark'!$B$9,\"\")","v":""},{"$f":"IF(LEN('1 - Opstart Importark'!$B$31)>0,'1 - Opstart Importark'!$B$31,\"\")","v":""},{"$nulls":12},"",{"$nulls":8},0,"","","objektnogle_"]
[728,null,{"$f":"IF('1 - Opstart Importark'!$B$6=\"\",\"\",(IF('1 - Opstart Importark'!$B$15=\"\",CONCATENATE(LEFT('1 - Opstart Importark'!$B$3,1),(LEFT('1 - Opstart Importark'!$B$24,2)),LEFT('1 - Opstart Importark'!$B$28,3),IF(I739=\"\",\"\",\"-\"),I739,IF(K739=\"\",\"\",\"-\"),K739,IF(M739=\"\",\"\",\"-\"),M739,IF(O739=\"\",\"\",\"-\"),O739),CONCATENATE(LEFT('1 - Opstart Importark'!$B$3,1),(LEFT('1 - Opstart Importark'!$B$15,2)),(LEFT('1 - Opstart Importark'!$B$18,3)),IF(I739=\"\",\"\",\"-\"),I739,IF(K739=\"\",\"\",\"-\"),K739,IF(M739=\"\",\"\",\"-\"),M739,IF(O739=\"\",\"\",\"-\"),O739))))","v":""},{"$nulls":13},{"$f":"IF(LEN('1 - Opstart Importark'!$B$6)>0,'1 - Opstart Importark'!$B$6,\"\")","v":""},{"$f":"IF(LEN('1 - Opstart Importark'!$B$9)>0,'1 - Opstart Importark'!$B$9,\"\")","v":""},{"$f":"IF(LEN('1 - Opstart Importark'!$B$31)>0,'1 - Opstart Importark'!$B$31,\"\")","v":""},{"$nulls":12},"",{"$nulls":8},0,"","","objektnogle_"]
[729,null,{"$f":"IF('1 - Opstart Importark'!$B$6=\"\",\"\",(IF('1 - Opstart Importark'!$B$15=\"\",CONCATENATE(LEFT('1 - Opstart Importark'!$B$3,1),(LEFT('1 - Opstart Importark'!$B$24,2)),LEFT('1 - Opstart Importark'!$B$28,3),IF(I740=\"\",\"\",\"-\"),I740,IF(K740=\"\",\"\",\"-\"),K740,IF(M740=\"\",\"\",\"-\"),M740,IF(O740=\"\",\"\",\"-\"),O740),CONCATENATE(LEFT('1 - Opstart Importark'!$B$3,1),(LEFT('1 - Opstart Importark'!$B$15,2)),(LEFT('1 - Opstart Importark'!$B$18,3)),IF(I740=\"\",\"\",\"-\"),I740,IF(K740=\"\",\"\",\"-\"),K740,IF(M740=\"\",\"\",\"-\"),M740,IF(O740=\"\",\"\",\"-\"),O740))))","v":""},{"$nulls":13},{"$f":"IF(LEN('1 - Opstart Importark'!$B$6)>0,'1 - Opstart Importark'!$B$6,\"\")","v":""},{"$f":"IF(LEN('1 - Opstart Importark'!$B$9)>0,'1 - Opstart Importark'!$B$9,\"\")","v":""},{"$f":"IF(LEN('1 - Opstart Importark'!$B$31)>0,'1 - Opstart Importark'!$B$31,\"\")","v":""},{"$nulls":12},"",{"$nulls":8},0,"","","objektnogle_"]
[730,null,{"$f":"IF('1 - Opstart Importark'!$B$6=\"\",\"\",(IF('1 - Opstart Importark'!$B$15=\"\",CONCATENATE(LEFT('1 - Opstart Importark'!$B$3,1),(LEFT('1 - Opstart Importark'!$B$24,2)),LEFT('1 - Opstart Importark'!$B$28,3),IF(I741=\"\",\"\",\"-\"),I741,IF(K741=\"\",\"\",\"-\"),K741,IF(M741=\"\",\"\",\"-\"),M741,IF(O741=\"\",\"\",\"-\"),O741),CONCATENATE(LEFT('1 - Opstart Importark'!$B$3,1),(LEFT('1 - Opstart Importark'!$B$15,2)),(LEFT('1 - Opstart Importark'!$B$18,3)),IF(I741=\"\",\"\",\"-\"),I741,IF(K741=\"\",\"\",\"-\"),K741,IF(M741=\"\",\"\",\"-\"),M741,IF(O741=\"\",\"\",\"-\"),O741))))","v":""},{"$nulls":13},{"$f":"IF(LEN('1 - Opstart Importark'!$B$6)>0,'1 - Opstart Importark'!$B$6,\"\")","v":""},{"$f":"IF(LEN('1 - Opstart Importark'!$B$9)>0,'1 - Opstart Importark'!$B$9,\"\")","v":""},{"$f":"IF(LEN('1 - Opstart Importark'!$B$31)>0,'1 - Opstart Importark'!$B$31,\"\")","v":""},{"$nulls":12},"",{"$nulls":8},0,"","","objektnogle_"]
[731,null,{"$f":"IF('1 - Opstart Importark'!$B$6=\"\",\"\",(IF('1 - Opstart Importark'!$B$15=\"\",CONCATENATE(LEFT('1 - Opstart Importark'!$B$3,1),(LEFT('1 - Opstart Importark'!$B$24,2)),LEFT('1 - Opstart Importark'!$B$28,3),IF(I742=\"\",\"\",\"-\"),I742,IF(K742=\"\",\"\",\"-\"),K742,IF(M742=\"\",\"\",\"-\"),M742,IF(O742=\"\",\"\",\"-\"),O742),CONCATENATE(LEFT('1 - Opstart Importark'!$B$3,1),(LEFT('1 - Opstart Importark'!$B$15,2)),(LEFT('1 - Opstart Importark'!$B$18,3)),IF(I742=\"\",\"\",\"-\"),I742,IF(K742=\"\",\"\",\"-\"),K742,IF(M742=\"\",\"\",\"-\"),M742,IF(O742=\"\",\"\",\"-\"),O742))))","v":""},{"$nulls":13},{"$f":"IF(LEN('1 - Opstart Importark'!$B$6)>0,'1 - Opstart Importark'!$B$6,\"\")","v":""},{"$f":"IF(LEN('1 - Opstart Importark'!$B$9)>0,'1 - Opstart Importark'!$B$9,\"\")","v":""},{"$f":"IF(LEN('1 - Opstart Importark'!$B$31)>0,'1 - Opstart Importark'!$B$31,\"\")","v":""},{"$nulls":12},"",{"$nulls":8},0,"","","objektnogle_"]
[732,null,{"$f":"IF('1 - Opstart Importark'!$B$6=\"\",\"\",(IF('1 - Opstart Importark'!$B$15=\"\",CONCATENATE(LEFT('1 - Opstart Importark'!$B$3,1),(LEFT('1 - Opstart Importark'!$B$24,2)),LEFT('1 - Opstart Importark'!$B$28,3),IF(I743=\"\",\"\",\"-\"),I743,IF(K743=\"\",\"\",\"-\"),K743,IF(M743=\"\",\"\",\"-\"),M743,IF(O743=\"\",\"\",\"-\"),O743),CONCATENATE(LEFT('1 - Opstart Importark'!$B$3,1),(LEFT('1 - Opstart Importark'!$B$15,2)),(LEFT('1 - Opstart Importark'!$B$18,3)),IF(I743=\"\",\"\",\"-\"),I743,IF(K743=\"\",\"\",\"-\"),K743,IF(M743=\"\",\"\",\"-\"),M743,IF(O743=\"\",\"\",\"-\"),O743))))","v":""},{"$nulls":13},{"$f":"IF(LEN('1 - Opstart Importark'!$B$6)>0,'1 - Opstart Importark'!$B$6,\"\")","v":""},{"$f":"IF(LEN('1 - Opstart Importark'!$B$9)>0,'1 - Opstart Importark'!$B$9,\"\")","v":""},{"$f":"IF(LEN('1 - Opstart Importark'!$B$31)>0,'1 - Opstart Importark'!$B$31,\"\")","v":""},{"$nulls":12},"",{"$nulls":8},0,"","","objektnogle_"]
[733,null,{"$f":"IF('1 - Opstart Importark'!$B$6=\"\",\"\",(IF('1 - Opstart Importark'!$B$15=\"\",CONCATENATE(LEFT('1 - Opstart Importark'!$B$3,1),(LEFT('1 - Opstart Importark'!$B$24,2)),LEFT('1 - Opstart Importark'!$B$28,3),IF(I744=\"\",\"\",\"-\"),I744,IF(K744=\"\",\"\",\"-\"),K744,IF(M744=\"\",\"\",\"-\"),M744,IF(O744=\"\",\"\",\"-\"),O744),CONCATENATE(LEFT('1 - Opstart Importark'!$B$3,1),(LEFT('1 - Opstart Importark'!$B$15,2)),(LEFT('1 - Opstart Importark'!$B$18,3)),IF(I744=\"\",\"\",\"-\"),I744,IF(K744=\"\",\"\",\"-\"),K744,IF(M744=\"\",\"\",\"-\"),M744,IF(O744=\"\",\"\",\"-\"),O744))))","v":""},{"$nulls":13},{"$f":"IF(LEN('1 - Opstart Importark'!$B$6)>0,'1 - Opstart Importark'!$B$6,\"\")","v":""},{"$f":"IF(LEN('1 - Opstart Importark'!$B$9)>0,'1 - Opstart Importark'!$B$9,\"\")","v":""},{"$f":"IF(LEN('1 - Opstart Importark'!$B$31)>0,'1 - Opstart Importark'!$B$31,\"\")","v":""},{"$nulls":12},"",{"$nulls":8},0,"","","objektnogle_"]
[734,null,{"$f":"IF('1 - Opstart Importark'!$B$6=\"\",\"\",(IF('1 - Opstart Importark'!$B$15=\"\",CONCATENATE(LEFT('1 - Opstart Importark'!$B$3,1),(LEFT('1 - Opstart Importark'!$B$24,2)),LEFT('1 - Opstart Importark'!$B$28,3),IF(I745=\"\",\"\",\"-\"),I745,IF(K745=\"\",\"\",\"-\"),K745,IF(M745=\"\",\"\",\"-\"),M745,IF(O745=\"\",\"\",\"-\"),O745),CONCATENATE(LEFT('1 - Opstart Importark'!$B$3,1),(LEFT('1 - Opstart Importark'!$B$15,2)),(LEFT('1 - Opstart Importark'!$B$18,3)),IF(I745=\"\",\"\",\"-\"),I745,IF(K745=\"\",\"\",\"-\"),K745,IF(M745=\"\",\"\",\"-\"),M745,IF(O745=\"\",\"\",\"-\"),O745))))","v":""},{"$nulls":13},{"$f":"IF(LEN('1 - Opstart Importark'!$B$6)>0,'1 - Opstart Importark'!$B$6,\"\")","v":""},{"$f":"IF(LEN('1 - Opstart Importark'!$B$9)>0,'1 - Opstart Importark'!$B$9,\"\")","v":""},{"$f":"IF(LEN('1 - Opstart Importark'!$B$31)>0,'1 - Opstart Importark'!$B$31,\"\")","v":""},{"$nulls":12},"",{"$nulls":8},0,"","","objektnogle_"]
[735,null,{"$f":"IF('1 - Opstart Importark'!$B$6=\"\",\"\",(IF('1 - Opstart Importark'!$B$15=\"\",CONCATENATE(LEFT('1 - Opstart Importark'!$B$3,1),(LEFT('1 - Opstart Importark'!$B$24,2)),LEFT('1 - Opstart Importark'!$B$28,3),IF(I746=\"\",\"\",\"-\"),I746,IF(K746=\"\",\"\",\"-\"),K746,IF(M746=\"\",\"\",\"-\"),M746,IF(O746=\"\",\"\",\"-\"),O746),CONCATENATE(LEFT('1 - Opstart Importark'!$B$3,1),(LEFT('1 - Opstart Importark'!$B$15,2)),(LEFT('1 - Opstart Importark'!$B$18,3)),IF(I746=\"\",\"\",\"-\"),I746,IF(K746=\"\",\"\",\"-\"),K746,IF(M746=\"\",\"\",\"-\"),M746,IF(O746=\"\",\"\",\"-\"),O746))))","v":""},{"$nulls":13},{"$f":"IF(LEN('1 - Opstart Importark'!$B$6)>0,'1 - Opstart Importark'!$B$6,\"\")","v":""},{"$f":"IF(LEN('1 - Opstart Importark'!$B$9)>0,'1 - Opstart Importark'!$B$9,\"\")","v":""},{"$f":"IF(LEN('1 - Opstart Importark'!$B$31)>0,'1 - Opstart Importark'!$B$31,\"\")","v":""},{"$nulls":12},"",{"$nulls":8},0,"","","objektnogle_"]
[736,null,{"$f":"IF('1 - Opstart Importark'!$B$6=\"\",\"\",(IF('1 - Opstart Importark'!$B$15=\"\",CONCATENATE(LEFT('1 - Opstart Importark'!$B$3,1),(LEFT('1 - Opstart Importark'!$B$24,2)),LEFT('1 - Opstart Importark'!$B$28,3),IF(I747=\"\",\"\",\"-\"),I747,IF(K747=\"\",\"\",\"-\"),K747,IF(M747=\"\",\"\",\"-\"),M747,IF(O747=\"\",\"\",\"-\"),O747),CONCATENATE(LEFT('1 - Opstart Importark'!$B$3,1),(LEFT('1 - Opstart Importark'!$B$15,2)),(LEFT('1 - Opstart Importark'!$B$18,3)),IF(I747=\"\",\"\",\"-\"),I747,IF(K747=\"\",\"\",\"-\"),K747,IF(M747=\"\",\"\",\"-\"),M747,IF(O747=\"\",\"\",\"-\"),O747))))","v":""},{"$nulls":13},{"$f":"IF(LEN('1 - Opstart Importark'!$B$6)>0,'1 - Opstart Importark'!$B$6,\"\")","v":""},{"$f":"IF(LEN('1 - Opstart Importark'!$B$9)>0,'1 - Opstart Importark'!$B$9,\"\")","v":""},{"$f":"IF(LEN('1 - Opstart Importark'!$B$31)>0,'1 - Opstart Importark'!$B$31,\"\")","v":""},{"$nulls":12},"",{"$nulls":8},0,"","","objektnogle_"]
[737,null,{"$f":"IF('1 - Opstart Importark'!$B$6=\"\",\"\",(IF('1 - Opstart Importark'!$B$15=\"\",CONCATENATE(LEFT('1 - Opstart Importark'!$B$3,1),(LEFT('1 - Opstart Importark'!$B$24,2)),LEFT('1 - Opstart Importark'!$B$28,3),IF(I748=\"\",\"\",\"-\"),I748,IF(K748=\"\",\"\",\"-\"),K748,IF(M748=\"\",\"\",\"-\"),M748,IF(O748=\"\",\"\",\"-\"),O748),CONCATENATE(LEFT('1 - Opstart Importark'!$B$3,1),(LEFT('1 - Opstart Importark'!$B$15,2)),(LEFT('1 - Opstart Importark'!$B$18,3)),IF(I748=\"\",\"\",\"-\"),I748,IF(K748=\"\",\"\",\"-\"),K748,IF(M748=\"\",\"\",\"-\"),M748,IF(O748=\"\",\"\",\"-\"),O748))))","v":""},{"$nulls":13},{"$f":"IF(LEN('1 - Opstart Importark'!$B$6)>0,'1 - Opstart Importark'!$B$6,\"\")","v":""},{"$f":"IF(LEN('1 - Opstart Importark'!$B$9)>0,'1 - Opstart Importark'!$B$9,\"\")","v":""},{"$f":"IF(LEN('1 - Opstart Importark'!$B$31)>0,'1 - Opstart Importark'!$B$31,\"\")","v":""},{"$nulls":12},"",{"$nulls":8},0,"","","objektnogle_"]
[738,null,{"$f":"IF('1 - Opstart Importark'!$B$6=\"\",\"\",(IF('1 - Opstart Importark'!$B$15=\"\",CONCATENATE(LEFT('1 - Opstart Importark'!$B$3,1),(LEFT('1 - Opstart Importark'!$B$24,2)),LEFT('1 - Opstart Importark'!$B$28,3),IF(I749=\"\",\"\",\"-\"),I749,IF(K749=\"\",\"\",\"-\"),K749,IF(M749=\"\",\"\",\"-\"),M749,IF(O749=\"\",\"\",\"-\"),O749),CONCATENATE(LEFT('1 - Opstart Importark'!$B$3,1),(LEFT('1 - Opstart Importark'!$B$15,2)),(LEFT('1 - Opstart Importark'!$B$18,3)),IF(I749=\"\",\"\",\"-\"),I749,IF(K749=\"\",\"\",\"-\"),K749,IF(M749=\"\",\"\",\"-\"),M749,IF(O749=\"\",\"\",\"-\"),O749))))","v":""},{"$nulls":13},{"$f":"IF(LEN('1 - Opstart Importark'!$B$6)>0,'1 - Opstart Importark'!$B$6,\"\")","v":""},{"$f":"IF(LEN('1 - Opstart Importark'!$B$9)>0,'1 - Opstart Importark'!$B$9,\"\")","v":""},{"$f":"IF(LEN('1 - Opstart Importark'!$B$31)>0,'1 - Opstart Importark'!$B$31,\"\")","v":""},{"$nulls":12},"",{"$nulls":8},0,"","","objektnogle_"]
[739,null,{"$f":"IF('1 - Opstart Importark'!$B$6=\"\",\"\",(IF('1 - Opstart Importark'!$B$15=\"\",CONCATENATE(LEFT('1 - Opstart Importark'!$B$3,1),(LEFT('1 - Opstart Importark'!$B$24,2)),LEFT('1 - Opstart Importark'!$B$28,3),IF(I750=\"\",\"\",\"-\"),I750,IF(K750=\"\",\"\",\"-\"),K750,IF(M750=\"\",\"\",\"-\"),M750,IF(O750=\"\",\"\",\"-\"),O750),CONCATENATE(LEFT('1 - Opstart Importark'!$B$3,1),(LEFT('1 - Opstart Importark'!$B$15,2)),(LEFT('1 - Opstart Importark'!$B$18,3)),IF(I750=\"\",\"\",\"-\"),I750,IF(K750=\"\",\"\",\"-\"),K750,IF(M750=\"\",\"\",\"-\"),M750,IF(O750=\"\",\"\",\"-\"),O750))))","v":""},{"$nulls":13},{"$f":"IF(LEN('1 - Opstart Importark'!$B$6)>0,'1 - Opstart Importark'!$B$6,\"\")","v":""},{"$f":"IF(LEN('1 - Opstart Importark'!$B$9)>0,'1 - Opstart Importark'!$B$9,\"\")","v":""},{"$f":"IF(LEN('1 - Opstart Importark'!$B$31)>0,'1 - Opstart Importark'!$B$31,\"\")","v":""},{"$nulls":12},"",{"$nulls":8},0,"","","objektnogle_"]
[740,null,{"$f":"IF('1 - Opstart Importark'!$B$6=\"\",\"\",(IF('1 - Opstart Importark'!$B$15=\"\",CONCATENATE(LEFT('1 - Opstart Importark'!$B$3,1),(LEFT('1 - Opstart Importark'!$B$24,2)),LEFT('1 - Opstart Importark'!$B$28,3),IF(I751=\"\",\"\",\"-\"),I751,IF(K751=\"\",\"\",\"-\"),K751,IF(M751=\"\",\"\",\"-\"),M751,IF(O751=\"\",\"\",\"-\"),O751),CONCATENATE(LEFT('1 - Opstart Importark'!$B$3,1),(LEFT('1 - Opstart Importark'!$B$15,2)),(LEFT('1 - Opstart Importark'!$B$18,3)),IF(I751=\"\",\"\",\"-\"),I751,IF(K751=\"\",\"\",\"-\"),K751,IF(M751=\"\",\"\",\"-\"),M751,IF(O751=\"\",\"\",\"-\"),O751))))","v":""},{"$nulls":13},{"$f":"IF(LEN('1 - Opstart Importark'!$B$6)>0,'1 - Opstart Importark'!$B$6,\"\")","v":""},{"$f":"IF(LEN('1 - Opstart Importark'!$B$9)>0,'1 - Opstart Importark'!$B$9,\"\")","v":""},{"$f":"IF(LEN('1 - Opstart Importark'!$B$31)>0,'1 - Opstart Importark'!$B$31,\"\")","v":""},{"$nulls":12},"",{"$nulls":8},0,"","","objektnogle_"]
[741,null,{"$f":"IF('1 - Opstart Importark'!$B$6=\"\",\"\",(IF('1 - Opstart Importark'!$B$15=\"\",CONCATENATE(LEFT('1 - Opstart Importark'!$B$3,1),(LEFT('1 - Opstart Importark'!$B$24,2)),LEFT('1 - Opstart Importark'!$B$28,3),IF(I752=\"\",\"\",\"-\"),I752,IF(K752=\"\",\"\",\"-\"),K752,IF(M752=\"\",\"\",\"-\"),M752,IF(O752=\"\",\"\",\"-\"),O752),CONCATENATE(LEFT('1 - Opstart Importark'!$B$3,1),(LEFT('1 - Opstart Importark'!$B$15,2)),(LEFT('1 - Opstart Importark'!$B$18,3)),IF(I752=\"\",\"\",\"-\"),I752,IF(K752=\"\",\"\",\"-\"),K752,IF(M752=\"\",\"\",\"-\"),M752,IF(O752=\"\",\"\",\"-\"),O752))))","v":""},{"$nulls":13},{"$f":"IF(LEN('1 - Opstart Importark'!$B$6)>0,'1 - Opstart Importark'!$B$6,\"\")","v":""},{"$f":"IF(LEN('1 - Opstart Importark'!$B$9)>0,'1 - Opstart Importark'!$B$9,\"\")","v":""},{"$f":"IF(LEN('1 - Opstart Importark'!$B$31)>0,'1 - Opstart Importark'!$B$31,\"\")","v":""},{"$nulls":12},"",{"$nulls":8},0,"","","objektnogle_"]
[742,null,{"$f":"IF('1 - Opstart Importark'!$B$6=\"\",\"\",(IF('1 - Opstart Importark'!$B$15=\"\",CONCATENATE(LEFT('1 - Opstart Importark'!$B$3,1),(LEFT('1 - Opstart Importark'!$B$24,2)),LEFT('1 - Opstart Importark'!$B$28,3),IF(I753=\"\",\"\",\"-\"),I753,IF(K753=\"\",\"\",\"-\"),K753,IF(M753=\"\",\"\",\"-\"),M753,IF(O753=\"\",\"\",\"-\"),O753),CONCATENATE(LEFT('1 - Opstart Importark'!$B$3,1),(LEFT('1 - Opstart Importark'!$B$15,2)),(LEFT('1 - Opstart Importark'!$B$18,3)),IF(I753=\"\",\"\",\"-\"),I753,IF(K753=\"\",\"\",\"-\"),K753,IF(M753=\"\",\"\",\"-\"),M753,IF(O753=\"\",\"\",\"-\"),O753))))","v":""},{"$nulls":13},{"$f":"IF(LEN('1 - Opstart Importark'!$B$6)>0,'1 - Opstart Importark'!$B$6,\"\")","v":""},{"$f":"IF(LEN('1 - Opstart Importark'!$B$9)>0,'1 - Opstart Importark'!$B$9,\"\")","v":""},{"$f":"IF(LEN('1 - Opstart Importark'!$B$31)>0,'1 - Opstart Importark'!$B$31,\"\")","v":""},{"$nulls":12},"",{"$nulls":8},0,"","","objektnogle_"]
[743,null,{"$f":"IF('1 - Opstart Importark'!$B$6=\"\",\"\",(IF('1 - Opstart Importark'!$B$15=\"\",CONCATENATE(LEFT('1 - Opstart Importark'!$B$3,1),(LEFT('1 - Opstart Importark'!$B$24,2)),LEFT('1 - Opstart Importark'!$B$28,3),IF(I754=\"\",\"\",\"-\"),I754,IF(K754=\"\",\"\",\"-\"),K754,IF(M754=\"\",\"\",\"-\"),M754,IF(O754=\"\",\"\",\"-\"),O754),CONCATENATE(LEFT('1 - Opstart Importark'!$B$3,1),(LEFT('1 - Opstart Importark'!$B$15,2)),(LEFT('1 - Opstart Importark'!$B$18,3)),IF(I754=\"\",\"\",\"-\"),I754,IF(K754=\"\",\"\",\"-\"),K754,IF(M754=\"\",\"\",\"-\"),M754,IF(O754=\"\",\"\",\"-\"),O754))))","v":""},{"$nulls":13},{"$f":"IF(LEN('1 - Opstart Importark'!$B$6)>0,'1 - Opstart Importark'!$B$6,\"\")","v":""},{"$f":"IF(LEN('1 - Opstart Importark'!$B$9)>0,'1 - Opstart Importark'!$B$9,\"\")","v":""},{"$f":"IF(LEN('1 - Opstart Importark'!$B$31)>0,'1 - Opstart Importark'!$B$31,\"\")","v":""},{"$nulls":12},"",{"$nulls":8},0,"","","objektnogle_"]
[744,null,{"$f":"IF('1 - Opstart Importark'!$B$6=\"\",\"\",(IF('1 - Opstart Importark'!$B$15=\"\",CONCATENATE(LEFT('1 - Opstart Importark'!$B$3,1),(LEFT('1 - Opstart Importark'!$B$24,2)),LEFT('1 - Opstart Importark'!$B$28,3),IF(I755=\"\",\"\",\"-\"),I755,IF(K755=\"\",\"\",\"-\"),K755,IF(M755=\"\",\"\",\"-\"),M755,IF(O755=\"\",\"\",\"-\"),O755),CONCATENATE(LEFT('1 - Opstart Importark'!$B$3,1),(LEFT('1 - Opstart Importark'!$B$15,2)),(LEFT('1 - Opstart Importark'!$B$18,3)),IF(I755=\"\",\"\",\"-\"),I755,IF(K755=\"\",\"\",\"-\"),K755,IF(M755=\"\",\"\",\"-\"),M755,IF(O755=\"\",\"\",\"-\"),O755))))","v":""},{"$nulls":13},{"$f":"IF(LEN('1 - Opstart Importark'!$B$6)>0,'1 - Opstart Importark'!$B$6,\"\")","v":""},{"$f":"IF(LEN('1 - Opstart Importark'!$B$9)>0,'1 - Opstart Importark'!$B$9,\"\")","v":""},{"$f":"IF(LEN('1 - Opstart Importark'!$B$31)>0,'1 - Opstart Importark'!$B$31,\"\")","v":""},{"$nulls":12},"",{"$nulls":8},0,"","","objektnogle_"]
[745,null,{"$f":"IF('1 - Opstart Importark'!$B$6=\"\",\"\",(IF('1 - Opstart Importark'!$B$15=\"\",CONCATENATE(LEFT('1 - Opstart Importark'!$B$3,1),(LEFT('1 - Opstart Importark'!$B$24,2)),LEFT('1 - Opstart Importark'!$B$28,3),IF(I756=\"\",\"\",\"-\"),I756,IF(K756=\"\",\"\",\"-\"),K756,IF(M756=\"\",\"\",\"-\"),M756,IF(O756=\"\",\"\",\"-\"),O756),CONCATENATE(LEFT('1 - Opstart Importark'!$B$3,1),(LEFT('1 - Opstart Importark'!$B$15,2)),(LEFT('1 - Opstart Importark'!$B$18,3)),IF(I756=\"\",\"\",\"-\"),I756,IF(K756=\"\",\"\",\"-\"),K756,IF(M756=\"\",\"\",\"-\"),M756,IF(O756=\"\",\"\",\"-\"),O756))))","v":""},{"$nulls":13},{"$f":"IF(LEN('1 - Opstart Importark'!$B$6)>0,'1 - Opstart Importark'!$B$6,\"\")","v":""},{"$f":"IF(LEN('1 - Opstart Importark'!$B$9)>0,'1 - Opstart Importark'!$B$9,\"\")","v":""},{"$f":"IF(LEN('1 - Opstart Importark'!$B$31)>0,'1 - Opstart Importark'!$B$31,\"\")","v":""},{"$nulls":12},"",{"$nulls":8},0,"","","objektnogle_"]
[746,null,{"$f":"IF('1 - Opstart Importark'!$B$6=\"\",\"\",(IF('1 - Opstart Importark'!$B$15=\"\",CONCATENATE(LEFT('1 - Opstart Importark'!$B$3,1),(LEFT('1 - Opstart Importark'!$B$24,2)),LEFT('1 - Opstart Importark'!$B$28,3),IF(I757=\"\",\"\",\"-\"),I757,IF(K757=\"\",\"\",\"-\"),K757,IF(M757=\"\",\"\",\"-\"),M757,IF(O757=\"\",\"\",\"-\"),O757),CONCATENATE(LEFT('1 - Opstart Importark'!$B$3,1),(LEFT('1 - Opstart Importark'!$B$15,2)),(LEFT('1 - Opstart Importark'!$B$18,3)),IF(I757=\"\",\"\",\"-\"),I757,IF(K757=\"\",\"\",\"-\"),K757,IF(M757=\"\",\"\",\"-\"),M757,IF(O757=\"\",\"\",\"-\"),O757))))","v":""},{"$nulls":13},{"$f":"IF(LEN('1 - Opstart Importark'!$B$6)>0,'1 - Opstart Importark'!$B$6,\"\")","v":""},{"$f":"IF(LEN('1 - Opstart Importark'!$B$9)>0,'1 - Opstart Importark'!$B$9,\"\")","v":""},{"$f":"IF(LEN('1 - Opstart Importark'!$B$31)>0,'1 - Opstart Importark'!$B$31,\"\")","v":""},{"$nulls":12},"",{"$nulls":8},0,"","","objektnogle_"]
[747,null,{"$f":"IF('1 - Opstart Importark'!$B$6=\"\",\"\",(IF('1 - Opstart Importark'!$B$15=\"\",CONCATENATE(LEFT('1 - Opstart Importark'!$B$3,1),(LEFT('1 - Opstart Importark'!$B$24,2)),LEFT('1 - Opstart Importark'!$B$28,3),IF(I758=\"\",\"\",\"-\"),I758,IF(K758=\"\",\"\",\"-\"),K758,IF(M758=\"\",\"\",\"-\"),M758,IF(O758=\"\",\"\",\"-\"),O758),CONCATENATE(LEFT('1 - Opstart Importark'!$B$3,1),(LEFT('1 - Opstart Importark'!$B$15,2)),(LEFT('1 - Opstart Importark'!$B$18,3)),IF(I758=\"\",\"\",\"-\"),I758,IF(K758=\"\",\"\",\"-\"),K758,IF(M758=\"\",\"\",\"-\"),M758,IF(O758=\"\",\"\",\"-\"),O758))))","v":""},{"$nulls":13},{"$f":"IF(LEN('1 - Opstart Importark'!$B$6)>0,'1 - Opstart Importark'!$B$6,\"\")","v":""},{"$f":"IF(LEN('1 - Opstart Importark'!$B$9)>0,'1 - Opstart Importark'!$B$9,\"\")","v":""},{"$f":"IF(LEN('1 - Opstart Importark'!$B$31)>0,'1 - Opstart Importark'!$B$31,\"\")","v":""},{"$nulls":12},"",{"$nulls":8},0,"","","objektnogle_"]
[748,null,{"$f":"IF('1 - Opstart Importark'!$B$6=\"\",\"\",(IF('1 - Opstart Importark'!$B$15=\"\",CONCATENATE(LEFT('1 - Opstart Importark'!$B$3,1),(LEFT('1 - Opstart Importark'!$B$24,2)),LEFT('1 - Opstart Importark'!$B$28,3),IF(I759=\"\",\"\",\"-\"),I759,IF(K759=\"\",\"\",\"-\"),K759,IF(M759=\"\",\"\",\"-\"),M759,IF(O759=\"\",\"\",\"-\"),O759),CONCATENATE(LEFT('1 - Opstart Importark'!$B$3,1),(LEFT('1 - Opstart Importark'!$B$15,2)),(LEFT('1 - Opstart Importark'!$B$18,3)),IF(I759=\"\",\"\",\"-\"),I759,IF(K759=\"\",\"\",\"-\"),K759,IF(M759=\"\",\"\",\"-\"),M759,IF(O759=\"\",\"\",\"-\"),O759))))","v":""},{"$nulls":13},{"$f":"IF(LEN('1 - Opstart Importark'!$B$6)>0,'1 - Opstart Importark'!$B$6,\"\")","v":""},{"$f":"IF(LEN('1 - Opstart Importark'!$B$9)>0,'1 - Opstart Importark'!$B$9,\"\")","v":""},{"$f":"IF(LEN('1 - Opstart Importark'!$B$31)>0,'1 - Opstart Importark'!$B$31,\"\")","v":""},{"$nulls":12},"",{"$nulls":8},0,"","","objektnogle_"]
[749,null,{"$f":"IF('1 - Opstart Importark'!$B$6=\"\",\"\",(IF('1 - Opstart Importark'!$B$15=\"\",CONCATENATE(LEFT('1 - Opstart Importark'!$B$3,1),(LEFT('1 - Opstart Importark'!$B$24,2)),LEFT('1 - Opstart Importark'!$B$28,3),IF(I760=\"\",\"\",\"-\"),I760,IF(K760=\"\",\"\",\"-\"),K760,IF(M760=\"\",\"\",\"-\"),M760,IF(O760=\"\",\"\",\"-\"),O760),CONCATENATE(LEFT('1 - Opstart Importark'!$B$3,1),(LEFT('1 - Opstart Importark'!$B$15,2)),(LEFT('1 - Opstart Importark'!$B$18,3)),IF(I760=\"\",\"\",\"-\"),I760,IF(K760=\"\",\"\",\"-\"),K760,IF(M760=\"\",\"\",\"-\"),M760,IF(O760=\"\",\"\",\"-\"),O760))))","v":""},{"$nulls":13},{"$f":"IF(LEN('1 - Opstart Importark'!$B$6)>0,'1 - Opstart Importark'!$B$6,\"\")","v":""},{"$f":"IF(LEN('1 - Opstart Importark'!$B$9)>0,'1 - Opstart Importark'!$B$9,\"\")","v":""},{"$f":"IF(LEN('1 - Opstart Importark'!$B$31)>0,'1 - Opstart Importark'!$B$31,\"\")","v":""},{"$nulls":12},"",{"$nulls":8},0,"","","objektnogle_"]
[750,null,{"$f":"IF('1 - Opstart Importark'!$B$6=\"\",\"\",(IF('1 - Opstart Importark'!$B$15=\"\",CONCATENATE(LEFT('1 - Opstart Importark'!$B$3,1),(LEFT('1 - Opstart Importark'!$B$24,2)),LEFT('1 - Opstart Importark'!$B$28,3),IF(I761=\"\",\"\",\"-\"),I761,IF(K761=\"\",\"\",\"-\"),K761,IF(M761=\"\",\"\",\"-\"),M761,IF(O761=\"\",\"\",\"-\"),O761),CONCATENATE(LEFT('1 - Opstart Importark'!$B$3,1),(LEFT('1 - Opstart Importark'!$B$15,2)),(LEFT('1 - Opstart Importark'!$B$18,3)),IF(I761=\"\",\"\",\"-\"),I761,IF(K761=\"\",\"\",\"-\"),K761,IF(M761=\"\",\"\",\"-\"),M761,IF(O761=\"\",\"\",\"-\"),O761))))","v":""},{"$nulls":13},{"$f":"IF(LEN('1 - Opstart Importark'!$B$6)>0,'1 - Opstart Importark'!$B$6,\"\")","v":""},{"$f":"IF(LEN('1 - Opstart Importark'!$B$9)>0,'1 - Opstart Importark'!$B$9,\"\")","v":""},{"$f":"IF(LEN('1 - Opstart Importark'!$B$31)>0,'1 - Opstart Importark'!$B$31,\"\")","v":""},{"$nulls":12},"",{"$nulls":8},0,"","","objektnogle_"]
[751,null,{"$f":"IF('1 - Opstart Importark'!$B$6=\"\",\"\",(IF('1 - Opstart Importark'!$B$15=\"\",CONCATENATE(LEFT('1 - Opstart Importark'!$B$3,1),(LEFT('1 - Opstart Importark'!$B$24,2)),LEFT('1 - Opstart Importark'!$B$28,3),IF(I762=\"\",\"\",\"-\"),I762,IF(K762=\"\",\"\",\"-\"),K762,IF(M762=\"\",\"\",\"-\"),M762,IF(O762=\"\",\"\",\"-\"),O762),CONCATENATE(LEFT('1 - Opstart Importark'!$B$3,1),(LEFT('1 - Opstart Importark'!$B$15,2)),(LEFT('1 - Opstart Importark'!$B$18,3)),IF(I762=\"\",\"\",\"-\"),I762,IF(K762=\"\",\"\",\"-\"),K762,IF(M762=\"\",\"\",\"-\"),M762,IF(O762=\"\",\"\",\"-\"),O762))))","v":""},{"$nulls":13},{"$f":"IF(LEN('1 - Opstart Importark'!$B$6)>0,'1 - Opstart Importark'!$B$6,\"\")","v":""},{"$f":"IF(LEN('1 - Opstart Importark'!$B$9)>0,'1 - Opstart Importark'!$B$9,\"\")","v":""},{"$f":"IF(LEN('1 - Opstart Importark'!$B$31)>0,'1 - Opstart Importark'!$B$31,\"\")","v":""},{"$nulls":12},"",{"$nulls":8},0,"","","objektnogle_"]
[752,null,{"$f":"IF('1 - Opstart Importark'!$B$6=\"\",\"\",(IF('1 - Opstart Importark'!$B$15=\"\",CONCATENATE(LEFT('1 - Opstart Importark'!$B$3,1),(LEFT('1 - Opstart Importark'!$B$24,2)),LEFT('1 - Opstart Importark'!$B$28,3),IF(I763=\"\",\"\",\"-\"),I763,IF(K763=\"\",\"\",\"-\"),K763,IF(M763=\"\",\"\",\"-\"),M763,IF(O763=\"\",\"\",\"-\"),O763),CONCATENATE(LEFT('1 - Opstart Importark'!$B$3,1),(LEFT('1 - Opstart Importark'!$B$15,2)),(LEFT('1 - Opstart Importark'!$B$18,3)),IF(I763=\"\",\"\",\"-\"),I763,IF(K763=\"\",\"\",\"-\"),K763,IF(M763=\"\",\"\",\"-\"),M763,IF(O763=\"\",\"\",\"-\"),O763))))","v":""},{"$nulls":13},{"$f":"IF(LEN('1 - Opstart Importark'!$B$6)>0,'1 - Opstart Importark'!$B$6,\"\")","v":""},{"$f":"IF(LEN('1 - Opstart Importark'!$B$9)>0,'1 - Opstart Importark'!$B$9,\"\")","v":""},{"$f":"IF(LEN('1 - Opstart Importark'!$B$31)>0,'1 - Opstart Importark'!$B$31,\"\")","v":""},{"$nulls":12},"",{"$nulls":8},0,"","","objektnogle_"]
[753,null,{"$f":"IF('1 - Opstart Importark'!$B$6=\"\",\"\",(IF('1 - Opstart Importark'!$B$15=\"\",CONCATENATE(LEFT('1 - Opstart Importark'!$B$3,1),(LEFT('1 - Opstart Importark'!$B$24,2)),LEFT('1 - Opstart Importark'!$B$28,3),IF(I764=\"\",\"\",\"-\"),I764,IF(K764=\"\",\"\",\"-\"),K764,IF(M764=\"\",\"\",\"-\"),M764,IF(O764=\"\",\"\",\"-\"),O764),CONCATENATE(LEFT('1 - Opstart Importark'!$B$3,1),(LEFT('1 - Opstart Importark'!$B$15,2)),(LEFT('1 - Opstart Importark'!$B$18,3)),IF(I764=\"\",\"\",\"-\"),I764,IF(K764=\"\",\"\",\"-\"),K764,IF(M764=\"\",\"\",\"-\"),M764,IF(O764=\"\",\"\",\"-\"),O764))))","v":""},{"$nulls":13},{"$f":"IF(LEN('1 - Opstart Importark'!$B$6)>0,'1 - Opstart Importark'!$B$6,\"\")","v":""},{"$f":"IF(LEN('1 - Opstart Importark'!$B$9)>0,'1 - Opstart Importark'!$B$9,\"\")","v":""},{"$f":"IF(LEN('1 - Opstart Importark'!$B$31)>0,'1 - Opstart Importark'!$B$31,\"\")","v":""},{"$nulls":12},"",{"$nulls":8},0,"","","objektnogle_"]
[754,null,{"$f":"IF('1 - Opstart Importark'!$B$6=\"\",\"\",(IF('1 - Opstart Importark'!$B$15=\"\",CONCATENATE(LEFT('1 - Opstart Importark'!$B$3,1),(LEFT('1 - Opstart Importark'!$B$24,2)),LEFT('1 - Opstart Importark'!$B$28,3),IF(I765=\"\",\"\",\"-\"),I765,IF(K765=\"\",\"\",\"-\"),K765,IF(M765=\"\",\"\",\"-\"),M765,IF(O765=\"\",\"\",\"-\"),O765),CONCATENATE(LEFT('1 - Opstart Importark'!$B$3,1),(LEFT('1 - Opstart Importark'!$B$15,2)),(LEFT('1 - Opstart Importark'!$B$18,3)),IF(I765=\"\",\"\",\"-\"),I765,IF(K765=\"\",\"\",\"-\"),K765,IF(M765=\"\",\"\",\"-\"),M765,IF(O765=\"\",\"\",\"-\"),O765))))","v":""},{"$nulls":13},{"$f":"IF(LEN('1 - Opstart Importark'!$B$6)>0,'1 - Opstart Importark'!$B$6,\"\")","v":""},{"$f":"IF(LEN('1 - Opstart Importark'!$B$9)>0,'1 - Opstart Importark'!$B$9,\"\")","v":""},{"$f":"IF(LEN('1 - Opstart Importark'!$B$31)>0,'1 - Opstart Importark'!$B$31,\"\")","v":""},{"$nulls":12},"",{"$nulls":8},0,"","","objektnogle_"]
[755,null,{"$f":"IF('1 - Opstart Importark'!$B$6=\"\",\"\",(IF('1 - Opstart Importark'!$B$15=\"\",CONCATENATE(LEFT('1 - Opstart Importark'!$B$3,1),(LEFT('1 - Opstart Importark'!$B$24,2)),LEFT('1 - Opstart Importark'!$B$28,3),IF(I766=\"\",\"\",\"-\"),I766,IF(K766=\"\",\"\",\"-\"),K766,IF(M766=\"\",\"\",\"-\"),M766,IF(O766=\"\",\"\",\"-\"),O766),CONCATENATE(LEFT('1 - Opstart Importark'!$B$3,1),(LEFT('1 - Opstart Importark'!$B$15,2)),(LEFT('1 - Opstart Importark'!$B$18,3)),IF(I766=\"\",\"\",\"-\"),I766,IF(K766=\"\",\"\",\"-\"),K766,IF(M766=\"\",\"\",\"-\"),M766,IF(O766=\"\",\"\",\"-\"),O766))))","v":""},{"$nulls":13},{"$f":"IF(LEN('1 - Opstart Importark'!$B$6)>0,'1 - Opstart Importark'!$B$6,\"\")","v":""},{"$f":"IF(LEN('1 - Opstart Importark'!$B$9)>0,'1 - Opstart Importark'!$B$9,\"\")","v":""},{"$f":"IF(LEN('1 - Opstart Importark'!$B$31)>0,'1 - Opstart Importark'!$B$31,\"\")","v":""},{"$nulls":12},"",{"$nulls":8},0,"","","objektnogle_"]
[756,null,{"$f":"IF('1 - Opstart Importark'!$B$6=\"\",\"\",(IF('1 - Opstart Importark'!$B$15=\"\",CONCATENATE(LEFT('1 - Opstart Importark'!$B$3,1),(LEFT('1 - Opstart Importark'!$B$24,2)),LEFT('1 - Opstart Importark'!$B$28,3),IF(I767=\"\",\"\",\"-\"),I767,IF(K767=\"\",\"\",\"-\"),K767,IF(M767=\"\",\"\",\"-\"),M767,IF(O767=\"\",\"\",\"-\"),O767),CONCATENATE(LEFT('1 - Opstart Importark'!$B$3,1),(LEFT('1 - Opstart Importark'!$B$15,2)),(LEFT('1 - Opstart Importark'!$B$18,3)),IF(I767=\"\",\"\",\"-\"),I767,IF(K767=\"\",\"\",\"-\"),K767,IF(M767=\"\",\"\",\"-\"),M767,IF(O767=\"\",\"\",\"-\"),O767))))","v":""},{"$nulls":13},{"$f":"IF(LEN('1 - Opstart Importark'!$B$6)>0,'1 - Opstart Importark'!$B$6,\"\")","v":""},{"$f":"IF(LEN('1 - Opstart Importark'!$B$9)>0,'1 - Opstart Importark'!$B$9,\"\")","v":""},{"$f":"IF(LEN('1 - Opstart Importark'!$B$31)>0,'1 - Opstart Importark'!$B$31,\"\")","v":""},{"$nulls":12},"",{"$nulls":8},0,"","","objektnogle_"]
[757,null,{"$f":"IF('1 - Opstart Importark'!$B$6=\"\",\"\",(IF('1 - Opstart Importark'!$B$15=\"\",CONCATENATE(LEFT('1 - Opstart Importark'!$B$3,1),(LEFT('1 - Opstart Importark'!$B$24,2)),LEFT('1 - Opstart Importark'!$B$28,3),IF(I768=\"\",\"\",\"-\"),I768,IF(K768=\"\",\"\",\"-\"),K768,IF(M768=\"\",\"\",\"-\"),M768,IF(O768=\"\",\"\",\"-\"),O768),CONCATENATE(LEFT('1 - Opstart Importark'!$B$3,1),(LEFT('1 - Opstart Importark'!$B$15,2)),(LEFT('1 - Opstart Importark'!$B$18,3)),IF(I768=\"\",\"\",\"-\"),I768,IF(K768=\"\",\"\",\"-\"),K768,IF(M768=\"\",\"\",\"-\"),M768,IF(O768=\"\",\"\",\"-\"),O768))))","v":""},{"$nulls":13},{"$f":"IF(LEN('1 - Opstart Importark'!$B$6)>0,'1 - Opstart Importark'!$B$6,\"\")","v":""},{"$f":"IF(LEN('1 - Opstart Importark'!$B$9)>0,'1 - Opstart Importark'!$B$9,\"\")","v":""},{"$f":"IF(LEN('1 - Opstart Importark'!$B$31)>0,'1 - Opstart Importark'!$B$31,\"\")","v":""},{"$nulls":12},"",{"$nulls":8},0,"","","objektnogle_"]
[758,null,{"$f":"IF('1 - Opstart Importark'!$B$6=\"\",\"\",(IF('1 - Opstart Importark'!$B$15=\"\",CONCATENATE(LEFT('1 - Opstart Importark'!$B$3,1),(LEFT('1 - Opstart Importark'!$B$24,2)),LEFT('1 - Opstart Importark'!$B$28,3),IF(I769=\"\",\"\",\"-\"),I769,IF(K769=\"\",\"\",\"-\"),K769,IF(M769=\"\",\"\",\"-\"),M769,IF(O769=\"\",\"\",\"-\"),O769),CONCATENATE(LEFT('1 - Opstart Importark'!$B$3,1),(LEFT('1 - Opstart Importark'!$B$15,2)),(LEFT('1 - Opstart Importark'!$B$18,3)),IF(I769=\"\",\"\",\"-\"),I769,IF(K769=\"\",\"\",\"-\"),K769,IF(M769=\"\",\"\",\"-\"),M769,IF(O769=\"\",\"\",\"-\"),O769))))","v":""},{"$nulls":13},{"$f":"IF(LEN('1 - Opstart Importark'!$B$6)>0,'1 - Opstart Importark'!$B$6,\"\")","v":""},{"$f":"IF(LEN('1 - Opstart Importark'!$B$9)>0,'1 - Opstart Importark'!$B$9,\"\")","v":""},{"$f":"IF(LEN('1 - Opstart Importark'!$B$31)>0,'1 - Opstart Importark'!$B$31,\"\")","v":""},{"$nulls":12},"",{"$nulls":8},0,"","","objektnogle_"]
[759,null,{"$f":"IF('1 - Opstart Importark'!$B$6=\"\",\"\",(IF('1 - Opstart Importark'!$B$15=\"\",CONCATENATE(LEFT('1 - Opstart Importark'!$B$3,1),(LEFT('1 - Opstart Importark'!$B$24,2)),LEFT('1 - Opstart Importark'!$B$28,3),IF(I770=\"\",\"\",\"-\"),I770,IF(K770=\"\",\"\",\"-\"),K770,IF(M770=\"\",\"\",\"-\"),M770,IF(O770=\"\",\"\",\"-\"),O770),CONCATENATE(LEFT('1 - Opstart Importark'!$B$3,1),(LEFT('1 - Opstart Importark'!$B$15,2)),(LEFT('1 - Opstart Importark'!$B$18,3)),IF(I770=\"\",\"\",\"-\"),I770,IF(K770=\"\",\"\",\"-\"),K770,IF(M770=\"\",\"\",\"-\"),M770,IF(O770=\"\",\"\",\"-\"),O770))))","v":""},{"$nulls":13},{"$f":"IF(LEN('1 - Opstart Importark'!$B$6)>0,'1 - Opstart Importark'!$B$6,\"\")","v":""},{"$f":"IF(LEN('1 - Opstart Importark'!$B$9)>0,'1 - Opstart Importark'!$B$9,\"\")","v":""},{"$f":"IF(LEN('1 - Opstart Importark'!$B$31)>0,'1 - Opstart Importark'!$B$31,\"\")","v":""},{"$nulls":12},"",{"$nulls":8},0,"","","objektnogle_"]
[760,null,{"$f":"IF('1 - Opstart Importark'!$B$6=\"\",\"\",(IF('1 - Opstart Importark'!$B$15=\"\",CONCATENATE(LEFT('1 - Opstart Importark'!$B$3,1),(LEFT('1 - Opstart Importark'!$B$24,2)),LEFT('1 - Opstart Importark'!$B$28,3),IF(I771=\"\",\"\",\"-\"),I771,IF(K771=\"\",\"\",\"-\"),K771,IF(M771=\"\",\"\",\"-\"),M771,IF(O771=\"\",\"\",\"-\"),O771),CONCATENATE(LEFT('1 - Opstart Importark'!$B$3,1),(LEFT('1 - Opstart Importark'!$B$15,2)),(LEFT('1 - Opstart Importark'!$B$18,3)),IF(I771=\"\",\"\",\"-\"),I771,IF(K771=\"\",\"\",\"-\"),K771,IF(M771=\"\",\"\",\"-\"),M771,IF(O771=\"\",\"\",\"-\"),O771))))","v":""},{"$nulls":13},{"$f":"IF(LEN('1 - Opstart Importark'!$B$6)>0,'1 - Opstart Importark'!$B$6,\"\")","v":""},{"$f":"IF(LEN('1 - Opstart Importark'!$B$9)>0,'1 - Opstart Importark'!$B$9,\"\")","v":""},{"$f":"IF(LEN('1 - Opstart Importark'!$B$31)>0,'1 - Opstart Importark'!$B$31,\"\")","v":""},{"$nulls":12},"",{"$nulls":8},0,"","","objektnogle_"]
[761,null,{"$f":"IF('1 - Opstart Importark'!$B$6=\"\",\"\",(IF('1 - Opstart Importark'!$B$15=\"\",CONCATENATE(LEFT('1 - Opstart Importark'!$B$3,1),(LEFT('1 - Opstart Importark'!$B$24,2)),LEFT('1 - Opstart Importark'!$B$28,3),IF(I772=\"\",\"\",\"-\"),I772,IF(K772=\"\",\"\",\"-\"),K772,IF(M772=\"\",\"\",\"-\"),M772,IF(O772=\"\",\"\",\"-\"),O772),CONCATENATE(LEFT('1 - Opstart Importark'!$B$3,1),(LEFT('1 - Opstart Importark'!$B$15,2)),(LEFT('1 - Opstart Importark'!$B$18,3)),IF(I772=\"\",\"\",\"-\"),I772,IF(K772=\"\",\"\",\"-\"),K772,IF(M772=\"\",\"\",\"-\"),M772,IF(O772=\"\",\"\",\"-\"),O772))))","v":""},{"$nulls":13},{"$f":"IF(LEN('1 - Opstart Importark'!$B$6)>0,'1 - Opstart Importark'!$B$6,\"\")","v":""},{"$f":"IF(LEN('1 - Opstart Importark'!$B$9)>0,'1 - Opstart Importark'!$B$9,\"\")","v":""},{"$f":"IF(LEN('1 - Opstart Importark'!$B$31)>0,'1 - Opstart Importark'!$B$31,\"\")","v":""},{"$nulls":12},"",{"$nulls":8},0,"","","objektnogle_"]
[762,null,{"$f":"IF('1 - Opstart Importark'!$B$6=\"\",\"\",(IF('1 - Opstart Importark'!$B$15=\"\",CONCATENATE(LEFT('1 - Opstart Importark'!$B$3,1),(LEFT('1 - Opstart Importark'!$B$24,2)),LEFT('1 - Opstart Importark'!$B$28,3),IF(I773=\"\",\"\",\"-\"),I773,IF(K773=\"\",\"\",\"-\"),K773,IF(M773=\"\",\"\",\"-\"),M773,IF(O773=\"\",\"\",\"-\"),O773),CONCATENATE(LEFT('1 - Opstart Importark'!$B$3,1),(LEFT('1 - Opstart Importark'!$B$15,2)),(LEFT('1 - Opstart Importark'!$B$18,3)),IF(I773=\"\",\"\",\"-\"),I773,IF(K773=\"\",\"\",\"-\"),K773,IF(M773=\"\",\"\",\"-\"),M773,IF(O773=\"\",\"\",\"-\"),O773))))","v":""},{"$nulls":13},{"$f":"IF(LEN('1 - Opstart Importark'!$B$6)>0,'1 - Opstart Importark'!$B$6,\"\")","v":""},{"$f":"IF(LEN('1 - Opstart Importark'!$B$9)>0,'1 - Opstart Importark'!$B$9,\"\")","v":""},{"$f":"IF(LEN('1 - Opstart Importark'!$B$31)>0,'1 - Opstart Importark'!$B$31,\"\")","v":""},{"$nulls":12},"",{"$nulls":8},0,"","","objektnogle_"]
[763,null,{"$f":"IF('1 - Opstart Importark'!$B$6=\"\",\"\",(IF('1 - Opstart Importark'!$B$15=\"\",CONCATENATE(LEFT('1 - Opstart Importark'!$B$3,1),(LEFT('1 - Opstart Importark'!$B$24,2)),LEFT('1 - Opstart Importark'!$B$28,3),IF(I774=\"\",\"\",\"-\"),I774,IF(K774=\"\",\"\",\"-\"),K774,IF(M774=\"\",\"\",\"-\"),M774,IF(O774=\"\",\"\",\"-\"),O774),CONCATENATE(LEFT('1 - Opstart Importark'!$B$3,1),(LEFT('1 - Opstart Importark'!$B$15,2)),(LEFT('1 - Opstart Importark'!$B$18,3)),IF(I774=\"\",\"\",\"-\"),I774,IF(K774=\"\",\"\",\"-\"),K774,IF(M774=\"\",\"\",\"-\"),M774,IF(O774=\"\",\"\",\"-\"),O774))))","v":""},{"$nulls":13},{"$f":"IF(LEN('1 - Opstart Importark'!$B$6)>0,'1 - Opstart Importark'!$B$6,\"\")","v":""},{"$f":"IF(LEN('1 - Opstart Importark'!$B$9)>0,'1 - Opstart Importark'!$B$9,\"\")","v":""},{"$f":"IF(LEN('1 - Opstart Importark'!$B$31)>0,'1 - Opstart Importark'!$B$31,\"\")","v":""},{"$nulls":12},"",{"$nulls":8},0,"","","objektnogle_"]
[764,null,{"$f":"IF('1 - Opstart Importark'!$B$6=\"\",\"\",(IF('1 - Opstart Importark'!$B$15=\"\",CONCATENATE(LEFT('1 - Opstart Importark'!$B$3,1),(LEFT('1 - Opstart Importark'!$B$24,2)),LEFT('1 - Opstart Importark'!$B$28,3),IF(I775=\"\",\"\",\"-\"),I775,IF(K775=\"\",\"\",\"-\"),K775,IF(M775=\"\",\"\",\"-\"),M775,IF(O775=\"\",\"\",\"-\"),O775),CONCATENATE(LEFT('1 - Opstart Importark'!$B$3,1),(LEFT('1 - Opstart Importark'!$B$15,2)),(LEFT('1 - Opstart Importark'!$B$18,3)),IF(I775=\"\",\"\",\"-\"),I775,IF(K775=\"\",\"\",\"-\"),K775,IF(M775=\"\",\"\",\"-\"),M775,IF(O775=\"\",\"\",\"-\"),O775))))","v":""},{"$nulls":13},{"$f":"IF(LEN('1 - Opstart Importark'!$B$6)>0,'1 - Opstart Importark'!$B$6,\"\")","v":""},{"$f":"IF(LEN('1 - Opstart Importark'!$B$9)>0,'1 - Opstart Importark'!$B$9,\"\")","v":""},{"$f":"IF(LEN('1 - Opstart Importark'!$B$31)>0,'1 - Opstart Importark'!$B$31,\"\")","v":""},{"$nulls":12},"",{"$nulls":8},0,"","","objektnogle_"]
[765,null,{"$f":"IF('1 - Opstart Importark'!$B$6=\"\",\"\",(IF('1 - Opstart Importark'!$B$15=\"\",CONCATENATE(LEFT('1 - Opstart Importark'!$B$3,1),(LEFT('1 - Opstart Importark'!$B$24,2)),LEFT('1 - Opstart Importark'!$B$28,3),IF(I776=\"\",\"\",\"-\"),I776,IF(K776=\"\",\"\",\"-\"),K776,IF(M776=\"\",\"\",\"-\"),M776,IF(O776=\"\",\"\",\"-\"),O776),CONCATENATE(LEFT('1 - Opstart Importark'!$B$3,1),(LEFT('1 - Opstart Importark'!$B$15,2)),(LEFT('1 - Opstart Importark'!$B$18,3)),IF(I776=\"\",\"\",\"-\"),I776,IF(K776=\"\",\"\",\"-\"),K776,IF(M776=\"\",\"\",\"-\"),M776,IF(O776=\"\",\"\",\"-\"),O776))))","v":""},{"$nulls":13},{"$f":"IF(LEN('1 - Opstart Importark'!$B$6)>0,'1 - Opstart Importark'!$B$6,\"\")","v":""},{"$f":"IF(LEN('1 - Opstart Importark'!$B$9)>0,'1 - Opstart Importark'!$B$9,\"\")","v":""},{"$f":"IF(LEN('1 - Opstart Importark'!$B$31)>0,'1 - Opstart Importark'!$B$31,\"\")","v":""},{"$nulls":12},"",{"$nulls":8},0,"","","objektnogle_"]
[766,null,{"$f":"IF('1 - Opstart Importark'!$B$6=\"\",\"\",(IF('1 - Opstart Importark'!$B$15=\"\",CONCATENATE(LEFT('1 - Opstart Importark'!$B$3,1),(LEFT('1 - Opstart Importark'!$B$24,2)),LEFT('1 - Opstart Importark'!$B$28,3),IF(I777=\"\",\"\",\"-\"),I777,IF(K777=\"\",\"\",\"-\"),K777,IF(M777=\"\",\"\",\"-\"),M777,IF(O777=\"\",\"\",\"-\"),O777),CONCATENATE(LEFT('1 - Opstart Importark'!$B$3,1),(LEFT('1 - Opstart Importark'!$B$15,2)),(LEFT('1 - Opstart Importark'!$B$18,3)),IF(I777=\"\",\"\",\"-\"),I777,IF(K777=\"\",\"\",\"-\"),K777,IF(M777=\"\",\"\",\"-\"),M777,IF(O777=\"\",\"\",\"-\"),O777))))","v":""},{"$nulls":13},{"$f":"IF(LEN('1 - Opstart Importark'!$B$6)>0,'1 - Opstart Importark'!$B$6,\"\")","v":""},{"$f":"IF(LEN('1 - Opstart Importark'!$B$9)>0,'1 - Opstart Importark'!$B$9,\"\")","v":""},{"$f":"IF(LEN('1 - Opstart Importark'!$B$31)>0,'1 - Opstart Importark'!$B$31,\"\")","v":""},{"$nulls":12},"",{"$nulls":8},0,"","","objektnogle_"]
[767,null,{"$f":"IF('1 - Opstart Importark'!$B$6=\"\",\"\",(IF('1 - Opstart Importark'!$B$15=\"\",CONCATENATE(LEFT('1 - Opstart Importark'!$B$3,1),(LEFT('1 - Opstart Importark'!$B$24,2)),LEFT('1 - Opstart Importark'!$B$28,3),IF(I778=\"\",\"\",\"-\"),I778,IF(K778=\"\",\"\",\"-\"),K778,IF(M778=\"\",\"\",\"-\"),M778,IF(O778=\"\",\"\",\"-\"),O778),CONCATENATE(LEFT('1 - Opstart Importark'!$B$3,1),(LEFT('1 - Opstart Importark'!$B$15,2)),(LEFT('1 - Opstart Importark'!$B$18,3)),IF(I778=\"\",\"\",\"-\"),I778,IF(K778=\"\",\"\",\"-\"),K778,IF(M778=\"\",\"\",\"-\"),M778,IF(O778=\"\",\"\",\"-\"),O778))))","v":""},{"$nulls":13},{"$f":"IF(LEN('1 - Opstart Importark'!$B$6)>0,'1 - Opstart Importark'!$B$6,\"\")","v":""},{"$f":"IF(LEN('1 - Opstart Importark'!$B$9)>0,'1 - Opstart Importark'!$B$9,\"\")","v":""},{"$f":"IF(LEN('1 - Opstart Importark'!$B$31)>0,'1 - Opstart Importark'!$B$31,\"\")","v":""},{"$nulls":12},"",{"$nulls":8},0,"","","objektnogle_"]
[768,null,{"$f":"IF('1 - Opstart Importark'!$B$6=\"\",\"\",(IF('1 - Opstart Importark'!$B$15=\"\",CONCATENATE(LEFT('1 - Opstart Importark'!$B$3,1),(LEFT('1 - Opstart Importark'!$B$24,2)),LEFT('1 - Opstart Importark'!$B$28,3),IF(I779=\"\",\"\",\"-\"),I779,IF(K779=\"\",\"\",\"-\"),K779,IF(M779=\"\",\"\",\"-\"),M779,IF(O779=\"\",\"\",\"-\"),O779),CONCATENATE(LEFT('1 - Opstart Importark'!$B$3,1),(LEFT('1 - Opstart Importark'!$B$15,2)),(LEFT('1 - Opstart Importark'!$B$18,3)),IF(I779=\"\",\"\",\"-\"),I779,IF(K779=\"\",\"\",\"-\"),K779,IF(M779=\"\",\"\",\"-\"),M779,IF(O779=\"\",\"\",\"-\"),O779))))","v":""},{"$nulls":13},{"$f":"IF(LEN('1 - Opstart Importark'!$B$6)>0,'1 - Opstart Importark'!$B$6,\"\")","v":""},{"$f":"IF(LEN('1 - Opstart Importark'!$B$9)>0,'1 - Opstart Importark'!$B$9,\"\")","v":""},{"$f":"IF(LEN('1 - Opstart Importark'!$B$31)>0,'1 - Opstart Importark'!$B$31,\"\")","v":""},{"$nulls":12},"",{"$nulls":8},0,"","","objektnogle_"]
[769,null,{"$f":"IF('1 - Opstart Importark'!$B$6=\"\",\"\",(IF('1 - Opstart Importark'!$B$15=\"\",CONCATENATE(LEFT('1 - Opstart Importark'!$B$3,1),(LEFT('1 - Opstart Importark'!$B$24,2)),LEFT('1 - Opstart Importark'!$B$28,3),IF(I780=\"\",\"\",\"-\"),I780,IF(K780=\"\",\"\",\"-\"),K780,IF(M780=\"\",\"\",\"-\"),M780,IF(O780=\"\",\"\",\"-\"),O780),CONCATENATE(LEFT('1 - Opstart Importark'!$B$3,1),(LEFT('1 - Opstart Importark'!$B$15,2)),(LEFT('1 - Opstart Importark'!$B$18,3)),IF(I780=\"\",\"\",\"-\"),I780,IF(K780=\"\",\"\",\"-\"),K780,IF(M780=\"\",\"\",\"-\"),M780,IF(O780=\"\",\"\",\"-\"),O780))))","v":""},{"$nulls":13},{"$f":"IF(LEN('1 - Opstart Importark'!$B$6)>0,'1 - Opstart Importark'!$B$6,\"\")","v":""},{"$f":"IF(LEN('1 - Opstart Importark'!$B$9)>0,'1 - Opstart Importark'!$B$9,\"\")","v":""},{"$f":"IF(LEN('1 - Opstart Importark'!$B$31)>0,'1 - Opstart Importark'!$B$31,\"\")","v":""},{"$nulls":12},{"$f":"IF(M780=\"\",\"\",VLOOKUP(LEFT(M780,1),objektfilter,2))","v":""},{"$nulls":8},0,"","","objektnogle_"]
[770,null,{"$f":"IF('1 - Opstart Importark'!$B$6=\"\",\"\",(IF('1 - Opstart Importark'!$B$15=\"\",CONCATENATE(LEFT('1 - Opstart Importark'!$B$3,1),(LEFT('1 - Opstart Importark'!$B$24,2)),LEFT('1 - Opstart Importark'!$B$28,3),IF(I781=\"\",\"\",\"-\"),I781,IF(K781=\"\",\"\",\"-\"),K781,IF(M781=\"\",\"\",\"-\"),M781,IF(O781=\"\",\"\",\"-\"),O781),CONCATENATE(LEFT('1 - Opstart Importark'!$B$3,1),(LEFT('1 - Opstart Importark'!$B$15,2)),(LEFT('1 - Opstart Importark'!$B$18,3)),IF(I781=\"\",\"\",\"-\"),I781,IF(K781=\"\",\"\",\"-\"),K781,IF(M781=\"\",\"\",\"-\"),M781,IF(O781=\"\",\"\",\"-\"),O781))))","v":""},{"$nulls":13},{"$f":"IF(LEN('1 - Opstart Importark'!$B$6)>0,'1 - Opstart Importark'!$B$6,\"\")","v":""},{"$f":"IF(LEN('1 - Opstart Importark'!$B$9)>0,'1 - Opstart Importark'!$B$9,\"\")","v":""},{"$f":"IF(LEN('1 - Opstart Importark'!$B$31)>0,'1 - Opstart Importark'!$B$31,\"\")","v":""},{"$nulls":12},"",{"$nulls":8},{"$f":"IFERROR(FIND(\".\",F781),)","v":0},{"$f":"IF(M781=\"\",\"\",IF(LEFT(M781,1)=\"E\",0,1))","v":""},{"$f":"IF(M781=\"\",\"\",IF(LEFT(M781,1)=\"E\",0,1))","v":""},{"$f":"IF(W781=\"\", CONCATENATE(\"objektnogle_\",LEFT(AF781,1)),CONCATENATE(\"objektnogle_\",LEFT(W781,1)))","v":"objektnogle_"}]
[771,null,{"$f":"IF('1 - Opstart Importark'!$B$6=\"\",\"\",(IF('1 - Opstart Importark'!$B$15=\"\",CONCATENATE(LEFT('1 - Opstart Importark'!$B$3,1),(LEFT('1 - Opstart Importark'!$B$24,2)),LEFT('1 - Opstart Importark'!$B$28,3),IF(I782=\"\",\"\",\"-\"),I782,IF(K782=\"\",\"\",\"-\"),K782,IF(M782=\"\",\"\",\"-\"),M782,IF(O782=\"\",\"\",\"-\"),O782),CONCATENATE(LEFT('1 - Opstart Importark'!$B$3,1),(LEFT('1 - Opstart Importark'!$B$15,2)),(LEFT('1 - Opstart Importark'!$B$18,3)),IF(I782=\"\",\"\",\"-\"),I782,IF(K782=\"\",\"\",\"-\"),K782,IF(M782=\"\",\"\",\"-\"),M782,IF(O782=\"\",\"\",\"-\"),O782))))","v":""},{"$nulls":13},{"$f":"IF(LEN('1 - Opstart Importark'!$B$6)>0,'1 - Opstart Importark'!$B$6,\"\")","v":""},{"$f":"IF(LEN('1 - Opstart Importark'!$B$9)>0,'1 - Opstart Importark'!$B$9,\"\")","v":""},{"$f":"IF(LEN('1 - Opstart Importark'!$B$31)>0,'1 - Opstart Importark'!$B$31,\"\")","v":""},{"$nulls":12},"",{"$nulls":8},0,"","","objektnogle_"]
[772,null,{"$f":"IF('1 - Opstart Importark'!$B$6=\"\",\"\",(IF('1 - Opstart Importark'!$B$15=\"\",CONCATENATE(LEFT('1 - Opstart Importark'!$B$3,1),(LEFT('1 - Opstart Importark'!$B$24,2)),LEFT('1 - Opstart Importark'!$B$28,3),IF(I783=\"\",\"\",\"-\"),I783,IF(K783=\"\",\"\",\"-\"),K783,IF(M783=\"\",\"\",\"-\"),M783,IF(O783=\"\",\"\",\"-\"),O783),CONCATENATE(LEFT('1 - Opstart Importark'!$B$3,1),(LEFT('1 - Opstart Importark'!$B$15,2)),(LEFT('1 - Opstart Importark'!$B$18,3)),IF(I783=\"\",\"\",\"-\"),I783,IF(K783=\"\",\"\",\"-\"),K783,IF(M783=\"\",\"\",\"-\"),M783,IF(O783=\"\",\"\",\"-\"),O783))))","v":""},{"$nulls":13},{"$f":"IF(LEN('1 - Opstart Importark'!$B$6)>0,'1 - Opstart Importark'!$B$6,\"\")","v":""},{"$f":"IF(LEN('1 - Opstart Importark'!$B$9)>0,'1 - Opstart Importark'!$B$9,\"\")","v":""},{"$f":"IF(LEN('1 - Opstart Importark'!$B$31)>0,'1 - Opstart Importark'!$B$31,\"\")","v":""},{"$nulls":12},"",{"$nulls":8},0,"","","objektnogle_"]
[773,null,{"$f":"IF('1 - Opstart Importark'!$B$6=\"\",\"\",(IF('1 - Opstart Importark'!$B$15=\"\",CONCATENATE(LEFT('1 - Opstart Importark'!$B$3,1),(LEFT('1 - Opstart Importark'!$B$24,2)),LEFT('1 - Opstart Importark'!$B$28,3),IF(I784=\"\",\"\",\"-\"),I784,IF(K784=\"\",\"\",\"-\"),K784,IF(M784=\"\",\"\",\"-\"),M784,IF(O784=\"\",\"\",\"-\"),O784),CONCATENATE(LEFT('1 - Opstart Importark'!$B$3,1),(LEFT('1 - Opstart Importark'!$B$15,2)),(LEFT('1 - Opstart Importark'!$B$18,3)),IF(I784=\"\",\"\",\"-\"),I784,IF(K784=\"\",\"\",\"-\"),K784,IF(M784=\"\",\"\",\"-\"),M784,IF(O784=\"\",\"\",\"-\"),O784))))","v":""},{"$nulls":13},{"$f":"IF(LEN('1 - Opstart Importark'!$B$6)>0,'1 - Opstart Importark'!$B$6,\"\")","v":""},{"$f":"IF(LEN('1 - Opstart Importark'!$B$9)>0,'1 - Opstart Importark'!$B$9,\"\")","v":""},{"$f":"IF(LEN('1 - Opstart Importark'!$B$31)>0,'1 - Opstart Importark'!$B$31,\"\")","v":""},{"$nulls":12},"",{"$nulls":8},0,"","","objektnogle_"]
[774,null,{"$f":"IF('1 - Opstart Importark'!$B$6=\"\",\"\",(IF('1 - Opstart Importark'!$B$15=\"\",CONCATENATE(LEFT('1 - Opstart Importark'!$B$3,1),(LEFT('1 - Opstart Importark'!$B$24,2)),LEFT('1 - Opstart Importark'!$B$28,3),IF(I785=\"\",\"\",\"-\"),I785,IF(K785=\"\",\"\",\"-\"),K785,IF(M785=\"\",\"\",\"-\"),M785,IF(O785=\"\",\"\",\"-\"),O785),CONCATENATE(LEFT('1 - Opstart Importark'!$B$3,1),(LEFT('1 - Opstart Importark'!$B$15,2)),(LEFT('1 - Opstart Importark'!$B$18,3)),IF(I785=\"\",\"\",\"-\"),I785,IF(K785=\"\",\"\",\"-\"),K785,IF(M785=\"\",\"\",\"-\"),M785,IF(O785=\"\",\"\",\"-\"),O785))))","v":""},{"$nulls":13},{"$f":"IF(LEN('1 - Opstart Importark'!$B$6)>0,'1 - Opstart Importark'!$B$6,\"\")","v":""},{"$f":"IF(LEN('1 - Opstart Importark'!$B$9)>0,'1 - Opstart Importark'!$B$9,\"\")","v":""},{"$f":"IF(LEN('1 - Opstart Importark'!$B$31)>0,'1 - Opstart Importark'!$B$31,\"\")","v":""},{"$nulls":12},"",{"$nulls":8},0,"","","objektnogle_"]
[775,null,{"$f":"IF('1 - Opstart Importark'!$B$6=\"\",\"\",(IF('1 - Opstart Importark'!$B$15=\"\",CONCATENATE(LEFT('1 - Opstart Importark'!$B$3,1),(LEFT('1 - Opstart Importark'!$B$24,2)),LEFT('1 - Opstart Importark'!$B$28,3),IF(I786=\"\",\"\",\"-\"),I786,IF(K786=\"\",\"\",\"-\"),K786,IF(M786=\"\",\"\",\"-\"),M786,IF(O786=\"\",\"\",\"-\"),O786),CONCATENATE(LEFT('1 - Opstart Importark'!$B$3,1),(LEFT('1 - Opstart Importark'!$B$15,2)),(LEFT('1 - Opstart Importark'!$B$18,3)),IF(I786=\"\",\"\",\"-\"),I786,IF(K786=\"\",\"\",\"-\"),K786,IF(M786=\"\",\"\",\"-\"),M786,IF(O786=\"\",\"\",\"-\"),O786))))","v":""},{"$nulls":13},{"$f":"IF(LEN('1 - Opstart Importark'!$B$6)>0,'1 - Opstart Importark'!$B$6,\"\")","v":""},{"$f":"IF(LEN('1 - Opstart Importark'!$B$9)>0,'1 - Opstart Importark'!$B$9,\"\")","v":""},{"$f":"IF(LEN('1 - Opstart Importark'!$B$31)>0,'1 - Opstart Importark'!$B$31,\"\")","v":""},{"$nulls":12},"",{"$nulls":8},0,"","","objektnogle_"]
[776,null,{"$f":"IF('1 - Opstart Importark'!$B$6=\"\",\"\",(IF('1 - Opstart Importark'!$B$15=\"\",CONCATENATE(LEFT('1 - Opstart Importark'!$B$3,1),(LEFT('1 - Opstart Importark'!$B$24,2)),LEFT('1 - Opstart Importark'!$B$28,3),IF(I787=\"\",\"\",\"-\"),I787,IF(K787=\"\",\"\",\"-\"),K787,IF(M787=\"\",\"\",\"-\"),M787,IF(O787=\"\",\"\",\"-\"),O787),CONCATENATE(LEFT('1 - Opstart Importark'!$B$3,1),(LEFT('1 - Opstart Importark'!$B$15,2)),(LEFT('1 - Opstart Importark'!$B$18,3)),IF(I787=\"\",\"\",\"-\"),I787,IF(K787=\"\",\"\",\"-\"),K787,IF(M787=\"\",\"\",\"-\"),M787,IF(O787=\"\",\"\",\"-\"),O787))))","v":""},{"$nulls":13},{"$f":"IF(LEN('1 - Opstart Importark'!$B$6)>0,'1 - Opstart Importark'!$B$6,\"\")","v":""},{"$f":"IF(LEN('1 - Opstart Importark'!$B$9)>0,'1 - Opstart Importark'!$B$9,\"\")","v":""},{"$f":"IF(LEN('1 - Opstart Importark'!$B$31)>0,'1 - Opstart Importark'!$B$31,\"\")","v":""},{"$nulls":12},"",{"$nulls":8},0,"","","objektnogle_"]
[777,null,{"$f":"IF('1 - Opstart Importark'!$B$6=\"\",\"\",(IF('1 - Opstart Importark'!$B$15=\"\",CONCATENATE(LEFT('1 - Opstart Importark'!$B$3,1),(LEFT('1 - Opstart Importark'!$B$24,2)),LEFT('1 - Opstart Importark'!$B$28,3),IF(I788=\"\",\"\",\"-\"),I788,IF(K788=\"\",\"\",\"-\"),K788,IF(M788=\"\",\"\",\"-\"),M788,IF(O788=\"\",\"\",\"-\"),O788),CONCATENATE(LEFT('1 - Opstart Importark'!$B$3,1),(LEFT('1 - Opstart Importark'!$B$15,2)),(LEFT('1 - Opstart Importark'!$B$18,3)),IF(I788=\"\",\"\",\"-\"),I788,IF(K788=\"\",\"\",\"-\"),K788,IF(M788=\"\",\"\",\"-\"),M788,IF(O788=\"\",\"\",\"-\"),O788))))","v":""},{"$nulls":13},{"$f":"IF(LEN('1 - Opstart Importark'!$B$6)>0,'1 - Opstart Importark'!$B$6,\"\")","v":""},{"$f":"IF(LEN('1 - Opstart Importark'!$B$9)>0,'1 - Opstart Importark'!$B$9,\"\")","v":""},{"$f":"IF(LEN('1 - Opstart Importark'!$B$31)>0,'1 - Opstart Importark'!$B$31,\"\")","v":""},{"$nulls":12},"",{"$nulls":8},0,"","","objektnogle_"]
[778,null,{"$f":"IF('1 - Opstart Importark'!$B$6=\"\",\"\",(IF('1 - Opstart Importark'!$B$15=\"\",CONCATENATE(LEFT('1 - Opstart Importark'!$B$3,1),(LEFT('1 - Opstart Importark'!$B$24,2)),LEFT('1 - Opstart Importark'!$B$28,3),IF(I789=\"\",\"\",\"-\"),I789,IF(K789=\"\",\"\",\"-\"),K789,IF(M789=\"\",\"\",\"-\"),M789,IF(O789=\"\",\"\",\"-\"),O789),CONCATENATE(LEFT('1 - Opstart Importark'!$B$3,1),(LEFT('1 - Opstart Importark'!$B$15,2)),(LEFT('1 - Opstart Importark'!$B$18,3)),IF(I789=\"\",\"\",\"-\"),I789,IF(K789=\"\",\"\",\"-\"),K789,IF(M789=\"\",\"\",\"-\"),M789,IF(O789=\"\",\"\",\"-\"),O789))))","v":""},{"$nulls":13},{"$f":"IF(LEN('1 - Opstart Importark'!$B$6)>0,'1 - Opstart Importark'!$B$6,\"\")","v":""},{"$f":"IF(LEN('1 - Opstart Importark'!$B$9)>0,'1 - Opstart Importark'!$B$9,\"\")","v":""},{"$f":"IF(LEN('1 - Opstart Importark'!$B$31)>0,'1 - Opstart Importark'!$B$31,\"\")","v":""},{"$nulls":12},"",{"$nulls":8},0,"","","objektnogle_"]
[779,null,{"$f":"IF('1 - Opstart Importark'!$B$6=\"\",\"\",(IF('1 - Opstart Importark'!$B$15=\"\",CONCATENATE(LEFT('1 - Opstart Importark'!$B$3,1),(LEFT('1 - Opstart Importark'!$B$24,2)),LEFT('1 - Opstart Importark'!$B$28,3),IF(I790=\"\",\"\",\"-\"),I790,IF(K790=\"\",\"\",\"-\"),K790,IF(M790=\"\",\"\",\"-\"),M790,IF(O790=\"\",\"\",\"-\"),O790),CONCATENATE(LEFT('1 - Opstart Importark'!$B$3,1),(LEFT('1 - Opstart Importark'!$B$15,2)),(LEFT('1 - Opstart Importark'!$B$18,3)),IF(I790=\"\",\"\",\"-\"),I790,IF(K790=\"\",\"\",\"-\"),K790,IF(M790=\"\",\"\",\"-\"),M790,IF(O790=\"\",\"\",\"-\"),O790))))","v":""},{"$nulls":13},{"$f":"IF(LEN('1 - Opstart Importark'!$B$6)>0,'1 - Opstart Importark'!$B$6,\"\")","v":""},{"$f":"IF(LEN('1 - Opstart Importark'!$B$9)>0,'1 - Opstart Importark'!$B$9,\"\")","v":""},{"$f":"IF(LEN('1 - Opstart Importark'!$B$31)>0,'1 - Opstart Importark'!$B$31,\"\")","v":""},{"$nulls":12},"",{"$nulls":8},0,"","","objektnogle_"]
[780,null,{"$f":"IF('1 - Opstart Importark'!$B$6=\"\",\"\",(IF('1 - Opstart Importark'!$B$15=\"\",CONCATENATE(LEFT('1 - Opstart Importark'!$B$3,1),(LEFT('1 - Opstart Importark'!$B$24,2)),LEFT('1 - Opstart Importark'!$B$28,3),IF(I791=\"\",\"\",\"-\"),I791,IF(K791=\"\",\"\",\"-\"),K791,IF(M791=\"\",\"\",\"-\"),M791,IF(O791=\"\",\"\",\"-\"),O791),CONCATENATE(LEFT('1 - Opstart Importark'!$B$3,1),(LEFT('1 - Opstart Importark'!$B$15,2)),(LEFT('1 - Opstart Importark'!$B$18,3)),IF(I791=\"\",\"\",\"-\"),I791,IF(K791=\"\",\"\",\"-\"),K791,IF(M791=\"\",\"\",\"-\"),M791,IF(O791=\"\",\"\",\"-\"),O791))))","v":""},{"$nulls":13},{"$f":"IF(LEN('1 - Opstart Importark'!$B$6)>0,'1 - Opstart Importark'!$B$6,\"\")","v":""},{"$f":"IF(LEN('1 - Opstart Importark'!$B$9)>0,'1 - Opstart Importark'!$B$9,\"\")","v":""},{"$f":"IF(LEN('1 - Opstart Importark'!$B$31)>0,'1 - Opstart Importark'!$B$31,\"\")","v":""},{"$nulls":12},"",{"$nulls":8},0,"","","objektnogle_"]
[781,null,{"$f":"IF('1 - Opstart Importark'!$B$6=\"\",\"\",(IF('1 - Opstart Importark'!$B$15=\"\",CONCATENATE(LEFT('1 - Opstart Importark'!$B$3,1),(LEFT('1 - Opstart Importark'!$B$24,2)),LEFT('1 - Opstart Importark'!$B$28,3),IF(I792=\"\",\"\",\"-\"),I792,IF(K792=\"\",\"\",\"-\"),K792,IF(M792=\"\",\"\",\"-\"),M792,IF(O792=\"\",\"\",\"-\"),O792),CONCATENATE(LEFT('1 - Opstart Importark'!$B$3,1),(LEFT('1 - Opstart Importark'!$B$15,2)),(LEFT('1 - Opstart Importark'!$B$18,3)),IF(I792=\"\",\"\",\"-\"),I792,IF(K792=\"\",\"\",\"-\"),K792,IF(M792=\"\",\"\",\"-\"),M792,IF(O792=\"\",\"\",\"-\"),O792))))","v":""},{"$nulls":13},{"$f":"IF(LEN('1 - Opstart Importark'!$B$6)>0,'1 - Opstart Importark'!$B$6,\"\")","v":""},{"$f":"IF(LEN('1 - Opstart Importark'!$B$9)>0,'1 - Opstart Importark'!$B$9,\"\")","v":""},{"$f":"IF(LEN('1 - Opstart Importark'!$B$31)>0,'1 - Opstart Importark'!$B$31,\"\")","v":""},{"$nulls":12},"",{"$nulls":8},0,"","","objektnogle_"]
[782,null,{"$f":"IF('1 - Opstart Importark'!$B$6=\"\",\"\",(IF('1 - Opstart Importark'!$B$15=\"\",CONCATENATE(LEFT('1 - Opstart Importark'!$B$3,1),(LEFT('1 - Opstart Importark'!$B$24,2)),LEFT('1 - Opstart Importark'!$B$28,3),IF(I793=\"\",\"\",\"-\"),I793,IF(K793=\"\",\"\",\"-\"),K793,IF(M793=\"\",\"\",\"-\"),M793,IF(O793=\"\",\"\",\"-\"),O793),CONCATENATE(LEFT('1 - Opstart Importark'!$B$3,1),(LEFT('1 - Opstart Importark'!$B$15,2)),(LEFT('1 - Opstart Importark'!$B$18,3)),IF(I793=\"\",\"\",\"-\"),I793,IF(K793=\"\",\"\",\"-\"),K793,IF(M793=\"\",\"\",\"-\"),M793,IF(O793=\"\",\"\",\"-\"),O793))))","v":""},{"$nulls":13},{"$f":"IF(LEN('1 - Opstart Importark'!$B$6)>0,'1 - Opstart Importark'!$B$6,\"\")","v":""},{"$f":"IF(LEN('1 - Opstart Importark'!$B$9)>0,'1 - Opstart Importark'!$B$9,\"\")","v":""},{"$f":"IF(LEN('1 - Opstart Importark'!$B$31)>0,'1 - Opstart Importark'!$B$31,\"\")","v":""},{"$nulls":12},"",{"$nulls":8},0,"","","objektnogle_"]
[783,null,{"$f":"IF('1 - Opstart Importark'!$B$6=\"\",\"\",(IF('1 - Opstart Importark'!$B$15=\"\",CONCATENATE(LEFT('1 - Opstart Importark'!$B$3,1),(LEFT('1 - Opstart Importark'!$B$24,2)),LEFT('1 - Opstart Importark'!$B$28,3),IF(I794=\"\",\"\",\"-\"),I794,IF(K794=\"\",\"\",\"-\"),K794,IF(M794=\"\",\"\",\"-\"),M794,IF(O794=\"\",\"\",\"-\"),O794),CONCATENATE(LEFT('1 - Opstart Importark'!$B$3,1),(LEFT('1 - Opstart Importark'!$B$15,2)),(LEFT('1 - Opstart Importark'!$B$18,3)),IF(I794=\"\",\"\",\"-\"),I794,IF(K794=\"\",\"\",\"-\"),K794,IF(M794=\"\",\"\",\"-\"),M794,IF(O794=\"\",\"\",\"-\"),O794))))","v":""},{"$nulls":13},{"$f":"IF(LEN('1 - Opstart Importark'!$B$6)>0,'1 - Opstart Importark'!$B$6,\"\")","v":""},{"$f":"IF(LEN('1 - Opstart Importark'!$B$9)>0,'1 - Opstart Importark'!$B$9,\"\")","v":""},{"$f":"IF(LEN('1 - Opstart Importark'!$B$31)>0,'1 - Opstart Importark'!$B$31,\"\")","v":""},{"$nulls":12},"",{"$nulls":8},0,"","","objektnogle_"]
[784,null,{"$f":"IF('1 - Opstart Importark'!$B$6=\"\",\"\",(IF('1 - Opstart Importark'!$B$15=\"\",CONCATENATE(LEFT('1 - Opstart Importark'!$B$3,1),(LEFT('1 - Opstart Importark'!$B$24,2)),LEFT('1 - Opstart Importark'!$B$28,3),IF(I795=\"\",\"\",\"-\"),I795,IF(K795=\"\",\"\",\"-\"),K795,IF(M795=\"\",\"\",\"-\"),M795,IF(O795=\"\",\"\",\"-\"),O795),CONCATENATE(LEFT('1 - Opstart Importark'!$B$3,1),(LEFT('1 - Opstart Importark'!$B$15,2)),(LEFT('1 - Opstart Importark'!$B$18,3)),IF(I795=\"\",\"\",\"-\"),I795,IF(K795=\"\",\"\",\"-\"),K795,IF(M795=\"\",\"\",\"-\"),M795,IF(O795=\"\",\"\",\"-\"),O795))))","v":""},{"$nulls":13},{"$f":"IF(LEN('1 - Opstart Importark'!$B$6)>0,'1 - Opstart Importark'!$B$6,\"\")","v":""},{"$f":"IF(LEN('1 - Opstart Importark'!$B$9)>0,'1 - Opstart Importark'!$B$9,\"\")","v":""},{"$f":"IF(LEN('1 - Opstart Importark'!$B$31)>0,'1 - Opstart Importark'!$B$31,\"\")","v":""},{"$nulls":12},"",{"$nulls":8},0,"","","objektnogle_"]
[785,null,{"$f":"IF('1 - Opstart Importark'!$B$6=\"\",\"\",(IF('1 - Opstart Importark'!$B$15=\"\",CONCATENATE(LEFT('1 - Opstart Importark'!$B$3,1),(LEFT('1 - Opstart Importark'!$B$24,2)),LEFT('1 - Opstart Importark'!$B$28,3),IF(I796=\"\",\"\",\"-\"),I796,IF(K796=\"\",\"\",\"-\"),K796,IF(M796=\"\",\"\",\"-\"),M796,IF(O796=\"\",\"\",\"-\"),O796),CONCATENATE(LEFT('1 - Opstart Importark'!$B$3,1),(LEFT('1 - Opstart Importark'!$B$15,2)),(LEFT('1 - Opstart Importark'!$B$18,3)),IF(I796=\"\",\"\",\"-\"),I796,IF(K796=\"\",\"\",\"-\"),K796,IF(M796=\"\",\"\",\"-\"),M796,IF(O796=\"\",\"\",\"-\"),O796))))","v":""},{"$nulls":13},{"$f":"IF(LEN('1 - Opstart Importark'!$B$6)>0,'1 - Opstart Importark'!$B$6,\"\")","v":""},{"$f":"IF(LEN('1 - Opstart Importark'!$B$9)>0,'1 - Opstart Importark'!$B$9,\"\")","v":""},{"$f":"IF(LEN('1 - Opstart Importark'!$B$31)>0,'1 - Opstart Importark'!$B$31,\"\")","v":""},{"$nulls":12},"",{"$nulls":8},0,"","","objektnogle_"]
[786,null,{"$f":"IF('1 - Opstart Importark'!$B$6=\"\",\"\",(IF('1 - Opstart Importark'!$B$15=\"\",CONCATENATE(LEFT('1 - Opstart Importark'!$B$3,1),(LEFT('1 - Opstart Importark'!$B$24,2)),LEFT('1 - Opstart Importark'!$B$28,3),IF(I797=\"\",\"\",\"-\"),I797,IF(K797=\"\",\"\",\"-\"),K797,IF(M797=\"\",\"\",\"-\"),M797,IF(O797=\"\",\"\",\"-\"),O797),CONCATENATE(LEFT('1 - Opstart Importark'!$B$3,1),(LEFT('1 - Opstart Importark'!$B$15,2)),(LEFT('1 - Opstart Importark'!$B$18,3)),IF(I797=\"\",\"\",\"-\"),I797,IF(K797=\"\",\"\",\"-\"),K797,IF(M797=\"\",\"\",\"-\"),M797,IF(O797=\"\",\"\",\"-\"),O797))))","v":""},{"$nulls":13},{"$f":"IF(LEN('1 - Opstart Importark'!$B$6)>0,'1 - Opstart Importark'!$B$6,\"\")","v":""},{"$f":"IF(LEN('1 - Opstart Importark'!$B$9)>0,'1 - Opstart Importark'!$B$9,\"\")","v":""},{"$f":"IF(LEN('1 - Opstart Importark'!$B$31)>0,'1 - Opstart Importark'!$B$31,\"\")","v":""},{"$nulls":12},"",{"$nulls":8},0,"","","objektnogle_"]
[787,null,{"$f":"IF('1 - Opstart Importark'!$B$6=\"\",\"\",(IF('1 - Opstart Importark'!$B$15=\"\",CONCATENATE(LEFT('1 - Opstart Importark'!$B$3,1),(LEFT('1 - Opstart Importark'!$B$24,2)),LEFT('1 - Opstart Importark'!$B$28,3),IF(I798=\"\",\"\",\"-\"),I798,IF(K798=\"\",\"\",\"-\"),K798,IF(M798=\"\",\"\",\"-\"),M798,IF(O798=\"\",\"\",\"-\"),O798),CONCATENATE(LEFT('1 - Opstart Importark'!$B$3,1),(LEFT('1 - Opstart Importark'!$B$15,2)),(LEFT('1 - Opstart Importark'!$B$18,3)),IF(I798=\"\",\"\",\"-\"),I798,IF(K798=\"\",\"\",\"-\"),K798,IF(M798=\"\",\"\",\"-\"),M798,IF(O798=\"\",\"\",\"-\"),O798))))","v":""},{"$nulls":13},{"$f":"IF(LEN('1 - Opstart Importark'!$B$6)>0,'1 - Opstart Importark'!$B$6,\"\")","v":""},{"$f":"IF(LEN('1 - Opstart Importark'!$B$9)>0,'1 - Opstart Importark'!$B$9,\"\")","v":""},{"$f":"IF(LEN('1 - Opstart Importark'!$B$31)>0,'1 - Opstart Importark'!$B$31,\"\")","v":""},{"$nulls":12},"",{"$nulls":8},0,"","","objektnogle_"]
[788,null,{"$f":"IF('1 - Opstart Importark'!$B$6=\"\",\"\",(IF('1 - Opstart Importark'!$B$15=\"\",CONCATENATE(LEFT('1 - Opstart Importark'!$B$3,1),(LEFT('1 - Opstart Importark'!$B$24,2)),LEFT('1 - Opstart Importark'!$B$28,3),IF(I799=\"\",\"\",\"-\"),I799,IF(K799=\"\",\"\",\"-\"),K799,IF(M799=\"\",\"\",\"-\"),M799,IF(O799=\"\",\"\",\"-\"),O799),CONCATENATE(LEFT('1 - Opstart Importark'!$B$3,1),(LEFT('1 - Opstart Importark'!$B$15,2)),(LEFT('1 - Opstart Importark'!$B$18,3)),IF(I799=\"\",\"\",\"-\"),I799,IF(K799=\"\",\"\",\"-\"),K799,IF(M799=\"\",\"\",\"-\"),M799,IF(O799=\"\",\"\",\"-\"),O799))))","v":""},{"$nulls":13},{"$f":"IF(LEN('1 - Opstart Importark'!$B$6)>0,'1 - Opstart Importark'!$B$6,\"\")","v":""},{"$f":"IF(LEN('1 - Opstart Importark'!$B$9)>0,'1 - Opstart Importark'!$B$9,\"\")","v":""},{"$f":"IF(LEN('1 - Opstart Importark'!$B$31)>0,'1 - Opstart Importark'!$B$31,\"\")","v":""},{"$nulls":12},"",{"$nulls":8},0,"","","objektnogle_"]
[789,null,{"$f":"IF('1 - Opstart Importark'!$B$6=\"\",\"\",(IF('1 - Opstart Importark'!$B$15=\"\",CONCATENATE(LEFT('1 - Opstart Importark'!$B$3,1),(LEFT('1 - Opstart Importark'!$B$24,2)),LEFT('1 - Opstart Importark'!$B$28,3),IF(I800=\"\",\"\",\"-\"),I800,IF(K800=\"\",\"\",\"-\"),K800,IF(M800=\"\",\"\",\"-\"),M800,IF(O800=\"\",\"\",\"-\"),O800),CONCATENATE(LEFT('1 - Opstart Importark'!$B$3,1),(LEFT('1 - Opstart Importark'!$B$15,2)),(LEFT('1 - Opstart Importark'!$B$18,3)),IF(I800=\"\",\"\",\"-\"),I800,IF(K800=\"\",\"\",\"-\"),K800,IF(M800=\"\",\"\",\"-\"),M800,IF(O800=\"\",\"\",\"-\"),O800))))","v":""},{"$nulls":13},{"$f":"IF(LEN('1 - Opstart Importark'!$B$6)>0,'1 - Opstart Importark'!$B$6,\"\")","v":""},{"$f":"IF(LEN('1 - Opstart Importark'!$B$9)>0,'1 - Opstart Importark'!$B$9,\"\")","v":""},{"$f":"IF(LEN('1 - Opstart Importark'!$B$31)>0,'1 - Opstart Importark'!$B$31,\"\")","v":""},{"$nulls":12},"",{"$nulls":8},0,"","","objektnogle_"]
[790,null,{"$f":"IF('1 - Opstart Importark'!$B$6=\"\",\"\",(IF('1 - Opstart Importark'!$B$15=\"\",CONCATENATE(LEFT('1 - Opstart Importark'!$B$3,1),(LEFT('1 - Opstart Importark'!$B$24,2)),LEFT('1 - Opstart Importark'!$B$28,3),IF(I801=\"\",\"\",\"-\"),I801,IF(K801=\"\",\"\",\"-\"),K801,IF(M801=\"\",\"\",\"-\"),M801,IF(O801=\"\",\"\",\"-\"),O801),CONCATENATE(LEFT('1 - Opstart Importark'!$B$3,1),(LEFT('1 - Opstart Importark'!$B$15,2)),(LEFT('1 - Opstart Importark'!$B$18,3)),IF(I801=\"\",\"\",\"-\"),I801,IF(K801=\"\",\"\",\"-\"),K801,IF(M801=\"\",\"\",\"-\"),M801,IF(O801=\"\",\"\",\"-\"),O801))))","v":""},{"$nulls":13},{"$f":"IF(LEN('1 - Opstart Importark'!$B$6)>0,'1 - Opstart Importark'!$B$6,\"\")","v":""},{"$f":"IF(LEN('1 - Opstart Importark'!$B$9)>0,'1 - Opstart Importark'!$B$9,\"\")","v":""},{"$f":"IF(LEN('1 - Opstart Importark'!$B$31)>0,'1 - Opstart Importark'!$B$31,\"\")","v":""},{"$nulls":12},"",{"$nulls":8},0,"","","objektnogle_"]
[791,null,{"$f":"IF('1 - Opstart Importark'!$B$6=\"\",\"\",(IF('1 - Opstart Importark'!$B$15=\"\",CONCATENATE(LEFT('1 - Opstart Importark'!$B$3,1),(LEFT('1 - Opstart Importark'!$B$24,2)),LEFT('1 - Opstart Importark'!$B$28,3),IF(I802=\"\",\"\",\"-\"),I802,IF(K802=\"\",\"\",\"-\"),K802,IF(M802=\"\",\"\",\"-\"),M802,IF(O802=\"\",\"\",\"-\"),O802),CONCATENATE(LEFT('1 - Opstart Importark'!$B$3,1),(LEFT('1 - Opstart Importark'!$B$15,2)),(LEFT('1 - Opstart Importark'!$B$18,3)),IF(I802=\"\",\"\",\"-\"),I802,IF(K802=\"\",\"\",\"-\"),K802,IF(M802=\"\",\"\",\"-\"),M802,IF(O802=\"\",\"\",\"-\"),O802))))","v":""},{"$nulls":13},{"$f":"IF(LEN('1 - Opstart Importark'!$B$6)>0,'1 - Opstart Importark'!$B$6,\"\")","v":""},{"$f":"IF(LEN('1 - Opstart Importark'!$B$9)>0,'1 - Opstart Importark'!$B$9,\"\")","v":""},{"$f":"IF(LEN('1 - Opstart Importark'!$B$31)>0,'1 - Opstart Importark'!$B$31,\"\")","v":""},{"$nulls":12},"",{"$nulls":8},0,"","","objektnogle_"]
[792,null,{"$f":"IF('1 - Opstart Importark'!$B$6=\"\",\"\",(IF('1 - Opstart Importark'!$B$15=\"\",CONCATENATE(LEFT('1 - Opstart Importark'!$B$3,1),(LEFT('1 - Opstart Importark'!$B$24,2)),LEFT('1 - Opstart Importark'!$B$28,3),IF(I803=\"\",\"\",\"-\"),I803,IF(K803=\"\",\"\",\"-\"),K803,IF(M803=\"\",\"\",\"-\"),M803,IF(O803=\"\",\"\",\"-\"),O803),CONCATENATE(LEFT('1 - Opstart Importark'!$B$3,1),(LEFT('1 - Opstart Importark'!$B$15,2)),(LEFT('1 - Opstart Importark'!$B$18,3)),IF(I803=\"\",\"\",\"-\"),I803,IF(K803=\"\",\"\",\"-\"),K803,IF(M803=\"\",\"\",\"-\"),M803,IF(O803=\"\",\"\",\"-\"),O803))))","v":""},{"$nulls":13},{"$f":"IF(LEN('1 - Opstart Importark'!$B$6)>0,'1 - Opstart Importark'!$B$6,\"\")","v":""},{"$f":"IF(LEN('1 - Opstart Importark'!$B$9)>0,'1 - Opstart Importark'!$B$9,\"\")","v":""},{"$f":"IF(LEN('1 - Opstart Importark'!$B$31)>0,'1 - Opstart Importark'!$B$31,\"\")","v":""},{"$nulls":12},"",{"$nulls":8},0,"","","objektnogle_"]
[793,null,{"$f":"IF('1 - Opstart Importark'!$B$6=\"\",\"\",(IF('1 - Opstart Importark'!$B$15=\"\",CONCATENATE(LEFT('1 - Opstart Importark'!$B$3,1),(LEFT('1 - Opstart Importark'!$B$24,2)),LEFT('1 - Opstart Importark'!$B$28,3),IF(I804=\"\",\"\",\"-\"),I804,IF(K804=\"\",\"\",\"-\"),K804,IF(M804=\"\",\"\",\"-\"),M804,IF(O804=\"\",\"\",\"-\"),O804),CONCATENATE(LEFT('1 - Opstart Importark'!$B$3,1),(LEFT('1 - Opstart Importark'!$B$15,2)),(LEFT('1 - Opstart Importark'!$B$18,3)),IF(I804=\"\",\"\",\"-\"),I804,IF(K804=\"\",\"\",\"-\"),K804,IF(M804=\"\",\"\",\"-\"),M804,IF(O804=\"\",\"\",\"-\"),O804))))","v":""},{"$nulls":13},{"$f":"IF(LEN('1 - Opstart Importark'!$B$6)>0,'1 - Opstart Importark'!$B$6,\"\")","v":""},{"$f":"IF(LEN('1 - Opstart Importark'!$B$9)>0,'1 - Opstart Importark'!$B$9,\"\")","v":""},{"$f":"IF(LEN('1 - Opstart Importark'!$B$31)>0,'1 - Opstart Importark'!$B$31,\"\")","v":""},{"$nulls":12},"",{"$nulls":8},0,"","","objektnogle_"]
[794,null,{"$f":"IF('1 - Opstart Importark'!$B$6=\"\",\"\",(IF('1 - Opstart Importark'!$B$15=\"\",CONCATENATE(LEFT('1 - Opstart Importark'!$B$3,1),(LEFT('1 - Opstart Importark'!$B$24,2)),LEFT('1 - Opstart Importark'!$B$28,3),IF(I805=\"\",\"\",\"-\"),I805,IF(K805=\"\",\"\",\"-\"),K805,IF(M805=\"\",\"\",\"-\"),M805,IF(O805=\"\",\"\",\"-\"),O805),CONCATENATE(LEFT('1 - Opstart Importark'!$B$3,1),(LEFT('1 - Opstart Importark'!$B$15,2)),(LEFT('1 - Opstart Importark'!$B$18,3)),IF(I805=\"\",\"\",\"-\"),I805,IF(K805=\"\",\"\",\"-\"),K805,IF(M805=\"\",\"\",\"-\"),M805,IF(O805=\"\",\"\",\"-\"),O805))))","v":""},{"$nulls":13},{"$f":"IF(LEN('1 - Opstart Importark'!$B$6)>0,'1 - Opstart Importark'!$B$6,\"\")","v":""},{"$f":"IF(LEN('1 - Opstart Importark'!$B$9)>0,'1 - Opstart Importark'!$B$9,\"\")","v":""},{"$f":"IF(LEN('1 - Opstart Importark'!$B$31)>0,'1 - Opstart Importark'!$B$31,\"\")","v":""},{"$nulls":12},"",{"$nulls":8},0,"","","objektnogle_"]
[795,null,{"$f":"IF('1 - Opstart Importark'!$B$6=\"\",\"\",(IF('1 - Opstart Importark'!$B$15=\"\",CONCATENATE(LEFT('1 - Opstart Importark'!$B$3,1),(LEFT('1 - Opstart Importark'!$B$24,2)),LEFT('1 - Opstart Importark'!$B$28,3),IF(I806=\"\",\"\",\"-\"),I806,IF(K806=\"\",\"\",\"-\"),K806,IF(M806=\"\",\"\",\"-\"),M806,IF(O806=\"\",\"\",\"-\"),O806),CONCATENATE(LEFT('1 - Opstart Importark'!$B$3,1),(LEFT('1 - Opstart Importark'!$B$15,2)),(LEFT('1 - Opstart Importark'!$B$18,3)),IF(I806=\"\",\"\",\"-\"),I806,IF(K806=\"\",\"\",\"-\"),K806,IF(M806=\"\",\"\",\"-\"),M806,IF(O806=\"\",\"\",\"-\"),O806))))","v":""},{"$nulls":13},{"$f":"IF(LEN('1 - Opstart Importark'!$B$6)>0,'1 - Opstart Importark'!$B$6,\"\")","v":""},{"$f":"IF(LEN('1 - Opstart Importark'!$B$9)>0,'1 - Opstart Importark'!$B$9,\"\")","v":""},{"$f":"IF(LEN('1 - Opstart Importark'!$B$31)>0,'1 - Opstart Importark'!$B$31,\"\")","v":""},{"$nulls":12},"",{"$nulls":8},0,"","","objektnogle_"]
[796,null,{"$f":"IF('1 - Opstart Importark'!$B$6=\"\",\"\",(IF('1 - Opstart Importark'!$B$15=\"\",CONCATENATE(LEFT('1 - Opstart Importark'!$B$3,1),(LEFT('1 - Opstart Importark'!$B$24,2)),LEFT('1 - Opstart Importark'!$B$28,3),IF(I807=\"\",\"\",\"-\"),I807,IF(K807=\"\",\"\",\"-\"),K807,IF(M807=\"\",\"\",\"-\"),M807,IF(O807=\"\",\"\",\"-\"),O807),CONCATENATE(LEFT('1 - Opstart Importark'!$B$3,1),(LEFT('1 - Opstart Importark'!$B$15,2)),(LEFT('1 - Opstart Importark'!$B$18,3)),IF(I807=\"\",\"\",\"-\"),I807,IF(K807=\"\",\"\",\"-\"),K807,IF(M807=\"\",\"\",\"-\"),M807,IF(O807=\"\",\"\",\"-\"),O807))))","v":""},{"$nulls":13},{"$f":"IF(LEN('1 - Opstart Importark'!$B$6)>0,'1 - Opstart Importark'!$B$6,\"\")","v":""},{"$f":"IF(LEN('1 - Opstart Importark'!$B$9)>0,'1 - Opstart Importark'!$B$9,\"\")","v":""},{"$f":"IF(LEN('1 - Opstart Importark'!$B$31)>0,'1 - Opstart Importark'!$B$31,\"\")","v":""},{"$nulls":12},"",{"$nulls":8},0,"","","objektnogle_"]
[797,null,{"$f":"IF('1 - Opstart Importark'!$B$6=\"\",\"\",(IF('1 - Opstart Importark'!$B$15=\"\",CONCATENATE(LEFT('1 - Opstart Importark'!$B$3,1),(LEFT('1 - Opstart Importark'!$B$24,2)),LEFT('1 - Opstart Importark'!$B$28,3),IF(I808=\"\",\"\",\"-\"),I808,IF(K808=\"\",\"\",\"-\"),K808,IF(M808=\"\",\"\",\"-\"),M808,IF(O808=\"\",\"\",\"-\"),O808),CONCATENATE(LEFT('1 - Opstart Importark'!$B$3,1),(LEFT('1 - Opstart Importark'!$B$15,2)),(LEFT('1 - Opstart Importark'!$B$18,3)),IF(I808=\"\",\"\",\"-\"),I808,IF(K808=\"\",\"\",\"-\"),K808,IF(M808=\"\",\"\",\"-\"),M808,IF(O808=\"\",\"\",\"-\"),O808))))","v":""},{"$nulls":13},{"$f":"IF(LEN('1 - Opstart Importark'!$B$6)>0,'1 - Opstart Importark'!$B$6,\"\")","v":""},{"$f":"IF(LEN('1 - Opstart Importark'!$B$9)>0,'1 - Opstart Importark'!$B$9,\"\")","v":""},{"$f":"IF(LEN('1 - Opstart Importark'!$B$31)>0,'1 - Opstart Importark'!$B$31,\"\")","v":""},{"$nulls":12},"",{"$nulls":8},0,"","","objektnogle_"]
[798,null,{"$f":"IF('1 - Opstart Importark'!$B$6=\"\",\"\",(IF('1 - Opstart Importark'!$B$15=\"\",CONCATENATE(LEFT('1 - Opstart Importark'!$B$3,1),(LEFT('1 - Opstart Importark'!$B$24,2)),LEFT('1 - Opstart Importark'!$B$28,3),IF(I809=\"\",\"\",\"-\"),I809,IF(K809=\"\",\"\",\"-\"),K809,IF(M809=\"\",\"\",\"-\"),M809,IF(O809=\"\",\"\",\"-\"),O809),CONCATENATE(LEFT('1 - Opstart Importark'!$B$3,1),(LEFT('1 - Opstart Importark'!$B$15,2)),(LEFT('1 - Opstart Importark'!$B$18,3)),IF(I809=\"\",\"\",\"-\"),I809,IF(K809=\"\",\"\",\"-\"),K809,IF(M809=\"\",\"\",\"-\"),M809,IF(O809=\"\",\"\",\"-\"),O809))))","v":""},{"$nulls":13},{"$f":"IF(LEN('1 - Opstart Importark'!$B$6)>0,'1 - Opstart Importark'!$B$6,\"\")","v":""},{"$f":"IF(LEN('1 - Opstart Importark'!$B$9)>0,'1 - Opstart Importark'!$B$9,\"\")","v":""},{"$f":"IF(LEN('1 - Opstart Importark'!$B$31)>0,'1 - Opstart Importark'!$B$31,\"\")","v":""},{"$nulls":12},"",{"$nulls":8},0,"","","objektnogle_"]
[799,null,{"$f":"IF('1 - Opstart Importark'!$B$6=\"\",\"\",(IF('1 - Opstart Importark'!$B$15=\"\",CONCATENATE(LEFT('1 - Opstart Importark'!$B$3,1),(LEFT('1 - Opstart Importark'!$B$24,2)),LEFT('1 - Opstart Importark'!$B$28,3),IF(I810=\"\",\"\",\"-\"),I810,IF(K810=\"\",\"\",\"-\"),K810,IF(M810=\"\",\"\",\"-\"),M810,IF(O810=\"\",\"\",\"-\"),O810),CONCATENATE(LEFT('1 - Opstart Importark'!$B$3,1),(LEFT('1 - Opstart Importark'!$B$15,2)),(LEFT('1 - Opstart Importark'!$B$18,3)),IF(I810=\"\",\"\",\"-\"),I810,IF(K810=\"\",\"\",\"-\"),K810,IF(M810=\"\",\"\",\"-\"),M810,IF(O810=\"\",\"\",\"-\"),O810))))","v":""},{"$nulls":13},{"$f":"IF(LEN('1 - Opstart Importark'!$B$6)>0,'1 - Opstart Importark'!$B$6,\"\")","v":""},{"$f":"IF(LEN('1 - Opstart Importark'!$B$9)>0,'1 - Opstart Importark'!$B$9,\"\")","v":""},{"$f":"IF(LEN('1 - Opstart Importark'!$B$31)>0,'1 - Opstart Importark'!$B$31,\"\")","v":""},{"$nulls":12},"",{"$nulls":8},0,"","","objektnogle_"]
[800,null,{"$f":"IF('1 - Opstart Importark'!$B$6=\"\",\"\",(IF('1 - Opstart Importark'!$B$15=\"\",CONCATENATE(LEFT('1 - Opstart Importark'!$B$3,1),(LEFT('1 - Opstart Importark'!$B$24,2)),LEFT('1 - Opstart Importark'!$B$28,3),IF(I811=\"\",\"\",\"-\"),I811,IF(K811=\"\",\"\",\"-\"),K811,IF(M811=\"\",\"\",\"-\"),M811,IF(O811=\"\",\"\",\"-\"),O811),CONCATENATE(LEFT('1 - Opstart Importark'!$B$3,1),(LEFT('1 - Opstart Importark'!$B$15,2)),(LEFT('1 - Opstart Importark'!$B$18,3)),IF(I811=\"\",\"\",\"-\"),I811,IF(K811=\"\",\"\",\"-\"),K811,IF(M811=\"\",\"\",\"-\"),M811,IF(O811=\"\",\"\",\"-\"),O811))))","v":""},{"$nulls":13},{"$f":"IF(LEN('1 - Opstart Importark'!$B$6)>0,'1 - Opstart Importark'!$B$6,\"\")","v":""},{"$f":"IF(LEN('1 - Opstart Importark'!$B$9)>0,'1 - Opstart Importark'!$B$9,\"\")","v":""},{"$f":"IF(LEN('1 - Opstart Importark'!$B$31)>0,'1 - Opstart Importark'!$B$31,\"\")","v":""},{"$nulls":12},"",{"$nulls":8},0,"","","objektnogle_"]
[801,null,{"$f":"IF('1 - Opstart Importark'!$B$6=\"\",\"\",(IF('1 - Opstart Importark'!$B$15=\"\",CONCATENATE(LEFT('1 - Opstart Importark'!$B$3,1),(LEFT('1 - Opstart Importark'!$B$24,2)),LEFT('1 - Opstart Importark'!$B$28,3),IF(I812=\"\",\"\",\"-\"),I812,IF(K812=\"\",\"\",\"-\"),K812,IF(M812=\"\",\"\",\"-\"),M812,IF(O812=\"\",\"\",\"-\"),O812),CONCATENATE(LEFT('1 - Opstart Importark'!$B$3,1),(LEFT('1 - Opstart Importark'!$B$15,2)),(LEFT('1 - Opstart Importark'!$B$18,3)),IF(I812=\"\",\"\",\"-\"),I812,IF(K812=\"\",\"\",\"-\"),K812,IF(M812=\"\",\"\",\"-\"),M812,IF(O812=\"\",\"\",\"-\"),O812))))","v":""},{"$nulls":13},{"$f":"IF(LEN('1 - Opstart Importark'!$B$6)>0,'1 - Opstart Importark'!$B$6,\"\")","v":""},{"$f":"IF(LEN('1 - Opstart Importark'!$B$9)>0,'1 - Opstart Importark'!$B$9,\"\")","v":""},{"$f":"IF(LEN('1 - Opstart Importark'!$B$31)>0,'1 - Opstart Importark'!$B$31,\"\")","v":""},{"$nulls":12},"",{"$nulls":8},0,"","","objektnogle_"]
[802,null,{"$f":"IF('1 - Opstart Importark'!$B$6=\"\",\"\",(IF('1 - Opstart Importark'!$B$15=\"\",CONCATENATE(LEFT('1 - Opstart Importark'!$B$3,1),(LEFT('1 - Opstart Importark'!$B$24,2)),LEFT('1 - Opstart Importark'!$B$28,3),IF(I813=\"\",\"\",\"-\"),I813,IF(K813=\"\",\"\",\"-\"),K813,IF(M813=\"\",\"\",\"-\"),M813,IF(O813=\"\",\"\",\"-\"),O813),CONCATENATE(LEFT('1 - Opstart Importark'!$B$3,1),(LEFT('1 - Opstart Importark'!$B$15,2)),(LEFT('1 - Opstart Importark'!$B$18,3)),IF(I813=\"\",\"\",\"-\"),I813,IF(K813=\"\",\"\",\"-\"),K813,IF(M813=\"\",\"\",\"-\"),M813,IF(O813=\"\",\"\",\"-\"),O813))))","v":""},{"$nulls":13},{"$f":"IF(LEN('1 - Opstart Importark'!$B$6)>0,'1 - Opstart Importark'!$B$6,\"\")","v":""},{"$f":"IF(LEN('1 - Opstart Importark'!$B$9)>0,'1 - Opstart Importark'!$B$9,\"\")","v":""},{"$f":"IF(LEN('1 - Opstart Importark'!$B$31)>0,'1 - Opstart Importark'!$B$31,\"\")","v":""},{"$nulls":12},"",{"$nulls":8},0,"","","objektnogle_"]
[803,null,{"$f":"IF('1 - Opstart Importark'!$B$6=\"\",\"\",(IF('1 - Opstart Importark'!$B$15=\"\",CONCATENATE(LEFT('1 - Opstart Importark'!$B$3,1),(LEFT('1 - Opstart Importark'!$B$24,2)),LEFT('1 - Opstart Importark'!$B$28,3),IF(I814=\"\",\"\",\"-\"),I814,IF(K814=\"\",\"\",\"-\"),K814,IF(M814=\"\",\"\",\"-\"),M814,IF(O814=\"\",\"\",\"-\"),O814),CONCATENATE(LEFT('1 - Opstart Importark'!$B$3,1),(LEFT('1 - Opstart Importark'!$B$15,2)),(LEFT('1 - Opstart Importark'!$B$18,3)),IF(I814=\"\",\"\",\"-\"),I814,IF(K814=\"\",\"\",\"-\"),K814,IF(M814=\"\",\"\",\"-\"),M814,IF(O814=\"\",\"\",\"-\"),O814))))","v":""},{"$nulls":13},{"$f":"IF(LEN('1 - Opstart Importark'!$B$6)>0,'1 - Opstart Importark'!$B$6,\"\")","v":""},{"$f":"IF(LEN('1 - Opstart Importark'!$B$9)>0,'1 - Opstart Importark'!$B$9,\"\")","v":""},{"$f":"IF(LEN('1 - Opstart Importark'!$B$31)>0,'1 - Opstart Importark'!$B$31,\"\")","v":""},{"$nulls":12},"",{"$nulls":8},0,"","","objektnogle_"]
[804,null,{"$f":"IF('1 - Opstart Importark'!$B$6=\"\",\"\",(IF('1 - Opstart Importark'!$B$15=\"\",CONCATENATE(LEFT('1 - Opstart Importark'!$B$3,1),(LEFT('1 - Opstart Importark'!$B$24,2)),LEFT('1 - Opstart Importark'!$B$28,3),IF(I815=\"\",\"\",\"-\"),I815,IF(K815=\"\",\"\",\"-\"),K815,IF(M815=\"\",\"\",\"-\"),M815,IF(O815=\"\",\"\",\"-\"),O815),CONCATENATE(LEFT('1 - Opstart Importark'!$B$3,1),(LEFT('1 - Opstart Importark'!$B$15,2)),(LEFT('1 - Opstart Importark'!$B$18,3)),IF(I815=\"\",\"\",\"-\"),I815,IF(K815=\"\",\"\",\"-\"),K815,IF(M815=\"\",\"\",\"-\"),M815,IF(O815=\"\",\"\",\"-\"),O815))))","v":""},{"$nulls":13},{"$f":"IF(LEN('1 - Opstart Importark'!$B$6)>0,'1 - Opstart Importark'!$B$6,\"\")","v":""},{"$f":"IF(LEN('1 - Opstart Importark'!$B$9)>0,'1 - Opstart Importark'!$B$9,\"\")","v":""},{"$f":"IF(LEN('1 - Opstart Importark'!$B$31)>0,'1 - Opstart Importark'!$B$31,\"\")","v":""},{"$nulls":12},"",{"$nulls":8},0,"","","objektnogle_"]
[805,null,{"$f":"IF('1 - Opstart Importark'!$B$6=\"\",\"\",(IF('1 - Opstart Importark'!$B$15=\"\",CONCATENATE(LEFT('1 - Opstart Importark'!$B$3,1),(LEFT('1 - Opstart Importark'!$B$24,2)),LEFT('1 - Opstart Importark'!$B$28,3),IF(I816=\"\",\"\",\"-\"),I816,IF(K816=\"\",\"\",\"-\"),K816,IF(M816=\"\",\"\",\"-\"),M816,IF(O816=\"\",\"\",\"-\"),O816),CONCATENATE(LEFT('1 - Opstart Importark'!$B$3,1),(LEFT('1 - Opstart Importark'!$B$15,2)),(LEFT('1 - Opstart Importark'!$B$18,3)),IF(I816=\"\",\"\",\"-\"),I816,IF(K816=\"\",\"\",\"-\"),K816,IF(M816=\"\",\"\",\"-\"),M816,IF(O816=\"\",\"\",\"-\"),O816))))","v":""},{"$nulls":13},{"$f":"IF(LEN('1 - Opstart Importark'!$B$6)>0,'1 - Opstart Importark'!$B$6,\"\")","v":""},{"$f":"IF(LEN('1 - Opstart Importark'!$B$9)>0,'1 - Opstart Importark'!$B$9,\"\")","v":""},{"$f":"IF(LEN('1 - Opstart Importark'!$B$31)>0,'1 - Opstart Importark'!$B$31,\"\")","v":""},{"$nulls":12},"",{"$nulls":8},0,"","","objektnogle_"]
[806,null,{"$f":"IF('1 - Opstart Importark'!$B$6=\"\",\"\",(IF('1 - Opstart Importark'!$B$15=\"\",CONCATENATE(LEFT('1 - Opstart Importark'!$B$3,1),(LEFT('1 - Opstart Importark'!$B$24,2)),LEFT('1 - Opstart Importark'!$B$28,3),IF(I817=\"\",\"\",\"-\"),I817,IF(K817=\"\",\"\",\"-\"),K817,IF(M817=\"\",\"\",\"-\"),M817,IF(O817=\"\",\"\",\"-\"),O817),CONCATENATE(LEFT('1 - Opstart Importark'!$B$3,1),(LEFT('1 - Opstart Importark'!$B$15,2)),(LEFT('1 - Opstart Importark'!$B$18,3)),IF(I817=\"\",\"\",\"-\"),I817,IF(K817=\"\",\"\",\"-\"),K817,IF(M817=\"\",\"\",\"-\"),M817,IF(O817=\"\",\"\",\"-\"),O817))))","v":""},{"$nulls":13},{"$f":"IF(LEN('1 - Opstart Importark'!$B$6)>0,'1 - Opstart Importark'!$B$6,\"\")","v":""},{"$f":"IF(LEN('1 - Opstart Importark'!$B$9)>0,'1 - Opstart Importark'!$B$9,\"\")","v":""},{"$f":"IF(LEN('1 - Opstart Importark'!$B$31)>0,'1 - Opstart Importark'!$B$31,\"\")","v":""},{"$nulls":12},"",{"$nulls":8},0,"","","objektnogle_"]
[807,null,{"$f":"IF('1 - Opstart Importark'!$B$6=\"\",\"\",(IF('1 - Opstart Importark'!$B$15=\"\",CONCATENATE(LEFT('1 - Opstart Importark'!$B$3,1),(LEFT('1 - Opstart Importark'!$B$24,2)),LEFT('1 - Opstart Importark'!$B$28,3),IF(I818=\"\",\"\",\"-\"),I818,IF(K818=\"\",\"\",\"-\"),K818,IF(M818=\"\",\"\",\"-\"),M818,IF(O818=\"\",\"\",\"-\"),O818),CONCATENATE(LEFT('1 - Opstart Importark'!$B$3,1),(LEFT('1 - Opstart Importark'!$B$15,2)),(LEFT('1 - Opstart Importark'!$B$18,3)),IF(I818=\"\",\"\",\"-\"),I818,IF(K818=\"\",\"\",\"-\"),K818,IF(M818=\"\",\"\",\"-\"),M818,IF(O818=\"\",\"\",\"-\"),O818))))","v":""},{"$nulls":13},{"$f":"IF(LEN('1 - Opstart Importark'!$B$6)>0,'1 - Opstart Importark'!$B$6,\"\")","v":""},{"$f":"IF(LEN('1 - Opstart Importark'!$B$9)>0,'1 - Opstart Importark'!$B$9,\"\")","v":""},{"$f":"IF(LEN('1 - Opstart Importark'!$B$31)>0,'1 - Opstart Importark'!$B$31,\"\")","v":""},{"$nulls":12},"",{"$nulls":8},0,"","","objektnogle_"]
[808,null,{"$f":"IF('1 - Opstart Importark'!$B$6=\"\",\"\",(IF('1 - Opstart Importark'!$B$15=\"\",CONCATENATE(LEFT('1 - Opstart Importark'!$B$3,1),(LEFT('1 - Opstart Importark'!$B$24,2)),LEFT('1 - Opstart Importark'!$B$28,3),IF(I819=\"\",\"\",\"-\"),I819,IF(K819=\"\",\"\",\"-\"),K819,IF(M819=\"\",\"\",\"-\"),M819,IF(O819=\"\",\"\",\"-\"),O819),CONCATENATE(LEFT('1 - Opstart Importark'!$B$3,1),(LEFT('1 - Opstart Importark'!$B$15,2)),(LEFT('1 - Opstart Importark'!$B$18,3)),IF(I819=\"\",\"\",\"-\"),I819,IF(K819=\"\",\"\",\"-\"),K819,IF(M819=\"\",\"\",\"-\"),M819,IF(O819=\"\",\"\",\"-\"),O819))))","v":""},{"$nulls":13},{"$f":"IF(LEN('1 - Opstart Importark'!$B$6)>0,'1 - Opstart Importark'!$B$6,\"\")","v":""},{"$f":"IF(LEN('1 - Opstart Importark'!$B$9)>0,'1 - Opstart Importark'!$B$9,\"\")","v":""},{"$f":"IF(LEN('1 - Opstart Importark'!$B$31)>0,'1 - Opstart Importark'!$B$31,\"\")","v":""},{"$nulls":12},"",{"$nulls":8},0,"","","objektnogle_"]
[809,null,{"$f":"IF('1 - Opstart Importark'!$B$6=\"\",\"\",(IF('1 - Opstart Importark'!$B$15=\"\",CONCATENATE(LEFT('1 - Opstart Importark'!$B$3,1),(LEFT('1 - Opstart Importark'!$B$24,2)),LEFT('1 - Opstart Importark'!$B$28,3),IF(I820=\"\",\"\",\"-\"),I820,IF(K820=\"\",\"\",\"-\"),K820,IF(M820=\"\",\"\",\"-\"),M820,IF(O820=\"\",\"\",\"-\"),O820),CONCATENATE(LEFT('1 - Opstart Importark'!$B$3,1),(LEFT('1 - Opstart Importark'!$B$15,2)),(LEFT('1 - Opstart Importark'!$B$18,3)),IF(I820=\"\",\"\",\"-\"),I820,IF(K820=\"\",\"\",\"-\"),K820,IF(M820=\"\",\"\",\"-\"),M820,IF(O820=\"\",\"\",\"-\"),O820))))","v":""},{"$nulls":13},{"$f":"IF(LEN('1 - Opstart Importark'!$B$6)>0,'1 - Opstart Importark'!$B$6,\"\")","v":""},{"$f":"IF(LEN('1 - Opstart Importark'!$B$9)>0,'1 - Opstart Importark'!$B$9,\"\")","v":""},{"$f":"IF(LEN('1 - Opstart Importark'!$B$31)>0,'1 - Opstart Importark'!$B$31,\"\")","v":""},{"$nulls":12},"",{"$nulls":8},0,"","","objektnogle_"]
[810,null,{"$f":"IF('1 - Opstart Importark'!$B$6=\"\",\"\",(IF('1 - Opstart Importark'!$B$15=\"\",CONCATENATE(LEFT('1 - Opstart Importark'!$B$3,1),(LEFT('1 - Opstart Importark'!$B$24,2)),LEFT('1 - Opstart Importark'!$B$28,3),IF(I821=\"\",\"\",\"-\"),I821,IF(K821=\"\",\"\",\"-\"),K821,IF(M821=\"\",\"\",\"-\"),M821,IF(O821=\"\",\"\",\"-\"),O821),CONCATENATE(LEFT('1 - Opstart Importark'!$B$3,1),(LEFT('1 - Opstart Importark'!$B$15,2)),(LEFT('1 - Opstart Importark'!$B$18,3)),IF(I821=\"\",\"\",\"-\"),I821,IF(K821=\"\",\"\",\"-\"),K821,IF(M821=\"\",\"\",\"-\"),M821,IF(O821=\"\",\"\",\"-\"),O821))))","v":""},{"$nulls":13},{"$f":"IF(LEN('1 - Opstart Importark'!$B$6)>0,'1 - Opstart Importark'!$B$6,\"\")","v":""},{"$f":"IF(LEN('1 - Opstart Importark'!$B$9)>0,'1 - Opstart Importark'!$B$9,\"\")","v":""},{"$f":"IF(LEN('1 - Opstart Importark'!$B$31)>0,'1 - Opstart Importark'!$B$31,\"\")","v":""},{"$nulls":12},"",{"$nulls":8},0,"","","objektnogle_"]
[811,null,{"$f":"IF('1 - Opstart Importark'!$B$6=\"\",\"\",(IF('1 - Opstart Importark'!$B$15=\"\",CONCATENATE(LEFT('1 - Opstart Importark'!$B$3,1),(LEFT('1 - Opstart Importark'!$B$24,2)),LEFT('1 - Opstart Importark'!$B$28,3),IF(I822=\"\",\"\",\"-\"),I822,IF(K822=\"\",\"\",\"-\"),K822,IF(M822=\"\",\"\",\"-\"),M822,IF(O822=\"\",\"\",\"-\"),O822),CONCATENATE(LEFT('1 - Opstart Importark'!$B$3,1),(LEFT('1 - Opstart Importark'!$B$15,2)),(LEFT('1 - Opstart Importark'!$B$18,3)),IF(I822=\"\",\"\",\"-\"),I822,IF(K822=\"\",\"\",\"-\"),K822,IF(M822=\"\",\"\",\"-\"),M822,IF(O822=\"\",\"\",\"-\"),O822))))","v":""},{"$nulls":13},{"$f":"IF(LEN('1 - Opstart Importark'!$B$6)>0,'1 - Opstart Importark'!$B$6,\"\")","v":""},{"$f":"IF(LEN('1 - Opstart Importark'!$B$9)>0,'1 - Opstart Importark'!$B$9,\"\")","v":""},{"$f":"IF(LEN('1 - Opstart Importark'!$B$31)>0,'1 - Opstart Importark'!$B$31,\"\")","v":""},{"$nulls":12},"",{"$nulls":8},0,"","","objektnogle_"]
[812,null,{"$f":"IF('1 - Opstart Importark'!$B$6=\"\",\"\",(IF('1 - Opstart Importark'!$B$15=\"\",CONCATENATE(LEFT('1 - Opstart Importark'!$B$3,1),(LEFT('1 - Opstart Importark'!$B$24,2)),LEFT('1 - Opstart Importark'!$B$28,3),IF(I823=\"\",\"\",\"-\"),I823,IF(K823=\"\",\"\",\"-\"),K823,IF(M823=\"\",\"\",\"-\"),M823,IF(O823=\"\",\"\",\"-\"),O823),CONCATENATE(LEFT('1 - Opstart Importark'!$B$3,1),(LEFT('1 - Opstart Importark'!$B$15,2)),(LEFT('1 - Opstart Importark'!$B$18,3)),IF(I823=\"\",\"\",\"-\"),I823,IF(K823=\"\",\"\",\"-\"),K823,IF(M823=\"\",\"\",\"-\"),M823,IF(O823=\"\",\"\",\"-\"),O823))))","v":""},{"$nulls":13},{"$f":"IF(LEN('1 - Opstart Importark'!$B$6)>0,'1 - Opstart Importark'!$B$6,\"\")","v":""},{"$f":"IF(LEN('1 - Opstart Importark'!$B$9)>0,'1 - Opstart Importark'!$B$9,\"\")","v":""},{"$f":"IF(LEN('1 - Opstart Importark'!$B$31)>0,'1 - Opstart Importark'!$B$31,\"\")","v":""},{"$nulls":12},"",{"$nulls":8},0,"","","objektnogle_"]
[813,null,{"$f":"IF('1 - Opstart Importark'!$B$6=\"\",\"\",(IF('1 - Opstart Importark'!$B$15=\"\",CONCATENATE(LEFT('1 - Opstart Importark'!$B$3,1),(LEFT('1 - Opstart Importark'!$B$24,2)),LEFT('1 - Opstart Importark'!$B$28,3),IF(I824=\"\",\"\",\"-\"),I824,IF(K824=\"\",\"\",\"-\"),K824,IF(M824=\"\",\"\",\"-\"),M824,IF(O824=\"\",\"\",\"-\"),O824),CONCATENATE(LEFT('1 - Opstart Importark'!$B$3,1),(LEFT('1 - Opstart Importark'!$B$15,2)),(LEFT('1 - Opstart Importark'!$B$18,3)),IF(I824=\"\",\"\",\"-\"),I824,IF(K824=\"\",\"\",\"-\"),K824,IF(M824=\"\",\"\",\"-\"),M824,IF(O824=\"\",\"\",\"-\"),O824))))","v":""},{"$nulls":13},{"$f":"IF(LEN('1 - Opstart Importark'!$B$6)>0,'1 - Opstart Importark'!$B$6,\"\")","v":""},{"$f":"IF(LEN('1 - Opstart Importark'!$B$9)>0,'1 - Opstart Importark'!$B$9,\"\")","v":""},{"$f":"IF(LEN('1 - Opstart Importark'!$B$31)>0,'1 - Opstart Importark'!$B$31,\"\")","v":""},{"$nulls":12},"",{"$nulls":8},0,"","","objektnogle_"]
[814,null,{"$f":"IF('1 - Opstart Importark'!$B$6=\"\",\"\",(IF('1 - Opstart Importark'!$B$15=\"\",CONCATENATE(LEFT('1 - Opstart Importark'!$B$3,1),(LEFT('1 - Opstart Importark'!$B$24,2)),LEFT('1 - Opstart Importark'!$B$28,3),IF(I825=\"\",\"\",\"-\"),I825,IF(K825=\"\",\"\",\"-\"),K825,IF(M825=\"\",\"\",\"-\"),M825,IF(O825=\"\",\"\",\"-\"),O825),CONCATENATE(LEFT('1 - Opstart Importark'!$B$3,1),(LEFT('1 - Opstart Importark'!$B$15,2)),(LEFT('1 - Opstart Importark'!$B$18,3)),IF(I825=\"\",\"\",\"-\"),I825,IF(K825=\"\",\"\",\"-\"),K825,IF(M825=\"\",\"\",\"-\"),M825,IF(O825=\"\",\"\",\"-\"),O825))))","v":""},{"$nulls":13},{"$f":"IF(LEN('1 - Opstart Importark'!$B$6)>0,'1 - Opstart Importark'!$B$6,\"\")","v":""},{"$f":"IF(LEN('1 - Opstart Importark'!$B$9)>0,'1 - Opstart Importark'!$B$9,\"\")","v":""},{"$f":"IF(LEN('1 - Opstart Importark'!$B$31)>0,'1 - Opstart Importark'!$B$31,\"\")","v":""},{"$nulls":12},"",{"$nulls":8},0,"","","objektnogle_"]
[815,null,{"$f":"IF('1 - Opstart Importark'!$B$6=\"\",\"\",(IF('1 - Opstart Importark'!$B$15=\"\",CONCATENATE(LEFT('1 - Opstart Importark'!$B$3,1),(LEFT('1 - Opstart Importark'!$B$24,2)),LEFT('1 - Opstart Importark'!$B$28,3),IF(I826=\"\",\"\",\"-\"),I826,IF(K826=\"\",\"\",\"-\"),K826,IF(M826=\"\",\"\",\"-\"),M826,IF(O826=\"\",\"\",\"-\"),O826),CONCATENATE(LEFT('1 - Opstart Importark'!$B$3,1),(LEFT('1 - Opstart Importark'!$B$15,2)),(LEFT('1 - Opstart Importark'!$B$18,3)),IF(I826=\"\",\"\",\"-\"),I826,IF(K826=\"\",\"\",\"-\"),K826,IF(M826=\"\",\"\",\"-\"),M826,IF(O826=\"\",\"\",\"-\"),O826))))","v":""},{"$nulls":13},{"$f":"IF(LEN('1 - Opstart Importark'!$B$6)>0,'1 - Opstart Importark'!$B$6,\"\")","v":""},{"$f":"IF(LEN('1 - Opstart Importark'!$B$9)>0,'1 - Opstart Importark'!$B$9,\"\")","v":""},{"$f":"IF(LEN('1 - Opstart Importark'!$B$31)>0,'1 - Opstart Importark'!$B$31,\"\")","v":""},{"$nulls":12},"",{"$nulls":8},0,"","","objektnogle_"]
[816,null,{"$f":"IF('1 - Opstart Importark'!$B$6=\"\",\"\",(IF('1 - Opstart Importark'!$B$15=\"\",CONCATENATE(LEFT('1 - Opstart Importark'!$B$3,1),(LEFT('1 - Opstart Importark'!$B$24,2)),LEFT('1 - Opstart Importark'!$B$28,3),IF(I827=\"\",\"\",\"-\"),I827,IF(K827=\"\",\"\",\"-\"),K827,IF(M827=\"\",\"\",\"-\"),M827,IF(O827=\"\",\"\",\"-\"),O827),CONCATENATE(LEFT('1 - Opstart Importark'!$B$3,1),(LEFT('1 - Opstart Importark'!$B$15,2)),(LEFT('1 - Opstart Importark'!$B$18,3)),IF(I827=\"\",\"\",\"-\"),I827,IF(K827=\"\",\"\",\"-\"),K827,IF(M827=\"\",\"\",\"-\"),M827,IF(O827=\"\",\"\",\"-\"),O827))))","v":""},{"$nulls":13},{"$f":"IF(LEN('1 - Opstart Importark'!$B$6)>0,'1 - Opstart Importark'!$B$6,\"\")","v":""},{"$f":"IF(LEN('1 - Opstart Importark'!$B$9)>0,'1 - Opstart Importark'!$B$9,\"\")","v":""},{"$f":"IF(LEN('1 - Opstart Importark'!$B$31)>0,'1 - Opstart Importark'!$B$31,\"\")","v":""},{"$nulls":12},"",{"$nulls":8},0,"","","objektnogle_"]
[817,null,{"$f":"IF('1 - Opstart Importark'!$B$6=\"\",\"\",(IF('1 - Opstart Importark'!$B$15=\"\",CONCATENATE(LEFT('1 - Opstart Importark'!$B$3,1),(LEFT('1 - Opstart Importark'!$B$24,2)),LEFT('1 - Opstart Importark'!$B$28,3),IF(I828=\"\",\"\",\"-\"),I828,IF(K828=\"\",\"\",\"-\"),K828,IF(M828=\"\",\"\",\"-\"),M828,IF(O828=\"\",\"\",\"-\"),O828),CONCATENATE(LEFT('1 - Opstart Importark'!$B$3,1),(LEFT('1 - Opstart Importark'!$B$15,2)),(LEFT('1 - Opstart Importark'!$B$18,3)),IF(I828=\"\",\"\",\"-\"),I828,IF(K828=\"\",\"\",\"-\"),K828,IF(M828=\"\",\"\",\"-\"),M828,IF(O828=\"\",\"\",\"-\"),O828))))","v":""},{"$nulls":13},{"$f":"IF(LEN('1 - Opstart Importark'!$B$6)>0,'1 - Opstart Importark'!$B$6,\"\")","v":""},{"$f":"IF(LEN('1 - Opstart Importark'!$B$9)>0,'1 - Opstart Importark'!$B$9,\"\")","v":""},{"$f":"IF(LEN('1 - Opstart Importark'!$B$31)>0,'1 - Opstart Importark'!$B$31,\"\")","v":""},{"$nulls":12},"",{"$nulls":8},0,"","","objektnogle_"]
[818,null,{"$f":"IF('1 - Opstart Importark'!$B$6=\"\",\"\",(IF('1 - Opstart Importark'!$B$15=\"\",CONCATENATE(LEFT('1 - Opstart Importark'!$B$3,1),(LEFT('1 - Opstart Importark'!$B$24,2)),LEFT('1 - Opstart Importark'!$B$28,3),IF(I829=\"\",\"\",\"-\"),I829,IF(K829=\"\",\"\",\"-\"),K829,IF(M829=\"\",\"\",\"-\"),M829,IF(O829=\"\",\"\",\"-\"),O829),CONCATENATE(LEFT('1 - Opstart Importark'!$B$3,1),(LEFT('1 - Opstart Importark'!$B$15,2)),(LEFT('1 - Opstart Importark'!$B$18,3)),IF(I829=\"\",\"\",\"-\"),I829,IF(K829=\"\",\"\",\"-\"),K829,IF(M829=\"\",\"\",\"-\"),M829,IF(O829=\"\",\"\",\"-\"),O829))))","v":""},{"$nulls":13},{"$f":"IF(LEN('1 - Opstart Importark'!$B$6)>0,'1 - Opstart Importark'!$B$6,\"\")","v":""},{"$f":"IF(LEN('1 - Opstart Importark'!$B$9)>0,'1 - Opstart Importark'!$B$9,\"\")","v":""},{"$f":"IF(LEN('1 - Opstart Importark'!$B$31)>0,'1 - Opstart Importark'!$B$31,\"\")","v":""},{"$nulls":12},"",{"$nulls":8},0,"","","objektnogle_"]
[819,null,{"$f":"IF('1 - Opstart Importark'!$B$6=\"\",\"\",(IF('1 - Opstart Importark'!$B$15=\"\",CONCATENATE(LEFT('1 - Opstart Importark'!$B$3,1),(LEFT('1 - Opstart Importark'!$B$24,2)),LEFT('1 - Opstart Importark'!$B$28,3),IF(I830=\"\",\"\",\"-\"),I830,IF(K830=\"\",\"\",\"-\"),K830,IF(M830=\"\",\"\",\"-\"),M830,IF(O830=\"\",\"\",\"-\"),O830),CONCATENATE(LEFT('1 - Opstart Importark'!$B$3,1),(LEFT('1 - Opstart Importark'!$B$15,2)),(LEFT('1 - Opstart Importark'!$B$18,3)),IF(I830=\"\",\"\",\"-\"),I830,IF(K830=\"\",\"\",\"-\"),K830,IF(M830=\"\",\"\",\"-\"),M830,IF(O830=\"\",\"\",\"-\"),O830))))","v":""},{"$nulls":13},{"$f":"IF(LEN('1 - Opstart Importark'!$B$6)>0,'1 - Opstart Importark'!$B$6,\"\")","v":""},{"$f":"IF(LEN('1 - Opstart Importark'!$B$9)>0,'1 - Opstart Importark'!$B$9,\"\")","v":""},{"$f":"IF(LEN('1 - Opstart Importark'!$B$31)>0,'1 - Opstart Importark'!$B$31,\"\")","v":""},{"$nulls":12},"",{"$nulls":8},0,"","","objektnogle_"]
[820,null,{"$f":"IF('1 - Opstart Importark'!$B$6=\"\",\"\",(IF('1 - Opstart Importark'!$B$15=\"\",CONCATENATE(LEFT('1 - Opstart Importark'!$B$3,1),(LEFT('1 - Opstart Importark'!$B$24,2)),LEFT('1 - Opstart Importark'!$B$28,3),IF(I831=\"\",\"\",\"-\"),I831,IF(K831=\"\",\"\",\"-\"),K831,IF(M831=\"\",\"\",\"-\"),M831,IF(O831=\"\",\"\",\"-\"),O831),CONCATENATE(LEFT('1 - Opstart Importark'!$B$3,1),(LEFT('1 - Opstart Importark'!$B$15,2)),(LEFT('1 - Opstart Importark'!$B$18,3)),IF(I831=\"\",\"\",\"-\"),I831,IF(K831=\"\",\"\",\"-\"),K831,IF(M831=\"\",\"\",\"-\"),M831,IF(O831=\"\",\"\",\"-\"),O831))))","v":""},{"$nulls":13},{"$f":"IF(LEN('1 - Opstart Importark'!$B$6)>0,'1 - Opstart Importark'!$B$6,\"\")","v":""},{"$f":"IF(LEN('1 - Opstart Importark'!$B$9)>0,'1 - Opstart Importark'!$B$9,\"\")","v":""},{"$f":"IF(LEN('1 - Opstart Importark'!$B$31)>0,'1 - Opstart Importark'!$B$31,\"\")","v":""},{"$nulls":12},"",{"$nulls":8},0,"","","objektnogle_"]
[821,null,{"$f":"IF('1 - Opstart Importark'!$B$6=\"\",\"\",(IF('1 - Opstart Importark'!$B$15=\"\",CONCATENATE(LEFT('1 - Opstart Importark'!$B$3,1),(LEFT('1 - Opstart Importark'!$B$24,2)),LEFT('1 - Opstart Importark'!$B$28,3),IF(I832=\"\",\"\",\"-\"),I832,IF(K832=\"\",\"\",\"-\"),K832,IF(M832=\"\",\"\",\"-\"),M832,IF(O832=\"\",\"\",\"-\"),O832),CONCATENATE(LEFT('1 - Opstart Importark'!$B$3,1),(LEFT('1 - Opstart Importark'!$B$15,2)),(LEFT('1 - Opstart Importark'!$B$18,3)),IF(I832=\"\",\"\",\"-\"),I832,IF(K832=\"\",\"\",\"-\"),K832,IF(M832=\"\",\"\",\"-\"),M832,IF(O832=\"\",\"\",\"-\"),O832))))","v":""},{"$nulls":13},{"$f":"IF(LEN('1 - Opstart Importark'!$B$6)>0,'1 - Opstart Importark'!$B$6,\"\")","v":""},{"$f":"IF(LEN('1 - Opstart Importark'!$B$9)>0,'1 - Opstart Importark'!$B$9,\"\")","v":""},{"$f":"IF(LEN('1 - Opstart Importark'!$B$31)>0,'1 - Opstart Importark'!$B$31,\"\")","v":""},{"$nulls":12},"",{"$nulls":8},0,"","","objektnogle_"]
[822,null,{"$f":"IF('1 - Opstart Importark'!$B$6=\"\",\"\",(IF('1 - Opstart Importark'!$B$15=\"\",CONCATENATE(LEFT('1 - Opstart Importark'!$B$3,1),(LEFT('1 - Opstart Importark'!$B$24,2)),LEFT('1 - Opstart Importark'!$B$28,3),IF(I833=\"\",\"\",\"-\"),I833,IF(K833=\"\",\"\",\"-\"),K833,IF(M833=\"\",\"\",\"-\"),M833,IF(O833=\"\",\"\",\"-\"),O833),CONCATENATE(LEFT('1 - Opstart Importark'!$B$3,1),(LEFT('1 - Opstart Importark'!$B$15,2)),(LEFT('1 - Opstart Importark'!$B$18,3)),IF(I833=\"\",\"\",\"-\"),I833,IF(K833=\"\",\"\",\"-\"),K833,IF(M833=\"\",\"\",\"-\"),M833,IF(O833=\"\",\"\",\"-\"),O833))))","v":""},{"$nulls":13},{"$f":"IF(LEN('1 - Opstart Importark'!$B$6)>0,'1 - Opstart Importark'!$B$6,\"\")","v":""},{"$f":"IF(LEN('1 - Opstart Importark'!$B$9)>0,'1 - Opstart Importark'!$B$9,\"\")","v":""},{"$f":"IF(LEN('1 - Opstart Importark'!$B$31)>0,'1 - Opstart Importark'!$B$31,\"\")","v":""},{"$nulls":12},"",{"$nulls":8},0,"","","objektnogle_"]
[823,null,{"$f":"IF('1 - Opstart Importark'!$B$6=\"\",\"\",(IF('1 - Opstart Importark'!$B$15=\"\",CONCATENATE(LEFT('1 - Opstart Importark'!$B$3,1),(LEFT('1 - Opstart Importark'!$B$24,2)),LEFT('1 - Opstart Importark'!$B$28,3),IF(I834=\"\",\"\",\"-\"),I834,IF(K834=\"\",\"\",\"-\"),K834,IF(M834=\"\",\"\",\"-\"),M834,IF(O834=\"\",\"\",\"-\"),O834),CONCATENATE(LEFT('1 - Opstart Importark'!$B$3,1),(LEFT('1 - Opstart Importark'!$B$15,2)),(LEFT('1 - Opstart Importark'!$B$18,3)),IF(I834=\"\",\"\",\"-\"),I834,IF(K834=\"\",\"\",\"-\"),K834,IF(M834=\"\",\"\",\"-\"),M834,IF(O834=\"\",\"\",\"-\"),O834))))","v":""},{"$nulls":13},{"$f":"IF(LEN('1 - Opstart Importark'!$B$6)>0,'1 - Opstart Importark'!$B$6,\"\")","v":""},{"$f":"IF(LEN('1 - Opstart Importark'!$B$9)>0,'1 - Opstart Importark'!$B$9,\"\")","v":""},{"$f":"IF(LEN('1 - Opstart Importark'!$B$31)>0,'1 - Opstart Importark'!$B$31,\"\")","v":""},{"$nulls":12},"",{"$nulls":8},0,"","","objektnogle_"]
[824,null,{"$f":"IF('1 - Opstart Importark'!$B$6=\"\",\"\",(IF('1 - Opstart Importark'!$B$15=\"\",CONCATENATE(LEFT('1 - Opstart Importark'!$B$3,1),(LEFT('1 - Opstart Importark'!$B$24,2)),LEFT('1 - Opstart Importark'!$B$28,3),IF(I835=\"\",\"\",\"-\"),I835,IF(K835=\"\",\"\",\"-\"),K835,IF(M835=\"\",\"\",\"-\"),M835,IF(O835=\"\",\"\",\"-\"),O835),CONCATENATE(LEFT('1 - Opstart Importark'!$B$3,1),(LEFT('1 - Opstart Importark'!$B$15,2)),(LEFT('1 - Opstart Importark'!$B$18,3)),IF(I835=\"\",\"\",\"-\"),I835,IF(K835=\"\",\"\",\"-\"),K835,IF(M835=\"\",\"\",\"-\"),M835,IF(O835=\"\",\"\",\"-\"),O835))))","v":""},{"$nulls":13},{"$f":"IF(LEN('1 - Opstart Importark'!$B$6)>0,'1 - Opstart Importark'!$B$6,\"\")","v":""},{"$f":"IF(LEN('1 - Opstart Importark'!$B$9)>0,'1 - Opstart Importark'!$B$9,\"\")","v":""},{"$f":"IF(LEN('1 - Opstart Importark'!$B$31)>0,'1 - Opstart Importark'!$B$31,\"\")","v":""},{"$nulls":12},"",{"$nulls":8},0,"","","objektnogle_"]
[825,null,{"$f":"IF('1 - Opstart Importark'!$B$6=\"\",\"\",(IF('1 - Opstart Importark'!$B$15=\"\",CONCATENATE(LEFT('1 - Opstart Importark'!$B$3,1),(LEFT('1 - Opstart Importark'!$B$24,2)),LEFT('1 - Opstart Importark'!$B$28,3),IF(I836=\"\",\"\",\"-\"),I836,IF(K836=\"\",\"\",\"-\"),K836,IF(M836=\"\",\"\",\"-\"),M836,IF(O836=\"\",\"\",\"-\"),O836),CONCATENATE(LEFT('1 - Opstart Importark'!$B$3,1),(LEFT('1 - Opstart Importark'!$B$15,2)),(LEFT('1 - Opstart Importark'!$B$18,3)),IF(I836=\"\",\"\",\"-\"),I836,IF(K836=\"\",\"\",\"-\"),K836,IF(M836=\"\",\"\",\"-\"),M836,IF(O836=\"\",\"\",\"-\"),O836))))","v":""},{"$nulls":13},{"$f":"IF(LEN('1 - Opstart Importark'!$B$6)>0,'1 - Opstart Importark'!$B$6,\"\")","v":""},{"$f":"IF(LEN('1 - Opstart Importark'!$B$9)>0,'1 - Opstart Importark'!$B$9,\"\")","v":""},{"$f":"IF(LEN('1 - Opstart Importark'!$B$31)>0,'1 - Opstart Importark'!$B$31,\"\")","v":""},{"$nulls":12},"",{"$nulls":8},0,"","","objektnogle_"]
[826,null,{"$f":"IF('1 - Opstart Importark'!$B$6=\"\",\"\",(IF('1 - Opstart Importark'!$B$15=\"\",CONCATENATE(LEFT('1 - Opstart Importark'!$B$3,1),(LEFT('1 - Opstart Importark'!$B$24,2)),LEFT('1 - Opstart Importark'!$B$28,3),IF(I837=\"\",\"\",\"-\"),I837,IF(K837=\"\",\"\",\"-\"),K837,IF(M837=\"\",\"\",\"-\"),M837,IF(O837=\"\",\"\",\"-\"),O837),CONCATENATE(LEFT('1 - Opstart Importark'!$B$3,1),(LEFT('1 - Opstart Importark'!$B$15,2)),(LEFT('1 - Opstart Importark'!$B$18,3)),IF(I837=\"\",\"\",\"-\"),I837,IF(K837=\"\",\"\",\"-\"),K837,IF(M837=\"\",\"\",\"-\"),M837,IF(O837=\"\",\"\",\"-\"),O837))))","v":""},{"$nulls":13},{"$f":"IF(LEN('1 - Opstart Importark'!$B$6)>0,'1 - Opstart Importark'!$B$6,\"\")","v":""},{"$f":"IF(LEN('1 - Opstart Importark'!$B$9)>0,'1 - Opstart Importark'!$B$9,\"\")","v":""},{"$f":"IF(LEN('1 - Opstart Importark'!$B$31)>0,'1 - Opstart Importark'!$B$31,\"\")","v":""},{"$nulls":12},"",{"$nulls":8},0,"","","objektnogle_"]
[827,null,{"$f":"IF('1 - Opstart Importark'!$B$6=\"\",\"\",(IF('1 - Opstart Importark'!$B$15=\"\",CONCATENATE(LEFT('1 - Opstart Importark'!$B$3,1),(LEFT('1 - Opstart Importark'!$B$24,2)),LEFT('1 - Opstart Importark'!$B$28,3),IF(I838=\"\",\"\",\"-\"),I838,IF(K838=\"\",\"\",\"-\"),K838,IF(M838=\"\",\"\",\"-\"),M838,IF(O838=\"\",\"\",\"-\"),O838),CONCATENATE(LEFT('1 - Opstart Importark'!$B$3,1),(LEFT('1 - Opstart Importark'!$B$15,2)),(LEFT('1 - Opstart Importark'!$B$18,3)),IF(I838=\"\",\"\",\"-\"),I838,IF(K838=\"\",\"\",\"-\"),K838,IF(M838=\"\",\"\",\"-\"),M838,IF(O838=\"\",\"\",\"-\"),O838))))","v":""},{"$nulls":13},{"$f":"IF(LEN('1 - Opstart Importark'!$B$6)>0,'1 - Opstart Importark'!$B$6,\"\")","v":""},{"$f":"IF(LEN('1 - Opstart Importark'!$B$9)>0,'1 - Opstart Importark'!$B$9,\"\")","v":""},{"$f":"IF(LEN('1 - Opstart Importark'!$B$31)>0,'1 - Opstart Importark'!$B$31,\"\")","v":""},{"$nulls":12},"",{"$nulls":8},0,"","","objektnogle_"]
[828,null,{"$f":"IF('1 - Opstart Importark'!$B$6=\"\",\"\",(IF('1 - Opstart Importark'!$B$15=\"\",CONCATENATE(LEFT('1 - Opstart Importark'!$B$3,1),(LEFT('1 - Opstart Importark'!$B$24,2)),LEFT('1 - Opstart Importark'!$B$28,3),IF(I839=\"\",\"\",\"-\"),I839,IF(K839=\"\",\"\",\"-\"),K839,IF(M839=\"\",\"\",\"-\"),M839,IF(O839=\"\",\"\",\"-\"),O839),CONCATENATE(LEFT('1 - Opstart Importark'!$B$3,1),(LEFT('1 - Opstart Importark'!$B$15,2)),(LEFT('1 - Opstart Importark'!$B$18,3)),IF(I839=\"\",\"\",\"-\"),I839,IF(K839=\"\",\"\",\"-\"),K839,IF(M839=\"\",\"\",\"-\"),M839,IF(O839=\"\",\"\",\"-\"),O839))))","v":""},{"$nulls":13},{"$f":"IF(LEN('1 - Opstart Importark'!$B$6)>0,'1 - Opstart Importark'!$B$6,\"\")","v":""},{"$f":"IF(LEN('1 - Opstart Importark'!$B$9)>0,'1 - Opstart Importark'!$B$9,\"\")","v":""},{"$f":"IF(LEN('1 - Opstart Importark'!$B$31)>0,'1 - Opstart Importark'!$B$31,\"\")","v":""},{"$nulls":12},"",{"$nulls":8},0,"","","objektnogle_"]
[829,null,{"$f":"IF('1 - Opstart Importark'!$B$6=\"\",\"\",(IF('1 - Opstart Importark'!$B$15=\"\",CONCATENATE(LEFT('1 - Opstart Importark'!$B$3,1),(LEFT('1 - Opstart Importark'!$B$24,2)),LEFT('1 - Opstart Importark'!$B$28,3),IF(I840=\"\",\"\",\"-\"),I840,IF(K840=\"\",\"\",\"-\"),K840,IF(M840=\"\",\"\",\"-\"),M840,IF(O840=\"\",\"\",\"-\"),O840),CONCATENATE(LEFT('1 - Opstart Importark'!$B$3,1),(LEFT('1 - Opstart Importark'!$B$15,2)),(LEFT('1 - Opstart Importark'!$B$18,3)),IF(I840=\"\",\"\",\"-\"),I840,IF(K840=\"\",\"\",\"-\"),K840,IF(M840=\"\",\"\",\"-\"),M840,IF(O840=\"\",\"\",\"-\"),O840))))","v":""},{"$nulls":13},{"$f":"IF(LEN('1 - Opstart Importark'!$B$6)>0,'1 - Opstart Importark'!$B$6,\"\")","v":""},{"$f":"IF(LEN('1 - Opstart Importark'!$B$9)>0,'1 - Opstart Importark'!$B$9,\"\")","v":""},{"$f":"IF(LEN('1 - Opstart Importark'!$B$31)>0,'1 - Opstart Importark'!$B$31,\"\")","v":""},{"$nulls":12},"",{"$nulls":8},0,"","","objektnogle_"]
[830,null,{"$f":"IF('1 - Opstart Importark'!$B$6=\"\",\"\",(IF('1 - Opstart Importark'!$B$15=\"\",CONCATENATE(LEFT('1 - Opstart Importark'!$B$3,1),(LEFT('1 - Opstart Importark'!$B$24,2)),LEFT('1 - Opstart Importark'!$B$28,3),IF(I841=\"\",\"\",\"-\"),I841,IF(K841=\"\",\"\",\"-\"),K841,IF(M841=\"\",\"\",\"-\"),M841,IF(O841=\"\",\"\",\"-\"),O841),CONCATENATE(LEFT('1 - Opstart Importark'!$B$3,1),(LEFT('1 - Opstart Importark'!$B$15,2)),(LEFT('1 - Opstart Importark'!$B$18,3)),IF(I841=\"\",\"\",\"-\"),I841,IF(K841=\"\",\"\",\"-\"),K841,IF(M841=\"\",\"\",\"-\"),M841,IF(O841=\"\",\"\",\"-\"),O841))))","v":""},{"$nulls":13},{"$f":"IF(LEN('1 - Opstart Importark'!$B$6)>0,'1 - Opstart Importark'!$B$6,\"\")","v":""},{"$f":"IF(LEN('1 - Opstart Importark'!$B$9)>0,'1 - Opstart Importark'!$B$9,\"\")","v":""},{"$f":"IF(LEN('1 - Opstart Importark'!$B$31)>0,'1 - Opstart Importark'!$B$31,\"\")","v":""},{"$nulls":12},"",{"$nulls":8},0,"","","objektnogle_"]
[831,null,{"$f":"IF('1 - Opstart Importark'!$B$6=\"\",\"\",(IF('1 - Opstart Importark'!$B$15=\"\",CONCATENATE(LEFT('1 - Opstart Importark'!$B$3,1),(LEFT('1 - Opstart Importark'!$B$24,2)),LEFT('1 - Opstart Importark'!$B$28,3),IF(I842=\"\",\"\",\"-\"),I842,IF(K842=\"\",\"\",\"-\"),K842,IF(M842=\"\",\"\",\"-\"),M842,IF(O842=\"\",\"\",\"-\"),O842),CONCATENATE(LEFT('1 - Opstart Importark'!$B$3,1),(LEFT('1 - Opstart Importark'!$B$15,2)),(LEFT('1 - Opstart Importark'!$B$18,3)),IF(I842=\"\",\"\",\"-\"),I842,IF(K842=\"\",\"\",\"-\"),K842,IF(M842=\"\",\"\",\"-\"),M842,IF(O842=\"\",\"\",\"-\"),O842))))","v":""},{"$nulls":13},{"$f":"IF(LEN('1 - Opstart Importark'!$B$6)>0,'1 - Opstart Importark'!$B$6,\"\")","v":""},{"$f":"IF(LEN('1 - Opstart Importark'!$B$9)>0,'1 - Opstart Importark'!$B$9,\"\")","v":""},{"$f":"IF(LEN('1 - Opstart Importark'!$B$31)>0,'1 - Opstart Importark'!$B$31,\"\")","v":""},{"$nulls":12},"",{"$nulls":8},0,"","","objektnogle_"]
[832,null,{"$f":"IF('1 - Opstart Importark'!$B$6=\"\",\"\",(IF('1 - Opstart Importark'!$B$15=\"\",CONCATENATE(LEFT('1 - Opstart Importark'!$B$3,1),(LEFT('1 - Opstart Importark'!$B$24,2)),LEFT('1 - Opstart Importark'!$B$28,3),IF(I843=\"\",\"\",\"-\"),I843,IF(K843=\"\",\"\",\"-\"),K843,IF(M843=\"\",\"\",\"-\"),M843,IF(O843=\"\",\"\",\"-\"),O843),CONCATENATE(LEFT('1 - Opstart Importark'!$B$3,1),(LEFT('1 - Opstart Importark'!$B$15,2)),(LEFT('1 - Opstart Importark'!$B$18,3)),IF(I843=\"\",\"\",\"-\"),I843,IF(K843=\"\",\"\",\"-\"),K843,IF(M843=\"\",\"\",\"-\"),M843,IF(O843=\"\",\"\",\"-\"),O843))))","v":""},{"$nulls":13},{"$f":"IF(LEN('1 - Opstart Importark'!$B$6)>0,'1 - Opstart Importark'!$B$6,\"\")","v":""},{"$f":"IF(LEN('1 - Opstart Importark'!$B$9)>0,'1 - Opstart Importark'!$B$9,\"\")","v":""},{"$f":"IF(LEN('1 - Opstart Importark'!$B$31)>0,'1 - Opstart Importark'!$B$31,\"\")","v":""},{"$nulls":12},"",{"$nulls":8},0,"","","objektnogle_"]
[833,null,{"$f":"IF('1 - Opstart Importark'!$B$6=\"\",\"\",(IF('1 - Opstart Importark'!$B$15=\"\",CONCATENATE(LEFT('1 - Opstart Importark'!$B$3,1),(LEFT('1 - Opstart Importark'!$B$24,2)),LEFT('1 - Opstart Importark'!$B$28,3),IF(I844=\"\",\"\",\"-\"),I844,IF(K844=\"\",\"\",\"-\"),K844,IF(M844=\"\",\"\",\"-\"),M844,IF(O844=\"\",\"\",\"-\"),O844),CONCATENATE(LEFT('1 - Opstart Importark'!$B$3,1),(LEFT('1 - Opstart Importark'!$B$15,2)),(LEFT('1 - Opstart Importark'!$B$18,3)),IF(I844=\"\",\"\",\"-\"),I844,IF(K844=\"\",\"\",\"-\"),K844,IF(M844=\"\",\"\",\"-\"),M844,IF(O844=\"\",\"\",\"-\"),O844))))","v":""},{"$nulls":13},{"$f":"IF(LEN('1 - Opstart Importark'!$B$6)>0,'1 - Opstart Importark'!$B$6,\"\")","v":""},{"$f":"IF(LEN('1 - Opstart Importark'!$B$9)>0,'1 - Opstart Importark'!$B$9,\"\")","v":""},{"$f":"IF(LEN('1 - Opstart Importark'!$B$31)>0,'1 - Opstart Importark'!$B$31,\"\")","v":""},{"$nulls":12},{"$f":"IF(M844=\"\",\"\",VLOOKUP(LEFT(M844,1),objektfilter,2))","v":""},{"$nulls":8},0,"","","objektnogle_"]
[834,null,{"$f":"IF('1 - Opstart Importark'!$B$6=\"\",\"\",(IF('1 - Opstart Importark'!$B$15=\"\",CONCATENATE(LEFT('1 - Opstart Importark'!$B$3,1),(LEFT('1 - Opstart Importark'!$B$24,2)),LEFT('1 - Opstart Importark'!$B$28,3),IF(I845=\"\",\"\",\"-\"),I845,IF(K845=\"\",\"\",\"-\"),K845,IF(M845=\"\",\"\",\"-\"),M845,IF(O845=\"\",\"\",\"-\"),O845),CONCATENATE(LEFT('1 - Opstart Importark'!$B$3,1),(LEFT('1 - Opstart Importark'!$B$15,2)),(LEFT('1 - Opstart Importark'!$B$18,3)),IF(I845=\"\",\"\",\"-\"),I845,IF(K845=\"\",\"\",\"-\"),K845,IF(M845=\"\",\"\",\"-\"),M845,IF(O845=\"\",\"\",\"-\"),O845))))","v":""},{"$nulls":13},{"$f":"IF(LEN('1 - Opstart Importark'!$B$6)>0,'1 - Opstart Importark'!$B$6,\"\")","v":""},{"$f":"IF(LEN('1 - Opstart Importark'!$B$9)>0,'1 - Opstart Importark'!$B$9,\"\")","v":""},{"$f":"IF(LEN('1 - Opstart Importark'!$B$31)>0,'1 - Opstart Importark'!$B$31,\"\")","v":""},{"$nulls":12},"",{"$nulls":8},{"$f":"IFERROR(FIND(\".\",F845),)","v":0},{"$f":"IF(M845=\"\",\"\",IF(LEFT(M845,1)=\"E\",0,1))","v":""},{"$f":"IF(M845=\"\",\"\",IF(LEFT(M845,1)=\"E\",0,1))","v":""},{"$f":"IF(W845=\"\", CONCATENATE(\"objektnogle_\",LEFT(AF845,1)),CONCATENATE(\"objektnogle_\",LEFT(W845,1)))","v":"objektnogle_"}]
[835,null,{"$f":"IF('1 - Opstart Importark'!$B$6=\"\",\"\",(IF('1 - Opstart Importark'!$B$15=\"\",CONCATENATE(LEFT('1 - Opstart Importark'!$B$3,1),(LEFT('1 - Opstart Importark'!$B$24,2)),LEFT('1 - Opstart Importark'!$B$28,3),IF(I846=\"\",\"\",\"-\"),I846,IF(K846=\"\",\"\",\"-\"),K846,IF(M846=\"\",\"\",\"-\"),M846,IF(O846=\"\",\"\",\"-\"),O846),CONCATENATE(LEFT('1 - Opstart Importark'!$B$3,1),(LEFT('1 - Opstart Importark'!$B$15,2)),(LEFT('1 - Opstart Importark'!$B$18,3)),IF(I846=\"\",\"\",\"-\"),I846,IF(K846=\"\",\"\",\"-\"),K846,IF(M846=\"\",\"\",\"-\"),M846,IF(O846=\"\",\"\",\"-\"),O846))))","v":""},{"$nulls":13},{"$f":"IF(LEN('1 - Opstart Importark'!$B$6)>0,'1 - Opstart Importark'!$B$6,\"\")","v":""},{"$f":"IF(LEN('1 - Opstart Importark'!$B$9)>0,'1 - Opstart Importark'!$B$9,\"\")","v":""},{"$f":"IF(LEN('1 - Opstart Importark'!$B$31)>0,'1 - Opstart Importark'!$B$31,\"\")","v":""},{"$nulls":12},"",{"$nulls":8},0,"","","objektnogle_"]
[836,null,{"$f":"IF('1 - Opstart Importark'!$B$6=\"\",\"\",(IF('1 - Opstart Importark'!$B$15=\"\",CONCATENATE(LEFT('1 - Opstart Importark'!$B$3,1),(LEFT('1 - Opstart Importark'!$B$24,2)),LEFT('1 - Opstart Importark'!$B$28,3),IF(I847=\"\",\"\",\"-\"),I847,IF(K847=\"\",\"\",\"-\"),K847,IF(M847=\"\",\"\",\"-\"),M847,IF(O847=\"\",\"\",\"-\"),O847),CONCATENATE(LEFT('1 - Opstart Importark'!$B$3,1),(LEFT('1 - Opstart Importark'!$B$15,2)),(LEFT('1 - Opstart Importark'!$B$18,3)),IF(I847=\"\",\"\",\"-\"),I847,IF(K847=\"\",\"\",\"-\"),K847,IF(M847=\"\",\"\",\"-\"),M847,IF(O847=\"\",\"\",\"-\"),O847))))","v":""},{"$nulls":13},{"$f":"IF(LEN('1 - Opstart Importark'!$B$6)>0,'1 - Opstart Importark'!$B$6,\"\")","v":""},{"$f":"IF(LEN('1 - Opstart Importark'!$B$9)>0,'1 - Opstart Importark'!$B$9,\"\")","v":""},{"$f":"IF(LEN('1 - Opstart Importark'!$B$31)>0,'1 - Opstart Importark'!$B$31,\"\")","v":""},{"$nulls":12},"",{"$nulls":8},0,"","","objektnogle_"]
[837,null,{"$f":"IF('1 - Opstart Importark'!$B$6=\"\",\"\",(IF('1 - Opstart Importark'!$B$15=\"\",CONCATENATE(LEFT('1 - Opstart Importark'!$B$3,1),(LEFT('1 - Opstart Importark'!$B$24,2)),LEFT('1 - Opstart Importark'!$B$28,3),IF(I848=\"\",\"\",\"-\"),I848,IF(K848=\"\",\"\",\"-\"),K848,IF(M848=\"\",\"\",\"-\"),M848,IF(O848=\"\",\"\",\"-\"),O848),CONCATENATE(LEFT('1 - Opstart Importark'!$B$3,1),(LEFT('1 - Opstart Importark'!$B$15,2)),(LEFT('1 - Opstart Importark'!$B$18,3)),IF(I848=\"\",\"\",\"-\"),I848,IF(K848=\"\",\"\",\"-\"),K848,IF(M848=\"\",\"\",\"-\"),M848,IF(O848=\"\",\"\",\"-\"),O848))))","v":""},{"$nulls":13},{"$f":"IF(LEN('1 - Opstart Importark'!$B$6)>0,'1 - Opstart Importark'!$B$6,\"\")","v":""},{"$f":"IF(LEN('1 - Opstart Importark'!$B$9)>0,'1 - Opstart Importark'!$B$9,\"\")","v":""},{"$f":"IF(LEN('1 - Opstart Importark'!$B$31)>0,'1 - Opstart Importark'!$B$31,\"\")","v":""},{"$nulls":12},"",{"$nulls":8},0,"","","objektnogle_"]
[838,null,{"$f":"IF('1 - Opstart Importark'!$B$6=\"\",\"\",(IF('1 - Opstart Importark'!$B$15=\"\",CONCATENATE(LEFT('1 - Opstart Importark'!$B$3,1),(LEFT('1 - Opstart Importark'!$B$24,2)),LEFT('1 - Opstart Importark'!$B$28,3),IF(I849=\"\",\"\",\"-\"),I849,IF(K849=\"\",\"\",\"-\"),K849,IF(M849=\"\",\"\",\"-\"),M849,IF(O849=\"\",\"\",\"-\"),O849),CONCATENATE(LEFT('1 - Opstart Importark'!$B$3,1),(LEFT('1 - Opstart Importark'!$B$15,2)),(LEFT('1 - Opstart Importark'!$B$18,3)),IF(I849=\"\",\"\",\"-\"),I849,IF(K849=\"\",\"\",\"-\"),K849,IF(M849=\"\",\"\",\"-\"),M849,IF(O849=\"\",\"\",\"-\"),O849))))","v":""},{"$nulls":13},{"$f":"IF(LEN('1 - Opstart Importark'!$B$6)>0,'1 - Opstart Importark'!$B$6,\"\")","v":""},{"$f":"IF(LEN('1 - Opstart Importark'!$B$9)>0,'1 - Opstart Importark'!$B$9,\"\")","v":""},{"$f":"IF(LEN('1 - Opstart Importark'!$B$31)>0,'1 - Opstart Importark'!$B$31,\"\")","v":""},{"$nulls":12},"",{"$nulls":8},0,"","","objektnogle_"]
[839,null,{"$f":"IF('1 - Opstart Importark'!$B$6=\"\",\"\",(IF('1 - Opstart Importark'!$B$15=\"\",CONCATENATE(LEFT('1 - Opstart Importark'!$B$3,1),(LEFT('1 - Opstart Importark'!$B$24,2)),LEFT('1 - Opstart Importark'!$B$28,3),IF(I850=\"\",\"\",\"-\"),I850,IF(K850=\"\",\"\",\"-\"),K850,IF(M850=\"\",\"\",\"-\"),M850,IF(O850=\"\",\"\",\"-\"),O850),CONCATENATE(LEFT('1 - Opstart Importark'!$B$3,1),(LEFT('1 - Opstart Importark'!$B$15,2)),(LEFT('1 - Opstart Importark'!$B$18,3)),IF(I850=\"\",\"\",\"-\"),I850,IF(K850=\"\",\"\",\"-\"),K850,IF(M850=\"\",\"\",\"-\"),M850,IF(O850=\"\",\"\",\"-\"),O850))))","v":""},{"$nulls":13},{"$f":"IF(LEN('1 - Opstart Importark'!$B$6)>0,'1 - Opstart Importark'!$B$6,\"\")","v":""},{"$f":"IF(LEN('1 - Opstart Importark'!$B$9)>0,'1 - Opstart Importark'!$B$9,\"\")","v":""},{"$f":"IF(LEN('1 - Opstart Importark'!$B$31)>0,'1 - Opstart Importark'!$B$31,\"\")","v":""},{"$nulls":12},"",{"$nulls":8},0,"","","objektnogle_"]
[840,null,{"$f":"IF('1 - Opstart Importark'!$B$6=\"\",\"\",(IF('1 - Opstart Importark'!$B$15=\"\",CONCATENATE(LEFT('1 - Opstart Importark'!$B$3,1),(LEFT('1 - Opstart Importark'!$B$24,2)),LEFT('1 - Opstart Importark'!$B$28,3),IF(I851=\"\",\"\",\"-\"),I851,IF(K851=\"\",\"\",\"-\"),K851,IF(M851=\"\",\"\",\"-\"),M851,IF(O851=\"\",\"\",\"-\"),O851),CONCATENATE(LEFT('1 - Opstart Importark'!$B$3,1),(LEFT('1 - Opstart Importark'!$B$15,2)),(LEFT('1 - Opstart Importark'!$B$18,3)),IF(I851=\"\",\"\",\"-\"),I851,IF(K851=\"\",\"\",\"-\"),K851,IF(M851=\"\",\"\",\"-\"),M851,IF(O851=\"\",\"\",\"-\"),O851))))","v":""},{"$nulls":13},{"$f":"IF(LEN('1 - Opstart Importark'!$B$6)>0,'1 - Opstart Importark'!$B$6,\"\")","v":""},{"$f":"IF(LEN('1 - Opstart Importark'!$B$9)>0,'1 - Opstart Importark'!$B$9,\"\")","v":""},{"$f":"IF(LEN('1 - Opstart Importark'!$B$31)>0,'1 - Opstart Importark'!$B$31,\"\")","v":""},{"$nulls":12},"",{"$nulls":8},0,"","","objektnogle_"]
[841,null,{"$f":"IF('1 - Opstart Importark'!$B$6=\"\",\"\",(IF('1 - Opstart Importark'!$B$15=\"\",CONCATENATE(LEFT('1 - Opstart Importark'!$B$3,1),(LEFT('1 - Opstart Importark'!$B$24,2)),LEFT('1 - Opstart Importark'!$B$28,3),IF(I852=\"\",\"\",\"-\"),I852,IF(K852=\"\",\"\",\"-\"),K852,IF(M852=\"\",\"\",\"-\"),M852,IF(O852=\"\",\"\",\"-\"),O852),CONCATENATE(LEFT('1 - Opstart Importark'!$B$3,1),(LEFT('1 - Opstart Importark'!$B$15,2)),(LEFT('1 - Opstart Importark'!$B$18,3)),IF(I852=\"\",\"\",\"-\"),I852,IF(K852=\"\",\"\",\"-\"),K852,IF(M852=\"\",\"\",\"-\"),M852,IF(O852=\"\",\"\",\"-\"),O852))))","v":""},{"$nulls":13},{"$f":"IF(LEN('1 - Opstart Importark'!$B$6)>0,'1 - Opstart Importark'!$B$6,\"\")","v":""},{"$f":"IF(LEN('1 - Opstart Importark'!$B$9)>0,'1 - Opstart Importark'!$B$9,\"\")","v":""},{"$f":"IF(LEN('1 - Opstart Importark'!$B$31)>0,'1 - Opstart Importark'!$B$31,\"\")","v":""},{"$nulls":12},"",{"$nulls":8},0,"","","objektnogle_"]
[842,null,{"$f":"IF('1 - Opstart Importark'!$B$6=\"\",\"\",(IF('1 - Opstart Importark'!$B$15=\"\",CONCATENATE(LEFT('1 - Opstart Importark'!$B$3,1),(LEFT('1 - Opstart Importark'!$B$24,2)),LEFT('1 - Opstart Importark'!$B$28,3),IF(I853=\"\",\"\",\"-\"),I853,IF(K853=\"\",\"\",\"-\"),K853,IF(M853=\"\",\"\",\"-\"),M853,IF(O853=\"\",\"\",\"-\"),O853),CONCATENATE(LEFT('1 - Opstart Importark'!$B$3,1),(LEFT('1 - Opstart Importark'!$B$15,2)),(LEFT('1 - Opstart Importark'!$B$18,3)),IF(I853=\"\",\"\",\"-\"),I853,IF(K853=\"\",\"\",\"-\"),K853,IF(M853=\"\",\"\",\"-\"),M853,IF(O853=\"\",\"\",\"-\"),O853))))","v":""},{"$nulls":13},{"$f":"IF(LEN('1 - Opstart Importark'!$B$6)>0,'1 - Opstart Importark'!$B$6,\"\")","v":""},{"$f":"IF(LEN('1 - Opstart Importark'!$B$9)>0,'1 - Opstart Importark'!$B$9,\"\")","v":""},{"$f":"IF(LEN('1 - Opstart Importark'!$B$31)>0,'1 - Opstart Importark'!$B$31,\"\")","v":""},{"$nulls":12},"",{"$nulls":8},0,"","","objektnogle_"]
[843,null,{"$f":"IF('1 - Opstart Importark'!$B$6=\"\",\"\",(IF('1 - Opstart Importark'!$B$15=\"\",CONCATENATE(LEFT('1 - Opstart Importark'!$B$3,1),(LEFT('1 - Opstart Importark'!$B$24,2)),LEFT('1 - Opstart Importark'!$B$28,3),IF(I854=\"\",\"\",\"-\"),I854,IF(K854=\"\",\"\",\"-\"),K854,IF(M854=\"\",\"\",\"-\"),M854,IF(O854=\"\",\"\",\"-\"),O854),CONCATENATE(LEFT('1 - Opstart Importark'!$B$3,1),(LEFT('1 - Opstart Importark'!$B$15,2)),(LEFT('1 - Opstart Importark'!$B$18,3)),IF(I854=\"\",\"\",\"-\"),I854,IF(K854=\"\",\"\",\"-\"),K854,IF(M854=\"\",\"\",\"-\"),M854,IF(O854=\"\",\"\",\"-\"),O854))))","v":""},{"$nulls":13},{"$f":"IF(LEN('1 - Opstart Importark'!$B$6)>0,'1 - Opstart Importark'!$B$6,\"\")","v":""},{"$f":"IF(LEN('1 - Opstart Importark'!$B$9)>0,'1 - Opstart Importark'!$B$9,\"\")","v":""},{"$f":"IF(LEN('1 - Opstart Importark'!$B$31)>0,'1 - Opstart Importark'!$B$31,\"\")","v":""},{"$nulls":12},"",{"$nulls":8},0,"","","objektnogle_"]
[844,null,{"$f":"IF('1 - Opstart Importark'!$B$6=\"\",\"\",(IF('1 - Opstart Importark'!$B$15=\"\",CONCATENATE(LEFT('1 - Opstart Importark'!$B$3,1),(LEFT('1 - Opstart Importark'!$B$24,2)),LEFT('1 - Opstart Importark'!$B$28,3),IF(I855=\"\",\"\",\"-\"),I855,IF(K855=\"\",\"\",\"-\"),K855,IF(M855=\"\",\"\",\"-\"),M855,IF(O855=\"\",\"\",\"-\"),O855),CONCATENATE(LEFT('1 - Opstart Importark'!$B$3,1),(LEFT('1 - Opstart Importark'!$B$15,2)),(LEFT('1 - Opstart Importark'!$B$18,3)),IF(I855=\"\",\"\",\"-\"),I855,IF(K855=\"\",\"\",\"-\"),K855,IF(M855=\"\",\"\",\"-\"),M855,IF(O855=\"\",\"\",\"-\"),O855))))","v":""},{"$nulls":13},{"$f":"IF(LEN('1 - Opstart Importark'!$B$6)>0,'1 - Opstart Importark'!$B$6,\"\")","v":""},{"$f":"IF(LEN('1 - Opstart Importark'!$B$9)>0,'1 - Opstart Importark'!$B$9,\"\")","v":""},{"$f":"IF(LEN('1 - Opstart Importark'!$B$31)>0,'1 - Opstart Importark'!$B$31,\"\")","v":""},{"$nulls":12},"",{"$nulls":8},0,"","","objektnogle_"]
[845,null,{"$f":"IF('1 - Opstart Importark'!$B$6=\"\",\"\",(IF('1 - Opstart Importark'!$B$15=\"\",CONCATENATE(LEFT('1 - Opstart Importark'!$B$3,1),(LEFT('1 - Opstart Importark'!$B$24,2)),LEFT('1 - Opstart Importark'!$B$28,3),IF(I856=\"\",\"\",\"-\"),I856,IF(K856=\"\",\"\",\"-\"),K856,IF(M856=\"\",\"\",\"-\"),M856,IF(O856=\"\",\"\",\"-\"),O856),CONCATENATE(LEFT('1 - Opstart Importark'!$B$3,1),(LEFT('1 - Opstart Importark'!$B$15,2)),(LEFT('1 - Opstart Importark'!$B$18,3)),IF(I856=\"\",\"\",\"-\"),I856,IF(K856=\"\",\"\",\"-\"),K856,IF(M856=\"\",\"\",\"-\"),M856,IF(O856=\"\",\"\",\"-\"),O856))))","v":""},{"$nulls":13},{"$f":"IF(LEN('1 - Opstart Importark'!$B$6)>0,'1 - Opstart Importark'!$B$6,\"\")","v":""},{"$f":"IF(LEN('1 - Opstart Importark'!$B$9)>0,'1 - Opstart Importark'!$B$9,\"\")","v":""},{"$f":"IF(LEN('1 - Opstart Importark'!$B$31)>0,'1 - Opstart Importark'!$B$31,\"\")","v":""},{"$nulls":12},"",{"$nulls":8},0,"","","objektnogle_"]
[846,null,{"$f":"IF('1 - Opstart Importark'!$B$6=\"\",\"\",(IF('1 - Opstart Importark'!$B$15=\"\",CONCATENATE(LEFT('1 - Opstart Importark'!$B$3,1),(LEFT('1 - Opstart Importark'!$B$24,2)),LEFT('1 - Opstart Importark'!$B$28,3),IF(I857=\"\",\"\",\"-\"),I857,IF(K857=\"\",\"\",\"-\"),K857,IF(M857=\"\",\"\",\"-\"),M857,IF(O857=\"\",\"\",\"-\"),O857),CONCATENATE(LEFT('1 - Opstart Importark'!$B$3,1),(LEFT('1 - Opstart Importark'!$B$15,2)),(LEFT('1 - Opstart Importark'!$B$18,3)),IF(I857=\"\",\"\",\"-\"),I857,IF(K857=\"\",\"\",\"-\"),K857,IF(M857=\"\",\"\",\"-\"),M857,IF(O857=\"\",\"\",\"-\"),O857))))","v":""},{"$nulls":13},{"$f":"IF(LEN('1 - Opstart Importark'!$B$6)>0,'1 - Opstart Importark'!$B$6,\"\")","v":""},{"$f":"IF(LEN('1 - Opstart Importark'!$B$9)>0,'1 - Opstart Importark'!$B$9,\"\")","v":""},{"$f":"IF(LEN('1 - Opstart Importark'!$B$31)>0,'1 - Opstart Importark'!$B$31,\"\")","v":""},{"$nulls":12},"",{"$nulls":8},0,"","","objektnogle_"]
[847,null,{"$f":"IF('1 - Opstart Importark'!$B$6=\"\",\"\",(IF('1 - Opstart Importark'!$B$15=\"\",CONCATENATE(LEFT('1 - Opstart Importark'!$B$3,1),(LEFT('1 - Opstart Importark'!$B$24,2)),LEFT('1 - Opstart Importark'!$B$28,3),IF(I858=\"\",\"\",\"-\"),I858,IF(K858=\"\",\"\",\"-\"),K858,IF(M858=\"\",\"\",\"-\"),M858,IF(O858=\"\",\"\",\"-\"),O858),CONCATENATE(LEFT('1 - Opstart Importark'!$B$3,1),(LEFT('1 - Opstart Importark'!$B$15,2)),(LEFT('1 - Opstart Importark'!$B$18,3)),IF(I858=\"\",\"\",\"-\"),I858,IF(K858=\"\",\"\",\"-\"),K858,IF(M858=\"\",\"\",\"-\"),M858,IF(O858=\"\",\"\",\"-\"),O858))))","v":""},{"$nulls":13},{"$f":"IF(LEN('1 - Opstart Importark'!$B$6)>0,'1 - Opstart Importark'!$B$6,\"\")","v":""},{"$f":"IF(LEN('1 - Opstart Importark'!$B$9)>0,'1 - Opstart Importark'!$B$9,\"\")","v":""},{"$f":"IF(LEN('1 - Opstart Importark'!$B$31)>0,'1 - Opstart Importark'!$B$31,\"\")","v":""},{"$nulls":12},"",{"$nulls":8},0,"","","objektnogle_"]
[848,null,{"$f":"IF('1 - Opstart Importark'!$B$6=\"\",\"\",(IF('1 - Opstart Importark'!$B$15=\"\",CONCATENATE(LEFT('1 - Opstart Importark'!$B$3,1),(LEFT('1 - Opstart Importark'!$B$24,2)),LEFT('1 - Opstart Importark'!$B$28,3),IF(I859=\"\",\"\",\"-\"),I859,IF(K859=\"\",\"\",\"-\"),K859,IF(M859=\"\",\"\",\"-\"),M859,IF(O859=\"\",\"\",\"-\"),O859),CONCATENATE(LEFT('1 - Opstart Importark'!$B$3,1),(LEFT('1 - Opstart Importark'!$B$15,2)),(LEFT('1 - Opstart Importark'!$B$18,3)),IF(I859=\"\",\"\",\"-\"),I859,IF(K859=\"\",\"\",\"-\"),K859,IF(M859=\"\",\"\",\"-\"),M859,IF(O859=\"\",\"\",\"-\"),O859))))","v":""},{"$nulls":13},{"$f":"IF(LEN('1 - Opstart Importark'!$B$6)>0,'1 - Opstart Importark'!$B$6,\"\")","v":""},{"$f":"IF(LEN('1 - Opstart Importark'!$B$9)>0,'1 - Opstart Importark'!$B$9,\"\")","v":""},{"$f":"IF(LEN('1 - Opstart Importark'!$B$31)>0,'1 - Opstart Importark'!$B$31,\"\")","v":""},{"$nulls":12},"",{"$nulls":8},0,"","","objektnogle_"]
[849,null,{"$f":"IF('1 - Opstart Importark'!$B$6=\"\",\"\",(IF('1 - Opstart Importark'!$B$15=\"\",CONCATENATE(LEFT('1 - Opstart Importark'!$B$3,1),(LEFT('1 - Opstart Importark'!$B$24,2)),LEFT('1 - Opstart Importark'!$B$28,3),IF(I860=\"\",\"\",\"-\"),I860,IF(K860=\"\",\"\",\"-\"),K860,IF(M860=\"\",\"\",\"-\"),M860,IF(O860=\"\",\"\",\"-\"),O860),CONCATENATE(LEFT('1 - Opstart Importark'!$B$3,1),(LEFT('1 - Opstart Importark'!$B$15,2)),(LEFT('1 - Opstart Importark'!$B$18,3)),IF(I860=\"\",\"\",\"-\"),I860,IF(K860=\"\",\"\",\"-\"),K860,IF(M860=\"\",\"\",\"-\"),M860,IF(O860=\"\",\"\",\"-\"),O860))))","v":""},{"$nulls":13},{"$f":"IF(LEN('1 - Opstart Importark'!$B$6)>0,'1 - Opstart Importark'!$B$6,\"\")","v":""},{"$f":"IF(LEN('1 - Opstart Importark'!$B$9)>0,'1 - Opstart Importark'!$B$9,\"\")","v":""},{"$f":"IF(LEN('1 - Opstart Importark'!$B$31)>0,'1 - Opstart Importark'!$B$31,\"\")","v":""},{"$nulls":12},"",{"$nulls":8},0,"","","objektnogle_"]
[850,null,{"$f":"IF('1 - Opstart Importark'!$B$6=\"\",\"\",(IF('1 - Opstart Importark'!$B$15=\"\",CONCATENATE(LEFT('1 - Opstart Importark'!$B$3,1),(LEFT('1 - Opstart Importark'!$B$24,2)),LEFT('1 - Opstart Importark'!$B$28,3),IF(I861=\"\",\"\",\"-\"),I861,IF(K861=\"\",\"\",\"-\"),K861,IF(M861=\"\",\"\",\"-\"),M861,IF(O861=\"\",\"\",\"-\"),O861),CONCATENATE(LEFT('1 - Opstart Importark'!$B$3,1),(LEFT('1 - Opstart Importark'!$B$15,2)),(LEFT('1 - Opstart Importark'!$B$18,3)),IF(I861=\"\",\"\",\"-\"),I861,IF(K861=\"\",\"\",\"-\"),K861,IF(M861=\"\",\"\",\"-\"),M861,IF(O861=\"\",\"\",\"-\"),O861))))","v":""},{"$nulls":13},{"$f":"IF(LEN('1 - Opstart Importark'!$B$6)>0,'1 - Opstart Importark'!$B$6,\"\")","v":""},{"$f":"IF(LEN('1 - Opstart Importark'!$B$9)>0,'1 - Opstart Importark'!$B$9,\"\")","v":""},{"$f":"IF(LEN('1 - Opstart Importark'!$B$31)>0,'1 - Opstart Importark'!$B$31,\"\")","v":""},{"$nulls":12},"",{"$nulls":8},0,"","","objektnogle_"]
[851,null,{"$f":"IF('1 - Opstart Importark'!$B$6=\"\",\"\",(IF('1 - Opstart Importark'!$B$15=\"\",CONCATENATE(LEFT('1 - Opstart Importark'!$B$3,1),(LEFT('1 - Opstart Importark'!$B$24,2)),LEFT('1 - Opstart Importark'!$B$28,3),IF(I862=\"\",\"\",\"-\"),I862,IF(K862=\"\",\"\",\"-\"),K862,IF(M862=\"\",\"\",\"-\"),M862,IF(O862=\"\",\"\",\"-\"),O862),CONCATENATE(LEFT('1 - Opstart Importark'!$B$3,1),(LEFT('1 - Opstart Importark'!$B$15,2)),(LEFT('1 - Opstart Importark'!$B$18,3)),IF(I862=\"\",\"\",\"-\"),I862,IF(K862=\"\",\"\",\"-\"),K862,IF(M862=\"\",\"\",\"-\"),M862,IF(O862=\"\",\"\",\"-\"),O862))))","v":""},{"$nulls":13},{"$f":"IF(LEN('1 - Opstart Importark'!$B$6)>0,'1 - Opstart Importark'!$B$6,\"\")","v":""},{"$f":"IF(LEN('1 - Opstart Importark'!$B$9)>0,'1 - Opstart Importark'!$B$9,\"\")","v":""},{"$f":"IF(LEN('1 - Opstart Importark'!$B$31)>0,'1 - Opstart Importark'!$B$31,\"\")","v":""},{"$nulls":12},"",{"$nulls":8},0,"","","objektnogle_"]
[852,null,{"$f":"IF('1 - Opstart Importark'!$B$6=\"\",\"\",(IF('1 - Opstart Importark'!$B$15=\"\",CONCATENATE(LEFT('1 - Opstart Importark'!$B$3,1),(LEFT('1 - Opstart Importark'!$B$24,2)),LEFT('1 - Opstart Importark'!$B$28,3),IF(I863=\"\",\"\",\"-\"),I863,IF(K863=\"\",\"\",\"-\"),K863,IF(M863=\"\",\"\",\"-\"),M863,IF(O863=\"\",\"\",\"-\"),O863),CONCATENATE(LEFT('1 - Opstart Importark'!$B$3,1),(LEFT('1 - Opstart Importark'!$B$15,2)),(LEFT('1 - Opstart Importark'!$B$18,3)),IF(I863=\"\",\"\",\"-\"),I863,IF(K863=\"\",\"\",\"-\"),K863,IF(M863=\"\",\"\",\"-\"),M863,IF(O863=\"\",\"\",\"-\"),O863))))","v":""},{"$nulls":13},{"$f":"IF(LEN('1 - Opstart Importark'!$B$6)>0,'1 - Opstart Importark'!$B$6,\"\")","v":""},{"$f":"IF(LEN('1 - Opstart Importark'!$B$9)>0,'1 - Opstart Importark'!$B$9,\"\")","v":""},{"$f":"IF(LEN('1 - Opstart Importark'!$B$31)>0,'1 - Opstart Importark'!$B$31,\"\")","v":""},{"$nulls":12},"",{"$nulls":8},0,"","","objektnogle_"]
[853,null,{"$f":"IF('1 - Opstart Importark'!$B$6=\"\",\"\",(IF('1 - Opstart Importark'!$B$15=\"\",CONCATENATE(LEFT('1 - Opstart Importark'!$B$3,1),(LEFT('1 - Opstart Importark'!$B$24,2)),LEFT('1 - Opstart Importark'!$B$28,3),IF(I864=\"\",\"\",\"-\"),I864,IF(K864=\"\",\"\",\"-\"),K864,IF(M864=\"\",\"\",\"-\"),M864,IF(O864=\"\",\"\",\"-\"),O864),CONCATENATE(LEFT('1 - Opstart Importark'!$B$3,1),(LEFT('1 - Opstart Importark'!$B$15,2)),(LEFT('1 - Opstart Importark'!$B$18,3)),IF(I864=\"\",\"\",\"-\"),I864,IF(K864=\"\",\"\",\"-\"),K864,IF(M864=\"\",\"\",\"-\"),M864,IF(O864=\"\",\"\",\"-\"),O864))))","v":""},{"$nulls":13},{"$f":"IF(LEN('1 - Opstart Importark'!$B$6)>0,'1 - Opstart Importark'!$B$6,\"\")","v":""},{"$f":"IF(LEN('1 - Opstart Importark'!$B$9)>0,'1 - Opstart Importark'!$B$9,\"\")","v":""},{"$f":"IF(LEN('1 - Opstart Importark'!$B$31)>0,'1 - Opstart Importark'!$B$31,\"\")","v":""},{"$nulls":12},"",{"$nulls":8},0,"","","objektnogle_"]
[854,null,{"$f":"IF('1 - Opstart Importark'!$B$6=\"\",\"\",(IF('1 - Opstart Importark'!$B$15=\"\",CONCATENATE(LEFT('1 - Opstart Importark'!$B$3,1),(LEFT('1 - Opstart Importark'!$B$24,2)),LEFT('1 - Opstart Importark'!$B$28,3),IF(I865=\"\",\"\",\"-\"),I865,IF(K865=\"\",\"\",\"-\"),K865,IF(M865=\"\",\"\",\"-\"),M865,IF(O865=\"\",\"\",\"-\"),O865),CONCATENATE(LEFT('1 - Opstart Importark'!$B$3,1),(LEFT('1 - Opstart Importark'!$B$15,2)),(LEFT('1 - Opstart Importark'!$B$18,3)),IF(I865=\"\",\"\",\"-\"),I865,IF(K865=\"\",\"\",\"-\"),K865,IF(M865=\"\",\"\",\"-\"),M865,IF(O865=\"\",\"\",\"-\"),O865))))","v":""},{"$nulls":13},{"$f":"IF(LEN('1 - Opstart Importark'!$B$6)>0,'1 - Opstart Importark'!$B$6,\"\")","v":""},{"$f":"IF(LEN('1 - Opstart Importark'!$B$9)>0,'1 - Opstart Importark'!$B$9,\"\")","v":""},{"$f":"IF(LEN('1 - Opstart Importark'!$B$31)>0,'1 - Opstart Importark'!$B$31,\"\")","v":""},{"$nulls":12},"",{"$nulls":8},0,"","","objektnogle_"]
[855,null,{"$f":"IF('1 - Opstart Importark'!$B$6=\"\",\"\",(IF('1 - Opstart Importark'!$B$15=\"\",CONCATENATE(LEFT('1 - Opstart Importark'!$B$3,1),(LEFT('1 - Opstart Importark'!$B$24,2)),LEFT('1 - Opstart Importark'!$B$28,3),IF(I866=\"\",\"\",\"-\"),I866,IF(K866=\"\",\"\",\"-\"),K866,IF(M866=\"\",\"\",\"-\"),M866,IF(O866=\"\",\"\",\"-\"),O866),CONCATENATE(LEFT('1 - Opstart Importark'!$B$3,1),(LEFT('1 - Opstart Importark'!$B$15,2)),(LEFT('1 - Opstart Importark'!$B$18,3)),IF(I866=\"\",\"\",\"-\"),I866,IF(K866=\"\",\"\",\"-\"),K866,IF(M866=\"\",\"\",\"-\"),M866,IF(O866=\"\",\"\",\"-\"),O866))))","v":""},{"$nulls":13},{"$f":"IF(LEN('1 - Opstart Importark'!$B$6)>0,'1 - Opstart Importark'!$B$6,\"\")","v":""},{"$f":"IF(LEN('1 - Opstart Importark'!$B$9)>0,'1 - Opstart Importark'!$B$9,\"\")","v":""},{"$f":"IF(LEN('1 - Opstart Importark'!$B$31)>0,'1 - Opstart Importark'!$B$31,\"\")","v":""},{"$nulls":12},"",{"$nulls":8},0,"","","objektnogle_"]
[856,null,{"$f":"IF('1 - Opstart Importark'!$B$6=\"\",\"\",(IF('1 - Opstart Importark'!$B$15=\"\",CONCATENATE(LEFT('1 - Opstart Importark'!$B$3,1),(LEFT('1 - Opstart Importark'!$B$24,2)),LEFT('1 - Opstart Importark'!$B$28,3),IF(I867=\"\",\"\",\"-\"),I867,IF(K867=\"\",\"\",\"-\"),K867,IF(M867=\"\",\"\",\"-\"),M867,IF(O867=\"\",\"\",\"-\"),O867),CONCATENATE(LEFT('1 - Opstart Importark'!$B$3,1),(LEFT('1 - Opstart Importark'!$B$15,2)),(LEFT('1 - Opstart Importark'!$B$18,3)),IF(I867=\"\",\"\",\"-\"),I867,IF(K867=\"\",\"\",\"-\"),K867,IF(M867=\"\",\"\",\"-\"),M867,IF(O867=\"\",\"\",\"-\"),O867))))","v":""},{"$nulls":13},{"$f":"IF(LEN('1 - Opstart Importark'!$B$6)>0,'1 - Opstart Importark'!$B$6,\"\")","v":""},{"$f":"IF(LEN('1 - Opstart Importark'!$B$9)>0,'1 - Opstart Importark'!$B$9,\"\")","v":""},{"$f":"IF(LEN('1 - Opstart Importark'!$B$31)>0,'1 - Opstart Importark'!$B$31,\"\")","v":""},{"$nulls":12},"",{"$nulls":8},0,"","","objektnogle_"]
[857,null,{"$f":"IF('1 - Opstart Importark'!$B$6=\"\",\"\",(IF('1 - Opstart Importark'!$B$15=\"\",CONCATENATE(LEFT('1 - Opstart Importark'!$B$3,1),(LEFT('1 - Opstart Importark'!$B$24,2)),LEFT('1 - Opstart Importark'!$B$28,3),IF(I868=\"\",\"\",\"-\"),I868,IF(K868=\"\",\"\",\"-\"),K868,IF(M868=\"\",\"\",\"-\"),M868,IF(O868=\"\",\"\",\"-\"),O868),CONCATENATE(LEFT('1 - Opstart Importark'!$B$3,1),(LEFT('1 - Opstart Importark'!$B$15,2)),(LEFT('1 - Opstart Importark'!$B$18,3)),IF(I868=\"\",\"\",\"-\"),I868,IF(K868=\"\",\"\",\"-\"),K868,IF(M868=\"\",\"\",\"-\"),M868,IF(O868=\"\",\"\",\"-\"),O868))))","v":""},{"$nulls":13},{"$f":"IF(LEN('1 - Opstart Importark'!$B$6)>0,'1 - Opstart Importark'!$B$6,\"\")","v":""},{"$f":"IF(LEN('1 - Opstart Importark'!$B$9)>0,'1 - Opstart Importark'!$B$9,\"\")","v":""},{"$f":"IF(LEN('1 - Opstart Importark'!$B$31)>0,'1 - Opstart Importark'!$B$31,\"\")","v":""},{"$nulls":12},"",{"$nulls":8},0,"","","objektnogle_"]
[858,null,{"$f":"IF('1 - Opstart Importark'!$B$6=\"\",\"\",(IF('1 - Opstart Importark'!$B$15=\"\",CONCATENATE(LEFT('1 - Opstart Importark'!$B$3,1),(LEFT('1 - Opstart Importark'!$B$24,2)),LEFT('1 - Opstart Importark'!$B$28,3),IF(I869=\"\",\"\",\"-\"),I869,IF(K869=\"\",\"\",\"-\"),K869,IF(M869=\"\",\"\",\"-\"),M869,IF(O869=\"\",\"\",\"-\"),O869),CONCATENATE(LEFT('1 - Opstart Importark'!$B$3,1),(LEFT('1 - Opstart Importark'!$B$15,2)),(LEFT('1 - Opstart Importark'!$B$18,3)),IF(I869=\"\",\"\",\"-\"),I869,IF(K869=\"\",\"\",\"-\"),K869,IF(M869=\"\",\"\",\"-\"),M869,IF(O869=\"\",\"\",\"-\"),O869))))","v":""},{"$nulls":13},{"$f":"IF(LEN('1 - Opstart Importark'!$B$6)>0,'1 - Opstart Importark'!$B$6,\"\")","v":""},{"$f":"IF(LEN('1 - Opstart Importark'!$B$9)>0,'1 - Opstart Importark'!$B$9,\"\")","v":""},{"$f":"IF(LEN('1 - Opstart Importark'!$B$31)>0,'1 - Opstart Importark'!$B$31,\"\")","v":""},{"$nulls":12},"",{"$nulls":8},0,"","","objektnogle_"]
[859,null,{"$f":"IF('1 - Opstart Importark'!$B$6=\"\",\"\",(IF('1 - Opstart Importark'!$B$15=\"\",CONCATENATE(LEFT('1 - Opstart Importark'!$B$3,1),(LEFT('1 - Opstart Importark'!$B$24,2)),LEFT('1 - Opstart Importark'!$B$28,3),IF(I870=\"\",\"\",\"-\"),I870,IF(K870=\"\",\"\",\"-\"),K870,IF(M870=\"\",\"\",\"-\"),M870,IF(O870=\"\",\"\",\"-\"),O870),CONCATENATE(LEFT('1 - Opstart Importark'!$B$3,1),(LEFT('1 - Opstart Importark'!$B$15,2)),(LEFT('1 - Opstart Importark'!$B$18,3)),IF(I870=\"\",\"\",\"-\"),I870,IF(K870=\"\",\"\",\"-\"),K870,IF(M870=\"\",\"\",\"-\"),M870,IF(O870=\"\",\"\",\"-\"),O870))))","v":""},{"$nulls":13},{"$f":"IF(LEN('1 - Opstart Importark'!$B$6)>0,'1 - Opstart Importark'!$B$6,\"\")","v":""},{"$f":"IF(LEN('1 - Opstart Importark'!$B$9)>0,'1 - Opstart Importark'!$B$9,\"\")","v":""},{"$f":"IF(LEN('1 - Opstart Importark'!$B$31)>0,'1 - Opstart Importark'!$B$31,\"\")","v":""},{"$nulls":12},"",{"$nulls":8},0,"","","objektnogle_"]
[860,null,{"$f":"IF('1 - Opstart Importark'!$B$6=\"\",\"\",(IF('1 - Opstart Importark'!$B$15=\"\",CONCATENATE(LEFT('1 - Opstart Importark'!$B$3,1),(LEFT('1 - Opstart Importark'!$B$24,2)),LEFT('1 - Opstart Importark'!$B$28,3),IF(I871=\"\",\"\",\"-\"),I871,IF(K871=\"\",\"\",\"-\"),K871,IF(M871=\"\",\"\",\"-\"),M871,IF(O871=\"\",\"\",\"-\"),O871),CONCATENATE(LEFT('1 - Opstart Importark'!$B$3,1),(LEFT('1 - Opstart Importark'!$B$15,2)),(LEFT('1 - Opstart Importark'!$B$18,3)),IF(I871=\"\",\"\",\"-\"),I871,IF(K871=\"\",\"\",\"-\"),K871,IF(M871=\"\",\"\",\"-\"),M871,IF(O871=\"\",\"\",\"-\"),O871))))","v":""},{"$nulls":13},{"$f":"IF(LEN('1 - Opstart Importark'!$B$6)>0,'1 - Opstart Importark'!$B$6,\"\")","v":""},{"$f":"IF(LEN('1 - Opstart Importark'!$B$9)>0,'1 - Opstart Importark'!$B$9,\"\")","v":""},{"$f":"IF(LEN('1 - Opstart Importark'!$B$31)>0,'1 - Opstart Importark'!$B$31,\"\")","v":""},{"$nulls":12},"",{"$nulls":8},0,"","","objektnogle_"]
[861,null,{"$f":"IF('1 - Opstart Importark'!$B$6=\"\",\"\",(IF('1 - Opstart Importark'!$B$15=\"\",CONCATENATE(LEFT('1 - Opstart Importark'!$B$3,1),(LEFT('1 - Opstart Importark'!$B$24,2)),LEFT('1 - Opstart Importark'!$B$28,3),IF(I872=\"\",\"\",\"-\"),I872,IF(K872=\"\",\"\",\"-\"),K872,IF(M872=\"\",\"\",\"-\"),M872,IF(O872=\"\",\"\",\"-\"),O872),CONCATENATE(LEFT('1 - Opstart Importark'!$B$3,1),(LEFT('1 - Opstart Importark'!$B$15,2)),(LEFT('1 - Opstart Importark'!$B$18,3)),IF(I872=\"\",\"\",\"-\"),I872,IF(K872=\"\",\"\",\"-\"),K872,IF(M872=\"\",\"\",\"-\"),M872,IF(O872=\"\",\"\",\"-\"),O872))))","v":""},{"$nulls":13},{"$f":"IF(LEN('1 - Opstart Importark'!$B$6)>0,'1 - Opstart Importark'!$B$6,\"\")","v":""},{"$f":"IF(LEN('1 - Opstart Importark'!$B$9)>0,'1 - Opstart Importark'!$B$9,\"\")","v":""},{"$f":"IF(LEN('1 - Opstart Importark'!$B$31)>0,'1 - Opstart Importark'!$B$31,\"\")","v":""},{"$nulls":12},"",{"$nulls":8},0,"","","objektnogle_"]
[862,null,{"$f":"IF('1 - Opstart Importark'!$B$6=\"\",\"\",(IF('1 - Opstart Importark'!$B$15=\"\",CONCATENATE(LEFT('1 - Opstart Importark'!$B$3,1),(LEFT('1 - Opstart Importark'!$B$24,2)),LEFT('1 - Opstart Importark'!$B$28,3),IF(I873=\"\",\"\",\"-\"),I873,IF(K873=\"\",\"\",\"-\"),K873,IF(M873=\"\",\"\",\"-\"),M873,IF(O873=\"\",\"\",\"-\"),O873),CONCATENATE(LEFT('1 - Opstart Importark'!$B$3,1),(LEFT('1 - Opstart Importark'!$B$15,2)),(LEFT('1 - Opstart Importark'!$B$18,3)),IF(I873=\"\",\"\",\"-\"),I873,IF(K873=\"\",\"\",\"-\"),K873,IF(M873=\"\",\"\",\"-\"),M873,IF(O873=\"\",\"\",\"-\"),O873))))","v":""},{"$nulls":13},{"$f":"IF(LEN('1 - Opstart Importark'!$B$6)>0,'1 - Opstart Importark'!$B$6,\"\")","v":""},{"$f":"IF(LEN('1 - Opstart Importark'!$B$9)>0,'1 - Opstart Importark'!$B$9,\"\")","v":""},{"$f":"IF(LEN('1 - Opstart Importark'!$B$31)>0,'1 - Opstart Importark'!$B$31,\"\")","v":""},{"$nulls":12},"",{"$nulls":8},0,"","","objektnogle_"]
[863,null,{"$f":"IF('1 - Opstart Importark'!$B$6=\"\",\"\",(IF('1 - Opstart Importark'!$B$15=\"\",CONCATENATE(LEFT('1 - Opstart Importark'!$B$3,1),(LEFT('1 - Opstart Importark'!$B$24,2)),LEFT('1 - Opstart Importark'!$B$28,3),IF(I874=\"\",\"\",\"-\"),I874,IF(K874=\"\",\"\",\"-\"),K874,IF(M874=\"\",\"\",\"-\"),M874,IF(O874=\"\",\"\",\"-\"),O874),CONCATENATE(LEFT('1 - Opstart Importark'!$B$3,1),(LEFT('1 - Opstart Importark'!$B$15,2)),(LEFT('1 - Opstart Importark'!$B$18,3)),IF(I874=\"\",\"\",\"-\"),I874,IF(K874=\"\",\"\",\"-\"),K874,IF(M874=\"\",\"\",\"-\"),M874,IF(O874=\"\",\"\",\"-\"),O874))))","v":""},{"$nulls":13},{"$f":"IF(LEN('1 - Opstart Importark'!$B$6)>0,'1 - Opstart Importark'!$B$6,\"\")","v":""},{"$f":"IF(LEN('1 - Opstart Importark'!$B$9)>0,'1 - Opstart Importark'!$B$9,\"\")","v":""},{"$f":"IF(LEN('1 - Opstart Importark'!$B$31)>0,'1 - Opstart Importark'!$B$31,\"\")","v":""},{"$nulls":12},"",{"$nulls":8},0,"","","objektnogle_"]
[864,null,{"$f":"IF('1 - Opstart Importark'!$B$6=\"\",\"\",(IF('1 - Opstart Importark'!$B$15=\"\",CONCATENATE(LEFT('1 - Opstart Importark'!$B$3,1),(LEFT('1 - Opstart Importark'!$B$24,2)),LEFT('1 - Opstart Importark'!$B$28,3),IF(I875=\"\",\"\",\"-\"),I875,IF(K875=\"\",\"\",\"-\"),K875,IF(M875=\"\",\"\",\"-\"),M875,IF(O875=\"\",\"\",\"-\"),O875),CONCATENATE(LEFT('1 - Opstart Importark'!$B$3,1),(LEFT('1 - Opstart Importark'!$B$15,2)),(LEFT('1 - Opstart Importark'!$B$18,3)),IF(I875=\"\",\"\",\"-\"),I875,IF(K875=\"\",\"\",\"-\"),K875,IF(M875=\"\",\"\",\"-\"),M875,IF(O875=\"\",\"\",\"-\"),O875))))","v":""},{"$nulls":13},{"$f":"IF(LEN('1 - Opstart Importark'!$B$6)>0,'1 - Opstart Importark'!$B$6,\"\")","v":""},{"$f":"IF(LEN('1 - Opstart Importark'!$B$9)>0,'1 - Opstart Importark'!$B$9,\"\")","v":""},{"$f":"IF(LEN('1 - Opstart Importark'!$B$31)>0,'1 - Opstart Importark'!$B$31,\"\")","v":""},{"$nulls":12},"",{"$nulls":8},0,"","","objektnogle_"]
[865,null,{"$f":"IF('1 - Opstart Importark'!$B$6=\"\",\"\",(IF('1 - Opstart Importark'!$B$15=\"\",CONCATENATE(LEFT('1 - Opstart Importark'!$B$3,1),(LEFT('1 - Opstart Importark'!$B$24,2)),LEFT('1 - Opstart Importark'!$B$28,3),IF(I876=\"\",\"\",\"-\"),I876,IF(K876=\"\",\"\",\"-\"),K876,IF(M876=\"\",\"\",\"-\"),M876,IF(O876=\"\",\"\",\"-\"),O876),CONCATENATE(LEFT('1 - Opstart Importark'!$B$3,1),(LEFT('1 - Opstart Importark'!$B$15,2)),(LEFT('1 - Opstart Importark'!$B$18,3)),IF(I876=\"\",\"\",\"-\"),I876,IF(K876=\"\",\"\",\"-\"),K876,IF(M876=\"\",\"\",\"-\"),M876,IF(O876=\"\",\"\",\"-\"),O876))))","v":""},{"$nulls":13},{"$f":"IF(LEN('1 - Opstart Importark'!$B$6)>0,'1 - Opstart Importark'!$B$6,\"\")","v":""},{"$f":"IF(LEN('1 - Opstart Importark'!$B$9)>0,'1 - Opstart Importark'!$B$9,\"\")","v":""},{"$f":"IF(LEN('1 - Opstart Importark'!$B$31)>0,'1 - Opstart Importark'!$B$31,\"\")","v":""},{"$nulls":12},"",{"$nulls":8},0,"","","objektnogle_"]
[866,null,{"$f":"IF('1 - Opstart Importark'!$B$6=\"\",\"\",(IF('1 - Opstart Importark'!$B$15=\"\",CONCATENATE(LEFT('1 - Opstart Importark'!$B$3,1),(LEFT('1 - Opstart Importark'!$B$24,2)),LEFT('1 - Opstart Importark'!$B$28,3),IF(I877=\"\",\"\",\"-\"),I877,IF(K877=\"\",\"\",\"-\"),K877,IF(M877=\"\",\"\",\"-\"),M877,IF(O877=\"\",\"\",\"-\"),O877),CONCATENATE(LEFT('1 - Opstart Importark'!$B$3,1),(LEFT('1 - Opstart Importark'!$B$15,2)),(LEFT('1 - Opstart Importark'!$B$18,3)),IF(I877=\"\",\"\",\"-\"),I877,IF(K877=\"\",\"\",\"-\"),K877,IF(M877=\"\",\"\",\"-\"),M877,IF(O877=\"\",\"\",\"-\"),O877))))","v":""},{"$nulls":13},{"$f":"IF(LEN('1 - Opstart Importark'!$B$6)>0,'1 - Opstart Importark'!$B$6,\"\")","v":""},{"$f":"IF(LEN('1 - Opstart Importark'!$B$9)>0,'1 - Opstart Importark'!$B$9,\"\")","v":""},{"$f":"IF(LEN('1 - Opstart Importark'!$B$31)>0,'1 - Opstart Importark'!$B$31,\"\")","v":""},{"$nulls":12},"",{"$nulls":8},0,"","","objektnogle_"]
[867,null,{"$f":"IF('1 - Opstart Importark'!$B$6=\"\",\"\",(IF('1 - Opstart Importark'!$B$15=\"\",CONCATENATE(LEFT('1 - Opstart Importark'!$B$3,1),(LEFT('1 - Opstart Importark'!$B$24,2)),LEFT('1 - Opstart Importark'!$B$28,3),IF(I878=\"\",\"\",\"-\"),I878,IF(K878=\"\",\"\",\"-\"),K878,IF(M878=\"\",\"\",\"-\"),M878,IF(O878=\"\",\"\",\"-\"),O878),CONCATENATE(LEFT('1 - Opstart Importark'!$B$3,1),(LEFT('1 - Opstart Importark'!$B$15,2)),(LEFT('1 - Opstart Importark'!$B$18,3)),IF(I878=\"\",\"\",\"-\"),I878,IF(K878=\"\",\"\",\"-\"),K878,IF(M878=\"\",\"\",\"-\"),M878,IF(O878=\"\",\"\",\"-\"),O878))))","v":""},{"$nulls":13},{"$f":"IF(LEN('1 - Opstart Importark'!$B$6)>0,'1 - Opstart Importark'!$B$6,\"\")","v":""},{"$f":"IF(LEN('1 - Opstart Importark'!$B$9)>0,'1 - Opstart Importark'!$B$9,\"\")","v":""},{"$f":"IF(LEN('1 - Opstart Importark'!$B$31)>0,'1 - Opstart Importark'!$B$31,\"\")","v":""},{"$nulls":12},"",{"$nulls":8},0,"","","objektnogle_"]
[868,null,{"$f":"IF('1 - Opstart Importark'!$B$6=\"\",\"\",(IF('1 - Opstart Importark'!$B$15=\"\",CONCATENATE(LEFT('1 - Opstart Importark'!$B$3,1),(LEFT('1 - Opstart Importark'!$B$24,2)),LEFT('1 - Opstart Importark'!$B$28,3),IF(I879=\"\",\"\",\"-\"),I879,IF(K879=\"\",\"\",\"-\"),K879,IF(M879=\"\",\"\",\"-\"),M879,IF(O879=\"\",\"\",\"-\"),O879),CONCATENATE(LEFT('1 - Opstart Importark'!$B$3,1),(LEFT('1 - Opstart Importark'!$B$15,2)),(LEFT('1 - Opstart Importark'!$B$18,3)),IF(I879=\"\",\"\",\"-\"),I879,IF(K879=\"\",\"\",\"-\"),K879,IF(M879=\"\",\"\",\"-\"),M879,IF(O879=\"\",\"\",\"-\"),O879))))","v":""},{"$nulls":13},{"$f":"IF(LEN('1 - Opstart Importark'!$B$6)>0,'1 - Opstart Importark'!$B$6,\"\")","v":""},{"$f":"IF(LEN('1 - Opstart Importark'!$B$9)>0,'1 - Opstart Importark'!$B$9,\"\")","v":""},{"$f":"IF(LEN('1 - Opstart Importark'!$B$31)>0,'1 - Opstart Importark'!$B$31,\"\")","v":""},{"$nulls":12},"",{"$nulls":8},0,"","","objektnogle_"]
[869,null,{"$f":"IF('1 - Opstart Importark'!$B$6=\"\",\"\",(IF('1 - Opstart Importark'!$B$15=\"\",CONCATENATE(LEFT('1 - Opstart Importark'!$B$3,1),(LEFT('1 - Opstart Importark'!$B$24,2)),LEFT('1 - Opstart Importark'!$B$28,3),IF(I880=\"\",\"\",\"-\"),I880,IF(K880=\"\",\"\",\"-\"),K880,IF(M880=\"\",\"\",\"-\"),M880,IF(O880=\"\",\"\",\"-\"),O880),CONCATENATE(LEFT('1 - Opstart Importark'!$B$3,1),(LEFT('1 - Opstart Importark'!$B$15,2)),(LEFT('1 - Opstart Importark'!$B$18,3)),IF(I880=\"\",\"\",\"-\"),I880,IF(K880=\"\",\"\",\"-\"),K880,IF(M880=\"\",\"\",\"-\"),M880,IF(O880=\"\",\"\",\"-\"),O880))))","v":""},{"$nulls":13},{"$f":"IF(LEN('1 - Opstart Importark'!$B$6)>0,'1 - Opstart Importark'!$B$6,\"\")","v":""},{"$f":"IF(LEN('1 - Opstart Importark'!$B$9)>0,'1 - Opstart Importark'!$B$9,\"\")","v":""},{"$f":"IF(LEN('1 - Opstart Importark'!$B$31)>0,'1 - Opstart Importark'!$B$31,\"\")","v":""},{"$nulls":12},"",{"$nulls":8},0,"","","objektnogle_"]
[870,null,{"$f":"IF('1 - Opstart Importark'!$B$6=\"\",\"\",(IF('1 - Opstart Importark'!$B$15=\"\",CONCATENATE(LEFT('1 - Opstart Importark'!$B$3,1),(LEFT('1 - Opstart Importark'!$B$24,2)),LEFT('1 - Opstart Importark'!$B$28,3),IF(I881=\"\",\"\",\"-\"),I881,IF(K881=\"\",\"\",\"-\"),K881,IF(M881=\"\",\"\",\"-\"),M881,IF(O881=\"\",\"\",\"-\"),O881),CONCATENATE(LEFT('1 - Opstart Importark'!$B$3,1),(LEFT('1 - Opstart Importark'!$B$15,2)),(LEFT('1 - Opstart Importark'!$B$18,3)),IF(I881=\"\",\"\",\"-\"),I881,IF(K881=\"\",\"\",\"-\"),K881,IF(M881=\"\",\"\",\"-\"),M881,IF(O881=\"\",\"\",\"-\"),O881))))","v":""},{"$nulls":13},{"$f":"IF(LEN('1 - Opstart Importark'!$B$6)>0,'1 - Opstart Importark'!$B$6,\"\")","v":""},{"$f":"IF(LEN('1 - Opstart Importark'!$B$9)>0,'1 - Opstart Importark'!$B$9,\"\")","v":""},{"$f":"IF(LEN('1 - Opstart Importark'!$B$31)>0,'1 - Opstart Importark'!$B$31,\"\")","v":""},{"$nulls":12},"",{"$nulls":8},0,"","","objektnogle_"]
[871,null,{"$f":"IF('1 - Opstart Importark'!$B$6=\"\",\"\",(IF('1 - Opstart Importark'!$B$15=\"\",CONCATENATE(LEFT('1 - Opstart Importark'!$B$3,1),(LEFT('1 - Opstart Importark'!$B$24,2)),LEFT('1 - Opstart Importark'!$B$28,3),IF(I882=\"\",\"\",\"-\"),I882,IF(K882=\"\",\"\",\"-\"),K882,IF(M882=\"\",\"\",\"-\"),M882,IF(O882=\"\",\"\",\"-\"),O882),CONCATENATE(LEFT('1 - Opstart Importark'!$B$3,1),(LEFT('1 - Opstart Importark'!$B$15,2)),(LEFT('1 - Opstart Importark'!$B$18,3)),IF(I882=\"\",\"\",\"-\"),I882,IF(K882=\"\",\"\",\"-\"),K882,IF(M882=\"\",\"\",\"-\"),M882,IF(O882=\"\",\"\",\"-\"),O882))))","v":""},{"$nulls":13},{"$f":"IF(LEN('1 - Opstart Importark'!$B$6)>0,'1 - Opstart Importark'!$B$6,\"\")","v":""},{"$f":"IF(LEN('1 - Opstart Importark'!$B$9)>0,'1 - Opstart Importark'!$B$9,\"\")","v":""},{"$f":"IF(LEN('1 - Opstart Importark'!$B$31)>0,'1 - Opstart Importark'!$B$31,\"\")","v":""},{"$nulls":12},"",{"$nulls":8},0,"","","objektnogle_"]
[872,null,{"$f":"IF('1 - Opstart Importark'!$B$6=\"\",\"\",(IF('1 - Opstart Importark'!$B$15=\"\",CONCATENATE(LEFT('1 - Opstart Importark'!$B$3,1),(LEFT('1 - Opstart Importark'!$B$24,2)),LEFT('1 - Opstart Importark'!$B$28,3),IF(I883=\"\",\"\",\"-\"),I883,IF(K883=\"\",\"\",\"-\"),K883,IF(M883=\"\",\"\",\"-\"),M883,IF(O883=\"\",\"\",\"-\"),O883),CONCATENATE(LEFT('1 - Opstart Importark'!$B$3,1),(LEFT('1 - Opstart Importark'!$B$15,2)),(LEFT('1 - Opstart Importark'!$B$18,3)),IF(I883=\"\",\"\",\"-\"),I883,IF(K883=\"\",\"\",\"-\"),K883,IF(M883=\"\",\"\",\"-\"),M883,IF(O883=\"\",\"\",\"-\"),O883))))","v":""},{"$nulls":13},{"$f":"IF(LEN('1 - Opstart Importark'!$B$6)>0,'1 - Opstart Importark'!$B$6,\"\")","v":""},{"$f":"IF(LEN('1 - Opstart Importark'!$B$9)>0,'1 - Opstart Importark'!$B$9,\"\")","v":""},{"$f":"IF(LEN('1 - Opstart Importark'!$B$31)>0,'1 - Opstart Importark'!$B$31,\"\")","v":""},{"$nulls":12},"",{"$nulls":8},0,"","","objektnogle_"]
[873,null,{"$f":"IF('1 - Opstart Importark'!$B$6=\"\",\"\",(IF('1 - Opstart Importark'!$B$15=\"\",CONCATENATE(LEFT('1 - Opstart Importark'!$B$3,1),(LEFT('1 - Opstart Importark'!$B$24,2)),LEFT('1 - Opstart Importark'!$B$28,3),IF(I884=\"\",\"\",\"-\"),I884,IF(K884=\"\",\"\",\"-\"),K884,IF(M884=\"\",\"\",\"-\"),M884,IF(O884=\"\",\"\",\"-\"),O884),CONCATENATE(LEFT('1 - Opstart Importark'!$B$3,1),(LEFT('1 - Opstart Importark'!$B$15,2)),(LEFT('1 - Opstart Importark'!$B$18,3)),IF(I884=\"\",\"\",\"-\"),I884,IF(K884=\"\",\"\",\"-\"),K884,IF(M884=\"\",\"\",\"-\"),M884,IF(O884=\"\",\"\",\"-\"),O884))))","v":""},{"$nulls":13},{"$f":"IF(LEN('1 - Opstart Importark'!$B$6)>0,'1 - Opstart Importark'!$B$6,\"\")","v":""},{"$f":"IF(LEN('1 - Opstart Importark'!$B$9)>0,'1 - Opstart Importark'!$B$9,\"\")","v":""},{"$f":"IF(LEN('1 - Opstart Importark'!$B$31)>0,'1 - Opstart Importark'!$B$31,\"\")","v":""},{"$nulls":12},"",{"$nulls":8},0,"","","objektnogle_"]
[874,null,{"$f":"IF('1 - Opstart Importark'!$B$6=\"\",\"\",(IF('1 - Opstart Importark'!$B$15=\"\",CONCATENATE(LEFT('1 - Opstart Importark'!$B$3,1),(LEFT('1 - Opstart Importark'!$B$24,2)),LEFT('1 - Opstart Importark'!$B$28,3),IF(I885=\"\",\"\",\"-\"),I885,IF(K885=\"\",\"\",\"-\"),K885,IF(M885=\"\",\"\",\"-\"),M885,IF(O885=\"\",\"\",\"-\"),O885),CONCATENATE(LEFT('1 - Opstart Importark'!$B$3,1),(LEFT('1 - Opstart Importark'!$B$15,2)),(LEFT('1 - Opstart Importark'!$B$18,3)),IF(I885=\"\",\"\",\"-\"),I885,IF(K885=\"\",\"\",\"-\"),K885,IF(M885=\"\",\"\",\"-\"),M885,IF(O885=\"\",\"\",\"-\"),O885))))","v":""},{"$nulls":13},{"$f":"IF(LEN('1 - Opstart Importark'!$B$6)>0,'1 - Opstart Importark'!$B$6,\"\")","v":""},{"$f":"IF(LEN('1 - Opstart Importark'!$B$9)>0,'1 - Opstart Importark'!$B$9,\"\")","v":""},{"$f":"IF(LEN('1 - Opstart Importark'!$B$31)>0,'1 - Opstart Importark'!$B$31,\"\")","v":""},{"$nulls":12},"",{"$nulls":8},0,"","","objektnogle_"]
[875,null,{"$f":"IF('1 - Opstart Importark'!$B$6=\"\",\"\",(IF('1 - Opstart Importark'!$B$15=\"\",CONCATENATE(LEFT('1 - Opstart Importark'!$B$3,1),(LEFT('1 - Opstart Importark'!$B$24,2)),LEFT('1 - Opstart Importark'!$B$28,3),IF(I886=\"\",\"\",\"-\"),I886,IF(K886=\"\",\"\",\"-\"),K886,IF(M886=\"\",\"\",\"-\"),M886,IF(O886=\"\",\"\",\"-\"),O886),CONCATENATE(LEFT('1 - Opstart Importark'!$B$3,1),(LEFT('1 - Opstart Importark'!$B$15,2)),(LEFT('1 - Opstart Importark'!$B$18,3)),IF(I886=\"\",\"\",\"-\"),I886,IF(K886=\"\",\"\",\"-\"),K886,IF(M886=\"\",\"\",\"-\"),M886,IF(O886=\"\",\"\",\"-\"),O886))))","v":""},{"$nulls":13},{"$f":"IF(LEN('1 - Opstart Importark'!$B$6)>0,'1 - Opstart Importark'!$B$6,\"\")","v":""},{"$f":"IF(LEN('1 - Opstart Importark'!$B$9)>0,'1 - Opstart Importark'!$B$9,\"\")","v":""},{"$f":"IF(LEN('1 - Opstart Importark'!$B$31)>0,'1 - Opstart Importark'!$B$31,\"\")","v":""},{"$nulls":12},"",{"$nulls":8},0,"","","objektnogle_"]
[876,null,{"$f":"IF('1 - Opstart Importark'!$B$6=\"\",\"\",(IF('1 - Opstart Importark'!$B$15=\"\",CONCATENATE(LEFT('1 - Opstart Importark'!$B$3,1),(LEFT('1 - Opstart Importark'!$B$24,2)),LEFT('1 - Opstart Importark'!$B$28,3),IF(I887=\"\",\"\",\"-\"),I887,IF(K887=\"\",\"\",\"-\"),K887,IF(M887=\"\",\"\",\"-\"),M887,IF(O887=\"\",\"\",\"-\"),O887),CONCATENATE(LEFT('1 - Opstart Importark'!$B$3,1),(LEFT('1 - Opstart Importark'!$B$15,2)),(LEFT('1 - Opstart Importark'!$B$18,3)),IF(I887=\"\",\"\",\"-\"),I887,IF(K887=\"\",\"\",\"-\"),K887,IF(M887=\"\",\"\",\"-\"),M887,IF(O887=\"\",\"\",\"-\"),O887))))","v":""},{"$nulls":13},{"$f":"IF(LEN('1 - Opstart Importark'!$B$6)>0,'1 - Opstart Importark'!$B$6,\"\")","v":""},{"$f":"IF(LEN('1 - Opstart Importark'!$B$9)>0,'1 - Opstart Importark'!$B$9,\"\")","v":""},{"$f":"IF(LEN('1 - Opstart Importark'!$B$31)>0,'1 - Opstart Importark'!$B$31,\"\")","v":""},{"$nulls":12},"",{"$nulls":8},0,"","","objektnogle_"]
[877,null,{"$f":"IF('1 - Opstart Importark'!$B$6=\"\",\"\",(IF('1 - Opstart Importark'!$B$15=\"\",CONCATENATE(LEFT('1 - Opstart Importark'!$B$3,1),(LEFT('1 - Opstart Importark'!$B$24,2)),LEFT('1 - Opstart Importark'!$B$28,3),IF(I888=\"\",\"\",\"-\"),I888,IF(K888=\"\",\"\",\"-\"),K888,IF(M888=\"\",\"\",\"-\"),M888,IF(O888=\"\",\"\",\"-\"),O888),CONCATENATE(LEFT('1 - Opstart Importark'!$B$3,1),(LEFT('1 - Opstart Importark'!$B$15,2)),(LEFT('1 - Opstart Importark'!$B$18,3)),IF(I888=\"\",\"\",\"-\"),I888,IF(K888=\"\",\"\",\"-\"),K888,IF(M888=\"\",\"\",\"-\"),M888,IF(O888=\"\",\"\",\"-\"),O888))))","v":""},{"$nulls":13},{"$f":"IF(LEN('1 - Opstart Importark'!$B$6)>0,'1 - Opstart Importark'!$B$6,\"\")","v":""},{"$f":"IF(LEN('1 - Opstart Importark'!$B$9)>0,'1 - Opstart Importark'!$B$9,\"\")","v":""},{"$f":"IF(LEN('1 - Opstart Importark'!$B$31)>0,'1 - Opstart Importark'!$B$31,\"\")","v":""},{"$nulls":12},"",{"$nulls":8},0,"","","objektnogle_"]
[878,null,{"$f":"IF('1 - Opstart Importark'!$B$6=\"\",\"\",(IF('1 - Opstart Importark'!$B$15=\"\",CONCATENATE(LEFT('1 - Opstart Importark'!$B$3,1),(LEFT('1 - Opstart Importark'!$B$24,2)),LEFT('1 - Opstart Importark'!$B$28,3),IF(I889=\"\",\"\",\"-\"),I889,IF(K889=\"\",\"\",\"-\"),K889,IF(M889=\"\",\"\",\"-\"),M889,IF(O889=\"\",\"\",\"-\"),O889),CONCATENATE(LEFT('1 - Opstart Importark'!$B$3,1),(LEFT('1 - Opstart Importark'!$B$15,2)),(LEFT('1 - Opstart Importark'!$B$18,3)),IF(I889=\"\",\"\",\"-\"),I889,IF(K889=\"\",\"\",\"-\"),K889,IF(M889=\"\",\"\",\"-\"),M889,IF(O889=\"\",\"\",\"-\"),O889))))","v":""},{"$nulls":13},{"$f":"IF(LEN('1 - Opstart Importark'!$B$6)>0,'1 - Opstart Importark'!$B$6,\"\")","v":""},{"$f":"IF(LEN('1 - Opstart Importark'!$B$9)>0,'1 - Opstart Importark'!$B$9,\"\")","v":""},{"$f":"IF(LEN('1 - Opstart Importark'!$B$31)>0,'1 - Opstart Importark'!$B$31,\"\")","v":""},{"$nulls":12},"",{"$nulls":8},0,"","","objektnogle_"]
[879,null,{"$f":"IF('1 - Opstart Importark'!$B$6=\"\",\"\",(IF('1 - Opstart Importark'!$B$15=\"\",CONCATENATE(LEFT('1 - Opstart Importark'!$B$3,1),(LEFT('1 - Opstart Importark'!$B$24,2)),LEFT('1 - Opstart Importark'!$B$28,3),IF(I890=\"\",\"\",\"-\"),I890,IF(K890=\"\",\"\",\"-\"),K890,IF(M890=\"\",\"\",\"-\"),M890,IF(O890=\"\",\"\",\"-\"),O890),CONCATENATE(LEFT('1 - Opstart Importark'!$B$3,1),(LEFT('1 - Opstart Importark'!$B$15,2)),(LEFT('1 - Opstart Importark'!$B$18,3)),IF(I890=\"\",\"\",\"-\"),I890,IF(K890=\"\",\"\",\"-\"),K890,IF(M890=\"\",\"\",\"-\"),M890,IF(O890=\"\",\"\",\"-\"),O890))))","v":""},{"$nulls":13},{"$f":"IF(LEN('1 - Opstart Importark'!$B$6)>0,'1 - Opstart Importark'!$B$6,\"\")","v":""},{"$f":"IF(LEN('1 - Opstart Importark'!$B$9)>0,'1 - Opstart Importark'!$B$9,\"\")","v":""},{"$f":"IF(LEN('1 - Opstart Importark'!$B$31)>0,'1 - Opstart Importark'!$B$31,\"\")","v":""},{"$nulls":12},"",{"$nulls":8},0,"","","objektnogle_"]
[880,null,{"$f":"IF('1 - Opstart Importark'!$B$6=\"\",\"\",(IF('1 - Opstart Importark'!$B$15=\"\",CONCATENATE(LEFT('1 - Opstart Importark'!$B$3,1),(LEFT('1 - Opstart Importark'!$B$24,2)),LEFT('1 - Opstart Importark'!$B$28,3),IF(I891=\"\",\"\",\"-\"),I891,IF(K891=\"\",\"\",\"-\"),K891,IF(M891=\"\",\"\",\"-\"),M891,IF(O891=\"\",\"\",\"-\"),O891),CONCATENATE(LEFT('1 - Opstart Importark'!$B$3,1),(LEFT('1 - Opstart Importark'!$B$15,2)),(LEFT('1 - Opstart Importark'!$B$18,3)),IF(I891=\"\",\"\",\"-\"),I891,IF(K891=\"\",\"\",\"-\"),K891,IF(M891=\"\",\"\",\"-\"),M891,IF(O891=\"\",\"\",\"-\"),O891))))","v":""},{"$nulls":13},{"$f":"IF(LEN('1 - Opstart Importark'!$B$6)>0,'1 - Opstart Importark'!$B$6,\"\")","v":""},{"$f":"IF(LEN('1 - Opstart Importark'!$B$9)>0,'1 - Opstart Importark'!$B$9,\"\")","v":""},{"$f":"IF(LEN('1 - Opstart Importark'!$B$31)>0,'1 - Opstart Importark'!$B$31,\"\")","v":""},{"$nulls":12},"",{"$nulls":8},0,"","","objektnogle_"]
[881,null,{"$f":"IF('1 - Opstart Importark'!$B$6=\"\",\"\",(IF('1 - Opstart Importark'!$B$15=\"\",CONCATENATE(LEFT('1 - Opstart Importark'!$B$3,1),(LEFT('1 - Opstart Importark'!$B$24,2)),LEFT('1 - Opstart Importark'!$B$28,3),IF(I892=\"\",\"\",\"-\"),I892,IF(K892=\"\",\"\",\"-\"),K892,IF(M892=\"\",\"\",\"-\"),M892,IF(O892=\"\",\"\",\"-\"),O892),CONCATENATE(LEFT('1 - Opstart Importark'!$B$3,1),(LEFT('1 - Opstart Importark'!$B$15,2)),(LEFT('1 - Opstart Importark'!$B$18,3)),IF(I892=\"\",\"\",\"-\"),I892,IF(K892=\"\",\"\",\"-\"),K892,IF(M892=\"\",\"\",\"-\"),M892,IF(O892=\"\",\"\",\"-\"),O892))))","v":""},{"$nulls":13},{"$f":"IF(LEN('1 - Opstart Importark'!$B$6)>0,'1 - Opstart Importark'!$B$6,\"\")","v":""},{"$f":"IF(LEN('1 - Opstart Importark'!$B$9)>0,'1 - Opstart Importark'!$B$9,\"\")","v":""},{"$f":"IF(LEN('1 - Opstart Importark'!$B$31)>0,'1 - Opstart Importark'!$B$31,\"\")","v":""},{"$nulls":12},"",{"$nulls":8},0,"","","objektnogle_"]
[882,null,{"$f":"IF('1 - Opstart Importark'!$B$6=\"\",\"\",(IF('1 - Opstart Importark'!$B$15=\"\",CONCATENATE(LEFT('1 - Opstart Importark'!$B$3,1),(LEFT('1 - Opstart Importark'!$B$24,2)),LEFT('1 - Opstart Importark'!$B$28,3),IF(I893=\"\",\"\",\"-\"),I893,IF(K893=\"\",\"\",\"-\"),K893,IF(M893=\"\",\"\",\"-\"),M893,IF(O893=\"\",\"\",\"-\"),O893),CONCATENATE(LEFT('1 - Opstart Importark'!$B$3,1),(LEFT('1 - Opstart Importark'!$B$15,2)),(LEFT('1 - Opstart Importark'!$B$18,3)),IF(I893=\"\",\"\",\"-\"),I893,IF(K893=\"\",\"\",\"-\"),K893,IF(M893=\"\",\"\",\"-\"),M893,IF(O893=\"\",\"\",\"-\"),O893))))","v":""},{"$nulls":13},{"$f":"IF(LEN('1 - Opstart Importark'!$B$6)>0,'1 - Opstart Importark'!$B$6,\"\")","v":""},{"$f":"IF(LEN('1 - Opstart Importark'!$B$9)>0,'1 - Opstart Importark'!$B$9,\"\")","v":""},{"$f":"IF(LEN('1 - Opstart Importark'!$B$31)>0,'1 - Opstart Importark'!$B$31,\"\")","v":""},{"$nulls":12},"",{"$nulls":8},0,"","","objektnogle_"]
[883,null,{"$f":"IF('1 - Opstart Importark'!$B$6=\"\",\"\",(IF('1 - Opstart Importark'!$B$15=\"\",CONCATENATE(LEFT('1 - Opstart Importark'!$B$3,1),(LEFT('1 - Opstart Importark'!$B$24,2)),LEFT('1 - Opstart Importark'!$B$28,3),IF(I894=\"\",\"\",\"-\"),I894,IF(K894=\"\",\"\",\"-\"),K894,IF(M894=\"\",\"\",\"-\"),M894,IF(O894=\"\",\"\",\"-\"),O894),CONCATENATE(LEFT('1 - Opstart Importark'!$B$3,1),(LEFT('1 - Opstart Importark'!$B$15,2)),(LEFT('1 - Opstart Importark'!$B$18,3)),IF(I894=\"\",\"\",\"-\"),I894,IF(K894=\"\",\"\",\"-\"),K894,IF(M894=\"\",\"\",\"-\"),M894,IF(O894=\"\",\"\",\"-\"),O894))))","v":""},{"$nulls":13},{"$f":"IF(LEN('1 - Opstart Importark'!$B$6)>0,'1 - Opstart Importark'!$B$6,\"\")","v":""},{"$f":"IF(LEN('1 - Opstart Importark'!$B$9)>0,'1 - Opstart Importark'!$B$9,\"\")","v":""},{"$f":"IF(LEN('1 - Opstart Importark'!$B$31)>0,'1 - Opstart Importark'!$B$31,\"\")","v":""},{"$nulls":12},"",{"$nulls":8},0,"","","objektnogle_"]
[884,null,{"$f":"IF('1 - Opstart Importark'!$B$6=\"\",\"\",(IF('1 - Opstart Importark'!$B$15=\"\",CONCATENATE(LEFT('1 - Opstart Importark'!$B$3,1),(LEFT('1 - Opstart Importark'!$B$24,2)),LEFT('1 - Opstart Importark'!$B$28,3),IF(I895=\"\",\"\",\"-\"),I895,IF(K895=\"\",\"\",\"-\"),K895,IF(M895=\"\",\"\",\"-\"),M895,IF(O895=\"\",\"\",\"-\"),O895),CONCATENATE(LEFT('1 - Opstart Importark'!$B$3,1),(LEFT('1 - Opstart Importark'!$B$15,2)),(LEFT('1 - Opstart Importark'!$B$18,3)),IF(I895=\"\",\"\",\"-\"),I895,IF(K895=\"\",\"\",\"-\"),K895,IF(M895=\"\",\"\",\"-\"),M895,IF(O895=\"\",\"\",\"-\"),O895))))","v":""},{"$nulls":13},{"$f":"IF(LEN('1 - Opstart Importark'!$B$6)>0,'1 - Opstart Importark'!$B$6,\"\")","v":""},{"$f":"IF(LEN('1 - Opstart Importark'!$B$9)>0,'1 - Opstart Importark'!$B$9,\"\")","v":""},{"$f":"IF(LEN('1 - Opstart Importark'!$B$31)>0,'1 - Opstart Importark'!$B$31,\"\")","v":""},{"$nulls":12},"",{"$nulls":8},0,"","","objektnogle_"]
[885,null,{"$f":"IF('1 - Opstart Importark'!$B$6=\"\",\"\",(IF('1 - Opstart Importark'!$B$15=\"\",CONCATENATE(LEFT('1 - Opstart Importark'!$B$3,1),(LEFT('1 - Opstart Importark'!$B$24,2)),LEFT('1 - Opstart Importark'!$B$28,3),IF(I896=\"\",\"\",\"-\"),I896,IF(K896=\"\",\"\",\"-\"),K896,IF(M896=\"\",\"\",\"-\"),M896,IF(O896=\"\",\"\",\"-\"),O896),CONCATENATE(LEFT('1 - Opstart Importark'!$B$3,1),(LEFT('1 - Opstart Importark'!$B$15,2)),(LEFT('1 - Opstart Importark'!$B$18,3)),IF(I896=\"\",\"\",\"-\"),I896,IF(K896=\"\",\"\",\"-\"),K896,IF(M896=\"\",\"\",\"-\"),M896,IF(O896=\"\",\"\",\"-\"),O896))))","v":""},{"$nulls":13},{"$f":"IF(LEN('1 - Opstart Importark'!$B$6)>0,'1 - Opstart Importark'!$B$6,\"\")","v":""},{"$f":"IF(LEN('1 - Opstart Importark'!$B$9)>0,'1 - Opstart Importark'!$B$9,\"\")","v":""},{"$f":"IF(LEN('1 - Opstart Importark'!$B$31)>0,'1 - Opstart Importark'!$B$31,\"\")","v":""},{"$nulls":12},"",{"$nulls":8},0,"","","objektnogle_"]
[886,null,{"$f":"IF('1 - Opstart Importark'!$B$6=\"\",\"\",(IF('1 - Opstart Importark'!$B$15=\"\",CONCATENATE(LEFT('1 - Opstart Importark'!$B$3,1),(LEFT('1 - Opstart Importark'!$B$24,2)),LEFT('1 - Opstart Importark'!$B$28,3),IF(I897=\"\",\"\",\"-\"),I897,IF(K897=\"\",\"\",\"-\"),K897,IF(M897=\"\",\"\",\"-\"),M897,IF(O897=\"\",\"\",\"-\"),O897),CONCATENATE(LEFT('1 - Opstart Importark'!$B$3,1),(LEFT('1 - Opstart Importark'!$B$15,2)),(LEFT('1 - Opstart Importark'!$B$18,3)),IF(I897=\"\",\"\",\"-\"),I897,IF(K897=\"\",\"\",\"-\"),K897,IF(M897=\"\",\"\",\"-\"),M897,IF(O897=\"\",\"\",\"-\"),O897))))","v":""},{"$nulls":13},{"$f":"IF(LEN('1 - Opstart Importark'!$B$6)>0,'1 - Opstart Importark'!$B$6,\"\")","v":""},{"$f":"IF(LEN('1 - Opstart Importark'!$B$9)>0,'1 - Opstart Importark'!$B$9,\"\")","v":""},{"$f":"IF(LEN('1 - Opstart Importark'!$B$31)>0,'1 - Opstart Importark'!$B$31,\"\")","v":""},{"$nulls":12},"",{"$nulls":8},0,"","","objektnogle_"]
[887,null,{"$f":"IF('1 - Opstart Importark'!$B$6=\"\",\"\",(IF('1 - Opstart Importark'!$B$15=\"\",CONCATENATE(LEFT('1 - Opstart Importark'!$B$3,1),(LEFT('1 - Opstart Importark'!$B$24,2)),LEFT('1 - Opstart Importark'!$B$28,3),IF(I898=\"\",\"\",\"-\"),I898,IF(K898=\"\",\"\",\"-\"),K898,IF(M898=\"\",\"\",\"-\"),M898,IF(O898=\"\",\"\",\"-\"),O898),CONCATENATE(LEFT('1 - Opstart Importark'!$B$3,1),(LEFT('1 - Opstart Importark'!$B$15,2)),(LEFT('1 - Opstart Importark'!$B$18,3)),IF(I898=\"\",\"\",\"-\"),I898,IF(K898=\"\",\"\",\"-\"),K898,IF(M898=\"\",\"\",\"-\"),M898,IF(O898=\"\",\"\",\"-\"),O898))))","v":""},{"$nulls":13},{"$f":"IF(LEN('1 - Opstart Importark'!$B$6)>0,'1 - Opstart Importark'!$B$6,\"\")","v":""},{"$f":"IF(LEN('1 - Opstart Importark'!$B$9)>0,'1 - Opstart Importark'!$B$9,\"\")","v":""},{"$f":"IF(LEN('1 - Opstart Importark'!$B$31)>0,'1 - Opstart Importark'!$B$31,\"\")","v":""},{"$nulls":12},"",{"$nulls":8},0,"","","objektnogle_"]
[888,null,{"$f":"IF('1 - Opstart Importark'!$B$6=\"\",\"\",(IF('1 - Opstart Importark'!$B$15=\"\",CONCATENATE(LEFT('1 - Opstart Importark'!$B$3,1),(LEFT('1 - Opstart Importark'!$B$24,2)),LEFT('1 - Opstart Importark'!$B$28,3),IF(I899=\"\",\"\",\"-\"),I899,IF(K899=\"\",\"\",\"-\"),K899,IF(M899=\"\",\"\",\"-\"),M899,IF(O899=\"\",\"\",\"-\"),O899),CONCATENATE(LEFT('1 - Opstart Importark'!$B$3,1),(LEFT('1 - Opstart Importark'!$B$15,2)),(LEFT('1 - Opstart Importark'!$B$18,3)),IF(I899=\"\",\"\",\"-\"),I899,IF(K899=\"\",\"\",\"-\"),K899,IF(M899=\"\",\"\",\"-\"),M899,IF(O899=\"\",\"\",\"-\"),O899))))","v":""},{"$nulls":13},{"$f":"IF(LEN('1 - Opstart Importark'!$B$6)>0,'1 - Opstart Importark'!$B$6,\"\")","v":""},{"$f":"IF(LEN('1 - Opstart Importark'!$B$9)>0,'1 - Opstart Importark'!$B$9,\"\")","v":""},{"$f":"IF(LEN('1 - Opstart Importark'!$B$31)>0,'1 - Opstart Importark'!$B$31,\"\")","v":""},{"$nulls":12},"",{"$nulls":8},0,"","","objektnogle_"]
[889,null,{"$f":"IF('1 - Opstart Importark'!$B$6=\"\",\"\",(IF('1 - Opstart Importark'!$B$15=\"\",CONCATENATE(LEFT('1 - Opstart Importark'!$B$3,1),(LEFT('1 - Opstart Importark'!$B$24,2)),LEFT('1 - Opstart Importark'!$B$28,3),IF(I900=\"\",\"\",\"-\"),I900,IF(K900=\"\",\"\",\"-\"),K900,IF(M900=\"\",\"\",\"-\"),M900,IF(O900=\"\",\"\",\"-\"),O900),CONCATENATE(LEFT('1 - Opstart Importark'!$B$3,1),(LEFT('1 - Opstart Importark'!$B$15,2)),(LEFT('1 - Opstart Importark'!$B$18,3)),IF(I900=\"\",\"\",\"-\"),I900,IF(K900=\"\",\"\",\"-\"),K900,IF(M900=\"\",\"\",\"-\"),M900,IF(O900=\"\",\"\",\"-\"),O900))))","v":""},{"$nulls":13},{"$f":"IF(LEN('1 - Opstart Importark'!$B$6)>0,'1 - Opstart Importark'!$B$6,\"\")","v":""},{"$f":"IF(LEN('1 - Opstart Importark'!$B$9)>0,'1 - Opstart Importark'!$B$9,\"\")","v":""},{"$f":"IF(LEN('1 - Opstart Importark'!$B$31)>0,'1 - Opstart Importark'!$B$31,\"\")","v":""},{"$nulls":12},"",{"$nulls":8},0,"","","objektnogle_"]
[890,null,{"$f":"IF('1 - Opstart Importark'!$B$6=\"\",\"\",(IF('1 - Opstart Importark'!$B$15=\"\",CONCATENATE(LEFT('1 - Opstart Importark'!$B$3,1),(LEFT('1 - Opstart Importark'!$B$24,2)),LEFT('1 - Opstart Importark'!$B$28,3),IF(I901=\"\",\"\",\"-\"),I901,IF(K901=\"\",\"\",\"-\"),K901,IF(M901=\"\",\"\",\"-\"),M901,IF(O901=\"\",\"\",\"-\"),O901),CONCATENATE(LEFT('1 - Opstart Importark'!$B$3,1),(LEFT('1 - Opstart Importark'!$B$15,2)),(LEFT('1 - Opstart Importark'!$B$18,3)),IF(I901=\"\",\"\",\"-\"),I901,IF(K901=\"\",\"\",\"-\"),K901,IF(M901=\"\",\"\",\"-\"),M901,IF(O901=\"\",\"\",\"-\"),O901))))","v":""},{"$nulls":13},{"$f":"IF(LEN('1 - Opstart Importark'!$B$6)>0,'1 - Opstart Importark'!$B$6,\"\")","v":""},{"$f":"IF(LEN('1 - Opstart Importark'!$B$9)>0,'1 - Opstart Importark'!$B$9,\"\")","v":""},{"$f":"IF(LEN('1 - Opstart Importark'!$B$31)>0,'1 - Opstart Importark'!$B$31,\"\")","v":""},{"$nulls":12},"",{"$nulls":8},0,"","","objektnogle_"]
[891,null,{"$f":"IF('1 - Opstart Importark'!$B$6=\"\",\"\",(IF('1 - Opstart Importark'!$B$15=\"\",CONCATENATE(LEFT('1 - Opstart Importark'!$B$3,1),(LEFT('1 - Opstart Importark'!$B$24,2)),LEFT('1 - Opstart Importark'!$B$28,3),IF(I902=\"\",\"\",\"-\"),I902,IF(K902=\"\",\"\",\"-\"),K902,IF(M902=\"\",\"\",\"-\"),M902,IF(O902=\"\",\"\",\"-\"),O902),CONCATENATE(LEFT('1 - Opstart Importark'!$B$3,1),(LEFT('1 - Opstart Importark'!$B$15,2)),(LEFT('1 - Opstart Importark'!$B$18,3)),IF(I902=\"\",\"\",\"-\"),I902,IF(K902=\"\",\"\",\"-\"),K902,IF(M902=\"\",\"\",\"-\"),M902,IF(O902=\"\",\"\",\"-\"),O902))))","v":""},{"$nulls":13},{"$f":"IF(LEN('1 - Opstart Importark'!$B$6)>0,'1 - Opstart Importark'!$B$6,\"\")","v":""},{"$f":"IF(LEN('1 - Opstart Importark'!$B$9)>0,'1 - Opstart Importark'!$B$9,\"\")","v":""},{"$f":"IF(LEN('1 - Opstart Importark'!$B$31)>0,'1 - Opstart Importark'!$B$31,\"\")","v":""},{"$nulls":12},"",{"$nulls":8},0,"","","objektnogle_"]
[892,null,{"$f":"IF('1 - Opstart Importark'!$B$6=\"\",\"\",(IF('1 - Opstart Importark'!$B$15=\"\",CONCATENATE(LEFT('1 - Opstart Importark'!$B$3,1),(LEFT('1 - Opstart Importark'!$B$24,2)),LEFT('1 - Opstart Importark'!$B$28,3),IF(I903=\"\",\"\",\"-\"),I903,IF(K903=\"\",\"\",\"-\"),K903,IF(M903=\"\",\"\",\"-\"),M903,IF(O903=\"\",\"\",\"-\"),O903),CONCATENATE(LEFT('1 - Opstart Importark'!$B$3,1),(LEFT('1 - Opstart Importark'!$B$15,2)),(LEFT('1 - Opstart Importark'!$B$18,3)),IF(I903=\"\",\"\",\"-\"),I903,IF(K903=\"\",\"\",\"-\"),K903,IF(M903=\"\",\"\",\"-\"),M903,IF(O903=\"\",\"\",\"-\"),O903))))","v":""},{"$nulls":13},{"$f":"IF(LEN('1 - Opstart Importark'!$B$6)>0,'1 - Opstart Importark'!$B$6,\"\")","v":""},{"$f":"IF(LEN('1 - Opstart Importark'!$B$9)>0,'1 - Opstart Importark'!$B$9,\"\")","v":""},{"$f":"IF(LEN('1 - Opstart Importark'!$B$31)>0,'1 - Opstart Importark'!$B$31,\"\")","v":""},{"$nulls":12},"",{"$nulls":8},0,"","","objektnogle_"]
[893,null,{"$f":"IF('1 - Opstart Importark'!$B$6=\"\",\"\",(IF('1 - Opstart Importark'!$B$15=\"\",CONCATENATE(LEFT('1 - Opstart Importark'!$B$3,1),(LEFT('1 - Opstart Importark'!$B$24,2)),LEFT('1 - Opstart Importark'!$B$28,3),IF(I904=\"\",\"\",\"-\"),I904,IF(K904=\"\",\"\",\"-\"),K904,IF(M904=\"\",\"\",\"-\"),M904,IF(O904=\"\",\"\",\"-\"),O904),CONCATENATE(LEFT('1 - Opstart Importark'!$B$3,1),(LEFT('1 - Opstart Importark'!$B$15,2)),(LEFT('1 - Opstart Importark'!$B$18,3)),IF(I904=\"\",\"\",\"-\"),I904,IF(K904=\"\",\"\",\"-\"),K904,IF(M904=\"\",\"\",\"-\"),M904,IF(O904=\"\",\"\",\"-\"),O904))))","v":""},{"$nulls":13},{"$f":"IF(LEN('1 - Opstart Importark'!$B$6)>0,'1 - Opstart Importark'!$B$6,\"\")","v":""},{"$f":"IF(LEN('1 - Opstart Importark'!$B$9)>0,'1 - Opstart Importark'!$B$9,\"\")","v":""},{"$f":"IF(LEN('1 - Opstart Importark'!$B$31)>0,'1 - Opstart Importark'!$B$31,\"\")","v":""},{"$nulls":12},"",{"$nulls":8},0,"","","objektnogle_"]
[894,null,{"$f":"IF('1 - Opstart Importark'!$B$6=\"\",\"\",(IF('1 - Opstart Importark'!$B$15=\"\",CONCATENATE(LEFT('1 - Opstart Importark'!$B$3,1),(LEFT('1 - Opstart Importark'!$B$24,2)),LEFT('1 - Opstart Importark'!$B$28,3),IF(I905=\"\",\"\",\"-\"),I905,IF(K905=\"\",\"\",\"-\"),K905,IF(M905=\"\",\"\",\"-\"),M905,IF(O905=\"\",\"\",\"-\"),O905),CONCATENATE(LEFT('1 - Opstart Importark'!$B$3,1),(LEFT('1 - Opstart Importark'!$B$15,2)),(LEFT('1 - Opstart Importark'!$B$18,3)),IF(I905=\"\",\"\",\"-\"),I905,IF(K905=\"\",\"\",\"-\"),K905,IF(M905=\"\",\"\",\"-\"),M905,IF(O905=\"\",\"\",\"-\"),O905))))","v":""},{"$nulls":13},{"$f":"IF(LEN('1 - Opstart Importark'!$B$6)>0,'1 - Opstart Importark'!$B$6,\"\")","v":""},{"$f":"IF(LEN('1 - Opstart Importark'!$B$9)>0,'1 - Opstart Importark'!$B$9,\"\")","v":""},{"$f":"IF(LEN('1 - Opstart Importark'!$B$31)>0,'1 - Opstart Importark'!$B$31,\"\")","v":""},{"$nulls":12},"",{"$nulls":8},0,"","","objektnogle_"]
[895,null,{"$f":"IF('1 - Opstart Importark'!$B$6=\"\",\"\",(IF('1 - Opstart Importark'!$B$15=\"\",CONCATENATE(LEFT('1 - Opstart Importark'!$B$3,1),(LEFT('1 - Opstart Importark'!$B$24,2)),LEFT('1 - Opstart Importark'!$B$28,3),IF(I906=\"\",\"\",\"-\"),I906,IF(K906=\"\",\"\",\"-\"),K906,IF(M906=\"\",\"\",\"-\"),M906,IF(O906=\"\",\"\",\"-\"),O906),CONCATENATE(LEFT('1 - Opstart Importark'!$B$3,1),(LEFT('1 - Opstart Importark'!$B$15,2)),(LEFT('1 - Opstart Importark'!$B$18,3)),IF(I906=\"\",\"\",\"-\"),I906,IF(K906=\"\",\"\",\"-\"),K906,IF(M906=\"\",\"\",\"-\"),M906,IF(O906=\"\",\"\",\"-\"),O906))))","v":""},{"$nulls":13},{"$f":"IF(LEN('1 - Opstart Importark'!$B$6)>0,'1 - Opstart Importark'!$B$6,\"\")","v":""},{"$f":"IF(LEN('1 - Opstart Importark'!$B$9)>0,'1 - Opstart Importark'!$B$9,\"\")","v":""},{"$f":"IF(LEN('1 - Opstart Importark'!$B$31)>0,'1 - Opstart Importark'!$B$31,\"\")","v":""},{"$nulls":12},"",{"$nulls":8},0,"","","objektnogle_"]
[896,null,{"$f":"IF('1 - Opstart Importark'!$B$6=\"\",\"\",(IF('1 - Opstart Importark'!$B$15=\"\",CONCATENATE(LEFT('1 - Opstart Importark'!$B$3,1),(LEFT('1 - Opstart Importark'!$B$24,2)),LEFT('1 - Opstart Importark'!$B$28,3),IF(I907=\"\",\"\",\"-\"),I907,IF(K907=\"\",\"\",\"-\"),K907,IF(M907=\"\",\"\",\"-\"),M907,IF(O907=\"\",\"\",\"-\"),O907),CONCATENATE(LEFT('1 - Opstart Importark'!$B$3,1),(LEFT('1 - Opstart Importark'!$B$15,2)),(LEFT('1 - Opstart Importark'!$B$18,3)),IF(I907=\"\",\"\",\"-\"),I907,IF(K907=\"\",\"\",\"-\"),K907,IF(M907=\"\",\"\",\"-\"),M907,IF(O907=\"\",\"\",\"-\"),O907))))","v":""},{"$nulls":13},{"$f":"IF(LEN('1 - Opstart Importark'!$B$6)>0,'1 - Opstart Importark'!$B$6,\"\")","v":""},{"$f":"IF(LEN('1 - Opstart Importark'!$B$9)>0,'1 - Opstart Importark'!$B$9,\"\")","v":""},{"$f":"IF(LEN('1 - Opstart Importark'!$B$31)>0,'1 - Opstart Importark'!$B$31,\"\")","v":""},{"$nulls":12},"",{"$nulls":8},0,"","","objektnogle_"]
[897,null,{"$f":"IF('1 - Opstart Importark'!$B$6=\"\",\"\",(IF('1 - Opstart Importark'!$B$15=\"\",CONCATENATE(LEFT('1 - Opstart Importark'!$B$3,1),(LEFT('1 - Opstart Importark'!$B$24,2)),LEFT('1 - Opstart Importark'!$B$28,3),IF(I908=\"\",\"\",\"-\"),I908,IF(K908=\"\",\"\",\"-\"),K908,IF(M908=\"\",\"\",\"-\"),M908,IF(O908=\"\",\"\",\"-\"),O908),CONCATENATE(LEFT('1 - Opstart Importark'!$B$3,1),(LEFT('1 - Opstart Importark'!$B$15,2)),(LEFT('1 - Opstart Importark'!$B$18,3)),IF(I908=\"\",\"\",\"-\"),I908,IF(K908=\"\",\"\",\"-\"),K908,IF(M908=\"\",\"\",\"-\"),M908,IF(O908=\"\",\"\",\"-\"),O908))))","v":""},{"$nulls":13},{"$f":"IF(LEN('1 - Opstart Importark'!$B$6)>0,'1 - Opstart Importark'!$B$6,\"\")","v":""},{"$f":"IF(LEN('1 - Opstart Importark'!$B$9)>0,'1 - Opstart Importark'!$B$9,\"\")","v":""},{"$f":"IF(LEN('1 - Opstart Importark'!$B$31)>0,'1 - Opstart Importark'!$B$31,\"\")","v":""},{"$nulls":12},{"$f":"IF(M908=\"\",\"\",VLOOKUP(LEFT(M908,1),objektfilter,2))","v":""},{"$nulls":8},0,"","","objektnogle_"]
[898,null,{"$f":"IF('1 - Opstart Importark'!$B$6=\"\",\"\",(IF('1 - Opstart Importark'!$B$15=\"\",CONCATENATE(LEFT('1 - Opstart Importark'!$B$3,1),(LEFT('1 - Opstart Importark'!$B$24,2)),LEFT('1 - Opstart Importark'!$B$28,3),IF(I909=\"\",\"\",\"-\"),I909,IF(K909=\"\",\"\",\"-\"),K909,IF(M909=\"\",\"\",\"-\"),M909,IF(O909=\"\",\"\",\"-\"),O909),CONCATENATE(LEFT('1 - Opstart Importark'!$B$3,1),(LEFT('1 - Opstart Importark'!$B$15,2)),(LEFT('1 - Opstart Importark'!$B$18,3)),IF(I909=\"\",\"\",\"-\"),I909,IF(K909=\"\",\"\",\"-\"),K909,IF(M909=\"\",\"\",\"-\"),M909,IF(O909=\"\",\"\",\"-\"),O909))))","v":""},{"$nulls":13},{"$f":"IF(LEN('1 - Opstart Importark'!$B$6)>0,'1 - Opstart Importark'!$B$6,\"\")","v":""},{"$f":"IF(LEN('1 - Opstart Importark'!$B$9)>0,'1 - Opstart Importark'!$B$9,\"\")","v":""},{"$f":"IF(LEN('1 - Opstart Importark'!$B$31)>0,'1 - Opstart Importark'!$B$31,\"\")","v":""},{"$nulls":12},"",{"$nulls":8},{"$f":"IFERROR(FIND(\".\",F909),)","v":0},{"$f":"IF(M909=\"\",\"\",IF(LEFT(M909,1)=\"E\",0,1))","v":""},{"$f":"IF(M909=\"\",\"\",IF(LEFT(M909,1)=\"E\",0,1))","v":""},{"$f":"IF(W909=\"\", CONCATENATE(\"objektnogle_\",LEFT(AF909,1)),CONCATENATE(\"objektnogle_\",LEFT(W909,1)))","v":"objektnogle_"}]
[899,null,{"$f":"IF('1 - Opstart Importark'!$B$6=\"\",\"\",(IF('1 - Opstart Importark'!$B$15=\"\",CONCATENATE(LEFT('1 - Opstart Importark'!$B$3,1),(LEFT('1 - Opstart Importark'!$B$24,2)),LEFT('1 - Opstart Importark'!$B$28,3),IF(I910=\"\",\"\",\"-\"),I910,IF(K910=\"\",\"\",\"-\"),K910,IF(M910=\"\",\"\",\"-\"),M910,IF(O910=\"\",\"\",\"-\"),O910),CONCATENATE(LEFT('1 - Opstart Importark'!$B$3,1),(LEFT('1 - Opstart Importark'!$B$15,2)),(LEFT('1 - Opstart Importark'!$B$18,3)),IF(I910=\"\",\"\",\"-\"),I910,IF(K910=\"\",\"\",\"-\"),K910,IF(M910=\"\",\"\",\"-\"),M910,IF(O910=\"\",\"\",\"-\"),O910))))","v":""},{"$nulls":13},{"$f":"IF(LEN('1 - Opstart Importark'!$B$6)>0,'1 - Opstart Importark'!$B$6,\"\")","v":""},{"$f":"IF(LEN('1 - Opstart Importark'!$B$9)>0,'1 - Opstart Importark'!$B$9,\"\")","v":""},{"$f":"IF(LEN('1 - Opstart Importark'!$B$31)>0,'1 - Opstart Importark'!$B$31,\"\")","v":""},{"$nulls":12},"",{"$nulls":8},0,"","","objektnogle_"]
[900,null,{"$f":"IF('1 - Opstart Importark'!$B$6=\"\",\"\",(IF('1 - Opstart Importark'!$B$15=\"\",CONCATENATE(LEFT('1 - Opstart Importark'!$B$3,1),(LEFT('1 - Opstart Importark'!$B$24,2)),LEFT('1 - Opstart Importark'!$B$28,3),IF(I911=\"\",\"\",\"-\"),I911,IF(K911=\"\",\"\",\"-\"),K911,IF(M911=\"\",\"\",\"-\"),M911,IF(O911=\"\",\"\",\"-\"),O911),CONCATENATE(LEFT('1 - Opstart Importark'!$B$3,1),(LEFT('1 - Opstart Importark'!$B$15,2)),(LEFT('1 - Opstart Importark'!$B$18,3)),IF(I911=\"\",\"\",\"-\"),I911,IF(K911=\"\",\"\",\"-\"),K911,IF(M911=\"\",\"\",\"-\"),M911,IF(O911=\"\",\"\",\"-\"),O911))))","v":""},{"$nulls":13},{"$f":"IF(LEN('1 - Opstart Importark'!$B$6)>0,'1 - Opstart Importark'!$B$6,\"\")","v":""},{"$f":"IF(LEN('1 - Opstart Importark'!$B$9)>0,'1 - Opstart Importark'!$B$9,\"\")","v":""},{"$f":"IF(LEN('1 - Opstart Importark'!$B$31)>0,'1 - Opstart Importark'!$B$31,\"\")","v":""},{"$nulls":12},"",{"$nulls":8},0,"","","objektnogle_"]
[901,null,{"$f":"IF('1 - Opstart Importark'!$B$6=\"\",\"\",(IF('1 - Opstart Importark'!$B$15=\"\",CONCATENATE(LEFT('1 - Opstart Importark'!$B$3,1),(LEFT('1 - Opstart Importark'!$B$24,2)),LEFT('1 - Opstart Importark'!$B$28,3),IF(I912=\"\",\"\",\"-\"),I912,IF(K912=\"\",\"\",\"-\"),K912,IF(M912=\"\",\"\",\"-\"),M912,IF(O912=\"\",\"\",\"-\"),O912),CONCATENATE(LEFT('1 - Opstart Importark'!$B$3,1),(LEFT('1 - Opstart Importark'!$B$15,2)),(LEFT('1 - Opstart Importark'!$B$18,3)),IF(I912=\"\",\"\",\"-\"),I912,IF(K912=\"\",\"\",\"-\"),K912,IF(M912=\"\",\"\",\"-\"),M912,IF(O912=\"\",\"\",\"-\"),O912))))","v":""},{"$nulls":13},{"$f":"IF(LEN('1 - Opstart Importark'!$B$6)>0,'1 - Opstart Importark'!$B$6,\"\")","v":""},{"$f":"IF(LEN('1 - Opstart Importark'!$B$9)>0,'1 - Opstart Importark'!$B$9,\"\")","v":""},{"$f":"IF(LEN('1 - Opstart Importark'!$B$31)>0,'1 - Opstart Importark'!$B$31,\"\")","v":""},{"$nulls":12},"",{"$nulls":8},0,"","","objektnogle_"]
[902,null,{"$f":"IF('1 - Opstart Importark'!$B$6=\"\",\"\",(IF('1 - Opstart Importark'!$B$15=\"\",CONCATENATE(LEFT('1 - Opstart Importark'!$B$3,1),(LEFT('1 - Opstart Importark'!$B$24,2)),LEFT('1 - Opstart Importark'!$B$28,3),IF(I913=\"\",\"\",\"-\"),I913,IF(K913=\"\",\"\",\"-\"),K913,IF(M913=\"\",\"\",\"-\"),M913,IF(O913=\"\",\"\",\"-\"),O913),CONCATENATE(LEFT('1 - Opstart Importark'!$B$3,1),(LEFT('1 - Opstart Importark'!$B$15,2)),(LEFT('1 - Opstart Importark'!$B$18,3)),IF(I913=\"\",\"\",\"-\"),I913,IF(K913=\"\",\"\",\"-\"),K913,IF(M913=\"\",\"\",\"-\"),M913,IF(O913=\"\",\"\",\"-\"),O913))))","v":""},{"$nulls":13},{"$f":"IF(LEN('1 - Opstart Importark'!$B$6)>0,'1 - Opstart Importark'!$B$6,\"\")","v":""},{"$f":"IF(LEN('1 - Opstart Importark'!$B$9)>0,'1 - Opstart Importark'!$B$9,\"\")","v":""},{"$f":"IF(LEN('1 - Opstart Importark'!$B$31)>0,'1 - Opstart Importark'!$B$31,\"\")","v":""},{"$nulls":12},"",{"$nulls":8},0,"","","objektnogle_"]
[903,null,{"$f":"IF('1 - Opstart Importark'!$B$6=\"\",\"\",(IF('1 - Opstart Importark'!$B$15=\"\",CONCATENATE(LEFT('1 - Opstart Importark'!$B$3,1),(LEFT('1 - Opstart Importark'!$B$24,2)),LEFT('1 - Opstart Importark'!$B$28,3),IF(I914=\"\",\"\",\"-\"),I914,IF(K914=\"\",\"\",\"-\"),K914,IF(M914=\"\",\"\",\"-\"),M914,IF(O914=\"\",\"\",\"-\"),O914),CONCATENATE(LEFT('1 - Opstart Importark'!$B$3,1),(LEFT('1 - Opstart Importark'!$B$15,2)),(LEFT('1 - Opstart Importark'!$B$18,3)),IF(I914=\"\",\"\",\"-\"),I914,IF(K914=\"\",\"\",\"-\"),K914,IF(M914=\"\",\"\",\"-\"),M914,IF(O914=\"\",\"\",\"-\"),O914))))","v":""},{"$nulls":13},{"$f":"IF(LEN('1 - Opstart Importark'!$B$6)>0,'1 - Opstart Importark'!$B$6,\"\")","v":""},{"$f":"IF(LEN('1 - Opstart Importark'!$B$9)>0,'1 - Opstart Importark'!$B$9,\"\")","v":""},{"$f":"IF(LEN('1 - Opstart Importark'!$B$31)>0,'1 - Opstart Importark'!$B$31,\"\")","v":""},{"$nulls":12},"",{"$nulls":8},0,"","","objektnogle_"]
[904,null,{"$f":"IF('1 - Opstart Importark'!$B$6=\"\",\"\",(IF('1 - Opstart Importark'!$B$15=\"\",CONCATENATE(LEFT('1 - Opstart Importark'!$B$3,1),(LEFT('1 - Opstart Importark'!$B$24,2)),LEFT('1 - Opstart Importark'!$B$28,3),IF(I915=\"\",\"\",\"-\"),I915,IF(K915=\"\",\"\",\"-\"),K915,IF(M915=\"\",\"\",\"-\"),M915,IF(O915=\"\",\"\",\"-\"),O915),CONCATENATE(LEFT('1 - Opstart Importark'!$B$3,1),(LEFT('1 - Opstart Importark'!$B$15,2)),(LEFT('1 - Opstart Importark'!$B$18,3)),IF(I915=\"\",\"\",\"-\"),I915,IF(K915=\"\",\"\",\"-\"),K915,IF(M915=\"\",\"\",\"-\"),M915,IF(O915=\"\",\"\",\"-\"),O915))))","v":""},{"$nulls":13},{"$f":"IF(LEN('1 - Opstart Importark'!$B$6)>0,'1 - Opstart Importark'!$B$6,\"\")","v":""},{"$f":"IF(LEN('1 - Opstart Importark'!$B$9)>0,'1 - Opstart Importark'!$B$9,\"\")","v":""},{"$f":"IF(LEN('1 - Opstart Importark'!$B$31)>0,'1 - Opstart Importark'!$B$31,\"\")","v":""},{"$nulls":12},"",{"$nulls":8},0,"","","objektnogle_"]
[905,null,{"$f":"IF('1 - Opstart Importark'!$B$6=\"\",\"\",(IF('1 - Opstart Importark'!$B$15=\"\",CONCATENATE(LEFT('1 - Opstart Importark'!$B$3,1),(LEFT('1 - Opstart Importark'!$B$24,2)),LEFT('1 - Opstart Importark'!$B$28,3),IF(I916=\"\",\"\",\"-\"),I916,IF(K916=\"\",\"\",\"-\"),K916,IF(M916=\"\",\"\",\"-\"),M916,IF(O916=\"\",\"\",\"-\"),O916),CONCATENATE(LEFT('1 - Opstart Importark'!$B$3,1),(LEFT('1 - Opstart Importark'!$B$15,2)),(LEFT('1 - Opstart Importark'!$B$18,3)),IF(I916=\"\",\"\",\"-\"),I916,IF(K916=\"\",\"\",\"-\"),K916,IF(M916=\"\",\"\",\"-\"),M916,IF(O916=\"\",\"\",\"-\"),O916))))","v":""},{"$nulls":13},{"$f":"IF(LEN('1 - Opstart Importark'!$B$6)>0,'1 - Opstart Importark'!$B$6,\"\")","v":""},{"$f":"IF(LEN('1 - Opstart Importark'!$B$9)>0,'1 - Opstart Importark'!$B$9,\"\")","v":""},{"$f":"IF(LEN('1 - Opstart Importark'!$B$31)>0,'1 - Opstart Importark'!$B$31,\"\")","v":""},{"$nulls":12},"",{"$nulls":8},0,"","","objektnogle_"]
[906,null,{"$f":"IF('1 - Opstart Importark'!$B$6=\"\",\"\",(IF('1 - Opstart Importark'!$B$15=\"\",CONCATENATE(LEFT('1 - Opstart Importark'!$B$3,1),(LEFT('1 - Opstart Importark'!$B$24,2)),LEFT('1 - Opstart Importark'!$B$28,3),IF(I917=\"\",\"\",\"-\"),I917,IF(K917=\"\",\"\",\"-\"),K917,IF(M917=\"\",\"\",\"-\"),M917,IF(O917=\"\",\"\",\"-\"),O917),CONCATENATE(LEFT('1 - Opstart Importark'!$B$3,1),(LEFT('1 - Opstart Importark'!$B$15,2)),(LEFT('1 - Opstart Importark'!$B$18,3)),IF(I917=\"\",\"\",\"-\"),I917,IF(K917=\"\",\"\",\"-\"),K917,IF(M917=\"\",\"\",\"-\"),M917,IF(O917=\"\",\"\",\"-\"),O917))))","v":""},{"$nulls":13},{"$f":"IF(LEN('1 - Opstart Importark'!$B$6)>0,'1 - Opstart Importark'!$B$6,\"\")","v":""},{"$f":"IF(LEN('1 - Opstart Importark'!$B$9)>0,'1 - Opstart Importark'!$B$9,\"\")","v":""},{"$f":"IF(LEN('1 - Opstart Importark'!$B$31)>0,'1 - Opstart Importark'!$B$31,\"\")","v":""},{"$nulls":12},"",{"$nulls":8},0,"","","objektnogle_"]
[907,null,{"$f":"IF('1 - Opstart Importark'!$B$6=\"\",\"\",(IF('1 - Opstart Importark'!$B$15=\"\",CONCATENATE(LEFT('1 - Opstart Importark'!$B$3,1),(LEFT('1 - Opstart Importark'!$B$24,2)),LEFT('1 - Opstart Importark'!$B$28,3),IF(I918=\"\",\"\",\"-\"),I918,IF(K918=\"\",\"\",\"-\"),K918,IF(M918=\"\",\"\",\"-\"),M918,IF(O918=\"\",\"\",\"-\"),O918),CONCATENATE(LEFT('1 - Opstart Importark'!$B$3,1),(LEFT('1 - Opstart Importark'!$B$15,2)),(LEFT('1 - Opstart Importark'!$B$18,3)),IF(I918=\"\",\"\",\"-\"),I918,IF(K918=\"\",\"\",\"-\"),K918,IF(M918=\"\",\"\",\"-\"),M918,IF(O918=\"\",\"\",\"-\"),O918))))","v":""},{"$nulls":13},{"$f":"IF(LEN('1 - Opstart Importark'!$B$6)>0,'1 - Opstart Importark'!$B$6,\"\")","v":""},{"$f":"IF(LEN('1 - Opstart Importark'!$B$9)>0,'1 - Opstart Importark'!$B$9,\"\")","v":""},{"$f":"IF(LEN('1 - Opstart Importark'!$B$31)>0,'1 - Opstart Importark'!$B$31,\"\")","v":""},{"$nulls":12},"",{"$nulls":8},0,"","","objektnogle_"]
[908,null,{"$f":"IF('1 - Opstart Importark'!$B$6=\"\",\"\",(IF('1 - Opstart Importark'!$B$15=\"\",CONCATENATE(LEFT('1 - Opstart Importark'!$B$3,1),(LEFT('1 - Opstart Importark'!$B$24,2)),LEFT('1 - Opstart Importark'!$B$28,3),IF(I919=\"\",\"\",\"-\"),I919,IF(K919=\"\",\"\",\"-\"),K919,IF(M919=\"\",\"\",\"-\"),M919,IF(O919=\"\",\"\",\"-\"),O919),CONCATENATE(LEFT('1 - Opstart Importark'!$B$3,1),(LEFT('1 - Opstart Importark'!$B$15,2)),(LEFT('1 - Opstart Importark'!$B$18,3)),IF(I919=\"\",\"\",\"-\"),I919,IF(K919=\"\",\"\",\"-\"),K919,IF(M919=\"\",\"\",\"-\"),M919,IF(O919=\"\",\"\",\"-\"),O919))))","v":""},{"$nulls":13},{"$f":"IF(LEN('1 - Opstart Importark'!$B$6)>0,'1 - Opstart Importark'!$B$6,\"\")","v":""},{"$f":"IF(LEN('1 - Opstart Importark'!$B$9)>0,'1 - Opstart Importark'!$B$9,\"\")","v":""},{"$f":"IF(LEN('1 - Opstart Importark'!$B$31)>0,'1 - Opstart Importark'!$B$31,\"\")","v":""},{"$nulls":12},"",{"$nulls":8},0,"","","objektnogle_"]
[909,null,{"$f":"IF('1 - Opstart Importark'!$B$6=\"\",\"\",(IF('1 - Opstart Importark'!$B$15=\"\",CONCATENATE(LEFT('1 - Opstart Importark'!$B$3,1),(LEFT('1 - Opstart Importark'!$B$24,2)),LEFT('1 - Opstart Importark'!$B$28,3),IF(I920=\"\",\"\",\"-\"),I920,IF(K920=\"\",\"\",\"-\"),K920,IF(M920=\"\",\"\",\"-\"),M920,IF(O920=\"\",\"\",\"-\"),O920),CONCATENATE(LEFT('1 - Opstart Importark'!$B$3,1),(LEFT('1 - Opstart Importark'!$B$15,2)),(LEFT('1 - Opstart Importark'!$B$18,3)),IF(I920=\"\",\"\",\"-\"),I920,IF(K920=\"\",\"\",\"-\"),K920,IF(M920=\"\",\"\",\"-\"),M920,IF(O920=\"\",\"\",\"-\"),O920))))","v":""},{"$nulls":13},{"$f":"IF(LEN('1 - Opstart Importark'!$B$6)>0,'1 - Opstart Importark'!$B$6,\"\")","v":""},{"$f":"IF(LEN('1 - Opstart Importark'!$B$9)>0,'1 - Opstart Importark'!$B$9,\"\")","v":""},{"$f":"IF(LEN('1 - Opstart Importark'!$B$31)>0,'1 - Opstart Importark'!$B$31,\"\")","v":""},{"$nulls":12},"",{"$nulls":8},0,"","","objektnogle_"]
[910,null,{"$f":"IF('1 - Opstart Importark'!$B$6=\"\",\"\",(IF('1 - Opstart Importark'!$B$15=\"\",CONCATENATE(LEFT('1 - Opstart Importark'!$B$3,1),(LEFT('1 - Opstart Importark'!$B$24,2)),LEFT('1 - Opstart Importark'!$B$28,3),IF(I921=\"\",\"\",\"-\"),I921,IF(K921=\"\",\"\",\"-\"),K921,IF(M921=\"\",\"\",\"-\"),M921,IF(O921=\"\",\"\",\"-\"),O921),CONCATENATE(LEFT('1 - Opstart Importark'!$B$3,1),(LEFT('1 - Opstart Importark'!$B$15,2)),(LEFT('1 - Opstart Importark'!$B$18,3)),IF(I921=\"\",\"\",\"-\"),I921,IF(K921=\"\",\"\",\"-\"),K921,IF(M921=\"\",\"\",\"-\"),M921,IF(O921=\"\",\"\",\"-\"),O921))))","v":""},{"$nulls":13},{"$f":"IF(LEN('1 - Opstart Importark'!$B$6)>0,'1 - Opstart Importark'!$B$6,\"\")","v":""},{"$f":"IF(LEN('1 - Opstart Importark'!$B$9)>0,'1 - Opstart Importark'!$B$9,\"\")","v":""},{"$f":"IF(LEN('1 - Opstart Importark'!$B$31)>0,'1 - Opstart Importark'!$B$31,\"\")","v":""},{"$nulls":12},"",{"$nulls":8},0,"","","objektnogle_"]
[911,null,{"$f":"IF('1 - Opstart Importark'!$B$6=\"\",\"\",(IF('1 - Opstart Importark'!$B$15=\"\",CONCATENATE(LEFT('1 - Opstart Importark'!$B$3,1),(LEFT('1 - Opstart Importark'!$B$24,2)),LEFT('1 - Opstart Importark'!$B$28,3),IF(I922=\"\",\"\",\"-\"),I922,IF(K922=\"\",\"\",\"-\"),K922,IF(M922=\"\",\"\",\"-\"),M922,IF(O922=\"\",\"\",\"-\"),O922),CONCATENATE(LEFT('1 - Opstart Importark'!$B$3,1),(LEFT('1 - Opstart Importark'!$B$15,2)),(LEFT('1 - Opstart Importark'!$B$18,3)),IF(I922=\"\",\"\",\"-\"),I922,IF(K922=\"\",\"\",\"-\"),K922,IF(M922=\"\",\"\",\"-\"),M922,IF(O922=\"\",\"\",\"-\"),O922))))","v":""},{"$nulls":13},{"$f":"IF(LEN('1 - Opstart Importark'!$B$6)>0,'1 - Opstart Importark'!$B$6,\"\")","v":""},{"$f":"IF(LEN('1 - Opstart Importark'!$B$9)>0,'1 - Opstart Importark'!$B$9,\"\")","v":""},{"$f":"IF(LEN('1 - Opstart Importark'!$B$31)>0,'1 - Opstart Importark'!$B$31,\"\")","v":""},{"$nulls":12},"",{"$nulls":8},0,"","","objektnogle_"]
[912,null,{"$f":"IF('1 - Opstart Importark'!$B$6=\"\",\"\",(IF('1 - Opstart Importark'!$B$15=\"\",CONCATENATE(LEFT('1 - Opstart Importark'!$B$3,1),(LEFT('1 - Opstart Importark'!$B$24,2)),LEFT('1 - Opstart Importark'!$B$28,3),IF(I923=\"\",\"\",\"-\"),I923,IF(K923=\"\",\"\",\"-\"),K923,IF(M923=\"\",\"\",\"-\"),M923,IF(O923=\"\",\"\",\"-\"),O923),CONCATENATE(LEFT('1 - Opstart Importark'!$B$3,1),(LEFT('1 - Opstart Importark'!$B$15,2)),(LEFT('1 - Opstart Importark'!$B$18,3)),IF(I923=\"\",\"\",\"-\"),I923,IF(K923=\"\",\"\",\"-\"),K923,IF(M923=\"\",\"\",\"-\"),M923,IF(O923=\"\",\"\",\"-\"),O923))))","v":""},{"$nulls":13},{"$f":"IF(LEN('1 - Opstart Importark'!$B$6)>0,'1 - Opstart Importark'!$B$6,\"\")","v":""},{"$f":"IF(LEN('1 - Opstart Importark'!$B$9)>0,'1 - Opstart Importark'!$B$9,\"\")","v":""},{"$f":"IF(LEN('1 - Opstart Importark'!$B$31)>0,'1 - Opstart Importark'!$B$31,\"\")","v":""},{"$nulls":12},"",{"$nulls":8},0,"","","objektnogle_"]
[913,null,{"$f":"IF('1 - Opstart Importark'!$B$6=\"\",\"\",(IF('1 - Opstart Importark'!$B$15=\"\",CONCATENATE(LEFT('1 - Opstart Importark'!$B$3,1),(LEFT('1 - Opstart Importark'!$B$24,2)),LEFT('1 - Opstart Importark'!$B$28,3),IF(I924=\"\",\"\",\"-\"),I924,IF(K924=\"\",\"\",\"-\"),K924,IF(M924=\"\",\"\",\"-\"),M924,IF(O924=\"\",\"\",\"-\"),O924),CONCATENATE(LEFT('1 - Opstart Importark'!$B$3,1),(LEFT('1 - Opstart Importark'!$B$15,2)),(LEFT('1 - Opstart Importark'!$B$18,3)),IF(I924=\"\",\"\",\"-\"),I924,IF(K924=\"\",\"\",\"-\"),K924,IF(M924=\"\",\"\",\"-\"),M924,IF(O924=\"\",\"\",\"-\"),O924))))","v":""},{"$nulls":13},{"$f":"IF(LEN('1 - Opstart Importark'!$B$6)>0,'1 - Opstart Importark'!$B$6,\"\")","v":""},{"$f":"IF(LEN('1 - Opstart Importark'!$B$9)>0,'1 - Opstart Importark'!$B$9,\"\")","v":""},{"$f":"IF(LEN('1 - Opstart Importark'!$B$31)>0,'1 - Opstart Importark'!$B$31,\"\")","v":""},{"$nulls":12},"",{"$nulls":8},0,"","","objektnogle_"]
[914,null,{"$f":"IF('1 - Opstart Importark'!$B$6=\"\",\"\",(IF('1 - Opstart Importark'!$B$15=\"\",CONCATENATE(LEFT('1 - Opstart Importark'!$B$3,1),(LEFT('1 - Opstart Importark'!$B$24,2)),LEFT('1 - Opstart Importark'!$B$28,3),IF(I925=\"\",\"\",\"-\"),I925,IF(K925=\"\",\"\",\"-\"),K925,IF(M925=\"\",\"\",\"-\"),M925,IF(O925=\"\",\"\",\"-\"),O925),CONCATENATE(LEFT('1 - Opstart Importark'!$B$3,1),(LEFT('1 - Opstart Importark'!$B$15,2)),(LEFT('1 - Opstart Importark'!$B$18,3)),IF(I925=\"\",\"\",\"-\"),I925,IF(K925=\"\",\"\",\"-\"),K925,IF(M925=\"\",\"\",\"-\"),M925,IF(O925=\"\",\"\",\"-\"),O925))))","v":""},{"$nulls":13},{"$f":"IF(LEN('1 - Opstart Importark'!$B$6)>0,'1 - Opstart Importark'!$B$6,\"\")","v":""},{"$f":"IF(LEN('1 - Opstart Importark'!$B$9)>0,'1 - Opstart Importark'!$B$9,\"\")","v":""},{"$f":"IF(LEN('1 - Opstart Importark'!$B$31)>0,'1 - Opstart Importark'!$B$31,\"\")","v":""},{"$nulls":12},"",{"$nulls":8},0,"","","objektnogle_"]
[915,null,{"$f":"IF('1 - Opstart Importark'!$B$6=\"\",\"\",(IF('1 - Opstart Importark'!$B$15=\"\",CONCATENATE(LEFT('1 - Opstart Importark'!$B$3,1),(LEFT('1 - Opstart Importark'!$B$24,2)),LEFT('1 - Opstart Importark'!$B$28,3),IF(I926=\"\",\"\",\"-\"),I926,IF(K926=\"\",\"\",\"-\"),K926,IF(M926=\"\",\"\",\"-\"),M926,IF(O926=\"\",\"\",\"-\"),O926),CONCATENATE(LEFT('1 - Opstart Importark'!$B$3,1),(LEFT('1 - Opstart Importark'!$B$15,2)),(LEFT('1 - Opstart Importark'!$B$18,3)),IF(I926=\"\",\"\",\"-\"),I926,IF(K926=\"\",\"\",\"-\"),K926,IF(M926=\"\",\"\",\"-\"),M926,IF(O926=\"\",\"\",\"-\"),O926))))","v":""},{"$nulls":13},{"$f":"IF(LEN('1 - Opstart Importark'!$B$6)>0,'1 - Opstart Importark'!$B$6,\"\")","v":""},{"$f":"IF(LEN('1 - Opstart Importark'!$B$9)>0,'1 - Opstart Importark'!$B$9,\"\")","v":""},{"$f":"IF(LEN('1 - Opstart Importark'!$B$31)>0,'1 - Opstart Importark'!$B$31,\"\")","v":""},{"$nulls":12},"",{"$nulls":8},0,"","","objektnogle_"]
[916,null,{"$f":"IF('1 - Opstart Importark'!$B$6=\"\",\"\",(IF('1 - Opstart Importark'!$B$15=\"\",CONCATENATE(LEFT('1 - Opstart Importark'!$B$3,1),(LEFT('1 - Opstart Importark'!$B$24,2)),LEFT('1 - Opstart Importark'!$B$28,3),IF(I927=\"\",\"\",\"-\"),I927,IF(K927=\"\",\"\",\"-\"),K927,IF(M927=\"\",\"\",\"-\"),M927,IF(O927=\"\",\"\",\"-\"),O927),CONCATENATE(LEFT('1 - Opstart Importark'!$B$3,1),(LEFT('1 - Opstart Importark'!$B$15,2)),(LEFT('1 - Opstart Importark'!$B$18,3)),IF(I927=\"\",\"\",\"-\"),I927,IF(K927=\"\",\"\",\"-\"),K927,IF(M927=\"\",\"\",\"-\"),M927,IF(O927=\"\",\"\",\"-\"),O927))))","v":""},{"$nulls":13},{"$f":"IF(LEN('1 - Opstart Importark'!$B$6)>0,'1 - Opstart Importark'!$B$6,\"\")","v":""},{"$f":"IF(LEN('1 - Opstart Importark'!$B$9)>0,'1 - Opstart Importark'!$B$9,\"\")","v":""},{"$f":"IF(LEN('1 - Opstart Importark'!$B$31)>0,'1 - Opstart Importark'!$B$31,\"\")","v":""},{"$nulls":12},"",{"$nulls":8},0,"","","objektnogle_"]
[917,null,{"$f":"IF('1 - Opstart Importark'!$B$6=\"\",\"\",(IF('1 - Opstart Importark'!$B$15=\"\",CONCATENATE(LEFT('1 - Opstart Importark'!$B$3,1),(LEFT('1 - Opstart Importark'!$B$24,2)),LEFT('1 - Opstart Importark'!$B$28,3),IF(I928=\"\",\"\",\"-\"),I928,IF(K928=\"\",\"\",\"-\"),K928,IF(M928=\"\",\"\",\"-\"),M928,IF(O928=\"\",\"\",\"-\"),O928),CONCATENATE(LEFT('1 - Opstart Importark'!$B$3,1),(LEFT('1 - Opstart Importark'!$B$15,2)),(LEFT('1 - Opstart Importark'!$B$18,3)),IF(I928=\"\",\"\",\"-\"),I928,IF(K928=\"\",\"\",\"-\"),K928,IF(M928=\"\",\"\",\"-\"),M928,IF(O928=\"\",\"\",\"-\"),O928))))","v":""},{"$nulls":13},{"$f":"IF(LEN('1 - Opstart Importark'!$B$6)>0,'1 - Opstart Importark'!$B$6,\"\")","v":""},{"$f":"IF(LEN('1 - Opstart Importark'!$B$9)>0,'1 - Opstart Importark'!$B$9,\"\")","v":""},{"$f":"IF(LEN('1 - Opstart Importark'!$B$31)>0,'1 - Opstart Importark'!$B$31,\"\")","v":""},{"$nulls":12},"",{"$nulls":8},0,"","","objektnogle_"]
[918,null,{"$f":"IF('1 - Opstart Importark'!$B$6=\"\",\"\",(IF('1 - Opstart Importark'!$B$15=\"\",CONCATENATE(LEFT('1 - Opstart Importark'!$B$3,1),(LEFT('1 - Opstart Importark'!$B$24,2)),LEFT('1 - Opstart Importark'!$B$28,3),IF(I929=\"\",\"\",\"-\"),I929,IF(K929=\"\",\"\",\"-\"),K929,IF(M929=\"\",\"\",\"-\"),M929,IF(O929=\"\",\"\",\"-\"),O929),CONCATENATE(LEFT('1 - Opstart Importark'!$B$3,1),(LEFT('1 - Opstart Importark'!$B$15,2)),(LEFT('1 - Opstart Importark'!$B$18,3)),IF(I929=\"\",\"\",\"-\"),I929,IF(K929=\"\",\"\",\"-\"),K929,IF(M929=\"\",\"\",\"-\"),M929,IF(O929=\"\",\"\",\"-\"),O929))))","v":""},{"$nulls":13},{"$f":"IF(LEN('1 - Opstart Importark'!$B$6)>0,'1 - Opstart Importark'!$B$6,\"\")","v":""},{"$f":"IF(LEN('1 - Opstart Importark'!$B$9)>0,'1 - Opstart Importark'!$B$9,\"\")","v":""},{"$f":"IF(LEN('1 - Opstart Importark'!$B$31)>0,'1 - Opstart Importark'!$B$31,\"\")","v":""},{"$nulls":12},"",{"$nulls":8},0,"","","objektnogle_"]
[919,null,{"$f":"IF('1 - Opstart Importark'!$B$6=\"\",\"\",(IF('1 - Opstart Importark'!$B$15=\"\",CONCATENATE(LEFT('1 - Opstart Importark'!$B$3,1),(LEFT('1 - Opstart Importark'!$B$24,2)),LEFT('1 - Opstart Importark'!$B$28,3),IF(I930=\"\",\"\",\"-\"),I930,IF(K930=\"\",\"\",\"-\"),K930,IF(M930=\"\",\"\",\"-\"),M930,IF(O930=\"\",\"\",\"-\"),O930),CONCATENATE(LEFT('1 - Opstart Importark'!$B$3,1),(LEFT('1 - Opstart Importark'!$B$15,2)),(LEFT('1 - Opstart Importark'!$B$18,3)),IF(I930=\"\",\"\",\"-\"),I930,IF(K930=\"\",\"\",\"-\"),K930,IF(M930=\"\",\"\",\"-\"),M930,IF(O930=\"\",\"\",\"-\"),O930))))","v":""},{"$nulls":13},{"$f":"IF(LEN('1 - Opstart Importark'!$B$6)>0,'1 - Opstart Importark'!$B$6,\"\")","v":""},{"$f":"IF(LEN('1 - Opstart Importark'!$B$9)>0,'1 - Opstart Importark'!$B$9,\"\")","v":""},{"$f":"IF(LEN('1 - Opstart Importark'!$B$31)>0,'1 - Opstart Importark'!$B$31,\"\")","v":""},{"$nulls":12},"",{"$nulls":8},0,"","","objektnogle_"]
[920,null,{"$f":"IF('1 - Opstart Importark'!$B$6=\"\",\"\",(IF('1 - Opstart Importark'!$B$15=\"\",CONCATENATE(LEFT('1 - Opstart Importark'!$B$3,1),(LEFT('1 - Opstart Importark'!$B$24,2)),LEFT('1 - Opstart Importark'!$B$28,3),IF(I931=\"\",\"\",\"-\"),I931,IF(K931=\"\",\"\",\"-\"),K931,IF(M931=\"\",\"\",\"-\"),M931,IF(O931=\"\",\"\",\"-\"),O931),CONCATENATE(LEFT('1 - Opstart Importark'!$B$3,1),(LEFT('1 - Opstart Importark'!$B$15,2)),(LEFT('1 - Opstart Importark'!$B$18,3)),IF(I931=\"\",\"\",\"-\"),I931,IF(K931=\"\",\"\",\"-\"),K931,IF(M931=\"\",\"\",\"-\"),M931,IF(O931=\"\",\"\",\"-\"),O931))))","v":""},{"$nulls":13},{"$f":"IF(LEN('1 - Opstart Importark'!$B$6)>0,'1 - Opstart Importark'!$B$6,\"\")","v":""},{"$f":"IF(LEN('1 - Opstart Importark'!$B$9)>0,'1 - Opstart Importark'!$B$9,\"\")","v":""},{"$f":"IF(LEN('1 - Opstart Importark'!$B$31)>0,'1 - Opstart Importark'!$B$31,\"\")","v":""},{"$nulls":12},"",{"$nulls":8},0,"","","objektnogle_"]
[921,null,{"$f":"IF('1 - Opstart Importark'!$B$6=\"\",\"\",(IF('1 - Opstart Importark'!$B$15=\"\",CONCATENATE(LEFT('1 - Opstart Importark'!$B$3,1),(LEFT('1 - Opstart Importark'!$B$24,2)),LEFT('1 - Opstart Importark'!$B$28,3),IF(I932=\"\",\"\",\"-\"),I932,IF(K932=\"\",\"\",\"-\"),K932,IF(M932=\"\",\"\",\"-\"),M932,IF(O932=\"\",\"\",\"-\"),O932),CONCATENATE(LEFT('1 - Opstart Importark'!$B$3,1),(LEFT('1 - Opstart Importark'!$B$15,2)),(LEFT('1 - Opstart Importark'!$B$18,3)),IF(I932=\"\",\"\",\"-\"),I932,IF(K932=\"\",\"\",\"-\"),K932,IF(M932=\"\",\"\",\"-\"),M932,IF(O932=\"\",\"\",\"-\"),O932))))","v":""},{"$nulls":13},{"$f":"IF(LEN('1 - Opstart Importark'!$B$6)>0,'1 - Opstart Importark'!$B$6,\"\")","v":""},{"$f":"IF(LEN('1 - Opstart Importark'!$B$9)>0,'1 - Opstart Importark'!$B$9,\"\")","v":""},{"$f":"IF(LEN('1 - Opstart Importark'!$B$31)>0,'1 - Opstart Importark'!$B$31,\"\")","v":""},{"$nulls":12},"",{"$nulls":8},0,"","","objektnogle_"]
[922,null,{"$f":"IF('1 - Opstart Importark'!$B$6=\"\",\"\",(IF('1 - Opstart Importark'!$B$15=\"\",CONCATENATE(LEFT('1 - Opstart Importark'!$B$3,1),(LEFT('1 - Opstart Importark'!$B$24,2)),LEFT('1 - Opstart Importark'!$B$28,3),IF(I933=\"\",\"\",\"-\"),I933,IF(K933=\"\",\"\",\"-\"),K933,IF(M933=\"\",\"\",\"-\"),M933,IF(O933=\"\",\"\",\"-\"),O933),CONCATENATE(LEFT('1 - Opstart Importark'!$B$3,1),(LEFT('1 - Opstart Importark'!$B$15,2)),(LEFT('1 - Opstart Importark'!$B$18,3)),IF(I933=\"\",\"\",\"-\"),I933,IF(K933=\"\",\"\",\"-\"),K933,IF(M933=\"\",\"\",\"-\"),M933,IF(O933=\"\",\"\",\"-\"),O933))))","v":""},{"$nulls":13},{"$f":"IF(LEN('1 - Opstart Importark'!$B$6)>0,'1 - Opstart Importark'!$B$6,\"\")","v":""},{"$f":"IF(LEN('1 - Opstart Importark'!$B$9)>0,'1 - Opstart Importark'!$B$9,\"\")","v":""},{"$f":"IF(LEN('1 - Opstart Importark'!$B$31)>0,'1 - Opstart Importark'!$B$31,\"\")","v":""},{"$nulls":12},"",{"$nulls":8},0,"","","objektnogle_"]
[923,null,{"$f":"IF('1 - Opstart Importark'!$B$6=\"\",\"\",(IF('1 - Opstart Importark'!$B$15=\"\",CONCATENATE(LEFT('1 - Opstart Importark'!$B$3,1),(LEFT('1 - Opstart Importark'!$B$24,2)),LEFT('1 - Opstart Importark'!$B$28,3),IF(I934=\"\",\"\",\"-\"),I934,IF(K934=\"\",\"\",\"-\"),K934,IF(M934=\"\",\"\",\"-\"),M934,IF(O934=\"\",\"\",\"-\"),O934),CONCATENATE(LEFT('1 - Opstart Importark'!$B$3,1),(LEFT('1 - Opstart Importark'!$B$15,2)),(LEFT('1 - Opstart Importark'!$B$18,3)),IF(I934=\"\",\"\",\"-\"),I934,IF(K934=\"\",\"\",\"-\"),K934,IF(M934=\"\",\"\",\"-\"),M934,IF(O934=\"\",\"\",\"-\"),O934))))","v":""},{"$nulls":13},{"$f":"IF(LEN('1 - Opstart Importark'!$B$6)>0,'1 - Opstart Importark'!$B$6,\"\")","v":""},{"$f":"IF(LEN('1 - Opstart Importark'!$B$9)>0,'1 - Opstart Importark'!$B$9,\"\")","v":""},{"$f":"IF(LEN('1 - Opstart Importark'!$B$31)>0,'1 - Opstart Importark'!$B$31,\"\")","v":""},{"$nulls":12},"",{"$nulls":8},0,"","","objektnogle_"]
[924,null,{"$f":"IF('1 - Opstart Importark'!$B$6=\"\",\"\",(IF('1 - Opstart Importark'!$B$15=\"\",CONCATENATE(LEFT('1 - Opstart Importark'!$B$3,1),(LEFT('1 - Opstart Importark'!$B$24,2)),LEFT('1 - Opstart Importark'!$B$28,3),IF(I935=\"\",\"\",\"-\"),I935,IF(K935=\"\",\"\",\"-\"),K935,IF(M935=\"\",\"\",\"-\"),M935,IF(O935=\"\",\"\",\"-\"),O935),CONCATENATE(LEFT('1 - Opstart Importark'!$B$3,1),(LEFT('1 - Opstart Importark'!$B$15,2)),(LEFT('1 - Opstart Importark'!$B$18,3)),IF(I935=\"\",\"\",\"-\"),I935,IF(K935=\"\",\"\",\"-\"),K935,IF(M935=\"\",\"\",\"-\"),M935,IF(O935=\"\",\"\",\"-\"),O935))))","v":""},{"$nulls":13},{"$f":"IF(LEN('1 - Opstart Importark'!$B$6)>0,'1 - Opstart Importark'!$B$6,\"\")","v":""},{"$f":"IF(LEN('1 - Opstart Importark'!$B$9)>0,'1 - Opstart Importark'!$B$9,\"\")","v":""},{"$f":"IF(LEN('1 - Opstart Importark'!$B$31)>0,'1 - Opstart Importark'!$B$31,\"\")","v":""},{"$nulls":12},"",{"$nulls":8},0,"","","objektnogle_"]
[925,null,{"$f":"IF('1 - Opstart Importark'!$B$6=\"\",\"\",(IF('1 - Opstart Importark'!$B$15=\"\",CONCATENATE(LEFT('1 - Opstart Importark'!$B$3,1),(LEFT('1 - Opstart Importark'!$B$24,2)),LEFT('1 - Opstart Importark'!$B$28,3),IF(I936=\"\",\"\",\"-\"),I936,IF(K936=\"\",\"\",\"-\"),K936,IF(M936=\"\",\"\",\"-\"),M936,IF(O936=\"\",\"\",\"-\"),O936),CONCATENATE(LEFT('1 - Opstart Importark'!$B$3,1),(LEFT('1 - Opstart Importark'!$B$15,2)),(LEFT('1 - Opstart Importark'!$B$18,3)),IF(I936=\"\",\"\",\"-\"),I936,IF(K936=\"\",\"\",\"-\"),K936,IF(M936=\"\",\"\",\"-\"),M936,IF(O936=\"\",\"\",\"-\"),O936))))","v":""},{"$nulls":13},{"$f":"IF(LEN('1 - Opstart Importark'!$B$6)>0,'1 - Opstart Importark'!$B$6,\"\")","v":""},{"$f":"IF(LEN('1 - Opstart Importark'!$B$9)>0,'1 - Opstart Importark'!$B$9,\"\")","v":""},{"$f":"IF(LEN('1 - Opstart Importark'!$B$31)>0,'1 - Opstart Importark'!$B$31,\"\")","v":""},{"$nulls":12},"",{"$nulls":8},0,"","","objektnogle_"]
[926,null,{"$f":"IF('1 - Opstart Importark'!$B$6=\"\",\"\",(IF('1 - Opstart Importark'!$B$15=\"\",CONCATENATE(LEFT('1 - Opstart Importark'!$B$3,1),(LEFT('1 - Opstart Importark'!$B$24,2)),LEFT('1 - Opstart Importark'!$B$28,3),IF(I937=\"\",\"\",\"-\"),I937,IF(K937=\"\",\"\",\"-\"),K937,IF(M937=\"\",\"\",\"-\"),M937,IF(O937=\"\",\"\",\"-\"),O937),CONCATENATE(LEFT('1 - Opstart Importark'!$B$3,1),(LEFT('1 - Opstart Importark'!$B$15,2)),(LEFT('1 - Opstart Importark'!$B$18,3)),IF(I937=\"\",\"\",\"-\"),I937,IF(K937=\"\",\"\",\"-\"),K937,IF(M937=\"\",\"\",\"-\"),M937,IF(O937=\"\",\"\",\"-\"),O937))))","v":""},{"$nulls":13},{"$f":"IF(LEN('1 - Opstart Importark'!$B$6)>0,'1 - Opstart Importark'!$B$6,\"\")","v":""},{"$f":"IF(LEN('1 - Opstart Importark'!$B$9)>0,'1 - Opstart Importark'!$B$9,\"\")","v":""},{"$f":"IF(LEN('1 - Opstart Importark'!$B$31)>0,'1 - Opstart Importark'!$B$31,\"\")","v":""},{"$nulls":12},"",{"$nulls":8},0,"","","objektnogle_"]
[927,null,{"$f":"IF('1 - Opstart Importark'!$B$6=\"\",\"\",(IF('1 - Opstart Importark'!$B$15=\"\",CONCATENATE(LEFT('1 - Opstart Importark'!$B$3,1),(LEFT('1 - Opstart Importark'!$B$24,2)),LEFT('1 - Opstart Importark'!$B$28,3),IF(I938=\"\",\"\",\"-\"),I938,IF(K938=\"\",\"\",\"-\"),K938,IF(M938=\"\",\"\",\"-\"),M938,IF(O938=\"\",\"\",\"-\"),O938),CONCATENATE(LEFT('1 - Opstart Importark'!$B$3,1),(LEFT('1 - Opstart Importark'!$B$15,2)),(LEFT('1 - Opstart Importark'!$B$18,3)),IF(I938=\"\",\"\",\"-\"),I938,IF(K938=\"\",\"\",\"-\"),K938,IF(M938=\"\",\"\",\"-\"),M938,IF(O938=\"\",\"\",\"-\"),O938))))","v":""},{"$nulls":13},{"$f":"IF(LEN('1 - Opstart Importark'!$B$6)>0,'1 - Opstart Importark'!$B$6,\"\")","v":""},{"$f":"IF(LEN('1 - Opstart Importark'!$B$9)>0,'1 - Opstart Importark'!$B$9,\"\")","v":""},{"$f":"IF(LEN('1 - Opstart Importark'!$B$31)>0,'1 - Opstart Importark'!$B$31,\"\")","v":""},{"$nulls":12},"",{"$nulls":8},0,"","","objektnogle_"]
[928,null,{"$f":"IF('1 - Opstart Importark'!$B$6=\"\",\"\",(IF('1 - Opstart Importark'!$B$15=\"\",CONCATENATE(LEFT('1 - Opstart Importark'!$B$3,1),(LEFT('1 - Opstart Importark'!$B$24,2)),LEFT('1 - Opstart Importark'!$B$28,3),IF(I939=\"\",\"\",\"-\"),I939,IF(K939=\"\",\"\",\"-\"),K939,IF(M939=\"\",\"\",\"-\"),M939,IF(O939=\"\",\"\",\"-\"),O939),CONCATENATE(LEFT('1 - Opstart Importark'!$B$3,1),(LEFT('1 - Opstart Importark'!$B$15,2)),(LEFT('1 - Opstart Importark'!$B$18,3)),IF(I939=\"\",\"\",\"-\"),I939,IF(K939=\"\",\"\",\"-\"),K939,IF(M939=\"\",\"\",\"-\"),M939,IF(O939=\"\",\"\",\"-\"),O939))))","v":""},{"$nulls":13},{"$f":"IF(LEN('1 - Opstart Importark'!$B$6)>0,'1 - Opstart Importark'!$B$6,\"\")","v":""},{"$f":"IF(LEN('1 - Opstart Importark'!$B$9)>0,'1 - Opstart Importark'!$B$9,\"\")","v":""},{"$f":"IF(LEN('1 - Opstart Importark'!$B$31)>0,'1 - Opstart Importark'!$B$31,\"\")","v":""},{"$nulls":12},"",{"$nulls":8},0,"","","objektnogle_"]
[929,null,{"$f":"IF('1 - Opstart Importark'!$B$6=\"\",\"\",(IF('1 - Opstart Importark'!$B$15=\"\",CONCATENATE(LEFT('1 - Opstart Importark'!$B$3,1),(LEFT('1 - Opstart Importark'!$B$24,2)),LEFT('1 - Opstart Importark'!$B$28,3),IF(I940=\"\",\"\",\"-\"),I940,IF(K940=\"\",\"\",\"-\"),K940,IF(M940=\"\",\"\",\"-\"),M940,IF(O940=\"\",\"\",\"-\"),O940),CONCATENATE(LEFT('1 - Opstart Importark'!$B$3,1),(LEFT('1 - Opstart Importark'!$B$15,2)),(LEFT('1 - Opstart Importark'!$B$18,3)),IF(I940=\"\",\"\",\"-\"),I940,IF(K940=\"\",\"\",\"-\"),K940,IF(M940=\"\",\"\",\"-\"),M940,IF(O940=\"\",\"\",\"-\"),O940))))","v":""},{"$nulls":13},{"$f":"IF(LEN('1 - Opstart Importark'!$B$6)>0,'1 - Opstart Importark'!$B$6,\"\")","v":""},{"$f":"IF(LEN('1 - Opstart Importark'!$B$9)>0,'1 - Opstart Importark'!$B$9,\"\")","v":""},{"$f":"IF(LEN('1 - Opstart Importark'!$B$31)>0,'1 - Opstart Importark'!$B$31,\"\")","v":""},{"$nulls":12},"",{"$nulls":8},0,"","","objektnogle_"]
[930,null,{"$f":"IF('1 - Opstart Importark'!$B$6=\"\",\"\",(IF('1 - Opstart Importark'!$B$15=\"\",CONCATENATE(LEFT('1 - Opstart Importark'!$B$3,1),(LEFT('1 - Opstart Importark'!$B$24,2)),LEFT('1 - Opstart Importark'!$B$28,3),IF(I941=\"\",\"\",\"-\"),I941,IF(K941=\"\",\"\",\"-\"),K941,IF(M941=\"\",\"\",\"-\"),M941,IF(O941=\"\",\"\",\"-\"),O941),CONCATENATE(LEFT('1 - Opstart Importark'!$B$3,1),(LEFT('1 - Opstart Importark'!$B$15,2)),(LEFT('1 - Opstart Importark'!$B$18,3)),IF(I941=\"\",\"\",\"-\"),I941,IF(K941=\"\",\"\",\"-\"),K941,IF(M941=\"\",\"\",\"-\"),M941,IF(O941=\"\",\"\",\"-\"),O941))))","v":""},{"$nulls":13},{"$f":"IF(LEN('1 - Opstart Importark'!$B$6)>0,'1 - Opstart Importark'!$B$6,\"\")","v":""},{"$f":"IF(LEN('1 - Opstart Importark'!$B$9)>0,'1 - Opstart Importark'!$B$9,\"\")","v":""},{"$f":"IF(LEN('1 - Opstart Importark'!$B$31)>0,'1 - Opstart Importark'!$B$31,\"\")","v":""},{"$nulls":12},"",{"$nulls":8},0,"","","objektnogle_"]
[931,null,{"$f":"IF('1 - Opstart Importark'!$B$6=\"\",\"\",(IF('1 - Opstart Importark'!$B$15=\"\",CONCATENATE(LEFT('1 - Opstart Importark'!$B$3,1),(LEFT('1 - Opstart Importark'!$B$24,2)),LEFT('1 - Opstart Importark'!$B$28,3),IF(I942=\"\",\"\",\"-\"),I942,IF(K942=\"\",\"\",\"-\"),K942,IF(M942=\"\",\"\",\"-\"),M942,IF(O942=\"\",\"\",\"-\"),O942),CONCATENATE(LEFT('1 - Opstart Importark'!$B$3,1),(LEFT('1 - Opstart Importark'!$B$15,2)),(LEFT('1 - Opstart Importark'!$B$18,3)),IF(I942=\"\",\"\",\"-\"),I942,IF(K942=\"\",\"\",\"-\"),K942,IF(M942=\"\",\"\",\"-\"),M942,IF(O942=\"\",\"\",\"-\"),O942))))","v":""},{"$nulls":13},{"$f":"IF(LEN('1 - Opstart Importark'!$B$6)>0,'1 - Opstart Importark'!$B$6,\"\")","v":""},{"$f":"IF(LEN('1 - Opstart Importark'!$B$9)>0,'1 - Opstart Importark'!$B$9,\"\")","v":""},{"$f":"IF(LEN('1 - Opstart Importark'!$B$31)>0,'1 - Opstart Importark'!$B$31,\"\")","v":""},{"$nulls":12},"",{"$nulls":8},0,"","","objektnogle_"]
[932,null,{"$f":"IF('1 - Opstart Importark'!$B$6=\"\",\"\",(IF('1 - Opstart Importark'!$B$15=\"\",CONCATENATE(LEFT('1 - Opstart Importark'!$B$3,1),(LEFT('1 - Opstart Importark'!$B$24,2)),LEFT('1 - Opstart Importark'!$B$28,3),IF(I943=\"\",\"\",\"-\"),I943,IF(K943=\"\",\"\",\"-\"),K943,IF(M943=\"\",\"\",\"-\"),M943,IF(O943=\"\",\"\",\"-\"),O943),CONCATENATE(LEFT('1 - Opstart Importark'!$B$3,1),(LEFT('1 - Opstart Importark'!$B$15,2)),(LEFT('1 - Opstart Importark'!$B$18,3)),IF(I943=\"\",\"\",\"-\"),I943,IF(K943=\"\",\"\",\"-\"),K943,IF(M943=\"\",\"\",\"-\"),M943,IF(O943=\"\",\"\",\"-\"),O943))))","v":""},{"$nulls":13},{"$f":"IF(LEN('1 - Opstart Importark'!$B$6)>0,'1 - Opstart Importark'!$B$6,\"\")","v":""},{"$f":"IF(LEN('1 - Opstart Importark'!$B$9)>0,'1 - Opstart Importark'!$B$9,\"\")","v":""},{"$f":"IF(LEN('1 - Opstart Importark'!$B$31)>0,'1 - Opstart Importark'!$B$31,\"\")","v":""},{"$nulls":12},"",{"$nulls":8},0,"","","objektnogle_"]
[933,null,{"$f":"IF('1 - Opstart Importark'!$B$6=\"\",\"\",(IF('1 - Opstart Importark'!$B$15=\"\",CONCATENATE(LEFT('1 - Opstart Importark'!$B$3,1),(LEFT('1 - Opstart Importark'!$B$24,2)),LEFT('1 - Opstart Importark'!$B$28,3),IF(I944=\"\",\"\",\"-\"),I944,IF(K944=\"\",\"\",\"-\"),K944,IF(M944=\"\",\"\",\"-\"),M944,IF(O944=\"\",\"\",\"-\"),O944),CONCATENATE(LEFT('1 - Opstart Importark'!$B$3,1),(LEFT('1 - Opstart Importark'!$B$15,2)),(LEFT('1 - Opstart Importark'!$B$18,3)),IF(I944=\"\",\"\",\"-\"),I944,IF(K944=\"\",\"\",\"-\"),K944,IF(M944=\"\",\"\",\"-\"),M944,IF(O944=\"\",\"\",\"-\"),O944))))","v":""},{"$nulls":13},{"$f":"IF(LEN('1 - Opstart Importark'!$B$6)>0,'1 - Opstart Importark'!$B$6,\"\")","v":""},{"$f":"IF(LEN('1 - Opstart Importark'!$B$9)>0,'1 - Opstart Importark'!$B$9,\"\")","v":""},{"$f":"IF(LEN('1 - Opstart Importark'!$B$31)>0,'1 - Opstart Importark'!$B$31,\"\")","v":""},{"$nulls":12},"",{"$nulls":8},0,"","","objektnogle_"]
[934,null,{"$f":"IF('1 - Opstart Importark'!$B$6=\"\",\"\",(IF('1 - Opstart Importark'!$B$15=\"\",CONCATENATE(LEFT('1 - Opstart Importark'!$B$3,1),(LEFT('1 - Opstart Importark'!$B$24,2)),LEFT('1 - Opstart Importark'!$B$28,3),IF(I945=\"\",\"\",\"-\"),I945,IF(K945=\"\",\"\",\"-\"),K945,IF(M945=\"\",\"\",\"-\"),M945,IF(O945=\"\",\"\",\"-\"),O945),CONCATENATE(LEFT('1 - Opstart Importark'!$B$3,1),(LEFT('1 - Opstart Importark'!$B$15,2)),(LEFT('1 - Opstart Importark'!$B$18,3)),IF(I945=\"\",\"\",\"-\"),I945,IF(K945=\"\",\"\",\"-\"),K945,IF(M945=\"\",\"\",\"-\"),M945,IF(O945=\"\",\"\",\"-\"),O945))))","v":""},{"$nulls":13},{"$f":"IF(LEN('1 - Opstart Importark'!$B$6)>0,'1 - Opstart Importark'!$B$6,\"\")","v":""},{"$f":"IF(LEN('1 - Opstart Importark'!$B$9)>0,'1 - Opstart Importark'!$B$9,\"\")","v":""},{"$f":"IF(LEN('1 - Opstart Importark'!$B$31)>0,'1 - Opstart Importark'!$B$31,\"\")","v":""},{"$nulls":12},"",{"$nulls":8},0,"","","objektnogle_"]
[935,null,{"$f":"IF('1 - Opstart Importark'!$B$6=\"\",\"\",(IF('1 - Opstart Importark'!$B$15=\"\",CONCATENATE(LEFT('1 - Opstart Importark'!$B$3,1),(LEFT('1 - Opstart Importark'!$B$24,2)),LEFT('1 - Opstart Importark'!$B$28,3),IF(I946=\"\",\"\",\"-\"),I946,IF(K946=\"\",\"\",\"-\"),K946,IF(M946=\"\",\"\",\"-\"),M946,IF(O946=\"\",\"\",\"-\"),O946),CONCATENATE(LEFT('1 - Opstart Importark'!$B$3,1),(LEFT('1 - Opstart Importark'!$B$15,2)),(LEFT('1 - Opstart Importark'!$B$18,3)),IF(I946=\"\",\"\",\"-\"),I946,IF(K946=\"\",\"\",\"-\"),K946,IF(M946=\"\",\"\",\"-\"),M946,IF(O946=\"\",\"\",\"-\"),O946))))","v":""},{"$nulls":13},{"$f":"IF(LEN('1 - Opstart Importark'!$B$6)>0,'1 - Opstart Importark'!$B$6,\"\")","v":""},{"$f":"IF(LEN('1 - Opstart Importark'!$B$9)>0,'1 - Opstart Importark'!$B$9,\"\")","v":""},{"$f":"IF(LEN('1 - Opstart Importark'!$B$31)>0,'1 - Opstart Importark'!$B$31,\"\")","v":""},{"$nulls":12},"",{"$nulls":8},0,"","","objektnogle_"]
[936,null,{"$f":"IF('1 - Opstart Importark'!$B$6=\"\",\"\",(IF('1 - Opstart Importark'!$B$15=\"\",CONCATENATE(LEFT('1 - Opstart Importark'!$B$3,1),(LEFT('1 - Opstart Importark'!$B$24,2)),LEFT('1 - Opstart Importark'!$B$28,3),IF(I947=\"\",\"\",\"-\"),I947,IF(K947=\"\",\"\",\"-\"),K947,IF(M947=\"\",\"\",\"-\"),M947,IF(O947=\"\",\"\",\"-\"),O947),CONCATENATE(LEFT('1 - Opstart Importark'!$B$3,1),(LEFT('1 - Opstart Importark'!$B$15,2)),(LEFT('1 - Opstart Importark'!$B$18,3)),IF(I947=\"\",\"\",\"-\"),I947,IF(K947=\"\",\"\",\"-\"),K947,IF(M947=\"\",\"\",\"-\"),M947,IF(O947=\"\",\"\",\"-\"),O947))))","v":""},{"$nulls":13},{"$f":"IF(LEN('1 - Opstart Importark'!$B$6)>0,'1 - Opstart Importark'!$B$6,\"\")","v":""},{"$f":"IF(LEN('1 - Opstart Importark'!$B$9)>0,'1 - Opstart Importark'!$B$9,\"\")","v":""},{"$f":"IF(LEN('1 - Opstart Importark'!$B$31)>0,'1 - Opstart Importark'!$B$31,\"\")","v":""},{"$nulls":12},"",{"$nulls":8},0,"","","objektnogle_"]
[937,null,{"$f":"IF('1 - Opstart Importark'!$B$6=\"\",\"\",(IF('1 - Opstart Importark'!$B$15=\"\",CONCATENATE(LEFT('1 - Opstart Importark'!$B$3,1),(LEFT('1 - Opstart Importark'!$B$24,2)),LEFT('1 - Opstart Importark'!$B$28,3),IF(I948=\"\",\"\",\"-\"),I948,IF(K948=\"\",\"\",\"-\"),K948,IF(M948=\"\",\"\",\"-\"),M948,IF(O948=\"\",\"\",\"-\"),O948),CONCATENATE(LEFT('1 - Opstart Importark'!$B$3,1),(LEFT('1 - Opstart Importark'!$B$15,2)),(LEFT('1 - Opstart Importark'!$B$18,3)),IF(I948=\"\",\"\",\"-\"),I948,IF(K948=\"\",\"\",\"-\"),K948,IF(M948=\"\",\"\",\"-\"),M948,IF(O948=\"\",\"\",\"-\"),O948))))","v":""},{"$nulls":13},{"$f":"IF(LEN('1 - Opstart Importark'!$B$6)>0,'1 - Opstart Importark'!$B$6,\"\")","v":""},{"$f":"IF(LEN('1 - Opstart Importark'!$B$9)>0,'1 - Opstart Importark'!$B$9,\"\")","v":""},{"$f":"IF(LEN('1 - Opstart Importark'!$B$31)>0,'1 - Opstart Importark'!$B$31,\"\")","v":""},{"$nulls":12},"",{"$nulls":8},0,"","","objektnogle_"]
[938,null,{"$f":"IF('1 - Opstart Importark'!$B$6=\"\",\"\",(IF('1 - Opstart Importark'!$B$15=\"\",CONCATENATE(LEFT('1 - Opstart Importark'!$B$3,1),(LEFT('1 - Opstart Importark'!$B$24,2)),LEFT('1 - Opstart Importark'!$B$28,3),IF(I949=\"\",\"\",\"-\"),I949,IF(K949=\"\",\"\",\"-\"),K949,IF(M949=\"\",\"\",\"-\"),M949,IF(O949=\"\",\"\",\"-\"),O949),CONCATENATE(LEFT('1 - Opstart Importark'!$B$3,1),(LEFT('1 - Opstart Importark'!$B$15,2)),(LEFT('1 - Opstart Importark'!$B$18,3)),IF(I949=\"\",\"\",\"-\"),I949,IF(K949=\"\",\"\",\"-\"),K949,IF(M949=\"\",\"\",\"-\"),M949,IF(O949=\"\",\"\",\"-\"),O949))))","v":""},{"$nulls":13},{"$f":"IF(LEN('1 - Opstart Importark'!$B$6)>0,'1 - Opstart Importark'!$B$6,\"\")","v":""},{"$f":"IF(LEN('1 - Opstart Importark'!$B$9)>0,'1 - Opstart Importark'!$B$9,\"\")","v":""},{"$f":"IF(LEN('1 - Opstart Importark'!$B$31)>0,'1 - Opstart Importark'!$B$31,\"\")","v":""},{"$nulls":12},"",{"$nulls":8},0,"","","objektnogle_"]
[939,null,{"$f":"IF('1 - Opstart Importark'!$B$6=\"\",\"\",(IF('1 - Opstart Importark'!$B$15=\"\",CONCATENATE(LEFT('1 - Opstart Importark'!$B$3,1),(LEFT('1 - Opstart Importark'!$B$24,2)),LEFT('1 - Opstart Importark'!$B$28,3),IF(I950=\"\",\"\",\"-\"),I950,IF(K950=\"\",\"\",\"-\"),K950,IF(M950=\"\",\"\",\"-\"),M950,IF(O950=\"\",\"\",\"-\"),O950),CONCATENATE(LEFT('1 - Opstart Importark'!$B$3,1),(LEFT('1 - Opstart Importark'!$B$15,2)),(LEFT('1 - Opstart Importark'!$B$18,3)),IF(I950=\"\",\"\",\"-\"),I950,IF(K950=\"\",\"\",\"-\"),K950,IF(M950=\"\",\"\",\"-\"),M950,IF(O950=\"\",\"\",\"-\"),O950))))","v":""},{"$nulls":13},{"$f":"IF(LEN('1 - Opstart Importark'!$B$6)>0,'1 - Opstart Importark'!$B$6,\"\")","v":""},{"$f":"IF(LEN('1 - Opstart Importark'!$B$9)>0,'1 - Opstart Importark'!$B$9,\"\")","v":""},{"$f":"IF(LEN('1 - Opstart Importark'!$B$31)>0,'1 - Opstart Importark'!$B$31,\"\")","v":""},{"$nulls":12},"",{"$nulls":8},0,"","","objektnogle_"]
[940,null,{"$f":"IF('1 - Opstart Importark'!$B$6=\"\",\"\",(IF('1 - Opstart Importark'!$B$15=\"\",CONCATENATE(LEFT('1 - Opstart Importark'!$B$3,1),(LEFT('1 - Opstart Importark'!$B$24,2)),LEFT('1 - Opstart Importark'!$B$28,3),IF(I951=\"\",\"\",\"-\"),I951,IF(K951=\"\",\"\",\"-\"),K951,IF(M951=\"\",\"\",\"-\"),M951,IF(O951=\"\",\"\",\"-\"),O951),CONCATENATE(LEFT('1 - Opstart Importark'!$B$3,1),(LEFT('1 - Opstart Importark'!$B$15,2)),(LEFT('1 - Opstart Importark'!$B$18,3)),IF(I951=\"\",\"\",\"-\"),I951,IF(K951=\"\",\"\",\"-\"),K951,IF(M951=\"\",\"\",\"-\"),M951,IF(O951=\"\",\"\",\"-\"),O951))))","v":""},{"$nulls":13},{"$f":"IF(LEN('1 - Opstart Importark'!$B$6)>0,'1 - Opstart Importark'!$B$6,\"\")","v":""},{"$f":"IF(LEN('1 - Opstart Importark'!$B$9)>0,'1 - Opstart Importark'!$B$9,\"\")","v":""},{"$f":"IF(LEN('1 - Opstart Importark'!$B$31)>0,'1 - Opstart Importark'!$B$31,\"\")","v":""},{"$nulls":12},"",{"$nulls":8},0,"","","objektnogle_"]
[941,null,{"$f":"IF('1 - Opstart Importark'!$B$6=\"\",\"\",(IF('1 - Opstart Importark'!$B$15=\"\",CONCATENATE(LEFT('1 - Opstart Importark'!$B$3,1),(LEFT('1 - Opstart Importark'!$B$24,2)),LEFT('1 - Opstart Importark'!$B$28,3),IF(I952=\"\",\"\",\"-\"),I952,IF(K952=\"\",\"\",\"-\"),K952,IF(M952=\"\",\"\",\"-\"),M952,IF(O952=\"\",\"\",\"-\"),O952),CONCATENATE(LEFT('1 - Opstart Importark'!$B$3,1),(LEFT('1 - Opstart Importark'!$B$15,2)),(LEFT('1 - Opstart Importark'!$B$18,3)),IF(I952=\"\",\"\",\"-\"),I952,IF(K952=\"\",\"\",\"-\"),K952,IF(M952=\"\",\"\",\"-\"),M952,IF(O952=\"\",\"\",\"-\"),O952))))","v":""},{"$nulls":13},{"$f":"IF(LEN('1 - Opstart Importark'!$B$6)>0,'1 - Opstart Importark'!$B$6,\"\")","v":""},{"$f":"IF(LEN('1 - Opstart Importark'!$B$9)>0,'1 - Opstart Importark'!$B$9,\"\")","v":""},{"$f":"IF(LEN('1 - Opstart Importark'!$B$31)>0,'1 - Opstart Importark'!$B$31,\"\")","v":""},{"$nulls":12},"",{"$nulls":8},0,"","","objektnogle_"]
[942,null,{"$f":"IF('1 - Opstart Importark'!$B$6=\"\",\"\",(IF('1 - Opstart Importark'!$B$15=\"\",CONCATENATE(LEFT('1 - Opstart Importark'!$B$3,1),(LEFT('1 - Opstart Importark'!$B$24,2)),LEFT('1 - Opstart Importark'!$B$28,3),IF(I953=\"\",\"\",\"-\"),I953,IF(K953=\"\",\"\",\"-\"),K953,IF(M953=\"\",\"\",\"-\"),M953,IF(O953=\"\",\"\",\"-\"),O953),CONCATENATE(LEFT('1 - Opstart Importark'!$B$3,1),(LEFT('1 - Opstart Importark'!$B$15,2)),(LEFT('1 - Opstart Importark'!$B$18,3)),IF(I953=\"\",\"\",\"-\"),I953,IF(K953=\"\",\"\",\"-\"),K953,IF(M953=\"\",\"\",\"-\"),M953,IF(O953=\"\",\"\",\"-\"),O953))))","v":""},{"$nulls":13},{"$f":"IF(LEN('1 - Opstart Importark'!$B$6)>0,'1 - Opstart Importark'!$B$6,\"\")","v":""},{"$f":"IF(LEN('1 - Opstart Importark'!$B$9)>0,'1 - Opstart Importark'!$B$9,\"\")","v":""},{"$f":"IF(LEN('1 - Opstart Importark'!$B$31)>0,'1 - Opstart Importark'!$B$31,\"\")","v":""},{"$nulls":12},"",{"$nulls":8},0,"","","objektnogle_"]
[943,null,{"$f":"IF('1 - Opstart Importark'!$B$6=\"\",\"\",(IF('1 - Opstart Importark'!$B$15=\"\",CONCATENATE(LEFT('1 - Opstart Importark'!$B$3,1),(LEFT('1 - Opstart Importark'!$B$24,2)),LEFT('1 - Opstart Importark'!$B$28,3),IF(I954=\"\",\"\",\"-\"),I954,IF(K954=\"\",\"\",\"-\"),K954,IF(M954=\"\",\"\",\"-\"),M954,IF(O954=\"\",\"\",\"-\"),O954),CONCATENATE(LEFT('1 - Opstart Importark'!$B$3,1),(LEFT('1 - Opstart Importark'!$B$15,2)),(LEFT('1 - Opstart Importark'!$B$18,3)),IF(I954=\"\",\"\",\"-\"),I954,IF(K954=\"\",\"\",\"-\"),K954,IF(M954=\"\",\"\",\"-\"),M954,IF(O954=\"\",\"\",\"-\"),O954))))","v":""},{"$nulls":13},{"$f":"IF(LEN('1 - Opstart Importark'!$B$6)>0,'1 - Opstart Importark'!$B$6,\"\")","v":""},{"$f":"IF(LEN('1 - Opstart Importark'!$B$9)>0,'1 - Opstart Importark'!$B$9,\"\")","v":""},{"$f":"IF(LEN('1 - Opstart Importark'!$B$31)>0,'1 - Opstart Importark'!$B$31,\"\")","v":""},{"$nulls":12},"",{"$nulls":8},0,"","","objektnogle_"]
[944,null,{"$f":"IF('1 - Opstart Importark'!$B$6=\"\",\"\",(IF('1 - Opstart Importark'!$B$15=\"\",CONCATENATE(LEFT('1 - Opstart Importark'!$B$3,1),(LEFT('1 - Opstart Importark'!$B$24,2)),LEFT('1 - Opstart Importark'!$B$28,3),IF(I955=\"\",\"\",\"-\"),I955,IF(K955=\"\",\"\",\"-\"),K955,IF(M955=\"\",\"\",\"-\"),M955,IF(O955=\"\",\"\",\"-\"),O955),CONCATENATE(LEFT('1 - Opstart Importark'!$B$3,1),(LEFT('1 - Opstart Importark'!$B$15,2)),(LEFT('1 - Opstart Importark'!$B$18,3)),IF(I955=\"\",\"\",\"-\"),I955,IF(K955=\"\",\"\",\"-\"),K955,IF(M955=\"\",\"\",\"-\"),M955,IF(O955=\"\",\"\",\"-\"),O955))))","v":""},{"$nulls":13},{"$f":"IF(LEN('1 - Opstart Importark'!$B$6)>0,'1 - Opstart Importark'!$B$6,\"\")","v":""},{"$f":"IF(LEN('1 - Opstart Importark'!$B$9)>0,'1 - Opstart Importark'!$B$9,\"\")","v":""},{"$f":"IF(LEN('1 - Opstart Importark'!$B$31)>0,'1 - Opstart Importark'!$B$31,\"\")","v":""},{"$nulls":12},"",{"$nulls":8},0,"","","objektnogle_"]
[945,null,{"$f":"IF('1 - Opstart Importark'!$B$6=\"\",\"\",(IF('1 - Opstart Importark'!$B$15=\"\",CONCATENATE(LEFT('1 - Opstart Importark'!$B$3,1),(LEFT('1 - Opstart Importark'!$B$24,2)),LEFT('1 - Opstart Importark'!$B$28,3),IF(I956=\"\",\"\",\"-\"),I956,IF(K956=\"\",\"\",\"-\"),K956,IF(M956=\"\",\"\",\"-\"),M956,IF(O956=\"\",\"\",\"-\"),O956),CONCATENATE(LEFT('1 - Opstart Importark'!$B$3,1),(LEFT('1 - Opstart Importark'!$B$15,2)),(LEFT('1 - Opstart Importark'!$B$18,3)),IF(I956=\"\",\"\",\"-\"),I956,IF(K956=\"\",\"\",\"-\"),K956,IF(M956=\"\",\"\",\"-\"),M956,IF(O956=\"\",\"\",\"-\"),O956))))","v":""},{"$nulls":13},{"$f":"IF(LEN('1 - Opstart Importark'!$B$6)>0,'1 - Opstart Importark'!$B$6,\"\")","v":""},{"$f":"IF(LEN('1 - Opstart Importark'!$B$9)>0,'1 - Opstart Importark'!$B$9,\"\")","v":""},{"$f":"IF(LEN('1 - Opstart Importark'!$B$31)>0,'1 - Opstart Importark'!$B$31,\"\")","v":""},{"$nulls":12},"",{"$nulls":8},0,"","","objektnogle_"]
[946,null,{"$f":"IF('1 - Opstart Importark'!$B$6=\"\",\"\",(IF('1 - Opstart Importark'!$B$15=\"\",CONCATENATE(LEFT('1 - Opstart Importark'!$B$3,1),(LEFT('1 - Opstart Importark'!$B$24,2)),LEFT('1 - Opstart Importark'!$B$28,3),IF(I957=\"\",\"\",\"-\"),I957,IF(K957=\"\",\"\",\"-\"),K957,IF(M957=\"\",\"\",\"-\"),M957,IF(O957=\"\",\"\",\"-\"),O957),CONCATENATE(LEFT('1 - Opstart Importark'!$B$3,1),(LEFT('1 - Opstart Importark'!$B$15,2)),(LEFT('1 - Opstart Importark'!$B$18,3)),IF(I957=\"\",\"\",\"-\"),I957,IF(K957=\"\",\"\",\"-\"),K957,IF(M957=\"\",\"\",\"-\"),M957,IF(O957=\"\",\"\",\"-\"),O957))))","v":""},{"$nulls":13},{"$f":"IF(LEN('1 - Opstart Importark'!$B$6)>0,'1 - Opstart Importark'!$B$6,\"\")","v":""},{"$f":"IF(LEN('1 - Opstart Importark'!$B$9)>0,'1 - Opstart Importark'!$B$9,\"\")","v":""},{"$f":"IF(LEN('1 - Opstart Importark'!$B$31)>0,'1 - Opstart Importark'!$B$31,\"\")","v":""},{"$nulls":12},"",{"$nulls":8},0,"","","objektnogle_"]
[947,null,{"$f":"IF('1 - Opstart Importark'!$B$6=\"\",\"\",(IF('1 - Opstart Importark'!$B$15=\"\",CONCATENATE(LEFT('1 - Opstart Importark'!$B$3,1),(LEFT('1 - Opstart Importark'!$B$24,2)),LEFT('1 - Opstart Importark'!$B$28,3),IF(I958=\"\",\"\",\"-\"),I958,IF(K958=\"\",\"\",\"-\"),K958,IF(M958=\"\",\"\",\"-\"),M958,IF(O958=\"\",\"\",\"-\"),O958),CONCATENATE(LEFT('1 - Opstart Importark'!$B$3,1),(LEFT('1 - Opstart Importark'!$B$15,2)),(LEFT('1 - Opstart Importark'!$B$18,3)),IF(I958=\"\",\"\",\"-\"),I958,IF(K958=\"\",\"\",\"-\"),K958,IF(M958=\"\",\"\",\"-\"),M958,IF(O958=\"\",\"\",\"-\"),O958))))","v":""},{"$nulls":13},{"$f":"IF(LEN('1 - Opstart Importark'!$B$6)>0,'1 - Opstart Importark'!$B$6,\"\")","v":""},{"$f":"IF(LEN('1 - Opstart Importark'!$B$9)>0,'1 - Opstart Importark'!$B$9,\"\")","v":""},{"$f":"IF(LEN('1 - Opstart Importark'!$B$31)>0,'1 - Opstart Importark'!$B$31,\"\")","v":""},{"$nulls":12},"",{"$nulls":8},0,"","","objektnogle_"]
[948,null,{"$f":"IF('1 - Opstart Importark'!$B$6=\"\",\"\",(IF('1 - Opstart Importark'!$B$15=\"\",CONCATENATE(LEFT('1 - Opstart Importark'!$B$3,1),(LEFT('1 - Opstart Importark'!$B$24,2)),LEFT('1 - Opstart Importark'!$B$28,3),IF(I959=\"\",\"\",\"-\"),I959,IF(K959=\"\",\"\",\"-\"),K959,IF(M959=\"\",\"\",\"-\"),M959,IF(O959=\"\",\"\",\"-\"),O959),CONCATENATE(LEFT('1 - Opstart Importark'!$B$3,1),(LEFT('1 - Opstart Importark'!$B$15,2)),(LEFT('1 - Opstart Importark'!$B$18,3)),IF(I959=\"\",\"\",\"-\"),I959,IF(K959=\"\",\"\",\"-\"),K959,IF(M959=\"\",\"\",\"-\"),M959,IF(O959=\"\",\"\",\"-\"),O959))))","v":""},{"$nulls":13},{"$f":"IF(LEN('1 - Opstart Importark'!$B$6)>0,'1 - Opstart Importark'!$B$6,\"\")","v":""},{"$f":"IF(LEN('1 - Opstart Importark'!$B$9)>0,'1 - Opstart Importark'!$B$9,\"\")","v":""},{"$f":"IF(LEN('1 - Opstart Importark'!$B$31)>0,'1 - Opstart Importark'!$B$31,\"\")","v":""},{"$nulls":12},"",{"$nulls":8},0,"","","objektnogle_"]
[949,null,{"$f":"IF('1 - Opstart Importark'!$B$6=\"\",\"\",(IF('1 - Opstart Importark'!$B$15=\"\",CONCATENATE(LEFT('1 - Opstart Importark'!$B$3,1),(LEFT('1 - Opstart Importark'!$B$24,2)),LEFT('1 - Opstart Importark'!$B$28,3),IF(I960=\"\",\"\",\"-\"),I960,IF(K960=\"\",\"\",\"-\"),K960,IF(M960=\"\",\"\",\"-\"),M960,IF(O960=\"\",\"\",\"-\"),O960),CONCATENATE(LEFT('1 - Opstart Importark'!$B$3,1),(LEFT('1 - Opstart Importark'!$B$15,2)),(LEFT('1 - Opstart Importark'!$B$18,3)),IF(I960=\"\",\"\",\"-\"),I960,IF(K960=\"\",\"\",\"-\"),K960,IF(M960=\"\",\"\",\"-\"),M960,IF(O960=\"\",\"\",\"-\"),O960))))","v":""},{"$nulls":13},{"$f":"IF(LEN('1 - Opstart Importark'!$B$6)>0,'1 - Opstart Importark'!$B$6,\"\")","v":""},{"$f":"IF(LEN('1 - Opstart Importark'!$B$9)>0,'1 - Opstart Importark'!$B$9,\"\")","v":""},{"$f":"IF(LEN('1 - Opstart Importark'!$B$31)>0,'1 - Opstart Importark'!$B$31,\"\")","v":""},{"$nulls":12},"",{"$nulls":8},0,"","","objektnogle_"]
[950,null,{"$f":"IF('1 - Opstart Importark'!$B$6=\"\",\"\",(IF('1 - Opstart Importark'!$B$15=\"\",CONCATENATE(LEFT('1 - Opstart Importark'!$B$3,1),(LEFT('1 - Opstart Importark'!$B$24,2)),LEFT('1 - Opstart Importark'!$B$28,3),IF(I961=\"\",\"\",\"-\"),I961,IF(K961=\"\",\"\",\"-\"),K961,IF(M961=\"\",\"\",\"-\"),M961,IF(O961=\"\",\"\",\"-\"),O961),CONCATENATE(LEFT('1 - Opstart Importark'!$B$3,1),(LEFT('1 - Opstart Importark'!$B$15,2)),(LEFT('1 - Opstart Importark'!$B$18,3)),IF(I961=\"\",\"\",\"-\"),I961,IF(K961=\"\",\"\",\"-\"),K961,IF(M961=\"\",\"\",\"-\"),M961,IF(O961=\"\",\"\",\"-\"),O961))))","v":""},{"$nulls":13},{"$f":"IF(LEN('1 - Opstart Importark'!$B$6)>0,'1 - Opstart Importark'!$B$6,\"\")","v":""},{"$f":"IF(LEN('1 - Opstart Importark'!$B$9)>0,'1 - Opstart Importark'!$B$9,\"\")","v":""},{"$f":"IF(LEN('1 - Opstart Importark'!$B$31)>0,'1 - Opstart Importark'!$B$31,\"\")","v":""},{"$nulls":12},"",{"$nulls":8},0,"","","objektnogle_"]
[951,null,{"$f":"IF('1 - Opstart Importark'!$B$6=\"\",\"\",(IF('1 - Opstart Importark'!$B$15=\"\",CONCATENATE(LEFT('1 - Opstart Importark'!$B$3,1),(LEFT('1 - Opstart Importark'!$B$24,2)),LEFT('1 - Opstart Importark'!$B$28,3),IF(I962=\"\",\"\",\"-\"),I962,IF(K962=\"\",\"\",\"-\"),K962,IF(M962=\"\",\"\",\"-\"),M962,IF(O962=\"\",\"\",\"-\"),O962),CONCATENATE(LEFT('1 - Opstart Importark'!$B$3,1),(LEFT('1 - Opstart Importark'!$B$15,2)),(LEFT('1 - Opstart Importark'!$B$18,3)),IF(I962=\"\",\"\",\"-\"),I962,IF(K962=\"\",\"\",\"-\"),K962,IF(M962=\"\",\"\",\"-\"),M962,IF(O962=\"\",\"\",\"-\"),O962))))","v":""},{"$nulls":13},{"$f":"IF(LEN('1 - Opstart Importark'!$B$6)>0,'1 - Opstart Importark'!$B$6,\"\")","v":""},{"$f":"IF(LEN('1 - Opstart Importark'!$B$9)>0,'1 - Opstart Importark'!$B$9,\"\")","v":""},{"$f":"IF(LEN('1 - Opstart Importark'!$B$31)>0,'1 - Opstart Importark'!$B$31,\"\")","v":""},{"$nulls":12},"",{"$nulls":8},0,"","","objektnogle_"]
[952,null,{"$f":"IF('1 - Opstart Importark'!$B$6=\"\",\"\",(IF('1 - Opstart Importark'!$B$15=\"\",CONCATENATE(LEFT('1 - Opstart Importark'!$B$3,1),(LEFT('1 - Opstart Importark'!$B$24,2)),LEFT('1 - Opstart Importark'!$B$28,3),IF(I963=\"\",\"\",\"-\"),I963,IF(K963=\"\",\"\",\"-\"),K963,IF(M963=\"\",\"\",\"-\"),M963,IF(O963=\"\",\"\",\"-\"),O963),CONCATENATE(LEFT('1 - Opstart Importark'!$B$3,1),(LEFT('1 - Opstart Importark'!$B$15,2)),(LEFT('1 - Opstart Importark'!$B$18,3)),IF(I963=\"\",\"\",\"-\"),I963,IF(K963=\"\",\"\",\"-\"),K963,IF(M963=\"\",\"\",\"-\"),M963,IF(O963=\"\",\"\",\"-\"),O963))))","v":""},{"$nulls":13},{"$f":"IF(LEN('1 - Opstart Importark'!$B$6)>0,'1 - Opstart Importark'!$B$6,\"\")","v":""},{"$f":"IF(LEN('1 - Opstart Importark'!$B$9)>0,'1 - Opstart Importark'!$B$9,\"\")","v":""},{"$f":"IF(LEN('1 - Opstart Importark'!$B$31)>0,'1 - Opstart Importark'!$B$31,\"\")","v":""},{"$nulls":12},"",{"$nulls":8},0,"","","objektnogle_"]
[953,null,{"$f":"IF('1 - Opstart Importark'!$B$6=\"\",\"\",(IF('1 - Opstart Importark'!$B$15=\"\",CONCATENATE(LEFT('1 - Opstart Importark'!$B$3,1),(LEFT('1 - Opstart Importark'!$B$24,2)),LEFT('1 - Opstart Importark'!$B$28,3),IF(I964=\"\",\"\",\"-\"),I964,IF(K964=\"\",\"\",\"-\"),K964,IF(M964=\"\",\"\",\"-\"),M964,IF(O964=\"\",\"\",\"-\"),O964),CONCATENATE(LEFT('1 - Opstart Importark'!$B$3,1),(LEFT('1 - Opstart Importark'!$B$15,2)),(LEFT('1 - Opstart Importark'!$B$18,3)),IF(I964=\"\",\"\",\"-\"),I964,IF(K964=\"\",\"\",\"-\"),K964,IF(M964=\"\",\"\",\"-\"),M964,IF(O964=\"\",\"\",\"-\"),O964))))","v":""},{"$nulls":13},{"$f":"IF(LEN('1 - Opstart Importark'!$B$6)>0,'1 - Opstart Importark'!$B$6,\"\")","v":""},{"$f":"IF(LEN('1 - Opstart Importark'!$B$9)>0,'1 - Opstart Importark'!$B$9,\"\")","v":""},{"$f":"IF(LEN('1 - Opstart Importark'!$B$31)>0,'1 - Opstart Importark'!$B$31,\"\")","v":""},{"$nulls":12},"",{"$nulls":8},0,"","","objektnogle_"]
[954,null,{"$f":"IF('1 - Opstart Importark'!$B$6=\"\",\"\",(IF('1 - Opstart Importark'!$B$15=\"\",CONCATENATE(LEFT('1 - Opstart Importark'!$B$3,1),(LEFT('1 - Opstart Importark'!$B$24,2)),LEFT('1 - Opstart Importark'!$B$28,3),IF(I965=\"\",\"\",\"-\"),I965,IF(K965=\"\",\"\",\"-\"),K965,IF(M965=\"\",\"\",\"-\"),M965,IF(O965=\"\",\"\",\"-\"),O965),CONCATENATE(LEFT('1 - Opstart Importark'!$B$3,1),(LEFT('1 - Opstart Importark'!$B$15,2)),(LEFT('1 - Opstart Importark'!$B$18,3)),IF(I965=\"\",\"\",\"-\"),I965,IF(K965=\"\",\"\",\"-\"),K965,IF(M965=\"\",\"\",\"-\"),M965,IF(O965=\"\",\"\",\"-\"),O965))))","v":""},{"$nulls":13},{"$f":"IF(LEN('1 - Opstart Importark'!$B$6)>0,'1 - Opstart Importark'!$B$6,\"\")","v":""},{"$f":"IF(LEN('1 - Opstart Importark'!$B$9)>0,'1 - Opstart Importark'!$B$9,\"\")","v":""},{"$f":"IF(LEN('1 - Opstart Importark'!$B$31)>0,'1 - Opstart Importark'!$B$31,\"\")","v":""},{"$nulls":12},"",{"$nulls":8},0,"","","objektnogle_"]
[955,null,{"$f":"IF('1 - Opstart Importark'!$B$6=\"\",\"\",(IF('1 - Opstart Importark'!$B$15=\"\",CONCATENATE(LEFT('1 - Opstart Importark'!$B$3,1),(LEFT('1 - Opstart Importark'!$B$24,2)),LEFT('1 - Opstart Importark'!$B$28,3),IF(I966=\"\",\"\",\"-\"),I966,IF(K966=\"\",\"\",\"-\"),K966,IF(M966=\"\",\"\",\"-\"),M966,IF(O966=\"\",\"\",\"-\"),O966),CONCATENATE(LEFT('1 - Opstart Importark'!$B$3,1),(LEFT('1 - Opstart Importark'!$B$15,2)),(LEFT('1 - Opstart Importark'!$B$18,3)),IF(I966=\"\",\"\",\"-\"),I966,IF(K966=\"\",\"\",\"-\"),K966,IF(M966=\"\",\"\",\"-\"),M966,IF(O966=\"\",\"\",\"-\"),O966))))","v":""},{"$nulls":13},{"$f":"IF(LEN('1 - Opstart Importark'!$B$6)>0,'1 - Opstart Importark'!$B$6,\"\")","v":""},{"$f":"IF(LEN('1 - Opstart Importark'!$B$9)>0,'1 - Opstart Importark'!$B$9,\"\")","v":""},{"$f":"IF(LEN('1 - Opstart Importark'!$B$31)>0,'1 - Opstart Importark'!$B$31,\"\")","v":""},{"$nulls":12},"",{"$nulls":8},0,"","","objektnogle_"]
[956,null,{"$f":"IF('1 - Opstart Importark'!$B$6=\"\",\"\",(IF('1 - Opstart Importark'!$B$15=\"\",CONCATENATE(LEFT('1 - Opstart Importark'!$B$3,1),(LEFT('1 - Opstart Importark'!$B$24,2)),LEFT('1 - Opstart Importark'!$B$28,3),IF(I967=\"\",\"\",\"-\"),I967,IF(K967=\"\",\"\",\"-\"),K967,IF(M967=\"\",\"\",\"-\"),M967,IF(O967=\"\",\"\",\"-\"),O967),CONCATENATE(LEFT('1 - Opstart Importark'!$B$3,1),(LEFT('1 - Opstart Importark'!$B$15,2)),(LEFT('1 - Opstart Importark'!$B$18,3)),IF(I967=\"\",\"\",\"-\"),I967,IF(K967=\"\",\"\",\"-\"),K967,IF(M967=\"\",\"\",\"-\"),M967,IF(O967=\"\",\"\",\"-\"),O967))))","v":""},{"$nulls":13},{"$f":"IF(LEN('1 - Opstart Importark'!$B$6)>0,'1 - Opstart Importark'!$B$6,\"\")","v":""},{"$f":"IF(LEN('1 - Opstart Importark'!$B$9)>0,'1 - Opstart Importark'!$B$9,\"\")","v":""},{"$f":"IF(LEN('1 - Opstart Importark'!$B$31)>0,'1 - Opstart Importark'!$B$31,\"\")","v":""},{"$nulls":12},"",{"$nulls":8},0,"","","objektnogle_"]
[957,null,{"$f":"IF('1 - Opstart Importark'!$B$6=\"\",\"\",(IF('1 - Opstart Importark'!$B$15=\"\",CONCATENATE(LEFT('1 - Opstart Importark'!$B$3,1),(LEFT('1 - Opstart Importark'!$B$24,2)),LEFT('1 - Opstart Importark'!$B$28,3),IF(I968=\"\",\"\",\"-\"),I968,IF(K968=\"\",\"\",\"-\"),K968,IF(M968=\"\",\"\",\"-\"),M968,IF(O968=\"\",\"\",\"-\"),O968),CONCATENATE(LEFT('1 - Opstart Importark'!$B$3,1),(LEFT('1 - Opstart Importark'!$B$15,2)),(LEFT('1 - Opstart Importark'!$B$18,3)),IF(I968=\"\",\"\",\"-\"),I968,IF(K968=\"\",\"\",\"-\"),K968,IF(M968=\"\",\"\",\"-\"),M968,IF(O968=\"\",\"\",\"-\"),O968))))","v":""},{"$nulls":13},{"$f":"IF(LEN('1 - Opstart Importark'!$B$6)>0,'1 - Opstart Importark'!$B$6,\"\")","v":""},{"$f":"IF(LEN('1 - Opstart Importark'!$B$9)>0,'1 - Opstart Importark'!$B$9,\"\")","v":""},{"$f":"IF(LEN('1 - Opstart Importark'!$B$31)>0,'1 - Opstart Importark'!$B$31,\"\")","v":""},{"$nulls":12},"",{"$nulls":8},0,"","","objektnogle_"]
[958,null,{"$f":"IF('1 - Opstart Importark'!$B$6=\"\",\"\",(IF('1 - Opstart Importark'!$B$15=\"\",CONCATENATE(LEFT('1 - Opstart Importark'!$B$3,1),(LEFT('1 - Opstart Importark'!$B$24,2)),LEFT('1 - Opstart Importark'!$B$28,3),IF(I969=\"\",\"\",\"-\"),I969,IF(K969=\"\",\"\",\"-\"),K969,IF(M969=\"\",\"\",\"-\"),M969,IF(O969=\"\",\"\",\"-\"),O969),CONCATENATE(LEFT('1 - Opstart Importark'!$B$3,1),(LEFT('1 - Opstart Importark'!$B$15,2)),(LEFT('1 - Opstart Importark'!$B$18,3)),IF(I969=\"\",\"\",\"-\"),I969,IF(K969=\"\",\"\",\"-\"),K969,IF(M969=\"\",\"\",\"-\"),M969,IF(O969=\"\",\"\",\"-\"),O969))))","v":""},{"$nulls":13},{"$f":"IF(LEN('1 - Opstart Importark'!$B$6)>0,'1 - Opstart Importark'!$B$6,\"\")","v":""},{"$f":"IF(LEN('1 - Opstart Importark'!$B$9)>0,'1 - Opstart Importark'!$B$9,\"\")","v":""},{"$f":"IF(LEN('1 - Opstart Importark'!$B$31)>0,'1 - Opstart Importark'!$B$31,\"\")","v":""},{"$nulls":12},"",{"$nulls":8},0,"","","objektnogle_"]
[959,null,{"$f":"IF('1 - Opstart Importark'!$B$6=\"\",\"\",(IF('1 - Opstart Importark'!$B$15=\"\",CONCATENATE(LEFT('1 - Opstart Importark'!$B$3,1),(LEFT('1 - Opstart Importark'!$B$24,2)),LEFT('1 - Opstart Importark'!$B$28,3),IF(I970=\"\",\"\",\"-\"),I970,IF(K970=\"\",\"\",\"-\"),K970,IF(M970=\"\",\"\",\"-\"),M970,IF(O970=\"\",\"\",\"-\"),O970),CONCATENATE(LEFT('1 - Opstart Importark'!$B$3,1),(LEFT('1 - Opstart Importark'!$B$15,2)),(LEFT('1 - Opstart Importark'!$B$18,3)),IF(I970=\"\",\"\",\"-\"),I970,IF(K970=\"\",\"\",\"-\"),K970,IF(M970=\"\",\"\",\"-\"),M970,IF(O970=\"\",\"\",\"-\"),O970))))","v":""},{"$nulls":13},{"$f":"IF(LEN('1 - Opstart Importark'!$B$6)>0,'1 - Opstart Importark'!$B$6,\"\")","v":""},{"$f":"IF(LEN('1 - Opstart Importark'!$B$9)>0,'1 - Opstart Importark'!$B$9,\"\")","v":""},{"$f":"IF(LEN('1 - Opstart Importark'!$B$31)>0,'1 - Opstart Importark'!$B$31,\"\")","v":""},{"$nulls":12},"",{"$nulls":8},0,"","","objektnogle_"]
[960,null,{"$f":"IF('1 - Opstart Importark'!$B$6=\"\",\"\",(IF('1 - Opstart Importark'!$B$15=\"\",CONCATENATE(LEFT('1 - Opstart Importark'!$B$3,1),(LEFT('1 - Opstart Importark'!$B$24,2)),LEFT('1 - Opstart Importark'!$B$28,3),IF(I971=\"\",\"\",\"-\"),I971,IF(K971=\"\",\"\",\"-\"),K971,IF(M971=\"\",\"\",\"-\"),M971,IF(O971=\"\",\"\",\"-\"),O971),CONCATENATE(LEFT('1 - Opstart Importark'!$B$3,1),(LEFT('1 - Opstart Importark'!$B$15,2)),(LEFT('1 - Opstart Importark'!$B$18,3)),IF(I971=\"\",\"\",\"-\"),I971,IF(K971=\"\",\"\",\"-\"),K971,IF(M971=\"\",\"\",\"-\"),M971,IF(O971=\"\",\"\",\"-\"),O971))))","v":""},{"$nulls":13},{"$f":"IF(LEN('1 - Opstart Importark'!$B$6)>0,'1 - Opstart Importark'!$B$6,\"\")","v":""},{"$f":"IF(LEN('1 - Opstart Importark'!$B$9)>0,'1 - Opstart Importark'!$B$9,\"\")","v":""},{"$f":"IF(LEN('1 - Opstart Importark'!$B$31)>0,'1 - Opstart Importark'!$B$31,\"\")","v":""},{"$nulls":12},"",{"$nulls":8},0,"","","objektnogle_"]
[961,null,{"$f":"IF('1 - Opstart Importark'!$B$6=\"\",\"\",(IF('1 - Opstart Importark'!$B$15=\"\",CONCATENATE(LEFT('1 - Opstart Importark'!$B$3,1),(LEFT('1 - Opstart Importark'!$B$24,2)),LEFT('1 - Opstart Importark'!$B$28,3),IF(I972=\"\",\"\",\"-\"),I972,IF(K972=\"\",\"\",\"-\"),K972,IF(M972=\"\",\"\",\"-\"),M972,IF(O972=\"\",\"\",\"-\"),O972),CONCATENATE(LEFT('1 - Opstart Importark'!$B$3,1),(LEFT('1 - Opstart Importark'!$B$15,2)),(LEFT('1 - Opstart Importark'!$B$18,3)),IF(I972=\"\",\"\",\"-\"),I972,IF(K972=\"\",\"\",\"-\"),K972,IF(M972=\"\",\"\",\"-\"),M972,IF(O972=\"\",\"\",\"-\"),O972))))","v":""},{"$nulls":13},{"$f":"IF(LEN('1 - Opstart Importark'!$B$6)>0,'1 - Opstart Importark'!$B$6,\"\")","v":""},{"$f":"IF(LEN('1 - Opstart Importark'!$B$9)>0,'1 - Opstart Importark'!$B$9,\"\")","v":""},{"$f":"IF(LEN('1 - Opstart Importark'!$B$31)>0,'1 - Opstart Importark'!$B$31,\"\")","v":""},{"$nulls":12},{"$f":"IF(M972=\"\",\"\",VLOOKUP(LEFT(M972,1),objektfilter,2))","v":""},{"$nulls":8},0,"","","objektnogle_"]
[962,null,{"$f":"IF('1 - Opstart Importark'!$B$6=\"\",\"\",(IF('1 - Opstart Importark'!$B$15=\"\",CONCATENATE(LEFT('1 - Opstart Importark'!$B$3,1),(LEFT('1 - Opstart Importark'!$B$24,2)),LEFT('1 - Opstart Importark'!$B$28,3),IF(I973=\"\",\"\",\"-\"),I973,IF(K973=\"\",\"\",\"-\"),K973,IF(M973=\"\",\"\",\"-\"),M973,IF(O973=\"\",\"\",\"-\"),O973),CONCATENATE(LEFT('1 - Opstart Importark'!$B$3,1),(LEFT('1 - Opstart Importark'!$B$15,2)),(LEFT('1 - Opstart Importark'!$B$18,3)),IF(I973=\"\",\"\",\"-\"),I973,IF(K973=\"\",\"\",\"-\"),K973,IF(M973=\"\",\"\",\"-\"),M973,IF(O973=\"\",\"\",\"-\"),O973))))","v":""},{"$nulls":13},{"$f":"IF(LEN('1 - Opstart Importark'!$B$6)>0,'1 - Opstart Importark'!$B$6,\"\")","v":""},{"$f":"IF(LEN('1 - Opstart Importark'!$B$9)>0,'1 - Opstart Importark'!$B$9,\"\")","v":""},{"$f":"IF(LEN('1 - Opstart Importark'!$B$31)>0,'1 - Opstart Importark'!$B$31,\"\")","v":""},{"$nulls":12},"",{"$nulls":8},{"$f":"IFERROR(FIND(\".\",F973),)","v":0},{"$f":"IF(M973=\"\",\"\",IF(LEFT(M973,1)=\"E\",0,1))","v":""},{"$f":"IF(M973=\"\",\"\",IF(LEFT(M973,1)=\"E\",0,1))","v":""},{"$f":"IF(W973=\"\", CONCATENATE(\"objektnogle_\",LEFT(AF973,1)),CONCATENATE(\"objektnogle_\",LEFT(W973,1)))","v":"objektnogle_"}]
[963,null,{"$f":"IF('1 - Opstart Importark'!$B$6=\"\",\"\",(IF('1 - Opstart Importark'!$B$15=\"\",CONCATENATE(LEFT('1 - Opstart Importark'!$B$3,1),(LEFT('1 - Opstart Importark'!$B$24,2)),LEFT('1 - Opstart Importark'!$B$28,3),IF(I974=\"\",\"\",\"-\"),I974,IF(K974=\"\",\"\",\"-\"),K974,IF(M974=\"\",\"\",\"-\"),M974,IF(O974=\"\",\"\",\"-\"),O974),CONCATENATE(LEFT('1 - Opstart Importark'!$B$3,1),(LEFT('1 - Opstart Importark'!$B$15,2)),(LEFT('1 - Opstart Importark'!$B$18,3)),IF(I974=\"\",\"\",\"-\"),I974,IF(K974=\"\",\"\",\"-\"),K974,IF(M974=\"\",\"\",\"-\"),M974,IF(O974=\"\",\"\",\"-\"),O974))))","v":""},{"$nulls":13},{"$f":"IF(LEN('1 - Opstart Importark'!$B$6)>0,'1 - Opstart Importark'!$B$6,\"\")","v":""},{"$f":"IF(LEN('1 - Opstart Importark'!$B$9)>0,'1 - Opstart Importark'!$B$9,\"\")","v":""},{"$f":"IF(LEN('1 - Opstart Importark'!$B$31)>0,'1 - Opstart Importark'!$B$31,\"\")","v":""},{"$nulls":12},"",{"$nulls":8},0,"","","objektnogle_"]
[964,null,{"$f":"IF('1 - Opstart Importark'!$B$6=\"\",\"\",(IF('1 - Opstart Importark'!$B$15=\"\",CONCATENATE(LEFT('1 - Opstart Importark'!$B$3,1),(LEFT('1 - Opstart Importark'!$B$24,2)),LEFT('1 - Opstart Importark'!$B$28,3),IF(I975=\"\",\"\",\"-\"),I975,IF(K975=\"\",\"\",\"-\"),K975,IF(M975=\"\",\"\",\"-\"),M975,IF(O975=\"\",\"\",\"-\"),O975),CONCATENATE(LEFT('1 - Opstart Importark'!$B$3,1),(LEFT('1 - Opstart Importark'!$B$15,2)),(LEFT('1 - Opstart Importark'!$B$18,3)),IF(I975=\"\",\"\",\"-\"),I975,IF(K975=\"\",\"\",\"-\"),K975,IF(M975=\"\",\"\",\"-\"),M975,IF(O975=\"\",\"\",\"-\"),O975))))","v":""},{"$nulls":13},{"$f":"IF(LEN('1 - Opstart Importark'!$B$6)>0,'1 - Opstart Importark'!$B$6,\"\")","v":""},{"$f":"IF(LEN('1 - Opstart Importark'!$B$9)>0,'1 - Opstart Importark'!$B$9,\"\")","v":""},{"$f":"IF(LEN('1 - Opstart Importark'!$B$31)>0,'1 - Opstart Importark'!$B$31,\"\")","v":""},{"$nulls":12},"",{"$nulls":8},0,"","","objektnogle_"]
[965,null,{"$f":"IF('1 - Opstart Importark'!$B$6=\"\",\"\",(IF('1 - Opstart Importark'!$B$15=\"\",CONCATENATE(LEFT('1 - Opstart Importark'!$B$3,1),(LEFT('1 - Opstart Importark'!$B$24,2)),LEFT('1 - Opstart Importark'!$B$28,3),IF(I976=\"\",\"\",\"-\"),I976,IF(K976=\"\",\"\",\"-\"),K976,IF(M976=\"\",\"\",\"-\"),M976,IF(O976=\"\",\"\",\"-\"),O976),CONCATENATE(LEFT('1 - Opstart Importark'!$B$3,1),(LEFT('1 - Opstart Importark'!$B$15,2)),(LEFT('1 - Opstart Importark'!$B$18,3)),IF(I976=\"\",\"\",\"-\"),I976,IF(K976=\"\",\"\",\"-\"),K976,IF(M976=\"\",\"\",\"-\"),M976,IF(O976=\"\",\"\",\"-\"),O976))))","v":""},{"$nulls":13},{"$f":"IF(LEN('1 - Opstart Importark'!$B$6)>0,'1 - Opstart Importark'!$B$6,\"\")","v":""},{"$f":"IF(LEN('1 - Opstart Importark'!$B$9)>0,'1 - Opstart Importark'!$B$9,\"\")","v":""},{"$f":"IF(LEN('1 - Opstart Importark'!$B$31)>0,'1 - Opstart Importark'!$B$31,\"\")","v":""},{"$nulls":12},"",{"$nulls":8},0,"","","objektnogle_"]
[966,null,{"$f":"IF('1 - Opstart Importark'!$B$6=\"\",\"\",(IF('1 - Opstart Importark'!$B$15=\"\",CONCATENATE(LEFT('1 - Opstart Importark'!$B$3,1),(LEFT('1 - Opstart Importark'!$B$24,2)),LEFT('1 - Opstart Importark'!$B$28,3),IF(I977=\"\",\"\",\"-\"),I977,IF(K977=\"\",\"\",\"-\"),K977,IF(M977=\"\",\"\",\"-\"),M977,IF(O977=\"\",\"\",\"-\"),O977),CONCATENATE(LEFT('1 - Opstart Importark'!$B$3,1),(LEFT('1 - Opstart Importark'!$B$15,2)),(LEFT('1 - Opstart Importark'!$B$18,3)),IF(I977=\"\",\"\",\"-\"),I977,IF(K977=\"\",\"\",\"-\"),K977,IF(M977=\"\",\"\",\"-\"),M977,IF(O977=\"\",\"\",\"-\"),O977))))","v":""},{"$nulls":13},{"$f":"IF(LEN('1 - Opstart Importark'!$B$6)>0,'1 - Opstart Importark'!$B$6,\"\")","v":""},{"$f":"IF(LEN('1 - Opstart Importark'!$B$9)>0,'1 - Opstart Importark'!$B$9,\"\")","v":""},{"$f":"IF(LEN('1 - Opstart Importark'!$B$31)>0,'1 - Opstart Importark'!$B$31,\"\")","v":""},{"$nulls":12},"",{"$nulls":8},0,"","","objektnogle_"]
[967,null,{"$f":"IF('1 - Opstart Importark'!$B$6=\"\",\"\",(IF('1 - Opstart Importark'!$B$15=\"\",CONCATENATE(LEFT('1 - Opstart Importark'!$B$3,1),(LEFT('1 - Opstart Importark'!$B$24,2)),LEFT('1 - Opstart Importark'!$B$28,3),IF(I978=\"\",\"\",\"-\"),I978,IF(K978=\"\",\"\",\"-\"),K978,IF(M978=\"\",\"\",\"-\"),M978,IF(O978=\"\",\"\",\"-\"),O978),CONCATENATE(LEFT('1 - Opstart Importark'!$B$3,1),(LEFT('1 - Opstart Importark'!$B$15,2)),(LEFT('1 - Opstart Importark'!$B$18,3)),IF(I978=\"\",\"\",\"-\"),I978,IF(K978=\"\",\"\",\"-\"),K978,IF(M978=\"\",\"\",\"-\"),M978,IF(O978=\"\",\"\",\"-\"),O978))))","v":""},{"$nulls":13},{"$f":"IF(LEN('1 - Opstart Importark'!$B$6)>0,'1 - Opstart Importark'!$B$6,\"\")","v":""},{"$f":"IF(LEN('1 - Opstart Importark'!$B$9)>0,'1 - Opstart Importark'!$B$9,\"\")","v":""},{"$f":"IF(LEN('1 - Opstart Importark'!$B$31)>0,'1 - Opstart Importark'!$B$31,\"\")","v":""},{"$nulls":12},"",{"$nulls":8},0,"","","objektnogle_"]
[968,null,{"$f":"IF('1 - Opstart Importark'!$B$6=\"\",\"\",(IF('1 - Opstart Importark'!$B$15=\"\",CONCATENATE(LEFT('1 - Opstart Importark'!$B$3,1),(LEFT('1 - Opstart Importark'!$B$24,2)),LEFT('1 - Opstart Importark'!$B$28,3),IF(I979=\"\",\"\",\"-\"),I979,IF(K979=\"\",\"\",\"-\"),K979,IF(M979=\"\",\"\",\"-\"),M979,IF(O979=\"\",\"\",\"-\"),O979),CONCATENATE(LEFT('1 - Opstart Importark'!$B$3,1),(LEFT('1 - Opstart Importark'!$B$15,2)),(LEFT('1 - Opstart Importark'!$B$18,3)),IF(I979=\"\",\"\",\"-\"),I979,IF(K979=\"\",\"\",\"-\"),K979,IF(M979=\"\",\"\",\"-\"),M979,IF(O979=\"\",\"\",\"-\"),O979))))","v":""},{"$nulls":13},{"$f":"IF(LEN('1 - Opstart Importark'!$B$6)>0,'1 - Opstart Importark'!$B$6,\"\")","v":""},{"$f":"IF(LEN('1 - Opstart Importark'!$B$9)>0,'1 - Opstart Importark'!$B$9,\"\")","v":""},{"$f":"IF(LEN('1 - Opstart Importark'!$B$31)>0,'1 - Opstart Importark'!$B$31,\"\")","v":""},{"$nulls":12},"",{"$nulls":8},0,"","","objektnogle_"]
[969,null,{"$f":"IF('1 - Opstart Importark'!$B$6=\"\",\"\",(IF('1 - Opstart Importark'!$B$15=\"\",CONCATENATE(LEFT('1 - Opstart Importark'!$B$3,1),(LEFT('1 - Opstart Importark'!$B$24,2)),LEFT('1 - Opstart Importark'!$B$28,3),IF(I980=\"\",\"\",\"-\"),I980,IF(K980=\"\",\"\",\"-\"),K980,IF(M980=\"\",\"\",\"-\"),M980,IF(O980=\"\",\"\",\"-\"),O980),CONCATENATE(LEFT('1 - Opstart Importark'!$B$3,1),(LEFT('1 - Opstart Importark'!$B$15,2)),(LEFT('1 - Opstart Importark'!$B$18,3)),IF(I980=\"\",\"\",\"-\"),I980,IF(K980=\"\",\"\",\"-\"),K980,IF(M980=\"\",\"\",\"-\"),M980,IF(O980=\"\",\"\",\"-\"),O980))))","v":""},{"$nulls":13},{"$f":"IF(LEN('1 - Opstart Importark'!$B$6)>0,'1 - Opstart Importark'!$B$6,\"\")","v":""},{"$f":"IF(LEN('1 - Opstart Importark'!$B$9)>0,'1 - Opstart Importark'!$B$9,\"\")","v":""},{"$f":"IF(LEN('1 - Opstart Importark'!$B$31)>0,'1 - Opstart Importark'!$B$31,\"\")","v":""},{"$nulls":12},"",{"$nulls":8},0,"","","objektnogle_"]
[970,null,{"$f":"IF('1 - Opstart Importark'!$B$6=\"\",\"\",(IF('1 - Opstart Importark'!$B$15=\"\",CONCATENATE(LEFT('1 - Opstart Importark'!$B$3,1),(LEFT('1 - Opstart Importark'!$B$24,2)),LEFT('1 - Opstart Importark'!$B$28,3),IF(I981=\"\",\"\",\"-\"),I981,IF(K981=\"\",\"\",\"-\"),K981,IF(M981=\"\",\"\",\"-\"),M981,IF(O981=\"\",\"\",\"-\"),O981),CONCATENATE(LEFT('1 - Opstart Importark'!$B$3,1),(LEFT('1 - Opstart Importark'!$B$15,2)),(LEFT('1 - Opstart Importark'!$B$18,3)),IF(I981=\"\",\"\",\"-\"),I981,IF(K981=\"\",\"\",\"-\"),K981,IF(M981=\"\",\"\",\"-\"),M981,IF(O981=\"\",\"\",\"-\"),O981))))","v":""},{"$nulls":13},{"$f":"IF(LEN('1 - Opstart Importark'!$B$6)>0,'1 - Opstart Importark'!$B$6,\"\")","v":""},{"$f":"IF(LEN('1 - Opstart Importark'!$B$9)>0,'1 - Opstart Importark'!$B$9,\"\")","v":""},{"$f":"IF(LEN('1 - Opstart Importark'!$B$31)>0,'1 - Opstart Importark'!$B$31,\"\")","v":""},{"$nulls":12},"",{"$nulls":8},0,"","","objektnogle_"]
[971,null,{"$f":"IF('1 - Opstart Importark'!$B$6=\"\",\"\",(IF('1 - Opstart Importark'!$B$15=\"\",CONCATENATE(LEFT('1 - Opstart Importark'!$B$3,1),(LEFT('1 - Opstart Importark'!$B$24,2)),LEFT('1 - Opstart Importark'!$B$28,3),IF(I982=\"\",\"\",\"-\"),I982,IF(K982=\"\",\"\",\"-\"),K982,IF(M982=\"\",\"\",\"-\"),M982,IF(O982=\"\",\"\",\"-\"),O982),CONCATENATE(LEFT('1 - Opstart Importark'!$B$3,1),(LEFT('1 - Opstart Importark'!$B$15,2)),(LEFT('1 - Opstart Importark'!$B$18,3)),IF(I982=\"\",\"\",\"-\"),I982,IF(K982=\"\",\"\",\"-\"),K982,IF(M982=\"\",\"\",\"-\"),M982,IF(O982=\"\",\"\",\"-\"),O982))))","v":""},{"$nulls":13},{"$f":"IF(LEN('1 - Opstart Importark'!$B$6)>0,'1 - Opstart Importark'!$B$6,\"\")","v":""},{"$f":"IF(LEN('1 - Opstart Importark'!$B$9)>0,'1 - Opstart Importark'!$B$9,\"\")","v":""},{"$f":"IF(LEN('1 - Opstart Importark'!$B$31)>0,'1 - Opstart Importark'!$B$31,\"\")","v":""},{"$nulls":12},"",{"$nulls":8},0,"","","objektnogle_"]
[972,null,{"$f":"IF('1 - Opstart Importark'!$B$6=\"\",\"\",(IF('1 - Opstart Importark'!$B$15=\"\",CONCATENATE(LEFT('1 - Opstart Importark'!$B$3,1),(LEFT('1 - Opstart Importark'!$B$24,2)),LEFT('1 - Opstart Importark'!$B$28,3),IF(I983=\"\",\"\",\"-\"),I983,IF(K983=\"\",\"\",\"-\"),K983,IF(M983=\"\",\"\",\"-\"),M983,IF(O983=\"\",\"\",\"-\"),O983),CONCATENATE(LEFT('1 - Opstart Importark'!$B$3,1),(LEFT('1 - Opstart Importark'!$B$15,2)),(LEFT('1 - Opstart Importark'!$B$18,3)),IF(I983=\"\",\"\",\"-\"),I983,IF(K983=\"\",\"\",\"-\"),K983,IF(M983=\"\",\"\",\"-\"),M983,IF(O983=\"\",\"\",\"-\"),O983))))","v":""},{"$nulls":13},{"$f":"IF(LEN('1 - Opstart Importark'!$B$6)>0,'1 - Opstart Importark'!$B$6,\"\")","v":""},{"$f":"IF(LEN('1 - Opstart Importark'!$B$9)>0,'1 - Opstart Importark'!$B$9,\"\")","v":""},{"$f":"IF(LEN('1 - Opstart Importark'!$B$31)>0,'1 - Opstart Importark'!$B$31,\"\")","v":""},{"$nulls":12},"",{"$nulls":8},0,"","","objektnogle_"]
[973,null,{"$f":"IF('1 - Opstart Importark'!$B$6=\"\",\"\",(IF('1 - Opstart Importark'!$B$15=\"\",CONCATENATE(LEFT('1 - Opstart Importark'!$B$3,1),(LEFT('1 - Opstart Importark'!$B$24,2)),LEFT('1 - Opstart Importark'!$B$28,3),IF(I984=\"\",\"\",\"-\"),I984,IF(K984=\"\",\"\",\"-\"),K984,IF(M984=\"\",\"\",\"-\"),M984,IF(O984=\"\",\"\",\"-\"),O984),CONCATENATE(LEFT('1 - Opstart Importark'!$B$3,1),(LEFT('1 - Opstart Importark'!$B$15,2)),(LEFT('1 - Opstart Importark'!$B$18,3)),IF(I984=\"\",\"\",\"-\"),I984,IF(K984=\"\",\"\",\"-\"),K984,IF(M984=\"\",\"\",\"-\"),M984,IF(O984=\"\",\"\",\"-\"),O984))))","v":""},{"$nulls":13},{"$f":"IF(LEN('1 - Opstart Importark'!$B$6)>0,'1 - Opstart Importark'!$B$6,\"\")","v":""},{"$f":"IF(LEN('1 - Opstart Importark'!$B$9)>0,'1 - Opstart Importark'!$B$9,\"\")","v":""},{"$f":"IF(LEN('1 - Opstart Importark'!$B$31)>0,'1 - Opstart Importark'!$B$31,\"\")","v":""},{"$nulls":12},"",{"$nulls":8},0,"","","objektnogle_"]
[974,null,{"$f":"IF('1 - Opstart Importark'!$B$6=\"\",\"\",(IF('1 - Opstart Importark'!$B$15=\"\",CONCATENATE(LEFT('1 - Opstart Importark'!$B$3,1),(LEFT('1 - Opstart Importark'!$B$24,2)),LEFT('1 - Opstart Importark'!$B$28,3),IF(I985=\"\",\"\",\"-\"),I985,IF(K985=\"\",\"\",\"-\"),K985,IF(M985=\"\",\"\",\"-\"),M985,IF(O985=\"\",\"\",\"-\"),O985),CONCATENATE(LEFT('1 - Opstart Importark'!$B$3,1),(LEFT('1 - Opstart Importark'!$B$15,2)),(LEFT('1 - Opstart Importark'!$B$18,3)),IF(I985=\"\",\"\",\"-\"),I985,IF(K985=\"\",\"\",\"-\"),K985,IF(M985=\"\",\"\",\"-\"),M985,IF(O985=\"\",\"\",\"-\"),O985))))","v":""},{"$nulls":13},{"$f":"IF(LEN('1 - Opstart Importark'!$B$6)>0,'1 - Opstart Importark'!$B$6,\"\")","v":""},{"$f":"IF(LEN('1 - Opstart Importark'!$B$9)>0,'1 - Opstart Importark'!$B$9,\"\")","v":""},{"$f":"IF(LEN('1 - Opstart Importark'!$B$31)>0,'1 - Opstart Importark'!$B$31,\"\")","v":""},{"$nulls":12},"",{"$nulls":8},0,"","","objektnogle_"]
[975,null,{"$f":"IF('1 - Opstart Importark'!$B$6=\"\",\"\",(IF('1 - Opstart Importark'!$B$15=\"\",CONCATENATE(LEFT('1 - Opstart Importark'!$B$3,1),(LEFT('1 - Opstart Importark'!$B$24,2)),LEFT('1 - Opstart Importark'!$B$28,3),IF(I986=\"\",\"\",\"-\"),I986,IF(K986=\"\",\"\",\"-\"),K986,IF(M986=\"\",\"\",\"-\"),M986,IF(O986=\"\",\"\",\"-\"),O986),CONCATENATE(LEFT('1 - Opstart Importark'!$B$3,1),(LEFT('1 - Opstart Importark'!$B$15,2)),(LEFT('1 - Opstart Importark'!$B$18,3)),IF(I986=\"\",\"\",\"-\"),I986,IF(K986=\"\",\"\",\"-\"),K986,IF(M986=\"\",\"\",\"-\"),M986,IF(O986=\"\",\"\",\"-\"),O986))))","v":""},{"$nulls":13},{"$f":"IF(LEN('1 - Opstart Importark'!$B$6)>0,'1 - Opstart Importark'!$B$6,\"\")","v":""},{"$f":"IF(LEN('1 - Opstart Importark'!$B$9)>0,'1 - Opstart Importark'!$B$9,\"\")","v":""},{"$f":"IF(LEN('1 - Opstart Importark'!$B$31)>0,'1 - Opstart Importark'!$B$31,\"\")","v":""},{"$nulls":12},"",{"$nulls":8},0,"","","objektnogle_"]
[976,null,{"$f":"IF('1 - Opstart Importark'!$B$6=\"\",\"\",(IF('1 - Opstart Importark'!$B$15=\"\",CONCATENATE(LEFT('1 - Opstart Importark'!$B$3,1),(LEFT('1 - Opstart Importark'!$B$24,2)),LEFT('1 - Opstart Importark'!$B$28,3),IF(I987=\"\",\"\",\"-\"),I987,IF(K987=\"\",\"\",\"-\"),K987,IF(M987=\"\",\"\",\"-\"),M987,IF(O987=\"\",\"\",\"-\"),O987),CONCATENATE(LEFT('1 - Opstart Importark'!$B$3,1),(LEFT('1 - Opstart Importark'!$B$15,2)),(LEFT('1 - Opstart Importark'!$B$18,3)),IF(I987=\"\",\"\",\"-\"),I987,IF(K987=\"\",\"\",\"-\"),K987,IF(M987=\"\",\"\",\"-\"),M987,IF(O987=\"\",\"\",\"-\"),O987))))","v":""},{"$nulls":13},{"$f":"IF(LEN('1 - Opstart Importark'!$B$6)>0,'1 - Opstart Importark'!$B$6,\"\")","v":""},{"$f":"IF(LEN('1 - Opstart Importark'!$B$9)>0,'1 - Opstart Importark'!$B$9,\"\")","v":""},{"$f":"IF(LEN('1 - Opstart Importark'!$B$31)>0,'1 - Opstart Importark'!$B$31,\"\")","v":""},{"$nulls":12},"",{"$nulls":8},0,"","","objektnogle_"]
[977,null,{"$f":"IF('1 - Opstart Importark'!$B$6=\"\",\"\",(IF('1 - Opstart Importark'!$B$15=\"\",CONCATENATE(LEFT('1 - Opstart Importark'!$B$3,1),(LEFT('1 - Opstart Importark'!$B$24,2)),LEFT('1 - Opstart Importark'!$B$28,3),IF(I988=\"\",\"\",\"-\"),I988,IF(K988=\"\",\"\",\"-\"),K988,IF(M988=\"\",\"\",\"-\"),M988,IF(O988=\"\",\"\",\"-\"),O988),CONCATENATE(LEFT('1 - Opstart Importark'!$B$3,1),(LEFT('1 - Opstart Importark'!$B$15,2)),(LEFT('1 - Opstart Importark'!$B$18,3)),IF(I988=\"\",\"\",\"-\"),I988,IF(K988=\"\",\"\",\"-\"),K988,IF(M988=\"\",\"\",\"-\"),M988,IF(O988=\"\",\"\",\"-\"),O988))))","v":""},{"$nulls":13},{"$f":"IF(LEN('1 - Opstart Importark'!$B$6)>0,'1 - Opstart Importark'!$B$6,\"\")","v":""},{"$f":"IF(LEN('1 - Opstart Importark'!$B$9)>0,'1 - Opstart Importark'!$B$9,\"\")","v":""},{"$f":"IF(LEN('1 - Opstart Importark'!$B$31)>0,'1 - Opstart Importark'!$B$31,\"\")","v":""},{"$nulls":12},"",{"$nulls":8},0,"","","objektnogle_"]
[978,null,{"$f":"IF('1 - Opstart Importark'!$B$6=\"\",\"\",(IF('1 - Opstart Importark'!$B$15=\"\",CONCATENATE(LEFT('1 - Opstart Importark'!$B$3,1),(LEFT('1 - Opstart Importark'!$B$24,2)),LEFT('1 - Opstart Importark'!$B$28,3),IF(I989=\"\",\"\",\"-\"),I989,IF(K989=\"\",\"\",\"-\"),K989,IF(M989=\"\",\"\",\"-\"),M989,IF(O989=\"\",\"\",\"-\"),O989),CONCATENATE(LEFT('1 - Opstart Importark'!$B$3,1),(LEFT('1 - Opstart Importark'!$B$15,2)),(LEFT('1 - Opstart Importark'!$B$18,3)),IF(I989=\"\",\"\",\"-\"),I989,IF(K989=\"\",\"\",\"-\"),K989,IF(M989=\"\",\"\",\"-\"),M989,IF(O989=\"\",\"\",\"-\"),O989))))","v":""},{"$nulls":13},{"$f":"IF(LEN('1 - Opstart Importark'!$B$6)>0,'1 - Opstart Importark'!$B$6,\"\")","v":""},{"$f":"IF(LEN('1 - Opstart Importark'!$B$9)>0,'1 - Opstart Importark'!$B$9,\"\")","v":""},{"$f":"IF(LEN('1 - Opstart Importark'!$B$31)>0,'1 - Opstart Importark'!$B$31,\"\")","v":""},{"$nulls":12},"",{"$nulls":8},0,"","","objektnogle_"]
[979,null,{"$f":"IF('1 - Opstart Importark'!$B$6=\"\",\"\",(IF('1 - Opstart Importark'!$B$15=\"\",CONCATENATE(LEFT('1 - Opstart Importark'!$B$3,1),(LEFT('1 - Opstart Importark'!$B$24,2)),LEFT('1 - Opstart Importark'!$B$28,3),IF(I990=\"\",\"\",\"-\"),I990,IF(K990=\"\",\"\",\"-\"),K990,IF(M990=\"\",\"\",\"-\"),M990,IF(O990=\"\",\"\",\"-\"),O990),CONCATENATE(LEFT('1 - Opstart Importark'!$B$3,1),(LEFT('1 - Opstart Importark'!$B$15,2)),(LEFT('1 - Opstart Importark'!$B$18,3)),IF(I990=\"\",\"\",\"-\"),I990,IF(K990=\"\",\"\",\"-\"),K990,IF(M990=\"\",\"\",\"-\"),M990,IF(O990=\"\",\"\",\"-\"),O990))))","v":""},{"$nulls":13},{"$f":"IF(LEN('1 - Opstart Importark'!$B$6)>0,'1 - Opstart Importark'!$B$6,\"\")","v":""},{"$f":"IF(LEN('1 - Opstart Importark'!$B$9)>0,'1 - Opstart Importark'!$B$9,\"\")","v":""},{"$f":"IF(LEN('1 - Opstart Importark'!$B$31)>0,'1 - Opstart Importark'!$B$31,\"\")","v":""},{"$nulls":12},"",{"$nulls":8},0,"","","objektnogle_"]
[980,null,{"$f":"IF('1 - Opstart Importark'!$B$6=\"\",\"\",(IF('1 - Opstart Importark'!$B$15=\"\",CONCATENATE(LEFT('1 - Opstart Importark'!$B$3,1),(LEFT('1 - Opstart Importark'!$B$24,2)),LEFT('1 - Opstart Importark'!$B$28,3),IF(I991=\"\",\"\",\"-\"),I991,IF(K991=\"\",\"\",\"-\"),K991,IF(M991=\"\",\"\",\"-\"),M991,IF(O991=\"\",\"\",\"-\"),O991),CONCATENATE(LEFT('1 - Opstart Importark'!$B$3,1),(LEFT('1 - Opstart Importark'!$B$15,2)),(LEFT('1 - Opstart Importark'!$B$18,3)),IF(I991=\"\",\"\",\"-\"),I991,IF(K991=\"\",\"\",\"-\"),K991,IF(M991=\"\",\"\",\"-\"),M991,IF(O991=\"\",\"\",\"-\"),O991))))","v":""},{"$nulls":13},{"$f":"IF(LEN('1 - Opstart Importark'!$B$6)>0,'1 - Opstart Importark'!$B$6,\"\")","v":""},{"$f":"IF(LEN('1 - Opstart Importark'!$B$9)>0,'1 - Opstart Importark'!$B$9,\"\")","v":""},{"$f":"IF(LEN('1 - Opstart Importark'!$B$31)>0,'1 - Opstart Importark'!$B$31,\"\")","v":""},{"$nulls":12},"",{"$nulls":8},0,"","","objektnogle_"]
[981,null,{"$f":"IF('1 - Opstart Importark'!$B$6=\"\",\"\",(IF('1 - Opstart Importark'!$B$15=\"\",CONCATENATE(LEFT('1 - Opstart Importark'!$B$3,1),(LEFT('1 - Opstart Importark'!$B$24,2)),LEFT('1 - Opstart Importark'!$B$28,3),IF(I992=\"\",\"\",\"-\"),I992,IF(K992=\"\",\"\",\"-\"),K992,IF(M992=\"\",\"\",\"-\"),M992,IF(O992=\"\",\"\",\"-\"),O992),CONCATENATE(LEFT('1 - Opstart Importark'!$B$3,1),(LEFT('1 - Opstart Importark'!$B$15,2)),(LEFT('1 - Opstart Importark'!$B$18,3)),IF(I992=\"\",\"\",\"-\"),I992,IF(K992=\"\",\"\",\"-\"),K992,IF(M992=\"\",\"\",\"-\"),M992,IF(O992=\"\",\"\",\"-\"),O992))))","v":""},{"$nulls":13},{"$f":"IF(LEN('1 - Opstart Importark'!$B$6)>0,'1 - Opstart Importark'!$B$6,\"\")","v":""},{"$f":"IF(LEN('1 - Opstart Importark'!$B$9)>0,'1 - Opstart Importark'!$B$9,\"\")","v":""},{"$f":"IF(LEN('1 - Opstart Importark'!$B$31)>0,'1 - Opstart Importark'!$B$31,\"\")","v":""},{"$nulls":12},"",{"$nulls":8},0,"","","objektnogle_"]
[982,null,{"$f":"IF('1 - Opstart Importark'!$B$6=\"\",\"\",(IF('1 - Opstart Importark'!$B$15=\"\",CONCATENATE(LEFT('1 - Opstart Importark'!$B$3,1),(LEFT('1 - Opstart Importark'!$B$24,2)),LEFT('1 - Opstart Importark'!$B$28,3),IF(I993=\"\",\"\",\"-\"),I993,IF(K993=\"\",\"\",\"-\"),K993,IF(M993=\"\",\"\",\"-\"),M993,IF(O993=\"\",\"\",\"-\"),O993),CONCATENATE(LEFT('1 - Opstart Importark'!$B$3,1),(LEFT('1 - Opstart Importark'!$B$15,2)),(LEFT('1 - Opstart Importark'!$B$18,3)),IF(I993=\"\",\"\",\"-\"),I993,IF(K993=\"\",\"\",\"-\"),K993,IF(M993=\"\",\"\",\"-\"),M993,IF(O993=\"\",\"\",\"-\"),O993))))","v":""},{"$nulls":13},{"$f":"IF(LEN('1 - Opstart Importark'!$B$6)>0,'1 - Opstart Importark'!$B$6,\"\")","v":""},{"$f":"IF(LEN('1 - Opstart Importark'!$B$9)>0,'1 - Opstart Importark'!$B$9,\"\")","v":""},{"$f":"IF(LEN('1 - Opstart Importark'!$B$31)>0,'1 - Opstart Importark'!$B$31,\"\")","v":""},{"$nulls":12},"",{"$nulls":8},0,"","","objektnogle_"]
[983,null,{"$f":"IF('1 - Opstart Importark'!$B$6=\"\",\"\",(IF('1 - Opstart Importark'!$B$15=\"\",CONCATENATE(LEFT('1 - Opstart Importark'!$B$3,1),(LEFT('1 - Opstart Importark'!$B$24,2)),LEFT('1 - Opstart Importark'!$B$28,3),IF(I994=\"\",\"\",\"-\"),I994,IF(K994=\"\",\"\",\"-\"),K994,IF(M994=\"\",\"\",\"-\"),M994,IF(O994=\"\",\"\",\"-\"),O994),CONCATENATE(LEFT('1 - Opstart Importark'!$B$3,1),(LEFT('1 - Opstart Importark'!$B$15,2)),(LEFT('1 - Opstart Importark'!$B$18,3)),IF(I994=\"\",\"\",\"-\"),I994,IF(K994=\"\",\"\",\"-\"),K994,IF(M994=\"\",\"\",\"-\"),M994,IF(O994=\"\",\"\",\"-\"),O994))))","v":""},{"$nulls":13},{"$f":"IF(LEN('1 - Opstart Importark'!$B$6)>0,'1 - Opstart Importark'!$B$6,\"\")","v":""},{"$f":"IF(LEN('1 - Opstart Importark'!$B$9)>0,'1 - Opstart Importark'!$B$9,\"\")","v":""},{"$f":"IF(LEN('1 - Opstart Importark'!$B$31)>0,'1 - Opstart Importark'!$B$31,\"\")","v":""},{"$nulls":12},"",{"$nulls":8},0,"","","objektnogle_"]
[984,null,{"$f":"IF('1 - Opstart Importark'!$B$6=\"\",\"\",(IF('1 - Opstart Importark'!$B$15=\"\",CONCATENATE(LEFT('1 - Opstart Importark'!$B$3,1),(LEFT('1 - Opstart Importark'!$B$24,2)),LEFT('1 - Opstart Importark'!$B$28,3),IF(I995=\"\",\"\",\"-\"),I995,IF(K995=\"\",\"\",\"-\"),K995,IF(M995=\"\",\"\",\"-\"),M995,IF(O995=\"\",\"\",\"-\"),O995),CONCATENATE(LEFT('1 - Opstart Importark'!$B$3,1),(LEFT('1 - Opstart Importark'!$B$15,2)),(LEFT('1 - Opstart Importark'!$B$18,3)),IF(I995=\"\",\"\",\"-\"),I995,IF(K995=\"\",\"\",\"-\"),K995,IF(M995=\"\",\"\",\"-\"),M995,IF(O995=\"\",\"\",\"-\"),O995))))","v":""},{"$nulls":13},{"$f":"IF(LEN('1 - Opstart Importark'!$B$6)>0,'1 - Opstart Importark'!$B$6,\"\")","v":""},{"$f":"IF(LEN('1 - Opstart Importark'!$B$9)>0,'1 - Opstart Importark'!$B$9,\"\")","v":""},{"$f":"IF(LEN('1 - Opstart Importark'!$B$31)>0,'1 - Opstart Importark'!$B$31,\"\")","v":""},{"$nulls":12},"",{"$nulls":8},0,"","","objektnogle_"]
[985,null,{"$f":"IF('1 - Opstart Importark'!$B$6=\"\",\"\",(IF('1 - Opstart Importark'!$B$15=\"\",CONCATENATE(LEFT('1 - Opstart Importark'!$B$3,1),(LEFT('1 - Opstart Importark'!$B$24,2)),LEFT('1 - Opstart Importark'!$B$28,3),IF(I996=\"\",\"\",\"-\"),I996,IF(K996=\"\",\"\",\"-\"),K996,IF(M996=\"\",\"\",\"-\"),M996,IF(O996=\"\",\"\",\"-\"),O996),CONCATENATE(LEFT('1 - Opstart Importark'!$B$3,1),(LEFT('1 - Opstart Importark'!$B$15,2)),(LEFT('1 - Opstart Importark'!$B$18,3)),IF(I996=\"\",\"\",\"-\"),I996,IF(K996=\"\",\"\",\"-\"),K996,IF(M996=\"\",\"\",\"-\"),M996,IF(O996=\"\",\"\",\"-\"),O996))))","v":""},{"$nulls":13},{"$f":"IF(LEN('1 - Opstart Importark'!$B$6)>0,'1 - Opstart Importark'!$B$6,\"\")","v":""},{"$f":"IF(LEN('1 - Opstart Importark'!$B$9)>0,'1 - Opstart Importark'!$B$9,\"\")","v":""},{"$f":"IF(LEN('1 - Opstart Importark'!$B$31)>0,'1 - Opstart Importark'!$B$31,\"\")","v":""},{"$nulls":12},"",{"$nulls":8},0,"","","objektnogle_"]
[986,null,{"$f":"IF('1 - Opstart Importark'!$B$6=\"\",\"\",(IF('1 - Opstart Importark'!$B$15=\"\",CONCATENATE(LEFT('1 - Opstart Importark'!$B$3,1),(LEFT('1 - Opstart Importark'!$B$24,2)),LEFT('1 - Opstart Importark'!$B$28,3),IF(I997=\"\",\"\",\"-\"),I997,IF(K997=\"\",\"\",\"-\"),K997,IF(M997=\"\",\"\",\"-\"),M997,IF(O997=\"\",\"\",\"-\"),O997),CONCATENATE(LEFT('1 - Opstart Importark'!$B$3,1),(LEFT('1 - Opstart Importark'!$B$15,2)),(LEFT('1 - Opstart Importark'!$B$18,3)),IF(I997=\"\",\"\",\"-\"),I997,IF(K997=\"\",\"\",\"-\"),K997,IF(M997=\"\",\"\",\"-\"),M997,IF(O997=\"\",\"\",\"-\"),O997))))","v":""},{"$nulls":13},{"$f":"IF(LEN('1 - Opstart Importark'!$B$6)>0,'1 - Opstart Importark'!$B$6,\"\")","v":""},{"$f":"IF(LEN('1 - Opstart Importark'!$B$9)>0,'1 - Opstart Importark'!$B$9,\"\")","v":""},{"$f":"IF(LEN('1 - Opstart Importark'!$B$31)>0,'1 - Opstart Importark'!$B$31,\"\")","v":""},{"$nulls":12},"",{"$nulls":8},0,"","","objektnogle_"]
[987,null,{"$f":"IF('1 - Opstart Importark'!$B$6=\"\",\"\",(IF('1 - Opstart Importark'!$B$15=\"\",CONCATENATE(LEFT('1 - Opstart Importark'!$B$3,1),(LEFT('1 - Opstart Importark'!$B$24,2)),LEFT('1 - Opstart Importark'!$B$28,3),IF(I998=\"\",\"\",\"-\"),I998,IF(K998=\"\",\"\",\"-\"),K998,IF(M998=\"\",\"\",\"-\"),M998,IF(O998=\"\",\"\",\"-\"),O998),CONCATENATE(LEFT('1 - Opstart Importark'!$B$3,1),(LEFT('1 - Opstart Importark'!$B$15,2)),(LEFT('1 - Opstart Importark'!$B$18,3)),IF(I998=\"\",\"\",\"-\"),I998,IF(K998=\"\",\"\",\"-\"),K998,IF(M998=\"\",\"\",\"-\"),M998,IF(O998=\"\",\"\",\"-\"),O998))))","v":""},{"$nulls":13},{"$f":"IF(LEN('1 - Opstart Importark'!$B$6)>0,'1 - Opstart Importark'!$B$6,\"\")","v":""},{"$f":"IF(LEN('1 - Opstart Importark'!$B$9)>0,'1 - Opstart Importark'!$B$9,\"\")","v":""},{"$f":"IF(LEN('1 - Opstart Importark'!$B$31)>0,'1 - Opstart Importark'!$B$31,\"\")","v":""},{"$nulls":12},"",{"$nulls":8},0,"","","objektnogle_"]
[988,null,{"$f":"IF('1 - Opstart Importark'!$B$6=\"\",\"\",(IF('1 - Opstart Importark'!$B$15=\"\",CONCATENATE(LEFT('1 - Opstart Importark'!$B$3,1),(LEFT('1 - Opstart Importark'!$B$24,2)),LEFT('1 - Opstart Importark'!$B$28,3),IF(I999=\"\",\"\",\"-\"),I999,IF(K999=\"\",\"\",\"-\"),K999,IF(M999=\"\",\"\",\"-\"),M999,IF(O999=\"\",\"\",\"-\"),O999),CONCATENATE(LEFT('1 - Opstart Importark'!$B$3,1),(LEFT('1 - Opstart Importark'!$B$15,2)),(LEFT('1 - Opstart Importark'!$B$18,3)),IF(I999=\"\",\"\",\"-\"),I999,IF(K999=\"\",\"\",\"-\"),K999,IF(M999=\"\",\"\",\"-\"),M999,IF(O999=\"\",\"\",\"-\"),O999))))","v":""},{"$nulls":13},{"$f":"IF(LEN('1 - Opstart Importark'!$B$6)>0,'1 - Opstart Importark'!$B$6,\"\")","v":""},{"$f":"IF(LEN('1 - Opstart Importark'!$B$9)>0,'1 - Opstart Importark'!$B$9,\"\")","v":""},{"$f":"IF(LEN('1 - Opstart Importark'!$B$31)>0,'1 - Opstart Importark'!$B$31,\"\")","v":""},{"$nulls":12},"",{"$nulls":8},0,"","","objektnogle_"]
[989,null,{"$f":"IF('1 - Opstart Importark'!$B$6=\"\",\"\",(IF('1 - Opstart Importark'!$B$15=\"\",CONCATENATE(LEFT('1 - Opstart Importark'!$B$3,1),(LEFT('1 - Opstart Importark'!$B$24,2)),LEFT('1 - Opstart Importark'!$B$28,3),IF(I1000=\"\",\"\",\"-\"),I1000,IF(K1000=\"\",\"\",\"-\"),K1000,IF(M1000=\"\",\"\",\"-\"),M1000,IF(O1000=\"\",\"\",\"-\"),O1000),CONCATENATE(LEFT('1 - Opstart Importark'!$B$3,1),(LEFT('1 - Opstart Importark'!$B$15,2)),(LEFT('1 - Opstart Importark'!$B$18,3)),IF(I1000=\"\",\"\",\"-\"),I1000,IF(K1000=\"\",\"\",\"-\"),K1000,IF(M1000=\"\",\"\",\"-\"),M1000,IF(O1000=\"\",\"\",\"-\"),O1000))))","v":""},{"$nulls":13},{"$f":"IF(LEN('1 - Opstart Importark'!$B$6)>0,'1 - Opstart Importark'!$B$6,\"\")","v":""},{"$f":"IF(LEN('1 - Opstart Importark'!$B$9)>0,'1 - Opstart Importark'!$B$9,\"\")","v":""},{"$f":"IF(LEN('1 - Opstart Importark'!$B$31)>0,'1 - Opstart Importark'!$B$31,\"\")","v":""},{"$nulls":12},"",{"$nulls":8},0,"","","objektnogle_"]
[990,null,{"$f":"IF('1 - Opstart Importark'!$B$6=\"\",\"\",(IF('1 - Opstart Importark'!$B$15=\"\",CONCATENATE(LEFT('1 - Opstart Importark'!$B$3,1),(LEFT('1 - Opstart Importark'!$B$24,2)),LEFT('1 - Opstart Importark'!$B$28,3),IF(I1001=\"\",\"\",\"-\"),I1001,IF(K1001=\"\",\"\",\"-\"),K1001,IF(M1001=\"\",\"\",\"-\"),M1001,IF(O1001=\"\",\"\",\"-\"),O1001),CONCATENATE(LEFT('1 - Opstart Importark'!$B$3,1),(LEFT('1 - Opstart Importark'!$B$15,2)),(LEFT('1 - Opstart Importark'!$B$18,3)),IF(I1001=\"\",\"\",\"-\"),I1001,IF(K1001=\"\",\"\",\"-\"),K1001,IF(M1001=\"\",\"\",\"-\"),M1001,IF(O1001=\"\",\"\",\"-\"),O1001))))","v":""},{"$nulls":13},{"$f":"IF(LEN('1 - Opstart Importark'!$B$6)>0,'1 - Opstart Importark'!$B$6,\"\")","v":""},{"$f":"IF(LEN('1 - Opstart Importark'!$B$9)>0,'1 - Opstart Importark'!$B$9,\"\")","v":""},{"$f":"IF(LEN('1 - Opstart Importark'!$B$31)>0,'1 - Opstart Importark'!$B$31,\"\")","v":""},{"$nulls":12},"",{"$nulls":8},0,"","","objektnogle_"]
[991,null,{"$f":"IF('1 - Opstart Importark'!$B$6=\"\",\"\",(IF('1 - Opstart Importark'!$B$15=\"\",CONCATENATE(LEFT('1 - Opstart Importark'!$B$3,1),(LEFT('1 - Opstart Importark'!$B$24,2)),LEFT('1 - Opstart Importark'!$B$28,3),IF(I1002=\"\",\"\",\"-\"),I1002,IF(K1002=\"\",\"\",\"-\"),K1002,IF(M1002=\"\",\"\",\"-\"),M1002,IF(O1002=\"\",\"\",\"-\"),O1002),CONCATENATE(LEFT('1 - Opstart Importark'!$B$3,1),(LEFT('1 - Opstart Importark'!$B$15,2)),(LEFT('1 - Opstart Importark'!$B$18,3)),IF(I1002=\"\",\"\",\"-\"),I1002,IF(K1002=\"\",\"\",\"-\"),K1002,IF(M1002=\"\",\"\",\"-\"),M1002,IF(O1002=\"\",\"\",\"-\"),O1002))))","v":""},{"$nulls":13},{"$f":"IF(LEN('1 - Opstart Importark'!$B$6)>0,'1 - Opstart Importark'!$B$6,\"\")","v":""},{"$f":"IF(LEN('1 - Opstart Importark'!$B$9)>0,'1 - Opstart Importark'!$B$9,\"\")","v":""},{"$f":"IF(LEN('1 - Opstart Importark'!$B$31)>0,'1 - Opstart Importark'!$B$31,\"\")","v":""},{"$nulls":12},"",{"$nulls":8},0,"","","objektnogle_"]
[992,null,{"$f":"IF('1 - Opstart Importark'!$B$6=\"\",\"\",(IF('1 - Opstart Importark'!$B$15=\"\",CONCATENATE(LEFT('1 - Opstart Importark'!$B$3,1),(LEFT('1 - Opstart Importark'!$B$24,2)),LEFT('1 - Opstart Importark'!$B$28,3),IF(I1003=\"\",\"\",\"-\"),I1003,IF(K1003=\"\",\"\",\"-\"),K1003,IF(M1003=\"\",\"\",\"-\"),M1003,IF(O1003=\"\",\"\",\"-\"),O1003),CONCATENATE(LEFT('1 - Opstart Importark'!$B$3,1),(LEFT('1 - Opstart Importark'!$B$15,2)),(LEFT('1 - Opstart Importark'!$B$18,3)),IF(I1003=\"\",\"\",\"-\"),I1003,IF(K1003=\"\",\"\",\"-\"),K1003,IF(M1003=\"\",\"\",\"-\"),M1003,IF(O1003=\"\",\"\",\"-\"),O1003))))","v":""},{"$nulls":13},{"$f":"IF(LEN('1 - Opstart Importark'!$B$6)>0,'1 - Opstart Importark'!$B$6,\"\")","v":""},{"$f":"IF(LEN('1 - Opstart Importark'!$B$9)>0,'1 - Opstart Importark'!$B$9,\"\")","v":""},{"$f":"IF(LEN('1 - Opstart Importark'!$B$31)>0,'1 - Opstart Importark'!$B$31,\"\")","v":""},{"$nulls":12},"",{"$nulls":8},0,"","","objektnogle_"]
[993,null,{"$f":"IF('1 - Opstart Importark'!$B$6=\"\",\"\",(IF('1 - Opstart Importark'!$B$15=\"\",CONCATENATE(LEFT('1 - Opstart Importark'!$B$3,1),(LEFT('1 - Opstart Importark'!$B$24,2)),LEFT('1 - Opstart Importark'!$B$28,3),IF(I1004=\"\",\"\",\"-\"),I1004,IF(K1004=\"\",\"\",\"-\"),K1004,IF(M1004=\"\",\"\",\"-\"),M1004,IF(O1004=\"\",\"\",\"-\"),O1004),CONCATENATE(LEFT('1 - Opstart Importark'!$B$3,1),(LEFT('1 - Opstart Importark'!$B$15,2)),(LEFT('1 - Opstart Importark'!$B$18,3)),IF(I1004=\"\",\"\",\"-\"),I1004,IF(K1004=\"\",\"\",\"-\"),K1004,IF(M1004=\"\",\"\",\"-\"),M1004,IF(O1004=\"\",\"\",\"-\"),O1004))))","v":""},{"$nulls":13},{"$f":"IF(LEN('1 - Opstart Importark'!$B$6)>0,'1 - Opstart Importark'!$B$6,\"\")","v":""},{"$f":"IF(LEN('1 - Opstart Importark'!$B$9)>0,'1 - Opstart Importark'!$B$9,\"\")","v":""},{"$f":"IF(LEN('1 - Opstart Importark'!$B$31)>0,'1 - Opstart Importark'!$B$31,\"\")","v":""},{"$nulls":12},"",{"$nulls":8},0,"","","objektnogle_"]
[994,null,{"$f":"IF('1 - Opstart Importark'!$B$6=\"\",\"\",(IF('1 - Opstart Importark'!$B$15=\"\",CONCATENATE(LEFT('1 - Opstart Importark'!$B$3,1),(LEFT('1 - Opstart Importark'!$B$24,2)),LEFT('1 - Opstart Importark'!$B$28,3),IF(I1005=\"\",\"\",\"-\"),I1005,IF(K1005=\"\",\"\",\"-\"),K1005,IF(M1005=\"\",\"\",\"-\"),M1005,IF(O1005=\"\",\"\",\"-\"),O1005),CONCATENATE(LEFT('1 - Opstart Importark'!$B$3,1),(LEFT('1 - Opstart Importark'!$B$15,2)),(LEFT('1 - Opstart Importark'!$B$18,3)),IF(I1005=\"\",\"\",\"-\"),I1005,IF(K1005=\"\",\"\",\"-\"),K1005,IF(M1005=\"\",\"\",\"-\"),M1005,IF(O1005=\"\",\"\",\"-\"),O1005))))","v":""},{"$nulls":13},{"$f":"IF(LEN('1 - Opstart Importark'!$B$6)>0,'1 - Opstart Importark'!$B$6,\"\")","v":""},{"$f":"IF(LEN('1 - Opstart Importark'!$B$9)>0,'1 - Opstart Importark'!$B$9,\"\")","v":""},{"$f":"IF(LEN('1 - Opstart Importark'!$B$31)>0,'1 - Opstart Importark'!$B$31,\"\")","v":""},{"$nulls":12},"",{"$nulls":8},0,"","","objektnogle_"]
[995,null,{"$f":"IF('1 - Opstart Importark'!$B$6=\"\",\"\",(IF('1 - Opstart Importark'!$B$15=\"\",CONCATENATE(LEFT('1 - Opstart Importark'!$B$3,1),(LEFT('1 - Opstart Importark'!$B$24,2)),LEFT('1 - Opstart Importark'!$B$28,3),IF(I1006=\"\",\"\",\"-\"),I1006,IF(K1006=\"\",\"\",\"-\"),K1006,IF(M1006=\"\",\"\",\"-\"),M1006,IF(O1006=\"\",\"\",\"-\"),O1006),CONCATENATE(LEFT('1 - Opstart Importark'!$B$3,1),(LEFT('1 - Opstart Importark'!$B$15,2)),(LEFT('1 - Opstart Importark'!$B$18,3)),IF(I1006=\"\",\"\",\"-\"),I1006,IF(K1006=\"\",\"\",\"-\"),K1006,IF(M1006=\"\",\"\",\"-\"),M1006,IF(O1006=\"\",\"\",\"-\"),O1006))))","v":""},{"$nulls":13},{"$f":"IF(LEN('1 - Opstart Importark'!$B$6)>0,'1 - Opstart Importark'!$B$6,\"\")","v":""},{"$f":"IF(LEN('1 - Opstart Importark'!$B$9)>0,'1 - Opstart Importark'!$B$9,\"\")","v":""},{"$f":"IF(LEN('1 - Opstart Importark'!$B$31)>0,'1 - Opstart Importark'!$B$31,\"\")","v":""},{"$nulls":12},"",{"$nulls":8},0,"","","objektnogle_"]
[996,null,{"$f":"IF('1 - Opstart Importark'!$B$6=\"\",\"\",(IF('1 - Opstart Importark'!$B$15=\"\",CONCATENATE(LEFT('1 - Opstart Importark'!$B$3,1),(LEFT('1 - Opstart Importark'!$B$24,2)),LEFT('1 - Opstart Importark'!$B$28,3),IF(I1007=\"\",\"\",\"-\"),I1007,IF(K1007=\"\",\"\",\"-\"),K1007,IF(M1007=\"\",\"\",\"-\"),M1007,IF(O1007=\"\",\"\",\"-\"),O1007),CONCATENATE(LEFT('1 - Opstart Importark'!$B$3,1),(LEFT('1 - Opstart Importark'!$B$15,2)),(LEFT('1 - Opstart Importark'!$B$18,3)),IF(I1007=\"\",\"\",\"-\"),I1007,IF(K1007=\"\",\"\",\"-\"),K1007,IF(M1007=\"\",\"\",\"-\"),M1007,IF(O1007=\"\",\"\",\"-\"),O1007))))","v":""},{"$nulls":13},{"$f":"IF(LEN('1 - Opstart Importark'!$B$6)>0,'1 - Opstart Importark'!$B$6,\"\")","v":""},{"$f":"IF(LEN('1 - Opstart Importark'!$B$9)>0,'1 - Opstart Importark'!$B$9,\"\")","v":""},{"$f":"IF(LEN('1 - Opstart Importark'!$B$31)>0,'1 - Opstart Importark'!$B$31,\"\")","v":""},{"$nulls":12},"",{"$nulls":8},0,"","","objektnogle_"]
[997,null,{"$f":"IF('1 - Opstart Importark'!$B$6=\"\",\"\",(IF('1 - Opstart Importark'!$B$15=\"\",CONCATENATE(LEFT('1 - Opstart Importark'!$B$3,1),(LEFT('1 - Opstart Importark'!$B$24,2)),LEFT('1 - Opstart Importark'!$B$28,3),IF(I1008=\"\",\"\",\"-\"),I1008,IF(K1008=\"\",\"\",\"-\"),K1008,IF(M1008=\"\",\"\",\"-\"),M1008,IF(O1008=\"\",\"\",\"-\"),O1008),CONCATENATE(LEFT('1 - Opstart Importark'!$B$3,1),(LEFT('1 - Opstart Importark'!$B$15,2)),(LEFT('1 - Opstart Importark'!$B$18,3)),IF(I1008=\"\",\"\",\"-\"),I1008,IF(K1008=\"\",\"\",\"-\"),K1008,IF(M1008=\"\",\"\",\"-\"),M1008,IF(O1008=\"\",\"\",\"-\"),O1008))))","v":""},{"$nulls":13},{"$f":"IF(LEN('1 - Opstart Importark'!$B$6)>0,'1 - Opstart Importark'!$B$6,\"\")","v":""},{"$f":"IF(LEN('1 - Opstart Importark'!$B$9)>0,'1 - Opstart Importark'!$B$9,\"\")","v":""},{"$f":"IF(LEN('1 - Opstart Importark'!$B$31)>0,'1 - Opstart Importark'!$B$31,\"\")","v":""},{"$nulls":12},"",{"$nulls":8},0,"","","objektnogle_"]
[998,null,{"$f":"IF('1 - Opstart Importark'!$B$6=\"\",\"\",(IF('1 - Opstart Importark'!$B$15=\"\",CONCATENATE(LEFT('1 - Opstart Importark'!$B$3,1),(LEFT('1 - Opstart Importark'!$B$24,2)),LEFT('1 - Opstart Importark'!$B$28,3),IF(I1009=\"\",\"\",\"-\"),I1009,IF(K1009=\"\",\"\",\"-\"),K1009,IF(M1009=\"\",\"\",\"-\"),M1009,IF(O1009=\"\",\"\",\"-\"),O1009),CONCATENATE(LEFT('1 - Opstart Importark'!$B$3,1),(LEFT('1 - Opstart Importark'!$B$15,2)),(LEFT('1 - Opstart Importark'!$B$18,3)),IF(I1009=\"\",\"\",\"-\"),I1009,IF(K1009=\"\",\"\",\"-\"),K1009,IF(M1009=\"\",\"\",\"-\"),M1009,IF(O1009=\"\",\"\",\"-\"),O1009))))","v":""},{"$nulls":13},{"$f":"IF(LEN('1 - Opstart Importark'!$B$6)>0,'1 - Opstart Importark'!$B$6,\"\")","v":""},{"$f":"IF(LEN('1 - Opstart Importark'!$B$9)>0,'1 - Opstart Importark'!$B$9,\"\")","v":""},{"$f":"IF(LEN('1 - Opstart Importark'!$B$31)>0,'1 - Opstart Importark'!$B$31,\"\")","v":""},{"$nulls":12},"",{"$nulls":8},0,"","","objektnogle_"]
[999,null,{"$f":"IF('1 - Opstart Importark'!$B$6=\"\",\"\",(IF('1 - Opstart Importark'!$B$15=\"\",CONCATENATE(LEFT('1 - Opstart Importark'!$B$3,1),(LEFT('1 - Opstart Importark'!$B$24,2)),LEFT('1 - Opstart Importark'!$B$28,3),IF(I1010=\"\",\"\",\"-\"),I1010,IF(K1010=\"\",\"\",\"-\"),K1010,IF(M1010=\"\",\"\",\"-\"),M1010,IF(O1010=\"\",\"\",\"-\"),O1010),CONCATENATE(LEFT('1 - Opstart Importark'!$B$3,1),(LEFT('1 - Opstart Importark'!$B$15,2)),(LEFT('1 - Opstart Importark'!$B$18,3)),IF(I1010=\"\",\"\",\"-\"),I1010,IF(K1010=\"\",\"\",\"-\"),K1010,IF(M1010=\"\",\"\",\"-\"),M1010,IF(O1010=\"\",\"\",\"-\"),O1010))))","v":""},{"$nulls":13},{"$f":"IF(LEN('1 - Opstart Importark'!$B$6)>0,'1 - Opstart Importark'!$B$6,\"\")","v":""},{"$f":"IF(LEN('1 - Opstart Importark'!$B$9)>0,'1 - Opstart Importark'!$B$9,\"\")","v":""},{"$f":"IF(LEN('1 - Opstart Importark'!$B$31)>0,'1 - Opstart Importark'!$B$31,\"\")","v":""},{"$nulls":12},"",{"$nulls":8},0,"","","objektnogle_"]
[1000,null,{"$f":"IF('1 - Opstart Importark'!$B$6=\"\",\"\",(IF('1 - Opstart Importark'!$B$15=\"\",CONCATENATE(LEFT('1 - Opstart Importark'!$B$3,1),(LEFT('1 - Opstart Importark'!$B$24,2)),LEFT('1 - Opstart Importark'!$B$28,3),IF(I1011=\"\",\"\",\"-\"),I1011,IF(K1011=\"\",\"\",\"-\"),K1011,IF(M1011=\"\",\"\",\"-\"),M1011,IF(O1011=\"\",\"\",\"-\"),O1011),CONCATENATE(LEFT('1 - Opstart Importark'!$B$3,1),(LEFT('1 - Opstart Importark'!$B$15,2)),(LEFT('1 - Opstart Importark'!$B$18,3)),IF(I1011=\"\",\"\",\"-\"),I1011,IF(K1011=\"\",\"\",\"-\"),K1011,IF(M1011=\"\",\"\",\"-\"),M1011,IF(O1011=\"\",\"\",\"-\"),O1011))))","v":""},{"$nulls":13},{"$f":"IF(LEN('1 - Opstart Importark'!$B$6)>0,'1 - Opstart Importark'!$B$6,\"\")","v":""},{"$f":"IF(LEN('1 - Opstart Importark'!$B$9)>0,'1 - Opstart Importark'!$B$9,\"\")","v":""},{"$f":"IF(LEN('1 - Opstart Importark'!$B$31)>0,'1 - Opstart Importark'!$B$31,\"\")","v":""},{"$nulls":12},"",{"$nulls":8},0,"","","objektnogle_"]

{"sheet":"Lokationer - Vand","index":2,"n_rows":457,"n_cols":10,"rows_kept":457,"hidden":true}
["Område_Opland","Lokation","Område med bindestreg","lokation med bindestreg","Kolonne1","indirekte",null,null,"Område med bindestreg"]
["BR Brøndbyvester","BKL Brøndbyvester Kildeplads",{"$f":"CONCATENATE(LEFT(Tabel4[[#This Row],[Område_Opland]],2),\" - \",MID(Tabel4[[#This Row],[Område_Opland]],4,50))","v":"BR - Brøndbyvester"},{"$f":"CONCATENATE(LEFT(Tabel4[[#This Row],[Lokation]],3),\" - \",MID(Tabel4[[#This Row],[Lokation]],5,50))","v":"BKL - Brøndbyvester Kildeplads"},1,{"$f":"CONCATENATE(\"vand\",(LEFT(Tabel4[[#This Row],[Område med bindestreg]],2)))","v":"vandBR"}]
["BR Brøndbyvester","BOT Brøndby Øster Trykforøger",{"$f":"CONCATENATE(LEFT(Tabel4[[#This Row],[Område_Opland]],2),\" - \",MID(Tabel4[[#This Row],[Område_Opland]],4,50))","v":"BR - Brøndbyvester"},{"$f":"CONCATENATE(LEFT(Tabel4[[#This Row],[Lokation]],3),\" - \",MID(Tabel4[[#This Row],[Lokation]],5,50))","v":"BOT - Brøndby Øster Trykforøger"},2,{"$f":"CONCATENATE(\"vand\",(LEFT(Tabel4[[#This Row],[Område med bindestreg]],2)))","v":"vandBR"},null,null,"BR - Brøndbyvester",1]
["BR Brøndbyvester","BRO Brøndby",{"$f":"CONCATENATE(LEFT(Tabel4[[#This Row],[Område_Opland]],2),\" - \",MID(Tabel4[[#This Row],[Område_Opland]],4,50))","v":"BR - Brøndbyvester"},{"$f":"CONCATENATE(LEFT(Tabel4[[#This Row],[Lokation]],3),\" - \",MID(Tabel4[[#This Row],[Lokation]],5,50))","v":"BRO - Brøndby"},3,{"$f":"CONCATENATE(\"vand\",(LEFT(Tabel4[[#This Row],[Område med bindestreg]],2)))","v":"vandBR"},null,null,"BY - Byen"]
["BR Brøndbyvester","BVB Sektion Strandskolevej MB ",{"$f":"CONCATENATE(LEFT(Tabel4[[#This Row],[Område_Opland]],2),\" - \",MID(Tabel4[[#This Row],[Område_Opland]],4,50))","v":"BR - Brøndbyvester"},{"$f":"CONCATENATE(LEFT(Tabel4[[#This Row],[Lokation]],3),\" - \",MID(Tabel4[[#This Row],[Lokation]],5,50))","v":"BVB - Sektion Strandskolevej MB "},4,{"$f":"CONCATENATE(\"vand\",(LEFT(Tabel4[[#This Row],[Område med bindestreg]],2)))","v":"vandBR"},null,null,"DD - Dragør",2]
["BR Brøndbyvester","BVS Sektion Brøndbyvester Strandvej MB",{"$f":"CONCATENATE(LEFT(Tabel4[[#This Row],[Område_Opland]],2),\" - \",MID(Tabel4[[#This Row],[Område_Opland]],4,50))","v":"BR - Brøndbyvester"},{"$f":"CONCATENATE(LEFT(Tabel4[[#This Row],[Lokation]],3),\" - \",MID(Tabel4[[#This Row],[Lokation]],5,50))","v":"BVS - Sektion Brøndbyvester Strandvej MB"},5,{"$f":"CONCATENATE(\"vand\",(LEFT(Tabel4[[#This Row],[Område med bindestreg]],2)))","v":"vandBR"},null,null,"EP - Espevang Vandværk",3]
["BR Brøndbyvester","BVV Brøndbyvester Vandværk",{"$f":"CONCATENATE(LEFT(Tabel4[[#This Row],[Område_Opland]],2),\" - \",MID(Tabel4[[#This Row],[Område_Opland]],4,50))","v":"BR - Brøndbyvester"},{"$f":"CONCATENATE(LEFT(Tabel4[[#This Row],[Lokation]],3),\" - \",MID(Tabel4[[#This Row],[Lokation]],5,50))","v":"BVV - Brøndbyvester Vandværk"},6,{"$f":"CONCATENATE(\"vand\",(LEFT(Tabel4[[#This Row],[Område med bindestreg]],2)))","v":"vandBR"},null,null,"GE - Gevninge",4]
["BR Brøndbyvester","MBB Sektion Brøndbyvester Boulevard MB",{"$f":"CONCATENATE(LEFT(Tabel4[[#This Row],[Område_Opland]],2),\" - \",MID(Tabel4[[#This Row],[Område_Opland]],4,50))","v":"BR - Brøndbyvester"},{"$f":"CONCATENATE(LEFT(Tabel4[[#This Row],[Lokation]],3),\" - \",MID(Tabel4[[#This Row],[Lokation]],5,50))","v":"MBB - Sektion Brøndbyvester Boulevard MB"},7,{"$f":"CONCATENATE(\"vand\",(LEFT(Tabel4[[#This Row],[Område med bindestreg]],2)))","v":"vandBR"},null,null,"HE - Herlev",5]
["BR Brøndbyvester","MDG Sektion Midlergårdsvej MB",{"$f":"CONCATENATE(LEFT(Tabel4[[#This Row],[Område_Opland]],2),\" - \",MID(Tabel4[[#This Row],[Område_Opland]],4,50))","v":"BR - Brøndbyvester"},{"$f":"CONCATENATE(LEFT(Tabel4[[#This Row],[Lokation]],3),\" - \",MID(Tabel4[[#This Row],[Lokation]],5,50))","v":"MDG - Sektion Midlergårdsvej MB"},8,{"$f":"CONCATENATE(\"vand\",(LEFT(Tabel4[[#This Row],[Område med bindestreg]],2)))","v":"vandBR"},null,null,"HV - Hvidovre",6]
["BR Brøndbyvester","PAA Sektion Brøndbyøster MB Park Allé",{"$f":"CONCATENATE(LEFT(Tabel4[[#This Row],[Område_Opland]],2),\" - \",MID(Tabel4[[#This Row],[Område_Opland]],4,50))","v":"BR - Brøndbyvester"},{"$f":"CONCATENATE(LEFT(Tabel4[[#This Row],[Lokation]],3),\" - \",MID(Tabel4[[#This Row],[Lokation]],5,50))","v":"PAA - Sektion Brøndbyøster MB Park Allé"},9,{"$f":"CONCATENATE(\"vand\",(LEFT(Tabel4[[#This Row],[Område med bindestreg]],2)))","v":"vandBR"},null,null,"HZ - Højdezonen",7]
["BR Brøndbyvester","RMA Ragnesminde Allé (Vesterled Vandværk)",{"$f":"CONCATENATE(LEFT(Tabel4[[#This Row],[Område_Opland]],2),\" - \",MID(Tabel4[[#This Row],[Område_Opland]],4,50))","v":"BR - Brøndbyvester"},{"$f":"CONCATENATE(LEFT(Tabel4[[#This Row],[Lokation]],3),\" - \",MID(Tabel4[[#This Row],[Lokation]],5,50))","v":"RMA - Ragnesminde Allé (Vesterled Vandværk)"},10,{"$f":"CONCATENATE(\"vand\",(LEFT(Tabel4[[#This Row],[Område med bindestreg]],2)))","v":"vandBR"},null,null,"IS - Islevbro",8]
["BR Brøndbyvester","RVL Råvandsledninger Brøndby",{"$f":"CONCATENATE(LEFT(Tabel4[[#This Row],[Område_Opland]],2),\" - \",MID(Tabel4[[#This Row],[Område_Opland]],4,50))","v":"BR - Brøndbyvester"},"RVL - Råvandsledninger Brøndby",11,{"$f":"CONCATENATE(\"vand\",(LEFT(Tabel4[[#This Row],[Område med bindestreg]],2)))","v":"vandBR"},null,null,"KH - København",9]
["BR Brøndbyvester","SMN Sektion Park Allé MB",{"$f":"CONCATENATE(LEFT(Tabel4[[#This Row],[Område_Opland]],2),\" - \",MID(Tabel4[[#This Row],[Område_Opland]],4,50))","v":"BR - Brøndbyvester"},{"$f":"CONCATENATE(LEFT(Tabel4[[#This Row],[Lokation]],3),\" - \",MID(Tabel4[[#This Row],[Lokation]],5,50))","v":"SMN - Sektion Park Allé MB"},12,{"$f":"CONCATENATE(\"vand\",(LEFT(Tabel4[[#This Row],[Område med bindestreg]],2)))","v":"vandBR"},null,null,"LE - Lejre",10]
["BR Brøndbyvester","SOG Sektion Brøndbyøster MB Sognevej",{"$f":"CONCATENATE(LEFT(Tabel4[[#This Row],[Område_Opland]],2),\" - \",MID(Tabel4[[#This Row],[Område_Opland]],4,50))","v":"BR - Brøndbyvester"},{"$f":"CONCATENATE(LEFT(Tabel4[[#This Row],[Lokation]],3),\" - \",MID(Tabel4[[#This Row],[Lokation]],5,50))","v":"SOG - Sektion Brøndbyøster MB Sognevej"},13,{"$f":"CONCATENATE(\"vand\",(LEFT(Tabel4[[#This Row],[Område med bindestreg]],2)))","v":"vandBR"},null,null,"MA - Marbjerg",11]
["BR Brøndbyvester","UBO Brøndbyvester U-Boringer",{"$f":"CONCATENATE(LEFT(Tabel4[[#This Row],[Område_Opland]],2),\" - \",MID(Tabel4[[#This Row],[Område_Opland]],4,50))","v":"BR - Brøndbyvester"},{"$f":"CONCATENATE(LEFT(Tabel4[[#This Row],[Lokation]],3),\" - \",MID(Tabel4[[#This Row],[Lokation]],5,50))","v":"UBO - Brøndbyvester U-Boringer"},14,{"$f":"CONCATENATE(\"vand\",(LEFT(Tabel4[[#This Row],[Område med bindestreg]],2)))","v":"vandBR"},null,null,"RE - Regnemark",12]
["BY Byen","FIB Fiskerihavnsgade Bytryksmåling",{"$f":"CONCATENATE(LEFT(Tabel4[[#This Row],[Område_Opland]],2),\" - \",MID(Tabel4[[#This Row],[Område_Opland]],4,50))","v":"BY - Byen"},{"$f":"CONCATENATE(LEFT(Tabel4[[#This Row],[Lokation]],3),\" - \",MID(Tabel4[[#This Row],[Lokation]],5,50))","v":"FIB - Fiskerihavnsgade Bytryksmåling"},15,{"$f":"CONCATENATE(\"vand\",(LEFT(Tabel4[[#This Row],[Område med bindestreg]],2)))","v":"vandBY"},null,null,"RR - Rødovre Vandværk",13]
["BY Byen","PAR Parkstien",{"$f":"CONCATENATE(LEFT(Tabel4[[#This Row],[Område_Opland]],2),\" - \",MID(Tabel4[[#This Row],[Område_Opland]],4,50))","v":"BY - Byen"},{"$f":"CONCATENATE(LEFT(Tabel4[[#This Row],[Lokation]],3),\" - \",MID(Tabel4[[#This Row],[Lokation]],5,50))","v":"PAR - Parkstien"},16,{"$f":"CONCATENATE(\"vand\",(LEFT(Tabel4[[#This Row],[Område med bindestreg]],2)))","v":"vandBY"},null,null,"SL - Slangerup",14]
["DD Dragør","RVL Råvandsledninger Dragør",{"$f":"CONCATENATE(LEFT(Tabel4[[#This Row],[Område_Opland]],2),\" - \",MID(Tabel4[[#This Row],[Område_Opland]],4,50))","v":"DD - Dragør"},{"$f":"CONCATENATE(LEFT(Tabel4[[#This Row],[Lokation]],3),\" - \",MID(Tabel4[[#This Row],[Lokation]],5,50))","v":"RVL - Råvandsledninger Dragør"},17,{"$f":"CONCATENATE(\"vand\",(LEFT(Tabel4[[#This Row],[Område med bindestreg]],2)))","v":"vandDD"},null,null,"SM - St. Magleby Vandværk",15]
["DD Dragør","UBO Dragør U-Boringer",{"$f":"CONCATENATE(LEFT(Tabel4[[#This Row],[Område_Opland]],2),\" - \",MID(Tabel4[[#This Row],[Område_Opland]],4,50))","v":"DD - Dragør"},{"$f":"CONCATENATE(LEFT(Tabel4[[#This Row],[Lokation]],3),\" - \",MID(Tabel4[[#This Row],[Lokation]],5,50))","v":"UBO - Dragør U-Boringer"},18,{"$f":"CONCATENATE(\"vand\",(LEFT(Tabel4[[#This Row],[Område med bindestreg]],2)))","v":"vandDD"},null,null,"SS - Søndersø",16]
["DD Dragør","WFA Dragør Filteranlæg",{"$f":"CONCATENATE(LEFT(Tabel4[[#This Row],[Område_Opland]],2),\" - \",MID(Tabel4[[#This Row],[Område_Opland]],4,50))","v":"DD - Dragør"},{"$f":"CONCATENATE(LEFT(Tabel4[[#This Row],[Lokation]],3),\" - \",MID(Tabel4[[#This Row],[Lokation]],5,50))","v":"WFA - Dragør Filteranlæg"},19,{"$f":"CONCATENATE(\"vand\",(LEFT(Tabel4[[#This Row],[Område med bindestreg]],2)))","v":"vandDD"},null,null,"SY - SRO System",17]
["DD Dragør","WIL Dragør Vandværk Indløb",{"$f":"CONCATENATE(LEFT(Tabel4[[#This Row],[Område_Opland]],2),\" - \",MID(Tabel4[[#This Row],[Område_Opland]],4,50))","v":"DD - Dragør"},{"$f":"CONCATENATE(LEFT(Tabel4[[#This Row],[Lokation]],3),\" - \",MID(Tabel4[[#This Row],[Lokation]],5,50))","v":"WIL - Dragør Vandværk Indløb"},20,{"$f":"CONCATENATE(\"vand\",(LEFT(Tabel4[[#This Row],[Område med bindestreg]],2)))","v":"vandDD"},null,null,"TH - Thorsbro",18]
["DD Dragør","WIT Dragør Iltningsanlæg",{"$f":"CONCATENATE(LEFT(Tabel4[[#This Row],[Område_Opland]],2),\" - \",MID(Tabel4[[#This Row],[Område_Opland]],4,50))","v":"DD - Dragør"},{"$f":"CONCATENATE(LEFT(Tabel4[[#This Row],[Lokation]],3),\" - \",MID(Tabel4[[#This Row],[Lokation]],5,50))","v":"WIT - Dragør Iltningsanlæg"},21,{"$f":"CONCATENATE(\"vand\",(LEFT(Tabel4[[#This Row],[Område med bindestreg]],2)))","v":"vandDD"},null,null,"TI - Tinghøj",19]
["DD Dragør","WKL Dragør Kildeplads (Dgu-208.1572)",{"$f":"CONCATENATE(LEFT(Tabel4[[#This Row],[Område_Opland]],2),\" - \",MID(Tabel4[[#This Row],[Område_Opland]],4,50))","v":"DD - Dragør"},{"$f":"CONCATENATE(LEFT(Tabel4[[#This Row],[Lokation]],3),\" - \",MID(Tabel4[[#This Row],[Lokation]],5,50))","v":"WKL - Dragør Kildeplads (Dgu-208.1572)"},22,{"$f":"CONCATENATE(\"vand\",(LEFT(Tabel4[[#This Row],[Område med bindestreg]],2)))","v":"vandDD"},null,null,"VA - Vallensbæk",20]
["DD Dragør","WRB Dragør Vandværk Rentvandsbeholder",{"$f":"CONCATENATE(LEFT(Tabel4[[#This Row],[Område_Opland]],2),\" - \",MID(Tabel4[[#This Row],[Område_Opland]],4,50))","v":"DD - Dragør"},{"$f":"CONCATENATE(LEFT(Tabel4[[#This Row],[Lokation]],3),\" - \",MID(Tabel4[[#This Row],[Lokation]],5,50))","v":"WRB - Dragør Vandværk Rentvandsbeholder"},23,{"$f":"CONCATENATE(\"vand\",(LEFT(Tabel4[[#This Row],[Område med bindestreg]],2)))","v":"vandDD"},null,null,"VR - Vridsløselille - Albertslund",22]
["DD Dragør","WTP Dragør Trykpumpestation",{"$f":"CONCATENATE(LEFT(Tabel4[[#This Row],[Område_Opland]],2),\" - \",MID(Tabel4[[#This Row],[Område_Opland]],4,50))","v":"DD - Dragør"},{"$f":"CONCATENATE(LEFT(Tabel4[[#This Row],[Lokation]],3),\" - \",MID(Tabel4[[#This Row],[Lokation]],5,50))","v":"WTP - Dragør Trykpumpestation"},24,{"$f":"CONCATENATE(\"vand\",(LEFT(Tabel4[[#This Row],[Område med bindestreg]],2)))","v":"vandDD"},null,null,"XX - Vand generelt"]
["DD Dragør","WXX Dragør Vandværk Generelt",{"$f":"CONCATENATE(LEFT(Tabel4[[#This Row],[Område_Opland]],2),\" - \",MID(Tabel4[[#This Row],[Område_Opland]],4,50))","v":"DD - Dragør"},{"$f":"CONCATENATE(LEFT(Tabel4[[#This Row],[Lokation]],3),\" - \",MID(Tabel4[[#This Row],[Lokation]],5,50))","v":"WXX - Dragør Vandværk Generelt"},25,{"$f":"CONCATENATE(\"vand\",(LEFT(Tabel4[[#This Row],[Område med bindestreg]],2)))","v":"vandDD"}]
["EP Espevang Vandværk","AGK Trykforøger Rødovre Syd (Agerkær) (Espevang)",{"$f":"CONCATENATE(LEFT(Tabel4[[#This Row],[Område_Opland]],2),\" - \",MID(Tabel4[[#This Row],[Område_Opland]],4,50))","v":"EP - Espevang Vandværk"},{"$f":"CONCATENATE(LEFT(Tabel4[[#This Row],[Lokation]],3),\" - \",MID(Tabel4[[#This Row],[Lokation]],5,50))","v":"AGK - Trykforøger Rødovre Syd (Agerkær) (Espevang)"},26,{"$f":"CONCATENATE(\"vand\",(LEFT(Tabel4[[#This Row],[Område med bindestreg]],2)))","v":"vandEP"}]
["EP Espevang Vandværk","DMB Sektion Rødovre Station MB",{"$f":"CONCATENATE(LEFT(Tabel4[[#This Row],[Område_Opland]],2),\" - \",MID(Tabel4[[#This Row],[Område_Opland]],4,50))","v":"EP - Espevang Vandværk"},{"$f":"CONCATENATE(LEFT(Tabel4[[#This Row],[Lokation]],3),\" - \",MID(Tabel4[[#This Row],[Lokation]],5,50))","v":"DMB - Sektion Rødovre Station MB"},27,{"$f":"CONCATENATE(\"vand\",(LEFT(Tabel4[[#This Row],[Område med bindestreg]],2)))","v":"vandEP"}]
["EP Espevang Vandværk","EBV Sektion Fort MB Engbovej",{"$f":"CONCATENATE(LEFT(Tabel4[[#This Row],[Område_Opland]],2),\" - \",MID(Tabel4[[#This Row],[Område_Opland]],4,50))","v":"EP - Espevang Vandværk"},{"$f":"CONCATENATE(LEFT(Tabel4[[#This Row],[Lokation]],3),\" - \",MID(Tabel4[[#This Row],[Lokation]],5,50))","v":"EBV - Sektion Fort MB Engbovej"},28,{"$f":"CONCATENATE(\"vand\",(LEFT(Tabel4[[#This Row],[Område med bindestreg]],2)))","v":"vandEP"}]
["EP Espevang Vandværk","FRV Sektion Fort MB Fortvej",{"$f":"CONCATENATE(LEFT(Tabel4[[#This Row],[Område_Opland]],2),\" - \",MID(Tabel4[[#This Row],[Område_Opland]],4,50))","v":"EP - Espevang Vandværk"},{"$f":"CONCATENATE(LEFT(Tabel4[[#This Row],[Lokation]],3),\" - \",MID(Tabel4[[#This Row],[Lokation]],5,50))","v":"FRV - Sektion Fort MB Fortvej"},29,{"$f":"CONCATENATE(\"vand\",(LEFT(Tabel4[[#This Row],[Område med bindestreg]],2)))","v":"vandEP"},null,null,"BY checkes"]
["EP Espevang Vandværk","MBV Sektion Ørbygård MB",{"$f":"CONCATENATE(LEFT(Tabel4[[#This Row],[Område_Opland]],2),\" - \",MID(Tabel4[[#This Row],[Område_Opland]],4,50))","v":"EP - Espevang Vandværk"},{"$f":"CONCATENATE(LEFT(Tabel4[[#This Row],[Lokation]],3),\" - \",MID(Tabel4[[#This Row],[Lokation]],5,50))","v":"MBV - Sektion Ørbygård MB"},30,{"$f":"CONCATENATE(\"vand\",(LEFT(Tabel4[[#This Row],[Område med bindestreg]],2)))","v":"vandEP"}]
["EP Espevang Vandværk","RDA Sektion Rådhus MB",{"$f":"CONCATENATE(LEFT(Tabel4[[#This Row],[Område_Opland]],2),\" - \",MID(Tabel4[[#This Row],[Område_Opland]],4,50))","v":"EP - Espevang Vandværk"},{"$f":"CONCATENATE(LEFT(Tabel4[[#This Row],[Lokation]],3),\" - \",MID(Tabel4[[#This Row],[Lokation]],5,50))","v":"RDA - Sektion Rådhus MB"},31,{"$f":"CONCATENATE(\"vand\",(LEFT(Tabel4[[#This Row],[Område med bindestreg]],2)))","v":"vandEP"}]
["EP Espevang Vandværk","ROC Trykforøger Rødovre Centrum (Tårnvej) (Espevang)",{"$f":"CONCATENATE(LEFT(Tabel4[[#This Row],[Område_Opland]],2),\" - \",MID(Tabel4[[#This Row],[Område_Opland]],4,50))","v":"EP - Espevang Vandværk"},{"$f":"CONCATENATE(LEFT(Tabel4[[#This Row],[Lokation]],3),\" - \",MID(Tabel4[[#This Row],[Lokation]],5,50))","v":"ROC - Trykforøger Rødovre Centrum (Tårnvej) (Espevang)"},32,{"$f":"CONCATENATE(\"vand\",(LEFT(Tabel4[[#This Row],[Område med bindestreg]],2)))","v":"vandEP"}]
["EP Espevang Vandværk","RON Trykforøger Rødovre Nord (Rødovre Vandværk) (Espevang)",{"$f":"CONCATENATE(LEFT(Tabel4[[#This Row],[Område_Opland]],2),\" - \",MID(Tabel4[[#This Row],[Område_Opland]],4,50))","v":"EP - Espevang Vandværk"},{"$f":"CONCATENATE(LEFT(Tabel4[[#This Row],[Lokation]],3),\" - \",MID(Tabel4[[#This Row],[Lokation]],5,50))","v":"RON - Trykforøger Rødovre Nord (Rødovre Vandværk) (Espev"},33,{"$f":"CONCATENATE(\"vand\",(LEFT(Tabel4[[#This Row],[Område med bindestreg]],2)))","v":"vandEP"}]
["EP Espevang Vandværk","RSV Sektion Damhus MB",{"$f":"CONCATENATE(LEFT(Tabel4[[#This Row],[Område_Opland]],2),\" - \",MID(Tabel4[[#This Row],[Område_Opland]],4,50))","v":"EP - Espevang Vandværk"},{"$f":"CONCATENATE(LEFT(Tabel4[[#This Row],[Lokation]],3),\" - \",MID(Tabel4[[#This Row],[Lokation]],5,50))","v":"RSV - Sektion Damhus MB"},34,{"$f":"CONCATENATE(\"vand\",(LEFT(Tabel4[[#This Row],[Område med bindestreg]],2)))","v":"vandEP"}]
["EP Espevang Vandværk","RVL Råvandsledninger Espevang",{"$f":"CONCATENATE(LEFT(Tabel4[[#This Row],[Område_Opland]],2),\" - \",MID(Tabel4[[#This Row],[Område_Opland]],4,50))","v":"EP - Espevang Vandværk"},{"$f":"CONCATENATE(LEFT(Tabel4[[#This Row],[Lokation]],3),\" - \",MID(Tabel4[[#This Row],[Lokation]],5,50))","v":"RVL - Råvandsledninger Espevang"},35,{"$f":"CONCATENATE(\"vand\",(LEFT(Tabel4[[#This Row],[Område med bindestreg]],2)))","v":"vandEP"}]
["EP Espevang Vandværk","SHV Sektion Sommerfugle MB Rødovrevej",{"$f":"CONCATENATE(LEFT(Tabel4[[#This Row],[Område_Opland]],2),\" - \",MID(Tabel4[[#This Row],[Område_Opland]],4,50))","v":"EP - Espevang Vandværk"},{"$f":"CONCATENATE(LEFT(Tabel4[[#This Row],[Lokation]],3),\" - \",MID(Tabel4[[#This Row],[Lokation]],5,50))","v":"SHV - Sektion Sommerfugle MB Rødovrevej"},36,{"$f":"CONCATENATE(\"vand\",(LEFT(Tabel4[[#This Row],[Område med bindestreg]],2)))","v":"vandEP"}]
["EP Espevang Vandværk","TRV Sektion Rødovre Park MB",{"$f":"CONCATENATE(LEFT(Tabel4[[#This Row],[Område_Opland]],2),\" - \",MID(Tabel4[[#This Row],[Område_Opland]],4,50))","v":"EP - Espevang Vandværk"},{"$f":"CONCATENATE(LEFT(Tabel4[[#This Row],[Lokation]],3),\" - \",MID(Tabel4[[#This Row],[Lokation]],5,50))","v":"TRV - Sektion Rødovre Park MB"},37,{"$f":"CONCATENATE(\"vand\",(LEFT(Tabel4[[#This Row],[Område med bindestreg]],2)))","v":"vandEP"}]
["EP Espevang Vandværk","UBO Espevang U-Boringer",{"$f":"CONCATENATE(LEFT(Tabel4[[#This Row],[Område_Opland]],2),\" - \",MID(Tabel4[[#This Row],[Område_Opland]],4,50))","v":"EP - Espevang Vandværk"},{"$f":"CONCATENATE(LEFT(Tabel4[[#This Row],[Lokation]],3),\" - \",MID(Tabel4[[#This Row],[Lokation]],5,50))","v":"UBO - Espevang U-Boringer"},38,{"$f":"CONCATENATE(\"vand\",(LEFT(Tabel4[[#This Row],[Område med bindestreg]],2)))","v":"vandEP"}]
["EP Espevang Vandværk","VLG Sektion Islev MB",{"$f":"CONCATENATE(LEFT(Tabel4[[#This Row],[Område_Opland]],2),\" - \",MID(Tabel4[[#This Row],[Område_Opland]],4,50))","v":"EP - Espevang Vandværk"},{"$f":"CONCATENATE(LEFT(Tabel4[[#This Row],[Lokation]],3),\" - \",MID(Tabel4[[#This Row],[Lokation]],5,50))","v":"VLG - Sektion Islev MB"},39,{"$f":"CONCATENATE(\"vand\",(LEFT(Tabel4[[#This Row],[Område med bindestreg]],2)))","v":"vandEP"}]
["EP Espevang Vandværk","VSM Sektion Sommerfugle MB Slotsherrensvej",{"$f":"CONCATENATE(LEFT(Tabel4[[#This Row],[Område_Opland]],2),\" - \",MID(Tabel4[[#This Row],[Område_Opland]],4,50))","v":"EP - Espevang Vandværk"},{"$f":"CONCATENATE(LEFT(Tabel4[[#This Row],[Lokation]],3),\" - \",MID(Tabel4[[#This Row],[Lokation]],5,50))","v":"VSM - Sektion Sommerfugle MB Slotsherrensvej"},40,{"$f":"CONCATENATE(\"vand\",(LEFT(Tabel4[[#This Row],[Område med bindestreg]],2)))","v":"vandEP"}]
["EP Espevang Vandværk","WFA Espevang Trykfilteranlæg",{"$f":"CONCATENATE(LEFT(Tabel4[[#This Row],[Område_Opland]],2),\" - \",MID(Tabel4[[#This Row],[Område_Opland]],4,50))","v":"EP - Espevang Vandværk"},{"$f":"CONCATENATE(LEFT(Tabel4[[#This Row],[Lokation]],3),\" - \",MID(Tabel4[[#This Row],[Lokation]],5,50))","v":"WFA - Espevang Trykfilteranlæg"},41,{"$f":"CONCATENATE(\"vand\",(LEFT(Tabel4[[#This Row],[Område med bindestreg]],2)))","v":"vandEP"}]
["EP Espevang Vandværk","WGA Espevang Genbrugsanlæg",{"$f":"CONCATENATE(LEFT(Tabel4[[#This Row],[Område_Opland]],2),\" - \",MID(Tabel4[[#This Row],[Område_Opland]],4,50))","v":"EP - Espevang Vandværk"},{"$f":"CONCATENATE(LEFT(Tabel4[[#This Row],[Lokation]],3),\" - \",MID(Tabel4[[#This Row],[Lokation]],5,50))","v":"WGA - Espevang Genbrugsanlæg"},42,{"$f":"CONCATENATE(\"vand\",(LEFT(Tabel4[[#This Row],[Område med bindestreg]],2)))","v":"vandEP"}]
["EP Espevang Vandværk","WIT Espevang Iltningsanlæg",{"$f":"CONCATENATE(LEFT(Tabel4[[#This Row],[Område_Opland]],2),\" - \",MID(Tabel4[[#This Row],[Område_Opland]],4,50))","v":"EP - Espevang Vandværk"},{"$f":"CONCATENATE(LEFT(Tabel4[[#This Row],[Lokation]],3),\" - \",MID(Tabel4[[#This Row],[Lokation]],5,50))","v":"WIT - Espevang Iltningsanlæg"},43,{"$f":"CONCATENATE(\"vand\",(LEFT(Tabel4[[#This Row],[Område med bindestreg]],2)))","v":"vandEP"}]
["EP Espevang Vandværk","WKL Espevang Kildeplads",{"$f":"CONCATENATE(LEFT(Tabel4[[#This Row],[Område_Opland]],2),\" - \",MID(Tabel4[[#This Row],[Område_Opland]],4,50))","v":"EP - Espevang Vandværk"},{"$f":"CONCATENATE(LEFT(Tabel4[[#This Row],[Lokation]],3),\" - \",MID(Tabel4[[#This Row],[Lokation]],5,50))","v":"WKL - Espevang Kildeplads"},44,{"$f":"CONCATENATE(\"vand\",(LEFT(Tabel4[[#This Row],[Område med bindestreg]],2)))","v":"vandEP"}]
["EP Espevang Vandværk","WRB Espevang Rentvandsbeholder",{"$f":"CONCATENATE(LEFT(Tabel4[[#This Row],[Område_Opland]],2),\" - \",MID(Tabel4[[#This Row],[Område_Opland]],4,50))","v":"EP - Espevang Vandværk"},{"$f":"CONCATENATE(LEFT(Tabel4[[#This Row],[Lokation]],3),\" - \",MID(Tabel4[[#This Row],[Lokation]],5,50))","v":"WRB - Espevang Rentvandsbeholder"},45,{"$f":"CONCATENATE(\"vand\",(LEFT(Tabel4[[#This Row],[Område med bindestreg]],2)))","v":"vandEP"}]
["EP Espevang Vandværk","WTP Espevang Trykpumpestation",{"$f":"CONCATENATE(LEFT(Tabel4[[#This Row],[Område_Opland]],2),\" - \",MID(Tabel4[[#This Row],[Område_Opland]],4,50))","v":"EP - Espevang Vandværk"},{"$f":"CONCATENATE(LEFT(Tabel4[[#This Row],[Lokation]],3),\" - \",MID(Tabel4[[#This Row],[Lokation]],5,50))","v":"WTP - Espevang Trykpumpestation"},46,{"$f":"CONCATENATE(\"vand\",(LEFT(Tabel4[[#This Row],[Område med bindestreg]],2)))","v":"vandEP"}]
["EP Espevang Vandværk","WXX Espevang Vandværk Generelt",{"$f":"CONCATENATE(LEFT(Tabel4[[#This Row],[Område_Opland]],2),\" - \",MID(Tabel4[[#This Row],[Område_Opland]],4,50))","v":"EP - Espevang Vandværk"},{"$f":"CONCATENATE(LEFT(Tabel4[[#This Row],[Lokation]],3),\" - \",MID(Tabel4[[#This Row],[Lokation]],5,50))","v":"WXX - Espevang Vandværk Generelt"},47,{"$f":"CONCATENATE(\"vand\",(LEFT(Tabel4[[#This Row],[Område med bindestreg]],2)))","v":"vandEP"}]
["GE Gevninge","LEJ Lejre Fordelingspunkt","GE - Gevninge",{"$f":"CONCATENATE(LEFT(Tabel4[[#This Row],[Lokation]],3),\" - \",MID(Tabel4[[#This Row],[Lokation]],5,50))","v":"LEJ - Lejre Fordelingspunkt"},41,{"$f":"CONCATENATE(\"vand\",(LEFT(Tabel4[[#This Row],[Område med bindestreg]],2)))","v":"vandGE"}]
["GE Gevninge","RAL Ramsø / Lavring Målerbygværk",{"$f":"CONCATENATE(LEFT(Tabel4[[#This Row],[Område_Opland]],2),\" - \",MID(Tabel4[[#This Row],[Område_Opland]],4,50))","v":"GE - Gevninge"},{"$f":"CONCATENATE(LEFT(Tabel4[[#This Row],[Lokation]],3),\" - \",MID(Tabel4[[#This Row],[Lokation]],5,50))","v":"RAL - Ramsø / Lavring Målerbygværk"},null,{"$f":"CONCATENATE(\"vand\",(LEFT(Tabel4[[#This Row],[Område med bindestreg]],2)))","v":"vandGE"}]
["GE Gevninge","RAM Ramsø Dykpumpeanlæg",{"$f":"CONCATENATE(LEFT(Tabel4[[#This Row],[Område_Opland]],2),\" - \",MID(Tabel4[[#This Row],[Område_Opland]],4,50))","v":"GE - Gevninge"},{"$f":"CONCATENATE(LEFT(Tabel4[[#This Row],[Lokation]],3),\" - \",MID(Tabel4[[#This Row],[Lokation]],5,50))","v":"RAM - Ramsø Dykpumpeanlæg"},null,{"$f":"CONCATENATE(\"vand\",(LEFT(Tabel4[[#This Row],[Område med bindestreg]],2)))","v":"vandGE"}]
["HE Herlev","BOD Sektion Borgerdiget - MB",{"$f":"CONCATENATE(LEFT(Tabel4[[#This Row],[Område_Opland]],2),\" - \",MID(Tabel4[[#This Row],[Område_Opland]],4,50))","v":"HE - Herlev"},{"$f":"CONCATENATE(LEFT(Tabel4[[#This Row],[Lokation]],3),\" - \",MID(Tabel4[[#This Row],[Lokation]],5,50))","v":"BOD - Sektion Borgerdiget - MB"},42,{"$f":"CONCATENATE(\"vand\",(LEFT(Tabel4[[#This Row],[Område med bindestreg]],2)))","v":"vandHE"}]
["HE Herlev","HAN Hanevad Trykforøgerstation",{"$f":"CONCATENATE(LEFT(Tabel4[[#This Row],[Område_Opland]],2),\" - \",MID(Tabel4[[#This Row],[Område_Opland]],4,50))","v":"HE - Herlev"},{"$f":"CONCATENATE(LEFT(Tabel4[[#This Row],[Lokation]],3),\" - \",MID(Tabel4[[#This Row],[Lokation]],5,50))","v":"HAN - Hanevad Trykforøgerstation"},43,{"$f":"CONCATENATE(\"vand\",(LEFT(Tabel4[[#This Row],[Område med bindestreg]],2)))","v":"vandHE"}]
["HE Herlev","HER Herlev",{"$f":"CONCATENATE(LEFT(Tabel4[[#This Row],[Område_Opland]],2),\" - \",MID(Tabel4[[#This Row],[Område_Opland]],4,50))","v":"HE - Herlev"},{"$f":"CONCATENATE(LEFT(Tabel4[[#This Row],[Lokation]],3),\" - \",MID(Tabel4[[#This Row],[Lokation]],5,50))","v":"HER - Herlev"},44,{"$f":"CONCATENATE(\"vand\",(LEFT(Tabel4[[#This Row],[Område med bindestreg]],2)))","v":"vandHE"}]
["HE Herlev","HHG Sektion Herlev Hovedgade - MB",{"$f":"CONCATENATE(LEFT(Tabel4[[#This Row],[Område_Opland]],2),\" - \",MID(Tabel4[[#This Row],[Område_Opland]],4,50))","v":"HE - Herlev"},{"$f":"CONCATENATE(LEFT(Tabel4[[#This Row],[Lokation]],3),\" - \",MID(Tabel4[[#This Row],[Lokation]],5,50))","v":"HHG - Sektion Herlev Hovedgade - MB"},45,{"$f":"CONCATENATE(\"vand\",(LEFT(Tabel4[[#This Row],[Område med bindestreg]],2)))","v":"vandHE"}]
["HE Herlev","HHS Herlev Hospital - Sprinkler anlæg",{"$f":"CONCATENATE(LEFT(Tabel4[[#This Row],[Område_Opland]],2),\" - \",MID(Tabel4[[#This Row],[Område_Opland]],4,50))","v":"HE - Herlev"},{"$f":"CONCATENATE(LEFT(Tabel4[[#This Row],[Lokation]],3),\" - \",MID(Tabel4[[#This Row],[Lokation]],5,50))","v":"HHS - Herlev Hospital - Sprinkler anlæg"},46,{"$f":"CONCATENATE(\"vand\",(LEFT(Tabel4[[#This Row],[Område med bindestreg]],2)))","v":"vandHE"}]
["HE Herlev","HHT Herlev Hospital - El-værksted",{"$f":"CONCATENATE(LEFT(Tabel4[[#This Row],[Område_Opland]],2),\" - \",MID(Tabel4[[#This Row],[Område_Opland]],4,50))","v":"HE - Herlev"},{"$f":"CONCATENATE(LEFT(Tabel4[[#This Row],[Lokation]],3),\" - \",MID(Tabel4[[#This Row],[Lokation]],5,50))","v":"HHT - Herlev Hospital - El-værksted"},47,{"$f":"CONCATENATE(\"vand\",(LEFT(Tabel4[[#This Row],[Område med bindestreg]],2)))","v":"vandHE"}]
["HE Herlev","HHT Herlev Sygehus - Tilgang",{"$f":"CONCATENATE(LEFT(Tabel4[[#This Row],[Område_Opland]],2),\" - \",MID(Tabel4[[#This Row],[Område_Opland]],4,50))","v":"HE - Herlev"},{"$f":"CONCATENATE(LEFT(Tabel4[[#This Row],[Lokation]],3),\" - \",MID(Tabel4[[#This Row],[Lokation]],5,50))","v":"HHT - Herlev Sygehus - Tilgang"},48,{"$f":"CONCATENATE(\"vand\",(LEFT(Tabel4[[#This Row],[Område med bindestreg]],2)))","v":"vandHE"}]
["HE Herlev","HJO Hjortespring Trykforøgerstation",{"$f":"CONCATENATE(LEFT(Tabel4[[#This Row],[Område_Opland]],2),\" - \",MID(Tabel4[[#This Row],[Område_Opland]],4,50))","v":"HE - Herlev"},{"$f":"CONCATENATE(LEFT(Tabel4[[#This Row],[Lokation]],3),\" - \",MID(Tabel4[[#This Row],[Lokation]],5,50))","v":"HJO - Hjortespring Trykforøgerstation"},49,{"$f":"CONCATENATE(\"vand\",(LEFT(Tabel4[[#This Row],[Område med bindestreg]],2)))","v":"vandHE"}]
["HE Herlev","HJS Sektion Hjortespringvej MB",{"$f":"CONCATENATE(LEFT(Tabel4[[#This Row],[Område_Opland]],2),\" - \",MID(Tabel4[[#This Row],[Område_Opland]],4,50))","v":"HE - Herlev"},{"$f":"CONCATENATE(LEFT(Tabel4[[#This Row],[Lokation]],3),\" - \",MID(Tabel4[[#This Row],[Lokation]],5,50))","v":"HJS - Sektion Hjortespringvej MB"},50,{"$f":"CONCATENATE(\"vand\",(LEFT(Tabel4[[#This Row],[Område med bindestreg]],2)))","v":"vandHE"}]
["HE Herlev","HVT Herlev Vandtårn",{"$f":"CONCATENATE(LEFT(Tabel4[[#This Row],[Område_Opland]],2),\" - \",MID(Tabel4[[#This Row],[Område_Opland]],4,50))","v":"HE - Herlev"},{"$f":"CONCATENATE(LEFT(Tabel4[[#This Row],[Lokation]],3),\" - \",MID(Tabel4[[#This Row],[Lokation]],5,50))","v":"HVT - Herlev Vandtårn"},51,{"$f":"CONCATENATE(\"vand\",(LEFT(Tabel4[[#This Row],[Område med bindestreg]],2)))","v":"vandHE"}]
["HE Herlev","KIL Kildegården Målerbrønd",{"$f":"CONCATENATE(LEFT(Tabel4[[#This Row],[Område_Opland]],2),\" - \",MID(Tabel4[[#This Row],[Område_Opland]],4,50))","v":"HE - Herlev"},{"$f":"CONCATENATE(LEFT(Tabel4[[#This Row],[Lokation]],3),\" - \",MID(Tabel4[[#This Row],[Lokation]],5,50))","v":"KIL - Kildegården Målerbrønd"},52,{"$f":"CONCATENATE(\"vand\",(LEFT(Tabel4[[#This Row],[Område med bindestreg]],2)))","v":"vandHE"}]
["HE Herlev","KLG Sektion Gl. Klausdalsbrovej - MB",{"$f":"CONCATENATE(LEFT(Tabel4[[#This Row],[Område_Opland]],2),\" - \",MID(Tabel4[[#This Row],[Område_Opland]],4,50))","v":"HE - Herlev"},{"$f":"CONCATENATE(LEFT(Tabel4[[#This Row],[Lokation]],3),\" - \",MID(Tabel4[[#This Row],[Lokation]],5,50))","v":"KLG - Sektion Gl. Klausdalsbrovej - MB"},53,{"$f":"CONCATENATE(\"vand\",(LEFT(Tabel4[[#This Row],[Område med bindestreg]],2)))","v":"vandHE"}]
["HE Herlev","KLM Klausdalsbrovej MB",{"$f":"CONCATENATE(LEFT(Tabel4[[#This Row],[Område_Opland]],2),\" - \",MID(Tabel4[[#This Row],[Område_Opland]],4,50))","v":"HE - Herlev"},{"$f":"CONCATENATE(LEFT(Tabel4[[#This Row],[Lokation]],3),\" - \",MID(Tabel4[[#This Row],[Lokation]],5,50))","v":"KLM - Klausdalsbrovej MB"},54,{"$f":"CONCATENATE(\"vand\",(LEFT(Tabel4[[#This Row],[Område med bindestreg]],2)))","v":"vandHE"}]
["HE Herlev","KLV Klausdalsbrovej Trykforøgerstation",{"$f":"CONCATENATE(LEFT(Tabel4[[#This Row],[Område_Opland]],2),\" - \",MID(Tabel4[[#This Row],[Område_Opland]],4,50))","v":"HE - Herlev"},{"$f":"CONCATENATE(LEFT(Tabel4[[#This Row],[Lokation]],3),\" - \",MID(Tabel4[[#This Row],[Lokation]],5,50))","v":"KLV - Klausdalsbrovej Trykforøgerstation"},55,{"$f":"CONCATENATE(\"vand\",(LEFT(Tabel4[[#This Row],[Område med bindestreg]],2)))","v":"vandHE"}]
["HE Herlev","MIP Sektion Mileparken - MB",{"$f":"CONCATENATE(LEFT(Tabel4[[#This Row],[Område_Opland]],2),\" - \",MID(Tabel4[[#This Row],[Område_Opland]],4,50))","v":"HE - Herlev"},{"$f":"CONCATENATE(LEFT(Tabel4[[#This Row],[Lokation]],3),\" - \",MID(Tabel4[[#This Row],[Lokation]],5,50))","v":"MIP - Sektion Mileparken - MB"},56,{"$f":"CONCATENATE(\"vand\",(LEFT(Tabel4[[#This Row],[Område med bindestreg]],2)))","v":"vandHE"}]
["HE Herlev","PER Sektion Persillehaven - MB",{"$f":"CONCATENATE(LEFT(Tabel4[[#This Row],[Område_Opland]],2),\" - \",MID(Tabel4[[#This Row],[Område_Opland]],4,50))","v":"HE - Herlev"},{"$f":"CONCATENATE(LEFT(Tabel4[[#This Row],[Lokation]],3),\" - \",MID(Tabel4[[#This Row],[Lokation]],5,50))","v":"PER - Sektion Persillehaven - MB"},57,{"$f":"CONCATENATE(\"vand\",(LEFT(Tabel4[[#This Row],[Område med bindestreg]],2)))","v":"vandHE"}]
["HE Herlev","RVL Råvandsledninger",{"$f":"CONCATENATE(LEFT(Tabel4[[#This Row],[Område_Opland]],2),\" - \",MID(Tabel4[[#This Row],[Område_Opland]],4,50))","v":"HE - Herlev"},{"$f":"CONCATENATE(LEFT(Tabel4[[#This Row],[Lokation]],3),\" - \",MID(Tabel4[[#This Row],[Lokation]],5,50))","v":"RVL - Råvandsledninger"},58,{"$f":"CONCATENATE(\"vand\",(LEFT(Tabel4[[#This Row],[Område med bindestreg]],2)))","v":"vandHE"}]
["HE Herlev","SEH Sennepshaven Målerbrønd",{"$f":"CONCATENATE(LEFT(Tabel4[[#This Row],[Område_Opland]],2),\" - \",MID(Tabel4[[#This Row],[Område_Opland]],4,50))","v":"HE - Herlev"},{"$f":"CONCATENATE(LEFT(Tabel4[[#This Row],[Lokation]],3),\" - \",MID(Tabel4[[#This Row],[Lokation]],5,50))","v":"SEH - Sennepshaven Målerbrønd"},59,{"$f":"CONCATENATE(\"vand\",(LEFT(Tabel4[[#This Row],[Område med bindestreg]],2)))","v":"vandHE"}]
["HE Herlev","SKN Skinnerskovvej Inspektionsbrønd",{"$f":"CONCATENATE(LEFT(Tabel4[[#This Row],[Område_Opland]],2),\" - \",MID(Tabel4[[#This Row],[Område_Opland]],4,50))","v":"HE - Herlev"},{"$f":"CONCATENATE(LEFT(Tabel4[[#This Row],[Lokation]],3),\" - \",MID(Tabel4[[#This Row],[Lokation]],5,50))","v":"SKN - Skinnerskovvej Inspektionsbrønd"},60,{"$f":"CONCATENATE(\"vand\",(LEFT(Tabel4[[#This Row],[Område med bindestreg]],2)))","v":"vandHE"}]
["HE Herlev","TOR Sektion Tornerosevej MB",{"$f":"CONCATENATE(LEFT(Tabel4[[#This Row],[Område_Opland]],2),\" - \",MID(Tabel4[[#This Row],[Område_Opland]],4,50))","v":"HE - Herlev"},{"$f":"CONCATENATE(LEFT(Tabel4[[#This Row],[Lokation]],3),\" - \",MID(Tabel4[[#This Row],[Lokation]],5,50))","v":"TOR - Sektion Tornerosevej MB"},61,{"$f":"CONCATENATE(\"vand\",(LEFT(Tabel4[[#This Row],[Område med bindestreg]],2)))","v":"vandHE"}]
["HE Herlev","UBO Herlev U-Boringer",{"$f":"CONCATENATE(LEFT(Tabel4[[#This Row],[Område_Opland]],2),\" - \",MID(Tabel4[[#This Row],[Område_Opland]],4,50))","v":"HE - Herlev"},{"$f":"CONCATENATE(LEFT(Tabel4[[#This Row],[Lokation]],3),\" - \",MID(Tabel4[[#This Row],[Lokation]],5,50))","v":"UBO - Herlev U-Boringer"},62,{"$f":"CONCATENATE(\"vand\",(LEFT(Tabel4[[#This Row],[Område med bindestreg]],2)))","v":"vandHE"}]
["HE Herlev","VVE Violinvej Målerbrønd",{"$f":"CONCATENATE(LEFT(Tabel4[[#This Row],[Område_Opland]],2),\" - \",MID(Tabel4[[#This Row],[Område_Opland]],4,50))","v":"HE - Herlev"},{"$f":"CONCATENATE(LEFT(Tabel4[[#This Row],[Lokation]],3),\" - \",MID(Tabel4[[#This Row],[Lokation]],5,50))","v":"VVE - Violinvej Målerbrønd"},63,{"$f":"CONCATENATE(\"vand\",(LEFT(Tabel4[[#This Row],[Område med bindestreg]],2)))","v":"vandHE"}]
["HV Hvidovre","AHO Avedøre Holme Øst Målerbrønd",{"$f":"CONCATENATE(LEFT(Tabel4[[#This Row],[Område_Opland]],2),\" - \",MID(Tabel4[[#This Row],[Område_Opland]],4,50))","v":"HV - Hvidovre"},{"$f":"CONCATENATE(LEFT(Tabel4[[#This Row],[Lokation]],3),\" - \",MID(Tabel4[[#This Row],[Lokation]],5,50))","v":"AHO - Avedøre Holme Øst Målerbrønd"},64,{"$f":"CONCATENATE(\"vand\",(LEFT(Tabel4[[#This Row],[Område med bindestreg]],2)))","v":"vandHV"}]
["HV Hvidovre","AHV Avedøre Holme Vest Målerbrønd",{"$f":"CONCATENATE(LEFT(Tabel4[[#This Row],[Område_Opland]],2),\" - \",MID(Tabel4[[#This Row],[Område_Opland]],4,50))","v":"HV - Hvidovre"},{"$f":"CONCATENATE(LEFT(Tabel4[[#This Row],[Lokation]],3),\" - \",MID(Tabel4[[#This Row],[Lokation]],5,50))","v":"AHV - Avedøre Holme Vest Målerbrønd"},65,{"$f":"CONCATENATE(\"vand\",(LEFT(Tabel4[[#This Row],[Område med bindestreg]],2)))","v":"vandHV"}]
["HV Hvidovre","AVE Avedøreværket",{"$f":"CONCATENATE(LEFT(Tabel4[[#This Row],[Område_Opland]],2),\" - \",MID(Tabel4[[#This Row],[Område_Opland]],4,50))","v":"HV - Hvidovre"},{"$f":"CONCATENATE(LEFT(Tabel4[[#This Row],[Lokation]],3),\" - \",MID(Tabel4[[#This Row],[Lokation]],5,50))","v":"AVE - Avedøreværket"},66,{"$f":"CONCATENATE(\"vand\",(LEFT(Tabel4[[#This Row],[Område med bindestreg]],2)))","v":"vandHV"}]
["HV Hvidovre","AVO Avedøre Stationsby Øst Målerbrønd",{"$f":"CONCATENATE(LEFT(Tabel4[[#This Row],[Område_Opland]],2),\" - \",MID(Tabel4[[#This Row],[Område_Opland]],4,50))","v":"HV - Hvidovre"},{"$f":"CONCATENATE(LEFT(Tabel4[[#This Row],[Lokation]],3),\" - \",MID(Tabel4[[#This Row],[Lokation]],5,50))","v":"AVO - Avedøre Stationsby Øst Målerbrønd"},67,{"$f":"CONCATENATE(\"vand\",(LEFT(Tabel4[[#This Row],[Område med bindestreg]],2)))","v":"vandHV"}]
["HV Hvidovre","AVV Avedøre Stationsby Vest Målerbrønd",{"$f":"CONCATENATE(LEFT(Tabel4[[#This Row],[Område_Opland]],2),\" - \",MID(Tabel4[[#This Row],[Område_Opland]],4,50))","v":"HV - Hvidovre"},{"$f":"CONCATENATE(LEFT(Tabel4[[#This Row],[Lokation]],3),\" - \",MID(Tabel4[[#This Row],[Lokation]],5,50))","v":"AVV - Avedøre Stationsby Vest Målerbrønd"},68,{"$f":"CONCATENATE(\"vand\",(LEFT(Tabel4[[#This Row],[Område med bindestreg]],2)))","v":"vandHV"}]
["HV Hvidovre","BIB Sektionsbrønd Vandværket",{"$f":"CONCATENATE(LEFT(Tabel4[[#This Row],[Område_Opland]],2),\" - \",MID(Tabel4[[#This Row],[Område_Opland]],4,50))","v":"HV - Hvidovre"},{"$f":"CONCATENATE(LEFT(Tabel4[[#This Row],[Lokation]],3),\" - \",MID(Tabel4[[#This Row],[Lokation]],5,50))","v":"BIB - Sektionsbrønd Vandværket"},69,{"$f":"CONCATENATE(\"vand\",(LEFT(Tabel4[[#This Row],[Område med bindestreg]],2)))","v":"vandHV"}]
["HV Hvidovre","FIL Filmbyen Målerbrønd",{"$f":"CONCATENATE(LEFT(Tabel4[[#This Row],[Område_Opland]],2),\" - \",MID(Tabel4[[#This Row],[Område_Opland]],4,50))","v":"HV - Hvidovre"},{"$f":"CONCATENATE(LEFT(Tabel4[[#This Row],[Lokation]],3),\" - \",MID(Tabel4[[#This Row],[Lokation]],5,50))","v":"FIL - Filmbyen Målerbrønd"},70,{"$f":"CONCATENATE(\"vand\",(LEFT(Tabel4[[#This Row],[Område med bindestreg]],2)))","v":"vandHV"}]
["HV Hvidovre","GRK Grækerkvarteret Målerbrønd",{"$f":"CONCATENATE(LEFT(Tabel4[[#This Row],[Område_Opland]],2),\" - \",MID(Tabel4[[#This Row],[Område_Opland]],4,50))","v":"HV - Hvidovre"},{"$f":"CONCATENATE(LEFT(Tabel4[[#This Row],[Lokation]],3),\" - \",MID(Tabel4[[#This Row],[Lokation]],5,50))","v":"GRK - Grækerkvarteret Målerbrønd"},71,{"$f":"CONCATENATE(\"vand\",(LEFT(Tabel4[[#This Row],[Område med bindestreg]],2)))","v":"vandHV"}]
["HV Hvidovre","HCB H. C. Bøjsensvej - Gl. Vandtårn (Grønt Vedligehold)",{"$f":"CONCATENATE(LEFT(Tabel4[[#This Row],[Område_Opland]],2),\" - \",MID(Tabel4[[#This Row],[Område_Opland]],4,50))","v":"HV - Hvidovre"},{"$f":"CONCATENATE(LEFT(Tabel4[[#This Row],[Lokation]],3),\" - \",MID(Tabel4[[#This Row],[Lokation]],5,50))","v":"HCB - H. C. Bøjsensvej - Gl. Vandtårn (Grønt Vedligehold"},72,{"$f":"CONCATENATE(\"vand\",(LEFT(Tabel4[[#This Row],[Område med bindestreg]],2)))","v":"vandHV"}]
["HV Hvidovre","HHO Hvidovre Hospital Øst",{"$f":"CONCATENATE(LEFT(Tabel4[[#This Row],[Område_Opland]],2),\" - \",MID(Tabel4[[#This Row],[Område_Opland]],4,50))","v":"HV - Hvidovre"},{"$f":"CONCATENATE(LEFT(Tabel4[[#This Row],[Lokation]],3),\" - \",MID(Tabel4[[#This Row],[Lokation]],5,50))","v":"HHO - Hvidovre Hospital Øst"},73,{"$f":"CONCATENATE(\"vand\",(LEFT(Tabel4[[#This Row],[Område med bindestreg]],2)))","v":"vandHV"}]
["HV Hvidovre","HHV Hvidovre Hospital Vest",{"$f":"CONCATENATE(LEFT(Tabel4[[#This Row],[Område_Opland]],2),\" - \",MID(Tabel4[[#This Row],[Område_Opland]],4,50))","v":"HV - Hvidovre"},{"$f":"CONCATENATE(LEFT(Tabel4[[#This Row],[Lokation]],3),\" - \",MID(Tabel4[[#This Row],[Lokation]],5,50))","v":"HHV - Hvidovre Hospital Vest"},74,{"$f":"CONCATENATE(\"vand\",(LEFT(Tabel4[[#This Row],[Område med bindestreg]],2)))","v":"vandHV"}]
["HV Hvidovre","HVF Sektion Hvidovre Strand - MB Gammel Køge Landevej",{"$f":"CONCATENATE(LEFT(Tabel4[[#This Row],[Område_Opland]],2),\" - \",MID(Tabel4[[#This Row],[Område_Opland]],4,50))","v":"HV - Hvidovre"},{"$f":"CONCATENATE(LEFT(Tabel4[[#This Row],[Lokation]],3),\" - \",MID(Tabel4[[#This Row],[Lokation]],5,50))","v":"HVF - Sektion Hvidovre Strand - MB Gammel Køge Landevej"},75,{"$f":"CONCATENATE(\"vand\",(LEFT(Tabel4[[#This Row],[Område med bindestreg]],2)))","v":"vandHV"}]
["HV Hvidovre","HVN Hvidovrevej NØ Ventilbrønd",{"$f":"CONCATENATE(LEFT(Tabel4[[#This Row],[Område_Opland]],2),\" - \",MID(Tabel4[[#This Row],[Område_Opland]],4,50))","v":"HV - Hvidovre"},{"$f":"CONCATENATE(LEFT(Tabel4[[#This Row],[Lokation]],3),\" - \",MID(Tabel4[[#This Row],[Lokation]],5,50))","v":"HVN - Hvidovrevej NØ Ventilbrønd"},76,{"$f":"CONCATENATE(\"vand\",(LEFT(Tabel4[[#This Row],[Område med bindestreg]],2)))","v":"vandHV"}]
["HV Hvidovre","HVO Hvidovre",{"$f":"CONCATENATE(LEFT(Tabel4[[#This Row],[Område_Opland]],2),\" - \",MID(Tabel4[[#This Row],[Område_Opland]],4,50))","v":"HV - Hvidovre"},{"$f":"CONCATENATE(LEFT(Tabel4[[#This Row],[Lokation]],3),\" - \",MID(Tabel4[[#This Row],[Lokation]],5,50))","v":"HVO - Hvidovre"},77,{"$f":"CONCATENATE(\"vand\",(LEFT(Tabel4[[#This Row],[Område med bindestreg]],2)))","v":"vandHV"}]
["HV Hvidovre","HVS Hvidovre Strand Målerbrønd",{"$f":"CONCATENATE(LEFT(Tabel4[[#This Row],[Område_Opland]],2),\" - \",MID(Tabel4[[#This Row],[Område_Opland]],4,50))","v":"HV - Hvidovre"},{"$f":"CONCATENATE(LEFT(Tabel4[[#This Row],[Lokation]],3),\" - \",MID(Tabel4[[#This Row],[Lokation]],5,50))","v":"HVS - Hvidovre Strand Målerbrønd"},78,{"$f":"CONCATENATE(\"vand\",(LEFT(Tabel4[[#This Row],[Område med bindestreg]],2)))","v":"vandHV"}]
["HV Hvidovre","HVV Hvidovrevej - Station 1 Målerbrønd",{"$f":"CONCATENATE(LEFT(Tabel4[[#This Row],[Område_Opland]],2),\" - \",MID(Tabel4[[#This Row],[Område_Opland]],4,50))","v":"HV - Hvidovre"},{"$f":"CONCATENATE(LEFT(Tabel4[[#This Row],[Lokation]],3),\" - \",MID(Tabel4[[#This Row],[Lokation]],5,50))","v":"HVV - Hvidovrevej - Station 1 Målerbrønd"},79,{"$f":"CONCATENATE(\"vand\",(LEFT(Tabel4[[#This Row],[Område med bindestreg]],2)))","v":"vandHV"}]
["HV Hvidovre","KEA Kettegård Alle Ventilbrønd",{"$f":"CONCATENATE(LEFT(Tabel4[[#This Row],[Område_Opland]],2),\" - \",MID(Tabel4[[#This Row],[Område_Opland]],4,50))","v":"HV - Hvidovre"},{"$f":"CONCATENATE(LEFT(Tabel4[[#This Row],[Lokation]],3),\" - \",MID(Tabel4[[#This Row],[Lokation]],5,50))","v":"KEA - Kettegård Alle Ventilbrønd"},80,{"$f":"CONCATENATE(\"vand\",(LEFT(Tabel4[[#This Row],[Område med bindestreg]],2)))","v":"vandHV"}]
["HV Hvidovre","KEB Kettevej Brostykkevej Målerbrønd",{"$f":"CONCATENATE(LEFT(Tabel4[[#This Row],[Område_Opland]],2),\" - \",MID(Tabel4[[#This Row],[Område_Opland]],4,50))","v":"HV - Hvidovre"},{"$f":"CONCATENATE(LEFT(Tabel4[[#This Row],[Lokation]],3),\" - \",MID(Tabel4[[#This Row],[Lokation]],5,50))","v":"KEB - Kettevej Brostykkevej Målerbrønd"},null,{"$f":"CONCATENATE(\"vand\",(LEFT(Tabel4[[#This Row],[Område med bindestreg]],2)))","v":"vandHV"}]
["HV Hvidovre","KEV Kettevej - Station 4",{"$f":"CONCATENATE(LEFT(Tabel4[[#This Row],[Område_Opland]],2),\" - \",MID(Tabel4[[#This Row],[Område_Opland]],4,50))","v":"HV - Hvidovre"},{"$f":"CONCATENATE(LEFT(Tabel4[[#This Row],[Lokation]],3),\" - \",MID(Tabel4[[#This Row],[Lokation]],5,50))","v":"KEV - Kettevej - Station 4"},81,{"$f":"CONCATENATE(\"vand\",(LEFT(Tabel4[[#This Row],[Område med bindestreg]],2)))","v":"vandHV"}]
["HV Hvidovre","KGA Kettevej Målestation - Station 4",{"$f":"CONCATENATE(LEFT(Tabel4[[#This Row],[Område_Opland]],2),\" - \",MID(Tabel4[[#This Row],[Område_Opland]],4,50))","v":"HV - Hvidovre"},{"$f":"CONCATENATE(LEFT(Tabel4[[#This Row],[Lokation]],3),\" - \",MID(Tabel4[[#This Row],[Lokation]],5,50))","v":"KGA - Kettevej Målestation - Station 4"},82,{"$f":"CONCATENATE(\"vand\",(LEFT(Tabel4[[#This Row],[Område med bindestreg]],2)))","v":"vandHV"}]
["HV Hvidovre","PAL Park Allé - Station 5",{"$f":"CONCATENATE(LEFT(Tabel4[[#This Row],[Område_Opland]],2),\" - \",MID(Tabel4[[#This Row],[Område_Opland]],4,50))","v":"HV - Hvidovre"},{"$f":"CONCATENATE(LEFT(Tabel4[[#This Row],[Lokation]],3),\" - \",MID(Tabel4[[#This Row],[Lokation]],5,50))","v":"PAL - Park Allé - Station 5"},83,{"$f":"CONCATENATE(\"vand\",(LEFT(Tabel4[[#This Row],[Område med bindestreg]],2)))","v":"vandHV"}]
["HV Hvidovre","PAN Paradis Nord Målerbrønd",{"$f":"CONCATENATE(LEFT(Tabel4[[#This Row],[Område_Opland]],2),\" - \",MID(Tabel4[[#This Row],[Område_Opland]],4,50))","v":"HV - Hvidovre"},{"$f":"CONCATENATE(LEFT(Tabel4[[#This Row],[Lokation]],3),\" - \",MID(Tabel4[[#This Row],[Lokation]],5,50))","v":"PAN - Paradis Nord Målerbrønd"},84,{"$f":"CONCATENATE(\"vand\",(LEFT(Tabel4[[#This Row],[Område med bindestreg]],2)))","v":"vandHV"}]
["HV Hvidovre","PAS Paradis Syd Målerbrønd",{"$f":"CONCATENATE(LEFT(Tabel4[[#This Row],[Område_Opland]],2),\" - \",MID(Tabel4[[#This Row],[Område_Opland]],4,50))","v":"HV - Hvidovre"},{"$f":"CONCATENATE(LEFT(Tabel4[[#This Row],[Lokation]],3),\" - \",MID(Tabel4[[#This Row],[Lokation]],5,50))","v":"PAS - Paradis Syd Målerbrønd"},85,{"$f":"CONCATENATE(\"vand\",(LEFT(Tabel4[[#This Row],[Område med bindestreg]],2)))","v":"vandHV"}]
["HV Hvidovre","PSY Sektion Paradis Syd - MB Tårnfalkevej",{"$f":"CONCATENATE(LEFT(Tabel4[[#This Row],[Område_Opland]],2),\" - \",MID(Tabel4[[#This Row],[Område_Opland]],4,50))","v":"HV - Hvidovre"},{"$f":"CONCATENATE(LEFT(Tabel4[[#This Row],[Lokation]],3),\" - \",MID(Tabel4[[#This Row],[Lokation]],5,50))","v":"PSY - Sektion Paradis Syd - MB Tårnfalkevej"},86,{"$f":"CONCATENATE(\"vand\",(LEFT(Tabel4[[#This Row],[Område med bindestreg]],2)))","v":"vandHV"}]
["HV Hvidovre","REA Rebæk Allé - Station 2",{"$f":"CONCATENATE(LEFT(Tabel4[[#This Row],[Område_Opland]],2),\" - \",MID(Tabel4[[#This Row],[Område_Opland]],4,50))","v":"HV - Hvidovre"},{"$f":"CONCATENATE(LEFT(Tabel4[[#This Row],[Lokation]],3),\" - \",MID(Tabel4[[#This Row],[Lokation]],5,50))","v":"REA - Rebæk Allé - Station 2"},87,{"$f":"CONCATENATE(\"vand\",(LEFT(Tabel4[[#This Row],[Område med bindestreg]],2)))","v":"vandHV"}]
["HV Hvidovre","RIB Risbjerg Målerbrønd",{"$f":"CONCATENATE(LEFT(Tabel4[[#This Row],[Område_Opland]],2),\" - \",MID(Tabel4[[#This Row],[Område_Opland]],4,50))","v":"HV - Hvidovre"},{"$f":"CONCATENATE(LEFT(Tabel4[[#This Row],[Lokation]],3),\" - \",MID(Tabel4[[#This Row],[Lokation]],5,50))","v":"RIB - Risbjerg Målerbrønd"},88,{"$f":"CONCATENATE(\"vand\",(LEFT(Tabel4[[#This Row],[Område med bindestreg]],2)))","v":"vandHV"}]
["HV Hvidovre","RIV Risbjerg Ventilbrønd",{"$f":"CONCATENATE(LEFT(Tabel4[[#This Row],[Område_Opland]],2),\" - \",MID(Tabel4[[#This Row],[Område_Opland]],4,50))","v":"HV - Hvidovre"},{"$f":"CONCATENATE(LEFT(Tabel4[[#This Row],[Lokation]],3),\" - \",MID(Tabel4[[#This Row],[Lokation]],5,50))","v":"RIV - Risbjerg Ventilbrønd"},89,{"$f":"CONCATENATE(\"vand\",(LEFT(Tabel4[[#This Row],[Område med bindestreg]],2)))","v":"vandHV"}]
["HV Hvidovre","RVL Råvandsledninger Hvidovre",{"$f":"CONCATENATE(LEFT(Tabel4[[#This Row],[Område_Opland]],2),\" - \",MID(Tabel4[[#This Row],[Område_Opland]],4,50))","v":"HV - Hvidovre"},{"$f":"CONCATENATE(LEFT(Tabel4[[#This Row],[Lokation]],3),\" - \",MID(Tabel4[[#This Row],[Lokation]],5,50))","v":"RVL - Råvandsledninger Hvidovre"},90,{"$f":"CONCATENATE(\"vand\",(LEFT(Tabel4[[#This Row],[Område med bindestreg]],2)))","v":"vandHV"}]
["HV Hvidovre","SKO Sønderkærskolen - Station 3",{"$f":"CONCATENATE(LEFT(Tabel4[[#This Row],[Område_Opland]],2),\" - \",MID(Tabel4[[#This Row],[Område_Opland]],4,50))","v":"HV - Hvidovre"},{"$f":"CONCATENATE(LEFT(Tabel4[[#This Row],[Lokation]],3),\" - \",MID(Tabel4[[#This Row],[Lokation]],5,50))","v":"SKO - Sønderkærskolen - Station 3"},91,{"$f":"CONCATENATE(\"vand\",(LEFT(Tabel4[[#This Row],[Område med bindestreg]],2)))","v":"vandHV"}]
["HV Hvidovre","SMA Strandmark Målerbrønd",{"$f":"CONCATENATE(LEFT(Tabel4[[#This Row],[Område_Opland]],2),\" - \",MID(Tabel4[[#This Row],[Område_Opland]],4,50))","v":"HV - Hvidovre"},{"$f":"CONCATENATE(LEFT(Tabel4[[#This Row],[Lokation]],3),\" - \",MID(Tabel4[[#This Row],[Lokation]],5,50))","v":"SMA - Strandmark Målerbrønd"},92,{"$f":"CONCATENATE(\"vand\",(LEFT(Tabel4[[#This Row],[Område med bindestreg]],2)))","v":"vandHV"}]
["HV Hvidovre","SMK Strandmark Ventilbrønd",{"$f":"CONCATENATE(LEFT(Tabel4[[#This Row],[Område_Opland]],2),\" - \",MID(Tabel4[[#This Row],[Område_Opland]],4,50))","v":"HV - Hvidovre"},{"$f":"CONCATENATE(LEFT(Tabel4[[#This Row],[Lokation]],3),\" - \",MID(Tabel4[[#This Row],[Lokation]],5,50))","v":"SMK - Strandmark Ventilbrønd"},93,{"$f":"CONCATENATE(\"vand\",(LEFT(Tabel4[[#This Row],[Område med bindestreg]],2)))","v":"vandHV"}]
["HV Hvidovre","STA Stadion Målerbrønd",{"$f":"CONCATENATE(LEFT(Tabel4[[#This Row],[Område_Opland]],2),\" - \",MID(Tabel4[[#This Row],[Område_Opland]],4,50))","v":"HV - Hvidovre"},{"$f":"CONCATENATE(LEFT(Tabel4[[#This Row],[Lokation]],3),\" - \",MID(Tabel4[[#This Row],[Lokation]],5,50))","v":"STA - Stadion Målerbrønd"},94,{"$f":"CONCATENATE(\"vand\",(LEFT(Tabel4[[#This Row],[Område med bindestreg]],2)))","v":"vandHV"}]
["HV Hvidovre","UBO Hvidovre U-Boringer",{"$f":"CONCATENATE(LEFT(Tabel4[[#This Row],[Område_Opland]],2),\" - \",MID(Tabel4[[#This Row],[Område_Opland]],4,50))","v":"HV - Hvidovre"},{"$f":"CONCATENATE(LEFT(Tabel4[[#This Row],[Lokation]],3),\" - \",MID(Tabel4[[#This Row],[Lokation]],5,50))","v":"UBO - Hvidovre U-Boringer"},95,{"$f":"CONCATENATE(\"vand\",(LEFT(Tabel4[[#This Row],[Område med bindestreg]],2)))","v":"vandHV"}]
["HV Hvidovre","WFA Filteranlæg Hvidovre",{"$f":"CONCATENATE(LEFT(Tabel4[[#This Row],[Område_Opland]],2),\" - \",MID(Tabel4[[#This Row],[Område_Opland]],4,50))","v":"HV - Hvidovre"},{"$f":"CONCATENATE(LEFT(Tabel4[[#This Row],[Lokation]],3),\" - \",MID(Tabel4[[#This Row],[Lokation]],5,50))","v":"WFA - Filteranlæg Hvidovre"},96,{"$f":"CONCATENATE(\"vand\",(LEFT(Tabel4[[#This Row],[Område med bindestreg]],2)))","v":"vandHV"}]
["HV Hvidovre","WIL Indløb Vandværk Hvidovre",{"$f":"CONCATENATE(LEFT(Tabel4[[#This Row],[Område_Opland]],2),\" - \",MID(Tabel4[[#This Row],[Område_Opland]],4,50))","v":"HV - Hvidovre"},{"$f":"CONCATENATE(LEFT(Tabel4[[#This Row],[Lokation]],3),\" - \",MID(Tabel4[[#This Row],[Lokation]],5,50))","v":"WIL - Indløb Vandværk Hvidovre"},97,{"$f":"CONCATENATE(\"vand\",(LEFT(Tabel4[[#This Row],[Område med bindestreg]],2)))","v":"vandHV"}]
["HV Hvidovre","WIT Iltningsanlæg",{"$f":"CONCATENATE(LEFT(Tabel4[[#This Row],[Område_Opland]],2),\" - \",MID(Tabel4[[#This Row],[Område_Opland]],4,50))","v":"HV - Hvidovre"},{"$f":"CONCATENATE(LEFT(Tabel4[[#This Row],[Lokation]],3),\" - \",MID(Tabel4[[#This Row],[Lokation]],5,50))","v":"WIT - Iltningsanlæg"},98,{"$f":"CONCATENATE(\"vand\",(LEFT(Tabel4[[#This Row],[Område med bindestreg]],2)))","v":"vandHV"}]
["HV Hvidovre","WKL Hvidovre Kildeplads",{"$f":"CONCATENATE(LEFT(Tabel4[[#This Row],[Område_Opland]],2),\" - \",MID(Tabel4[[#This Row],[Område_Opland]],4,50))","v":"HV - Hvidovre"},{"$f":"CONCATENATE(LEFT(Tabel4[[#This Row],[Lokation]],3),\" - \",MID(Tabel4[[#This Row],[Lokation]],5,50))","v":"WKL - Hvidovre Kildeplads"},99,{"$f":"CONCATENATE(\"vand\",(LEFT(Tabel4[[#This Row],[Område med bindestreg]],2)))","v":"vandHV"}]
["HV Hvidovre","WKU Kulfilter Hvidovre",{"$f":"CONCATENATE(LEFT(Tabel4[[#This Row],[Område_Opland]],2),\" - \",MID(Tabel4[[#This Row],[Område_Opland]],4,50))","v":"HV - Hvidovre"},{"$f":"CONCATENATE(LEFT(Tabel4[[#This Row],[Lokation]],3),\" - \",MID(Tabel4[[#This Row],[Lokation]],5,50))","v":"WKU - Kulfilter Hvidovre"},100,{"$f":"CONCATENATE(\"vand\",(LEFT(Tabel4[[#This Row],[Område med bindestreg]],2)))","v":"vandHV"}]
["HV Hvidovre","WRB Hvidovre Rentvandsbeholder",{"$f":"CONCATENATE(LEFT(Tabel4[[#This Row],[Område_Opland]],2),\" - \",MID(Tabel4[[#This Row],[Område_Opland]],4,50))","v":"HV - Hvidovre"},{"$f":"CONCATENATE(LEFT(Tabel4[[#This Row],[Lokation]],3),\" - \",MID(Tabel4[[#This Row],[Lokation]],5,50))","v":"WRB - Hvidovre Rentvandsbeholder"},101,{"$f":"CONCATENATE(\"vand\",(LEFT(Tabel4[[#This Row],[Område med bindestreg]],2)))","v":"vandHV"}]
["HV Hvidovre","WTP Trykpumpestation",{"$f":"CONCATENATE(LEFT(Tabel4[[#This Row],[Område_Opland]],2),\" - \",MID(Tabel4[[#This Row],[Område_Opland]],4,50))","v":"HV - Hvidovre"},{"$f":"CONCATENATE(LEFT(Tabel4[[#This Row],[Lokation]],3),\" - \",MID(Tabel4[[#This Row],[Lokation]],5,50))","v":"WTP - Trykpumpestation"},102,{"$f":"CONCATENATE(\"vand\",(LEFT(Tabel4[[#This Row],[Område med bindestreg]],2)))","v":"vandHV"}]
["HV Hvidovre","WXX Hvidovre Vandværk Generelt",{"$f":"CONCATENATE(LEFT(Tabel4[[#This Row],[Område_Opland]],2),\" - \",MID(Tabel4[[#This Row],[Område_Opland]],4,50))","v":"HV - Hvidovre"},{"$f":"CONCATENATE(LEFT(Tabel4[[#This Row],[Lokation]],3),\" - \",MID(Tabel4[[#This Row],[Lokation]],5,50))","v":"WXX - Hvidovre Vandværk Generelt"},103,{"$f":"CONCATENATE(\"vand\",(LEFT(Tabel4[[#This Row],[Område med bindestreg]],2)))","v":"vandHV"}]
["HZ Højdezonen","BEP Bellahøj Boosterstation - Trykforøger",{"$f":"CONCATENATE(LEFT(Tabel4[[#This Row],[Område_Opland]],2),\" - \",MID(Tabel4[[#This Row],[Område_Opland]],4,50))","v":"HZ - Højdezonen"},{"$f":"CONCATENATE(LEFT(Tabel4[[#This Row],[Lokation]],3),\" - \",MID(Tabel4[[#This Row],[Lokation]],5,50))","v":"BEP - Bellahøj Boosterstation - Trykforøger"},104,{"$f":"CONCATENATE(\"vand\",(LEFT(Tabel4[[#This Row],[Område med bindestreg]],2)))","v":"vandHZ"}]
["HZ Højdezonen","BIS Bispebjerg Trykmåling",{"$f":"CONCATENATE(LEFT(Tabel4[[#This Row],[Område_Opland]],2),\" - \",MID(Tabel4[[#This Row],[Område_Opland]],4,50))","v":"HZ - Højdezonen"},{"$f":"CONCATENATE(LEFT(Tabel4[[#This Row],[Lokation]],3),\" - \",MID(Tabel4[[#This Row],[Lokation]],5,50))","v":"BIS - Bispebjerg Trykmåling"},105,{"$f":"CONCATENATE(\"vand\",(LEFT(Tabel4[[#This Row],[Område med bindestreg]],2)))","v":"vandHZ"}]
["HZ Højdezonen","MKH Mørkhøjvej - Ventil- og Målerbygværk",{"$f":"CONCATENATE(LEFT(Tabel4[[#This Row],[Område_Opland]],2),\" - \",MID(Tabel4[[#This Row],[Område_Opland]],4,50))","v":"HZ - Højdezonen"},{"$f":"CONCATENATE(LEFT(Tabel4[[#This Row],[Lokation]],3),\" - \",MID(Tabel4[[#This Row],[Lokation]],5,50))","v":"MKH - Mørkhøjvej - Ventil- og Målerbygværk"},null,{"$f":"CONCATENATE(\"vand\",(LEFT(Tabel4[[#This Row],[Område med bindestreg]],2)))","v":"vandHZ"}]
["HZ Højdezonen","AAK Åkandevej Pumpestation",{"$f":"CONCATENATE(LEFT(Tabel4[[#This Row],[Område_Opland]],2),\" - \",MID(Tabel4[[#This Row],[Område_Opland]],4,50))","v":"HZ - Højdezonen"},{"$f":"CONCATENATE(LEFT(Tabel4[[#This Row],[Lokation]],3),\" - \",MID(Tabel4[[#This Row],[Lokation]],5,50))","v":"AAK - Åkandevej Pumpestation"},106,{"$f":"CONCATENATE(\"vand\",(LEFT(Tabel4[[#This Row],[Område med bindestreg]],2)))","v":"vandHZ"}]
["IS Islevbro","BBV Bjergbakkevej Skyllebassin (Grønt Vedligehold)",{"$f":"CONCATENATE(LEFT(Tabel4[[#This Row],[Område_Opland]],2),\" - \",MID(Tabel4[[#This Row],[Område_Opland]],4,50))","v":"IS - Islevbro"},{"$f":"CONCATENATE(LEFT(Tabel4[[#This Row],[Lokation]],3),\" - \",MID(Tabel4[[#This Row],[Lokation]],5,50))","v":"BBV - Bjergbakkevej Skyllebassin (Grønt Vedligehold)"},107,{"$f":"CONCATENATE(\"vand\",(LEFT(Tabel4[[#This Row],[Område med bindestreg]],2)))","v":"vandIS"}]
["IS Islevbro","BSA Borgmester Sortesøs Alle Skyllebassin",{"$f":"CONCATENATE(LEFT(Tabel4[[#This Row],[Område_Opland]],2),\" - \",MID(Tabel4[[#This Row],[Område_Opland]],4,50))","v":"IS - Islevbro"},{"$f":"CONCATENATE(LEFT(Tabel4[[#This Row],[Lokation]],3),\" - \",MID(Tabel4[[#This Row],[Lokation]],5,50))","v":"BSA - Borgmester Sortesøs Alle Skyllebassin"},108,{"$f":"CONCATENATE(\"vand\",(LEFT(Tabel4[[#This Row],[Område med bindestreg]],2)))","v":"vandIS"}]
["IS Islevbro","BYN Plc For Indsamling Af  Bytryksmålinger",{"$f":"CONCATENATE(LEFT(Tabel4[[#This Row],[Område_Opland]],2),\" - \",MID(Tabel4[[#This Row],[Område_Opland]],4,50))","v":"IS - Islevbro"},{"$f":"CONCATENATE(LEFT(Tabel4[[#This Row],[Lokation]],3),\" - \",MID(Tabel4[[#This Row],[Lokation]],5,50))","v":"BYN - Plc For Indsamling Af  Bytryksmålinger"},109,{"$f":"CONCATENATE(\"vand\",(LEFT(Tabel4[[#This Row],[Område med bindestreg]],2)))","v":"vandIS"}]
["IS Islevbro","BYT Separat Plc Og Bytryks Igss-Anlæg",{"$f":"CONCATENATE(LEFT(Tabel4[[#This Row],[Område_Opland]],2),\" - \",MID(Tabel4[[#This Row],[Område_Opland]],4,50))","v":"IS - Islevbro"},{"$f":"CONCATENATE(LEFT(Tabel4[[#This Row],[Lokation]],3),\" - \",MID(Tabel4[[#This Row],[Lokation]],5,50))","v":"BYT - Separat Plc Og Bytryks Igss-Anlæg"},110,{"$f":"CONCATENATE(\"vand\",(LEFT(Tabel4[[#This Row],[Område med bindestreg]],2)))","v":"vandIS"}]
["IS Islevbro","DAM Kildeplads Damhussøen",{"$f":"CONCATENATE(LEFT(Tabel4[[#This Row],[Område_Opland]],2),\" - \",MID(Tabel4[[#This Row],[Område_Opland]],4,50))","v":"IS - Islevbro"},{"$f":"CONCATENATE(LEFT(Tabel4[[#This Row],[Lokation]],3),\" - \",MID(Tabel4[[#This Row],[Lokation]],5,50))","v":"DAM - Kildeplads Damhussøen"},111,{"$f":"CONCATENATE(\"vand\",(LEFT(Tabel4[[#This Row],[Område med bindestreg]],2)))","v":"vandIS"}]
["IS Islevbro","EBM Ejby Mosevej - Skyllebassin",{"$f":"CONCATENATE(LEFT(Tabel4[[#This Row],[Område_Opland]],2),\" - \",MID(Tabel4[[#This Row],[Område_Opland]],4,50))","v":"IS - Islevbro"},{"$f":"CONCATENATE(LEFT(Tabel4[[#This Row],[Lokation]],3),\" - \",MID(Tabel4[[#This Row],[Lokation]],5,50))","v":"EBM - Ejby Mosevej - Skyllebassin"},112,{"$f":"CONCATENATE(\"vand\",(LEFT(Tabel4[[#This Row],[Område med bindestreg]],2)))","v":"vandIS"}]
["IS Islevbro","ESK Eskyderen",{"$f":"CONCATENATE(LEFT(Tabel4[[#This Row],[Område_Opland]],2),\" - \",MID(Tabel4[[#This Row],[Område_Opland]],4,50))","v":"IS - Islevbro"},{"$f":"CONCATENATE(LEFT(Tabel4[[#This Row],[Lokation]],3),\" - \",MID(Tabel4[[#This Row],[Lokation]],5,50))","v":"ESK - Eskyderen"},113,{"$f":"CONCATENATE(\"vand\",(LEFT(Tabel4[[#This Row],[Område med bindestreg]],2)))","v":"vandIS"}]
["IS Islevbro","HAS Harrestrupvej Møllen Skyllebassin",{"$f":"CONCATENATE(LEFT(Tabel4[[#This Row],[Område_Opland]],2),\" - \",MID(Tabel4[[#This Row],[Område_Opland]],4,50))","v":"IS - Islevbro"},{"$f":"CONCATENATE(LEFT(Tabel4[[#This Row],[Lokation]],3),\" - \",MID(Tabel4[[#This Row],[Lokation]],5,50))","v":"HAS - Harrestrupvej Møllen Skyllebassin"},114,{"$f":"CONCATENATE(\"vand\",(LEFT(Tabel4[[#This Row],[Område med bindestreg]],2)))","v":"vandIS"}]
["IS Islevbro","HOV Hove Pumpestation",{"$f":"CONCATENATE(LEFT(Tabel4[[#This Row],[Område_Opland]],2),\" - \",MID(Tabel4[[#This Row],[Område_Opland]],4,50))","v":"IS - Islevbro"},{"$f":"CONCATENATE(LEFT(Tabel4[[#This Row],[Lokation]],3),\" - \",MID(Tabel4[[#This Row],[Lokation]],5,50))","v":"HOV - Hove Pumpestation"},115,{"$f":"CONCATENATE(\"vand\",(LEFT(Tabel4[[#This Row],[Område med bindestreg]],2)))","v":"vandIS"}]
["IS Islevbro","ISB Islevbro Boosterstation",{"$f":"CONCATENATE(LEFT(Tabel4[[#This Row],[Område_Opland]],2),\" - \",MID(Tabel4[[#This Row],[Område_Opland]],4,50))","v":"IS - Islevbro"},{"$f":"CONCATENATE(LEFT(Tabel4[[#This Row],[Lokation]],3),\" - \",MID(Tabel4[[#This Row],[Lokation]],5,50))","v":"ISB - Islevbro Boosterstation"},116,{"$f":"CONCATENATE(\"vand\",(LEFT(Tabel4[[#This Row],[Område med bindestreg]],2)))","v":"vandIS"}]
["IS Islevbro","ISD Islevdalvej",{"$f":"CONCATENATE(LEFT(Tabel4[[#This Row],[Område_Opland]],2),\" - \",MID(Tabel4[[#This Row],[Område_Opland]],4,50))","v":"IS - Islevbro"},{"$f":"CONCATENATE(LEFT(Tabel4[[#This Row],[Lokation]],3),\" - \",MID(Tabel4[[#This Row],[Lokation]],5,50))","v":"ISD - Islevdalvej"},117,{"$f":"CONCATENATE(\"vand\",(LEFT(Tabel4[[#This Row],[Område med bindestreg]],2)))","v":"vandIS"}]
["IS Islevbro","K01 Kilde 1 (Grønt Vedligehold ) (Holdanvej 172 Dgu 200.170)",{"$f":"CONCATENATE(LEFT(Tabel4[[#This Row],[Område_Opland]],2),\" - \",MID(Tabel4[[#This Row],[Område_Opland]],4,50))","v":"IS - Islevbro"},{"$f":"CONCATENATE(LEFT(Tabel4[[#This Row],[Lokation]],3),\" - \",MID(Tabel4[[#This Row],[Lokation]],5,50))","v":"K01 - Kilde 1 (Grønt Vedligehold ) (Holdanvej 172 Dgu 20"},118,{"$f":"CONCATENATE(\"vand\",(LEFT(Tabel4[[#This Row],[Område med bindestreg]],2)))","v":"vandIS"}]
["IS Islevbro","K03 Kilde 3 Dykpumpeanlæg",{"$f":"CONCATENATE(LEFT(Tabel4[[#This Row],[Område_Opland]],2),\" - \",MID(Tabel4[[#This Row],[Område_Opland]],4,50))","v":"IS - Islevbro"},{"$f":"CONCATENATE(LEFT(Tabel4[[#This Row],[Lokation]],3),\" - \",MID(Tabel4[[#This Row],[Lokation]],5,50))","v":"K03 - Kilde 3 Dykpumpeanlæg"},119,{"$f":"CONCATENATE(\"vand\",(LEFT(Tabel4[[#This Row],[Område med bindestreg]],2)))","v":"vandIS"}]
["IS Islevbro","K06 Kilde 6 Dykpumpeanlæg",{"$f":"CONCATENATE(LEFT(Tabel4[[#This Row],[Område_Opland]],2),\" - \",MID(Tabel4[[#This Row],[Område_Opland]],4,50))","v":"IS - Islevbro"},{"$f":"CONCATENATE(LEFT(Tabel4[[#This Row],[Lokation]],3),\" - \",MID(Tabel4[[#This Row],[Lokation]],5,50))","v":"K06 - Kilde 6 Dykpumpeanlæg"},121,{"$f":"CONCATENATE(\"vand\",(LEFT(Tabel4[[#This Row],[Område med bindestreg]],2)))","v":"vandIS"}]
["IS Islevbro","K07 Kilde 7 Dykpumpeanlæg",{"$f":"CONCATENATE(LEFT(Tabel4[[#This Row],[Område_Opland]],2),\" - \",MID(Tabel4[[#This Row],[Område_Opland]],4,50))","v":"IS - Islevbro"},{"$f":"CONCATENATE(LEFT(Tabel4[[#This Row],[Lokation]],3),\" - \",MID(Tabel4[[#This Row],[Lokation]],5,50))","v":"K07 - Kilde 7 Dykpumpeanlæg"},122,{"$f":"CONCATENATE(\"vand\",(LEFT(Tabel4[[#This Row],[Område med bindestreg]],2)))","v":"vandIS"}]
["IS Islevbro","K08 Kilde 08 (Hævert)",{"$f":"CONCATENATE(LEFT(Tabel4[[#This Row],[Område_Opland]],2),\" - \",MID(Tabel4[[#This Row],[Område_Opland]],4,50))","v":"IS - Islevbro"},{"$f":"CONCATENATE(LEFT(Tabel4[[#This Row],[Lokation]],3),\" - \",MID(Tabel4[[#This Row],[Lokation]],5,50))","v":"K08 - Kilde 08 (Hævert)"},124,{"$f":"CONCATENATE(\"vand\",(LEFT(Tabel4[[#This Row],[Område med bindestreg]],2)))","v":"vandIS"}]
["IS Islevbro","K10 Kilde 10 Dykpumpeanlæg",{"$f":"CONCATENATE(LEFT(Tabel4[[#This Row],[Område_Opland]],2),\" - \",MID(Tabel4[[#This Row],[Område_Opland]],4,50))","v":"IS - Islevbro"},{"$f":"CONCATENATE(LEFT(Tabel4[[#This Row],[Lokation]],3),\" - \",MID(Tabel4[[#This Row],[Lokation]],5,50))","v":"K10 - Kilde 10 Dykpumpeanlæg"},125,{"$f":"CONCATENATE(\"vand\",(LEFT(Tabel4[[#This Row],[Område med bindestreg]],2)))","v":"vandIS"}]
["IS Islevbro","K11 Kilde 11 Dykpumpeanlæg",{"$f":"CONCATENATE(LEFT(Tabel4[[#This Row],[Område_Opland]],2),\" - \",MID(Tabel4[[#This Row],[Område_Opland]],4,50))","v":"IS - Islevbro"},{"$f":"CONCATENATE(LEFT(Tabel4[[#This Row],[Lokation]],3),\" - \",MID(Tabel4[[#This Row],[Lokation]],5,50))","v":"K11 - Kilde 11 Dykpumpeanlæg"},126,{"$f":"CONCATENATE(\"vand\",(LEFT(Tabel4[[#This Row],[Område med bindestreg]],2)))","v":"vandIS"}]
["IS Islevbro","K13 Kilde 13 Dykpumpeanlæg",{"$f":"CONCATENATE(LEFT(Tabel4[[#This Row],[Område_Opland]],2),\" - \",MID(Tabel4[[#This Row],[Område_Opland]],4,50))","v":"IS - Islevbro"},{"$f":"CONCATENATE(LEFT(Tabel4[[#This Row],[Lokation]],3),\" - \",MID(Tabel4[[#This Row],[Lokation]],5,50))","v":"K13 - Kilde 13 Dykpumpeanlæg"},127,{"$f":"CONCATENATE(\"vand\",(LEFT(Tabel4[[#This Row],[Område med bindestreg]],2)))","v":"vandIS"}]
["IS Islevbro","K14 Kilde 14 Dykpumpeanlæg",{"$f":"CONCATENATE(LEFT(Tabel4[[#This Row],[Område_Opland]],2),\" - \",MID(Tabel4[[#This Row],[Område_Opland]],4,50))","v":"IS - Islevbro"},{"$f":"CONCATENATE(LEFT(Tabel4[[#This Row],[Lokation]],3),\" - \",MID(Tabel4[[#This Row],[Lokation]],5,50))","v":"K14 - Kilde 14 Dykpumpeanlæg"},128,{"$f":"CONCATENATE(\"vand\",(LEFT(Tabel4[[#This Row],[Område med bindestreg]],2)))","v":"vandIS"}]
["IS Islevbro","KAT Katrinebjerg Dykpumpeanlæg",{"$f":"CONCATENATE(LEFT(Tabel4[[#This Row],[Område_Opland]],2),\" - \",MID(Tabel4[[#This Row],[Område_Opland]],4,50))","v":"IS - Islevbro"},{"$f":"CONCATENATE(LEFT(Tabel4[[#This Row],[Lokation]],3),\" - \",MID(Tabel4[[#This Row],[Lokation]],5,50))","v":"KAT - Katrinebjerg Dykpumpeanlæg"},129,{"$f":"CONCATENATE(\"vand\",(LEFT(Tabel4[[#This Row],[Område med bindestreg]],2)))","v":"vandIS"}]
["IS Islevbro","MBO Islevbro M-Boringer",{"$f":"CONCATENATE(LEFT(Tabel4[[#This Row],[Område_Opland]],2),\" - \",MID(Tabel4[[#This Row],[Område_Opland]],4,50))","v":"IS - Islevbro"},{"$f":"CONCATENATE(LEFT(Tabel4[[#This Row],[Lokation]],3),\" - \",MID(Tabel4[[#This Row],[Lokation]],5,50))","v":"MBO - Islevbro M-Boringer"},130,{"$f":"CONCATENATE(\"vand\",(LEFT(Tabel4[[#This Row],[Område med bindestreg]],2)))","v":"vandIS"}]
["IS Islevbro","NYB Nybølle Øst - Dykpumpeanlæg",{"$f":"CONCATENATE(LEFT(Tabel4[[#This Row],[Område_Opland]],2),\" - \",MID(Tabel4[[#This Row],[Område_Opland]],4,50))","v":"IS - Islevbro"},{"$f":"CONCATENATE(LEFT(Tabel4[[#This Row],[Lokation]],3),\" - \",MID(Tabel4[[#This Row],[Lokation]],5,50))","v":"NYB - Nybølle Øst - Dykpumpeanlæg"},131,{"$f":"CONCATENATE(\"vand\",(LEFT(Tabel4[[#This Row],[Område med bindestreg]],2)))","v":"vandIS"}]
["IS Islevbro","NYV Nybølle Samlebygværk",{"$f":"CONCATENATE(LEFT(Tabel4[[#This Row],[Område_Opland]],2),\" - \",MID(Tabel4[[#This Row],[Område_Opland]],4,50))","v":"IS - Islevbro"},{"$f":"CONCATENATE(LEFT(Tabel4[[#This Row],[Lokation]],3),\" - \",MID(Tabel4[[#This Row],[Lokation]],5,50))","v":"NYV - Nybølle Samlebygværk"},132,{"$f":"CONCATENATE(\"vand\",(LEFT(Tabel4[[#This Row],[Område med bindestreg]],2)))","v":"vandIS"}]
["IS Islevbro","RVL Råvandsledninger Islevbro",{"$f":"CONCATENATE(LEFT(Tabel4[[#This Row],[Område_Opland]],2),\" - \",MID(Tabel4[[#This Row],[Område_Opland]],4,50))","v":"IS - Islevbro"},{"$f":"CONCATENATE(LEFT(Tabel4[[#This Row],[Lokation]],3),\" - \",MID(Tabel4[[#This Row],[Lokation]],5,50))","v":"RVL - Råvandsledninger Islevbro"},133,{"$f":"CONCATENATE(\"vand\",(LEFT(Tabel4[[#This Row],[Område med bindestreg]],2)))","v":"vandIS"}]
["IS Islevbro","TPL Transportledninger (Islevbro)",{"$f":"CONCATENATE(LEFT(Tabel4[[#This Row],[Område_Opland]],2),\" - \",MID(Tabel4[[#This Row],[Område_Opland]],4,50))","v":"IS - Islevbro"},{"$f":"CONCATENATE(LEFT(Tabel4[[#This Row],[Lokation]],3),\" - \",MID(Tabel4[[#This Row],[Lokation]],5,50))","v":"TPL - Transportledninger (Islevbro)"},134,{"$f":"CONCATENATE(\"vand\",(LEFT(Tabel4[[#This Row],[Område med bindestreg]],2)))","v":"vandIS"}]
["IS Islevbro","TYS Tysmose, Øbakkevej, Hedeenge",{"$f":"CONCATENATE(LEFT(Tabel4[[#This Row],[Område_Opland]],2),\" - \",MID(Tabel4[[#This Row],[Område_Opland]],4,50))","v":"IS - Islevbro"},{"$f":"CONCATENATE(LEFT(Tabel4[[#This Row],[Lokation]],3),\" - \",MID(Tabel4[[#This Row],[Lokation]],5,50))","v":"TYS - Tysmose, Øbakkevej, Hedeenge"},135,{"$f":"CONCATENATE(\"vand\",(LEFT(Tabel4[[#This Row],[Område med bindestreg]],2)))","v":"vandIS"}]
["IS Islevbro","UBO Islevbro U-Boringer",{"$f":"CONCATENATE(LEFT(Tabel4[[#This Row],[Område_Opland]],2),\" - \",MID(Tabel4[[#This Row],[Område_Opland]],4,50))","v":"IS - Islevbro"},{"$f":"CONCATENATE(LEFT(Tabel4[[#This Row],[Lokation]],3),\" - \",MID(Tabel4[[#This Row],[Lokation]],5,50))","v":"UBO - Islevbro U-Boringer"},136,{"$f":"CONCATENATE(\"vand\",(LEFT(Tabel4[[#This Row],[Område med bindestreg]],2)))","v":"vandIS"}]
["IS Islevbro","VBR Værebro Dykpumpeanlæg",{"$f":"CONCATENATE(LEFT(Tabel4[[#This Row],[Område_Opland]],2),\" - \",MID(Tabel4[[#This Row],[Område_Opland]],4,50))","v":"IS - Islevbro"},{"$f":"CONCATENATE(LEFT(Tabel4[[#This Row],[Lokation]],3),\" - \",MID(Tabel4[[#This Row],[Lokation]],5,50))","v":"VBR - Værebro Dykpumpeanlæg"},137,{"$f":"CONCATENATE(\"vand\",(LEFT(Tabel4[[#This Row],[Område med bindestreg]],2)))","v":"vandIS"}]
["IS Islevbro","VBY Valby Kildeplads",{"$f":"CONCATENATE(LEFT(Tabel4[[#This Row],[Område_Opland]],2),\" - \",MID(Tabel4[[#This Row],[Område_Opland]],4,50))","v":"IS - Islevbro"},{"$f":"CONCATENATE(LEFT(Tabel4[[#This Row],[Lokation]],3),\" - \",MID(Tabel4[[#This Row],[Lokation]],5,50))","v":"VBY - Valby Kildeplads"},138,{"$f":"CONCATENATE(\"vand\",(LEFT(Tabel4[[#This Row],[Område med bindestreg]],2)))","v":"vandIS"}]
["IS Islevbro","VOD Ved Volden Skyllebassin",{"$f":"CONCATENATE(LEFT(Tabel4[[#This Row],[Område_Opland]],2),\" - \",MID(Tabel4[[#This Row],[Område_Opland]],4,50))","v":"IS - Islevbro"},{"$f":"CONCATENATE(LEFT(Tabel4[[#This Row],[Lokation]],3),\" - \",MID(Tabel4[[#This Row],[Lokation]],5,50))","v":"VOD - Ved Volden Skyllebassin"},139,{"$f":"CONCATENATE(\"vand\",(LEFT(Tabel4[[#This Row],[Område med bindestreg]],2)))","v":"vandIS"}]
["IS Islevbro","WFA Islevbro Filteranlæg",{"$f":"CONCATENATE(LEFT(Tabel4[[#This Row],[Område_Opland]],2),\" - \",MID(Tabel4[[#This Row],[Område_Opland]],4,50))","v":"IS - Islevbro"},{"$f":"CONCATENATE(LEFT(Tabel4[[#This Row],[Lokation]],3),\" - \",MID(Tabel4[[#This Row],[Lokation]],5,50))","v":"WFA - Islevbro Filteranlæg"},140,{"$f":"CONCATENATE(\"vand\",(LEFT(Tabel4[[#This Row],[Område med bindestreg]],2)))","v":"vandIS"}]
["IS Islevbro","WFF Viswff Skal Ikke Benyttes Mere",{"$f":"CONCATENATE(LEFT(Tabel4[[#This Row],[Område_Opland]],2),\" - \",MID(Tabel4[[#This Row],[Område_Opland]],4,50))","v":"IS - Islevbro"},{"$f":"CONCATENATE(LEFT(Tabel4[[#This Row],[Lokation]],3),\" - \",MID(Tabel4[[#This Row],[Lokation]],5,50))","v":"WFF - Viswff Skal Ikke Benyttes Mere"},141,{"$f":"CONCATENATE(\"vand\",(LEFT(Tabel4[[#This Row],[Område med bindestreg]],2)))","v":"vandIS"}]
["IS Islevbro","WGA Islevbro Genbrugsanlæg",{"$f":"CONCATENATE(LEFT(Tabel4[[#This Row],[Område_Opland]],2),\" - \",MID(Tabel4[[#This Row],[Område_Opland]],4,50))","v":"IS - Islevbro"},{"$f":"CONCATENATE(LEFT(Tabel4[[#This Row],[Lokation]],3),\" - \",MID(Tabel4[[#This Row],[Lokation]],5,50))","v":"WGA - Islevbro Genbrugsanlæg"},142,{"$f":"CONCATENATE(\"vand\",(LEFT(Tabel4[[#This Row],[Område med bindestreg]],2)))","v":"vandIS"}]
["IS Islevbro","WIL Islevbro Indløbsbygværk",{"$f":"CONCATENATE(LEFT(Tabel4[[#This Row],[Område_Opland]],2),\" - \",MID(Tabel4[[#This Row],[Område_Opland]],4,50))","v":"IS - Islevbro"},{"$f":"CONCATENATE(LEFT(Tabel4[[#This Row],[Lokation]],3),\" - \",MID(Tabel4[[#This Row],[Lokation]],5,50))","v":"WIL - Islevbro Indløbsbygværk"},143,{"$f":"CONCATENATE(\"vand\",(LEFT(Tabel4[[#This Row],[Område med bindestreg]],2)))","v":"vandIS"}]
["IS Islevbro","WIT Islevbro Iltning",{"$f":"CONCATENATE(LEFT(Tabel4[[#This Row],[Område_Opland]],2),\" - \",MID(Tabel4[[#This Row],[Område_Opland]],4,50))","v":"IS - Islevbro"},{"$f":"CONCATENATE(LEFT(Tabel4[[#This Row],[Lokation]],3),\" - \",MID(Tabel4[[#This Row],[Lokation]],5,50))","v":"WIT - Islevbro Iltning"},144,{"$f":"CONCATENATE(\"vand\",(LEFT(Tabel4[[#This Row],[Område med bindestreg]],2)))","v":"vandIS"}]
["IS Islevbro","WRB Rentvandsbeholder",{"$f":"CONCATENATE(LEFT(Tabel4[[#This Row],[Område_Opland]],2),\" - \",MID(Tabel4[[#This Row],[Område_Opland]],4,50))","v":"IS - Islevbro"},{"$f":"CONCATENATE(LEFT(Tabel4[[#This Row],[Lokation]],3),\" - \",MID(Tabel4[[#This Row],[Lokation]],5,50))","v":"WRB - Rentvandsbeholder"},145,{"$f":"CONCATENATE(\"vand\",(LEFT(Tabel4[[#This Row],[Område med bindestreg]],2)))","v":"vandIS"}]
["IS Islevbro","WSK Islevbro Skyllevand",{"$f":"CONCATENATE(LEFT(Tabel4[[#This Row],[Område_Opland]],2),\" - \",MID(Tabel4[[#This Row],[Område_Opland]],4,50))","v":"IS - Islevbro"},{"$f":"CONCATENATE(LEFT(Tabel4[[#This Row],[Lokation]],3),\" - \",MID(Tabel4[[#This Row],[Lokation]],5,50))","v":"WSK - Islevbro Skyllevand"},146,{"$f":"CONCATENATE(\"vand\",(LEFT(Tabel4[[#This Row],[Område med bindestreg]],2)))","v":"vandIS"}]
["IS Islevbro","WTP Islevbro Trykpumpestation",{"$f":"CONCATENATE(LEFT(Tabel4[[#This Row],[Område_Opland]],2),\" - \",MID(Tabel4[[#This Row],[Område_Opland]],4,50))","v":"IS - Islevbro"},{"$f":"CONCATENATE(LEFT(Tabel4[[#This Row],[Lokation]],3),\" - \",MID(Tabel4[[#This Row],[Lokation]],5,50))","v":"WTP - Islevbro Trykpumpestation"},147,{"$f":"CONCATENATE(\"vand\",(LEFT(Tabel4[[#This Row],[Område med bindestreg]],2)))","v":"vandIS"}]
["IS Islevbro","WXX Islevbro Vandværk Diverse/Fælles",{"$f":"CONCATENATE(LEFT(Tabel4[[#This Row],[Område_Opland]],2),\" - \",MID(Tabel4[[#This Row],[Område_Opland]],4,50))","v":"IS - Islevbro"},{"$f":"CONCATENATE(LEFT(Tabel4[[#This Row],[Lokation]],3),\" - \",MID(Tabel4[[#This Row],[Lokation]],5,50))","v":"WXX - Islevbro Vandværk Diverse/Fælles"},148,{"$f":"CONCATENATE(\"vand\",(LEFT(Tabel4[[#This Row],[Område med bindestreg]],2)))","v":"vandIS"}]
["KH København","AXB Axeltorv - Bytryksmåling",{"$f":"CONCATENATE(LEFT(Tabel4[[#This Row],[Område_Opland]],2),\" - \",MID(Tabel4[[#This Row],[Område_Opland]],4,50))","v":"KH - København"},{"$f":"CONCATENATE(LEFT(Tabel4[[#This Row],[Lokation]],3),\" - \",MID(Tabel4[[#This Row],[Lokation]],5,50))","v":"AXB - Axeltorv - Bytryksmåling"},115,{"$f":"CONCATENATE(\"vand\",(LEFT(Tabel4[[#This Row],[Område med bindestreg]],2)))","v":"vandKH"}]
["KH København","BNB Banebrinken",{"$f":"CONCATENATE(LEFT(Tabel4[[#This Row],[Område_Opland]],2),\" - \",MID(Tabel4[[#This Row],[Område_Opland]],4,50))","v":"KH - København"},{"$f":"CONCATENATE(LEFT(Tabel4[[#This Row],[Lokation]],3),\" - \",MID(Tabel4[[#This Row],[Lokation]],5,50))","v":"BNB - Banebrinken"},116,{"$f":"CONCATENATE(\"vand\",(LEFT(Tabel4[[#This Row],[Område med bindestreg]],2)))","v":"vandKH"}]
["KH København","ENV Englandsvej 283",{"$f":"CONCATENATE(LEFT(Tabel4[[#This Row],[Område_Opland]],2),\" - \",MID(Tabel4[[#This Row],[Område_Opland]],4,50))","v":"KH - København"},{"$f":"CONCATENATE(LEFT(Tabel4[[#This Row],[Lokation]],3),\" - \",MID(Tabel4[[#This Row],[Lokation]],5,50))","v":"ENV - Englandsvej 283"},117,{"$f":"CONCATENATE(\"vand\",(LEFT(Tabel4[[#This Row],[Område med bindestreg]],2)))","v":"vandKH"}]
["KH København","FIB Fiskerihavnsgade - Bytryksmåling",{"$f":"CONCATENATE(LEFT(Tabel4[[#This Row],[Område_Opland]],2),\" - \",MID(Tabel4[[#This Row],[Område_Opland]],4,50))","v":"KH - København"},{"$f":"CONCATENATE(LEFT(Tabel4[[#This Row],[Lokation]],3),\" - \",MID(Tabel4[[#This Row],[Lokation]],5,50))","v":"FIB - Fiskerihavnsgade - Bytryksmåling"},118,{"$f":"CONCATENATE(\"vand\",(LEFT(Tabel4[[#This Row],[Område med bindestreg]],2)))","v":"vandKH"}]
["KH København","FUV Finderupvej 41",{"$f":"CONCATENATE(LEFT(Tabel4[[#This Row],[Område_Opland]],2),\" - \",MID(Tabel4[[#This Row],[Område_Opland]],4,50))","v":"KH - København"},{"$f":"CONCATENATE(LEFT(Tabel4[[#This Row],[Lokation]],3),\" - \",MID(Tabel4[[#This Row],[Lokation]],5,50))","v":"FUV - Finderupvej 41"},119,{"$f":"CONCATENATE(\"vand\",(LEFT(Tabel4[[#This Row],[Område med bindestreg]],2)))","v":"vandKH"}]
["KH København","GHV Godthåbsvej 148",{"$f":"CONCATENATE(LEFT(Tabel4[[#This Row],[Område_Opland]],2),\" - \",MID(Tabel4[[#This Row],[Område_Opland]],4,50))","v":"KH - København"},{"$f":"CONCATENATE(LEFT(Tabel4[[#This Row],[Lokation]],3),\" - \",MID(Tabel4[[#This Row],[Lokation]],5,50))","v":"GHV - Godthåbsvej 148"},120,{"$f":"CONCATENATE(\"vand\",(LEFT(Tabel4[[#This Row],[Område med bindestreg]],2)))","v":"vandKH"}]
["KH København","HAB Hareskovvej - Bytryksmåling",{"$f":"CONCATENATE(LEFT(Tabel4[[#This Row],[Område_Opland]],2),\" - \",MID(Tabel4[[#This Row],[Område_Opland]],4,50))","v":"KH - København"},{"$f":"CONCATENATE(LEFT(Tabel4[[#This Row],[Lokation]],3),\" - \",MID(Tabel4[[#This Row],[Lokation]],5,50))","v":"HAB - Hareskovvej - Bytryksmåling"},121,{"$f":"CONCATENATE(\"vand\",(LEFT(Tabel4[[#This Row],[Område med bindestreg]],2)))","v":"vandKH"}]
["KH København","HIL Hillerødgade - Aftag",{"$f":"CONCATENATE(LEFT(Tabel4[[#This Row],[Område_Opland]],2),\" - \",MID(Tabel4[[#This Row],[Område_Opland]],4,50))","v":"KH - København"},{"$f":"CONCATENATE(LEFT(Tabel4[[#This Row],[Lokation]],3),\" - \",MID(Tabel4[[#This Row],[Lokation]],5,50))","v":"HIL - Hillerødgade - Aftag"},122,{"$f":"CONCATENATE(\"vand\",(LEFT(Tabel4[[#This Row],[Område med bindestreg]],2)))","v":"vandKH"}]
["KH København","HMV Hoffmeyersvej 61",{"$f":"CONCATENATE(LEFT(Tabel4[[#This Row],[Område_Opland]],2),\" - \",MID(Tabel4[[#This Row],[Område_Opland]],4,50))","v":"KH - København"},{"$f":"CONCATENATE(LEFT(Tabel4[[#This Row],[Lokation]],3),\" - \",MID(Tabel4[[#This Row],[Lokation]],5,50))","v":"HMV - Hoffmeyersvej 61"},123,{"$f":"CONCATENATE(\"vand\",(LEFT(Tabel4[[#This Row],[Område med bindestreg]],2)))","v":"vandKH"}]
["KH København","HOG Hørdumsgade - Målestation",{"$f":"CONCATENATE(LEFT(Tabel4[[#This Row],[Område_Opland]],2),\" - \",MID(Tabel4[[#This Row],[Område_Opland]],4,50))","v":"KH - København"},{"$f":"CONCATENATE(LEFT(Tabel4[[#This Row],[Lokation]],3),\" - \",MID(Tabel4[[#This Row],[Lokation]],5,50))","v":"HOG - Hørdumsgade - Målestation"},124,{"$f":"CONCATENATE(\"vand\",(LEFT(Tabel4[[#This Row],[Område med bindestreg]],2)))","v":"vandKH"}]
["KH København","IBS Islands Brygge skakt",{"$f":"CONCATENATE(LEFT(Tabel4[[#This Row],[Område_Opland]],2),\" - \",MID(Tabel4[[#This Row],[Område_Opland]],4,50))","v":"KH - København"},{"$f":"CONCATENATE(LEFT(Tabel4[[#This Row],[Lokation]],3),\" - \",MID(Tabel4[[#This Row],[Lokation]],5,50))","v":"IBS - Islands Brygge skakt"},125,{"$f":"CONCATENATE(\"vand\",(LEFT(Tabel4[[#This Row],[Område med bindestreg]],2)))","v":"vandKH"}]
["KH København","JDV Jakob Dannefærds Vej 3",{"$f":"CONCATENATE(LEFT(Tabel4[[#This Row],[Område_Opland]],2),\" - \",MID(Tabel4[[#This Row],[Område_Opland]],4,50))","v":"KH - København"},{"$f":"CONCATENATE(LEFT(Tabel4[[#This Row],[Lokation]],3),\" - \",MID(Tabel4[[#This Row],[Lokation]],5,50))","v":"JDV - Jakob Dannefærds Vej 3"},126,{"$f":"CONCATENATE(\"vand\",(LEFT(Tabel4[[#This Row],[Område med bindestreg]],2)))","v":"vandKH"}]
["KH København","KBH København",{"$f":"CONCATENATE(LEFT(Tabel4[[#This Row],[Område_Opland]],2),\" - \",MID(Tabel4[[#This Row],[Område_Opland]],4,50))","v":"KH - København"},{"$f":"CONCATENATE(LEFT(Tabel4[[#This Row],[Lokation]],3),\" - \",MID(Tabel4[[#This Row],[Lokation]],5,50))","v":"KBH - København"},127,{"$f":"CONCATENATE(\"vand\",(LEFT(Tabel4[[#This Row],[Område med bindestreg]],2)))","v":"vandKH"}]
["KH København","KBS Kalvebod Brygge skakt",{"$f":"CONCATENATE(LEFT(Tabel4[[#This Row],[Område_Opland]],2),\" - \",MID(Tabel4[[#This Row],[Område_Opland]],4,50))","v":"KH - København"},{"$f":"CONCATENATE(LEFT(Tabel4[[#This Row],[Lokation]],3),\" - \",MID(Tabel4[[#This Row],[Lokation]],5,50))","v":"KBS - Kalvebod Brygge skakt"},128,{"$f":"CONCATENATE(\"vand\",(LEFT(Tabel4[[#This Row],[Område med bindestreg]],2)))","v":"vandKH"}]
["KH København","MKH Mørkhøjvej - Ventil- og Målerbygværk",{"$f":"CONCATENATE(LEFT(Tabel4[[#This Row],[Område_Opland]],2),\" - \",MID(Tabel4[[#This Row],[Område_Opland]],4,50))","v":"KH - København"},{"$f":"CONCATENATE(LEFT(Tabel4[[#This Row],[Lokation]],3),\" - \",MID(Tabel4[[#This Row],[Lokation]],5,50))","v":"MKH - Mørkhøjvej - Ventil- og Målerbygværk"},129,{"$f":"CONCATENATE(\"vand\",(LEFT(Tabel4[[#This Row],[Område med bindestreg]],2)))","v":"vandKH"}]
["KH København","MSS Mosesviget - Bytryksmåling",{"$f":"CONCATENATE(LEFT(Tabel4[[#This Row],[Område_Opland]],2),\" - \",MID(Tabel4[[#This Row],[Område_Opland]],4,50))","v":"KH - København"},{"$f":"CONCATENATE(LEFT(Tabel4[[#This Row],[Lokation]],3),\" - \",MID(Tabel4[[#This Row],[Lokation]],5,50))","v":"MSS - Mosesviget - Bytryksmåling"},130,{"$f":"CONCATENATE(\"vand\",(LEFT(Tabel4[[#This Row],[Område med bindestreg]],2)))","v":"vandKH"}]
["KH København","NMV Nordmarksvej 15",{"$f":"CONCATENATE(LEFT(Tabel4[[#This Row],[Område_Opland]],2),\" - \",MID(Tabel4[[#This Row],[Område_Opland]],4,50))","v":"KH - København"},{"$f":"CONCATENATE(LEFT(Tabel4[[#This Row],[Lokation]],3),\" - \",MID(Tabel4[[#This Row],[Lokation]],5,50))","v":"NMV - Nordmarksvej 15"},131,{"$f":"CONCATENATE(\"vand\",(LEFT(Tabel4[[#This Row],[Område med bindestreg]],2)))","v":"vandKH"}]
["KH København","ONN Distribution",{"$f":"CONCATENATE(LEFT(Tabel4[[#This Row],[Område_Opland]],2),\" - \",MID(Tabel4[[#This Row],[Område_Opland]],4,50))","v":"KH - København"},{"$f":"CONCATENATE(LEFT(Tabel4[[#This Row],[Lokation]],3),\" - \",MID(Tabel4[[#This Row],[Lokation]],5,50))","v":"ONN - Distribution"},132,{"$f":"CONCATENATE(\"vand\",(LEFT(Tabel4[[#This Row],[Område med bindestreg]],2)))","v":"vandKH"}]
["KH København","PAR Parkstien",{"$f":"CONCATENATE(LEFT(Tabel4[[#This Row],[Område_Opland]],2),\" - \",MID(Tabel4[[#This Row],[Område_Opland]],4,50))","v":"KH - København"},{"$f":"CONCATENATE(LEFT(Tabel4[[#This Row],[Lokation]],3),\" - \",MID(Tabel4[[#This Row],[Lokation]],5,50))","v":"PAR - Parkstien"},133,{"$f":"CONCATENATE(\"vand\",(LEFT(Tabel4[[#This Row],[Område med bindestreg]],2)))","v":"vandKH"}]
["KH København","SBV Sjælør Boulevard - Ventilbygværk",{"$f":"CONCATENATE(LEFT(Tabel4[[#This Row],[Område_Opland]],2),\" - \",MID(Tabel4[[#This Row],[Område_Opland]],4,50))","v":"KH - København"},{"$f":"CONCATENATE(LEFT(Tabel4[[#This Row],[Lokation]],3),\" - \",MID(Tabel4[[#This Row],[Lokation]],5,50))","v":"SBV - Sjælør Boulevard - Ventilbygværk"},134,{"$f":"CONCATENATE(\"vand\",(LEFT(Tabel4[[#This Row],[Område med bindestreg]],2)))","v":"vandKH"}]
["KH København","SUK Sundkrogsgade - Målerbrønd",{"$f":"CONCATENATE(LEFT(Tabel4[[#This Row],[Område_Opland]],2),\" - \",MID(Tabel4[[#This Row],[Område_Opland]],4,50))","v":"KH - København"},{"$f":"CONCATENATE(LEFT(Tabel4[[#This Row],[Lokation]],3),\" - \",MID(Tabel4[[#This Row],[Lokation]],5,50))","v":"SUK - Sundkrogsgade - Målerbrønd"},135,{"$f":"CONCATENATE(\"vand\",(LEFT(Tabel4[[#This Row],[Område med bindestreg]],2)))","v":"vandKH"}]
["KH København","SUM Sundkrogsgade 50 - Målerbrønd",{"$f":"CONCATENATE(LEFT(Tabel4[[#This Row],[Område_Opland]],2),\" - \",MID(Tabel4[[#This Row],[Område_Opland]],4,50))","v":"KH - København"},{"$f":"CONCATENATE(LEFT(Tabel4[[#This Row],[Lokation]],3),\" - \",MID(Tabel4[[#This Row],[Lokation]],5,50))","v":"SUM - Sundkrogsgade 50 - Målerbrønd"},136,{"$f":"CONCATENATE(\"vand\",(LEFT(Tabel4[[#This Row],[Område med bindestreg]],2)))","v":"vandKH"}]
["KH København","VAT Valby Langgade - Trykforøger",{"$f":"CONCATENATE(LEFT(Tabel4[[#This Row],[Område_Opland]],2),\" - \",MID(Tabel4[[#This Row],[Område_Opland]],4,50))","v":"KH - København"},{"$f":"CONCATENATE(LEFT(Tabel4[[#This Row],[Lokation]],3),\" - \",MID(Tabel4[[#This Row],[Lokation]],5,50))","v":"VAT - Valby Langgade - Trykforøger"},137,{"$f":"CONCATENATE(\"vand\",(LEFT(Tabel4[[#This Row],[Område med bindestreg]],2)))","v":"vandKH"}]
["KH København","VLH Vejlandshuset",{"$f":"CONCATENATE(LEFT(Tabel4[[#This Row],[Område_Opland]],2),\" - \",MID(Tabel4[[#This Row],[Område_Opland]],4,50))","v":"KH - København"},{"$f":"CONCATENATE(LEFT(Tabel4[[#This Row],[Lokation]],3),\" - \",MID(Tabel4[[#This Row],[Lokation]],5,50))","v":"VLH - Vejlandshuset"},138,{"$f":"CONCATENATE(\"vand\",(LEFT(Tabel4[[#This Row],[Område med bindestreg]],2)))","v":"vandKH"}]
["LE Lejre","ASM Assermølle - Dykpumpeanlæg",{"$f":"CONCATENATE(LEFT(Tabel4[[#This Row],[Område_Opland]],2),\" - \",MID(Tabel4[[#This Row],[Område_Opland]],4,50))","v":"LE - Lejre"},{"$f":"CONCATENATE(LEFT(Tabel4[[#This Row],[Lokation]],3),\" - \",MID(Tabel4[[#This Row],[Lokation]],5,50))","v":"ASM - Assermølle - Dykpumpeanlæg"},139,{"$f":"CONCATENATE(\"vand\",(LEFT(Tabel4[[#This Row],[Område med bindestreg]],2)))","v":"vandLE"}]
["LE Lejre","GAD Gadstrup - Ramsø Kildeplads",{"$f":"CONCATENATE(LEFT(Tabel4[[#This Row],[Område_Opland]],2),\" - \",MID(Tabel4[[#This Row],[Område_Opland]],4,50))","v":"LE - Lejre"},{"$f":"CONCATENATE(LEFT(Tabel4[[#This Row],[Lokation]],3),\" - \",MID(Tabel4[[#This Row],[Lokation]],5,50))","v":"GAD - Gadstrup - Ramsø Kildeplads"},140,{"$f":"CONCATENATE(\"vand\",(LEFT(Tabel4[[#This Row],[Område med bindestreg]],2)))","v":"vandLE"}]
["LE Lejre","GEV Gevninge - Boosterstation",{"$f":"CONCATENATE(LEFT(Tabel4[[#This Row],[Område_Opland]],2),\" - \",MID(Tabel4[[#This Row],[Område_Opland]],4,50))","v":"LE - Lejre"},{"$f":"CONCATENATE(LEFT(Tabel4[[#This Row],[Lokation]],3),\" - \",MID(Tabel4[[#This Row],[Lokation]],5,50))","v":"GEV - Gevninge - Boosterstation"},141,{"$f":"CONCATENATE(\"vand\",(LEFT(Tabel4[[#This Row],[Område med bindestreg]],2)))","v":"vandLE"}]
["LE Lejre","HUM Hule Mølle - Boosterstation",{"$f":"CONCATENATE(LEFT(Tabel4[[#This Row],[Område_Opland]],2),\" - \",MID(Tabel4[[#This Row],[Område_Opland]],4,50))","v":"LE - Lejre"},{"$f":"CONCATENATE(LEFT(Tabel4[[#This Row],[Lokation]],3),\" - \",MID(Tabel4[[#This Row],[Lokation]],5,50))","v":"HUM - Hule Mølle - Boosterstation"},143,{"$f":"CONCATENATE(\"vand\",(LEFT(Tabel4[[#This Row],[Område med bindestreg]],2)))","v":"vandLE"}]
["LE Lejre","HUM Hule Mølle - Hævert",{"$f":"CONCATENATE(LEFT(Tabel4[[#This Row],[Område_Opland]],2),\" - \",MID(Tabel4[[#This Row],[Område_Opland]],4,50))","v":"LE - Lejre"},{"$f":"CONCATENATE(LEFT(Tabel4[[#This Row],[Lokation]],3),\" - \",MID(Tabel4[[#This Row],[Lokation]],5,50))","v":"HUM - Hule Mølle - Hævert"},142,{"$f":"CONCATENATE(\"vand\",(LEFT(Tabel4[[#This Row],[Område med bindestreg]],2)))","v":"vandLE"}]
["LE Lejre","HUV Hule Mølle - Vakuumstation",{"$f":"CONCATENATE(LEFT(Tabel4[[#This Row],[Område_Opland]],2),\" - \",MID(Tabel4[[#This Row],[Område_Opland]],4,50))","v":"LE - Lejre"},{"$f":"CONCATENATE(LEFT(Tabel4[[#This Row],[Lokation]],3),\" - \",MID(Tabel4[[#This Row],[Lokation]],5,50))","v":"HUV - Hule Mølle - Vakuumstation"},144,{"$f":"CONCATENATE(\"vand\",(LEFT(Tabel4[[#This Row],[Område med bindestreg]],2)))","v":"vandLE"}]
["LE Lejre","KOR Kornerup - Boosterstation",{"$f":"CONCATENATE(LEFT(Tabel4[[#This Row],[Område_Opland]],2),\" - \",MID(Tabel4[[#This Row],[Område_Opland]],4,50))","v":"LE - Lejre"},{"$f":"CONCATENATE(LEFT(Tabel4[[#This Row],[Lokation]],3),\" - \",MID(Tabel4[[#This Row],[Lokation]],5,50))","v":"KOR - Kornerup - Boosterstation"},145,{"$f":"CONCATENATE(\"vand\",(LEFT(Tabel4[[#This Row],[Område med bindestreg]],2)))","v":"vandLE"}]
["LE Lejre","LAV Lavringe - Dykpumpeanlæg",{"$f":"CONCATENATE(LEFT(Tabel4[[#This Row],[Område_Opland]],2),\" - \",MID(Tabel4[[#This Row],[Område_Opland]],4,50))","v":"LE - Lejre"},{"$f":"CONCATENATE(LEFT(Tabel4[[#This Row],[Lokation]],3),\" - \",MID(Tabel4[[#This Row],[Lokation]],5,50))","v":"LAV - Lavringe - Dykpumpeanlæg"},146,{"$f":"CONCATENATE(\"vand\",(LEFT(Tabel4[[#This Row],[Område med bindestreg]],2)))","v":"vandLE"}]
["LE Lejre","LE1 Lejre - Brøndpumpe 1",{"$f":"CONCATENATE(LEFT(Tabel4[[#This Row],[Område_Opland]],2),\" - \",MID(Tabel4[[#This Row],[Område_Opland]],4,50))","v":"LE - Lejre"},{"$f":"CONCATENATE(LEFT(Tabel4[[#This Row],[Lokation]],3),\" - \",MID(Tabel4[[#This Row],[Lokation]],5,50))","v":"LE1 - Lejre - Brøndpumpe 1"},147,{"$f":"CONCATENATE(\"vand\",(LEFT(Tabel4[[#This Row],[Område med bindestreg]],2)))","v":"vandLE"}]
["LE Lejre","LED Ledreborg - Dykpumpeanlæg",{"$f":"CONCATENATE(LEFT(Tabel4[[#This Row],[Område_Opland]],2),\" - \",MID(Tabel4[[#This Row],[Område_Opland]],4,50))","v":"LE - Lejre"},{"$f":"CONCATENATE(LEFT(Tabel4[[#This Row],[Lokation]],3),\" - \",MID(Tabel4[[#This Row],[Lokation]],5,50))","v":"LED - Ledreborg - Dykpumpeanlæg"},148,{"$f":"CONCATENATE(\"vand\",(LEFT(Tabel4[[#This Row],[Område med bindestreg]],2)))","v":"vandLE"}]
["LE Lejre","MBO Lejre - M-Boringer",{"$f":"CONCATENATE(LEFT(Tabel4[[#This Row],[Område_Opland]],2),\" - \",MID(Tabel4[[#This Row],[Område_Opland]],4,50))","v":"LE - Lejre"},{"$f":"CONCATENATE(LEFT(Tabel4[[#This Row],[Lokation]],3),\" - \",MID(Tabel4[[#This Row],[Lokation]],5,50))","v":"MBO - Lejre - M-Boringer"},149,{"$f":"CONCATENATE(\"vand\",(LEFT(Tabel4[[#This Row],[Område med bindestreg]],2)))","v":"vandLE"}]
["LE Lejre","RAL Ramsø - Lavring Målerbygværk",{"$f":"CONCATENATE(LEFT(Tabel4[[#This Row],[Område_Opland]],2),\" - \",MID(Tabel4[[#This Row],[Område_Opland]],4,50))","v":"LE - Lejre"},{"$f":"CONCATENATE(LEFT(Tabel4[[#This Row],[Lokation]],3),\" - \",MID(Tabel4[[#This Row],[Lokation]],5,50))","v":"RAL - Ramsø - Lavring Målerbygværk"},150,{"$f":"CONCATENATE(\"vand\",(LEFT(Tabel4[[#This Row],[Område med bindestreg]],2)))","v":"vandLE"}]
["LE Lejre","RAM Ramsø - Boosterstation",{"$f":"CONCATENATE(LEFT(Tabel4[[#This Row],[Område_Opland]],2),\" - \",MID(Tabel4[[#This Row],[Område_Opland]],4,50))","v":"LE - Lejre"},{"$f":"CONCATENATE(LEFT(Tabel4[[#This Row],[Lokation]],3),\" - \",MID(Tabel4[[#This Row],[Lokation]],5,50))","v":"RAM - Ramsø - Boosterstation"},151,{"$f":"CONCATENATE(\"vand\",(LEFT(Tabel4[[#This Row],[Område med bindestreg]],2)))","v":"vandLE"}]
["LE Lejre","RAM Ramsø - Dykpumpeanlæg",{"$f":"CONCATENATE(LEFT(Tabel4[[#This Row],[Område_Opland]],2),\" - \",MID(Tabel4[[#This Row],[Område_Opland]],4,50))","v":"LE - Lejre"},{"$f":"CONCATENATE(LEFT(Tabel4[[#This Row],[Lokation]],3),\" - \",MID(Tabel4[[#This Row],[Lokation]],5,50))","v":"RAM - Ramsø - Dykpumpeanlæg"},152,{"$f":"CONCATENATE(\"vand\",(LEFT(Tabel4[[#This Row],[Område med bindestreg]],2)))","v":"vandLE"}]
["LE Lejre","RAO Ramsø Øst - Vakuumstation",{"$f":"CONCATENATE(LEFT(Tabel4[[#This Row],[Område_Opland]],2),\" - \",MID(Tabel4[[#This Row],[Område_Opland]],4,50))","v":"LE - Lejre"},{"$f":"CONCATENATE(LEFT(Tabel4[[#This Row],[Lokation]],3),\" - \",MID(Tabel4[[#This Row],[Lokation]],5,50))","v":"RAO - Ramsø Øst - Vakuumstation"},153,{"$f":"CONCATENATE(\"vand\",(LEFT(Tabel4[[#This Row],[Område med bindestreg]],2)))","v":"vandLE"}]
["LE Lejre","RAS Ramsø - Søgård",{"$f":"CONCATENATE(LEFT(Tabel4[[#This Row],[Område_Opland]],2),\" - \",MID(Tabel4[[#This Row],[Område_Opland]],4,50))","v":"LE - Lejre"},{"$f":"CONCATENATE(LEFT(Tabel4[[#This Row],[Lokation]],3),\" - \",MID(Tabel4[[#This Row],[Lokation]],5,50))","v":"RAS - Ramsø - Søgård"},154,{"$f":"CONCATENATE(\"vand\",(LEFT(Tabel4[[#This Row],[Område med bindestreg]],2)))","v":"vandLE"}]
["LE Lejre","RAV Ramsø Vest - Vakuumstation",{"$f":"CONCATENATE(LEFT(Tabel4[[#This Row],[Område_Opland]],2),\" - \",MID(Tabel4[[#This Row],[Område_Opland]],4,50))","v":"LE - Lejre"},{"$f":"CONCATENATE(LEFT(Tabel4[[#This Row],[Lokation]],3),\" - \",MID(Tabel4[[#This Row],[Lokation]],5,50))","v":"RAV - Ramsø Vest - Vakuumstation"},155,{"$f":"CONCATENATE(\"vand\",(LEFT(Tabel4[[#This Row],[Område med bindestreg]],2)))","v":"vandLE"}]
["LE Lejre","RVL Råvandsledninger - Lejre",{"$f":"CONCATENATE(LEFT(Tabel4[[#This Row],[Område_Opland]],2),\" - \",MID(Tabel4[[#This Row],[Område_Opland]],4,50))","v":"LE - Lejre"},{"$f":"CONCATENATE(LEFT(Tabel4[[#This Row],[Lokation]],3),\" - \",MID(Tabel4[[#This Row],[Lokation]],5,50))","v":"RVL - Råvandsledninger - Lejre"},156,{"$f":"CONCATENATE(\"vand\",(LEFT(Tabel4[[#This Row],[Område med bindestreg]],2)))","v":"vandLE"}]
["LE Lejre","SEL Sengeløsehuset - Ventilbygværk (Grønt Vedligehold)",{"$f":"CONCATENATE(LEFT(Tabel4[[#This Row],[Område_Opland]],2),\" - \",MID(Tabel4[[#This Row],[Område_Opland]],4,50))","v":"LE - Lejre"},{"$f":"CONCATENATE(LEFT(Tabel4[[#This Row],[Lokation]],3),\" - \",MID(Tabel4[[#This Row],[Lokation]],5,50))","v":"SEL - Sengeløsehuset - Ventilbygværk (Grønt Vedligehold)"},157,{"$f":"CONCATENATE(\"vand\",(LEFT(Tabel4[[#This Row],[Område med bindestreg]],2)))","v":"vandLE"}]
["LE Lejre","SIV Manuel måler til Roskilde / Haraldsborg VV",{"$f":"CONCATENATE(LEFT(Tabel4[[#This Row],[Område_Opland]],2),\" - \",MID(Tabel4[[#This Row],[Område_Opland]],4,50))","v":"LE - Lejre"},{"$f":"CONCATENATE(LEFT(Tabel4[[#This Row],[Lokation]],3),\" - \",MID(Tabel4[[#This Row],[Lokation]],5,50))","v":"SIV - Manuel måler til Roskilde / Haraldsborg VV"},158,{"$f":"CONCATENATE(\"vand\",(LEFT(Tabel4[[#This Row],[Område med bindestreg]],2)))","v":"vandLE"}]
["LE Lejre","SLV Sønderlundsvej - Ventilbygværk",{"$f":"CONCATENATE(LEFT(Tabel4[[#This Row],[Område_Opland]],2),\" - \",MID(Tabel4[[#This Row],[Område_Opland]],4,50))","v":"LE - Lejre"},{"$f":"CONCATENATE(LEFT(Tabel4[[#This Row],[Lokation]],3),\" - \",MID(Tabel4[[#This Row],[Lokation]],5,50))","v":"SLV - Sønderlundsvej - Ventilbygværk"},159,{"$f":"CONCATENATE(\"vand\",(LEFT(Tabel4[[#This Row],[Område med bindestreg]],2)))","v":"vandLE"}]
["LE Lejre","TPL Transportledninger - Lejre",{"$f":"CONCATENATE(LEFT(Tabel4[[#This Row],[Område_Opland]],2),\" - \",MID(Tabel4[[#This Row],[Område_Opland]],4,50))","v":"LE - Lejre"},{"$f":"CONCATENATE(LEFT(Tabel4[[#This Row],[Lokation]],3),\" - \",MID(Tabel4[[#This Row],[Lokation]],5,50))","v":"TPL - Transportledninger - Lejre"},160,{"$f":"CONCATENATE(\"vand\",(LEFT(Tabel4[[#This Row],[Område med bindestreg]],2)))","v":"vandLE"}]
["LE Lejre","UBO Lejre U-Boringer",{"$f":"CONCATENATE(LEFT(Tabel4[[#This Row],[Område_Opland]],2),\" - \",MID(Tabel4[[#This Row],[Område_Opland]],4,50))","v":"LE - Lejre"},{"$f":"CONCATENATE(LEFT(Tabel4[[#This Row],[Lokation]],3),\" - \",MID(Tabel4[[#This Row],[Lokation]],5,50))","v":"UBO - Lejre U-Boringer"},161,{"$f":"CONCATENATE(\"vand\",(LEFT(Tabel4[[#This Row],[Område med bindestreg]],2)))","v":"vandLE"}]
["LE Lejre","WBS Lejre - Brøndpumpestation",{"$f":"CONCATENATE(LEFT(Tabel4[[#This Row],[Område_Opland]],2),\" - \",MID(Tabel4[[#This Row],[Område_Opland]],4,50))","v":"LE - Lejre"},{"$f":"CONCATENATE(LEFT(Tabel4[[#This Row],[Lokation]],3),\" - \",MID(Tabel4[[#This Row],[Lokation]],5,50))","v":"WBS - Lejre - Brøndpumpestation"},162,{"$f":"CONCATENATE(\"vand\",(LEFT(Tabel4[[#This Row],[Område med bindestreg]],2)))","v":"vandLE"}]
["LE Lejre","WFA Lejre - Filteranlæg",{"$f":"CONCATENATE(LEFT(Tabel4[[#This Row],[Område_Opland]],2),\" - \",MID(Tabel4[[#This Row],[Område_Opland]],4,50))","v":"LE - Lejre"},{"$f":"CONCATENATE(LEFT(Tabel4[[#This Row],[Lokation]],3),\" - \",MID(Tabel4[[#This Row],[Lokation]],5,50))","v":"WFA - Lejre - Filteranlæg"},163,{"$f":"CONCATENATE(\"vand\",(LEFT(Tabel4[[#This Row],[Område med bindestreg]],2)))","v":"vandLE"}]
["LE Lejre","WFF Vlewff - Skal Ikke Benyttes Mere",{"$f":"CONCATENATE(LEFT(Tabel4[[#This Row],[Område_Opland]],2),\" - \",MID(Tabel4[[#This Row],[Område_Opland]],4,50))","v":"LE - Lejre"},{"$f":"CONCATENATE(LEFT(Tabel4[[#This Row],[Lokation]],3),\" - \",MID(Tabel4[[#This Row],[Lokation]],5,50))","v":"WFF - Vlewff - Skal Ikke Benyttes Mere"},164,{"$f":"CONCATENATE(\"vand\",(LEFT(Tabel4[[#This Row],[Område med bindestreg]],2)))","v":"vandLE"}]
["LE Lejre","WIT Lejre - Iltning",{"$f":"CONCATENATE(LEFT(Tabel4[[#This Row],[Område_Opland]],2),\" - \",MID(Tabel4[[#This Row],[Område_Opland]],4,50))","v":"LE - Lejre"},{"$f":"CONCATENATE(LEFT(Tabel4[[#This Row],[Lokation]],3),\" - \",MID(Tabel4[[#This Row],[Lokation]],5,50))","v":"WIT - Lejre - Iltning"},165,{"$f":"CONCATENATE(\"vand\",(LEFT(Tabel4[[#This Row],[Område med bindestreg]],2)))","v":"vandLE"}]
["LE Lejre","WRB Lejre - Rentvandsbeholder",{"$f":"CONCATENATE(LEFT(Tabel4[[#This Row],[Område_Opland]],2),\" - \",MID(Tabel4[[#This Row],[Område_Opland]],4,50))","v":"LE - Lejre"},{"$f":"CONCATENATE(LEFT(Tabel4[[#This Row],[Lokation]],3),\" - \",MID(Tabel4[[#This Row],[Lokation]],5,50))","v":"WRB - Lejre - Rentvandsbeholder"},166,{"$f":"CONCATENATE(\"vand\",(LEFT(Tabel4[[#This Row],[Område med bindestreg]],2)))","v":"vandLE"}]
["LE Lejre","WSK Lejre - Skyllevand",{"$f":"CONCATENATE(LEFT(Tabel4[[#This Row],[Område_Opland]],2),\" - \",MID(Tabel4[[#This Row],[Område_Opland]],4,50))","v":"LE - Lejre"},{"$f":"CONCATENATE(LEFT(Tabel4[[#This Row],[Lokation]],3),\" - \",MID(Tabel4[[#This Row],[Lokation]],5,50))","v":"WSK - Lejre - Skyllevand"},167,{"$f":"CONCATENATE(\"vand\",(LEFT(Tabel4[[#This Row],[Område med bindestreg]],2)))","v":"vandLE"}]
["LE Lejre","WTP Lejre - Trykpumpestation",{"$f":"CONCATENATE(LEFT(Tabel4[[#This Row],[Område_Opland]],2),\" - \",MID(Tabel4[[#This Row],[Område_Opland]],4,50))","v":"LE - Lejre"},{"$f":"CONCATENATE(LEFT(Tabel4[[#This Row],[Lokation]],3),\" - \",MID(Tabel4[[#This Row],[Lokation]],5,50))","v":"WTP - Lejre - Trykpumpestation"},168,{"$f":"CONCATENATE(\"vand\",(LEFT(Tabel4[[#This Row],[Område med bindestreg]],2)))","v":"vandLE"}]
["LE Lejre","WXX Lejre Vandværk - Diverse/Fælles",{"$f":"CONCATENATE(LEFT(Tabel4[[#This Row],[Område_Opland]],2),\" - \",MID(Tabel4[[#This Row],[Område_Opland]],4,50))","v":"LE - Lejre"},{"$f":"CONCATENATE(LEFT(Tabel4[[#This Row],[Lokation]],3),\" - \",MID(Tabel4[[#This Row],[Lokation]],5,50))","v":"WXX - Lejre Vandværk - Diverse/Fælles"},169,{"$f":"CONCATENATE(\"vand\",(LEFT(Tabel4[[#This Row],[Område med bindestreg]],2)))","v":"vandLE"}]
["MA Marbjerg","AGV Høje Taastrup / Snubbekorsvej / Agrovej 1",{"$f":"CONCATENATE(LEFT(Tabel4[[#This Row],[Område_Opland]],2),\" - \",MID(Tabel4[[#This Row],[Område_Opland]],4,50))","v":"MA - Marbjerg"},{"$f":"CONCATENATE(LEFT(Tabel4[[#This Row],[Lokation]],3),\" - \",MID(Tabel4[[#This Row],[Lokation]],5,50))","v":"AGV - Høje Taastrup / Snubbekorsvej / Agrovej 1"},170,{"$f":"CONCATENATE(\"vand\",(LEFT(Tabel4[[#This Row],[Område med bindestreg]],2)))","v":"vandMA"}]
["MA Marbjerg","BRK Brokilde - Pumpestation",{"$f":"CONCATENATE(LEFT(Tabel4[[#This Row],[Område_Opland]],2),\" - \",MID(Tabel4[[#This Row],[Område_Opland]],4,50))","v":"MA - Marbjerg"},{"$f":"CONCATENATE(LEFT(Tabel4[[#This Row],[Lokation]],3),\" - \",MID(Tabel4[[#This Row],[Lokation]],5,50))","v":"BRK - Brokilde - Pumpestation"},171,{"$f":"CONCATENATE(\"vand\",(LEFT(Tabel4[[#This Row],[Område med bindestreg]],2)))","v":"vandMA"}]
["MA Marbjerg","EJB Ejby Ventilbygværk - Transportledningsmåler",{"$f":"CONCATENATE(LEFT(Tabel4[[#This Row],[Område_Opland]],2),\" - \",MID(Tabel4[[#This Row],[Område_Opland]],4,50))","v":"MA - Marbjerg"},{"$f":"CONCATENATE(LEFT(Tabel4[[#This Row],[Lokation]],3),\" - \",MID(Tabel4[[#This Row],[Lokation]],5,50))","v":"EJB - Ejby Ventilbygværk - Transportledningsmåler"},172,{"$f":"CONCATENATE(\"vand\",(LEFT(Tabel4[[#This Row],[Område med bindestreg]],2)))","v":"vandMA"}]
["MA Marbjerg","HBG Havesbjergård - Ventilbygværk",{"$f":"CONCATENATE(LEFT(Tabel4[[#This Row],[Område_Opland]],2),\" - \",MID(Tabel4[[#This Row],[Område_Opland]],4,50))","v":"MA - Marbjerg"},{"$f":"CONCATENATE(LEFT(Tabel4[[#This Row],[Lokation]],3),\" - \",MID(Tabel4[[#This Row],[Lokation]],5,50))","v":"HBG - Havesbjergård - Ventilbygværk"},173,{"$f":"CONCATENATE(\"vand\",(LEFT(Tabel4[[#This Row],[Område med bindestreg]],2)))","v":"vandMA"}]
["MA Marbjerg","HIS Hvissingeaftaget",{"$f":"CONCATENATE(LEFT(Tabel4[[#This Row],[Område_Opland]],2),\" - \",MID(Tabel4[[#This Row],[Område_Opland]],4,50))","v":"MA - Marbjerg"},{"$f":"CONCATENATE(LEFT(Tabel4[[#This Row],[Lokation]],3),\" - \",MID(Tabel4[[#This Row],[Lokation]],5,50))","v":"HIS - Hvissingeaftaget"},174,{"$f":"CONCATENATE(\"vand\",(LEFT(Tabel4[[#This Row],[Område med bindestreg]],2)))","v":"vandMA"}]
["MA Marbjerg","KAL Forsyning til Høje Taastrup / Kallerupvej",{"$f":"CONCATENATE(LEFT(Tabel4[[#This Row],[Område_Opland]],2),\" - \",MID(Tabel4[[#This Row],[Område_Opland]],4,50))","v":"MA - Marbjerg"},{"$f":"CONCATENATE(LEFT(Tabel4[[#This Row],[Lokation]],3),\" - \",MID(Tabel4[[#This Row],[Lokation]],5,50))","v":"KAL - Forsyning til Høje Taastrup / Kallerupvej"},175,{"$f":"CONCATENATE(\"vand\",(LEFT(Tabel4[[#This Row],[Område med bindestreg]],2)))","v":"vandMA"}]
["MA Marbjerg","LIL Lillesø",{"$f":"CONCATENATE(LEFT(Tabel4[[#This Row],[Område_Opland]],2),\" - \",MID(Tabel4[[#This Row],[Område_Opland]],4,50))","v":"MA - Marbjerg"},{"$f":"CONCATENATE(LEFT(Tabel4[[#This Row],[Lokation]],3),\" - \",MID(Tabel4[[#This Row],[Lokation]],5,50))","v":"LIL - Lillesø"},176,{"$f":"CONCATENATE(\"vand\",(LEFT(Tabel4[[#This Row],[Område med bindestreg]],2)))","v":"vandMA"}]
["MA Marbjerg","MAR Marbjerg - Dykpumpeanlæg",{"$f":"CONCATENATE(LEFT(Tabel4[[#This Row],[Område_Opland]],2),\" - \",MID(Tabel4[[#This Row],[Område_Opland]],4,50))","v":"MA - Marbjerg"},{"$f":"CONCATENATE(LEFT(Tabel4[[#This Row],[Lokation]],3),\" - \",MID(Tabel4[[#This Row],[Lokation]],5,50))","v":"MAR - Marbjerg - Dykpumpeanlæg"},177,{"$f":"CONCATENATE(\"vand\",(LEFT(Tabel4[[#This Row],[Område med bindestreg]],2)))","v":"vandMA"}]
["MA Marbjerg","MBO Marbjerg - M-Boringer",{"$f":"CONCATENATE(LEFT(Tabel4[[#This Row],[Område_Opland]],2),\" - \",MID(Tabel4[[#This Row],[Område_Opland]],4,50))","v":"MA - Marbjerg"},{"$f":"CONCATENATE(LEFT(Tabel4[[#This Row],[Lokation]],3),\" - \",MID(Tabel4[[#This Row],[Lokation]],5,50))","v":"MBO - Marbjerg - M-Boringer"},178,{"$f":"CONCATENATE(\"vand\",(LEFT(Tabel4[[#This Row],[Område med bindestreg]],2)))","v":"vandMA"}]
["MA Marbjerg","RVL Råvandsledninger - Marbjerg",{"$f":"CONCATENATE(LEFT(Tabel4[[#This Row],[Område_Opland]],2),\" - \",MID(Tabel4[[#This Row],[Område_Opland]],4,50))","v":"MA - Marbjerg"},{"$f":"CONCATENATE(LEFT(Tabel4[[#This Row],[Lokation]],3),\" - \",MID(Tabel4[[#This Row],[Lokation]],5,50))","v":"RVL - Råvandsledninger - Marbjerg"},179,{"$f":"CONCATENATE(\"vand\",(LEFT(Tabel4[[#This Row],[Område med bindestreg]],2)))","v":"vandMA"}]
["MA Marbjerg","TPL Transportledninger - Marbjerg",{"$f":"CONCATENATE(LEFT(Tabel4[[#This Row],[Område_Opland]],2),\" - \",MID(Tabel4[[#This Row],[Område_Opland]],4,50))","v":"MA - Marbjerg"},{"$f":"CONCATENATE(LEFT(Tabel4[[#This Row],[Lokation]],3),\" - \",MID(Tabel4[[#This Row],[Lokation]],5,50))","v":"TPL - Transportledninger - Marbjerg"},180,{"$f":"CONCATENATE(\"vand\",(LEFT(Tabel4[[#This Row],[Område med bindestreg]],2)))","v":"vandMA"}]
["MA Marbjerg","UBO Marbjerg - U-Boringer",{"$f":"CONCATENATE(LEFT(Tabel4[[#This Row],[Område_Opland]],2),\" - \",MID(Tabel4[[#This Row],[Område_Opland]],4,50))","v":"MA - Marbjerg"},{"$f":"CONCATENATE(LEFT(Tabel4[[#This Row],[Lokation]],3),\" - \",MID(Tabel4[[#This Row],[Lokation]],5,50))","v":"UBO - Marbjerg - U-Boringer"},181,{"$f":"CONCATENATE(\"vand\",(LEFT(Tabel4[[#This Row],[Område med bindestreg]],2)))","v":"vandMA"}]
["MA Marbjerg","WFA Marbjerg - Filteranlæg",{"$f":"CONCATENATE(LEFT(Tabel4[[#This Row],[Område_Opland]],2),\" - \",MID(Tabel4[[#This Row],[Område_Opland]],4,50))","v":"MA - Marbjerg"},{"$f":"CONCATENATE(LEFT(Tabel4[[#This Row],[Lokation]],3),\" - \",MID(Tabel4[[#This Row],[Lokation]],5,50))","v":"WFA - Marbjerg - Filteranlæg"},182,{"$f":"CONCATENATE(\"vand\",(LEFT(Tabel4[[#This Row],[Område med bindestreg]],2)))","v":"vandMA"}]
["MA Marbjerg","WFF Forfilter",{"$f":"CONCATENATE(LEFT(Tabel4[[#This Row],[Område_Opland]],2),\" - \",MID(Tabel4[[#This Row],[Område_Opland]],4,50))","v":"MA - Marbjerg"},{"$f":"CONCATENATE(LEFT(Tabel4[[#This Row],[Lokation]],3),\" - \",MID(Tabel4[[#This Row],[Lokation]],5,50))","v":"WFF - Forfilter"},183,{"$f":"CONCATENATE(\"vand\",(LEFT(Tabel4[[#This Row],[Område med bindestreg]],2)))","v":"vandMA"}]
["MA Marbjerg","WGA Marbjerg - Genbrugsanlæg",{"$f":"CONCATENATE(LEFT(Tabel4[[#This Row],[Område_Opland]],2),\" - \",MID(Tabel4[[#This Row],[Område_Opland]],4,50))","v":"MA - Marbjerg"},{"$f":"CONCATENATE(LEFT(Tabel4[[#This Row],[Lokation]],3),\" - \",MID(Tabel4[[#This Row],[Lokation]],5,50))","v":"WGA - Marbjerg - Genbrugsanlæg"},184,{"$f":"CONCATENATE(\"vand\",(LEFT(Tabel4[[#This Row],[Område med bindestreg]],2)))","v":"vandMA"}]
["MA Marbjerg","WIT Marbjerg - Iltningsanlæg",{"$f":"CONCATENATE(LEFT(Tabel4[[#This Row],[Område_Opland]],2),\" - \",MID(Tabel4[[#This Row],[Område_Opland]],4,50))","v":"MA - Marbjerg"},{"$f":"CONCATENATE(LEFT(Tabel4[[#This Row],[Lokation]],3),\" - \",MID(Tabel4[[#This Row],[Lokation]],5,50))","v":"WIT - Marbjerg - Iltningsanlæg"},185,{"$f":"CONCATENATE(\"vand\",(LEFT(Tabel4[[#This Row],[Område med bindestreg]],2)))","v":"vandMA"}]
["MA Marbjerg","WRB Marbjerg - Rentvandsbeholdere",{"$f":"CONCATENATE(LEFT(Tabel4[[#This Row],[Område_Opland]],2),\" - \",MID(Tabel4[[#This Row],[Område_Opland]],4,50))","v":"MA - Marbjerg"},{"$f":"CONCATENATE(LEFT(Tabel4[[#This Row],[Lokation]],3),\" - \",MID(Tabel4[[#This Row],[Lokation]],5,50))","v":"WRB - Marbjerg - Rentvandsbeholdere"},186,{"$f":"CONCATENATE(\"vand\",(LEFT(Tabel4[[#This Row],[Område med bindestreg]],2)))","v":"vandMA"}]
["MA Marbjerg","WSK Marbjerg - Skyllevand",{"$f":"CONCATENATE(LEFT(Tabel4[[#This Row],[Område_Opland]],2),\" - \",MID(Tabel4[[#This Row],[Område_Opland]],4,50))","v":"MA - Marbjerg"},{"$f":"CONCATENATE(LEFT(Tabel4[[#This Row],[Lokation]],3),\" - \",MID(Tabel4[[#This Row],[Lokation]],5,50))","v":"WSK - Marbjerg - Skyllevand"},187,{"$f":"CONCATENATE(\"vand\",(LEFT(Tabel4[[#This Row],[Område med bindestreg]],2)))","v":"vandMA"}]
["MA Marbjerg","WTP Marbjerg - Trykpumpestation",{"$f":"CONCATENATE(LEFT(Tabel4[[#This Row],[Område_Opland]],2),\" - \",MID(Tabel4[[#This Row],[Område_Opland]],4,50))","v":"MA - Marbjerg"},{"$f":"CONCATENATE(LEFT(Tabel4[[#This Row],[Lokation]],3),\" - \",MID(Tabel4[[#This Row],[Lokation]],5,50))","v":"WTP - Marbjerg - Trykpumpestation"},188,{"$f":"CONCATENATE(\"vand\",(LEFT(Tabel4[[#This Row],[Område med bindestreg]],2)))","v":"vandMA"}]
["MA Marbjerg","WXX Marbjerg - Vandværk Generelt",{"$f":"CONCATENATE(LEFT(Tabel4[[#This Row],[Område_Opland]],2),\" - \",MID(Tabel4[[#This Row],[Område_Opland]],4,50))","v":"MA - Marbjerg"},{"$f":"CONCATENATE(LEFT(Tabel4[[#This Row],[Lokation]],3),\" - \",MID(Tabel4[[#This Row],[Lokation]],5,50))","v":"WXX - Marbjerg - Vandværk Generelt"},189,{"$f":"CONCATENATE(\"vand\",(LEFT(Tabel4[[#This Row],[Område med bindestreg]],2)))","v":"vandMA"}]
["RE Regnemark","ALM Almsgård - Pumpestation",{"$f":"CONCATENATE(LEFT(Tabel4[[#This Row],[Område_Opland]],2),\" - \",MID(Tabel4[[#This Row],[Område_Opland]],4,50))","v":"RE - Regnemark"},{"$f":"CONCATENATE(LEFT(Tabel4[[#This Row],[Lokation]],3),\" - \",MID(Tabel4[[#This Row],[Lokation]],5,50))","v":"ALM - Almsgård - Pumpestation"},169,{"$f":"CONCATENATE(\"vand\",(LEFT(Tabel4[[#This Row],[Område med bindestreg]],2)))","v":"vandRE"}]
["RE Regnemark","BOS Bøstofte - Boosterstation",{"$f":"CONCATENATE(LEFT(Tabel4[[#This Row],[Område_Opland]],2),\" - \",MID(Tabel4[[#This Row],[Område_Opland]],4,50))","v":"RE - Regnemark"},{"$f":"CONCATENATE(LEFT(Tabel4[[#This Row],[Lokation]],3),\" - \",MID(Tabel4[[#This Row],[Lokation]],5,50))","v":"BOS - Bøstofte - Boosterstation"},170,{"$f":"CONCATENATE(\"vand\",(LEFT(Tabel4[[#This Row],[Område med bindestreg]],2)))","v":"vandRE"}]
["RE Regnemark","BOV Bøstofte - Vakuumstation",{"$f":"CONCATENATE(LEFT(Tabel4[[#This Row],[Område_Opland]],2),\" - \",MID(Tabel4[[#This Row],[Område_Opland]],4,50))","v":"RE - Regnemark"},{"$f":"CONCATENATE(LEFT(Tabel4[[#This Row],[Lokation]],3),\" - \",MID(Tabel4[[#This Row],[Lokation]],5,50))","v":"BOV - Bøstofte - Vakuumstation"},171,{"$f":"CONCATENATE(\"vand\",(LEFT(Tabel4[[#This Row],[Område med bindestreg]],2)))","v":"vandRE"}]
["RE Regnemark","BSD Bøstofte - Dykpumpeanlæg",{"$f":"CONCATENATE(LEFT(Tabel4[[#This Row],[Område_Opland]],2),\" - \",MID(Tabel4[[#This Row],[Område_Opland]],4,50))","v":"RE - Regnemark"},{"$f":"CONCATENATE(LEFT(Tabel4[[#This Row],[Lokation]],3),\" - \",MID(Tabel4[[#This Row],[Lokation]],5,50))","v":"BSD - Bøstofte - Dykpumpeanlæg"},172,{"$f":"CONCATENATE(\"vand\",(LEFT(Tabel4[[#This Row],[Område med bindestreg]],2)))","v":"vandRE"}]
["RE Regnemark","DRV Lidemark - Pumpebrønd (Sølvbækken - Druestrupvej 4)",{"$f":"CONCATENATE(LEFT(Tabel4[[#This Row],[Område_Opland]],2),\" - \",MID(Tabel4[[#This Row],[Område_Opland]],4,50))","v":"RE - Regnemark"},{"$f":"CONCATENATE(LEFT(Tabel4[[#This Row],[Lokation]],3),\" - \",MID(Tabel4[[#This Row],[Lokation]],5,50))","v":"DRV - Lidemark - Pumpebrønd (Sølvbækken - Druestrupvej 4"},173,{"$f":"CONCATENATE(\"vand\",(LEFT(Tabel4[[#This Row],[Område med bindestreg]],2)))","v":"vandRE"}]
["RE Regnemark","EBK Ejby Kildeplads",{"$f":"CONCATENATE(LEFT(Tabel4[[#This Row],[Område_Opland]],2),\" - \",MID(Tabel4[[#This Row],[Område_Opland]],4,50))","v":"RE - Regnemark"},{"$f":"CONCATENATE(LEFT(Tabel4[[#This Row],[Lokation]],3),\" - \",MID(Tabel4[[#This Row],[Lokation]],5,50))","v":"EBK - Ejby Kildeplads"},174,{"$f":"CONCATENATE(\"vand\",(LEFT(Tabel4[[#This Row],[Område med bindestreg]],2)))","v":"vandRE"}]
["RE Regnemark","GUM Gummersmarke - Pumpestation",{"$f":"CONCATENATE(LEFT(Tabel4[[#This Row],[Område_Opland]],2),\" - \",MID(Tabel4[[#This Row],[Område_Opland]],4,50))","v":"RE - Regnemark"},{"$f":"CONCATENATE(LEFT(Tabel4[[#This Row],[Lokation]],3),\" - \",MID(Tabel4[[#This Row],[Lokation]],5,50))","v":"GUM - Gummersmarke - Pumpestation"},null,{"$f":"CONCATENATE(\"vand\",(LEFT(Tabel4[[#This Row],[Område med bindestreg]],2)))","v":"vandRE"}]
["RE Regnemark","HAR Haraldsted Sø - Pumpestation",{"$f":"CONCATENATE(LEFT(Tabel4[[#This Row],[Område_Opland]],2),\" - \",MID(Tabel4[[#This Row],[Område_Opland]],4,50))","v":"RE - Regnemark"},{"$f":"CONCATENATE(LEFT(Tabel4[[#This Row],[Lokation]],3),\" - \",MID(Tabel4[[#This Row],[Lokation]],5,50))","v":"HAR - Haraldsted Sø - Pumpestation"},null,{"$f":"CONCATENATE(\"vand\",(LEFT(Tabel4[[#This Row],[Område med bindestreg]],2)))","v":"vandRE"}]
["RE Regnemark","HDV CP Kelko og videre til Lille Skensved",{"$f":"CONCATENATE(LEFT(Tabel4[[#This Row],[Område_Opland]],2),\" - \",MID(Tabel4[[#This Row],[Område_Opland]],4,50))","v":"RE - Regnemark"},{"$f":"CONCATENATE(LEFT(Tabel4[[#This Row],[Lokation]],3),\" - \",MID(Tabel4[[#This Row],[Lokation]],5,50))","v":"HDV - CP Kelko og videre til Lille Skensved"},null,{"$f":"CONCATENATE(\"vand\",(LEFT(Tabel4[[#This Row],[Område med bindestreg]],2)))","v":"vandRE"}]
["RE Regnemark","IDG Industrigrenen 1",{"$f":"CONCATENATE(LEFT(Tabel4[[#This Row],[Område_Opland]],2),\" - \",MID(Tabel4[[#This Row],[Område_Opland]],4,50))","v":"RE - Regnemark"},{"$f":"CONCATENATE(LEFT(Tabel4[[#This Row],[Lokation]],3),\" - \",MID(Tabel4[[#This Row],[Lokation]],5,50))","v":"IDG - Industrigrenen 1"},null,{"$f":"CONCATENATE(\"vand\",(LEFT(Tabel4[[#This Row],[Område med bindestreg]],2)))","v":"vandRE"}]
["RE Regnemark","IND Industrigangen - Kontraklapbygværk",{"$f":"CONCATENATE(LEFT(Tabel4[[#This Row],[Område_Opland]],2),\" - \",MID(Tabel4[[#This Row],[Område_Opland]],4,50))","v":"RE - Regnemark"},{"$f":"CONCATENATE(LEFT(Tabel4[[#This Row],[Lokation]],3),\" - \",MID(Tabel4[[#This Row],[Lokation]],5,50))","v":"IND - Industrigangen - Kontraklapbygværk"},null,{"$f":"CONCATENATE(\"vand\",(LEFT(Tabel4[[#This Row],[Område med bindestreg]],2)))","v":"vandRE"}]
["RE Regnemark","KBV Kildebrøndevej 42",{"$f":"CONCATENATE(LEFT(Tabel4[[#This Row],[Område_Opland]],2),\" - \",MID(Tabel4[[#This Row],[Område_Opland]],4,50))","v":"RE - Regnemark"},{"$f":"CONCATENATE(LEFT(Tabel4[[#This Row],[Lokation]],3),\" - \",MID(Tabel4[[#This Row],[Lokation]],5,50))","v":"KBV - Kildebrøndevej 42"},null,{"$f":"CONCATENATE(\"vand\",(LEFT(Tabel4[[#This Row],[Område med bindestreg]],2)))","v":"vandRE"}]
["RE Regnemark","KGA Kettegård Alle - Målestation",{"$f":"CONCATENATE(LEFT(Tabel4[[#This Row],[Område_Opland]],2),\" - \",MID(Tabel4[[#This Row],[Område_Opland]],4,50))","v":"RE - Regnemark"},{"$f":"CONCATENATE(LEFT(Tabel4[[#This Row],[Lokation]],3),\" - \",MID(Tabel4[[#This Row],[Lokation]],5,50))","v":"KGA - Kettegård Alle - Målestation"},null,{"$f":"CONCATENATE(\"vand\",(LEFT(Tabel4[[#This Row],[Område med bindestreg]],2)))","v":"vandRE"}]
["RE Regnemark","KIM Kimmerslev - Vakuumstation",{"$f":"CONCATENATE(LEFT(Tabel4[[#This Row],[Område_Opland]],2),\" - \",MID(Tabel4[[#This Row],[Område_Opland]],4,50))","v":"RE - Regnemark"},{"$f":"CONCATENATE(LEFT(Tabel4[[#This Row],[Lokation]],3),\" - \",MID(Tabel4[[#This Row],[Lokation]],5,50))","v":"KIM - Kimmerslev - Vakuumstation"},null,{"$f":"CONCATENATE(\"vand\",(LEFT(Tabel4[[#This Row],[Område med bindestreg]],2)))","v":"vandRE"}]
["RE Regnemark","KLB Nødindgang",{"$f":"CONCATENATE(LEFT(Tabel4[[#This Row],[Område_Opland]],2),\" - \",MID(Tabel4[[#This Row],[Område_Opland]],4,50))","v":"RE - Regnemark"},{"$f":"CONCATENATE(LEFT(Tabel4[[#This Row],[Lokation]],3),\" - \",MID(Tabel4[[#This Row],[Lokation]],5,50))","v":"KLB - Nødindgang"},null,{"$f":"CONCATENATE(\"vand\",(LEFT(Tabel4[[#This Row],[Område med bindestreg]],2)))","v":"vandRE"}]
["RE Regnemark","KSM Svenstrup Kimmerslev - Målerbygværk",{"$f":"CONCATENATE(LEFT(Tabel4[[#This Row],[Område_Opland]],2),\" - \",MID(Tabel4[[#This Row],[Område_Opland]],4,50))","v":"RE - Regnemark"},{"$f":"CONCATENATE(LEFT(Tabel4[[#This Row],[Lokation]],3),\" - \",MID(Tabel4[[#This Row],[Lokation]],5,50))","v":"KSM - Svenstrup Kimmerslev - Målerbygværk"},175,{"$f":"CONCATENATE(\"vand\",(LEFT(Tabel4[[#This Row],[Område med bindestreg]],2)))","v":"vandRE"}]
["RE Regnemark","KUL Kulerup - Pumpestation",{"$f":"CONCATENATE(LEFT(Tabel4[[#This Row],[Område_Opland]],2),\" - \",MID(Tabel4[[#This Row],[Område_Opland]],4,50))","v":"RE - Regnemark"},{"$f":"CONCATENATE(LEFT(Tabel4[[#This Row],[Lokation]],3),\" - \",MID(Tabel4[[#This Row],[Lokation]],5,50))","v":"KUL - Kulerup - Pumpestation"},176,{"$f":"CONCATENATE(\"vand\",(LEFT(Tabel4[[#This Row],[Område med bindestreg]],2)))","v":"vandRE"}]
["RE Regnemark","MBO Regnemark M-Boringer",{"$f":"CONCATENATE(LEFT(Tabel4[[#This Row],[Område_Opland]],2),\" - \",MID(Tabel4[[#This Row],[Område_Opland]],4,50))","v":"RE - Regnemark"},{"$f":"CONCATENATE(LEFT(Tabel4[[#This Row],[Lokation]],3),\" - \",MID(Tabel4[[#This Row],[Lokation]],5,50))","v":"MBO - Regnemark M-Boringer"},177,{"$f":"CONCATENATE(\"vand\",(LEFT(Tabel4[[#This Row],[Område med bindestreg]],2)))","v":"vandRE"}]
["RE Regnemark","NEB Nebsmøllevej - Dykpumpeanlæg Sommervandføring",{"$f":"CONCATENATE(LEFT(Tabel4[[#This Row],[Område_Opland]],2),\" - \",MID(Tabel4[[#This Row],[Område_Opland]],4,50))","v":"RE - Regnemark"},{"$f":"CONCATENATE(LEFT(Tabel4[[#This Row],[Lokation]],3),\" - \",MID(Tabel4[[#This Row],[Lokation]],5,50))","v":"NEB - Nebsmøllevej - Dykpumpeanlæg Sommervandføring"},178,{"$f":"CONCATENATE(\"vand\",(LEFT(Tabel4[[#This Row],[Område med bindestreg]],2)))","v":"vandRE"}]
["RE Regnemark","NRD Nr. Dalby - Dykpumpeanlæg",{"$f":"CONCATENATE(LEFT(Tabel4[[#This Row],[Område_Opland]],2),\" - \",MID(Tabel4[[#This Row],[Område_Opland]],4,50))","v":"RE - Regnemark"},{"$f":"CONCATENATE(LEFT(Tabel4[[#This Row],[Lokation]],3),\" - \",MID(Tabel4[[#This Row],[Lokation]],5,50))","v":"NRD - Nr. Dalby - Dykpumpeanlæg"},179,{"$f":"CONCATENATE(\"vand\",(LEFT(Tabel4[[#This Row],[Område med bindestreg]],2)))","v":"vandRE"}]
["RE Regnemark","NYL Nylandsvej - Kontraklapbygværk",{"$f":"CONCATENATE(LEFT(Tabel4[[#This Row],[Område_Opland]],2),\" - \",MID(Tabel4[[#This Row],[Område_Opland]],4,50))","v":"RE - Regnemark"},{"$f":"CONCATENATE(LEFT(Tabel4[[#This Row],[Lokation]],3),\" - \",MID(Tabel4[[#This Row],[Lokation]],5,50))","v":"NYL - Nylandsvej - Kontraklapbygværk"},180,{"$f":"CONCATENATE(\"vand\",(LEFT(Tabel4[[#This Row],[Område med bindestreg]],2)))","v":"vandRE"}]
["RE Regnemark","RAH Ravneshave - Pumpestation",{"$f":"CONCATENATE(LEFT(Tabel4[[#This Row],[Område_Opland]],2),\" - \",MID(Tabel4[[#This Row],[Område_Opland]],4,50))","v":"RE - Regnemark"},{"$f":"CONCATENATE(LEFT(Tabel4[[#This Row],[Lokation]],3),\" - \",MID(Tabel4[[#This Row],[Lokation]],5,50))","v":"RAH - Ravneshave - Pumpestation"},181,{"$f":"CONCATENATE(\"vand\",(LEFT(Tabel4[[#This Row],[Område med bindestreg]],2)))","v":"vandRE"}]
["RE Regnemark","RVL Råvandsledninger - Regnemark",{"$f":"CONCATENATE(LEFT(Tabel4[[#This Row],[Område_Opland]],2),\" - \",MID(Tabel4[[#This Row],[Område_Opland]],4,50))","v":"RE - Regnemark"},{"$f":"CONCATENATE(LEFT(Tabel4[[#This Row],[Lokation]],3),\" - \",MID(Tabel4[[#This Row],[Lokation]],5,50))","v":"RVL - Råvandsledninger - Regnemark"},182,{"$f":"CONCATENATE(\"vand\",(LEFT(Tabel4[[#This Row],[Område med bindestreg]],2)))","v":"vandRE"}]
["RE Regnemark","SKL Spanager Kildeplads (Grønt Vedligehold)",{"$f":"CONCATENATE(LEFT(Tabel4[[#This Row],[Område_Opland]],2),\" - \",MID(Tabel4[[#This Row],[Område_Opland]],4,50))","v":"RE - Regnemark"},{"$f":"CONCATENATE(LEFT(Tabel4[[#This Row],[Lokation]],3),\" - \",MID(Tabel4[[#This Row],[Lokation]],5,50))","v":"SKL - Spanager Kildeplads (Grønt Vedligehold)"},183,{"$f":"CONCATENATE(\"vand\",(LEFT(Tabel4[[#This Row],[Område med bindestreg]],2)))","v":"vandRE"}]
["RE Regnemark","SKR Sønderkær - Ventilbygværk",{"$f":"CONCATENATE(LEFT(Tabel4[[#This Row],[Område_Opland]],2),\" - \",MID(Tabel4[[#This Row],[Område_Opland]],4,50))","v":"RE - Regnemark"},{"$f":"CONCATENATE(LEFT(Tabel4[[#This Row],[Lokation]],3),\" - \",MID(Tabel4[[#This Row],[Lokation]],5,50))","v":"SKR - Sønderkær - Ventilbygværk"},184,{"$f":"CONCATENATE(\"vand\",(LEFT(Tabel4[[#This Row],[Område med bindestreg]],2)))","v":"vandRE"}]
["RE Regnemark","SLI Slimminge - Dykpumpeanlæg",{"$f":"CONCATENATE(LEFT(Tabel4[[#This Row],[Område_Opland]],2),\" - \",MID(Tabel4[[#This Row],[Område_Opland]],4,50))","v":"RE - Regnemark"},{"$f":"CONCATENATE(LEFT(Tabel4[[#This Row],[Lokation]],3),\" - \",MID(Tabel4[[#This Row],[Lokation]],5,50))","v":"SLI - Slimminge - Dykpumpeanlæg"},185,{"$f":"CONCATENATE(\"vand\",(LEFT(Tabel4[[#This Row],[Område med bindestreg]],2)))","v":"vandRE"}]
["RE Regnemark","SPA Spanager - Boosterstation",{"$f":"CONCATENATE(LEFT(Tabel4[[#This Row],[Område_Opland]],2),\" - \",MID(Tabel4[[#This Row],[Område_Opland]],4,50))","v":"RE - Regnemark"},{"$f":"CONCATENATE(LEFT(Tabel4[[#This Row],[Lokation]],3),\" - \",MID(Tabel4[[#This Row],[Lokation]],5,50))","v":"SPA - Spanager - Boosterstation"},186,{"$f":"CONCATENATE(\"vand\",(LEFT(Tabel4[[#This Row],[Område med bindestreg]],2)))","v":"vandRE"}]
["RE Regnemark","SVE Svenstrup Kimmerslev - Målerbygværk",{"$f":"CONCATENATE(LEFT(Tabel4[[#This Row],[Område_Opland]],2),\" - \",MID(Tabel4[[#This Row],[Område_Opland]],4,50))","v":"RE - Regnemark"},{"$f":"CONCATENATE(LEFT(Tabel4[[#This Row],[Lokation]],3),\" - \",MID(Tabel4[[#This Row],[Lokation]],5,50))","v":"SVE - Svenstrup Kimmerslev - Målerbygværk"},187,{"$f":"CONCATENATE(\"vand\",(LEFT(Tabel4[[#This Row],[Område med bindestreg]],2)))","v":"vandRE"}]
["RE Regnemark","SVO Svenstrup Øst - Vakuumstation",{"$f":"CONCATENATE(LEFT(Tabel4[[#This Row],[Område_Opland]],2),\" - \",MID(Tabel4[[#This Row],[Område_Opland]],4,50))","v":"RE - Regnemark"},{"$f":"CONCATENATE(LEFT(Tabel4[[#This Row],[Lokation]],3),\" - \",MID(Tabel4[[#This Row],[Lokation]],5,50))","v":"SVO - Svenstrup Øst - Vakuumstation"},188,{"$f":"CONCATENATE(\"vand\",(LEFT(Tabel4[[#This Row],[Område med bindestreg]],2)))","v":"vandRE"}]
["RE Regnemark","SVV Svenstrup Vest - Vakuumstation",{"$f":"CONCATENATE(LEFT(Tabel4[[#This Row],[Område_Opland]],2),\" - \",MID(Tabel4[[#This Row],[Område_Opland]],4,50))","v":"RE - Regnemark"},{"$f":"CONCATENATE(LEFT(Tabel4[[#This Row],[Lokation]],3),\" - \",MID(Tabel4[[#This Row],[Lokation]],5,50))","v":"SVV - Svenstrup Vest - Vakuumstation"},189,{"$f":"CONCATENATE(\"vand\",(LEFT(Tabel4[[#This Row],[Område med bindestreg]],2)))","v":"vandRE"}]
["RE Regnemark","TPL Transportledninger - Regnemark",{"$f":"CONCATENATE(LEFT(Tabel4[[#This Row],[Område_Opland]],2),\" - \",MID(Tabel4[[#This Row],[Område_Opland]],4,50))","v":"RE - Regnemark"},{"$f":"CONCATENATE(LEFT(Tabel4[[#This Row],[Lokation]],3),\" - \",MID(Tabel4[[#This Row],[Lokation]],5,50))","v":"TPL - Transportledninger - Regnemark"},190,{"$f":"CONCATENATE(\"vand\",(LEFT(Tabel4[[#This Row],[Område med bindestreg]],2)))","v":"vandRE"}]
["RE Regnemark","TRG Tranegilde - Kontraklapbygværk",{"$f":"CONCATENATE(LEFT(Tabel4[[#This Row],[Område_Opland]],2),\" - \",MID(Tabel4[[#This Row],[Område_Opland]],4,50))","v":"RE - Regnemark"},{"$f":"CONCATENATE(LEFT(Tabel4[[#This Row],[Lokation]],3),\" - \",MID(Tabel4[[#This Row],[Lokation]],5,50))","v":"TRG - Tranegilde - Kontraklapbygværk"},191,{"$f":"CONCATENATE(\"vand\",(LEFT(Tabel4[[#This Row],[Område med bindestreg]],2)))","v":"vandRE"}]
["RE Regnemark","UBO Regnemark U-Boringer",{"$f":"CONCATENATE(LEFT(Tabel4[[#This Row],[Område_Opland]],2),\" - \",MID(Tabel4[[#This Row],[Område_Opland]],4,50))","v":"RE - Regnemark"},{"$f":"CONCATENATE(LEFT(Tabel4[[#This Row],[Lokation]],3),\" - \",MID(Tabel4[[#This Row],[Lokation]],5,50))","v":"UBO - Regnemark U-Boringer"},192,{"$f":"CONCATENATE(\"vand\",(LEFT(Tabel4[[#This Row],[Område med bindestreg]],2)))","v":"vandRE"}]
["RE Regnemark","VIA Vigersted Å Øst",{"$f":"CONCATENATE(LEFT(Tabel4[[#This Row],[Område_Opland]],2),\" - \",MID(Tabel4[[#This Row],[Område_Opland]],4,50))","v":"RE - Regnemark"},{"$f":"CONCATENATE(LEFT(Tabel4[[#This Row],[Lokation]],3),\" - \",MID(Tabel4[[#This Row],[Lokation]],5,50))","v":"VIA - Vigersted Å Øst"},193,{"$f":"CONCATENATE(\"vand\",(LEFT(Tabel4[[#This Row],[Område med bindestreg]],2)))","v":"vandRE"}]
["RE Regnemark","VIG Vigersted - Pumpestation",{"$f":"CONCATENATE(LEFT(Tabel4[[#This Row],[Område_Opland]],2),\" - \",MID(Tabel4[[#This Row],[Område_Opland]],4,50))","v":"RE - Regnemark"},{"$f":"CONCATENATE(LEFT(Tabel4[[#This Row],[Lokation]],3),\" - \",MID(Tabel4[[#This Row],[Lokation]],5,50))","v":"VIG - Vigersted - Pumpestation"},194,{"$f":"CONCATENATE(\"vand\",(LEFT(Tabel4[[#This Row],[Område med bindestreg]],2)))","v":"vandRE"}]
["RE Regnemark","VIO Vigersted Øst - Vakuumstation",{"$f":"CONCATENATE(LEFT(Tabel4[[#This Row],[Område_Opland]],2),\" - \",MID(Tabel4[[#This Row],[Område_Opland]],4,50))","v":"RE - Regnemark"},{"$f":"CONCATENATE(LEFT(Tabel4[[#This Row],[Lokation]],3),\" - \",MID(Tabel4[[#This Row],[Lokation]],5,50))","v":"VIO - Vigersted Øst - Vakuumstation"},195,{"$f":"CONCATENATE(\"vand\",(LEFT(Tabel4[[#This Row],[Område med bindestreg]],2)))","v":"vandRE"}]
["RE Regnemark","VIV Vigersted Vest - Vakuumstation",{"$f":"CONCATENATE(LEFT(Tabel4[[#This Row],[Område_Opland]],2),\" - \",MID(Tabel4[[#This Row],[Område_Opland]],4,50))","v":"RE - Regnemark"},{"$f":"CONCATENATE(LEFT(Tabel4[[#This Row],[Lokation]],3),\" - \",MID(Tabel4[[#This Row],[Lokation]],5,50))","v":"VIV - Vigersted Vest - Vakuumstation"},196,{"$f":"CONCATENATE(\"vand\",(LEFT(Tabel4[[#This Row],[Område med bindestreg]],2)))","v":"vandRE"}]
["RE Regnemark","VMA Valsømagle - Dykpumpeanlæg",{"$f":"CONCATENATE(LEFT(Tabel4[[#This Row],[Område_Opland]],2),\" - \",MID(Tabel4[[#This Row],[Område_Opland]],4,50))","v":"RE - Regnemark"},{"$f":"CONCATENATE(LEFT(Tabel4[[#This Row],[Lokation]],3),\" - \",MID(Tabel4[[#This Row],[Lokation]],5,50))","v":"VMA - Valsømagle - Dykpumpeanlæg"},197,{"$f":"CONCATENATE(\"vand\",(LEFT(Tabel4[[#This Row],[Område med bindestreg]],2)))","v":"vandRE"}]
["RE Regnemark","VMN Valsømagle Nord",{"$f":"CONCATENATE(LEFT(Tabel4[[#This Row],[Område_Opland]],2),\" - \",MID(Tabel4[[#This Row],[Område_Opland]],4,50))","v":"RE - Regnemark"},{"$f":"CONCATENATE(LEFT(Tabel4[[#This Row],[Lokation]],3),\" - \",MID(Tabel4[[#This Row],[Lokation]],5,50))","v":"VMN - Valsømagle Nord"},198,{"$f":"CONCATENATE(\"vand\",(LEFT(Tabel4[[#This Row],[Område med bindestreg]],2)))","v":"vandRE"}]
["RE Regnemark","VMS Valsømagle Syd - Vakuumstation",{"$f":"CONCATENATE(LEFT(Tabel4[[#This Row],[Område_Opland]],2),\" - \",MID(Tabel4[[#This Row],[Område_Opland]],4,50))","v":"RE - Regnemark"},{"$f":"CONCATENATE(LEFT(Tabel4[[#This Row],[Lokation]],3),\" - \",MID(Tabel4[[#This Row],[Lokation]],5,50))","v":"VMS - Valsømagle Syd - Vakuumstation"},199,{"$f":"CONCATENATE(\"vand\",(LEFT(Tabel4[[#This Row],[Område med bindestreg]],2)))","v":"vandRE"}]
["RE Regnemark","VTS Vigersted - Skyllebassin",{"$f":"CONCATENATE(LEFT(Tabel4[[#This Row],[Område_Opland]],2),\" - \",MID(Tabel4[[#This Row],[Område_Opland]],4,50))","v":"RE - Regnemark"},{"$f":"CONCATENATE(LEFT(Tabel4[[#This Row],[Lokation]],3),\" - \",MID(Tabel4[[#This Row],[Lokation]],5,50))","v":"VTS - Vigersted - Skyllebassin"},200,{"$f":"CONCATENATE(\"vand\",(LEFT(Tabel4[[#This Row],[Område med bindestreg]],2)))","v":"vandRE"}]
["RE Regnemark","WFA Regnemark - Filteranlæg",{"$f":"CONCATENATE(LEFT(Tabel4[[#This Row],[Område_Opland]],2),\" - \",MID(Tabel4[[#This Row],[Område_Opland]],4,50))","v":"RE - Regnemark"},{"$f":"CONCATENATE(LEFT(Tabel4[[#This Row],[Lokation]],3),\" - \",MID(Tabel4[[#This Row],[Lokation]],5,50))","v":"WFA - Regnemark - Filteranlæg"},201,{"$f":"CONCATENATE(\"vand\",(LEFT(Tabel4[[#This Row],[Område med bindestreg]],2)))","v":"vandRE"}]
["RE Regnemark","WFF Vrewff - Skal Ikke Benyttes Mere",{"$f":"CONCATENATE(LEFT(Tabel4[[#This Row],[Område_Opland]],2),\" - \",MID(Tabel4[[#This Row],[Område_Opland]],4,50))","v":"RE - Regnemark"},{"$f":"CONCATENATE(LEFT(Tabel4[[#This Row],[Lokation]],3),\" - \",MID(Tabel4[[#This Row],[Lokation]],5,50))","v":"WFF - Vrewff - Skal Ikke Benyttes Mere"},202,{"$f":"CONCATENATE(\"vand\",(LEFT(Tabel4[[#This Row],[Område med bindestreg]],2)))","v":"vandRE"}]
["RE Regnemark","WIT Iltningsanlæg",{"$f":"CONCATENATE(LEFT(Tabel4[[#This Row],[Område_Opland]],2),\" - \",MID(Tabel4[[#This Row],[Område_Opland]],4,50))","v":"RE - Regnemark"},{"$f":"CONCATENATE(LEFT(Tabel4[[#This Row],[Lokation]],3),\" - \",MID(Tabel4[[#This Row],[Lokation]],5,50))","v":"WIT - Iltningsanlæg"},203,{"$f":"CONCATENATE(\"vand\",(LEFT(Tabel4[[#This Row],[Område med bindestreg]],2)))","v":"vandRE"}]
["RE Regnemark","WRB Regnemark - Rentvandsbeholder",{"$f":"CONCATENATE(LEFT(Tabel4[[#This Row],[Område_Opland]],2),\" - \",MID(Tabel4[[#This Row],[Område_Opland]],4,50))","v":"RE - Regnemark"},{"$f":"CONCATENATE(LEFT(Tabel4[[#This Row],[Lokation]],3),\" - \",MID(Tabel4[[#This Row],[Lokation]],5,50))","v":"WRB - Regnemark - Rentvandsbeholder"},204,{"$f":"CONCATENATE(\"vand\",(LEFT(Tabel4[[#This Row],[Område med bindestreg]],2)))","v":"vandRE"}]
["RE Regnemark","WSK Regnemark - Skyllevand",{"$f":"CONCATENATE(LEFT(Tabel4[[#This Row],[Område_Opland]],2),\" - \",MID(Tabel4[[#This Row],[Område_Opland]],4,50))","v":"RE - Regnemark"},{"$f":"CONCATENATE(LEFT(Tabel4[[#This Row],[Lokation]],3),\" - \",MID(Tabel4[[#This Row],[Lokation]],5,50))","v":"WSK - Regnemark - Skyllevand"},205,{"$f":"CONCATENATE(\"vand\",(LEFT(Tabel4[[#This Row],[Område med bindestreg]],2)))","v":"vandRE"}]
["RE Regnemark","WTB Regnemark - Tryksvingningsbeholder/Vindkedel",{"$f":"CONCATENATE(LEFT(Tabel4[[#This Row],[Område_Opland]],2),\" - \",MID(Tabel4[[#This Row],[Område_Opland]],4,50))","v":"RE - Regnemark"},{"$f":"CONCATENATE(LEFT(Tabel4[[#This Row],[Lokation]],3),\" - \",MID(Tabel4[[#This Row],[Lokation]],5,50))","v":"WTB - Regnemark - Tryksvingningsbeholder/Vindkedel"},206,{"$f":"CONCATENATE(\"vand\",(LEFT(Tabel4[[#This Row],[Område med bindestreg]],2)))","v":"vandRE"}]
["RE Regnemark","WTP Regnemark - Trykpumpestation",{"$f":"CONCATENATE(LEFT(Tabel4[[#This Row],[Område_Opland]],2),\" - \",MID(Tabel4[[#This Row],[Område_Opland]],4,50))","v":"RE - Regnemark"},{"$f":"CONCATENATE(LEFT(Tabel4[[#This Row],[Lokation]],3),\" - \",MID(Tabel4[[#This Row],[Lokation]],5,50))","v":"WTP - Regnemark - Trykpumpestation"},207,{"$f":"CONCATENATE(\"vand\",(LEFT(Tabel4[[#This Row],[Område med bindestreg]],2)))","v":"vandRE"}]
["RE Regnemark","WXX Regnemark - Vandværk Diverse/Fælles",{"$f":"CONCATENATE(LEFT(Tabel4[[#This Row],[Område_Opland]],2),\" - \",MID(Tabel4[[#This Row],[Område_Opland]],4,50))","v":"RE - Regnemark"},{"$f":"CONCATENATE(LEFT(Tabel4[[#This Row],[Lokation]],3),\" - \",MID(Tabel4[[#This Row],[Lokation]],5,50))","v":"WXX - Regnemark - Vandværk Diverse/Fælles"},208,{"$f":"CONCATENATE(\"vand\",(LEFT(Tabel4[[#This Row],[Område med bindestreg]],2)))","v":"vandRE"}]
["RE Regnemark","XXX Råvandsledninger - Regnemark",{"$f":"CONCATENATE(LEFT(Tabel4[[#This Row],[Område_Opland]],2),\" - \",MID(Tabel4[[#This Row],[Område_Opland]],4,50))","v":"RE - Regnemark"},{"$f":"CONCATENATE(LEFT(Tabel4[[#This Row],[Lokation]],3),\" - \",MID(Tabel4[[#This Row],[Lokation]],5,50))","v":"XXX - Råvandsledninger - Regnemark"},209,{"$f":"CONCATENATE(\"vand\",(LEFT(Tabel4[[#This Row],[Område med bindestreg]],2)))","v":"vandRE"}]
["RR Rødovre Vandværk","AGK Agerkær - Rødovre Syd",{"$f":"CONCATENATE(LEFT(Tabel4[[#This Row],[Område_Opland]],2),\" - \",MID(Tabel4[[#This Row],[Område_Opland]],4,50))","v":"RR - Rødovre Vandværk"},{"$f":"CONCATENATE(LEFT(Tabel4[[#This Row],[Lokation]],3),\" - \",MID(Tabel4[[#This Row],[Lokation]],5,50))","v":"AGK - Agerkær - Rødovre Syd"},210,{"$f":"CONCATENATE(\"vand\",(LEFT(Tabel4[[#This Row],[Område med bindestreg]],2)))","v":"vandRR"}]
["RR Rødovre Vandværk","IST Islevbro Trykforøger",{"$f":"CONCATENATE(LEFT(Tabel4[[#This Row],[Område_Opland]],2),\" - \",MID(Tabel4[[#This Row],[Område_Opland]],4,50))","v":"RR - Rødovre Vandværk"},{"$f":"CONCATENATE(LEFT(Tabel4[[#This Row],[Lokation]],3),\" - \",MID(Tabel4[[#This Row],[Lokation]],5,50))","v":"IST - Islevbro Trykforøger"},null,{"$f":"CONCATENATE(\"vand\",(LEFT(Tabel4[[#This Row],[Område med bindestreg]],2)))","v":"vandRR"}]
["RR Rødovre Vandværk","ORB Ørbygård - Målerbrønd",{"$f":"CONCATENATE(LEFT(Tabel4[[#This Row],[Område_Opland]],2),\" - \",MID(Tabel4[[#This Row],[Område_Opland]],4,50))","v":"RR - Rødovre Vandværk"},{"$f":"CONCATENATE(LEFT(Tabel4[[#This Row],[Lokation]],3),\" - \",MID(Tabel4[[#This Row],[Lokation]],5,50))","v":"ORB - Ørbygård - Målerbrønd"},211,{"$f":"CONCATENATE(\"vand\",(LEFT(Tabel4[[#This Row],[Område med bindestreg]],2)))","v":"vandRR"}]
["RR Rødovre Vandværk","ROC Rødovre Centrum (Tårnvej)",{"$f":"CONCATENATE(LEFT(Tabel4[[#This Row],[Område_Opland]],2),\" - \",MID(Tabel4[[#This Row],[Område_Opland]],4,50))","v":"RR - Rødovre Vandværk"},{"$f":"CONCATENATE(LEFT(Tabel4[[#This Row],[Lokation]],3),\" - \",MID(Tabel4[[#This Row],[Lokation]],5,50))","v":"ROC - Rødovre Centrum (Tårnvej)"},212,{"$f":"CONCATENATE(\"vand\",(LEFT(Tabel4[[#This Row],[Område med bindestreg]],2)))","v":"vandRR"}]
["RR Rødovre Vandværk","ROD Rødovre",{"$f":"CONCATENATE(LEFT(Tabel4[[#This Row],[Område_Opland]],2),\" - \",MID(Tabel4[[#This Row],[Område_Opland]],4,50))","v":"RR - Rødovre Vandværk"},{"$f":"CONCATENATE(LEFT(Tabel4[[#This Row],[Lokation]],3),\" - \",MID(Tabel4[[#This Row],[Lokation]],5,50))","v":"ROD - Rødovre"},213,{"$f":"CONCATENATE(\"vand\",(LEFT(Tabel4[[#This Row],[Område med bindestreg]],2)))","v":"vandRR"}]
["RR Rødovre Vandværk","RON Rødovre Nord - Trykforøger",{"$f":"CONCATENATE(LEFT(Tabel4[[#This Row],[Område_Opland]],2),\" - \",MID(Tabel4[[#This Row],[Område_Opland]],4,50))","v":"RR - Rødovre Vandværk"},{"$f":"CONCATENATE(LEFT(Tabel4[[#This Row],[Lokation]],3),\" - \",MID(Tabel4[[#This Row],[Lokation]],5,50))","v":"RON - Rødovre Nord - Trykforøger"},214,{"$f":"CONCATENATE(\"vand\",(LEFT(Tabel4[[#This Row],[Område med bindestreg]],2)))","v":"vandRR"}]
["RR Rødovre Vandværk","RVL Råvandsledninger",{"$f":"CONCATENATE(LEFT(Tabel4[[#This Row],[Område_Opland]],2),\" - \",MID(Tabel4[[#This Row],[Område_Opland]],4,50))","v":"RR - Rødovre Vandværk"},{"$f":"CONCATENATE(LEFT(Tabel4[[#This Row],[Lokation]],3),\" - \",MID(Tabel4[[#This Row],[Lokation]],5,50))","v":"RVL - Råvandsledninger"},215,{"$f":"CONCATENATE(\"vand\",(LEFT(Tabel4[[#This Row],[Område med bindestreg]],2)))","v":"vandRR"}]
["RR Rødovre Vandværk","UBO Rødovre - U-Boringer",{"$f":"CONCATENATE(LEFT(Tabel4[[#This Row],[Område_Opland]],2),\" - \",MID(Tabel4[[#This Row],[Område_Opland]],4,50))","v":"RR - Rødovre Vandværk"},{"$f":"CONCATENATE(LEFT(Tabel4[[#This Row],[Lokation]],3),\" - \",MID(Tabel4[[#This Row],[Lokation]],5,50))","v":"UBO - Rødovre - U-Boringer"},216,{"$f":"CONCATENATE(\"vand\",(LEFT(Tabel4[[#This Row],[Område med bindestreg]],2)))","v":"vandRR"}]
["RR Rødovre Vandværk","WIT Rødovre - Iltningsanlæg",{"$f":"CONCATENATE(LEFT(Tabel4[[#This Row],[Område_Opland]],2),\" - \",MID(Tabel4[[#This Row],[Område_Opland]],4,50))","v":"RR - Rødovre Vandværk"},{"$f":"CONCATENATE(LEFT(Tabel4[[#This Row],[Lokation]],3),\" - \",MID(Tabel4[[#This Row],[Lokation]],5,50))","v":"WIT - Rødovre - Iltningsanlæg"},217,{"$f":"CONCATENATE(\"vand\",(LEFT(Tabel4[[#This Row],[Område med bindestreg]],2)))","v":"vandRR"}]
["RR Rødovre Vandværk","WKL Rødovre - Kildeplads",{"$f":"CONCATENATE(LEFT(Tabel4[[#This Row],[Område_Opland]],2),\" - \",MID(Tabel4[[#This Row],[Område_Opland]],4,50))","v":"RR - Rødovre Vandværk"},{"$f":"CONCATENATE(LEFT(Tabel4[[#This Row],[Lokation]],3),\" - \",MID(Tabel4[[#This Row],[Lokation]],5,50))","v":"WKL - Rødovre - Kildeplads"},218,{"$f":"CONCATENATE(\"vand\",(LEFT(Tabel4[[#This Row],[Område med bindestreg]],2)))","v":"vandRR"}]
["RR Rødovre Vandværk","WRB Rødovre - Rentvandsbeholder",{"$f":"CONCATENATE(LEFT(Tabel4[[#This Row],[Område_Opland]],2),\" - \",MID(Tabel4[[#This Row],[Område_Opland]],4,50))","v":"RR - Rødovre Vandværk"},{"$f":"CONCATENATE(LEFT(Tabel4[[#This Row],[Lokation]],3),\" - \",MID(Tabel4[[#This Row],[Lokation]],5,50))","v":"WRB - Rødovre - Rentvandsbeholder"},219,{"$f":"CONCATENATE(\"vand\",(LEFT(Tabel4[[#This Row],[Område med bindestreg]],2)))","v":"vandRR"}]
["RR Rødovre Vandværk","WTP Rødovre - Trykpumpestation",{"$f":"CONCATENATE(LEFT(Tabel4[[#This Row],[Område_Opland]],2),\" - \",MID(Tabel4[[#This Row],[Område_Opland]],4,50))","v":"RR - Rødovre Vandværk"},{"$f":"CONCATENATE(LEFT(Tabel4[[#This Row],[Lokation]],3),\" - \",MID(Tabel4[[#This Row],[Lokation]],5,50))","v":"WTP - Rødovre - Trykpumpestation"},220,{"$f":"CONCATENATE(\"vand\",(LEFT(Tabel4[[#This Row],[Område med bindestreg]],2)))","v":"vandRR"}]
["RR Rødovre Vandværk","WXX Rødovre Vandværk - Generelt",{"$f":"CONCATENATE(LEFT(Tabel4[[#This Row],[Område_Opland]],2),\" - \",MID(Tabel4[[#This Row],[Område_Opland]],4,50))","v":"RR - Rødovre Vandværk"},{"$f":"CONCATENATE(LEFT(Tabel4[[#This Row],[Lokation]],3),\" - \",MID(Tabel4[[#This Row],[Lokation]],5,50))","v":"WXX - Rødovre Vandværk - Generelt"},221,{"$f":"CONCATENATE(\"vand\",(LEFT(Tabel4[[#This Row],[Område med bindestreg]],2)))","v":"vandRR"}]
["SL Slangerup","AEH Æbelholt - Pumpestation",{"$f":"CONCATENATE(LEFT(Tabel4[[#This Row],[Område_Opland]],2),\" - \",MID(Tabel4[[#This Row],[Område_Opland]],4,50))","v":"SL - Slangerup"},{"$f":"CONCATENATE(LEFT(Tabel4[[#This Row],[Lokation]],3),\" - \",MID(Tabel4[[#This Row],[Lokation]],5,50))","v":"AEH - Æbelholt - Pumpestation"},222,{"$f":"CONCATENATE(\"vand\",(LEFT(Tabel4[[#This Row],[Område med bindestreg]],2)))","v":"vandSL"}]
["SL Slangerup","ATF Attemose - Firkantet Vakuumstation",{"$f":"CONCATENATE(LEFT(Tabel4[[#This Row],[Område_Opland]],2),\" - \",MID(Tabel4[[#This Row],[Område_Opland]],4,50))","v":"SL - Slangerup"},{"$f":"CONCATENATE(LEFT(Tabel4[[#This Row],[Lokation]],3),\" - \",MID(Tabel4[[#This Row],[Lokation]],5,50))","v":"ATF - Attemose - Firkantet Vakuumstation"},223,{"$f":"CONCATENATE(\"vand\",(LEFT(Tabel4[[#This Row],[Område med bindestreg]],2)))","v":"vandSL"}]
["SL Slangerup","ATM Attemose - Pumpestation",{"$f":"CONCATENATE(LEFT(Tabel4[[#This Row],[Område_Opland]],2),\" - \",MID(Tabel4[[#This Row],[Område_Opland]],4,50))","v":"SL - Slangerup"},{"$f":"CONCATENATE(LEFT(Tabel4[[#This Row],[Lokation]],3),\" - \",MID(Tabel4[[#This Row],[Lokation]],5,50))","v":"ATM - Attemose - Pumpestation"},224,{"$f":"CONCATENATE(\"vand\",(LEFT(Tabel4[[#This Row],[Område med bindestreg]],2)))","v":"vandSL"}]
["SL Slangerup","ATR Attemose - Rund Vakuumstation",{"$f":"CONCATENATE(LEFT(Tabel4[[#This Row],[Område_Opland]],2),\" - \",MID(Tabel4[[#This Row],[Område_Opland]],4,50))","v":"SL - Slangerup"},{"$f":"CONCATENATE(LEFT(Tabel4[[#This Row],[Lokation]],3),\" - \",MID(Tabel4[[#This Row],[Lokation]],5,50))","v":"ATR - Attemose - Rund Vakuumstation"},225,{"$f":"CONCATENATE(\"vand\",(LEFT(Tabel4[[#This Row],[Område med bindestreg]],2)))","v":"vandSL"}]
["SL Slangerup","EGE Egelund - Kontraklapbygværk (Undinevej - Stenløse)",{"$f":"CONCATENATE(LEFT(Tabel4[[#This Row],[Område_Opland]],2),\" - \",MID(Tabel4[[#This Row],[Område_Opland]],4,50))","v":"SL - Slangerup"},{"$f":"CONCATENATE(LEFT(Tabel4[[#This Row],[Lokation]],3),\" - \",MID(Tabel4[[#This Row],[Lokation]],5,50))","v":"EGE - Egelund - Kontraklapbygværk (Undinevej - Stenløse)"},226,{"$f":"CONCATENATE(\"vand\",(LEFT(Tabel4[[#This Row],[Område med bindestreg]],2)))","v":"vandSL"}]
["SL Slangerup","HAV Havelse - Pumpestation",{"$f":"CONCATENATE(LEFT(Tabel4[[#This Row],[Område_Opland]],2),\" - \",MID(Tabel4[[#This Row],[Område_Opland]],4,50))","v":"SL - Slangerup"},{"$f":"CONCATENATE(LEFT(Tabel4[[#This Row],[Lokation]],3),\" - \",MID(Tabel4[[#This Row],[Lokation]],5,50))","v":"HAV - Havelse - Pumpestation"},227,{"$f":"CONCATENATE(\"vand\",(LEFT(Tabel4[[#This Row],[Område med bindestreg]],2)))","v":"vandSL"}]
["SL Slangerup","HGS Hansegård - Skyllebassin (Grønt Vedligehold)",{"$f":"CONCATENATE(LEFT(Tabel4[[#This Row],[Område_Opland]],2),\" - \",MID(Tabel4[[#This Row],[Område_Opland]],4,50))","v":"SL - Slangerup"},{"$f":"CONCATENATE(LEFT(Tabel4[[#This Row],[Lokation]],3),\" - \",MID(Tabel4[[#This Row],[Lokation]],5,50))","v":"HGS - Hansegård - Skyllebassin (Grønt Vedligehold)"},228,{"$f":"CONCATENATE(\"vand\",(LEFT(Tabel4[[#This Row],[Område med bindestreg]],2)))","v":"vandSL"}]
["SL Slangerup","HOR Hørup - Dykpumpeanlæg",{"$f":"CONCATENATE(LEFT(Tabel4[[#This Row],[Område_Opland]],2),\" - \",MID(Tabel4[[#This Row],[Område_Opland]],4,50))","v":"SL - Slangerup"},{"$f":"CONCATENATE(LEFT(Tabel4[[#This Row],[Lokation]],3),\" - \",MID(Tabel4[[#This Row],[Lokation]],5,50))","v":"HOR - Hørup - Dykpumpeanlæg"},229,{"$f":"CONCATENATE(\"vand\",(LEFT(Tabel4[[#This Row],[Område med bindestreg]],2)))","v":"vandSL"}]
["SL Slangerup","JON Jonstrup",{"$f":"CONCATENATE(LEFT(Tabel4[[#This Row],[Område_Opland]],2),\" - \",MID(Tabel4[[#This Row],[Område_Opland]],4,50))","v":"SL - Slangerup"},{"$f":"CONCATENATE(LEFT(Tabel4[[#This Row],[Lokation]],3),\" - \",MID(Tabel4[[#This Row],[Lokation]],5,50))","v":"JON - Jonstrup"},230,{"$f":"CONCATENATE(\"vand\",(LEFT(Tabel4[[#This Row],[Område med bindestreg]],2)))","v":"vandSL"}]
["SL Slangerup","KVI Foreningspunkt Kvinderup (Strø, Hørup, Havelse)",{"$f":"CONCATENATE(LEFT(Tabel4[[#This Row],[Område_Opland]],2),\" - \",MID(Tabel4[[#This Row],[Område_Opland]],4,50))","v":"SL - Slangerup"},{"$f":"CONCATENATE(LEFT(Tabel4[[#This Row],[Lokation]],3),\" - \",MID(Tabel4[[#This Row],[Lokation]],5,50))","v":"KVI - Foreningspunkt Kvinderup (Strø, Hørup, Havelse)"},231,{"$f":"CONCATENATE(\"vand\",(LEFT(Tabel4[[#This Row],[Område med bindestreg]],2)))","v":"vandSL"}]
["SL Slangerup","MBO Slangerup - M-Boringer",{"$f":"CONCATENATE(LEFT(Tabel4[[#This Row],[Område_Opland]],2),\" - \",MID(Tabel4[[#This Row],[Område_Opland]],4,50))","v":"SL - Slangerup"},{"$f":"CONCATENATE(LEFT(Tabel4[[#This Row],[Lokation]],3),\" - \",MID(Tabel4[[#This Row],[Lokation]],5,50))","v":"MBO - Slangerup - M-Boringer"},232,{"$f":"CONCATENATE(\"vand\",(LEFT(Tabel4[[#This Row],[Område med bindestreg]],2)))","v":"vandSL"}]
["SL Slangerup","NYA Nybrovejen - Aftag",{"$f":"CONCATENATE(LEFT(Tabel4[[#This Row],[Område_Opland]],2),\" - \",MID(Tabel4[[#This Row],[Område_Opland]],4,50))","v":"SL - Slangerup"},{"$f":"CONCATENATE(LEFT(Tabel4[[#This Row],[Lokation]],3),\" - \",MID(Tabel4[[#This Row],[Lokation]],5,50))","v":"NYA - Nybrovejen - Aftag"},233,{"$f":"CONCATENATE(\"vand\",(LEFT(Tabel4[[#This Row],[Område med bindestreg]],2)))","v":"vandSL"}]
["SL Slangerup","RVL Råvandsledninger - Slangerup",{"$f":"CONCATENATE(LEFT(Tabel4[[#This Row],[Område_Opland]],2),\" - \",MID(Tabel4[[#This Row],[Område_Opland]],4,50))","v":"SL - Slangerup"},{"$f":"CONCATENATE(LEFT(Tabel4[[#This Row],[Lokation]],3),\" - \",MID(Tabel4[[#This Row],[Lokation]],5,50))","v":"RVL - Råvandsledninger - Slangerup"},234,{"$f":"CONCATENATE(\"vand\",(LEFT(Tabel4[[#This Row],[Område med bindestreg]],2)))","v":"vandSL"}]
["SL Slangerup","SAN Kirke Værløse",{"$f":"CONCATENATE(LEFT(Tabel4[[#This Row],[Område_Opland]],2),\" - \",MID(Tabel4[[#This Row],[Område_Opland]],4,50))","v":"SL - Slangerup"},{"$f":"CONCATENATE(LEFT(Tabel4[[#This Row],[Lokation]],3),\" - \",MID(Tabel4[[#This Row],[Lokation]],5,50))","v":"SAN - Kirke Værløse"},235,{"$f":"CONCATENATE(\"vand\",(LEFT(Tabel4[[#This Row],[Område med bindestreg]],2)))","v":"vandSL"}]
["SL Slangerup","STN Strø - Nord Dykpumpeanlæg",{"$f":"CONCATENATE(LEFT(Tabel4[[#This Row],[Område_Opland]],2),\" - \",MID(Tabel4[[#This Row],[Område_Opland]],4,50))","v":"SL - Slangerup"},{"$f":"CONCATENATE(LEFT(Tabel4[[#This Row],[Lokation]],3),\" - \",MID(Tabel4[[#This Row],[Lokation]],5,50))","v":"STN - Strø - Nord Dykpumpeanlæg"},236,{"$f":"CONCATENATE(\"vand\",(LEFT(Tabel4[[#This Row],[Område med bindestreg]],2)))","v":"vandSL"}]
["SL Slangerup","STR Strø - Pumpestation",{"$f":"CONCATENATE(LEFT(Tabel4[[#This Row],[Område_Opland]],2),\" - \",MID(Tabel4[[#This Row],[Område_Opland]],4,50))","v":"SL - Slangerup"},{"$f":"CONCATENATE(LEFT(Tabel4[[#This Row],[Lokation]],3),\" - \",MID(Tabel4[[#This Row],[Lokation]],5,50))","v":"STR - Strø - Pumpestation"},237,{"$f":"CONCATENATE(\"vand\",(LEFT(Tabel4[[#This Row],[Område med bindestreg]],2)))","v":"vandSL"}]
["SL Slangerup","STS Strø - Vakuumstation",{"$f":"CONCATENATE(LEFT(Tabel4[[#This Row],[Område_Opland]],2),\" - \",MID(Tabel4[[#This Row],[Område_Opland]],4,50))","v":"SL - Slangerup"},{"$f":"CONCATENATE(LEFT(Tabel4[[#This Row],[Lokation]],3),\" - \",MID(Tabel4[[#This Row],[Lokation]],5,50))","v":"STS - Strø - Vakuumstation"},238,{"$f":"CONCATENATE(\"vand\",(LEFT(Tabel4[[#This Row],[Område med bindestreg]],2)))","v":"vandSL"}]
["SL Slangerup","TBS Tornbakken - Skyllebassin (Grønt Vedligehold)",{"$f":"CONCATENATE(LEFT(Tabel4[[#This Row],[Område_Opland]],2),\" - \",MID(Tabel4[[#This Row],[Område_Opland]],4,50))","v":"SL - Slangerup"},{"$f":"CONCATENATE(LEFT(Tabel4[[#This Row],[Lokation]],3),\" - \",MID(Tabel4[[#This Row],[Lokation]],5,50))","v":"TBS - Tornbakken - Skyllebassin (Grønt Vedligehold)"},239,{"$f":"CONCATENATE(\"vand\",(LEFT(Tabel4[[#This Row],[Område med bindestreg]],2)))","v":"vandSL"}]
["SL Slangerup","TPL Transportledninger - Slangerup",{"$f":"CONCATENATE(LEFT(Tabel4[[#This Row],[Område_Opland]],2),\" - \",MID(Tabel4[[#This Row],[Område_Opland]],4,50))","v":"SL - Slangerup"},{"$f":"CONCATENATE(LEFT(Tabel4[[#This Row],[Lokation]],3),\" - \",MID(Tabel4[[#This Row],[Lokation]],5,50))","v":"TPL - Transportledninger - Slangerup"},240,{"$f":"CONCATENATE(\"vand\",(LEFT(Tabel4[[#This Row],[Område med bindestreg]],2)))","v":"vandSL"}]
["SL Slangerup","UBO Slangerup - U-Boringer",{"$f":"CONCATENATE(LEFT(Tabel4[[#This Row],[Område_Opland]],2),\" - \",MID(Tabel4[[#This Row],[Område_Opland]],4,50))","v":"SL - Slangerup"},{"$f":"CONCATENATE(LEFT(Tabel4[[#This Row],[Lokation]],3),\" - \",MID(Tabel4[[#This Row],[Lokation]],5,50))","v":"UBO - Slangerup - U-Boringer"},241,{"$f":"CONCATENATE(\"vand\",(LEFT(Tabel4[[#This Row],[Område med bindestreg]],2)))","v":"vandSL"}]
["SL Slangerup","WFA Slangerup - Filteranlæg",{"$f":"CONCATENATE(LEFT(Tabel4[[#This Row],[Område_Opland]],2),\" - \",MID(Tabel4[[#This Row],[Område_Opland]],4,50))","v":"SL - Slangerup"},{"$f":"CONCATENATE(LEFT(Tabel4[[#This Row],[Lokation]],3),\" - \",MID(Tabel4[[#This Row],[Lokation]],5,50))","v":"WFA - Slangerup - Filteranlæg"},242,{"$f":"CONCATENATE(\"vand\",(LEFT(Tabel4[[#This Row],[Område med bindestreg]],2)))","v":"vandSL"}]
["SL Slangerup","WFF Vslwff - Skal Ikke Benyttes Mere",{"$f":"CONCATENATE(LEFT(Tabel4[[#This Row],[Område_Opland]],2),\" - \",MID(Tabel4[[#This Row],[Område_Opland]],4,50))","v":"SL - Slangerup"},{"$f":"CONCATENATE(LEFT(Tabel4[[#This Row],[Lokation]],3),\" - \",MID(Tabel4[[#This Row],[Lokation]],5,50))","v":"WFF - Vslwff - Skal Ikke Benyttes Mere"},243,{"$f":"CONCATENATE(\"vand\",(LEFT(Tabel4[[#This Row],[Område med bindestreg]],2)))","v":"vandSL"}]
["SL Slangerup","WGA Slangerup - Genbrugsanlæg",{"$f":"CONCATENATE(LEFT(Tabel4[[#This Row],[Område_Opland]],2),\" - \",MID(Tabel4[[#This Row],[Område_Opland]],4,50))","v":"SL - Slangerup"},{"$f":"CONCATENATE(LEFT(Tabel4[[#This Row],[Lokation]],3),\" - \",MID(Tabel4[[#This Row],[Lokation]],5,50))","v":"WGA - Slangerup - Genbrugsanlæg"},244,{"$f":"CONCATENATE(\"vand\",(LEFT(Tabel4[[#This Row],[Område med bindestreg]],2)))","v":"vandSL"}]
["SL Slangerup","WIT Slangerup - Iltningsanlæg",{"$f":"CONCATENATE(LEFT(Tabel4[[#This Row],[Område_Opland]],2),\" - \",MID(Tabel4[[#This Row],[Område_Opland]],4,50))","v":"SL - Slangerup"},{"$f":"CONCATENATE(LEFT(Tabel4[[#This Row],[Lokation]],3),\" - \",MID(Tabel4[[#This Row],[Lokation]],5,50))","v":"WIT - Slangerup - Iltningsanlæg"},245,{"$f":"CONCATENATE(\"vand\",(LEFT(Tabel4[[#This Row],[Område med bindestreg]],2)))","v":"vandSL"}]
["SL Slangerup","WRB Slangerup - Rentvandsbeholder",{"$f":"CONCATENATE(LEFT(Tabel4[[#This Row],[Område_Opland]],2),\" - \",MID(Tabel4[[#This Row],[Område_Opland]],4,50))","v":"SL - Slangerup"},{"$f":"CONCATENATE(LEFT(Tabel4[[#This Row],[Lokation]],3),\" - \",MID(Tabel4[[#This Row],[Lokation]],5,50))","v":"WRB - Slangerup - Rentvandsbeholder"},246,{"$f":"CONCATENATE(\"vand\",(LEFT(Tabel4[[#This Row],[Område med bindestreg]],2)))","v":"vandSL"}]
["SL Slangerup","WSK Slangerup - Skyllevand",{"$f":"CONCATENATE(LEFT(Tabel4[[#This Row],[Område_Opland]],2),\" - \",MID(Tabel4[[#This Row],[Område_Opland]],4,50))","v":"SL - Slangerup"},{"$f":"CONCATENATE(LEFT(Tabel4[[#This Row],[Lokation]],3),\" - \",MID(Tabel4[[#This Row],[Lokation]],5,50))","v":"WSK - Slangerup - Skyllevand"},247,{"$f":"CONCATENATE(\"vand\",(LEFT(Tabel4[[#This Row],[Område med bindestreg]],2)))","v":"vandSL"}]
["SL Slangerup","WTP Slangerup - Trykpumpestation",{"$f":"CONCATENATE(LEFT(Tabel4[[#This Row],[Område_Opland]],2),\" - \",MID(Tabel4[[#This Row],[Område_Opland]],4,50))","v":"SL - Slangerup"},{"$f":"CONCATENATE(LEFT(Tabel4[[#This Row],[Lokation]],3),\" - \",MID(Tabel4[[#This Row],[Lokation]],5,50))","v":"WTP - Slangerup - Trykpumpestation"},248,{"$f":"CONCATENATE(\"vand\",(LEFT(Tabel4[[#This Row],[Område med bindestreg]],2)))","v":"vandSL"}]
["SL Slangerup","WXX Slangerup - Vandværk Diverse/Fælles",{"$f":"CONCATENATE(LEFT(Tabel4[[#This Row],[Område_Opland]],2),\" - \",MID(Tabel4[[#This Row],[Område_Opland]],4,50))","v":"SL - Slangerup"},{"$f":"CONCATENATE(LEFT(Tabel4[[#This Row],[Lokation]],3),\" - \",MID(Tabel4[[#This Row],[Lokation]],5,50))","v":"WXX - Slangerup - Vandværk Diverse/Fælles"},249,{"$f":"CONCATENATE(\"vand\",(LEFT(Tabel4[[#This Row],[Område med bindestreg]],2)))","v":"vandSL"}]
["SL Slangerup","XXX Råvandsledninger - Slangerup",{"$f":"CONCATENATE(LEFT(Tabel4[[#This Row],[Område_Opland]],2),\" - \",MID(Tabel4[[#This Row],[Område_Opland]],4,50))","v":"SL - Slangerup"},{"$f":"CONCATENATE(LEFT(Tabel4[[#This Row],[Lokation]],3),\" - \",MID(Tabel4[[#This Row],[Lokation]],5,50))","v":"XXX - Råvandsledninger - Slangerup"},250,{"$f":"CONCATENATE(\"vand\",(LEFT(Tabel4[[#This Row],[Område med bindestreg]],2)))","v":"vandSL"}]
["SM St. Magleby Vandværk","ENL Englandsvej - Målerbrønd ",{"$f":"CONCATENATE(LEFT(Tabel4[[#This Row],[Område_Opland]],2),\" - \",MID(Tabel4[[#This Row],[Område_Opland]],4,50))","v":"SM - St. Magleby Vandværk"},{"$f":"CONCATENATE(LEFT(Tabel4[[#This Row],[Lokation]],3),\" - \",MID(Tabel4[[#This Row],[Lokation]],5,50))","v":"ENL - Englandsvej - Målerbrønd "},251,{"$f":"CONCATENATE(\"vand\",(LEFT(Tabel4[[#This Row],[Område med bindestreg]],2)))","v":"vandSM"}]
["SM St. Magleby Vandværk","RVL Råvandsledninger St. Magleby",{"$f":"CONCATENATE(LEFT(Tabel4[[#This Row],[Område_Opland]],2),\" - \",MID(Tabel4[[#This Row],[Område_Opland]],4,50))","v":"SM - St. Magleby Vandværk"},{"$f":"CONCATENATE(LEFT(Tabel4[[#This Row],[Lokation]],3),\" - \",MID(Tabel4[[#This Row],[Lokation]],5,50))","v":"RVL - Råvandsledninger St. Magleby"},252,{"$f":"CONCATENATE(\"vand\",(LEFT(Tabel4[[#This Row],[Område med bindestreg]],2)))","v":"vandSM"}]
["SM St. Magleby Vandværk","STM St. Magleby Vandværk",{"$f":"CONCATENATE(LEFT(Tabel4[[#This Row],[Område_Opland]],2),\" - \",MID(Tabel4[[#This Row],[Område_Opland]],4,50))","v":"SM - St. Magleby Vandværk"},{"$f":"CONCATENATE(LEFT(Tabel4[[#This Row],[Lokation]],3),\" - \",MID(Tabel4[[#This Row],[Lokation]],5,50))","v":"STM - St. Magleby Vandværk"},null,{"$f":"CONCATENATE(\"vand\",(LEFT(Tabel4[[#This Row],[Område med bindestreg]],2)))","v":"vandSM"}]
["SM St. Magleby Vandværk","TOM Tømmerupvej Trykforøger (St. Magleby)",{"$f":"CONCATENATE(LEFT(Tabel4[[#This Row],[Område_Opland]],2),\" - \",MID(Tabel4[[#This Row],[Område_Opland]],4,50))","v":"SM - St. Magleby Vandværk"},{"$f":"CONCATENATE(LEFT(Tabel4[[#This Row],[Lokation]],3),\" - \",MID(Tabel4[[#This Row],[Lokation]],5,50))","v":"TOM - Tømmerupvej Trykforøger (St. Magleby)"},253,{"$f":"CONCATENATE(\"vand\",(LEFT(Tabel4[[#This Row],[Område med bindestreg]],2)))","v":"vandSM"}]
["SM St. Magleby Vandværk","UBO St. Magleby U-Boringer",{"$f":"CONCATENATE(LEFT(Tabel4[[#This Row],[Område_Opland]],2),\" - \",MID(Tabel4[[#This Row],[Område_Opland]],4,50))","v":"SM - St. Magleby Vandværk"},{"$f":"CONCATENATE(LEFT(Tabel4[[#This Row],[Lokation]],3),\" - \",MID(Tabel4[[#This Row],[Lokation]],5,50))","v":"UBO - St. Magleby U-Boringer"},254,{"$f":"CONCATENATE(\"vand\",(LEFT(Tabel4[[#This Row],[Område med bindestreg]],2)))","v":"vandSM"}]
["SM St. Magleby Vandværk","WBS Nødforsyning Fra Tårnby Vand (St. Magleby)",{"$f":"CONCATENATE(LEFT(Tabel4[[#This Row],[Område_Opland]],2),\" - \",MID(Tabel4[[#This Row],[Område_Opland]],4,50))","v":"SM - St. Magleby Vandværk"},{"$f":"CONCATENATE(LEFT(Tabel4[[#This Row],[Lokation]],3),\" - \",MID(Tabel4[[#This Row],[Lokation]],5,50))","v":"WBS - Nødforsyning Fra Tårnby Vand (St. Magleby)"},255,{"$f":"CONCATENATE(\"vand\",(LEFT(Tabel4[[#This Row],[Område med bindestreg]],2)))","v":"vandSM"}]
["SM St. Magleby Vandværk","WFA St. Magleby Filteranlæg",{"$f":"CONCATENATE(LEFT(Tabel4[[#This Row],[Område_Opland]],2),\" - \",MID(Tabel4[[#This Row],[Område_Opland]],4,50))","v":"SM - St. Magleby Vandværk"},{"$f":"CONCATENATE(LEFT(Tabel4[[#This Row],[Lokation]],3),\" - \",MID(Tabel4[[#This Row],[Lokation]],5,50))","v":"WFA - St. Magleby Filteranlæg"},256,{"$f":"CONCATENATE(\"vand\",(LEFT(Tabel4[[#This Row],[Område med bindestreg]],2)))","v":"vandSM"}]
["SM St. Magleby Vandværk","WIL St. Magleby Vandværk Indløb",{"$f":"CONCATENATE(LEFT(Tabel4[[#This Row],[Område_Opland]],2),\" - \",MID(Tabel4[[#This Row],[Område_Opland]],4,50))","v":"SM - St. Magleby Vandværk"},{"$f":"CONCATENATE(LEFT(Tabel4[[#This Row],[Lokation]],3),\" - \",MID(Tabel4[[#This Row],[Lokation]],5,50))","v":"WIL - St. Magleby Vandværk Indløb"},257,{"$f":"CONCATENATE(\"vand\",(LEFT(Tabel4[[#This Row],[Område med bindestreg]],2)))","v":"vandSM"}]
["SM St. Magleby Vandværk","WIT St. Magleby Iltning",{"$f":"CONCATENATE(LEFT(Tabel4[[#This Row],[Område_Opland]],2),\" - \",MID(Tabel4[[#This Row],[Område_Opland]],4,50))","v":"SM - St. Magleby Vandværk"},{"$f":"CONCATENATE(LEFT(Tabel4[[#This Row],[Lokation]],3),\" - \",MID(Tabel4[[#This Row],[Lokation]],5,50))","v":"WIT - St. Magleby Iltning"},258,{"$f":"CONCATENATE(\"vand\",(LEFT(Tabel4[[#This Row],[Område med bindestreg]],2)))","v":"vandSM"}]
["SM St. Magleby Vandværk","WKL St. Magleby Kildeplads",{"$f":"CONCATENATE(LEFT(Tabel4[[#This Row],[Område_Opland]],2),\" - \",MID(Tabel4[[#This Row],[Område_Opland]],4,50))","v":"SM - St. Magleby Vandværk"},{"$f":"CONCATENATE(LEFT(Tabel4[[#This Row],[Lokation]],3),\" - \",MID(Tabel4[[#This Row],[Lokation]],5,50))","v":"WKL - St. Magleby Kildeplads"},259,{"$f":"CONCATENATE(\"vand\",(LEFT(Tabel4[[#This Row],[Område med bindestreg]],2)))","v":"vandSM"}]
["SM St. Magleby Vandværk","WRB St. Magleby Rentvandsbeholder",{"$f":"CONCATENATE(LEFT(Tabel4[[#This Row],[Område_Opland]],2),\" - \",MID(Tabel4[[#This Row],[Område_Opland]],4,50))","v":"SM - St. Magleby Vandværk"},{"$f":"CONCATENATE(LEFT(Tabel4[[#This Row],[Lokation]],3),\" - \",MID(Tabel4[[#This Row],[Lokation]],5,50))","v":"WRB - St. Magleby Rentvandsbeholder"},260,{"$f":"CONCATENATE(\"vand\",(LEFT(Tabel4[[#This Row],[Område med bindestreg]],2)))","v":"vandSM"}]
["SM St. Magleby Vandværk","WTP St. Magleby Trykpumpestation",{"$f":"CONCATENATE(LEFT(Tabel4[[#This Row],[Område_Opland]],2),\" - \",MID(Tabel4[[#This Row],[Område_Opland]],4,50))","v":"SM - St. Magleby Vandværk"},{"$f":"CONCATENATE(LEFT(Tabel4[[#This Row],[Lokation]],3),\" - \",MID(Tabel4[[#This Row],[Lokation]],5,50))","v":"WTP - St. Magleby Trykpumpestation"},261,{"$f":"CONCATENATE(\"vand\",(LEFT(Tabel4[[#This Row],[Område med bindestreg]],2)))","v":"vandSM"}]
["SM St. Magleby Vandværk","WUV St. Magleby Uv-Anlæg",{"$f":"CONCATENATE(LEFT(Tabel4[[#This Row],[Område_Opland]],2),\" - \",MID(Tabel4[[#This Row],[Område_Opland]],4,50))","v":"SM - St. Magleby Vandværk"},{"$f":"CONCATENATE(LEFT(Tabel4[[#This Row],[Lokation]],3),\" - \",MID(Tabel4[[#This Row],[Lokation]],5,50))","v":"WUV - St. Magleby Uv-Anlæg"},262,{"$f":"CONCATENATE(\"vand\",(LEFT(Tabel4[[#This Row],[Område med bindestreg]],2)))","v":"vandSM"}]
["SM St. Magleby Vandværk","WXX St. Magleby Vandværk Generelt",{"$f":"CONCATENATE(LEFT(Tabel4[[#This Row],[Område_Opland]],2),\" - \",MID(Tabel4[[#This Row],[Område_Opland]],4,50))","v":"SM - St. Magleby Vandværk"},{"$f":"CONCATENATE(LEFT(Tabel4[[#This Row],[Lokation]],3),\" - \",MID(Tabel4[[#This Row],[Lokation]],5,50))","v":"WXX - St. Magleby Vandværk Generelt"},263,{"$f":"CONCATENATE(\"vand\",(LEFT(Tabel4[[#This Row],[Område med bindestreg]],2)))","v":"vandSM"}]
["SS Søndersø","BJK Bjellekær - Dykpumpeanlæg",{"$f":"CONCATENATE(LEFT(Tabel4[[#This Row],[Område_Opland]],2),\" - \",MID(Tabel4[[#This Row],[Område_Opland]],4,50))","v":"SS - Søndersø"},{"$f":"CONCATENATE(LEFT(Tabel4[[#This Row],[Lokation]],3),\" - \",MID(Tabel4[[#This Row],[Lokation]],5,50))","v":"BJK - Bjellekær - Dykpumpeanlæg"},264,{"$f":"CONCATENATE(\"vand\",(LEFT(Tabel4[[#This Row],[Område med bindestreg]],2)))","v":"vandSS"}]
["SS Søndersø","BOG Bogøgård - Dykpumpeanlæg",{"$f":"CONCATENATE(LEFT(Tabel4[[#This Row],[Område_Opland]],2),\" - \",MID(Tabel4[[#This Row],[Område_Opland]],4,50))","v":"SS - Søndersø"},{"$f":"CONCATENATE(LEFT(Tabel4[[#This Row],[Lokation]],3),\" - \",MID(Tabel4[[#This Row],[Lokation]],5,50))","v":"BOG - Bogøgård - Dykpumpeanlæg"},265,{"$f":"CONCATENATE(\"vand\",(LEFT(Tabel4[[#This Row],[Område med bindestreg]],2)))","v":"vandSS"}]
["SS Søndersø","EGE Egelund - Ventilbygværk",{"$f":"CONCATENATE(LEFT(Tabel4[[#This Row],[Område_Opland]],2),\" - \",MID(Tabel4[[#This Row],[Område_Opland]],4,50))","v":"SS - Søndersø"},{"$f":"CONCATENATE(LEFT(Tabel4[[#This Row],[Lokation]],3),\" - \",MID(Tabel4[[#This Row],[Lokation]],5,50))","v":"EGE - Egelund - Ventilbygværk"},266,{"$f":"CONCATENATE(\"vand\",(LEFT(Tabel4[[#This Row],[Område med bindestreg]],2)))","v":"vandSS"}]
["SS Søndersø","EGH Egholm - Dykpumpeanlæg",{"$f":"CONCATENATE(LEFT(Tabel4[[#This Row],[Område_Opland]],2),\" - \",MID(Tabel4[[#This Row],[Område_Opland]],4,50))","v":"SS - Søndersø"},{"$f":"CONCATENATE(LEFT(Tabel4[[#This Row],[Lokation]],3),\" - \",MID(Tabel4[[#This Row],[Lokation]],5,50))","v":"EGH - Egholm - Dykpumpeanlæg"},267,{"$f":"CONCATENATE(\"vand\",(LEFT(Tabel4[[#This Row],[Område med bindestreg]],2)))","v":"vandSS"}]
["SS Søndersø","ENG Engagergård",{"$f":"CONCATENATE(LEFT(Tabel4[[#This Row],[Område_Opland]],2),\" - \",MID(Tabel4[[#This Row],[Område_Opland]],4,50))","v":"SS - Søndersø"},{"$f":"CONCATENATE(LEFT(Tabel4[[#This Row],[Lokation]],3),\" - \",MID(Tabel4[[#This Row],[Lokation]],5,50))","v":"ENG - Engagergård"},268,{"$f":"CONCATENATE(\"vand\",(LEFT(Tabel4[[#This Row],[Område med bindestreg]],2)))","v":"vandSS"}]
["SS Søndersø","FOO Foreningspunkt Ø",{"$f":"CONCATENATE(LEFT(Tabel4[[#This Row],[Område_Opland]],2),\" - \",MID(Tabel4[[#This Row],[Område_Opland]],4,50))","v":"SS - Søndersø"},{"$f":"CONCATENATE(LEFT(Tabel4[[#This Row],[Lokation]],3),\" - \",MID(Tabel4[[#This Row],[Lokation]],5,50))","v":"FOO - Foreningspunkt Ø"},269,{"$f":"CONCATENATE(\"vand\",(LEFT(Tabel4[[#This Row],[Område med bindestreg]],2)))","v":"vandSS"}]
["SS Søndersø","FOV Foreningspunkt V",{"$f":"CONCATENATE(LEFT(Tabel4[[#This Row],[Område_Opland]],2),\" - \",MID(Tabel4[[#This Row],[Område_Opland]],4,50))","v":"SS - Søndersø"},{"$f":"CONCATENATE(LEFT(Tabel4[[#This Row],[Lokation]],3),\" - \",MID(Tabel4[[#This Row],[Lokation]],5,50))","v":"FOV - Foreningspunkt V"},270,{"$f":"CONCATENATE(\"vand\",(LEFT(Tabel4[[#This Row],[Område med bindestreg]],2)))","v":"vandSS"}]
["SS Søndersø","KID Kildedal Kildeplads - Afværge anlæg",{"$f":"CONCATENATE(LEFT(Tabel4[[#This Row],[Område_Opland]],2),\" - \",MID(Tabel4[[#This Row],[Område_Opland]],4,50))","v":"SS - Søndersø"},{"$f":"CONCATENATE(LEFT(Tabel4[[#This Row],[Lokation]],3),\" - \",MID(Tabel4[[#This Row],[Lokation]],5,50))","v":"KID - Kildedal Kildeplads - Afværge anlæg"},271,{"$f":"CONCATENATE(\"vand\",(LEFT(Tabel4[[#This Row],[Område med bindestreg]],2)))","v":"vandSS"}]
["SS Søndersø","KME Knardrupvej / Måløvvej",{"$f":"CONCATENATE(LEFT(Tabel4[[#This Row],[Område_Opland]],2),\" - \",MID(Tabel4[[#This Row],[Område_Opland]],4,50))","v":"SS - Søndersø"},{"$f":"CONCATENATE(LEFT(Tabel4[[#This Row],[Lokation]],3),\" - \",MID(Tabel4[[#This Row],[Lokation]],5,50))","v":"KME - Knardrupvej / Måløvvej"},272,{"$f":"CONCATENATE(\"vand\",(LEFT(Tabel4[[#This Row],[Område med bindestreg]],2)))","v":"vandSS"}]
["SS Søndersø","MBO Søndersø - M-Boringer",{"$f":"CONCATENATE(LEFT(Tabel4[[#This Row],[Område_Opland]],2),\" - \",MID(Tabel4[[#This Row],[Område_Opland]],4,50))","v":"SS - Søndersø"},{"$f":"CONCATENATE(LEFT(Tabel4[[#This Row],[Lokation]],3),\" - \",MID(Tabel4[[#This Row],[Lokation]],5,50))","v":"MBO - Søndersø - M-Boringer"},273,{"$f":"CONCATENATE(\"vand\",(LEFT(Tabel4[[#This Row],[Område med bindestreg]],2)))","v":"vandSS"}]
["SS Søndersø","RVL Råvandsledninger - Søndersø",{"$f":"CONCATENATE(LEFT(Tabel4[[#This Row],[Område_Opland]],2),\" - \",MID(Tabel4[[#This Row],[Område_Opland]],4,50))","v":"SS - Søndersø"},{"$f":"CONCATENATE(LEFT(Tabel4[[#This Row],[Lokation]],3),\" - \",MID(Tabel4[[#This Row],[Lokation]],5,50))","v":"RVL - Råvandsledninger - Søndersø"},274,{"$f":"CONCATENATE(\"vand\",(LEFT(Tabel4[[#This Row],[Område med bindestreg]],2)))","v":"vandSS"}]
["SS Søndersø","SKN Skinnerskovvej (Herlev - Inspektionsbrønd - Kontraklap)",{"$f":"CONCATENATE(LEFT(Tabel4[[#This Row],[Område_Opland]],2),\" - \",MID(Tabel4[[#This Row],[Område_Opland]],4,50))","v":"SS - Søndersø"},{"$f":"CONCATENATE(LEFT(Tabel4[[#This Row],[Lokation]],3),\" - \",MID(Tabel4[[#This Row],[Lokation]],5,50))","v":"SKN - Skinnerskovvej (Herlev - Inspektionsbrønd - Kontra"},275,{"$f":"CONCATENATE(\"vand\",(LEFT(Tabel4[[#This Row],[Område med bindestreg]],2)))","v":"vandSS"}]
["SS Søndersø","SSO Søndersø - Dykpumpeanlæg Øst ",{"$f":"CONCATENATE(LEFT(Tabel4[[#This Row],[Område_Opland]],2),\" - \",MID(Tabel4[[#This Row],[Område_Opland]],4,50))","v":"SS - Søndersø"},{"$f":"CONCATENATE(LEFT(Tabel4[[#This Row],[Lokation]],3),\" - \",MID(Tabel4[[#This Row],[Lokation]],5,50))","v":"SSO - Søndersø - Dykpumpeanlæg Øst "},276,{"$f":"CONCATENATE(\"vand\",(LEFT(Tabel4[[#This Row],[Område med bindestreg]],2)))","v":"vandSS"}]
["SS Søndersø","SST Søndersø - Tryksvingningsbeholderanlæg",{"$f":"CONCATENATE(LEFT(Tabel4[[#This Row],[Område_Opland]],2),\" - \",MID(Tabel4[[#This Row],[Område_Opland]],4,50))","v":"SS - Søndersø"},{"$f":"CONCATENATE(LEFT(Tabel4[[#This Row],[Lokation]],3),\" - \",MID(Tabel4[[#This Row],[Lokation]],5,50))","v":"SST - Søndersø - Tryksvingningsbeholderanlæg"},277,{"$f":"CONCATENATE(\"vand\",(LEFT(Tabel4[[#This Row],[Område med bindestreg]],2)))","v":"vandSS"}]
["SS Søndersø","SSV Søndersø - Dykpumpeanlæg Vest",{"$f":"CONCATENATE(LEFT(Tabel4[[#This Row],[Område_Opland]],2),\" - \",MID(Tabel4[[#This Row],[Område_Opland]],4,50))","v":"SS - Søndersø"},{"$f":"CONCATENATE(LEFT(Tabel4[[#This Row],[Lokation]],3),\" - \",MID(Tabel4[[#This Row],[Lokation]],5,50))","v":"SSV - Søndersø - Dykpumpeanlæg Vest"},278,{"$f":"CONCATENATE(\"vand\",(LEFT(Tabel4[[#This Row],[Område med bindestreg]],2)))","v":"vandSS"}]
["SS Søndersø","TIB Tibberup - Dykpumpeanlæg",{"$f":"CONCATENATE(LEFT(Tabel4[[#This Row],[Område_Opland]],2),\" - \",MID(Tabel4[[#This Row],[Område_Opland]],4,50))","v":"SS - Søndersø"},{"$f":"CONCATENATE(LEFT(Tabel4[[#This Row],[Lokation]],3),\" - \",MID(Tabel4[[#This Row],[Lokation]],5,50))","v":"TIB - Tibberup - Dykpumpeanlæg"},279,{"$f":"CONCATENATE(\"vand\",(LEFT(Tabel4[[#This Row],[Område med bindestreg]],2)))","v":"vandSS"}]
["SS Søndersø","TPL Transportledninger - Søndersø",{"$f":"CONCATENATE(LEFT(Tabel4[[#This Row],[Område_Opland]],2),\" - \",MID(Tabel4[[#This Row],[Område_Opland]],4,50))","v":"SS - Søndersø"},{"$f":"CONCATENATE(LEFT(Tabel4[[#This Row],[Lokation]],3),\" - \",MID(Tabel4[[#This Row],[Lokation]],5,50))","v":"TPL - Transportledninger - Søndersø"},280,{"$f":"CONCATENATE(\"vand\",(LEFT(Tabel4[[#This Row],[Område med bindestreg]],2)))","v":"vandSS"}]
["SS Søndersø","UBO Søndersø - U-Boringer",{"$f":"CONCATENATE(LEFT(Tabel4[[#This Row],[Område_Opland]],2),\" - \",MID(Tabel4[[#This Row],[Område_Opland]],4,50))","v":"SS - Søndersø"},{"$f":"CONCATENATE(LEFT(Tabel4[[#This Row],[Lokation]],3),\" - \",MID(Tabel4[[#This Row],[Lokation]],5,50))","v":"UBO - Søndersø - U-Boringer"},281,{"$f":"CONCATENATE(\"vand\",(LEFT(Tabel4[[#This Row],[Område med bindestreg]],2)))","v":"vandSS"}]
["SS Søndersø","VIK Vindekilde - Inspektionsbrønd",{"$f":"CONCATENATE(LEFT(Tabel4[[#This Row],[Område_Opland]],2),\" - \",MID(Tabel4[[#This Row],[Område_Opland]],4,50))","v":"SS - Søndersø"},{"$f":"CONCATENATE(LEFT(Tabel4[[#This Row],[Lokation]],3),\" - \",MID(Tabel4[[#This Row],[Lokation]],5,50))","v":"VIK - Vindekilde - Inspektionsbrønd"},282,{"$f":"CONCATENATE(\"vand\",(LEFT(Tabel4[[#This Row],[Område med bindestreg]],2)))","v":"vandSS"}]
["SS Søndersø","VRF Værløse - Foreningspunkt",{"$f":"CONCATENATE(LEFT(Tabel4[[#This Row],[Område_Opland]],2),\" - \",MID(Tabel4[[#This Row],[Område_Opland]],4,50))","v":"SS - Søndersø"},{"$f":"CONCATENATE(LEFT(Tabel4[[#This Row],[Lokation]],3),\" - \",MID(Tabel4[[#This Row],[Lokation]],5,50))","v":"VRF - Værløse - Foreningspunkt"},283,{"$f":"CONCATENATE(\"vand\",(LEFT(Tabel4[[#This Row],[Område med bindestreg]],2)))","v":"vandSS"}]
["SS Søndersø","WFA Søndersø - Filteranlæg",{"$f":"CONCATENATE(LEFT(Tabel4[[#This Row],[Område_Opland]],2),\" - \",MID(Tabel4[[#This Row],[Område_Opland]],4,50))","v":"SS - Søndersø"},{"$f":"CONCATENATE(LEFT(Tabel4[[#This Row],[Lokation]],3),\" - \",MID(Tabel4[[#This Row],[Lokation]],5,50))","v":"WFA - Søndersø - Filteranlæg"},284,{"$f":"CONCATENATE(\"vand\",(LEFT(Tabel4[[#This Row],[Område med bindestreg]],2)))","v":"vandSS"}]
["SS Søndersø","WFF Vsswff - Skal Ikke Benyttes Mere",{"$f":"CONCATENATE(LEFT(Tabel4[[#This Row],[Område_Opland]],2),\" - \",MID(Tabel4[[#This Row],[Område_Opland]],4,50))","v":"SS - Søndersø"},{"$f":"CONCATENATE(LEFT(Tabel4[[#This Row],[Lokation]],3),\" - \",MID(Tabel4[[#This Row],[Lokation]],5,50))","v":"WFF - Vsswff - Skal Ikke Benyttes Mere"},285,{"$f":"CONCATENATE(\"vand\",(LEFT(Tabel4[[#This Row],[Område med bindestreg]],2)))","v":"vandSS"}]
["SS Søndersø","WIT Søndersø - Iltningsanlæg",{"$f":"CONCATENATE(LEFT(Tabel4[[#This Row],[Område_Opland]],2),\" - \",MID(Tabel4[[#This Row],[Område_Opland]],4,50))","v":"SS - Søndersø"},{"$f":"CONCATENATE(LEFT(Tabel4[[#This Row],[Lokation]],3),\" - \",MID(Tabel4[[#This Row],[Lokation]],5,50))","v":"WIT - Søndersø - Iltningsanlæg"},286,{"$f":"CONCATENATE(\"vand\",(LEFT(Tabel4[[#This Row],[Område med bindestreg]],2)))","v":"vandSS"}]
["SS Søndersø","WRB Søndersø - Rentvandsbeholder",{"$f":"CONCATENATE(LEFT(Tabel4[[#This Row],[Område_Opland]],2),\" - \",MID(Tabel4[[#This Row],[Område_Opland]],4,50))","v":"SS - Søndersø"},{"$f":"CONCATENATE(LEFT(Tabel4[[#This Row],[Lokation]],3),\" - \",MID(Tabel4[[#This Row],[Lokation]],5,50))","v":"WRB - Søndersø - Rentvandsbeholder"},287,{"$f":"CONCATENATE(\"vand\",(LEFT(Tabel4[[#This Row],[Område med bindestreg]],2)))","v":"vandSS"}]
["SS Søndersø","WSK Søndersø - Skyllevand",{"$f":"CONCATENATE(LEFT(Tabel4[[#This Row],[Område_Opland]],2),\" - \",MID(Tabel4[[#This Row],[Område_Opland]],4,50))","v":"SS - Søndersø"},{"$f":"CONCATENATE(LEFT(Tabel4[[#This Row],[Lokation]],3),\" - \",MID(Tabel4[[#This Row],[Lokation]],5,50))","v":"WSK - Søndersø - Skyllevand"},288,{"$f":"CONCATENATE(\"vand\",(LEFT(Tabel4[[#This Row],[Område med bindestreg]],2)))","v":"vandSS"}]
["SS Søndersø","WTB Søndersø - Tryksvingningsbeholder",{"$f":"CONCATENATE(LEFT(Tabel4[[#This Row],[Område_Opland]],2),\" - \",MID(Tabel4[[#This Row],[Område_Opland]],4,50))","v":"SS - Søndersø"},{"$f":"CONCATENATE(LEFT(Tabel4[[#This Row],[Lokation]],3),\" - \",MID(Tabel4[[#This Row],[Lokation]],5,50))","v":"WTB - Søndersø - Tryksvingningsbeholder"},289,{"$f":"CONCATENATE(\"vand\",(LEFT(Tabel4[[#This Row],[Område med bindestreg]],2)))","v":"vandSS"}]
["SS Søndersø","WTP Søndersø - Trykpumpestation",{"$f":"CONCATENATE(LEFT(Tabel4[[#This Row],[Område_Opland]],2),\" - \",MID(Tabel4[[#This Row],[Område_Opland]],4,50))","v":"SS - Søndersø"},{"$f":"CONCATENATE(LEFT(Tabel4[[#This Row],[Lokation]],3),\" - \",MID(Tabel4[[#This Row],[Lokation]],5,50))","v":"WTP - Søndersø - Trykpumpestation"},290,{"$f":"CONCATENATE(\"vand\",(LEFT(Tabel4[[#This Row],[Område med bindestreg]],2)))","v":"vandSS"}]
["SS Søndersø","WXX Søndersø - Vandværk Diverse/Fælles",{"$f":"CONCATENATE(LEFT(Tabel4[[#This Row],[Område_Opland]],2),\" - \",MID(Tabel4[[#This Row],[Område_Opland]],4,50))","v":"SS - Søndersø"},{"$f":"CONCATENATE(LEFT(Tabel4[[#This Row],[Lokation]],3),\" - \",MID(Tabel4[[#This Row],[Lokation]],5,50))","v":"WXX - Søndersø - Vandværk Diverse/Fælles"},291,{"$f":"CONCATENATE(\"vand\",(LEFT(Tabel4[[#This Row],[Område med bindestreg]],2)))","v":"vandSS"}]
["SY SRO System","AMV Amagerværket",{"$f":"CONCATENATE(LEFT(Tabel4[[#This Row],[Område_Opland]],2),\" - \",MID(Tabel4[[#This Row],[Område_Opland]],4,50))","v":"SY - SRO System"},{"$f":"CONCATENATE(LEFT(Tabel4[[#This Row],[Lokation]],3),\" - \",MID(Tabel4[[#This Row],[Lokation]],5,50))","v":"AMV - Amagerværket"},292,{"$f":"CONCATENATE(\"vand\",(LEFT(Tabel4[[#This Row],[Område med bindestreg]],2)))","v":"vandSY"}]
["SY SRO System","PAR Parkstien",{"$f":"CONCATENATE(LEFT(Tabel4[[#This Row],[Område_Opland]],2),\" - \",MID(Tabel4[[#This Row],[Område_Opland]],4,50))","v":"SY - SRO System"},{"$f":"CONCATENATE(LEFT(Tabel4[[#This Row],[Lokation]],3),\" - \",MID(Tabel4[[#This Row],[Lokation]],5,50))","v":"PAR - Parkstien"},293,{"$f":"CONCATENATE(\"vand\",(LEFT(Tabel4[[#This Row],[Område med bindestreg]],2)))","v":"vandSY"}]
["TH Thorsbro","BOB Brøndbyøster Boulevard",{"$f":"CONCATENATE(LEFT(Tabel4[[#This Row],[Område_Opland]],2),\" - \",MID(Tabel4[[#This Row],[Område_Opland]],4,50))","v":"TH - Thorsbro"},{"$f":"CONCATENATE(LEFT(Tabel4[[#This Row],[Lokation]],3),\" - \",MID(Tabel4[[#This Row],[Lokation]],5,50))","v":"BOB - Brøndbyøster Boulevard"},294,{"$f":"CONCATENATE(\"vand\",(LEFT(Tabel4[[#This Row],[Område med bindestreg]],2)))","v":"vandTH"}]
["TH Thorsbro","DHB Damhus Boulevard Målerstation - Transportledningsmåler",{"$f":"CONCATENATE(LEFT(Tabel4[[#This Row],[Område_Opland]],2),\" - \",MID(Tabel4[[#This Row],[Område_Opland]],4,50))","v":"TH - Thorsbro"},{"$f":"CONCATENATE(LEFT(Tabel4[[#This Row],[Lokation]],3),\" - \",MID(Tabel4[[#This Row],[Lokation]],5,50))","v":"DHB - Damhus Boulevard Målerstation - Transportledningsm"},295,{"$f":"CONCATENATE(\"vand\",(LEFT(Tabel4[[#This Row],[Område med bindestreg]],2)))","v":"vandTH"}]
["TH Thorsbro","HAD Havdrup - Pumpestation",{"$f":"CONCATENATE(LEFT(Tabel4[[#This Row],[Område_Opland]],2),\" - \",MID(Tabel4[[#This Row],[Område_Opland]],4,50))","v":"TH - Thorsbro"},{"$f":"CONCATENATE(LEFT(Tabel4[[#This Row],[Lokation]],3),\" - \",MID(Tabel4[[#This Row],[Lokation]],5,50))","v":"HAD - Havdrup - Pumpestation"},296,{"$f":"CONCATENATE(\"vand\",(LEFT(Tabel4[[#This Row],[Område med bindestreg]],2)))","v":"vandTH"}]
["TH Thorsbro","HDA Knudslundvej / Hedeager",{"$f":"CONCATENATE(LEFT(Tabel4[[#This Row],[Område_Opland]],2),\" - \",MID(Tabel4[[#This Row],[Område_Opland]],4,50))","v":"TH - Thorsbro"},{"$f":"CONCATENATE(LEFT(Tabel4[[#This Row],[Lokation]],3),\" - \",MID(Tabel4[[#This Row],[Lokation]],5,50))","v":"HDA - Knudslundvej / Hedeager"},297,{"$f":"CONCATENATE(\"vand\",(LEFT(Tabel4[[#This Row],[Område med bindestreg]],2)))","v":"vandTH"}]
["TH Thorsbro","IBT Ishøj Bygade",{"$f":"CONCATENATE(LEFT(Tabel4[[#This Row],[Område_Opland]],2),\" - \",MID(Tabel4[[#This Row],[Område_Opland]],4,50))","v":"TH - Thorsbro"},{"$f":"CONCATENATE(LEFT(Tabel4[[#This Row],[Lokation]],3),\" - \",MID(Tabel4[[#This Row],[Lokation]],5,50))","v":"IBT - Ishøj Bygade"},298,{"$f":"CONCATENATE(\"vand\",(LEFT(Tabel4[[#This Row],[Område med bindestreg]],2)))","v":"vandTH"}]
["TH Thorsbro","ISH Ishøj - Dykpumpeanlæg",{"$f":"CONCATENATE(LEFT(Tabel4[[#This Row],[Område_Opland]],2),\" - \",MID(Tabel4[[#This Row],[Område_Opland]],4,50))","v":"TH - Thorsbro"},{"$f":"CONCATENATE(LEFT(Tabel4[[#This Row],[Lokation]],3),\" - \",MID(Tabel4[[#This Row],[Lokation]],5,50))","v":"ISH - Ishøj - Dykpumpeanlæg"},299,{"$f":"CONCATENATE(\"vand\",(LEFT(Tabel4[[#This Row],[Område med bindestreg]],2)))","v":"vandTH"}]
["TH Thorsbro","KAR Karlslunde - Dykpumpeanlæg",{"$f":"CONCATENATE(LEFT(Tabel4[[#This Row],[Område_Opland]],2),\" - \",MID(Tabel4[[#This Row],[Område_Opland]],4,50))","v":"TH - Thorsbro"},{"$f":"CONCATENATE(LEFT(Tabel4[[#This Row],[Lokation]],3),\" - \",MID(Tabel4[[#This Row],[Lokation]],5,50))","v":"KAR - Karlslunde - Dykpumpeanlæg"},300,{"$f":"CONCATENATE(\"vand\",(LEFT(Tabel4[[#This Row],[Område med bindestreg]],2)))","v":"vandTH"}]
["TH Thorsbro","KOV Ishøj Golf 1 / Ishøj Golf 2",{"$f":"CONCATENATE(LEFT(Tabel4[[#This Row],[Område_Opland]],2),\" - \",MID(Tabel4[[#This Row],[Område_Opland]],4,50))","v":"TH - Thorsbro"},{"$f":"CONCATENATE(LEFT(Tabel4[[#This Row],[Lokation]],3),\" - \",MID(Tabel4[[#This Row],[Lokation]],5,50))","v":"KOV - Ishøj Golf 1 / Ishøj Golf 2"},301,{"$f":"CONCATENATE(\"vand\",(LEFT(Tabel4[[#This Row],[Område med bindestreg]],2)))","v":"vandTH"}]
["TH Thorsbro","LBV Lykkebovej - Målerstation (transportledningsmåler)",{"$f":"CONCATENATE(LEFT(Tabel4[[#This Row],[Område_Opland]],2),\" - \",MID(Tabel4[[#This Row],[Område_Opland]],4,50))","v":"TH - Thorsbro"},{"$f":"CONCATENATE(LEFT(Tabel4[[#This Row],[Lokation]],3),\" - \",MID(Tabel4[[#This Row],[Lokation]],5,50))","v":"LBV - Lykkebovej - Målerstation (transportledningsmåler)"},302,{"$f":"CONCATENATE(\"vand\",(LEFT(Tabel4[[#This Row],[Område med bindestreg]],2)))","v":"vandTH"}]
["TH Thorsbro","LYK Lyksager - Dykpumpeanlæg",{"$f":"CONCATENATE(LEFT(Tabel4[[#This Row],[Område_Opland]],2),\" - \",MID(Tabel4[[#This Row],[Område_Opland]],4,50))","v":"TH - Thorsbro"},{"$f":"CONCATENATE(LEFT(Tabel4[[#This Row],[Lokation]],3),\" - \",MID(Tabel4[[#This Row],[Lokation]],5,50))","v":"LYK - Lyksager - Dykpumpeanlæg"},303,{"$f":"CONCATENATE(\"vand\",(LEFT(Tabel4[[#This Row],[Område med bindestreg]],2)))","v":"vandTH"}]
["TH Thorsbro","MBO Thorsbro - M-Boringer",{"$f":"CONCATENATE(LEFT(Tabel4[[#This Row],[Område_Opland]],2),\" - \",MID(Tabel4[[#This Row],[Område_Opland]],4,50))","v":"TH - Thorsbro"},{"$f":"CONCATENATE(LEFT(Tabel4[[#This Row],[Lokation]],3),\" - \",MID(Tabel4[[#This Row],[Lokation]],5,50))","v":"MBO - Thorsbro - M-Boringer"},304,{"$f":"CONCATENATE(\"vand\",(LEFT(Tabel4[[#This Row],[Område med bindestreg]],2)))","v":"vandTH"}]
["TH Thorsbro","PRE Præsteengen Kildeplads (Thorsbro)",{"$f":"CONCATENATE(LEFT(Tabel4[[#This Row],[Område_Opland]],2),\" - \",MID(Tabel4[[#This Row],[Område_Opland]],4,50))","v":"TH - Thorsbro"},{"$f":"CONCATENATE(LEFT(Tabel4[[#This Row],[Lokation]],3),\" - \",MID(Tabel4[[#This Row],[Lokation]],5,50))","v":"PRE - Præsteengen Kildeplads (Thorsbro)"},305,{"$f":"CONCATENATE(\"vand\",(LEFT(Tabel4[[#This Row],[Område med bindestreg]],2)))","v":"vandTH"}]
["TH Thorsbro","PVR Park Allé ved Rådhuset",{"$f":"CONCATENATE(LEFT(Tabel4[[#This Row],[Område_Opland]],2),\" - \",MID(Tabel4[[#This Row],[Område_Opland]],4,50))","v":"TH - Thorsbro"},{"$f":"CONCATENATE(LEFT(Tabel4[[#This Row],[Lokation]],3),\" - \",MID(Tabel4[[#This Row],[Lokation]],5,50))","v":"PVR - Park Allé ved Rådhuset"},306,{"$f":"CONCATENATE(\"vand\",(LEFT(Tabel4[[#This Row],[Område med bindestreg]],2)))","v":"vandTH"}]
["TH Thorsbro","RVL Råvandsledninger - Thorsbro",{"$f":"CONCATENATE(LEFT(Tabel4[[#This Row],[Område_Opland]],2),\" - \",MID(Tabel4[[#This Row],[Område_Opland]],4,50))","v":"TH - Thorsbro"},{"$f":"CONCATENATE(LEFT(Tabel4[[#This Row],[Lokation]],3),\" - \",MID(Tabel4[[#This Row],[Lokation]],5,50))","v":"RVL - Råvandsledninger - Thorsbro"},307,{"$f":"CONCATENATE(\"vand\",(LEFT(Tabel4[[#This Row],[Område med bindestreg]],2)))","v":"vandTH"}]
["TH Thorsbro","SOI Solhøj - Iltningsanlæg",{"$f":"CONCATENATE(LEFT(Tabel4[[#This Row],[Område_Opland]],2),\" - \",MID(Tabel4[[#This Row],[Område_Opland]],4,50))","v":"TH - Thorsbro"},{"$f":"CONCATENATE(LEFT(Tabel4[[#This Row],[Lokation]],3),\" - \",MID(Tabel4[[#This Row],[Lokation]],5,50))","v":"SOI - Solhøj - Iltningsanlæg"},308,{"$f":"CONCATENATE(\"vand\",(LEFT(Tabel4[[#This Row],[Område med bindestreg]],2)))","v":"vandTH"}]
["TH Thorsbro","SOL Solhøj - Dykpumpeanlæg",{"$f":"CONCATENATE(LEFT(Tabel4[[#This Row],[Område_Opland]],2),\" - \",MID(Tabel4[[#This Row],[Område_Opland]],4,50))","v":"TH - Thorsbro"},{"$f":"CONCATENATE(LEFT(Tabel4[[#This Row],[Lokation]],3),\" - \",MID(Tabel4[[#This Row],[Lokation]],5,50))","v":"SOL - Solhøj - Dykpumpeanlæg"},309,{"$f":"CONCATENATE(\"vand\",(LEFT(Tabel4[[#This Row],[Område med bindestreg]],2)))","v":"vandTH"}]
["TH Thorsbro","SRV Srd Ringvej 55",{"$f":"CONCATENATE(LEFT(Tabel4[[#This Row],[Område_Opland]],2),\" - \",MID(Tabel4[[#This Row],[Område_Opland]],4,50))","v":"TH - Thorsbro"},{"$f":"CONCATENATE(LEFT(Tabel4[[#This Row],[Lokation]],3),\" - \",MID(Tabel4[[#This Row],[Lokation]],5,50))","v":"SRV - Srd Ringvej 55"},310,{"$f":"CONCATENATE(\"vand\",(LEFT(Tabel4[[#This Row],[Område med bindestreg]],2)))","v":"vandTH"}]
["TH Thorsbro","STV Store Vejleå (Grønt Vedligehold)",{"$f":"CONCATENATE(LEFT(Tabel4[[#This Row],[Område_Opland]],2),\" - \",MID(Tabel4[[#This Row],[Område_Opland]],4,50))","v":"TH - Thorsbro"},{"$f":"CONCATENATE(LEFT(Tabel4[[#This Row],[Lokation]],3),\" - \",MID(Tabel4[[#This Row],[Lokation]],5,50))","v":"STV - Store Vejleå (Grønt Vedligehold)"},311,{"$f":"CONCATENATE(\"vand\",(LEFT(Tabel4[[#This Row],[Område med bindestreg]],2)))","v":"vandTH"}]
["TH Thorsbro","THA Thorsbro A - Dykpumpeanlæg",{"$f":"CONCATENATE(LEFT(Tabel4[[#This Row],[Område_Opland]],2),\" - \",MID(Tabel4[[#This Row],[Område_Opland]],4,50))","v":"TH - Thorsbro"},{"$f":"CONCATENATE(LEFT(Tabel4[[#This Row],[Lokation]],3),\" - \",MID(Tabel4[[#This Row],[Lokation]],5,50))","v":"THA - Thorsbro A - Dykpumpeanlæg"},312,{"$f":"CONCATENATE(\"vand\",(LEFT(Tabel4[[#This Row],[Område med bindestreg]],2)))","v":"vandTH"}]
["TH Thorsbro","THC Thorsbro C - Dykpumpeanlæg",{"$f":"CONCATENATE(LEFT(Tabel4[[#This Row],[Område_Opland]],2),\" - \",MID(Tabel4[[#This Row],[Område_Opland]],4,50))","v":"TH - Thorsbro"},{"$f":"CONCATENATE(LEFT(Tabel4[[#This Row],[Lokation]],3),\" - \",MID(Tabel4[[#This Row],[Lokation]],5,50))","v":"THC - Thorsbro C - Dykpumpeanlæg"},313,{"$f":"CONCATENATE(\"vand\",(LEFT(Tabel4[[#This Row],[Område med bindestreg]],2)))","v":"vandTH"}]
["TH Thorsbro","THD Thorsbro D - Dykpumpeanlæg",{"$f":"CONCATENATE(LEFT(Tabel4[[#This Row],[Område_Opland]],2),\" - \",MID(Tabel4[[#This Row],[Område_Opland]],4,50))","v":"TH - Thorsbro"},{"$f":"CONCATENATE(LEFT(Tabel4[[#This Row],[Lokation]],3),\" - \",MID(Tabel4[[#This Row],[Lokation]],5,50))","v":"THD - Thorsbro D - Dykpumpeanlæg"},314,{"$f":"CONCATENATE(\"vand\",(LEFT(Tabel4[[#This Row],[Område med bindestreg]],2)))","v":"vandTH"}]
["TH Thorsbro","THL Torslunde - Dykpumpeanlæg",{"$f":"CONCATENATE(LEFT(Tabel4[[#This Row],[Område_Opland]],2),\" - \",MID(Tabel4[[#This Row],[Område_Opland]],4,50))","v":"TH - Thorsbro"},{"$f":"CONCATENATE(LEFT(Tabel4[[#This Row],[Lokation]],3),\" - \",MID(Tabel4[[#This Row],[Lokation]],5,50))","v":"THL - Torslunde - Dykpumpeanlæg"},315,{"$f":"CONCATENATE(\"vand\",(LEFT(Tabel4[[#This Row],[Område med bindestreg]],2)))","v":"vandTH"}]
["TH Thorsbro","TPL Transportledninger - Thorsbro",{"$f":"CONCATENATE(LEFT(Tabel4[[#This Row],[Område_Opland]],2),\" - \",MID(Tabel4[[#This Row],[Område_Opland]],4,50))","v":"TH - Thorsbro"},{"$f":"CONCATENATE(LEFT(Tabel4[[#This Row],[Lokation]],3),\" - \",MID(Tabel4[[#This Row],[Lokation]],5,50))","v":"TPL - Transportledninger - Thorsbro"},316,{"$f":"CONCATENATE(\"vand\",(LEFT(Tabel4[[#This Row],[Område med bindestreg]],2)))","v":"vandTH"}]
["TH Thorsbro","TVA Tåstrup Valby - Pumpestation",{"$f":"CONCATENATE(LEFT(Tabel4[[#This Row],[Område_Opland]],2),\" - \",MID(Tabel4[[#This Row],[Område_Opland]],4,50))","v":"TH - Thorsbro"},{"$f":"CONCATENATE(LEFT(Tabel4[[#This Row],[Lokation]],3),\" - \",MID(Tabel4[[#This Row],[Lokation]],5,50))","v":"TVA - Tåstrup Valby - Pumpestation"},317,{"$f":"CONCATENATE(\"vand\",(LEFT(Tabel4[[#This Row],[Område med bindestreg]],2)))","v":"vandTH"}]
["TH Thorsbro","TVV Tåstrup - Valbyvej 1",{"$f":"CONCATENATE(LEFT(Tabel4[[#This Row],[Område_Opland]],2),\" - \",MID(Tabel4[[#This Row],[Område_Opland]],4,50))","v":"TH - Thorsbro"},{"$f":"CONCATENATE(LEFT(Tabel4[[#This Row],[Lokation]],3),\" - \",MID(Tabel4[[#This Row],[Lokation]],5,50))","v":"TVV - Tåstrup - Valbyvej 1"},318,{"$f":"CONCATENATE(\"vand\",(LEFT(Tabel4[[#This Row],[Område med bindestreg]],2)))","v":"vandTH"}]
["TH Thorsbro","UBO Thorsbro - U-Boringer",{"$f":"CONCATENATE(LEFT(Tabel4[[#This Row],[Område_Opland]],2),\" - \",MID(Tabel4[[#This Row],[Område_Opland]],4,50))","v":"TH - Thorsbro"},{"$f":"CONCATENATE(LEFT(Tabel4[[#This Row],[Lokation]],3),\" - \",MID(Tabel4[[#This Row],[Lokation]],5,50))","v":"UBO - Thorsbro - U-Boringer"},319,{"$f":"CONCATENATE(\"vand\",(LEFT(Tabel4[[#This Row],[Område med bindestreg]],2)))","v":"vandTH"}]
["TH Thorsbro","VAR Vardegård - Pumpestation",{"$f":"CONCATENATE(LEFT(Tabel4[[#This Row],[Område_Opland]],2),\" - \",MID(Tabel4[[#This Row],[Område_Opland]],4,50))","v":"TH - Thorsbro"},{"$f":"CONCATENATE(LEFT(Tabel4[[#This Row],[Lokation]],3),\" - \",MID(Tabel4[[#This Row],[Lokation]],5,50))","v":"VAR - Vardegård - Pumpestation"},320,{"$f":"CONCATENATE(\"vand\",(LEFT(Tabel4[[#This Row],[Område med bindestreg]],2)))","v":"vandTH"}]
["TH Thorsbro","VMV Ishøj",{"$f":"CONCATENATE(LEFT(Tabel4[[#This Row],[Område_Opland]],2),\" - \",MID(Tabel4[[#This Row],[Område_Opland]],4,50))","v":"TH - Thorsbro"},{"$f":"CONCATENATE(LEFT(Tabel4[[#This Row],[Lokation]],3),\" - \",MID(Tabel4[[#This Row],[Lokation]],5,50))","v":"VMV - Ishøj"},321,{"$f":"CONCATENATE(\"vand\",(LEFT(Tabel4[[#This Row],[Område med bindestreg]],2)))","v":"vandTH"}]
["TH Thorsbro","WBS Thorsbro Booster / Brøndpumpe 1",{"$f":"CONCATENATE(LEFT(Tabel4[[#This Row],[Område_Opland]],2),\" - \",MID(Tabel4[[#This Row],[Område_Opland]],4,50))","v":"TH - Thorsbro"},{"$f":"CONCATENATE(LEFT(Tabel4[[#This Row],[Lokation]],3),\" - \",MID(Tabel4[[#This Row],[Lokation]],5,50))","v":"WBS - Thorsbro Booster / Brøndpumpe 1"},322,{"$f":"CONCATENATE(\"vand\",(LEFT(Tabel4[[#This Row],[Område med bindestreg]],2)))","v":"vandTH"}]
["TH Thorsbro","WFA Thorsbro - Filteranlæg",{"$f":"CONCATENATE(LEFT(Tabel4[[#This Row],[Område_Opland]],2),\" - \",MID(Tabel4[[#This Row],[Område_Opland]],4,50))","v":"TH - Thorsbro"},{"$f":"CONCATENATE(LEFT(Tabel4[[#This Row],[Lokation]],3),\" - \",MID(Tabel4[[#This Row],[Lokation]],5,50))","v":"WFA - Thorsbro - Filteranlæg"},323,{"$f":"CONCATENATE(\"vand\",(LEFT(Tabel4[[#This Row],[Område med bindestreg]],2)))","v":"vandTH"}]
["TH Thorsbro","WFF Vthwff - Skal Ikke Benyttes Mere",{"$f":"CONCATENATE(LEFT(Tabel4[[#This Row],[Område_Opland]],2),\" - \",MID(Tabel4[[#This Row],[Område_Opland]],4,50))","v":"TH - Thorsbro"},{"$f":"CONCATENATE(LEFT(Tabel4[[#This Row],[Lokation]],3),\" - \",MID(Tabel4[[#This Row],[Lokation]],5,50))","v":"WFF - Vthwff - Skal Ikke Benyttes Mere"},324,{"$f":"CONCATENATE(\"vand\",(LEFT(Tabel4[[#This Row],[Område med bindestreg]],2)))","v":"vandTH"}]
["TH Thorsbro","WGA Thorsbro - Genbrugsanlæg",{"$f":"CONCATENATE(LEFT(Tabel4[[#This Row],[Område_Opland]],2),\" - \",MID(Tabel4[[#This Row],[Område_Opland]],4,50))","v":"TH - Thorsbro"},{"$f":"CONCATENATE(LEFT(Tabel4[[#This Row],[Lokation]],3),\" - \",MID(Tabel4[[#This Row],[Lokation]],5,50))","v":"WGA - Thorsbro - Genbrugsanlæg"},325,{"$f":"CONCATENATE(\"vand\",(LEFT(Tabel4[[#This Row],[Område med bindestreg]],2)))","v":"vandTH"}]
["TH Thorsbro","WIT Thorsbro - Iltningsanlæg",{"$f":"CONCATENATE(LEFT(Tabel4[[#This Row],[Område_Opland]],2),\" - \",MID(Tabel4[[#This Row],[Område_Opland]],4,50))","v":"TH - Thorsbro"},{"$f":"CONCATENATE(LEFT(Tabel4[[#This Row],[Lokation]],3),\" - \",MID(Tabel4[[#This Row],[Lokation]],5,50))","v":"WIT - Thorsbro - Iltningsanlæg"},326,{"$f":"CONCATENATE(\"vand\",(LEFT(Tabel4[[#This Row],[Område med bindestreg]],2)))","v":"vandTH"}]
["TH Thorsbro","WRB Thorsbro - Rentvandsbeholder",{"$f":"CONCATENATE(LEFT(Tabel4[[#This Row],[Område_Opland]],2),\" - \",MID(Tabel4[[#This Row],[Område_Opland]],4,50))","v":"TH - Thorsbro"},{"$f":"CONCATENATE(LEFT(Tabel4[[#This Row],[Lokation]],3),\" - \",MID(Tabel4[[#This Row],[Lokation]],5,50))","v":"WRB - Thorsbro - Rentvandsbeholder"},327,{"$f":"CONCATENATE(\"vand\",(LEFT(Tabel4[[#This Row],[Område med bindestreg]],2)))","v":"vandTH"}]
["TH Thorsbro","WSK Thorsbro - Skyllevand",{"$f":"CONCATENATE(LEFT(Tabel4[[#This Row],[Område_Opland]],2),\" - \",MID(Tabel4[[#This Row],[Område_Opland]],4,50))","v":"TH - Thorsbro"},{"$f":"CONCATENATE(LEFT(Tabel4[[#This Row],[Lokation]],3),\" - \",MID(Tabel4[[#This Row],[Lokation]],5,50))","v":"WSK - Thorsbro - Skyllevand"},328,{"$f":"CONCATENATE(\"vand\",(LEFT(Tabel4[[#This Row],[Område med bindestreg]],2)))","v":"vandTH"}]
["TH Thorsbro","WTB Thorsbro - Vindkedel / Tryksvingningsbeholder",{"$f":"CONCATENATE(LEFT(Tabel4[[#This Row],[Område_Opland]],2),\" - \",MID(Tabel4[[#This Row],[Område_Opland]],4,50))","v":"TH - Thorsbro"},{"$f":"CONCATENATE(LEFT(Tabel4[[#This Row],[Lokation]],3),\" - \",MID(Tabel4[[#This Row],[Lokation]],5,50))","v":"WTB - Thorsbro - Vindkedel / Tryksvingningsbeholder"},329,{"$f":"CONCATENATE(\"vand\",(LEFT(Tabel4[[#This Row],[Område med bindestreg]],2)))","v":"vandTH"}]
["TH Thorsbro","WTP Thorsbro - Trykpumpestation",{"$f":"CONCATENATE(LEFT(Tabel4[[#This Row],[Område_Opland]],2),\" - \",MID(Tabel4[[#This Row],[Område_Opland]],4,50))","v":"TH - Thorsbro"},{"$f":"CONCATENATE(LEFT(Tabel4[[#This Row],[Lokation]],3),\" - \",MID(Tabel4[[#This Row],[Lokation]],5,50))","v":"WTP - Thorsbro - Trykpumpestation"},330,{"$f":"CONCATENATE(\"vand\",(LEFT(Tabel4[[#This Row],[Område med bindestreg]],2)))","v":"vandTH"}]
["TH Thorsbro","WXX Thorsbro Vandværk - Diverse",{"$f":"CONCATENATE(LEFT(Tabel4[[#This Row],[Område_Opland]],2),\" - \",MID(Tabel4[[#This Row],[Område_Opland]],4,50))","v":"TH - Thorsbro"},{"$f":"CONCATENATE(LEFT(Tabel4[[#This Row],[Lokation]],3),\" - \",MID(Tabel4[[#This Row],[Lokation]],5,50))","v":"WXX - Thorsbro Vandværk - Diverse"},331,{"$f":"CONCATENATE(\"vand\",(LEFT(Tabel4[[#This Row],[Område med bindestreg]],2)))","v":"vandTH"}]
["TH Thorsbro","XXX Råvandsledninger - Thorsbro",{"$f":"CONCATENATE(LEFT(Tabel4[[#This Row],[Område_Opland]],2),\" - \",MID(Tabel4[[#This Row],[Område_Opland]],4,50))","v":"TH - Thorsbro"},{"$f":"CONCATENATE(LEFT(Tabel4[[#This Row],[Lokation]],3),\" - \",MID(Tabel4[[#This Row],[Lokation]],5,50))","v":"XXX - Råvandsledninger - Thorsbro"},332,{"$f":"CONCATENATE(\"vand\",(LEFT(Tabel4[[#This Row],[Område med bindestreg]],2)))","v":"vandTH"}]
["TI Tinghøj","000 Beholder Generelt",{"$f":"CONCATENATE(LEFT(Tabel4[[#This Row],[Område_Opland]],2),\" - \",MID(Tabel4[[#This Row],[Område_Opland]],4,50))","v":"TI - Tinghøj"},{"$f":"CONCATENATE(LEFT(Tabel4[[#This Row],[Lokation]],3),\" - \",MID(Tabel4[[#This Row],[Lokation]],5,50))","v":"000 - Beholder Generelt"},312,{"$f":"CONCATENATE(\"vand\",(LEFT(Tabel4[[#This Row],[Område med bindestreg]],2)))","v":"vandTI"}]
["TI Tinghøj","001 Beholder 1",{"$f":"CONCATENATE(LEFT(Tabel4[[#This Row],[Område_Opland]],2),\" - \",MID(Tabel4[[#This Row],[Område_Opland]],4,50))","v":"TI - Tinghøj"},{"$f":"CONCATENATE(LEFT(Tabel4[[#This Row],[Lokation]],3),\" - \",MID(Tabel4[[#This Row],[Lokation]],5,50))","v":"001 - Beholder 1"},313,{"$f":"CONCATENATE(\"vand\",(LEFT(Tabel4[[#This Row],[Område med bindestreg]],2)))","v":"vandTI"}]
["TI Tinghøj","002 Beholder 2",{"$f":"CONCATENATE(LEFT(Tabel4[[#This Row],[Område_Opland]],2),\" - \",MID(Tabel4[[#This Row],[Område_Opland]],4,50))","v":"TI - Tinghøj"},{"$f":"CONCATENATE(LEFT(Tabel4[[#This Row],[Lokation]],3),\" - \",MID(Tabel4[[#This Row],[Lokation]],5,50))","v":"002 - Beholder 2"},314,{"$f":"CONCATENATE(\"vand\",(LEFT(Tabel4[[#This Row],[Område med bindestreg]],2)))","v":"vandTI"}]
["TI Tinghøj","003 Beholder 3",{"$f":"CONCATENATE(LEFT(Tabel4[[#This Row],[Område_Opland]],2),\" - \",MID(Tabel4[[#This Row],[Område_Opland]],4,50))","v":"TI - Tinghøj"},{"$f":"CONCATENATE(LEFT(Tabel4[[#This Row],[Lokation]],3),\" - \",MID(Tabel4[[#This Row],[Lokation]],5,50))","v":"003 - Beholder 3"},315,{"$f":"CONCATENATE(\"vand\",(LEFT(Tabel4[[#This Row],[Område med bindestreg]],2)))","v":"vandTI"}]
["TI Tinghøj","004 Beholder 4",{"$f":"CONCATENATE(LEFT(Tabel4[[#This Row],[Område_Opland]],2),\" - \",MID(Tabel4[[#This Row],[Område_Opland]],4,50))","v":"TI - Tinghøj"},{"$f":"CONCATENATE(LEFT(Tabel4[[#This Row],[Lokation]],3),\" - \",MID(Tabel4[[#This Row],[Lokation]],5,50))","v":"004 - Beholder 4"},316,{"$f":"CONCATENATE(\"vand\",(LEFT(Tabel4[[#This Row],[Område med bindestreg]],2)))","v":"vandTI"}]
["TI Tinghøj","005 Beholder 5",{"$f":"CONCATENATE(LEFT(Tabel4[[#This Row],[Område_Opland]],2),\" - \",MID(Tabel4[[#This Row],[Område_Opland]],4,50))","v":"TI - Tinghøj"},{"$f":"CONCATENATE(LEFT(Tabel4[[#This Row],[Lokation]],3),\" - \",MID(Tabel4[[#This Row],[Lokation]],5,50))","v":"005 - Beholder 5"},317,{"$f":"CONCATENATE(\"vand\",(LEFT(Tabel4[[#This Row],[Område med bindestreg]],2)))","v":"vandTI"}]
["TI Tinghøj","006 Beholder 6",{"$f":"CONCATENATE(LEFT(Tabel4[[#This Row],[Område_Opland]],2),\" - \",MID(Tabel4[[#This Row],[Område_Opland]],4,50))","v":"TI - Tinghøj"},{"$f":"CONCATENATE(LEFT(Tabel4[[#This Row],[Lokation]],3),\" - \",MID(Tabel4[[#This Row],[Lokation]],5,50))","v":"006 - Beholder 6"},318,{"$f":"CONCATENATE(\"vand\",(LEFT(Tabel4[[#This Row],[Område med bindestreg]],2)))","v":"vandTI"}]
["TI Tinghøj","007 Beholder 7",{"$f":"CONCATENATE(LEFT(Tabel4[[#This Row],[Område_Opland]],2),\" - \",MID(Tabel4[[#This Row],[Område_Opland]],4,50))","v":"TI - Tinghøj"},{"$f":"CONCATENATE(LEFT(Tabel4[[#This Row],[Lokation]],3),\" - \",MID(Tabel4[[#This Row],[Lokation]],5,50))","v":"007 - Beholder 7"},319,{"$f":"CONCATENATE(\"vand\",(LEFT(Tabel4[[#This Row],[Område med bindestreg]],2)))","v":"vandTI"}]
["TI Tinghøj","008 Beholder 8",{"$f":"CONCATENATE(LEFT(Tabel4[[#This Row],[Område_Opland]],2),\" - \",MID(Tabel4[[#This Row],[Område_Opland]],4,50))","v":"TI - Tinghøj"},{"$f":"CONCATENATE(LEFT(Tabel4[[#This Row],[Lokation]],3),\" - \",MID(Tabel4[[#This Row],[Lokation]],5,50))","v":"008 - Beholder 8"},320,{"$f":"CONCATENATE(\"vand\",(LEFT(Tabel4[[#This Row],[Område med bindestreg]],2)))","v":"vandTI"}]
["TI Tinghøj","009 Beholder 9",{"$f":"CONCATENATE(LEFT(Tabel4[[#This Row],[Område_Opland]],2),\" - \",MID(Tabel4[[#This Row],[Område_Opland]],4,50))","v":"TI - Tinghøj"},{"$f":"CONCATENATE(LEFT(Tabel4[[#This Row],[Lokation]],3),\" - \",MID(Tabel4[[#This Row],[Lokation]],5,50))","v":"009 - Beholder 9"},321,{"$f":"CONCATENATE(\"vand\",(LEFT(Tabel4[[#This Row],[Område med bindestreg]],2)))","v":"vandTI"}]
["TI Tinghøj","010 Beholder 10",{"$f":"CONCATENATE(LEFT(Tabel4[[#This Row],[Område_Opland]],2),\" - \",MID(Tabel4[[#This Row],[Område_Opland]],4,50))","v":"TI - Tinghøj"},{"$f":"CONCATENATE(LEFT(Tabel4[[#This Row],[Lokation]],3),\" - \",MID(Tabel4[[#This Row],[Lokation]],5,50))","v":"010 - Beholder 10"},322,{"$f":"CONCATENATE(\"vand\",(LEFT(Tabel4[[#This Row],[Område med bindestreg]],2)))","v":"vandTI"}]
["TI Tinghøj","011 Beholder 11",{"$f":"CONCATENATE(LEFT(Tabel4[[#This Row],[Område_Opland]],2),\" - \",MID(Tabel4[[#This Row],[Område_Opland]],4,50))","v":"TI - Tinghøj"},{"$f":"CONCATENATE(LEFT(Tabel4[[#This Row],[Lokation]],3),\" - \",MID(Tabel4[[#This Row],[Lokation]],5,50))","v":"011 - Beholder 11"},323,{"$f":"CONCATENATE(\"vand\",(LEFT(Tabel4[[#This Row],[Område med bindestreg]],2)))","v":"vandTI"}]
["TI Tinghøj","12I Beholder 12 - Indløbsbygværk",{"$f":"CONCATENATE(LEFT(Tabel4[[#This Row],[Område_Opland]],2),\" - \",MID(Tabel4[[#This Row],[Område_Opland]],4,50))","v":"TI - Tinghøj"},{"$f":"CONCATENATE(LEFT(Tabel4[[#This Row],[Lokation]],3),\" - \",MID(Tabel4[[#This Row],[Lokation]],5,50))","v":"12I - Beholder 12 - Indløbsbygværk"},324,{"$f":"CONCATENATE(\"vand\",(LEFT(Tabel4[[#This Row],[Område med bindestreg]],2)))","v":"vandTI"}]
["TI Tinghøj","12N Beholder 12 Nord",{"$f":"CONCATENATE(LEFT(Tabel4[[#This Row],[Område_Opland]],2),\" - \",MID(Tabel4[[#This Row],[Område_Opland]],4,50))","v":"TI - Tinghøj"},{"$f":"CONCATENATE(LEFT(Tabel4[[#This Row],[Lokation]],3),\" - \",MID(Tabel4[[#This Row],[Lokation]],5,50))","v":"12N - Beholder 12 Nord"},325,{"$f":"CONCATENATE(\"vand\",(LEFT(Tabel4[[#This Row],[Område med bindestreg]],2)))","v":"vandTI"}]
["TI Tinghøj","12P Beholder 12 Pumpestation",{"$f":"CONCATENATE(LEFT(Tabel4[[#This Row],[Område_Opland]],2),\" - \",MID(Tabel4[[#This Row],[Område_Opland]],4,50))","v":"TI - Tinghøj"},{"$f":"CONCATENATE(LEFT(Tabel4[[#This Row],[Lokation]],3),\" - \",MID(Tabel4[[#This Row],[Lokation]],5,50))","v":"12P - Beholder 12 Pumpestation"},326,{"$f":"CONCATENATE(\"vand\",(LEFT(Tabel4[[#This Row],[Område med bindestreg]],2)))","v":"vandTI"}]
["TI Tinghøj","12S Beholder 12 Syd",{"$f":"CONCATENATE(LEFT(Tabel4[[#This Row],[Område_Opland]],2),\" - \",MID(Tabel4[[#This Row],[Område_Opland]],4,50))","v":"TI - Tinghøj"},{"$f":"CONCATENATE(LEFT(Tabel4[[#This Row],[Lokation]],3),\" - \",MID(Tabel4[[#This Row],[Lokation]],5,50))","v":"12S - Beholder 12 Syd"},327,{"$f":"CONCATENATE(\"vand\",(LEFT(Tabel4[[#This Row],[Område med bindestreg]],2)))","v":"vandTI"}]
["TI Tinghøj","NVA Nordvand Nødforsyning",{"$f":"CONCATENATE(LEFT(Tabel4[[#This Row],[Område_Opland]],2),\" - \",MID(Tabel4[[#This Row],[Område_Opland]],4,50))","v":"TI - Tinghøj"},{"$f":"CONCATENATE(LEFT(Tabel4[[#This Row],[Lokation]],3),\" - \",MID(Tabel4[[#This Row],[Lokation]],5,50))","v":"NVA - Nordvand Nødforsyning"},328,{"$f":"CONCATENATE(\"vand\",(LEFT(Tabel4[[#This Row],[Område med bindestreg]],2)))","v":"vandTI"}]
["TI Tinghøj","V01 Ventilbygning 1",{"$f":"CONCATENATE(LEFT(Tabel4[[#This Row],[Område_Opland]],2),\" - \",MID(Tabel4[[#This Row],[Område_Opland]],4,50))","v":"TI - Tinghøj"},{"$f":"CONCATENATE(LEFT(Tabel4[[#This Row],[Lokation]],3),\" - \",MID(Tabel4[[#This Row],[Lokation]],5,50))","v":"V01 - Ventilbygning 1"},329,{"$f":"CONCATENATE(\"vand\",(LEFT(Tabel4[[#This Row],[Område med bindestreg]],2)))","v":"vandTI"}]
["TI Tinghøj","V02 Ventilbygning 2",{"$f":"CONCATENATE(LEFT(Tabel4[[#This Row],[Område_Opland]],2),\" - \",MID(Tabel4[[#This Row],[Område_Opland]],4,50))","v":"TI - Tinghøj"},{"$f":"CONCATENATE(LEFT(Tabel4[[#This Row],[Lokation]],3),\" - \",MID(Tabel4[[#This Row],[Lokation]],5,50))","v":"V02 - Ventilbygning 2"},330,{"$f":"CONCATENATE(\"vand\",(LEFT(Tabel4[[#This Row],[Område med bindestreg]],2)))","v":"vandTI"}]
["VA Vallensbæk","HSP Sektion Vejlegårdsstien - MB Højstrupparken",{"$f":"CONCATENATE(LEFT(Tabel4[[#This Row],[Område_Opland]],2),\" - \",MID(Tabel4[[#This Row],[Område_Opland]],4,50))","v":"VA - Vallensbæk"},{"$f":"CONCATENATE(LEFT(Tabel4[[#This Row],[Lokation]],3),\" - \",MID(Tabel4[[#This Row],[Lokation]],5,50))","v":"HSP - Sektion Vejlegårdsstien - MB Højstrupparken"},331,{"$f":"CONCATENATE(\"vand\",(LEFT(Tabel4[[#This Row],[Område med bindestreg]],2)))","v":"vandVA"}]
["VA Vallensbæk","PIL Sektion Pilehavevænge - MB",{"$f":"CONCATENATE(LEFT(Tabel4[[#This Row],[Område_Opland]],2),\" - \",MID(Tabel4[[#This Row],[Område_Opland]],4,50))","v":"VA - Vallensbæk"},{"$f":"CONCATENATE(LEFT(Tabel4[[#This Row],[Lokation]],3),\" - \",MID(Tabel4[[#This Row],[Lokation]],5,50))","v":"PIL - Sektion Pilehavevænge - MB"},332,{"$f":"CONCATENATE(\"vand\",(LEFT(Tabel4[[#This Row],[Område med bindestreg]],2)))","v":"vandVA"}]
["VA Vallensbæk","RVL Råvandsledninger - Vallensbæk",{"$f":"CONCATENATE(LEFT(Tabel4[[#This Row],[Område_Opland]],2),\" - \",MID(Tabel4[[#This Row],[Område_Opland]],4,50))","v":"VA - Vallensbæk"},{"$f":"CONCATENATE(LEFT(Tabel4[[#This Row],[Lokation]],3),\" - \",MID(Tabel4[[#This Row],[Lokation]],5,50))","v":"RVL - Råvandsledninger - Vallensbæk"},333,{"$f":"CONCATENATE(\"vand\",(LEFT(Tabel4[[#This Row],[Område med bindestreg]],2)))","v":"vandVA"}]
["VA Vallensbæk","SPL Sektion Vejlegårdsstien - MB Strandesplanaden",{"$f":"CONCATENATE(LEFT(Tabel4[[#This Row],[Område_Opland]],2),\" - \",MID(Tabel4[[#This Row],[Område_Opland]],4,50))","v":"VA - Vallensbæk"},{"$f":"CONCATENATE(LEFT(Tabel4[[#This Row],[Lokation]],3),\" - \",MID(Tabel4[[#This Row],[Lokation]],5,50))","v":"SPL - Sektion Vejlegårdsstien - MB Strandesplanaden"},334,{"$f":"CONCATENATE(\"vand\",(LEFT(Tabel4[[#This Row],[Område med bindestreg]],2)))","v":"vandVA"}]
["VA Vallensbæk","UBO Vallensbæk - U-Boringer",{"$f":"CONCATENATE(LEFT(Tabel4[[#This Row],[Område_Opland]],2),\" - \",MID(Tabel4[[#This Row],[Område_Opland]],4,50))","v":"VA - Vallensbæk"},{"$f":"CONCATENATE(LEFT(Tabel4[[#This Row],[Lokation]],3),\" - \",MID(Tabel4[[#This Row],[Lokation]],5,50))","v":"UBO - Vallensbæk - U-Boringer"},335,{"$f":"CONCATENATE(\"vand\",(LEFT(Tabel4[[#This Row],[Område med bindestreg]],2)))","v":"vandVA"}]
["VA Vallensbæk","VAL Vallensbæk",{"$f":"CONCATENATE(LEFT(Tabel4[[#This Row],[Område_Opland]],2),\" - \",MID(Tabel4[[#This Row],[Område_Opland]],4,50))","v":"VA - Vallensbæk"},{"$f":"CONCATENATE(LEFT(Tabel4[[#This Row],[Lokation]],3),\" - \",MID(Tabel4[[#This Row],[Lokation]],5,50))","v":"VAL - Vallensbæk"},336,{"$f":"CONCATENATE(\"vand\",(LEFT(Tabel4[[#This Row],[Område med bindestreg]],2)))","v":"vandVA"}]
["VA Vallensbæk","VGS Sektion Vejlegårdsstien - MB Vejlegårdsstien",{"$f":"CONCATENATE(LEFT(Tabel4[[#This Row],[Område_Opland]],2),\" - \",MID(Tabel4[[#This Row],[Område_Opland]],4,50))","v":"VA - Vallensbæk"},{"$f":"CONCATENATE(LEFT(Tabel4[[#This Row],[Lokation]],3),\" - \",MID(Tabel4[[#This Row],[Lokation]],5,50))","v":"VGS - Sektion Vejlegårdsstien - MB Vejlegårdsstien"},337,{"$f":"CONCATENATE(\"vand\",(LEFT(Tabel4[[#This Row],[Område med bindestreg]],2)))","v":"vandVA"}]
["VA Vallensbæk","VGV Sektion Vejlegårdsvej - MB Vejlegårdsvej",{"$f":"CONCATENATE(LEFT(Tabel4[[#This Row],[Område_Opland]],2),\" - \",MID(Tabel4[[#This Row],[Område_Opland]],4,50))","v":"VA - Vallensbæk"},{"$f":"CONCATENATE(LEFT(Tabel4[[#This Row],[Lokation]],3),\" - \",MID(Tabel4[[#This Row],[Lokation]],5,50))","v":"VGV - Sektion Vejlegårdsvej - MB Vejlegårdsvej"},338,{"$f":"CONCATENATE(\"vand\",(LEFT(Tabel4[[#This Row],[Område med bindestreg]],2)))","v":"vandVA"}]
["VA Vallensbæk","WKL Kildeplads - Vallensbæk",{"$f":"CONCATENATE(LEFT(Tabel4[[#This Row],[Område_Opland]],2),\" - \",MID(Tabel4[[#This Row],[Område_Opland]],4,50))","v":"VA - Vallensbæk"},{"$f":"CONCATENATE(LEFT(Tabel4[[#This Row],[Lokation]],3),\" - \",MID(Tabel4[[#This Row],[Lokation]],5,50))","v":"WKL - Kildeplads - Vallensbæk"},339,{"$f":"CONCATENATE(\"vand\",(LEFT(Tabel4[[#This Row],[Område med bindestreg]],2)))","v":"vandVA"}]
["VA Vallensbæk","WXX Vallensbæk Vandværk Generelt",{"$f":"CONCATENATE(LEFT(Tabel4[[#This Row],[Område_Opland]],2),\" - \",MID(Tabel4[[#This Row],[Område_Opland]],4,50))","v":"VA - Vallensbæk"},{"$f":"CONCATENATE(LEFT(Tabel4[[#This Row],[Lokation]],3),\" - \",MID(Tabel4[[#This Row],[Lokation]],5,50))","v":"WXX - Vallensbæk Vandværk Generelt"},340,{"$f":"CONCATENATE(\"vand\",(LEFT(Tabel4[[#This Row],[Område med bindestreg]],2)))","v":"vandVA"}]
["VR Vridsløselille - Albertslund","ALS Albertslund Syd - Trykforøgerstation",{"$f":"CONCATENATE(LEFT(Tabel4[[#This Row],[Område_Opland]],2),\" - \",MID(Tabel4[[#This Row],[Område_Opland]],4,50))","v":"VR - Vridsløselille - Albertslund"},{"$f":"CONCATENATE(LEFT(Tabel4[[#This Row],[Lokation]],3),\" - \",MID(Tabel4[[#This Row],[Lokation]],5,50))","v":"ALS - Albertslund Syd - Trykforøgerstation"},342,{"$f":"CONCATENATE(\"vand\",(LEFT(Tabel4[[#This Row],[Område med bindestreg]],2)))","v":"vandVR"}]
["VR Vridsløselille - Albertslund","EGL Sektion Egelund - MB",{"$f":"CONCATENATE(LEFT(Tabel4[[#This Row],[Område_Opland]],2),\" - \",MID(Tabel4[[#This Row],[Område_Opland]],4,50))","v":"VR - Vridsløselille - Albertslund"},{"$f":"CONCATENATE(LEFT(Tabel4[[#This Row],[Lokation]],3),\" - \",MID(Tabel4[[#This Row],[Lokation]],5,50))","v":"EGL - Sektion Egelund - MB"},343,{"$f":"CONCATENATE(\"vand\",(LEFT(Tabel4[[#This Row],[Område med bindestreg]],2)))","v":"vandVR"}]
["VR Vridsløselille - Albertslund","GAB Galgebakken - Trykforøger",{"$f":"CONCATENATE(LEFT(Tabel4[[#This Row],[Område_Opland]],2),\" - \",MID(Tabel4[[#This Row],[Område_Opland]],4,50))","v":"VR - Vridsløselille - Albertslund"},{"$f":"CONCATENATE(LEFT(Tabel4[[#This Row],[Lokation]],3),\" - \",MID(Tabel4[[#This Row],[Lokation]],5,50))","v":"GAB - Galgebakken - Trykforøger"},344,{"$f":"CONCATENATE(\"vand\",(LEFT(Tabel4[[#This Row],[Område med bindestreg]],2)))","v":"vandVR"}]
["VR Vridsløselille - Albertslund","HVI Hvidager - Ventilbygværk",{"$f":"CONCATENATE(LEFT(Tabel4[[#This Row],[Område_Opland]],2),\" - \",MID(Tabel4[[#This Row],[Område_Opland]],4,50))","v":"VR - Vridsløselille - Albertslund"},{"$f":"CONCATENATE(LEFT(Tabel4[[#This Row],[Lokation]],3),\" - \",MID(Tabel4[[#This Row],[Lokation]],5,50))","v":"HVI - Hvidager - Ventilbygværk"},345,{"$f":"CONCATENATE(\"vand\",(LEFT(Tabel4[[#This Row],[Område med bindestreg]],2)))","v":"vandVR"}]
["VR Vridsløselille - Albertslund","RGL Sektion Roholm - MB Gl. Landevej",{"$f":"CONCATENATE(LEFT(Tabel4[[#This Row],[Område_Opland]],2),\" - \",MID(Tabel4[[#This Row],[Område_Opland]],4,50))","v":"VR - Vridsløselille - Albertslund"},{"$f":"CONCATENATE(LEFT(Tabel4[[#This Row],[Lokation]],3),\" - \",MID(Tabel4[[#This Row],[Lokation]],5,50))","v":"RGL - Sektion Roholm - MB Gl. Landevej"},346,{"$f":"CONCATENATE(\"vand\",(LEFT(Tabel4[[#This Row],[Område med bindestreg]],2)))","v":"vandVR"}]
["VR Vridsløselille - Albertslund","RIS Risby - Trykforøger",{"$f":"CONCATENATE(LEFT(Tabel4[[#This Row],[Område_Opland]],2),\" - \",MID(Tabel4[[#This Row],[Område_Opland]],4,50))","v":"VR - Vridsløselille - Albertslund"},{"$f":"CONCATENATE(LEFT(Tabel4[[#This Row],[Lokation]],3),\" - \",MID(Tabel4[[#This Row],[Lokation]],5,50))","v":"RIS - Risby - Trykforøger"},347,{"$f":"CONCATENATE(\"vand\",(LEFT(Tabel4[[#This Row],[Område med bindestreg]],2)))","v":"vandVR"}]
["VR Vridsløselille - Albertslund","RVL Råvandsledninger - Vridsløselille",{"$f":"CONCATENATE(LEFT(Tabel4[[#This Row],[Område_Opland]],2),\" - \",MID(Tabel4[[#This Row],[Område_Opland]],4,50))","v":"VR - Vridsløselille - Albertslund"},{"$f":"CONCATENATE(LEFT(Tabel4[[#This Row],[Lokation]],3),\" - \",MID(Tabel4[[#This Row],[Lokation]],5,50))","v":"RVL - Råvandsledninger - Vridsløselille"},348,{"$f":"CONCATENATE(\"vand\",(LEFT(Tabel4[[#This Row],[Område med bindestreg]],2)))","v":"vandVR"}]
["VR Vridsløselille - Albertslund","RVV Risby Vandværk (Grønt Vedligehold)",{"$f":"CONCATENATE(LEFT(Tabel4[[#This Row],[Område_Opland]],2),\" - \",MID(Tabel4[[#This Row],[Område_Opland]],4,50))","v":"VR - Vridsløselille - Albertslund"},{"$f":"CONCATENATE(LEFT(Tabel4[[#This Row],[Lokation]],3),\" - \",MID(Tabel4[[#This Row],[Lokation]],5,50))","v":"RVV - Risby Vandværk (Grønt Vedligehold)"},349,{"$f":"CONCATENATE(\"vand\",(LEFT(Tabel4[[#This Row],[Område med bindestreg]],2)))","v":"vandVR"}]
["VR Vridsløselille - Albertslund","UBO Vridsløselille - U-Boringer",{"$f":"CONCATENATE(LEFT(Tabel4[[#This Row],[Område_Opland]],2),\" - \",MID(Tabel4[[#This Row],[Område_Opland]],4,50))","v":"VR - Vridsløselille - Albertslund"},{"$f":"CONCATENATE(LEFT(Tabel4[[#This Row],[Lokation]],3),\" - \",MID(Tabel4[[#This Row],[Lokation]],5,50))","v":"UBO - Vridsløselille - U-Boringer"},350,{"$f":"CONCATENATE(\"vand\",(LEFT(Tabel4[[#This Row],[Område med bindestreg]],2)))","v":"vandVR"}]
["VR Vridsløselille - Albertslund","VRO Sektion Vridsløselille - MB Roskildevej",{"$f":"CONCATENATE(LEFT(Tabel4[[#This Row],[Område_Opland]],2),\" - \",MID(Tabel4[[#This Row],[Område_Opland]],4,50))","v":"VR - Vridsløselille - Albertslund"},{"$f":"CONCATENATE(LEFT(Tabel4[[#This Row],[Lokation]],3),\" - \",MID(Tabel4[[#This Row],[Lokation]],5,50))","v":"VRO - Sektion Vridsløselille - MB Roskildevej"},351,{"$f":"CONCATENATE(\"vand\",(LEFT(Tabel4[[#This Row],[Område med bindestreg]],2)))","v":"vandVR"}]
["VR Vridsløselille - Albertslund","VVR Sektion Vridsløselille - MB Vridsløsevej",{"$f":"CONCATENATE(LEFT(Tabel4[[#This Row],[Område_Opland]],2),\" - \",MID(Tabel4[[#This Row],[Område_Opland]],4,50))","v":"VR - Vridsløselille - Albertslund"},{"$f":"CONCATENATE(LEFT(Tabel4[[#This Row],[Lokation]],3),\" - \",MID(Tabel4[[#This Row],[Lokation]],5,50))","v":"VVR - Sektion Vridsløselille - MB Vridsløsevej"},352,{"$f":"CONCATENATE(\"vand\",(LEFT(Tabel4[[#This Row],[Område med bindestreg]],2)))","v":"vandVR"}]
["VR Vridsløselille - Albertslund","WIT Iltningsanlæg - Vridsløselille",{"$f":"CONCATENATE(LEFT(Tabel4[[#This Row],[Område_Opland]],2),\" - \",MID(Tabel4[[#This Row],[Område_Opland]],4,50))","v":"VR - Vridsløselille - Albertslund"},{"$f":"CONCATENATE(LEFT(Tabel4[[#This Row],[Lokation]],3),\" - \",MID(Tabel4[[#This Row],[Lokation]],5,50))","v":"WIT - Iltningsanlæg - Vridsløselille"},353,{"$f":"CONCATENATE(\"vand\",(LEFT(Tabel4[[#This Row],[Område med bindestreg]],2)))","v":"vandVR"}]
["VR Vridsløselille - Albertslund","WKL Kildeplads På Vandværket - Vridsløselille",{"$f":"CONCATENATE(LEFT(Tabel4[[#This Row],[Område_Opland]],2),\" - \",MID(Tabel4[[#This Row],[Område_Opland]],4,50))","v":"VR - Vridsløselille - Albertslund"},{"$f":"CONCATENATE(LEFT(Tabel4[[#This Row],[Lokation]],3),\" - \",MID(Tabel4[[#This Row],[Lokation]],5,50))","v":"WKL - Kildeplads På Vandværket - Vridsløselille"},354,{"$f":"CONCATENATE(\"vand\",(LEFT(Tabel4[[#This Row],[Område med bindestreg]],2)))","v":"vandVR"}]
["VR Vridsløselille - Albertslund","WRB Rentvandsbeholder På Vandværket - Vridsløselille",{"$f":"CONCATENATE(LEFT(Tabel4[[#This Row],[Område_Opland]],2),\" - \",MID(Tabel4[[#This Row],[Område_Opland]],4,50))","v":"VR - Vridsløselille - Albertslund"},{"$f":"CONCATENATE(LEFT(Tabel4[[#This Row],[Lokation]],3),\" - \",MID(Tabel4[[#This Row],[Lokation]],5,50))","v":"WRB - Rentvandsbeholder På Vandværket - Vridsløselille"},355,{"$f":"CONCATENATE(\"vand\",(LEFT(Tabel4[[#This Row],[Område med bindestreg]],2)))","v":"vandVR"}]
["VR Vridsløselille - Albertslund","WTF Trykfilteranlæg På Vandværket - Vridsløselille",{"$f":"CONCATENATE(LEFT(Tabel4[[#This Row],[Område_Opland]],2),\" - \",MID(Tabel4[[#This Row],[Område_Opland]],4,50))","v":"VR - Vridsløselille - Albertslund"},{"$f":"CONCATENATE(LEFT(Tabel4[[#This Row],[Lokation]],3),\" - \",MID(Tabel4[[#This Row],[Lokation]],5,50))","v":"WTF - Trykfilteranlæg På Vandværket - Vridsløselille"},356,{"$f":"CONCATENATE(\"vand\",(LEFT(Tabel4[[#This Row],[Område med bindestreg]],2)))","v":"vandVR"}]
["VR Vridsløselille - Albertslund","WTP Trykpumpeanlæg På Vandværket - Vridsløselille",{"$f":"CONCATENATE(LEFT(Tabel4[[#This Row],[Område_Opland]],2),\" - \",MID(Tabel4[[#This Row],[Område_Opland]],4,50))","v":"VR - Vridsløselille - Albertslund"},{"$f":"CONCATENATE(LEFT(Tabel4[[#This Row],[Lokation]],3),\" - \",MID(Tabel4[[#This Row],[Lokation]],5,50))","v":"WTP - Trykpumpeanlæg På Vandværket - Vridsløselille"},357,{"$f":"CONCATENATE(\"vand\",(LEFT(Tabel4[[#This Row],[Område med bindestreg]],2)))","v":"vandVR"}]
["VR Vridsløselille - Albertslund","WVV Vandværk Generelt - Vridsløselille",{"$f":"CONCATENATE(LEFT(Tabel4[[#This Row],[Område_Opland]],2),\" - \",MID(Tabel4[[#This Row],[Område_Opland]],4,50))","v":"VR - Vridsløselille - Albertslund"},{"$f":"CONCATENATE(LEFT(Tabel4[[#This Row],[Lokation]],3),\" - \",MID(Tabel4[[#This Row],[Lokation]],5,50))","v":"WVV - Vandværk Generelt - Vridsløselille"},358,{"$f":"CONCATENATE(\"vand\",(LEFT(Tabel4[[#This Row],[Område med bindestreg]],2)))","v":"vandVR"}]
["XX Vand generelt","UVA UV-anlæg mobilt",{"$f":"CONCATENATE(LEFT(Tabel4[[#This Row],[Område_Opland]],2),\" - \",MID(Tabel4[[#This Row],[Område_Opland]],4,50))","v":"XX - Vand generelt"},{"$f":"CONCATENATE(LEFT(Tabel4[[#This Row],[Lokation]],3),\" - \",MID(Tabel4[[#This Row],[Lokation]],5,50))","v":"UVA - UV-anlæg mobilt"},359,{"$f":"CONCATENATE(\"vand\",(LEFT(Tabel4[[#This Row],[Område med bindestreg]],2)))","v":"vandXX"}]
["XX Vand generelt","VAN Vandpanel mobilt",{"$f":"CONCATENATE(LEFT(Tabel4[[#This Row],[Område_Opland]],2),\" - \",MID(Tabel4[[#This Row],[Område_Opland]],4,50))","v":"XX - Vand generelt"},{"$f":"CONCATENATE(LEFT(Tabel4[[#This Row],[Lokation]],3),\" - \",MID(Tabel4[[#This Row],[Lokation]],5,50))","v":"VAN - Vandpanel mobilt"},360,{"$f":"CONCATENATE(\"vand\",(LEFT(Tabel4[[#This Row],[Område med bindestreg]],2)))","v":"vandXX"}]
[null,null,{"$f":"CONCATENATE(LEFT(Tabel4[[#This Row],[Område_Opland]],2),\" - \",MID(Tabel4[[#This Row],[Område_Opland]],4,50))","v":" - "},{"$f":"CONCATENATE(LEFT(Tabel4[[#This Row],[Lokation]],3),\" - \",MID(Tabel4[[#This Row],[Lokation]],5,50))","v":" - "},null,{"$f":"CONCATENATE(\"vand\",(LEFT(Tabel4[[#This Row],[Område med bindestreg]],2)))","v":"vand -"}]

{"sheet":"Objekt key oversigt","index":3,"n_rows":96,"n_cols":28,"rows_kept":96,"hidden":true}
[null,null,"LED",null,null,"TEK",null,null,"BYG",null,null,"EL",{"$nulls":3},"SRO",null,null,"MEK",null,null,"liste"]
[null,null,"A - Overordnet ledelse",null,null,"B - Overordnet teknologi",null,null,"C - Bygning Konstruktion",null,"El","E - El & SRO",null,"SRO",null,"SRO",null,null,"M - Maskinteknik inklusiv procesteknik"]
[10120,"Plant revision",{"$nulls":18},"B","B - Overordnet teknologi"]
[12010,"Dates","Anlægsrevision",20510,"Disposal","Affald",35002,null,"Bæringer/fastgørelse",45022,null,"ADK (adgangskontrol)",{"$f":"CONCATENATE($K$2,\" - \",L4)","v":"El - ADK (adgangskontrol)"},50120,"Alarms","Alarmer",65031,null,"Aktuator",null,"C","C - Bygning Konstruktion"]
[11630,"Design, calculations, stress analysis","Datoer",21510,"Plant protection","Anlægsbeskyttelse",35013,null,"Brandmateriel",45009,null,"Aktuator",{"$f":"CONCATENATE($K$2,\" - \",L5)","v":"El - Aktuator"},50140,"Plant protection","Anlægsbeskyttelse",65007,null,"Analog regulator (selvvirkende)",null,"E","E - El & SRO"]
[11810,"Document review","Design, beregninger, stress analyser",20110,"Plant labelling","Anlægsnavngivning (TAG), opmærkning, skiltning",35016,null,"Brønd",40210,"battery chargers","Batteriladere, ladestandere","El - Batteriladere, ladestandere",50150,"Automation","Automation (SRO)",65021,null,"Analogt viserinstrument",null,"M","M - Maskinteknik inklusiv procesteknik"]
[10230,"Operation","Dokumentgennemgang",20120,"Occupational safety","Arbejdssikkerhed",30230,"Building material","Bygningsmaterialer",45021,null,"Beskyttelsesudstyr (fejlstrøm, overstrøm, overspænding)","El - Beskyttelsesudstyr (fejlstrøm, overstrøm, overspænding)",55006,null,"Frekvensomformer",65028,null,"Befugtning, affugtning"]
[10710,"Licensing procedures","Drift",21920,"Protection against internal impacts","Beskyttelse mod interne hændelser",35015,null,"Bygværk",45015,null,"Bygningsinstallationer","El - Bygningsinstallationer",55005,null,"HMI/betjeningspanel/lokal styreboks",65033,null,"Blænder, dyser"]
[10920,"Put into operation","Godkendelsesprocedurer",21930,"Protection against natural impacts","Beskyttelse mod naturlige hændelser",32010,"Doors","Døre",45018,null,"Data installationer","El - Data installationer",55013,null,"Horn",65029,null,"Dosering, opblanding"]
[10220,"Procurement","Idriftsættelse",21910,"Protection against external impacts","Beskyttelse mod ydre hændelser",35003,null,"Elevatorer",45011,null,"Fasekompensering","El - Fasekompensering",51330,"Instrumentation","Instrumentering",65013,null,"Filter/snavssamler"]
[11710,"Quality management","Indkøb",25001,null,"Boring",30610,"Facade construction","Facade",45019,null,"Fastgørelse","El - Fastgørelse",51410,"Communication systems","Kommunikationssystemer",65034,null,"Fittings"]
[11310,"Erection","Kvalitetskontrol",20230,"Fire and explosion control","Brand og eksplosionskontroludstyr",35011,null,"Faldsikring",41120,"Cable routes","Føringsveje","El - Føringsveje",52210,"Control room/stations","Kontrolrum/stationer",65026,null,"Forarbejdning (adsorption, katalyse, reduktion, knusning)"]
[10910,"Commissioning","Opførelse",20410,"Review Design review","Design evaluering",30710,"Foundation","Fundament",40520,"Power transmission","Forsyning (mellemspænding)","El - Forsyning (mellemspænding)",55003,null,"Lokal client",65009,null,"Forbrænding (olie/gas brænder"]
[11910,"Training","Opstart",22320,"In-service inspections","Inspektionsarbejde efter idrifttagelse",35018,null,"Gadeskab",42110,"Converters","Frekvensomformer, omformer","El - Frekvensomformer, omformer",55007,null,"Måler kWh",62220,null,"Forbrugsmaterialer/medier"]
[10610,"Manufacturing","Øvelse",21110,"Corrosion protection","Korrosionsbeskyttelse",30720,"Ground water-proofing","Grundvandssikring",40710,"Direct current and emergency power generation","Jævnstrøms- og nødstrømsanlæg (generator, UPS, batterier)","El - Jævnstrøms- og nødstrømsanlæg (generator, UPS, batterier)",55015,null,"Netværk",65019,null,"Fordamper"]
[11620,"Project documentation","Produktion",25002,null,"Matrikel",35010,null,"Hejseredskaber",40530,"Earthing, Lightning","Jordingsanlæg, potentialudligning","El - Jordingsanlæg, potentialudligning",55012,null,"Nødstopskreds",65022,null,"Isolering"]
[11650,"Project monitoring","Projekt dokumentation",22110,"Environmental protection","Miljøbeskyttelse",35007,null,"Inventar",41110,"Cables, lines","Kabler, forbindelser","El - Kabler, forbindelser",55014,null,"Øvrig opmærkning, advarselsskilte",65008,null,"Kedel",{"$nulls":8},"objektnogle_B"]
[10110,"Project management, administration","Projekt overvågning",21410,"Emergency","Nødberedskab",30210,"Soil investigation","Jordbund",45012,null,"Koblingsudstyr, forsyningsadskiller","El - Koblingsudstyr, forsyningsadskiller",55001,null,"Person beskyttelse (functional safety)",65014,null,"Kompensator"]
[11640,"Project control","Projektledelse, administration",20220,"Pickling, internal cleaning of systems","Præservering, indvendig rensning af systemer",35008,null,"Kloak",45005,null,"Kompressor (integreret motor)","El - Kompressor (integreret motor)",55004,null,"PLC (logikmodul)",65020,null,"Kondensator"]
[11920,"System meetings","Projektstyring",20710,"Track laying","Sporlægning, traceer",35019,null,"Kontrolrum",45002,null,"Lokalt kabinet/styreboks","El - Lokalt kabinet/styreboks",55009,null,"Positioner",65024,null,"Lyddæmper"]
[11610,"Trial operation","Systemiske møder",21210,"Noise protection","Støjbeskyttelse",35004,null,"Lejdere",40220,"Lighting, power installation","Lavspændingsinstallation","El - Lavspændingsinstallation",55011,null,"Programfiler",65030,null,"Materiale transport"]
[10930,"Maintenance","Testkørsel",25000,null,"Terræn",35005,null,"Porte",45013,null,"Måler","El - Måler",55008,null,"Regneværk/omsætter (lokalt)",65036,null,"Øvrig opmærkning, advarselsskilte"]
[null,null,"Vedligehold",20210,"Site development","udvikling af lokation",35021,null,"Procesrum",45014,null,"Måletransformer","El - Måletransformer",55016,null,"SCADA",61610,"Pumps, blowers, compressors","Pumper, ventilatorer, kompressorer"]
[{"$nulls":3},21950,"Road construction, pathway construction","Vejanlæg, midlertidige vejanlæg",35001,null,"Stålkonstruktioner",41310,"Motors","Motorer","El - Motorer",55002,null,"Server",61810,"Piping","Rørinstallation"]
[{"$nulls":6},30220,"Civil drafts, structural calculations","Statik",45003,null,"Øvrig elforbruger","El - Øvrig elforbruger",55010,null,"Signaler",65025,null,"Separator (gas/væskeudskiller)"]
[{"$nulls":6},35017,null,"Sump",45024,null,"Øvrig opmærkning, advarselsskilte","El - Øvrig opmærkning, advarselsskilte",55017,null,"SRO",65011,null,"Skorsten"]
[{"$nulls":6},30410,"Roofing, roof sealing","Tagkonstruktion",45004,null,"Pumpe (integreret motor)","El - Pumpe (integreret motor)",51820,"Closed-loop control","Styring og regulering",60210,"Tanks","Tanke, beholder"]
[{"$nulls":6},35020,null,"Tavlerum",45001,null,"Sikkerhedskomponent, failsafe","El - Sikkerhedskomponent, failsafe",50510,"Installation systems, cabinets, module frames","Systemer, kabinetter, moduler, rammer",65032,null,"Transmission (gear, kobling, bremser, lejer)"]
[{"$nulls":6},35006,null,"Transportredskaber",45010,null,"Støjfilter","El - Støjfilter",50710,"Transmitters","Transmittere",65010,null,"Turbine"]
[{"$nulls":6},35012,null,"Værkstedsmaskiner",45017,null,"Svagstrømsinstallationer","El - Svagstrømsinstallationer",50110,"Equipment protection","Udstyrsbeskyttelse",65035,null,"Værktøj, transportabelt hjælpeudstyr"]
[{"$nulls":6},35009,null,"Vand",45020,null,"Tavler","El - Tavler",null,null,"Rykkes sammen med El",65027,null,"Varmebehandling"]
[null,null,"Til diskussion:",{"$nulls":3},31110,"Heating, ventilation and air conditioning (HVAC)","Varme, ventilation og luftbehandling",42010,"Transformers","Transformere","El - Transformere",{"$nulls":3},62210,"Heat exchangers, evaporators","Varmevekslere"]
[null,null,"Udgår",{"$nulls":3},35014,null,"Velfærdsforanstaltninger",45007,null,"Varmelegeme, konvektor, luftkøler (kalorifere)","El - Varmelegeme, konvektor, luftkøler (kalorifere)",{"$nulls":3},60110,"Valves","Ventiler, haner, spjæld"]
[null,null,"Beholdes",{"$nulls":3},30620,"Window","Vinduer",45006,null,"Ventilator (integreret motor)","El - Ventilator (integreret motor)",{"$nulls":3},65023,null,"Vibrationsdæmper"]
[{"$nulls":9},45023,null,"Videoovervågning","El - Videoovervågning"]
[]
[{"$nulls":11},"Alarmer",{"$f":"CONCATENATE($N$2,\" - \",L37)","v":"SRO - Alarmer"}]
[{"$nulls":11},"Anlægsbeskyttelse",{"$f":"CONCATENATE($N$2,\" - \",L38)","v":"SRO - Anlægsbeskyttelse"}]
[{"$nulls":11},"Automation (SRO)","SRO - Automation (SRO)"]
[{"$nulls":11},"Frekvensomformer","SRO - Frekvensomformer"]
[{"$nulls":11},"HMI/betjeningspanel/lokal styreboks","SRO - HMI/betjeningspanel/lokal styreboks"]
[{"$nulls":11},"Horn","SRO - Horn"]
[{"$nulls":11},"Instrumentering","SRO - Instrumentering"]
[{"$nulls":11},"Kommunikationssystemer","SRO - Kommunikationssystemer"]
[{"$nulls":11},"Kontrolrum/stationer","SRO - Kontrolrum/stationer"]
[{"$nulls":11},"Lokal client","SRO - Lokal client"]
[{"$nulls":11},"Måler kWh","SRO - Måler kWh"]
[{"$nulls":11},"Netværk","SRO - Netværk"]
[{"$nulls":11},"Nødstopskreds","SRO - Nødstopskreds"]
[{"$nulls":11},"Øvrig opmærkning, advarselsskilte","SRO - Øvrig opmærkning, advarselsskilte"]
[null,null,"Bygning Konstruktion",{"$nulls":8},"Person beskyttelse (functional safety)","SRO - Person beskyttelse (functional safety)"]
[null,null,"El",{"$nulls":8},"PLC (logikmodul)","SRO - PLC (logikmodul)"]
[null,null,"Maskin Proces",{"$nulls":8},"Positioner","SRO - Positioner"]
[null,null,"Overordnet",{"$nulls":8},"Programfiler","SRO - Programfiler"]
[null,null,"SRO",{"$nulls":8},"Regneværk/omsætter (lokalt)","SRO - Regneværk/omsætter (lokalt)"]
[{"$nulls":11},"SCADA","SRO - SCADA"]
[{"$nulls":11},"Server","SRO - Server"]
[{"$nulls":11},"Signaler","SRO - Signaler"]
[{"$nulls":11},"SRO","SRO - SRO"]
[{"$nulls":11},"Styring og regulering","SRO - Styring og regulering"]
[{"$nulls":11},"Systemer, kabinetter, moduler, rammer","SRO - Systemer, kabinetter, moduler, rammer"]
[{"$nulls":11},"Transmittere","SRO - Transmittere"]
[{"$nulls":11},"Udstyrsbeskyttelse","SRO - Udstyrsbeskyttelse"]
{"$rows_empty":19}
[10210,"Site installations"]
[null,null,"Anlægsinstallationer",20610,"Colouring","Farve",35025,null,"1.sal",45016,{"$nulls":3},50130,"Analog transmitters","Analoge transmittere",65006,null,"Afluftningsventil"]
[{"$nulls":3},22210,"Consumer","Forbruger",35026,null,"2.sal",40510,"Auxiliary power supply","Belysning",null,50210,"Binary transmitters","Binære transmittere",65002,null,"Afspærringsventil"]
[{"$nulls":3},22310,"Lagging, sheathing","Forsinkelse, mitigationer",35027,null,"3.sal",40720,"D.C. switchgear and distribution boards","Hjælpe kraftforsyning",null,50220,"Orifices, nozzles","Blænder, dyser",65012,null,"Economizer"]
[{"$nulls":3},20520,"Spare and wear parts","Slid- og reservedele",35028,null,"4.sal",41410,"Grid systems","Jævnstrøms relæer og fordelingstavler",null,50410,"Data communication","Datakommunikation",65005,null,"Instrumentventil"]
[{"$nulls":3},21940,"Steel construction","Stålkonstruktion",30240,"Concrete construction work","Betonarbejde",41910,"Switchgear","Netsystemer",null,50610,"Field devices","Feltudstyr",65016,null,"Kompressor"]
[{"$nulls":6},32310,"Civil engineering hydraulics","Entreprenør hydrauliske beregninger",45008,null,"Relæer",null,51340,"Measuring transformer","Måletransformer",65017,null,"Kompressoraggregat"]
[{"$nulls":6},30730,"Ground-water measurement and investigation","Grundvandsundersøgelse",null,null,"Stikkontakt, stikkontaktstation",null,51320,"Measuring valves and fittings","Måleventiler og fittings",65003,null,"Kontraventil / kontraklap"]
[{"$nulls":6},30510,"Earth-moving","Jordskred",{"$nulls":4},51310,"Messages from system control","Meddelser fra proceskontrolsystemet",65015,null,"Lejer"]
[{"$nulls":6},35023,null,"Kælder",{"$nulls":4},51910,"Training simulators","Øvelses simulatorer",60810,"Hoisting devices","Løfteudstyr"]
[{"$nulls":6},31310,"Masonry construction work","Murarbejde",{"$nulls":4},51810,"Control valves, control drives","Styrede ventiler og drev",62220,"Material","Materiale"]
[{"$nulls":6},35022,null,"Platform",{"$nulls":4},50720,"Equipment catalog","Udstyrskatalog",65001,null,"Reguleringsventil"]
[{"$nulls":6},35024,null,"Stue",{"$nulls":7},65004,null,"Sikkerhedsventil"]
[{"$nulls":16},65018,null,"Ventilator"]

{"sheet":"Parametre","index":4,"n_rows":8,"n_cols":7,"rows_kept":8,"hidden":true}
["Liste til søgning hovedgrupper - DCC","As-build","Mappe E","PDF_COLOR","PDF_format","Koordinat system","Kotesystem"]
["?"," "]
["A - Overordnet ledelse","Ja","El","Sort/Hvid","A4","UTM32","DVR90"]
["B - Overordnet teknologi","Nej","SRO","Farve","A3","Intet","Intet"]
["C - Byggeri og anlæg",{"$nulls":3},"A2"]
["E - El",{"$nulls":3},"A1"]
["M - Mekanisk konstruktion – Normalt inkl. procesteknik",{"$nulls":3},"A0"]
["P - Procesteknik – kun hvis adskillelse fra mekanisk konstruktion ønskes"]